Workbook
Name annualisé: 'champs imposés'!$E$2:$E$3
Name Article: 'champs imposés'!$B$2:$B$5
Name Cadre: 'champs imposés'!$B$11:$B$12
Name Clause: 'champs imposés'!$C$2:$C$4
Name Fonctions: 'champs imposés'!$G$9:$G$37
Name Internat: 'champs imposés'!$D$2:$D$3
Name Motif: 'champs imposés'!$F$2:$F$3
Name Motifcontrat: 'champs imposés'!$F$2:$F$3
Name motifremplacement: 'champs imposés'!$D$9:$D$32
Name Titre: 'champs imposés'!$A$2:$A$4
Name Typecontrat: 'champs imposés'!$A$9:$A$10

Sheet info contrats
A1: Titre | B1: Nom | C1: Nom jeune fille | D1: Prénom | E1: Adresse 1 | F1: Adresse 2 | G1: Code postal | H1: Ville | I1: Date naissance | J1: N° Sécurité sociale | K1: Lieu Naissance | L1: Nationalité | M1: Autorisation | N1: Fonction | O1: Date début contrat | P1: Date fin contrat | Q1: Prologation contrat | R1: Cadre | S1: Type de contrat | T1: Nb jours travail | U1: Cal Nb jours essai | V1: Clause essai | W1: Nb jours essai | X1: Article 4 | Y1: Article 4 T1 | Z1: Article 4 T2 | AA1: Article 4 T3 | AB1: Article 4 T4 | AC1: N° article 1 | AD1: N° article 2 | AE1: N° article 3 | AF1: N° article 4 | AG1: N° article 5 | AH1: N° article 6 | AI1: N° article 7 | AJ1: N° article 8 | AK1: N° article 9 | AL1: N° article 10 | AM1: Durée Hebdo | AN1: lundi1 | AO1: mardi1 | AP1: mercredi1 | AQ1: jeudi1 | AR1: vendredi1 | AS1: samedi1 | AT1: dimanche1 | AU1: lundi2 | AV1: mardi2 | AW1: mercredi2 | AX1: jeudi2 | AY1: vendredi2 | AZ1: samedi2 | BA1: dimanche2 | BB1: lundi3 | BC1: mardi3 | BD1: mercredi3 | BE1: jeudi3 | BF1: vendredi3 | BG1: samedi3 | BH1: dimanche3 | BI1: lundi4 | BJ1: mardi4 | BK1: mercredi4 | BL1: jeudi4 | BM1: vendredi4 | BN1: samedi4 | BO1: dimanche4 | BP1: Internat | BQ1: Annualisation | BR1: Coef. Base | BS1: Coef. Embauche | BT1: Prime sujetion Cadre | BU1: Nouveau Coef | BV1: Date chgt coef | BW1: Valeur pts | BX1: Sal. Mensuel | BY1: Sal proratisé | BZ1: Motif contrat | CA1: P. remplacée titre | CB1: P. remplacée nom prénom | CC1: P. remplacée fonction | CD1: Motif remplacement | CE1: Nom directeur | CF1: Titre directeur | CG1: Nom Ets | CH1: Adr Ets | CI1: Siret | CJ1: Titre signataire | CK1: Nom signataire | CL1: lieu etablis contrat | CM1: Article dir | CN1: calcul nb semaine | CO1: calcul nb jour | CP1: base 1 etp | CQ1: multiplicateur | CR1: TEST | CS1: ETP | CT1: NB H MENSUELLES | CY1: Retour contrat salarié
A3: Madame | B3: EXEMPLE | C3: A | D3: DUPLIQUER | E3: 182, rue Abbé Donnet | G3: 69400 | H3: Villefranche sur Saône | I3: 27065 | J3: 2740294002012 | K3: Alfortville | L3: Française | N3: d'agent de service intérieur | O3: 40791 | P3: 40812 | R3: non | S3: CDD | T3: =IF(P3="","",P3-O3+1) -> 22 | U3: =INT(T3/7) -> 3 | V3: 1 | W3: =IF(V3=1,IF(S3="CDI",IF(R3="oui","4","2"),IF(T3>=180,1,IF(INT(T3/7)>14,2,IF(INT(T3/7)=0,"",INT(T3/7))))),"") -> 3 | X3: =IF($V3=1,'période essai'!$A$13,IF($V3=2,'période essai'!$B$13," ")) -> Article 4 – Période d'essai : | Y3: =IF($V3=1,'période essai'!$A$15,IF($V3=2,'période essai'!$B$15,"")) -> Le présent contrat ne deviendra définitif qu'à l'issue d'une période d'essai de | Z3: =IF(V3=1,IF(S3="CDI","mois",IF(T3>=180,"mois",IF(INT(T3/7)>14,"semaines",IF(INT(T3/7)>1,"jours",IF(INT(T3/7)=1,"jour",""))))),IF(V3=3," ",IF(A3="Monsieur","le salarié","la salariée"))) -> jours | AA3: =IF($V3=1,'période essai'!$A$17,IF($V3=2,'période essai'!$B$17," ")) -> de travail effectif. Toute suspension qui se produirait durant cette période (maladie, congé …) la prolongerait d'autant. | AB3: =IF($V3=1,'période essai'!$A$18,"") -> Chacune des parties pourra mettre fin à la période sans préavis ni indemnité. En cas de rupture de la période d'essai, un délai de prévenance sera respecté dans le cadre légal et conventionnel. | AC3: =IF($V3=3,'période essai'!$C$2,'période essai'!$A$2) -> 5 | AD3: =IF($V3=3,'période essai'!$C$3,'période essai'!$A$3) -> 6 | AE3: =IF($V3=3,'période essai'!$C$4,'période essai'!$A$4) -> 7 | AF3: =IF($V3=3,'période essai'!$C$5,'période essai'!$A$5) -> 8 | AG3: =IF($V3=3,'période essai'!$C$6,'période essai'!$A$6) -> 9 | AH3: =IF($V3=3,'période essai'!$C$7,'période essai'!$A$7) -> 10 | AI3: =IF($V3=3,'période essai'!$C$8,'période essai'!$A$8) -> 11 | AJ3: =IF($V3=3,'période essai'!$C$9,'période essai'!$A$9) -> 12 | AK3: =IF($V3=3,'période essai'!$C$10,'période essai'!$A$10) -> 13 | AL3: =IF($V3=3,'période essai'!$C$11,'période essai'!$A$11) -> 14 | AM3: =SUM(AN3:BO3) -> 112.01 | AN3: 2.17 | AO3: 9.33 | AP3: 9.33 | AQ3: 7.17 | AS3: 2.17 | AT3: 9.33 | AU3: 9.33 | AV3: 7.17 | AW3: repos | AX3: 2.17 | AY3: 7.17 | BA3: non travaillé | BB3: 2.17 | BC3: 9.33 | BD3: 7.17 | BE3: non travaillé | BF3: 2.17 | BG3: 9.33 | BH3: 9.33 | BI3: 7.17 | BJ3: repos | BK3: repos | BL3: repos | BM3: repos | BN3: repos | BO3: repos | BP3: oui | BQ3: annualisé | BR3: 341 | BS3: 362 | BW3: ='informations générales'!$A$9 -> 3.74 | BX3: =IF(R3="oui",ROUND(((BS3+BT3)*BW3),2),ROUND((BS3*BW3*1.0821),2)) -> 1465.03 | BY3: =IF(AM3=0,BX3,ROUND(BX3*CS3,2)) -> 1465.03 | BZ3: pour assurer le remplacement partiel sur une partie des tâches de | CA3: Madame | CB3: Catherin Sylvie | CC3: de maitresse de maison | CD3: accident du travail | CE3: ='informations générales'!$A$1 -> Monsieur François GOSSET | CF3: ='informations générales'!$A$3 -> Directeur | CG3: ='informations générales'!$A$4 -> Foyer de la Claire | CH3: ='informations générales'!$A$5 -> 386, rue Michel Aulas à LIMAS | CI3: ='informations générales'!$A$6 -> du | CJ3: ='informations générales'!$A$7 -> Le Directeur général | CK3: ='informations générales'!$A$8 -> Monsieur François PRUVOST | CL3: ='informations générales'!$A$10 -> Limas | CM3: ='informations générales'!$A$2 -> Le | CN3: =IF(AM3=0," ",IF(P3="",4,INT(T3/7))) -> 3 | CO3: =IF(AM3=0," ",IF(P3="",0,T3-(CN3*7))) -> 1 | CP3: =IF(AM3=0,"",(IF(CN3>4,4*35,CN3*35))+IF(T3>28,0,(IF(CO3>5,5*7,CO3*7)))) -> 112 | CQ3: =IF(AN3="","",IF(AU3="",35,IF(BB3="",70,IF(BI3="",105,140)))) -> 140 | CR3: =+IF(CQ3>CP3,CP3,CQ3) -> 112 | CS3: =IF(AM3=0,1,IF((AM3/CR3)>1,1,AM3/CR3)) -> 1 | CT3: =(IF(AM3=0,151.67,151.67*CS3)) -> 151.67 | CV3: =O3 -> 40791 | CW3: =P3 -> 40812 | CX3: =IF(Q3=""," ",Q3)
A4: Zone | B4: Zone | D4: Zone | E4: Zone | G4: Zone | H4: Zone | I4: Zone | J4: Zone | K4: Zone | L4: Zone | N4: Zone | O4: Zone | P4: Zone | R4: Zone | S4: Zone | V4: Zone | W4: ZONE DE CALCUL | X4: =IF($V4=1,'période essai'!$A$13,IF($V4=2,'période essai'!$B$13," ")) | Y4: =IF($V4=1,'période essai'!$A$15,IF($V4=2,'période essai'!$B$15,"")) | AA4: =IF($V4=1,'période essai'!$A$17,IF($V4=2,'période essai'!$B$17," ")) | AB4: =IF($V4=1,'période essai'!$A$18,"") | BP4: Zone | BQ4: Zone | BR4: Zone | BS4: Zone | BZ4: Zone | CD4: Zone | CN4: =IF(AM4=0," ",IF(P4="",4,INT(T4/7))) | CO4: =IF(AM4=0," ",IF(P4="",0,T4-(CN4*7))) | CP4: =IF(AM4=0,"",(CN4*35)+(CO4*7)) | CQ4: =IF(AN4="","",IF(AU4="",35,IF(BB4="",70,IF(BI4="",105,140)))) | CR4: ET | CX4: =IF(Q4=""," ",Q4)
A5: obligatoire | B5: obligatoire | D5: obligatoire | E5: obligatoire | G5: obligatoire | H5: obligatoire | I5: obligatoire | J5: obligatoire | K5: obligatoire | L5: obligatoire | N5: obligatoire | O5: obligatoire | P5: obligatoire | R5: obligatoire | S5: obligatoire | V5: obligatoire | W5: NE PAS UTILISER | X5: =IF($V5=1,'période essai'!$A$13,IF($V5=2,'période essai'!$B$13," ")) | Y5: =IF($V5=1,'période essai'!$A$15,IF($V5=2,'période essai'!$B$15,"")) | AA5: =IF($V5=1,'période essai'!$A$17,IF($V5=2,'période essai'!$B$17," ")) | AB5: =IF($V5=1,'période essai'!$A$18,"") | BP5: obligatoire | BQ5: obligatoire | BR5: obligatoire | BS5: obligatoire | BZ5: obligatoire | CD5: obligatoire | CN5: =IF(AM5=0," ",IF(P5="",4,INT(T5/7))) | CO5: =IF(AM5=0," ",IF(P5="",0,T5-(CN5*7))) | CP5: =IF(AM5=0,"",(CN5*35)+(CO5*7)) | CQ5: =IF(AN5="","",IF(AU5="",35,IF(BB5="",70,IF(BI5="",105,140)))) | CR5: RESULTAT | CX5: =IF(Q5=""," ",Q5)
A6: Madame | B6: xxxx | D6: Ayten | E6: 3, impasse Laurent Bonnevay | G6: 69400 | H6: v | I6: 23224 | J6: 2630899208164 | K6: Isparta | L6: Turque | N6: de maitresse de maison | O6: 40742 | P6: 40770 | Q6: standard | R6: non | S6: CDD | T6: =IF(P6="","",P6-O6+1) -> 29 | U6: =INT(T6/7) -> 4 | V6: 2 | W6: =IF(V6=1,IF(S6="CDI",IF(R6="oui","4","2"),IF(T6>=180,1,IF(INT(T6/7)>14,2,IF(INT(T6/7)=0,"",INT(T6/7))))),"") | X6: =IF($V6=1,'période essai'!$A$13,IF($V6=2,'période essai'!$B$13," ")) -> Article 4 – Période d'essai : | Y6: =IF($V6=1,'période essai'!$A$15,IF($V6=2,'période essai'!$B$15,"")) -> Considérant que | Z6: =IF(V6=1,IF(S6="CDI","mois",IF(T6>=180,"mois",IF(INT(T6/7)>14,"semaines",IF(INT(T6/7)>1,"jours",IF(INT(T6/7)=1,"jour",""))))),IF(V6=3," ",IF(A6="Monsieur","le salarié","la salariée"))) -> la salariée | AA6: =IF($V6=1,'période essai'!$A$17,IF($V6=2,'période essai'!$B$17," ")) -> a déjà exercé ces mêmes fonctions au sein de l'Association et à titre exceptionnel, aucune période d'essai n'est fixée pour l'exercice du présent contrat. | AB6: =IF($V6=1,'période essai'!$A$18,"") | AC6: =IF($V6=3,'période essai'!$C$2,'période essai'!$A$2) -> 5 | AD6: =IF($V6=3,'période essai'!$C$3,'période essai'!$A$3) -> 6 | AE6: =IF($V6=3,'période essai'!$C$4,'période essai'!$A$4) -> 7 | AF6: =IF($V6=3,'période essai'!$C$5,'période essai'!$A$5) -> 8 | AG6: =IF($V6=3,'période essai'!$C$6,'période essai'!$A$6) -> 9 | AH6: =IF($V6=3,'période essai'!$C$7,'période essai'!$A$7) -> 10 | AI6: =IF($V6=3,'période essai'!$C$8,'période essai'!$A$8) -> 11 | AJ6: =IF($V6=3,'période essai'!$C$9,'période essai'!$A$9) -> 12 | AK6: =IF($V6=3,'période essai'!$C$10,'période essai'!$A$10) -> 13 | AL6: =IF($V6=3,'période essai'!$C$11,'période essai'!$A$11) -> 14 | AM6: =SUM(AN6:BO6) -> 68 | AN6: 6 | AO6: 6 | AP6: 3 | AQ6: 6 | AR6: 6 | AS6: r | AT6: r | AU6: 4 | AV6: 7 | AW6: 4 | AX6: 4 | AY6: 5 | AZ6: r | BA6: r | BB6: "n | BC6: n | BD6: n | BE6: n | BF6: n | BG6: n | BH6: n | BI6: n | BJ6: 4 | BK6: 4 | BL6: 3 | BM6: 6 | BN6: r | BO6: r | BP6: non | BQ6: non annualisé | BR6: 341 | BS6: 362 | BW6: ='informations générales'!$A$9 -> 3.74 | BX6: =IF(R6="oui",ROUND(((BS6+BT6)*BW6),2),ROUND((BS6*BW6*1.0821),2)) -> 1465.03 | BY6: =IF(AM6=0,BX6,ROUND(BX6*CS6,2)) -> 711.59 | BZ6: pour assurer le remplacement partiel sur une partie des tâches de | CA6: Madame | CB6: Salah Aïcha | CC6: de maitresse de maison | CD6: congés payés | CE6: ='informations générales'!$A$1 -> Monsieur François GOSSET | CF6: ='informations générales'!$A$3 -> Directeur | CG6: ='informations générales'!$A$4 -> Foyer de la Claire | CH6: ='informations générales'!$A$5 -> 386, rue Michel Aulas à LIMAS | CI6: ='informations générales'!$A$6 -> du | CJ6: ='informations générales'!$A$7 -> Le Directeur général | CK6: ='informations générales'!$A$8 -> Monsieur François PRUVOST | CL6: ='informations générales'!$A$10 -> Limas | CM6: ='informations générales'!$A$2 -> Le | CN6: =IF(AM6=0," ",IF(P6="",4,INT(T6/7))) -> 4 | CO6: =IF(AM6=0," ",IF(P6="",0,T6-(CN6*7))) -> 1 | CP6: =IF(AM6=0,"",(IF(CN6>4,4*35,CN6*35))+IF(T6>28,0,(IF(CO6>5,5*7,CO6*7)))) -> 140 | CQ6: =IF(AN6="","",IF(AU6="",35,IF(BB6="",70,IF(BI6="",105,140)))) -> 140 | CR6: =+IF(CQ6>CP6,CP6,CQ6) -> 140 | CS6: =IF(AM6=0,1,IF((AM6/CR6)>1,1,AM6/CR6)) -> 0.48571429 | CT6: =(IF(AM6=0,151.67,151.67*CS6)) -> 73.668286 | CV6: =O6 -> 40742 | CW6: =P6 -> 40770 | CX6: =IF(Q6=""," ",Q6) -> standard
A7: Madame | B7: xxxx | D7: Ayten | E7: 3, impasse Laurent Bonnevay | G7: 69400 | H7: v | I7: 23224 | J7: 2630899208164 | K7: Isparta | L7: Turque | N7: de maitresse de maison | O7: 40742 | P7: 40770 | Q7: nombre | R7: non | S7: CDD | T7: =IF(P7="","",P7-O7+1) -> 29 | U7: =INT(T7/7) -> 4 | V7: 2 | W7: =IF(V7=1,IF(S7="CDI",IF(R7="oui","4","2"),IF(T7>=180,1,IF(INT(T7/7)>14,2,IF(INT(T7/7)=0,"",INT(T7/7))))),"") | X7: =IF($V7=1,'période essai'!$A$13,IF($V7=2,'période essai'!$B$13," ")) -> Article 4 – Période d'essai : | Y7: =IF($V7=1,'période essai'!$A$15,IF($V7=2,'période essai'!$B$15,"")) -> Considérant que | Z7: =IF(V7=1,IF(S7="CDI","mois",IF(T7>=180,"mois",IF(INT(T7/7)>14,"semaines",IF(INT(T7/7)>1,"jours",IF(INT(T7/7)=1,"jour",""))))),IF(V7=3," ",IF(A7="Monsieur","le salarié","la salariée"))) -> la salariée | AA7: =IF($V7=1,'période essai'!$A$17,IF($V7=2,'période essai'!$B$17," ")) -> a déjà exercé ces mêmes fonctions au sein de l'Association et à titre exceptionnel, aucune période d'essai n'est fixée pour l'exercice du présent contrat. | AB7: =IF($V7=1,'période essai'!$A$18,"") | AC7: =IF($V7=3,'période essai'!$C$2,'période essai'!$A$2) -> 5 | AD7: =IF($V7=3,'période essai'!$C$3,'période essai'!$A$3) -> 6 | AE7: =IF($V7=3,'période essai'!$C$4,'période essai'!$A$4) -> 7 | AF7: =IF($V7=3,'période essai'!$C$5,'période essai'!$A$5) -> 8 | AG7: =IF($V7=3,'période essai'!$C$6,'période essai'!$A$6) -> 9 | AH7: =IF($V7=3,'période essai'!$C$7,'période essai'!$A$7) -> 10 | AI7: =IF($V7=3,'période essai'!$C$8,'période essai'!$A$8) -> 11 | AJ7: =IF($V7=3,'période essai'!$C$9,'période essai'!$A$9) -> 12 | AK7: =IF($V7=3,'période essai'!$C$10,'période essai'!$A$10) -> 13 | AL7: =IF($V7=3,'période essai'!$C$11,'période essai'!$A$11) -> 14 | AM7: =SUM(AN7:BO7) -> 68 | AN7: 6 | AO7: 6 | AP7: 3 | AQ7: 6 | AR7: 6 | AS7: r | AT7: r | AU7: 4 | AV7: 7 | AW7: 4 | AX7: 4 | AY7: 5 | AZ7: r | BA7: r | BB7: n | BC7: n | BD7: n | BE7: n | BF7: n | BG7: n | BH7: n | BI7: n | BJ7: 4 | BK7: 4 | BL7: 3 | BM7: 6 | BN7: r | BO7: r | BP7: non | BQ7: non annualisé | BR7: 341 | BS7: 362 | BW7: ='informations générales'!$A$9 -> 3.74 | BX7: =IF(R7="oui",ROUND(((BS7+BT7)*BW7),2),ROUND((BS7*BW7*1.0821),2)) -> 1465.03 | BY7: =IF(AM7=0,BX7,ROUND(BX7*CS7,2)) -> 711.59 | BZ7: pour assurer le remplacement partiel sur une partie des tâches de | CA7: Madame | CB7: Salah Aïcha | CC7: de maitresse de maison | CD7: congés payés | CE7: ='informations générales'!$A$1 -> Monsieur François GOSSET | CF7: ='informations générales'!$A$3 -> Directeur | CG7: ='informations générales'!$A$4 -> Foyer de la Claire | CH7: ='informations générales'!$A$5 -> 386, rue Michel Aulas à LIMAS | CI7: ='informations générales'!$A$6 -> du | CJ7: ='informations générales'!$A$7 -> Le Directeur général | CK7: ='informations générales'!$A$8 -> Monsieur François PRUVOST | CL7: ='informations générales'!$A$10 -> Limas | CM7: ='informations générales'!$A$2 -> Le | CN7: =IF(AM7=0," ",IF(P7="",4,INT(T7/7))) -> 4 | CO7: =IF(AM7=0," ",IF(P7="",0,T7-(CN7*7))) -> 1 | CP7: =IF(AM7=0,"",(IF(CN7>4,4*35,CN7*35))+IF(T7>28,0,(IF(CO7>5,5*7,CO7*7)))) -> 140 | CQ7: =IF(AN7="","",IF(AU7="",35,IF(BB7="",70,IF(BI7="",105,140)))) -> 140 | CR7: =+IF(CQ7>CP7,CP7,CQ7) -> 140 | CS7: =IF(AM7=0,1,IF((AM7/CR7)>1,1,AM7/CR7)) -> 0.48571429 | CT7: =(IF(AM7=0,151.67,151.67*CS7)) -> 73.668286 | CV7: =O7 -> 40742 | CW7: =P7 -> 40770 | CX7: =IF(Q7=""," ",Q7) -> nombre
A8: Madame | B8: xxxx | D8: Ayten | E8: 3, impasse Laurent Bonnevay | G8: 69400 | H8: v | I8: 23224 | J8: 2630899208164 | K8: Isparta | L8: Turque | N8: de maitresse de maison | O8: 40742 | P8: 40770 | Q8: monetaire | R8: non | S8: CDD | T8: =IF(P8="","",P8-O8+1) -> 29 | U8: =INT(T8/7) -> 4 | V8: 2 | W8: =IF(V8=1,IF(S8="CDI",IF(R8="oui","4","2"),IF(T8>=180,1,IF(INT(T8/7)>14,2,IF(INT(T8/7)=0,"",INT(T8/7))))),"") | X8: =IF($V8=1,'période essai'!$A$13,IF($V8=2,'période essai'!$B$13," ")) -> Article 4 – Période d'essai : | Y8: =IF($V8=1,'période essai'!$A$15,IF($V8=2,'période essai'!$B$15,"")) -> Considérant que | Z8: =IF(V8=1,IF(S8="CDI","mois",IF(T8>=180,"mois",IF(INT(T8/7)>14,"semaines",IF(INT(T8/7)>1,"jours",IF(INT(T8/7)=1,"jour",""))))),IF(V8=3," ",IF(A8="Monsieur","le salarié","la salariée"))) -> la salariée | AA8: =IF($V8=1,'période essai'!$A$17,IF($V8=2,'période essai'!$B$17," ")) -> a déjà exercé ces mêmes fonctions au sein de l'Association et à titre exceptionnel, aucune période d'essai n'est fixée pour l'exercice du présent contrat. | AB8: =IF($V8=1,'période essai'!$A$18,"") | AC8: =IF($V8=3,'période essai'!$C$2,'période essai'!$A$2) -> 5 | AD8: =IF($V8=3,'période essai'!$C$3,'période essai'!$A$3) -> 6 | AE8: =IF($V8=3,'période essai'!$C$4,'période essai'!$A$4) -> 7 | AF8: =IF($V8=3,'période essai'!$C$5,'période essai'!$A$5) -> 8 | AG8: =IF($V8=3,'période essai'!$C$6,'période essai'!$A$6) -> 9 | AH8: =IF($V8=3,'période essai'!$C$7,'période essai'!$A$7) -> 10 | AI8: =IF($V8=3,'période essai'!$C$8,'période essai'!$A$8) -> 11 | AJ8: =IF($V8=3,'période essai'!$C$9,'période essai'!$A$9) -> 12 | AK8: =IF($V8=3,'période essai'!$C$10,'période essai'!$A$10) -> 13 | AL8: =IF($V8=3,'période essai'!$C$11,'période essai'!$A$11) -> 14 | AM8: =SUM(AN8:BO8) -> 68 | AN8: 6 | AO8: 6 | AP8: 3 | AQ8: 6 | AR8: 6 | AS8: r | AT8: r | AU8: 4 | AV8: 7 | AW8: 4 | AX8: 4 | AY8: 5 | AZ8: r | BA8: r | BB8: n | BC8: n | BD8: n | BE8: n | BF8: n | BG8: n | BH8: n | BI8: n | BJ8: 4 | BK8: 4 | BL8: 3 | BM8: 6 | BN8: r | BO8: r | BP8: non | BQ8: non annualisé | BR8: 341 | BS8: 362 | BW8: ='informations générales'!$A$9 -> 3.74 | BX8: =IF(R8="oui",ROUND(((BS8+BT8)*BW8),2),ROUND((BS8*BW8*1.0821),2)) -> 1465.03 | BY8: =IF(AM8=0,BX8,ROUND(BX8*CS8,2)) -> 711.59 | BZ8: pour assurer le remplacement partiel sur une partie des tâches de | CA8: Madame | CB8: Salah Aïcha | CC8: de maitresse de maison | CD8: congés payés | CE8: ='informations générales'!$A$1 -> Monsieur François GOSSET | CF8: ='informations générales'!$A$3 -> Directeur | CG8: ='informations générales'!$A$4 -> Foyer de la Claire | CH8: ='informations générales'!$A$5 -> 386, rue Michel Aulas à LIMAS | CI8: ='informations générales'!$A$6 -> du | CJ8: ='informations générales'!$A$7 -> Le Directeur général | CK8: ='informations générales'!$A$8 -> Monsieur François PRUVOST | CL8: ='informations générales'!$A$10 -> Limas | CM8: ='informations générales'!$A$2 -> Le | CN8: =IF(AM8=0," ",IF(P8="",4,INT(T8/7))) -> 4 | CO8: =IF(AM8=0," ",IF(P8="",0,T8-(CN8*7))) -> 1 | CP8: =IF(AM8=0,"",(IF(CN8>4,4*35,CN8*35))+IF(T8>28,0,(IF(CO8>5,5*7,CO8*7)))) -> 140 | CQ8: =IF(AN8="","",IF(AU8="",35,IF(BB8="",70,IF(BI8="",105,140)))) -> 140 | CR8: =+IF(CQ8>CP8,CP8,CQ8) -> 140 | CS8: =IF(AM8=0,1,IF((AM8/CR8)>1,1,AM8/CR8)) -> 0.48571429 | CT8: =(IF(AM8=0,151.67,151.67*CS8)) -> 73.668286 | CV8: =O8 -> 40742 | CW8: =P8 -> 40770 | CX8: =IF(Q8=""," ",Q8) -> monetaire
A9: Madame | B9: xxxx | D9: Ayten | E9: 3, impasse Laurent Bonnevay | G9: 69400 | H9: v | I9: 23224 | J9: 2630899208164 | K9: Isparta | L9: Turque | N9: de maitresse de maison | O9: 40742 | P9: 40770 | Q9: texte FAUX | R9: non | S9: CDD | T9: =IF(P9="","",P9-O9+1) -> 29 | U9: =INT(T9/7) -> 4 | V9: 2 | W9: =IF(V9=1,IF(S9="CDI",IF(R9="oui","4","2"),IF(T9>=180,1,IF(INT(T9/7)>14,2,IF(INT(T9/7)=0,"",INT(T9/7))))),"") | X9: =IF($V9=1,'période essai'!$A$13,IF($V9=2,'période essai'!$B$13," ")) -> Article 4 – Période d'essai : | Y9: =IF($V9=1,'période essai'!$A$15,IF($V9=2,'période essai'!$B$15,"")) -> Considérant que | Z9: =IF(V9=1,IF(S9="CDI","mois",IF(T9>=180,"mois",IF(INT(T9/7)>14,"semaines",IF(INT(T9/7)>1,"jours",IF(INT(T9/7)=1,"jour",""))))),IF(V9=3," ",IF(A9="Monsieur","le salarié","la salariée"))) -> la salariée | AA9: =IF($V9=1,'période essai'!$A$17,IF($V9=2,'période essai'!$B$17," ")) -> a déjà exercé ces mêmes fonctions au sein de l'Association et à titre exceptionnel, aucune période d'essai n'est fixée pour l'exercice du présent contrat. | AB9: =IF($V9=1,'période essai'!$A$18,"") | AC9: =IF($V9=3,'période essai'!$C$2,'période essai'!$A$2) -> 5 | AD9: =IF($V9=3,'période essai'!$C$3,'période essai'!$A$3) -> 6 | AE9: =IF($V9=3,'période essai'!$C$4,'période essai'!$A$4) -> 7 | AF9: =IF($V9=3,'période essai'!$C$5,'période essai'!$A$5) -> 8 | AG9: =IF($V9=3,'période essai'!$C$6,'période essai'!$A$6) -> 9 | AH9: =IF($V9=3,'période essai'!$C$7,'période essai'!$A$7) -> 10 | AI9: =IF($V9=3,'période essai'!$C$8,'période essai'!$A$8) -> 11 | AJ9: =IF($V9=3,'période essai'!$C$9,'période essai'!$A$9) -> 12 | AK9: =IF($V9=3,'période essai'!$C$10,'période essai'!$A$10) -> 13 | AL9: =IF($V9=3,'période essai'!$C$11,'période essai'!$A$11) -> 14 | AM9: =SUM(AN9:BO9) -> 0 | AN9: 6 | AO9: 6 | AP9: 3 | AQ9: 6 | AR9: 6 | AS9: r | AT9: r | AU9: 4 | AV9: 7 | AW9: 4 | AX9: 4 | AY9: 5 | AZ9: r | BA9: r | BB9: n | BC9: n | BD9: n | BE9: n | BF9: n | BG9: n | BH9: n | BI9: n | BJ9: 4 | BK9: 4 | BL9: 3 | BM9: 6 | BN9: r | BO9: r | BP9: non | BQ9: non annualisé | BR9: 341 | BS9: 362 | BW9: ='informations générales'!$A$9 -> 3.74 | BX9: =IF(R9="oui",ROUND(((BS9+BT9)*BW9),2),ROUND((BS9*BW9*1.0821),2)) -> 1465.03 | BY9: =IF(AM9=0,BX9,ROUND(BX9*CS9,2)) -> 1465.03 | BZ9: pour assurer le remplacement partiel sur une partie des tâches de | CA9: Madame | CB9: Salah Aïcha | CC9: de maitresse de maison | CD9: congés payés | CE9: ='informations générales'!$A$1 -> Monsieur François GOSSET | CF9: ='informations générales'!$A$3 -> Directeur | CG9: ='informations générales'!$A$4 -> Foyer de la Claire | CH9: ='informations générales'!$A$5 -> 386, rue Michel Aulas à LIMAS | CI9: ='informations générales'!$A$6 -> du | CJ9: ='informations générales'!$A$7 -> Le Directeur général | CK9: ='informations générales'!$A$8 -> Monsieur François PRUVOST | CL9: ='informations générales'!$A$10 -> Limas | CM9: ='informations générales'!$A$2 -> Le | CN9: =IF(AM9=0," ",IF(P9="",4,INT(T9/7))) | CO9: =IF(AM9=0," ",IF(P9="",0,T9-(CN9*7))) | CP9: =IF(AM9=0,"",(IF(CN9>4,4*35,CN9*35))+IF(T9>28,0,(IF(CO9>5,5*7,CO9*7)))) | CQ9: =IF(AN9="","",IF(AU9="",35,IF(BB9="",70,IF(BI9="",105,140)))) -> 140 | CR9: =+IF(CQ9>CP9,CP9,CQ9) -> 140 | CS9: =IF(AM9=0,1,IF((AM9/CR9)>1,1,AM9/CR9)) -> 1 | CT9: =(IF(AM9=0,151.67,151.67*CS9)) -> 151.67 | CV9: =O9 -> 40742 | CW9: =P9 -> 40770 | CX9: =IF(Q9=""," ",Q9) -> texte FAUX
A10: Madame | B10: xxxx | D10: Ayten | E10: 3, impasse Laurent Bonnevay | G10: 69400 | H10: v | I10: 23224 | J10: 2630899208164 | K10: Isparta | L10: Turque | N10: de maitresse de maison | O10: 40742 | P10: 40770 | Q10: perso stand | R10: non | S10: CDD | T10: =IF(P10="","",P10-O10+1) -> 29 | U10: =INT(T10/7) -> 4 | V10: 2 | W10: =IF(V10=1,IF(S10="CDI",IF(R10="oui","4","2"),IF(T10>=180,1,IF(INT(T10/7)>14,2,IF(INT(T10/7)=0,"",INT(T10/7))))),"") | X10: =IF($V10=1,'période essai'!$A$13,IF($V10=2,'période essai'!$B$13," ")) -> Article 4 – Période d'essai : | Y10: =IF($V10=1,'période essai'!$A$15,IF($V10=2,'période essai'!$B$15,"")) -> Considérant que | Z10: =IF(V10=1,IF(S10="CDI","mois",IF(T10>=180,"mois",IF(INT(T10/7)>14,"semaines",IF(INT(T10/7)>1,"jours",IF(INT(T10/7)=1,"jour",""))))),IF(V10=3," ",IF(A10="Monsieur","le salarié","la salariée"))) -> la salariée | AA10: =IF($V10=1,'période essai'!$A$17,IF($V10=2,'période essai'!$B$17," ")) -> a déjà exercé ces mêmes fonctions au sein de l'Association et à titre exceptionnel, aucune période d'essai n'est fixée pour l'exercice du présent contrat. | AB10: =IF($V10=1,'période essai'!$A$18,"") | AC10: =IF($V10=3,'période essai'!$C$2,'période essai'!$A$2) -> 5 | AD10: =IF($V10=3,'période essai'!$C$3,'période essai'!$A$3) -> 6 | AE10: =IF($V10=3,'période essai'!$C$4,'période essai'!$A$4) -> 7 | AF10: =IF($V10=3,'période essai'!$C$5,'période essai'!$A$5) -> 8 | AG10: =IF($V10=3,'période essai'!$C$6,'période essai'!$A$6) -> 9 | AH10: =IF($V10=3,'période essai'!$C$7,'période essai'!$A$7) -> 10 | AI10: =IF($V10=3,'période essai'!$C$8,'période essai'!$A$8) -> 11 | AJ10: =IF($V10=3,'période essai'!$C$9,'période essai'!$A$9) -> 12 | AK10: =IF($V10=3,'période essai'!$C$10,'période essai'!$A$10) -> 13 | AL10: =IF($V10=3,'période essai'!$C$11,'période essai'!$A$11) -> 14 | AM10: =SUM(AN10:BO10) -> 68 | AN10: 6 | AO10: 6 | AP10: 3 | AQ10: 6 | AR10: 6 | AS10: r | AT10: r | AU10: 4 | AV10: 7 | AW10: 4 | AX10: 4 | AY10: 5 | AZ10: r | BA10: r | BB10: n | BC10: n | BD10: n | BE10: n | BF10: n | BG10: n | BH10: n | BI10: n | BJ10: 4 | BK10: 4 | BL10: 3 | BM10: 6 | BN10: r | BO10: r | BP10: non | BQ10: non annualisé | BR10: 341 | BS10: 362 | BW10: ='informations générales'!$A$9 -> 3.74 | BX10: =IF(R10="oui",ROUND(((BS10+BT10)*BW10),2),ROUND((BS10*BW10*1.0821),2)) -> 1465.03 | BY10: =IF(AM10=0,BX10,ROUND(BX10*CS10,2)) -> 711.59 | BZ10: pour assurer le remplacement partiel sur une partie des tâches de | CA10: Madame | CB10: Salah Aïcha | CC10: de maitresse de maison | CD10: congés payés | CE10: ='informations générales'!$A$1 -> Monsieur François GOSSET | CF10: ='informations générales'!$A$3 -> Directeur | CG10: ='informations générales'!$A$4 -> Foyer de la Claire | CH10: ='informations générales'!$A$5 -> 386, rue Michel Aulas à LIMAS | CI10: ='informations générales'!$A$6 -> du | CJ10: ='informations générales'!$A$7 -> Le Directeur général | CK10: ='informations générales'!$A$8 -> Monsieur François PRUVOST | CL10: ='informations générales'!$A$10 -> Limas | CM10: ='informations générales'!$A$2 -> Le | CN10: =IF(AM10=0," ",IF(P10="",4,INT(T10/7))) -> 4 | CO10: =IF(AM10=0," ",IF(P10="",0,T10-(CN10*7))) -> 1 | CP10: =IF(AM10=0,"",(IF(CN10>4,4*35,CN10*35))+IF(T10>28,0,(IF(CO10>5,5*7,CO10*7)))) -> 140 | CQ10: =IF(AN10="","",IF(AU10="",35,IF(BB10="",70,IF(BI10="",105,140)))) -> 140 | CR10: =+IF(CQ10>CP10,CP10,CQ10) -> 140 | CS10: =IF(AM10=0,1,IF((AM10/CR10)>1,1,AM10/CR10)) -> 0.48571429 | CT10: =(IF(AM10=0,151.67,151.67*CS10)) -> 73.668286 | CV10: =O10 -> 40742 | CW10: =P10 -> 40770 | CX10: =IF(Q10=""," ",Q10) -> perso stand
A11: Madame | B11: xxxx | D11: Ayten | E11: 3, impasse Laurent Bonnevay | G11: 69400 | H11: v | I11: 23224 | J11: 2630899208164 | K11: Isparta | L11: Turque | N11: de maitresse de maison | O11: 40742 | P11: 40770 | Q11: comptabilité | R11: non | S11: CDD | T11: =IF(P11="","",P11-O11+1) -> 29 | U11: =INT(T11/7) -> 4 | V11: 2 | W11: =IF(V11=1,IF(S11="CDI",IF(R11="oui","4","2"),IF(T11>=180,1,IF(INT(T11/7)>14,2,IF(INT(T11/7)=0,"",INT(T11/7))))),"") | X11: =IF($V11=1,'période essai'!$A$13,IF($V11=2,'période essai'!$B$13," ")) -> Article 4 – Période d'essai : | Y11: =IF($V11=1,'période essai'!$A$15,IF($V11=2,'période essai'!$B$15,"")) -> Considérant que | Z11: =IF(V11=1,IF(S11="CDI","mois",IF(T11>=180,"mois",IF(INT(T11/7)>14,"semaines",IF(INT(T11/7)>1,"jours",IF(INT(T11/7)=1,"jour",""))))),IF(V11=3," ",IF(A11="Monsieur","le salarié","la salariée"))) -> la salariée | AA11: =IF($V11=1,'période essai'!$A$17,IF($V11=2,'période essai'!$B$17," ")) -> a déjà exercé ces mêmes fonctions au sein de l'Association et à titre exceptionnel, aucune période d'essai n'est fixée pour l'exercice du présent contrat. | AB11: =IF($V11=1,'période essai'!$A$18,"") | AC11: =IF($V11=3,'période essai'!$C$2,'période essai'!$A$2) -> 5 | AD11: =IF($V11=3,'période essai'!$C$3,'période essai'!$A$3) -> 6 | AE11: =IF($V11=3,'période essai'!$C$4,'période essai'!$A$4) -> 7 | AF11: =IF($V11=3,'période essai'!$C$5,'période essai'!$A$5) -> 8 | AG11: =IF($V11=3,'période essai'!$C$6,'période essai'!$A$6) -> 9 | AH11: =IF($V11=3,'période essai'!$C$7,'période essai'!$A$7) -> 10 | AI11: =IF($V11=3,'période essai'!$C$8,'période essai'!$A$8) -> 11 | AJ11: =IF($V11=3,'période essai'!$C$9,'période essai'!$A$9) -> 12 | AK11: =IF($V11=3,'période essai'!$C$10,'période essai'!$A$10) -> 13 | AL11: =IF($V11=3,'période essai'!$C$11,'période essai'!$A$11) -> 14 | AM11: =SUM(AN11:BO11) -> 68 | AN11: 6 | AO11: 6 | AP11: 3 | AQ11: 6 | AR11: 6 | AS11: r | AT11: r | AU11: 4 | AV11: 7 | AW11: 4 | AX11: 4 | AY11: 5 | AZ11: r | BA11: r | BB11: n | BC11: n | BD11: n | BE11: n | BF11: n | BG11: n | BH11: n | BI11: n | BJ11: 4 | BK11: 4 | BL11: 3 | BM11: 6 | BN11: r | BO11: r | BP11: non | BQ11: non annualisé | BR11: 341 | BS11: 362 | BW11: ='informations générales'!$A$9 -> 3.74 | BX11: =IF(R11="oui",ROUND(((BS11+BT11)*BW11),2),ROUND((BS11*BW11*1.0821),2)) -> 1465.03 | BY11: =IF(AM11=0,BX11,ROUND(BX11*CS11,2)) -> 711.59 | BZ11: pour assurer le remplacement partiel sur une partie des tâches de | CA11: Madame | CB11: Salah Aïcha | CC11: de maitresse de maison | CD11: congés payés | CE11: ='informations générales'!$A$1 -> Monsieur François GOSSET | CF11: ='informations générales'!$A$3 -> Directeur | CG11: ='informations générales'!$A$4 -> Foyer de la Claire | CH11: ='informations générales'!$A$5 -> 386, rue Michel Aulas à LIMAS | CI11: ='informations générales'!$A$6 -> du | CJ11: ='informations générales'!$A$7 -> Le Directeur général | CK11: ='informations générales'!$A$8 -> Monsieur François PRUVOST | CL11: ='informations générales'!$A$10 -> Limas | CM11: ='informations générales'!$A$2 -> Le | CN11: =IF(AM11=0," ",IF(P11="",4,INT(T11/7))) -> 4 | CO11: =IF(AM11=0," ",IF(P11="",0,T11-(CN11*7))) -> 1 | CP11: =IF(AM11=0,"",(IF(CN11>4,4*35,CN11*35))+IF(T11>28,0,(IF(CO11>5,5*7,CO11*7)))) -> 140 | CQ11: =IF(AN11="","",IF(AU11="",35,IF(BB11="",70,IF(BI11="",105,140)))) -> 140 | CR11: =+IF(CQ11>CP11,CP11,CQ11) -> 140 | CS11: =IF(AM11=0,1,IF((AM11/CR11)>1,1,AM11/CR11)) -> 0.48571429 | CT11: =(IF(AM11=0,151.67,151.67*CS11)) -> 73.668286 | CV11: =O11 -> 40742 | CW11: =P11 -> 40770 | CX11: =IF(Q11=""," ",Q11) -> comptabilité
A12: Madame | B12: xxxx | D12: Ayten | E12: 3, impasse Laurent Bonnevay | G12: 69400 | H12: v | I12: 23224 | J12: 2630899208164 | K12: Isparta | L12: Turque | N12: de maitresse de maison | O12: 40742 | P12: 40770 | Q12: scientifique | R12: non | S12: CDD | T12: =IF(P12="","",P12-O12+1) -> 29 | U12: =INT(T12/7) -> 4 | V12: 2 | W12: =IF(V12=1,IF(S12="CDI",IF(R12="oui","4","2"),IF(T12>=180,1,IF(INT(T12/7)>14,2,IF(INT(T12/7)=0,"",INT(T12/7))))),"") | X12: =IF($V12=1,'période essai'!$A$13,IF($V12=2,'période essai'!$B$13," ")) -> Article 4 – Période d'essai : | Y12: =IF($V12=1,'période essai'!$A$15,IF($V12=2,'période essai'!$B$15,"")) -> Considérant que | Z12: =IF(V12=1,IF(S12="CDI","mois",IF(T12>=180,"mois",IF(INT(T12/7)>14,"semaines",IF(INT(T12/7)>1,"jours",IF(INT(T12/7)=1,"jour",""))))),IF(V12=3," ",IF(A12="Monsieur","le salarié","la salariée"))) -> la salariée | AA12: =IF($V12=1,'période essai'!$A$17,IF($V12=2,'période essai'!$B$17," ")) -> a déjà exercé ces mêmes fonctions au sein de l'Association et à titre exceptionnel, aucune période d'essai n'est fixée pour l'exercice du présent contrat. | AB12: =IF($V12=1,'période essai'!$A$18,"") | AC12: =IF($V12=3,'période essai'!$C$2,'période essai'!$A$2) -> 5 | AD12: =IF($V12=3,'période essai'!$C$3,'période essai'!$A$3) -> 6 | AE12: =IF($V12=3,'période essai'!$C$4,'période essai'!$A$4) -> 7 | AF12: =IF($V12=3,'période essai'!$C$5,'période essai'!$A$5) -> 8 | AG12: =IF($V12=3,'période essai'!$C$6,'période essai'!$A$6) -> 9 | AH12: =IF($V12=3,'période essai'!$C$7,'période essai'!$A$7) -> 10 | AI12: =IF($V12=3,'période essai'!$C$8,'période essai'!$A$8) -> 11 | AJ12: =IF($V12=3,'période essai'!$C$9,'période essai'!$A$9) -> 12 | AK12: =IF($V12=3,'période essai'!$C$10,'période essai'!$A$10) -> 13 | AL12: =IF($V12=3,'période essai'!$C$11,'période essai'!$A$11) -> 14 | AM12: =SUM(AN12:BO12) -> 68 | AN12: 6 | AO12: 6 | AP12: 3 | AQ12: 6 | AR12: 6 | AS12: r | AT12: r | AU12: 4 | AV12: 7 | AW12: 4 | AX12: 4 | AY12: 5 | AZ12: r | BA12: r | BB12: n | BC12: n | BD12: n | BE12: n | BF12: n | BG12: n | BH12: n | BI12: n | BJ12: 4 | BK12: 4 | BL12: 3 | BM12: 6 | BN12: r | BO12: r | BP12: non | BQ12: non annualisé | BR12: 341 | BS12: 362 | BW12: ='informations générales'!$A$9 -> 3.74 | BX12: =IF(R12="oui",ROUND(((BS12+BT12)*BW12),2),ROUND((BS12*BW12*1.0821),2)) -> 1465.03 | BY12: =IF(AM12=0,BX12,ROUND(BX12*CS12,2)) -> 711.59 | BZ12: pour assurer le remplacement partiel sur une partie des tâches de | CA12: Madame | CB12: Salah Aïcha | CC12: de maitresse de maison | CD12: congés payés | CE12: ='informations générales'!$A$1 -> Monsieur François GOSSET | CF12: ='informations générales'!$A$3 -> Directeur | CG12: ='informations générales'!$A$4 -> Foyer de la Claire | CH12: ='informations générales'!$A$5 -> 386, rue Michel Aulas à LIMAS | CI12: ='informations générales'!$A$6 -> du | CJ12: ='informations générales'!$A$7 -> Le Directeur général | CK12: ='informations générales'!$A$8 -> Monsieur François PRUVOST | CL12: ='informations générales'!$A$10 -> Limas | CM12: ='informations générales'!$A$2 -> Le | CN12: =IF(AM12=0," ",IF(P12="",4,INT(T12/7))) -> 4 | CO12: =IF(AM12=0," ",IF(P12="",0,T12-(CN12*7))) -> 1 | CP12: =IF(AM12=0,"",(IF(CN12>4,4*35,CN12*35))+IF(T12>28,0,(IF(CO12>5,5*7,CO12*7)))) -> 140 | CQ12: =IF(AN12="","",IF(AU12="",35,IF(BB12="",70,IF(BI12="",105,140)))) -> 140 | CR12: =+IF(CQ12>CP12,CP12,CQ12) -> 140 | CS12: =IF(AM12=0,1,IF((AM12/CR12)>1,1,AM12/CR12)) -> 0.48571429 | CT12: =(IF(AM12=0,151.67,151.67*CS12)) -> 73.668286 | CV12: =O12 -> 40742 | CW12: =P12 -> 40770 | CX12: =IF(Q12=""," ",Q12) -> scientifique

Sheet informations générales
A1: Monsieur François GOSSET | E1: texte
A2: Le | B2: article :Le directeur, la directrice | E2: texte
A3: Directeur | E3: texte
A4: Foyer de la Claire | E4: texte
A5: 386, rue Michel Aulas à LIMAS | B5: à Limas | E5: texte
A6: du | B6: article : du foyer, de l'Ime … | E6: texte
A7: Le Directeur général | E7: texte
A8: Monsieur François PRUVOST | E8: texte
A9: 3.74 | E9: nombre
A10: Limas | E10: texte

Sheet période essai
A1: période essai avec nb jours | B1: période essai non car déjà travaillé | C1: pas de période d'essai
A2: 5 | B2: 5 | C2: 4
A3: 6 | B3: 6 | C3: 5
A4: 7 | B4: 7 | C4: 6
A5: 8 | B5: 8 | C5: 7
A6: 9 | B6: 9 | C6: 8
A7: 10 | B7: 10 | C7: 9
A8: 11 | B8: 11 | C8: 10
A9: 12 | B9: 12 | C9: 11
A10: 13 | B10: 13 | C10: 12
A11: 14 | B11: 14 | C11: 13
A13: Article 4 – Période d'essai : | B13: Article 4 – Période d'essai :
A15: Le présent contrat ne deviendra définitif qu'à l'issue d'une période d'essai de | B15: Considérant que
A17: de travail effectif. Toute suspension qui se produirait durant cette période (maladie, congé …) la prolongerait d'autant. | B17: a déjà exercé ces mêmes fonctions au sein de l'Association et à titre exceptionnel, aucune période d'essai n'est fixée pour l'exercice du présent contrat.
A18: Chacune des parties pourra mettre fin à la période sans préavis ni indemnité. En cas de rupture de la période d'essai, un délai de prévenance sera respecté dans le cadre légal et conventionnel.
A20: NE PAS MODIFIER

Sheet champs imposés
A1: Titre | B1: Article | C1: Clause essai | D1: Internat | E1: Annualisé | F1: Motif contrat
A2: Madame | B2: d' | C2: 1 | D2: oui | E2: annualisé | F2: pour assurer le remplacement partiel sur une partie des tâches de
A3: Mademoiselle | B3: du | C3: 2 | D3: non | E3: non annualisé | F3: au motif d'un accroissement temporaire d'activié lié
A4: Monsieur | B4: de | C4: 3
B5: de l'
A8: Typecontrat | D8: Motifremplacement | G8: Fonctions
A9: CDD | D9: accident du travail | G9: d' agent administratif
A10: CDI | B10: Cadre | D10: à la pathologie d'un résidant | G10: d' agent administratif principal
B11: oui | D11: à la présence supplémentaire de résidants | G11: d' agent de service intérieur
B12: non | D12: à l'organisation et la mise en œuvre d'activité de plein air dues à la période estivale | G12: d' aide éducateur
D13: à l'organisation d'activités dues aux fêtes de fin d'année | G13: d' aide éducatrice
D14: à l'organisation d'un séminaire | G14: d' aide soignant
D15: à l'organisation d'un transfert | G15: d' aide soignante
D16: à l'ouverture du site de Saint Julien | G16: d' AMP
D17: congé d'adoption | G17: d' animateur 1ère catégorie
D18: congé de maternité | G18: d' animateur 2ème catégorie
D19: congés exceptionnels | G19: d' animatice 2ème catégorie
D20: congé individuel de formation | G20: d' animatrice 1ère catégorie
D21: congés familiaux | G21: d' assistante sociale
D22: congés payés | G22: de chef de service
D23: congé parental | G23: d' économe principal
D24: congé de paternité | G24: d' éducateur spécialisé
... D32: passage provisoire à temps partiel | G32: de psychomotricien
G33: de psychomotricienne
G34: de surveillant de nuit
G35: de surveillante de nuit
G36: de technicien qualifié
G37: de technicien supérieur
