Workbook

Sheet Suivi
A1: Ref | B1: nom objet | C1: couleurs de l'objet | D1: Dates | E1: Qui
A2: 11111 | B2: Toupie | C2: Rouge + bleu | D2: 46112 | E2: TJ
A3: 22222 | B3: Toupie | C3: Jaune + Rouge | D3: 46113 | E3: BB
A4: 33333 | B4: Chariot | C4: Verte + Orange | D4: 46112 | E4: BC
A5: 44444 | B5: Voiture | C5: Rouge + Blanc | D5: 46115 | E5: TG
A6: 55555 | B6: Voiture | C6: Rouge + Blanc + Noir | D6: 46112 | E6: TJ
A7: 66666 | B7: Train | C7: Bleu + Blanc + Jaune | D7: 46117 | E7: BC
A8: 77777 | B8: Cerceau | C8: Rouge + Bleu + Jaune + Vert + Orange + Marron + Violet + Noir + Blanc | D8: 46112 | E8: TG
A9: 88888 | B9: Toupie | C9: Rouge + Bleu + Jaune | D9: 46119 | E9: TJ
A10: 99999 | B10: Toupie | C10: Rouge + Bleu + Jaune + Vert + Orange + Marron + Violet + Noir + Blanc + Rose | D10: 46119 | E10: BB
A11: 12345 | B11: Voiture | D11: 46119

Sheet Tri
A1: Date de commande : | B1: 46113
A2: A intégrer
A3: couleur | B3: Ref | C3: nom objet | D3: Qui
A4: Rouge | B4: 22222 | C4: =VLOOKUP(B4,Suivi!$A$2:$E$10,2,FALSE) -> Toupie | D4: =VLOOKUP(B4,Suivi!$A$2:$E$10,5,FALSE) -> BB
A5: Rouge | B5: 44444 | C5: =VLOOKUP(B5,Suivi!$A$2:$E$10,2,FALSE) -> Voiture | D5: =VLOOKUP(B5,Suivi!$A$2:$E$10,5,FALSE) -> TG
A6: Rouge | B6: 88888 | C6: =VLOOKUP(B6,Suivi!$A$2:$E$10,2,FALSE) -> Toupie | D6: =VLOOKUP(B6,Suivi!$A$2:$E$10,5,FALSE) -> TJ
A7: Jaune | B7: 22222 | C7: =VLOOKUP(B7,Suivi!$A$2:$E$10,2,FALSE) -> Toupie | D7: =VLOOKUP(B7,Suivi!$A$2:$E$10,5,FALSE) -> BB
A8: Jaune | B8: 66666 | C8: =VLOOKUP(B8,Suivi!$A$2:$E$10,2,FALSE) -> Train | D8: =VLOOKUP(B8,Suivi!$A$2:$E$10,5,FALSE) -> BC
A9: Jaune | B9: 88888 | C9: =VLOOKUP(B9,Suivi!$A$2:$E$10,2,FALSE) -> Toupie | D9: =VLOOKUP(B9,Suivi!$A$2:$E$10,5,FALSE) -> TJ
A10: Jaune | B10: 99999 | C10: =VLOOKUP(B10,Suivi!$A$2:$E$10,2,FALSE) -> Toupie | D10: =VLOOKUP(B10,Suivi!$A$2:$E$10,5,FALSE) -> BB
A11: Blanc | B11: 44444 | C11: =VLOOKUP(B11,Suivi!$A$2:$E$10,2,FALSE) -> Voiture | D11: =VLOOKUP(B11,Suivi!$A$2:$E$10,5,FALSE) -> TG
A12: Blanc | B12: 66666 | C12: =VLOOKUP(B12,Suivi!$A$2:$E$10,2,FALSE) -> Train | D12: =VLOOKUP(B12,Suivi!$A$2:$E$10,5,FALSE) -> BC
A13: Blanc | B13: 99999 | C13: =VLOOKUP(B13,Suivi!$A$2:$E$10,2,FALSE) -> Toupie | D13: =VLOOKUP(B13,Suivi!$A$2:$E$10,5,FALSE) -> BB
A14: Bleu | B14: 66666 | C14: =VLOOKUP(B14,Suivi!$A$2:$E$10,2,FALSE) -> Train | D14: =VLOOKUP(B14,Suivi!$A$2:$E$10,5,FALSE) -> BC
A15: Bleu | B15: 88888 | C15: =VLOOKUP(B15,Suivi!$A$2:$E$10,2,FALSE) -> Toupie | D15: =VLOOKUP(B15,Suivi!$A$2:$E$10,5,FALSE) -> TJ
... A22: Rose | B22: 99999 | C22: =VLOOKUP(B22,Suivi!$A$2:$E$10,2,FALSE) -> Toupie | D22: =VLOOKUP(B22,Suivi!$A$2:$E$10,5,FALSE) -> BB

Sheet Liste
A1: Liste de Mots à utiliser
A2: Rouge
A3: Bleu
A4: Jaune
A5: Vert
A6: Orange
A7: Rose
A8: Violet
A9: Marron
A10: Noir
A11: Blanc
