Workbook

Sheet JANVIER
A1: Gestion des heures
A3: Nom : | D3: Mois: | E3: JANVIER | K3: JANVIER
A4: Prénom: | B4: ALAIN | D4: Année: | E4: 2017 | K4: FEVRIER
A5: Noter les heures sous la forme 8:00 et arrondisser vos heures. | K5: MARS
K6: AVRIL
A7: SEMAINE N° | B7: LUNDI | C7: MARDI | D7: MERCREDI | E7: JEUDI | F7: VENDREDI | G7: SAMEDI | H7: DIMANCHE | I7: Total de la semaine | K7: MAI
A8: 52 | H8: 41274 | K8: JUIN
B9: 0 | C9: 0 | D9: 0 | E9: 0 | F9: 0 | G9: =IF(OR(G7="LUNDI",G7="MARDI",G7="MERCREDI",G7="JEUDI",G7="VENDREDI"),1,0) -> 0 | H9: =IF(OR(H7="LUNDI",H7="MARDI",H7="MERCREDI",H7="JEUDI",H7="VENDREDI"),1,0) -> 0 | K9: JUIN
A10: Arrivée | I10: =SUM(B10:H10) -> 0 | K10: JUILLET
A11: Départ | I11: =SUM(B11:H11) -> 0 | K11: AOÛT
A12: Total a.m | B12: =B11-B10 -> 0 | C12: =C11-C10 -> 0 | D12: =D11-D10 -> 0 | E12: =E11-E10 -> 0 | F12: =F11-F10 -> 0 | G12: =G11-G10 -> 0 | H12: =H11-H10 -> 0 | I12: =I11-I10 -> 0 | K12: SEPTEMBRE
A13: Arrivée | I13: =SUM(B13:H13) -> 0 | K13: OCTOBRE
A14: Départ | I14: =SUM(B14:H14) -> 0 | K14: NOVEMBRE
A15: Total p.m | B15: =B14-B13 -> 0 | C15: =C14-C13 -> 0 | D15: =D14-D13 -> 0 | E15: =E14-E13 -> 0 | F15: =F14-F13 -> 0 | G15: =G14-G13 -> 0 | H15: =H14-H13 -> 0 | I15: =I14-I13 -> 0 | K15: DÉCEMBRE
A16: Total du jour (minute) | B16: =B12+B15 -> 0 | C16: =C12+C15 -> 0 | D16: =D12+D15 -> 0 | E16: =E12+E15 -> 0 | F16: =F12+F15 -> 0 | G16: =G12+G15 -> 0 | H16: =H12+H15 -> 0 | I16: =SUM(B16:H16) -> 0
A18: Remarque
K19: 2017
A20: SEMAINE N° | B20: LUNDI | C20: MARDI | D20: MERCREDI | E20: JEUDI | F20: VENDREDI | G20: SAMEDI | H20: DIMANCHE | I20: Total de la semaine | K20: 2018
A21: 1 | B21: 41275 | C21: 41276 | D21: 41277 | E21: 41278 | F21: 41279 | G21: 41280 | H21: 41281
B22: 0 | C22: =IF(OR(C20="LUNDI",C20="MARDI",C20="MERCREDI",C20="JEUDI",C20="VENDREDI"),1,0) -> 1 | D22: =IF(OR(D20="LUNDI",D20="MARDI",D20="MERCREDI",D20="JEUDI",D20="VENDREDI"),1,0) -> 1 | E22: =IF(OR(E20="LUNDI",E20="MARDI",E20="MERCREDI",E20="JEUDI",E20="VENDREDI"),1,0) -> 1 | F22: =IF(OR(F20="LUNDI",F20="MARDI",F20="MERCREDI",F20="JEUDI",F20="VENDREDI"),1,0) -> 1 | G22: =IF(OR(G20="LUNDI",G20="MARDI",G20="MERCREDI",G20="JEUDI",G20="VENDREDI"),1,0) -> 0 | H22: =IF(OR(H20="LUNDI",H20="MARDI",H20="MERCREDI",H20="JEUDI",H20="VENDREDI"),1,0) -> 0 | K22: 2019
A23: Arrivée | B23: CONGE OFFICIEL | C23: 0.33333333 | D23: 0.33333333 | E23: 0.33333333 | F23: 0.33333333 | I23: =SUM(B23:H23) -> 1.3333333 | K23: 2020
A24: Départ | C24: 0.5 | D24: 0.5 | E24: 0.5 | F24: 0.5 | I24: =SUM(B24:H24) -> 2 | K24: 2021
A25: Total a.m | C25: =C24-C23 -> 0.16666667 | D25: =D24-D23 -> 0.16666667 | E25: =E24-E23 -> 0.16666667 | F25: =F24-F23 -> 0.16666667 | G25: =G24-G23 -> 0 | H25: =H24-H23 -> 0 | I25: =I24-I23 -> 0.66666667 | K25: 2022
A26: Arrivée | C26: 0.5625 | D26: 0.5625 | E26: 0.5625 | F26: 0.5625 | I26: =SUM(B26:H26) -> 2.25 | K26: 2023
A27: Départ | C27: 0.72916667 | D27: 0.72916667 | E27: 0.72916667 | F27: 0.72916667 | I27: =SUM(B27:H27) -> 2.9166667 | K27: 2024
A28: Total p.m | C28: =C27-C26 -> 0.16666667 | D28: =D27-D26 -> 0.16666667 | E28: =E27-E26 -> 0.16666667 | F28: =F27-F26 -> 0.16666667 | G28: =G27-G26 -> 0 | H28: =H27-H26 -> 0 | I28: =I27-I26 -> 0.66666667 | K28: 2025
A29: Total du jour (minute) | B29: =B25+B28 -> 0 | C29: =C25+C28 -> 0.33333333 | D29: =D25+D28 -> 0.33333333 | E29: =E25+E28 -> 0.33333333 | F29: =F25+F28 -> 0.33333333 | G29: =G25+G28 -> 0 | H29: =H25+H28 -> 0 | I29: =SUM(B29:H29) -> 1.3333333
A31: Remarque
K32: 2017
A33: SEMAINE N° | B33: LUNDI | C33: MARDI | D33: MERCREDI | E33: JEUDI | F33: VENDREDI | G33: SAMEDI | H33: DIMANCHE | I33: Total de la semaine
A34: 2 | B34: 41282 | C34: 41283 | D34: 41284 | E34: 41285 | F34: 41286 | G34: 41287 | H34: 41288
B35: =IF(OR(B33="LUNDI",B33="MARDI",B33="MERCREDI",B33="JEUDI",B33="VENDREDI"),1,0) -> 1 | C35: =IF(OR(C33="LUNDI",C33="MARDI",C33="MERCREDI",C33="JEUDI",C33="VENDREDI"),1,0) -> 1 | D35: =IF(OR(D33="LUNDI",D33="MARDI",D33="MERCREDI",D33="JEUDI",D33="VENDREDI"),1,0) -> 1 | E35: =IF(OR(E33="LUNDI",E33="MARDI",E33="MERCREDI",E33="JEUDI",E33="VENDREDI"),1,0) -> 1 | F35: =IF(OR(F33="LUNDI",F33="MARDI",F33="MERCREDI",F33="JEUDI",F33="VENDREDI"),1,0) -> 1 | G35: =IF(OR(G33="LUNDI",G33="MARDI",G33="MERCREDI",G33="JEUDI",G33="VENDREDI"),1,0) -> 0 | H35: =IF(OR(H33="LUNDI",H33="MARDI",H33="MERCREDI",H33="JEUDI",H33="VENDREDI"),1,0) -> 0
A36: Arrivée | B36: 0.33333333 | C36: 0.33333333 | D36: 0.33333333 | E36: 0.33333333 | F36: 0.33333333 | I36: =SUM(B36:H36) -> 1.6666667
A37: Départ | B37: 0.5 | C37: 0.5 | D37: 0.5 | E37: 0.5 | F37: 0.5 | I37: =SUM(B37:H37) -> 2.5
A38: Total a.m | B38: =B37-B36 -> 0.16666667 | C38: =C37-C36 -> 0.16666667 | D38: =D37-D36 -> 0.16666667 | E38: =E37-E36 -> 0.16666667 | F38: =F37-F36 -> 0.16666667 | G38: =G37-G36 -> 0 | H38: =H37-H36 -> 0 | I38: =I37-I36 -> 0.83333333
A39: Arrivée | B39: 0.5625 | C39: 0.5625 | D39: 0.5625 | E39: 0.5625 | F39: 0.5625 | I39: =SUM(B39:H39) -> 2.8125
A40: Départ | B40: 0.72916667 | C40: 0.72916667 | D40: 0.72916667 | E40: 0.72916667 | F40: 0.72916667 | I40: =SUM(B40:H40) -> 3.6458333
A41: Total p.m | B41: =B40-B39 -> 0.16666667 | C41: =C40-C39 -> 0.16666667 | D41: =D40-D39 -> 0.16666667 | E41: =E40-E39 -> 0.16666667 | F41: =F40-F39 -> 0.16666667 | G41: =G40-G39 -> 0 | H41: =H40-H39 -> 0 | I41: =I40-I39 -> 0.83333333
A42: Total du jour (minute) | B42: =B38+B41 -> 0.33333333 | C42: =C38+C41 -> 0.33333333 | D42: =D38+D41 -> 0.33333333 | E42: =E38+E41 -> 0.33333333 | F42: =F38+F41 -> 0.33333333 | G42: =G38+G41 -> 0 | H42: =H38+H41 -> 0 | I42: =SUM(B42:H42) -> 1.6666667
A44: Remarque
K45: 2017
A46: SEMAINE N° | B46: LUNDI | C46: MARDI | D46: MERCREDI | E46: JEUDI | F46: VENDREDI | G46: SAMEDI | H46: DIMANCHE | I46: Total de la semaine
A47: 3 | B47: 41289 | C47: 41290 | D47: 41291 | E47: 41292 | F47: 41293 | G47: 41294 | H47: 41295
B48: =IF(OR(B46="LUNDI",B46="MARDI",B46="MERCREDI",B46="JEUDI",B46="VENDREDI"),1,0) -> 1 | C48: =IF(OR(C46="LUNDI",C46="MARDI",C46="MERCREDI",C46="JEUDI",C46="VENDREDI"),1,0) -> 1 | D48: =IF(OR(D46="LUNDI",D46="MARDI",D46="MERCREDI",D46="JEUDI",D46="VENDREDI"),1,0) -> 1 | E48: =IF(OR(E46="LUNDI",E46="MARDI",E46="MERCREDI",E46="JEUDI",E46="VENDREDI"),1,0) -> 1 | F48: =IF(OR(F46="LUNDI",F46="MARDI",F46="MERCREDI",F46="JEUDI",F46="VENDREDI"),1,0) -> 1 | G48: =IF(OR(G46="LUNDI",G46="MARDI",G46="MERCREDI",G46="JEUDI",G46="VENDREDI"),1,0) -> 0 | H48: =IF(OR(H46="LUNDI",H46="MARDI",H46="MERCREDI",H46="JEUDI",H46="VENDREDI"),1,0) -> 0
A49: Arrivée | B49: 0.33333333 | C49: 0.33333333 | D49: 0.33333333 | E49: 0.33333333 | F49: 0.33333333 | I49: =SUM(B49:H49) -> 1.6666667
A50: Départ | B50: 0.5 | C50: 0.5 | D50: 0.5 | E50: 0.5 | F50: 0.5 | I50: =SUM(B50:H50) -> 2.5
A51: Total a.m | B51: =B50-B49 -> 0.16666667 | C51: =C50-C49 -> 0.16666667 | D51: =D50-D49 -> 0.16666667 | E51: =E50-E49 -> 0.16666667 | F51: =F50-F49 -> 0.16666667 | G51: =G50-G49 -> 0 | H51: =H50-H49 -> 0 | I51: =I50-I49 -> 0.83333333
A52: Arrivée | B52: 0.5625 | C52: 0.5625 | D52: 0.5625 | E52: 0.5625 | F52: 0.5625 | I52: =SUM(B52:H52) -> 2.8125
A53: Départ | B53: 0.72916667 | C53: 0.72916667 | D53: 0.72916667 | E53: 0.72916667 | F53: 0.72916667 | I53: =SUM(B53:H53) -> 3.6458333
A54: Total p.m | B54: =B53-B52 -> 0.16666667 | C54: =C53-C52 -> 0.16666667 | D54: =D53-D52 -> 0.16666667 | E54: =E53-E52 -> 0.16666667 | F54: =F53-F52 -> 0.16666667 | G54: =G53-G52 -> 0 | H54: =H53-H52 -> 0 | I54: =I53-I52 -> 0.83333333
A55: Total du jour (minute) | B55: =B51+B54 -> 0.33333333 | C55: =C51+C54 -> 0.33333333 | D55: =D51+D54 -> 0.33333333 | E55: =E51+E54 -> 0.33333333 | F55: =F51+F54 -> 0.33333333 | G55: =G51+G54 -> 0 | H55: =H51+H54 -> 0 | I55: =SUM(B55:H55) -> 1.6666667
A57: Remarque
K58: 2017
A59: SEMAINE N° | B59: LUNDI | C59: MARDI | D59: MERCREDI | E59: JEUDI | F59: VENDREDI | G59: SAMEDI | H59: DIMANCHE | I59: Total de la semaine
A60: 4 | B60: 41296 | C60: 41297 | D60: 41298 | E60: 41299 | F60: 41300 | G60: 41301 | H60: 41302
B61: =IF(OR(B59="LUNDI",B59="MARDI",B59="MERCREDI",B59="JEUDI",B59="VENDREDI"),1,0) -> 1 | C61: =IF(OR(C59="LUNDI",C59="MARDI",C59="MERCREDI",C59="JEUDI",C59="VENDREDI"),1,0) -> 1 | D61: =IF(OR(D59="LUNDI",D59="MARDI",D59="MERCREDI",D59="JEUDI",D59="VENDREDI"),1,0) -> 1 | E61: =IF(OR(E59="LUNDI",E59="MARDI",E59="MERCREDI",E59="JEUDI",E59="VENDREDI"),1,0) -> 1 | F61: =IF(OR(F59="LUNDI",F59="MARDI",F59="MERCREDI",F59="JEUDI",F59="VENDREDI"),1,0) -> 1 | G61: =IF(OR(G59="LUNDI",G59="MARDI",G59="MERCREDI",G59="JEUDI",G59="VENDREDI"),1,0) -> 0 | H61: =IF(OR(H59="LUNDI",H59="MARDI",H59="MERCREDI",H59="JEUDI",H59="VENDREDI"),1,0) -> 0
A62: Arrivée | B62: 0.33333333 | C62: 0.33333333 | D62: 0.33333333 | E62: 0.33333333 | F62: 0.33333333 | I62: =SUM(B62:H62) -> 1.6666667
A63: Départ | B63: 0.5 | C63: 0.5 | D63: 0.5 | E63: 0.5 | F63: 0.5 | I63: =SUM(B63:H63) -> 2.5
A64: Total a.m | B64: =B63-B62 -> 0.16666667 | C64: =C63-C62 -> 0.16666667 | D64: =D63-D62 -> 0.16666667 | E64: =E63-E62 -> 0.16666667 | F64: =F63-F62 -> 0.16666667 | G64: =G63-G62 -> 0 | H64: =H63-H62 -> 0 | I64: =I63-I62 -> 0.83333333
A65: Arrivée | B65: 0.5625 | C65: 0.5625 | D65: 0.5625 | E65: 0.5625 | F65: 0.5625 | I65: =SUM(B65:H65) -> 2.8125
A66: Départ | B66: 0.72916667 | C66: 0.72916667 | D66: 0.72916667 | E66: 0.72916667 | F66: 0.72916667 | I66: =SUM(B66:H66) -> 3.6458333
A67: Total p.m | B67: =B66-B65 -> 0.16666667 | C67: =C66-C65 -> 0.16666667 | D67: =D66-D65 -> 0.16666667 | E67: =E66-E65 -> 0.16666667 | F67: =F66-F65 -> 0.16666667 | G67: =G66-G65 -> 0 | H67: =H66-H65 -> 0 | I67: =I66-I65 -> 0.83333333
A68: Total du jour (minute) | B68: =B64+B67 -> 0.33333333 | C68: =C64+C67 -> 0.33333333 | D68: =D64+D67 -> 0.33333333 | E68: =E64+E67 -> 0.33333333 | F68: =F64+F67 -> 0.33333333 | G68: =G64+G67 -> 0 | H68: =H64+H67 -> 0 | I68: =SUM(B68:H68) -> 1.6666667
A70: Remarque
A72: SEMAINE N° | B72: LUNDI | C72: MARDI | D72: MERCREDI | E72: JEUDI | F72: VENDREDI | G72: SAMEDI | H72: DIMANCHE | I72: Total de la semaine
A73: 5 | B73: 41303 | C73: 41304
B74: =IF(OR(B72="LUNDI",B72="MARDI",B72="MERCREDI",B72="JEUDI",B72="VENDREDI"),1,0) -> 1 | C74: =IF(OR(C72="LUNDI",C72="MARDI",C72="MERCREDI",C72="JEUDI",C72="VENDREDI"),1,0) -> 1 | D74: 0 | E74: 0 | F74: 0 | G74: =IF(OR(G72="LUNDI",G72="MARDI",G72="MERCREDI",G72="JEUDI",G72="VENDREDI"),1,0) -> 0 | H74: =IF(OR(H72="LUNDI",H72="MARDI",H72="MERCREDI",H72="JEUDI",H72="VENDREDI"),1,0) -> 0
A75: Arrivée | B75: 0.33333333 | C75: 0.33333333 | I75: =SUM(B75:H75) -> 0.66666667
A76: Départ | B76: 0.5 | C76: 0.5 | I76: =SUM(B76:H76) -> 1
A77: Total a.m | B77: =B76-B75 -> 0.16666667 | C77: =C76-C75 -> 0.16666667 | D77: =D76-D75 -> 0 | E77: =E76-E75 -> 0 | F77: =F76-F75 -> 0 | G77: =G76-G75 -> 0 | H77: =H76-H75 -> 0 | I77: =I76-I75 -> 0.33333333
A78: Arrivée | B78: 0.5625 | C78: 0.5625 | I78: =SUM(B78:H78) -> 1.125
A79: Départ | B79: 0.72916667 | C79: 0.72916667 | I79: =SUM(B79:H79) -> 1.4583333
A80: Total p.m | B80: =B79-B78 -> 0.16666667 | C80: =C79-C78 -> 0.16666667 | D80: =D79-D78 -> 0 | E80: =E79-E78 -> 0 | F80: =F79-F78 -> 0 | G80: =G79-G78 -> 0 | H80: =H79-H78 -> 0 | I80: =I79-I78 -> 0.33333333
A81: Total du jour (minute) | B81: =B77+B80 -> 0.33333333 | C81: =C77+C80 -> 0.33333333 | D81: =D77+D80 -> 0 | E81: =E77+E80 -> 0 | F81: =F77+F80 -> 0 | G81: =G77+G80 -> 0 | H81: =H77+H80 -> 0 | I81: =SUM(B81:H81) -> 0.66666667
A83: Remarque
A85: TOTAL DES HEURES | C85: =(I68+I55+I42+I29+I16+I81) -> 7
A87: NOMBRE DE JOURS | C87: =SUM(B9:H9,B22:H22,B35:H35,B48:H48,B61:H61,B74:I74) -> 21 | D87: (Pour un 100%)
A88: NOMBRE D'HEURE PAR JOUR | C88: 0.33333333
A90: TOTAL HEURES A FAIRE | C90: =(C87*C88) -> 7
A92: Différence: | C92: =(C85-C90) -> 0

Sheet FEVRIER
A1: Gestion des heures
A3: Nom : | D3: Mois: | E3: FEVRIER | K3: JANVIER
A4: Prénom: | B4: ALAIN | D4: Année: | E4: 2017 | K4: FEVRIER
A5: Noter les heures sous la forme 8:00 et arrondisser vos heures. | K5: MARS
K6: AVRIL
A7: SEMAINE N° | B7: LUNDI | C7: MARDI | D7: MERCREDI | E7: JEUDI | F7: VENDREDI | G7: SAMEDI | H7: DIMANCHE | I7: Total de la semaine | K7: MAI
A8: 5 | D8: 41305 | E8: 41306 | F8: 41307 | G8: 41308 | H8: 41309 | K8: JUIN
B9: 0 | C9: 0 | D9: 1 | E9: 1 | F9: 1 | G9: =IF(OR(G7="LUNDI",G7="MARDI",G7="MERCREDI",G7="JEUDI",G7="VENDREDI"),1,0) -> 0 | H9: =IF(OR(H7="LUNDI",H7="MARDI",H7="MERCREDI",H7="JEUDI",H7="VENDREDI"),1,0) -> 0 | K9: JUIN
A10: Arrivée | D10: 0.33333333 | E10: 0.33333333 | F10: 0.33333333 | I10: =SUM(B10:H10) -> 1 | K10: JUILLET
A11: Départ | D11: 0.5 | E11: 0.5 | F11: 0.5 | I11: =SUM(B11:H11) -> 1.5 | K11: AOÛT
A12: Total a.m | B12: =B11-B10 -> 0 | C12: =C11-C10 -> 0 | D12: =D11-D10 -> 0.16666667 | E12: =E11-E10 -> 0.16666667 | F12: =F11-F10 -> 0.16666667 | G12: =G11-G10 -> 0 | H12: =H11-H10 -> 0 | I12: =I11-I10 -> 0.5 | K12: SEPTEMBRE
A13: Arrivée | D13: 0.5625 | E13: 0.5625 | F13: 0.5625 | I13: =SUM(B13:H13) -> 1.6875 | K13: OCTOBRE
A14: Départ | D14: 0.72916667 | E14: 0.72916667 | F14: 0.72916667 | I14: =SUM(B14:H14) -> 2.1875 | K14: NOVEMBRE
A15: Total p.m | B15: =B14-B13 -> 0 | C15: =C14-C13 -> 0 | D15: =D14-D13 -> 0.16666667 | E15: =E14-E13 -> 0.16666667 | F15: =F14-F13 -> 0.16666667 | G15: =G14-G13 -> 0 | H15: =H14-H13 -> 0 | I15: =I14-I13 -> 0.5 | K15: DÉCEMBRE
A16: Total du jour (minute) | B16: =B12+B15 -> 0 | C16: =C12+C15 -> 0 | D16: =D12+D15 -> 0.33333333 | E16: =E12+E15 -> 0.33333333 | F16: =F12+F15 -> 0.33333333 | G16: =G12+G15 -> 0 | H16: =H12+H15 -> 0 | I16: =SUM(B16:H16) -> 1
A18: Remarque
K19: 2017
A20: SEMAINE N° | B20: LUNDI | C20: MARDI | D20: MERCREDI | E20: JEUDI | F20: VENDREDI | G20: SAMEDI | H20: DIMANCHE | I20: Total de la semaine | K20: 2018
A21: 6 | B21: 41310 | C21: 41311 | D21: 41312 | E21: 41313 | F21: 41314 | G21: 41315 | H21: 41316
B22: 1 | C22: =IF(OR(C20="LUNDI",C20="MARDI",C20="MERCREDI",C20="JEUDI",C20="VENDREDI"),1,0) -> 1 | D22: =IF(OR(D20="LUNDI",D20="MARDI",D20="MERCREDI",D20="JEUDI",D20="VENDREDI"),1,0) -> 1 | E22: =IF(OR(E20="LUNDI",E20="MARDI",E20="MERCREDI",E20="JEUDI",E20="VENDREDI"),1,0) -> 1 | F22: =IF(OR(F20="LUNDI",F20="MARDI",F20="MERCREDI",F20="JEUDI",F20="VENDREDI"),1,0) -> 1 | G22: =IF(OR(G20="LUNDI",G20="MARDI",G20="MERCREDI",G20="JEUDI",G20="VENDREDI"),1,0) -> 0 | H22: =IF(OR(H20="LUNDI",H20="MARDI",H20="MERCREDI",H20="JEUDI",H20="VENDREDI"),1,0) -> 0 | K22: 2019
A23: Arrivée | B23: 0.33333333 | C23: 0.33333333 | D23: 0.33333333 | E23: 0.33333333 | F23: 0.33333333 | I23: =SUM(B23:H23) -> 1.6666667 | K23: 2020
A24: Départ | B24: 0.5 | C24: 0.5 | D24: 0.5 | E24: 0.5 | F24: 0.5 | I24: =SUM(B24:H24) -> 2.5 | K24: 2021
A25: Total a.m | B25: =B24-B23 -> 0.16666667 | C25: =C24-C23 -> 0.16666667 | D25: =D24-D23 -> 0.16666667 | E25: =E24-E23 -> 0.16666667 | F25: =F24-F23 -> 0.16666667 | G25: =G24-G23 -> 0 | H25: =H24-H23 -> 0 | I25: =I24-I23 -> 0.83333333 | K25: 2022
A26: Arrivée | B26: 0.5625 | C26: 0.5625 | D26: 0.5625 | E26: 0.5625 | F26: 0.5625 | I26: =SUM(B26:H26) -> 2.8125 | K26: 2023
A27: Départ | B27: 0.72916667 | C27: 0.72916667 | D27: 0.72916667 | E27: 0.72916667 | F27: 0.72916667 | I27: =SUM(B27:H27) -> 3.6458333 | K27: 2024
A28: Total p.m | B28: =B27-B26 -> 0.16666667 | C28: =C27-C26 -> 0.16666667 | D28: =D27-D26 -> 0.16666667 | E28: =E27-E26 -> 0.16666667 | F28: =F27-F26 -> 0.16666667 | G28: =G27-G26 -> 0 | H28: =H27-H26 -> 0 | I28: =I27-I26 -> 0.83333333 | K28: 2025
A29: Total du jour (minute) | B29: =B25+B28 -> 0.33333333 | C29: =C25+C28 -> 0.33333333 | D29: =D25+D28 -> 0.33333333 | E29: =E25+E28 -> 0.33333333 | F29: =F25+F28 -> 0.33333333 | G29: =G25+G28 -> 0 | H29: =H25+H28 -> 0 | I29: =SUM(B29:H29) -> 1.6666667
A31: Remarque
K32: 2017
A33: SEMAINE N° | B33: LUNDI | C33: MARDI | D33: MERCREDI | E33: JEUDI | F33: VENDREDI | G33: SAMEDI | H33: DIMANCHE | I33: Total de la semaine
A34: 7 | B34: 41317 | C34: 41318 | D34: 41319 | E34: 41320 | F34: 41321 | G34: 41322 | H34: 41323
B35: =IF(OR(B33="LUNDI",B33="MARDI",B33="MERCREDI",B33="JEUDI",B33="VENDREDI"),1,0) -> 1 | C35: =IF(OR(C33="LUNDI",C33="MARDI",C33="MERCREDI",C33="JEUDI",C33="VENDREDI"),1,0) -> 1 | D35: =IF(OR(D33="LUNDI",D33="MARDI",D33="MERCREDI",D33="JEUDI",D33="VENDREDI"),1,0) -> 1 | E35: =IF(OR(E33="LUNDI",E33="MARDI",E33="MERCREDI",E33="JEUDI",E33="VENDREDI"),1,0) -> 1 | F35: =IF(OR(F33="LUNDI",F33="MARDI",F33="MERCREDI",F33="JEUDI",F33="VENDREDI"),1,0) -> 1 | G35: =IF(OR(G33="LUNDI",G33="MARDI",G33="MERCREDI",G33="JEUDI",G33="VENDREDI"),1,0) -> 0 | H35: =IF(OR(H33="LUNDI",H33="MARDI",H33="MERCREDI",H33="JEUDI",H33="VENDREDI"),1,0) -> 0
A36: Arrivée | B36: 0.33333333 | C36: 0.33333333 | D36: 0.33333333 | E36: 0.33333333 | F36: 0.33333333 | I36: =SUM(B36:H36) -> 1.6666667
A37: Départ | B37: 0.5 | C37: 0.5 | D37: 0.5 | E37: 0.5 | F37: 0.5 | I37: =SUM(B37:H37) -> 2.5
A38: Total a.m | B38: =B37-B36 -> 0.16666667 | C38: =C37-C36 -> 0.16666667 | D38: =D37-D36 -> 0.16666667 | E38: =E37-E36 -> 0.16666667 | F38: =F37-F36 -> 0.16666667 | G38: =G37-G36 -> 0 | H38: =H37-H36 -> 0 | I38: =I37-I36 -> 0.83333333
A39: Arrivée | B39: 0.5625 | C39: 0.5625 | D39: 0.5625 | E39: 0.5625 | F39: 0.5625 | I39: =SUM(B39:H39) -> 2.8125
A40: Départ | B40: 0.72916667 | C40: 0.72916667 | D40: 0.72916667 | E40: 0.72916667 | F40: 0.72916667 | I40: =SUM(B40:H40) -> 3.6458333
A41: Total p.m | B41: =B40-B39 -> 0.16666667 | C41: =C40-C39 -> 0.16666667 | D41: =D40-D39 -> 0.16666667 | E41: =E40-E39 -> 0.16666667 | F41: =F40-F39 -> 0.16666667 | G41: =G40-G39 -> 0 | H41: =H40-H39 -> 0 | I41: =I40-I39 -> 0.83333333
A42: Total du jour (minute) | B42: =B38+B41 -> 0.33333333 | C42: =C38+C41 -> 0.33333333 | D42: =D38+D41 -> 0.33333333 | E42: =E38+E41 -> 0.33333333 | F42: =F38+F41 -> 0.33333333 | G42: =G38+G41 -> 0 | H42: =H38+H41 -> 0 | I42: =SUM(B42:H42) -> 1.6666667
A44: Remarque
K45: 2017
A46: SEMAINE N° | B46: LUNDI | C46: MARDI | D46: MERCREDI | E46: JEUDI | F46: VENDREDI | G46: SAMEDI | H46: DIMANCHE | I46: Total de la semaine
A47: 8 | B47: 41324 | C47: 41325 | D47: 41326 | E47: 41327 | F47: 41328 | G47: 41329 | H47: 41330
B48: =IF(OR(B46="LUNDI",B46="MARDI",B46="MERCREDI",B46="JEUDI",B46="VENDREDI"),1,0) -> 1 | C48: =IF(OR(C46="LUNDI",C46="MARDI",C46="MERCREDI",C46="JEUDI",C46="VENDREDI"),1,0) -> 1 | D48: =IF(OR(D46="LUNDI",D46="MARDI",D46="MERCREDI",D46="JEUDI",D46="VENDREDI"),1,0) -> 1 | E48: =IF(OR(E46="LUNDI",E46="MARDI",E46="MERCREDI",E46="JEUDI",E46="VENDREDI"),1,0) -> 1 | F48: =IF(OR(F46="LUNDI",F46="MARDI",F46="MERCREDI",F46="JEUDI",F46="VENDREDI"),1,0) -> 1 | G48: =IF(OR(G46="LUNDI",G46="MARDI",G46="MERCREDI",G46="JEUDI",G46="VENDREDI"),1,0) -> 0 | H48: =IF(OR(H46="LUNDI",H46="MARDI",H46="MERCREDI",H46="JEUDI",H46="VENDREDI"),1,0) -> 0
A49: Arrivée | B49: 0.33333333 | C49: 0.33333333 | D49: 0.33333333 | E49: 0.33333333 | F49: 0.33333333 | I49: =SUM(B49:H49) -> 1.6666667
A50: Départ | B50: 0.5 | C50: 0.5 | D50: 0.5 | E50: 0.5 | F50: 0.5 | I50: =SUM(B50:H50) -> 2.5
A51: Total a.m | B51: =B50-B49 -> 0.16666667 | C51: =C50-C49 -> 0.16666667 | D51: =D50-D49 -> 0.16666667 | E51: =E50-E49 -> 0.16666667 | F51: =F50-F49 -> 0.16666667 | G51: =G50-G49 -> 0 | H51: =H50-H49 -> 0 | I51: =I50-I49 -> 0.83333333
A52: Arrivée | B52: 0.5625 | C52: 0.5625 | D52: 0.5625 | E52: 0.5625 | F52: 0.5625 | I52: =SUM(B52:H52) -> 2.8125
A53: Départ | B53: 0.72916667 | C53: 0.72916667 | D53: 0.72916667 | E53: 0.72916667 | F53: 0.72916667 | I53: =SUM(B53:H53) -> 3.6458333
A54: Total p.m | B54: =B53-B52 -> 0.16666667 | C54: =C53-C52 -> 0.16666667 | D54: =D53-D52 -> 0.16666667 | E54: =E53-E52 -> 0.16666667 | F54: =F53-F52 -> 0.16666667 | G54: =G53-G52 -> 0 | H54: =H53-H52 -> 0 | I54: =I53-I52 -> 0.83333333
A55: Total du jour (minute) | B55: =B51+B54 -> 0.33333333 | C55: =C51+C54 -> 0.33333333 | D55: =D51+D54 -> 0.33333333 | E55: =E51+E54 -> 0.33333333 | F55: =F51+F54 -> 0.33333333 | G55: =G51+G54 -> 0 | H55: =H51+H54 -> 0 | I55: =SUM(B55:H55) -> 1.6666667
A57: Remarque
K58: 2017
A59: SEMAINE N° | B59: LUNDI | C59: MARDI | D59: MERCREDI | E59: JEUDI | F59: VENDREDI | G59: SAMEDI | H59: DIMANCHE | I59: Total de la semaine
A60: 9 | B60: 41331 | C60: 41332
B61: =IF(OR(B59="LUNDI",B59="MARDI",B59="MERCREDI",B59="JEUDI",B59="VENDREDI"),1,0) -> 1 | C61: =IF(OR(C59="LUNDI",C59="MARDI",C59="MERCREDI",C59="JEUDI",C59="VENDREDI"),1,0) -> 1 | D61: 0 | E61: 0 | F61: 0 | G61: =IF(OR(G59="LUNDI",G59="MARDI",G59="MERCREDI",G59="JEUDI",G59="VENDREDI"),1,0) -> 0 | H61: =IF(OR(H59="LUNDI",H59="MARDI",H59="MERCREDI",H59="JEUDI",H59="VENDREDI"),1,0) -> 0
A62: Arrivée | B62: 0.33333333 | C62: 0.33333333 | I62: =SUM(B62:H62) -> 0.66666667
A63: Départ | B63: 0.5 | C63: 0.5 | I63: =SUM(B63:H63) -> 1
A64: Total a.m | B64: =B63-B62 -> 0.16666667 | C64: =C63-C62 -> 0.16666667 | D64: =D63-D62 -> 0 | E64: =E63-E62 -> 0 | F64: =F63-F62 -> 0 | G64: =G63-G62 -> 0 | H64: =H63-H62 -> 0 | I64: =I63-I62 -> 0.33333333
A65: Arrivée | B65: 0.5625 | C65: 0.5625 | I65: =SUM(B65:H65) -> 1.125
A66: Départ | B66: 0.72916667 | C66: 0.72916667 | I66: =SUM(B66:H66) -> 1.4583333
A67: Total p.m | B67: =B66-B65 -> 0.16666667 | C67: =C66-C65 -> 0.16666667 | D67: =D66-D65 -> 0 | E67: =E66-E65 -> 0 | F67: =F66-F65 -> 0 | G67: =G66-G65 -> 0 | H67: =H66-H65 -> 0 | I67: =I66-I65 -> 0.33333333
A68: Total du jour (minute) | B68: =B64+B67 -> 0.33333333 | C68: =C64+C67 -> 0.33333333 | D68: =D64+D67 -> 0 | E68: =E64+E67 -> 0 | F68: =F64+F67 -> 0 | G68: =G64+G67 -> 0 | H68: =H64+H67 -> 0 | I68: =SUM(B68:H68) -> 0.66666667
A70: Remarque
A72: TOTAL DES HEURES | C72: =(I68+I55+I42+I29+I16) -> 6.6666667
A74: NOMBRE DE JOURS | C74: =SUM(B9:H9,B22:H22,B35:H35,B48:H48,B61:H61,) -> 20 | D74: (Pour un 100%)
A75: NOMBRE D'HEURE PAR JOUR | C75: 0.33333333
A77: TOTAL HEURES A FAIRE | C77: =(C74*C75) -> 6.6666667
A79: Différence: | C79: =(C72-C77) -> 0

Sheet MARS
A1: Gestion des heures
A3: Nom : | D3: Mois: | E3: MARS | K3: JANVIER
A4: Prénom: | B4: ALAIN | D4: Année: | E4: 2017 | K4: FEVRIER
A5: Noter les heures sous la forme 8:00 et arrondisser vos heures. | K5: MARS
K6: AVRIL
A7: SEMAINE N° | B7: LUNDI | C7: MARDI | D7: MERCREDI | E7: JEUDI | F7: VENDREDI | G7: SAMEDI | H7: DIMANCHE | I7: Total de la semaine | K7: MAI
A8: 9 | D8: 41333 | E8: 41334 | F8: 41335 | G8: 41336 | H8: 41337 | K8: JUIN
B9: 0 | C9: 0 | D9: 1 | E9: 1 | F9: 1 | G9: =IF(OR(G7="LUNDI",G7="MARDI",G7="MERCREDI",G7="JEUDI",G7="VENDREDI"),1,0) -> 0 | H9: =IF(OR(H7="LUNDI",H7="MARDI",H7="MERCREDI",H7="JEUDI",H7="VENDREDI"),1,0) -> 0 | K9: JUIN
A10: Arrivée | D10: 0.33333333 | E10: 0.33333333 | F10: 0.33333333 | I10: =SUM(B10:H10) -> 1 | K10: JUILLET
A11: Départ | D11: 0.5 | E11: 0.5 | F11: 0.5 | I11: =SUM(B11:H11) -> 1.5 | K11: AOÛT
A12: Total a.m | B12: =B11-B10 -> 0 | C12: =C11-C10 -> 0 | D12: =D11-D10 -> 0.16666667 | E12: =E11-E10 -> 0.16666667 | F12: =F11-F10 -> 0.16666667 | G12: =G11-G10 -> 0 | H12: =H11-H10 -> 0 | I12: =I11-I10 -> 0.5 | K12: SEPTEMBRE
A13: Arrivée | D13: 0.5625 | E13: 0.5625 | F13: 0.5625 | I13: =SUM(B13:H13) -> 1.6875 | K13: OCTOBRE
A14: Départ | D14: 0.72916667 | E14: 0.72916667 | F14: 0.72916667 | I14: =SUM(B14:H14) -> 2.1875 | K14: NOVEMBRE
A15: Total p.m | B15: =B14-B13 -> 0 | C15: =C14-C13 -> 0 | D15: =D14-D13 -> 0.16666667 | E15: =E14-E13 -> 0.16666667 | F15: =F14-F13 -> 0.16666667 | G15: =G14-G13 -> 0 | H15: =H14-H13 -> 0 | I15: =I14-I13 -> 0.5 | K15: DÉCEMBRE
A16: Total du jour (minute) | B16: =B12+B15 -> 0 | C16: =C12+C15 -> 0 | D16: =D12+D15 -> 0.33333333 | E16: =E12+E15 -> 0.33333333 | F16: =F12+F15 -> 0.33333333 | G16: =G12+G15 -> 0 | H16: =H12+H15 -> 0 | I16: =SUM(B16:H16) -> 1
A18: Remarque
K19: 2017
A20: SEMAINE N° | B20: LUNDI | C20: MARDI | D20: MERCREDI | E20: JEUDI | F20: VENDREDI | G20: SAMEDI | H20: DIMANCHE | I20: Total de la semaine | K20: 2018
A21: 10 | B21: 41338 | C21: 41339 | D21: 41340 | E21: 41341 | F21: 41342 | G21: 41343 | H21: 41344
B22: 1 | C22: =IF(OR(C20="LUNDI",C20="MARDI",C20="MERCREDI",C20="JEUDI",C20="VENDREDI"),1,0) -> 1 | D22: =IF(OR(D20="LUNDI",D20="MARDI",D20="MERCREDI",D20="JEUDI",D20="VENDREDI"),1,0) -> 1 | E22: =IF(OR(E20="LUNDI",E20="MARDI",E20="MERCREDI",E20="JEUDI",E20="VENDREDI"),1,0) -> 1 | F22: =IF(OR(F20="LUNDI",F20="MARDI",F20="MERCREDI",F20="JEUDI",F20="VENDREDI"),1,0) -> 1 | G22: =IF(OR(G20="LUNDI",G20="MARDI",G20="MERCREDI",G20="JEUDI",G20="VENDREDI"),1,0) -> 0 | H22: =IF(OR(H20="LUNDI",H20="MARDI",H20="MERCREDI",H20="JEUDI",H20="VENDREDI"),1,0) -> 0 | K22: 2019
A23: Arrivée | B23: 0.33333333 | C23: 0.33333333 | D23: 0.33333333 | E23: 0.33333333 | F23: 0.33333333 | I23: =SUM(B23:H23) -> 1.6666667 | K23: 2020
A24: Départ | B24: 0.5 | C24: 0.5 | D24: 0.5 | E24: 0.5 | F24: 0.5 | I24: =SUM(B24:H24) -> 2.5 | K24: 2021
A25: Total a.m | B25: =B24-B23 -> 0.16666667 | C25: =C24-C23 -> 0.16666667 | D25: =D24-D23 -> 0.16666667 | E25: =E24-E23 -> 0.16666667 | F25: =F24-F23 -> 0.16666667 | G25: =G24-G23 -> 0 | H25: =H24-H23 -> 0 | I25: =I24-I23 -> 0.83333333 | K25: 2022
A26: Arrivée | B26: 0.5625 | C26: 0.5625 | D26: 0.5625 | E26: 0.5625 | F26: 0.5625 | I26: =SUM(B26:H26) -> 2.8125 | K26: 2023
A27: Départ | B27: 0.72916667 | C27: 0.72916667 | D27: 0.72916667 | E27: 0.72916667 | F27: 0.72916667 | I27: =SUM(B27:H27) -> 3.6458333 | K27: 2024
A28: Total p.m | B28: =B27-B26 -> 0.16666667 | C28: =C27-C26 -> 0.16666667 | D28: =D27-D26 -> 0.16666667 | E28: =E27-E26 -> 0.16666667 | F28: =F27-F26 -> 0.16666667 | G28: =G27-G26 -> 0 | H28: =H27-H26 -> 0 | I28: =I27-I26 -> 0.83333333 | K28: 2025
A29: Total du jour (minute) | B29: =B25+B28 -> 0.33333333 | C29: =C25+C28 -> 0.33333333 | D29: =D25+D28 -> 0.33333333 | E29: =E25+E28 -> 0.33333333 | F29: =F25+F28 -> 0.33333333 | G29: =G25+G28 -> 0 | H29: =H25+H28 -> 0 | I29: =SUM(B29:H29) -> 1.6666667
A31: Remarque
K32: 2017
A33: SEMAINE N° | B33: LUNDI | C33: MARDI | D33: MERCREDI | E33: JEUDI | F33: VENDREDI | G33: SAMEDI | H33: DIMANCHE | I33: Total de la semaine
A34: 11 | B34: 41345 | C34: 41346 | D34: 41347 | E34: 41348 | F34: 41349 | G34: 41350 | H34: 41351
B35: =IF(OR(B33="LUNDI",B33="MARDI",B33="MERCREDI",B33="JEUDI",B33="VENDREDI"),1,0) -> 1 | C35: =IF(OR(C33="LUNDI",C33="MARDI",C33="MERCREDI",C33="JEUDI",C33="VENDREDI"),1,0) -> 1 | D35: =IF(OR(D33="LUNDI",D33="MARDI",D33="MERCREDI",D33="JEUDI",D33="VENDREDI"),1,0) -> 1 | E35: =IF(OR(E33="LUNDI",E33="MARDI",E33="MERCREDI",E33="JEUDI",E33="VENDREDI"),1,0) -> 1 | F35: =IF(OR(F33="LUNDI",F33="MARDI",F33="MERCREDI",F33="JEUDI",F33="VENDREDI"),1,0) -> 1 | G35: =IF(OR(G33="LUNDI",G33="MARDI",G33="MERCREDI",G33="JEUDI",G33="VENDREDI"),1,0) -> 0 | H35: =IF(OR(H33="LUNDI",H33="MARDI",H33="MERCREDI",H33="JEUDI",H33="VENDREDI"),1,0) -> 0
A36: Arrivée | B36: 0.33333333 | C36: 0.33333333 | D36: 0.33333333 | E36: 0.33333333 | F36: 0.33333333 | I36: =SUM(B36:H36) -> 1.6666667
A37: Départ | B37: 0.5 | C37: 0.5 | D37: 0.5 | E37: 0.5 | F37: 0.5 | I37: =SUM(B37:H37) -> 2.5
A38: Total a.m | B38: =B37-B36 -> 0.16666667 | C38: =C37-C36 -> 0.16666667 | D38: =D37-D36 -> 0.16666667 | E38: =E37-E36 -> 0.16666667 | F38: =F37-F36 -> 0.16666667 | G38: =G37-G36 -> 0 | H38: =H37-H36 -> 0 | I38: =I37-I36 -> 0.83333333
A39: Arrivée | B39: 0.5625 | C39: 0.5625 | D39: 0.5625 | E39: 0.5625 | F39: 0.5625 | I39: =SUM(B39:H39) -> 2.8125
A40: Départ | B40: 0.72916667 | C40: 0.72916667 | D40: 0.72916667 | E40: 0.72916667 | F40: 0.72916667 | I40: =SUM(B40:H40) -> 3.6458333
A41: Total p.m | B41: =B40-B39 -> 0.16666667 | C41: =C40-C39 -> 0.16666667 | D41: =D40-D39 -> 0.16666667 | E41: =E40-E39 -> 0.16666667 | F41: =F40-F39 -> 0.16666667 | G41: =G40-G39 -> 0 | H41: =H40-H39 -> 0 | I41: =I40-I39 -> 0.83333333
A42: Total du jour (minute) | B42: =B38+B41 -> 0.33333333 | C42: =C38+C41 -> 0.33333333 | D42: =D38+D41 -> 0.33333333 | E42: =E38+E41 -> 0.33333333 | F42: =F38+F41 -> 0.33333333 | G42: =G38+G41 -> 0 | H42: =H38+H41 -> 0 | I42: =SUM(B42:H42) -> 1.6666667
A44: Remarque
K45: 2017
A46: SEMAINE N° | B46: LUNDI | C46: MARDI | D46: MERCREDI | E46: JEUDI | F46: VENDREDI | G46: SAMEDI | H46: DIMANCHE | I46: Total de la semaine
A47: 12 | B47: 41352 | C47: 41353 | D47: 41354 | E47: 41355 | F47: 41356 | G47: 41357 | H47: 41358
B48: =IF(OR(B46="LUNDI",B46="MARDI",B46="MERCREDI",B46="JEUDI",B46="VENDREDI"),1,0) -> 1 | C48: =IF(OR(C46="LUNDI",C46="MARDI",C46="MERCREDI",C46="JEUDI",C46="VENDREDI"),1,0) -> 1 | D48: =IF(OR(D46="LUNDI",D46="MARDI",D46="MERCREDI",D46="JEUDI",D46="VENDREDI"),1,0) -> 1 | E48: =IF(OR(E46="LUNDI",E46="MARDI",E46="MERCREDI",E46="JEUDI",E46="VENDREDI"),1,0) -> 1 | F48: =IF(OR(F46="LUNDI",F46="MARDI",F46="MERCREDI",F46="JEUDI",F46="VENDREDI"),1,0) -> 1 | G48: =IF(OR(G46="LUNDI",G46="MARDI",G46="MERCREDI",G46="JEUDI",G46="VENDREDI"),1,0) -> 0 | H48: =IF(OR(H46="LUNDI",H46="MARDI",H46="MERCREDI",H46="JEUDI",H46="VENDREDI"),1,0) -> 0
A49: Arrivée | B49: 0.33333333 | C49: 0.33333333 | D49: 0.33333333 | E49: 0.33333333 | F49: 0.33333333 | I49: =SUM(B49:H49) -> 1.6666667
A50: Départ | B50: 0.5 | C50: 0.5 | D50: 0.5 | E50: 0.5 | F50: 0.5 | I50: =SUM(B50:H50) -> 2.5
A51: Total a.m | B51: =B50-B49 -> 0.16666667 | C51: =C50-C49 -> 0.16666667 | D51: =D50-D49 -> 0.16666667 | E51: =E50-E49 -> 0.16666667 | F51: =F50-F49 -> 0.16666667 | G51: =G50-G49 -> 0 | H51: =H50-H49 -> 0 | I51: =I50-I49 -> 0.83333333
A52: Arrivée | B52: 0.5625 | C52: 0.5625 | D52: 0.5625 | E52: 0.5625 | F52: 0.5625 | I52: =SUM(B52:H52) -> 2.8125
A53: Départ | B53: 0.72916667 | C53: 0.72916667 | D53: 0.72916667 | E53: 0.72916667 | F53: 0.72916667 | I53: =SUM(B53:H53) -> 3.6458333
A54: Total p.m | B54: =B53-B52 -> 0.16666667 | C54: =C53-C52 -> 0.16666667 | D54: =D53-D52 -> 0.16666667 | E54: =E53-E52 -> 0.16666667 | F54: =F53-F52 -> 0.16666667 | G54: =G53-G52 -> 0 | H54: =H53-H52 -> 0 | I54: =I53-I52 -> 0.83333333
A55: Total du jour (minute) | B55: =B51+B54 -> 0.33333333 | C55: =C51+C54 -> 0.33333333 | D55: =D51+D54 -> 0.33333333 | E55: =E51+E54 -> 0.33333333 | F55: =F51+F54 -> 0.33333333 | G55: =G51+G54 -> 0 | H55: =H51+H54 -> 0 | I55: =SUM(B55:H55) -> 1.6666667
A57: Remarque
K58: 2017
A59: SEMAINE N° | B59: LUNDI | C59: MARDI | D59: MERCREDI | E59: JEUDI | F59: VENDREDI | G59: SAMEDI | H59: DIMANCHE | I59: Total de la semaine
A60: 13 | B60: 41359 | C60: 41360 | D60: 41361 | E60: 41362 | F60: 41363
B61: =IF(OR(B59="LUNDI",B59="MARDI",B59="MERCREDI",B59="JEUDI",B59="VENDREDI"),1,0) -> 1 | C61: =IF(OR(C59="LUNDI",C59="MARDI",C59="MERCREDI",C59="JEUDI",C59="VENDREDI"),1,0) -> 1 | D61: 1 | E61: 1 | F61: 1 | G61: =IF(OR(G59="LUNDI",G59="MARDI",G59="MERCREDI",G59="JEUDI",G59="VENDREDI"),1,0) -> 0 | H61: =IF(OR(H59="LUNDI",H59="MARDI",H59="MERCREDI",H59="JEUDI",H59="VENDREDI"),1,0) -> 0
A62: Arrivée | B62: 0.33333333 | C62: 0.33333333 | D62: 0.33333333 | E62: 0.33333333 | F62: 0.33333333 | I62: =SUM(B62:H62) -> 1.6666667
A63: Départ | B63: 0.5 | C63: 0.5 | D63: 0.5 | E63: 0.5 | F63: 0.5 | I63: =SUM(B63:H63) -> 2.5
A64: Total a.m | B64: =B63-B62 -> 0.16666667 | C64: =C63-C62 -> 0.16666667 | D64: =D63-D62 -> 0.16666667 | E64: =E63-E62 -> 0.16666667 | F64: =F63-F62 -> 0.16666667 | G64: =G63-G62 -> 0 | H64: =H63-H62 -> 0 | I64: =I63-I62 -> 0.83333333
A65: Arrivée | B65: 0.5625 | C65: 0.5625 | D65: 0.5625 | E65: 0.5625 | F65: 0.5625 | I65: =SUM(B65:H65) -> 2.8125
A66: Départ | B66: 0.72916667 | C66: 0.72916667 | D66: 0.72916667 | E66: 0.72916667 | F66: 0.72916667 | I66: =SUM(B66:H66) -> 3.6458333
A67: Total p.m | B67: =B66-B65 -> 0.16666667 | C67: =C66-C65 -> 0.16666667 | D67: =D66-D65 -> 0.16666667 | E67: =E66-E65 -> 0.16666667 | F67: =F66-F65 -> 0.16666667 | G67: =G66-G65 -> 0 | H67: =H66-H65 -> 0 | I67: =I66-I65 -> 0.83333333
A68: Total du jour (minute) | B68: =B64+B67 -> 0.33333333 | C68: =C64+C67 -> 0.33333333 | D68: =D64+D67 -> 0.33333333 | E68: =E64+E67 -> 0.33333333 | F68: =F64+F67 -> 0.33333333 | G68: =G64+G67 -> 0 | H68: =H64+H67 -> 0 | I68: =SUM(B68:H68) -> 1.6666667
A70: Remarque
A72: TOTAL DES HEURES | C72: =(I68+I55+I42+I29+I16) -> 7.6666667
A74: NOMBRE DE JOURS | C74: =SUM(B9:H9,B22:H22,B35:H35,B48:H48,B61:H61,) -> 23 | D74: (Pour un 100%)
A75: NOMBRE D'HEURE PAR JOUR | C75: 0.33333333
A77: TOTAL HEURES A FAIRE | C77: =(C74*C75) -> 7.6666667
A79: Différence: | C79: =(C72-C77) -> 0

Sheet AVRIL
A1: Gestion des heures
A3: Nom : | D3: Mois: | E3: AVRIL | K3: JANVIER
A4: Prénom: | B4: ALAIN | D4: Année: | E4: 2017 | K4: FEVRIER
A5: Noter les heures sous la forme 8:00 et arrondisser vos heures. | K5: MARS
K6: AVRIL
A7: SEMAINE N° | B7: LUNDI | C7: MARDI | D7: MERCREDI | E7: JEUDI | F7: VENDREDI | G7: SAMEDI | H7: DIMANCHE | I7: Total de la semaine | K7: MAI
A8: 13 | G8: 41364 | H8: 41365 | K8: JUIN
B9: 0 | C9: 0 | D9: 0 | E9: 0 | F9: 0 | G9: =IF(OR(G7="LUNDI",G7="MARDI",G7="MERCREDI",G7="JEUDI",G7="VENDREDI"),1,0) -> 0 | H9: =IF(OR(H7="LUNDI",H7="MARDI",H7="MERCREDI",H7="JEUDI",H7="VENDREDI"),1,0) -> 0 | K9: JUIN
A10: Arrivée | I10: =SUM(B10:H10) -> 0 | K10: JUILLET
A11: Départ | I11: =SUM(B11:H11) -> 0 | K11: AOÛT
A12: Total a.m | B12: =B11-B10 -> 0 | C12: =C11-C10 -> 0 | D12: =D11-D10 -> 0 | E12: =E11-E10 -> 0 | F12: =F11-F10 -> 0 | G12: =G11-G10 -> 0 | H12: =H11-H10 -> 0 | I12: =I11-I10 -> 0 | K12: SEPTEMBRE
A13: Arrivée | I13: =SUM(B13:H13) -> 0 | K13: OCTOBRE
A14: Départ | I14: =SUM(B14:H14) -> 0 | K14: NOVEMBRE
A15: Total p.m | B15: =B14-B13 -> 0 | C15: =C14-C13 -> 0 | D15: =D14-D13 -> 0 | E15: =E14-E13 -> 0 | F15: =F14-F13 -> 0 | G15: =G14-G13 -> 0 | H15: =H14-H13 -> 0 | I15: =I14-I13 -> 0 | K15: DÉCEMBRE
A16: Total du jour (minute) | B16: =B12+B15 -> 0 | C16: =C12+C15 -> 0 | D16: =D12+D15 -> 0 | E16: =E12+E15 -> 0 | F16: =F12+F15 -> 0 | G16: =G12+G15 -> 0 | H16: =H12+H15 -> 0 | I16: =SUM(B16:H16) -> 0
A18: Remarque
K19: 2017
A20: SEMAINE N° | B20: LUNDI | C20: MARDI | D20: MERCREDI | E20: JEUDI | F20: VENDREDI | G20: SAMEDI | H20: DIMANCHE | I20: Total de la semaine | K20: 2018
A21: 14 | B21: 41366 | C21: 41367 | D21: 41368 | E21: 41369 | F21: 41370 | G21: 41371 | H21: 41372
B22: 1 | C22: =IF(OR(C20="LUNDI",C20="MARDI",C20="MERCREDI",C20="JEUDI",C20="VENDREDI"),1,0) -> 1 | D22: =IF(OR(D20="LUNDI",D20="MARDI",D20="MERCREDI",D20="JEUDI",D20="VENDREDI"),1,0) -> 1 | E22: =IF(OR(E20="LUNDI",E20="MARDI",E20="MERCREDI",E20="JEUDI",E20="VENDREDI"),1,0) -> 1 | F22: =IF(OR(F20="LUNDI",F20="MARDI",F20="MERCREDI",F20="JEUDI",F20="VENDREDI"),1,0) -> 1 | G22: =IF(OR(G20="LUNDI",G20="MARDI",G20="MERCREDI",G20="JEUDI",G20="VENDREDI"),1,0) -> 0 | H22: =IF(OR(H20="LUNDI",H20="MARDI",H20="MERCREDI",H20="JEUDI",H20="VENDREDI"),1,0) -> 0 | K22: 2019
A23: Arrivée | B23: 0.33333333 | C23: 0.33333333 | D23: 0.33333333 | E23: 0.33333333 | F23: 0.33333333 | I23: =SUM(B23:H23) -> 1.6666667 | K23: 2020
A24: Départ | B24: 0.5 | C24: 0.5 | D24: 0.5 | E24: 0.5 | F24: 0.5 | I24: =SUM(B24:H24) -> 2.5 | K24: 2021
A25: Total a.m | B25: =B24-B23 -> 0.16666667 | C25: =C24-C23 -> 0.16666667 | D25: =D24-D23 -> 0.16666667 | E25: =E24-E23 -> 0.16666667 | F25: =F24-F23 -> 0.16666667 | G25: =G24-G23 -> 0 | H25: =H24-H23 -> 0 | I25: =I24-I23 -> 0.83333333 | K25: 2022
A26: Arrivée | B26: 0.5625 | C26: 0.5625 | D26: 0.5625 | E26: 0.5625 | F26: 0.5625 | I26: =SUM(B26:H26) -> 2.8125 | K26: 2023
A27: Départ | B27: 0.72916667 | C27: 0.72916667 | D27: 0.72916667 | E27: 0.72916667 | F27: 0.72916667 | I27: =SUM(B27:H27) -> 3.6458333 | K27: 2024
A28: Total p.m | B28: =B27-B26 -> 0.16666667 | C28: =C27-C26 -> 0.16666667 | D28: =D27-D26 -> 0.16666667 | E28: =E27-E26 -> 0.16666667 | F28: =F27-F26 -> 0.16666667 | G28: =G27-G26 -> 0 | H28: =H27-H26 -> 0 | I28: =I27-I26 -> 0.83333333 | K28: 2025
A29: Total du jour (minute) | B29: =B25+B28 -> 0.33333333 | C29: =C25+C28 -> 0.33333333 | D29: =D25+D28 -> 0.33333333 | E29: =E25+E28 -> 0.33333333 | F29: =F25+F28 -> 0.33333333 | G29: =G25+G28 -> 0 | H29: =H25+H28 -> 0 | I29: =SUM(B29:H29) -> 1.6666667
A31: Remarque
K32: 2017
A33: SEMAINE N° | B33: LUNDI | C33: MARDI | D33: MERCREDI | E33: JEUDI | F33: VENDREDI | G33: SAMEDI | H33: DIMANCHE | I33: Total de la semaine
A34: 15 | B34: 41373 | C34: 41374 | D34: 41375 | E34: 41376 | F34: 41377 | G34: 41378 | H34: 41379
B35: =IF(OR(B33="LUNDI",B33="MARDI",B33="MERCREDI",B33="JEUDI",B33="VENDREDI"),1,0) -> 1 | C35: =IF(OR(C33="LUNDI",C33="MARDI",C33="MERCREDI",C33="JEUDI",C33="VENDREDI"),1,0) -> 1 | D35: =IF(OR(D33="LUNDI",D33="MARDI",D33="MERCREDI",D33="JEUDI",D33="VENDREDI"),1,0) -> 1 | E35: =IF(OR(E33="LUNDI",E33="MARDI",E33="MERCREDI",E33="JEUDI",E33="VENDREDI"),1,0) -> 1 | F35: 0 | G35: =IF(OR(G33="LUNDI",G33="MARDI",G33="MERCREDI",G33="JEUDI",G33="VENDREDI"),1,0) -> 0 | H35: =IF(OR(H33="LUNDI",H33="MARDI",H33="MERCREDI",H33="JEUDI",H33="VENDREDI"),1,0) -> 0
A36: Arrivée | B36: 0.33333333 | C36: 0.33333333 | D36: 0.33333333 | E36: 0.33333333 | F36: CONGE OFFICIEL | I36: =SUM(B36:H36) -> 1.3333333
A37: Départ | B37: 0.5 | C37: 0.5 | D37: 0.5 | E37: 0.5 | I37: =SUM(B37:H37) -> 2
A38: Total a.m | B38: =B37-B36 -> 0.16666667 | C38: =C37-C36 -> 0.16666667 | D38: =D37-D36 -> 0.16666667 | E38: =E37-E36 -> 0.16666667 | G38: =G37-G36 -> 0 | H38: =H37-H36 -> 0 | I38: =I37-I36 -> 0.66666667
A39: Arrivée | B39: 0.5625 | C39: 0.5625 | D39: 0.5625 | E39: 0.5625 | I39: =SUM(B39:H39) -> 2.25
A40: Départ | B40: 0.72916667 | C40: 0.72916667 | D40: 0.72916667 | E40: 0.72916667 | I40: =SUM(B40:H40) -> 2.9166667
A41: Total p.m | B41: =B40-B39 -> 0.16666667 | C41: =C40-C39 -> 0.16666667 | D41: =D40-D39 -> 0.16666667 | E41: =E40-E39 -> 0.16666667 | G41: =G40-G39 -> 0 | H41: =H40-H39 -> 0 | I41: =I40-I39 -> 0.66666667
A42: Total du jour (minute) | B42: =B38+B41 -> 0.33333333 | C42: =C38+C41 -> 0.33333333 | D42: =D38+D41 -> 0.33333333 | E42: =E38+E41 -> 0.33333333 | F42: =F38+F41 -> 0 | G42: =G38+G41 -> 0 | H42: =H38+H41 -> 0 | I42: =SUM(B42:H42) -> 1.3333333
A44: Remarque
K45: 2017
A46: SEMAINE N° | B46: LUNDI | C46: MARDI | D46: MERCREDI | E46: JEUDI | F46: VENDREDI | G46: SAMEDI | H46: DIMANCHE | I46: Total de la semaine
A47: 16 | B47: 41380 | C47: 41381 | D47: 41382 | E47: 41383 | F47: 41384 | G47: 41385 | H47: 41386
B48: 0 | C48: =IF(OR(C46="LUNDI",C46="MARDI",C46="MERCREDI",C46="JEUDI",C46="VENDREDI"),1,0) -> 1 | D48: =IF(OR(D46="LUNDI",D46="MARDI",D46="MERCREDI",D46="JEUDI",D46="VENDREDI"),1,0) -> 1 | E48: =IF(OR(E46="LUNDI",E46="MARDI",E46="MERCREDI",E46="JEUDI",E46="VENDREDI"),1,0) -> 1 | F48: =IF(OR(F46="LUNDI",F46="MARDI",F46="MERCREDI",F46="JEUDI",F46="VENDREDI"),1,0) -> 1 | G48: =IF(OR(G46="LUNDI",G46="MARDI",G46="MERCREDI",G46="JEUDI",G46="VENDREDI"),1,0) -> 0 | H48: =IF(OR(H46="LUNDI",H46="MARDI",H46="MERCREDI",H46="JEUDI",H46="VENDREDI"),1,0) -> 0
A49: Arrivée | B49: CONGE OFFICIEL | C49: 0.33333333 | D49: 0.33333333 | E49: 0.33333333 | F49: 0.33333333 | I49: =SUM(B49:H49) -> 1.3333333
A50: Départ | C50: 0.5 | D50: 0.5 | E50: 0.5 | F50: 0.5 | I50: =SUM(B50:H50) -> 2
A51: Total a.m | C51: =C50-C49 -> 0.16666667 | D51: =D50-D49 -> 0.16666667 | E51: =E50-E49 -> 0.16666667 | F51: =F50-F49 -> 0.16666667 | G51: =G50-G49 -> 0 | H51: =H50-H49 -> 0 | I51: =I50-I49 -> 0.66666667
A52: Arrivée | C52: 0.5625 | D52: 0.5625 | E52: 0.5625 | F52: 0.5625 | I52: =SUM(B52:H52) -> 2.25
A53: Départ | C53: 0.72916667 | D53: 0.72916667 | E53: 0.72916667 | F53: 0.72916667 | I53: =SUM(B53:H53) -> 2.9166667
A54: Total p.m | C54: =C53-C52 -> 0.16666667 | D54: =D53-D52 -> 0.16666667 | E54: =E53-E52 -> 0.16666667 | F54: =F53-F52 -> 0.16666667 | G54: =G53-G52 -> 0 | H54: =H53-H52 -> 0 | I54: =I53-I52 -> 0.66666667
A55: Total du jour (minute) | B55: =B51+B54 -> 0 | C55: =C51+C54 -> 0.33333333 | D55: =D51+D54 -> 0.33333333 | E55: =E51+E54 -> 0.33333333 | F55: =F51+F54 -> 0.33333333 | G55: =G51+G54 -> 0 | H55: =H51+H54 -> 0 | I55: =SUM(B55:H55) -> 1.3333333
A57: Remarque
K58: 2017
A59: SEMAINE N° | B59: LUNDI | C59: MARDI | D59: MERCREDI | E59: JEUDI | F59: VENDREDI | G59: SAMEDI | H59: DIMANCHE | I59: Total de la semaine
A60: 17 | B60: 41387 | C60: 41388 | D60: 41389 | E60: 41390 | F60: 41391 | G60: 41392 | H60: 41393
B61: =IF(OR(B59="LUNDI",B59="MARDI",B59="MERCREDI",B59="JEUDI",B59="VENDREDI"),1,0) -> 1 | C61: =IF(OR(C59="LUNDI",C59="MARDI",C59="MERCREDI",C59="JEUDI",C59="VENDREDI"),1,0) -> 1 | D61: 1 | E61: 1 | F61: 1 | G61: =IF(OR(G59="LUNDI",G59="MARDI",G59="MERCREDI",G59="JEUDI",G59="VENDREDI"),1,0) -> 0 | H61: =IF(OR(H59="LUNDI",H59="MARDI",H59="MERCREDI",H59="JEUDI",H59="VENDREDI"),1,0) -> 0
A62: Arrivée | B62: 0.33333333 | C62: 0.33333333 | D62: 0.33333333 | E62: 0.33333333 | F62: 0.33333333 | I62: =SUM(B62:H62) -> 1.6666667
A63: Départ | B63: 0.5 | C63: 0.5 | D63: 0.5 | E63: 0.5 | F63: 0.5 | I63: =SUM(B63:H63) -> 2.5
A64: Total a.m | B64: =B63-B62 -> 0.16666667 | C64: =C63-C62 -> 0.16666667 | D64: =D63-D62 -> 0.16666667 | E64: =E63-E62 -> 0.16666667 | F64: =F63-F62 -> 0.16666667 | G64: =G63-G62 -> 0 | H64: =H63-H62 -> 0 | I64: =I63-I62 -> 0.83333333
A65: Arrivée | B65: 0.5625 | C65: 0.5625 | D65: 0.5625 | E65: 0.5625 | F65: 0.5625 | I65: =SUM(B65:H65) -> 2.8125
A66: Départ | B66: 0.72916667 | C66: 0.72916667 | D66: 0.72916667 | E66: 0.72916667 | F66: 0.72916667 | I66: =SUM(B66:H66) -> 3.6458333
A67: Total p.m | B67: =B66-B65 -> 0.16666667 | C67: =C66-C65 -> 0.16666667 | D67: =D66-D65 -> 0.16666667 | E67: =E66-E65 -> 0.16666667 | F67: =F66-F65 -> 0.16666667 | G67: =G66-G65 -> 0 | H67: =H66-H65 -> 0 | I67: =I66-I65 -> 0.83333333
A68: Total du jour (minute) | B68: =B64+B67 -> 0.33333333 | C68: =C64+C67 -> 0.33333333 | D68: =D64+D67 -> 0.33333333 | E68: =E64+E67 -> 0.33333333 | F68: =F64+F67 -> 0.33333333 | G68: =G64+G67 -> 0 | H68: =H64+H67 -> 0 | I68: =SUM(B68:H68) -> 1.6666667
A70: Remarque
A72: TOTAL DES HEURES | C72: =(I68+I55+I42+I29+I16) -> 6
A74: NOMBRE DE JOURS | C74: =SUM(B9:H9,B22:H22,B35:H35,B48:H48,B61:H61,) -> 18 | D74: (Pour un 100%)
A75: NOMBRE D'HEURE PAR JOUR | C75: 0.33333333
A77: TOTAL HEURES A FAIRE | C77: =(C74*C75) -> 6
A79: Différence: | C79: =(C72-C77) -> 0

Sheet MAI
A1: Gestion des heures
A3: Nom : | D3: Mois: | E3: MAI | K3: JANVIER
A4: Prénom: | B4: ALAIN | D4: Année: | E4: 2017 | K4: FEVRIER
A5: Noter les heures sous la forme 8:00 et arrondisser vos heures. | K5: MARS
K6: AVRIL
A7: SEMAINE N° | B7: LUNDI | C7: MARDI | D7: MERCREDI | E7: JEUDI | F7: VENDREDI | G7: SAMEDI | H7: DIMANCHE | I7: Total de la semaine | K7: MAI
A8: 18 | B8: 41394 | C8: 41395 | D8: 41396 | E8: 41397 | F8: 41398 | G8: 41399 | H8: 41400 | K8: JUIN
B9: 1 | C9: 1 | D9: 1 | E9: 1 | F9: 1 | G9: =IF(OR(G7="LUNDI",G7="MARDI",G7="MERCREDI",G7="JEUDI",G7="VENDREDI"),1,0) -> 0 | H9: =IF(OR(H7="LUNDI",H7="MARDI",H7="MERCREDI",H7="JEUDI",H7="VENDREDI"),1,0) -> 0 | K9: JUIN
A10: Arrivée | B10: 0.33333333 | C10: 0.33333333 | D10: 0.33333333 | E10: 0.33333333 | F10: 0.33333333 | I10: =SUM(B10:H10) -> 1.6666667 | K10: JUILLET
A11: Départ | B11: 0.5 | C11: 0.5 | D11: 0.5 | E11: 0.5 | F11: 0.5 | I11: =SUM(B11:H11) -> 2.5 | K11: AOÛT
A12: Total a.m | B12: =B11-B10 -> 0.16666667 | C12: =C11-C10 -> 0.16666667 | D12: =D11-D10 -> 0.16666667 | E12: =E11-E10 -> 0.16666667 | F12: =F11-F10 -> 0.16666667 | G12: =G11-G10 -> 0 | H12: =H11-H10 -> 0 | I12: =I11-I10 -> 0.83333333 | K12: SEPTEMBRE
A13: Arrivée | B13: 0.5625 | C13: 0.5625 | D13: 0.5625 | E13: 0.5625 | F13: 0.5625 | I13: =SUM(B13:H13) -> 2.8125 | K13: OCTOBRE
A14: Départ | B14: 0.72916667 | C14: 0.72916667 | D14: 0.72916667 | E14: 0.72916667 | F14: 0.72916667 | I14: =SUM(B14:H14) -> 3.6458333 | K14: NOVEMBRE
A15: Total p.m | B15: =B14-B13 -> 0.16666667 | C15: =C14-C13 -> 0.16666667 | D15: =D14-D13 -> 0.16666667 | E15: =E14-E13 -> 0.16666667 | F15: =F14-F13 -> 0.16666667 | G15: =G14-G13 -> 0 | H15: =H14-H13 -> 0 | I15: =I14-I13 -> 0.83333333 | K15: DÉCEMBRE
A16: Total du jour (minute) | B16: =B12+B15 -> 0.33333333 | C16: =C12+C15 -> 0.33333333 | D16: =D12+D15 -> 0.33333333 | E16: =E12+E15 -> 0.33333333 | F16: =F12+F15 -> 0.33333333 | G16: =G12+G15 -> 0 | H16: =H12+H15 -> 0 | I16: =SUM(B16:H16) -> 1.6666667
A18: Remarque
K19: 2017
A20: SEMAINE N° | B20: LUNDI | C20: MARDI | D20: MERCREDI | E20: JEUDI | F20: VENDREDI | G20: SAMEDI | H20: DIMANCHE | I20: Total de la semaine | K20: 2018
A21: 19 | B21: 41401 | C21: 41402 | D21: 41403 | E21: 41404 | F21: 41405 | G21: 41406 | H21: 41407
B22: 1 | C22: =IF(OR(C20="LUNDI",C20="MARDI",C20="MERCREDI",C20="JEUDI",C20="VENDREDI"),1,0) -> 1 | D22: =IF(OR(D20="LUNDI",D20="MARDI",D20="MERCREDI",D20="JEUDI",D20="VENDREDI"),1,0) -> 1 | E22: =IF(OR(E20="LUNDI",E20="MARDI",E20="MERCREDI",E20="JEUDI",E20="VENDREDI"),1,0) -> 1 | F22: =IF(OR(F20="LUNDI",F20="MARDI",F20="MERCREDI",F20="JEUDI",F20="VENDREDI"),1,0) -> 1 | G22: =IF(OR(G20="LUNDI",G20="MARDI",G20="MERCREDI",G20="JEUDI",G20="VENDREDI"),1,0) -> 0 | H22: =IF(OR(H20="LUNDI",H20="MARDI",H20="MERCREDI",H20="JEUDI",H20="VENDREDI"),1,0) -> 0 | K22: 2019
A23: Arrivée | B23: 0.33333333 | C23: 0.33333333 | D23: 0.33333333 | E23: 0.33333333 | F23: 0.33333333 | I23: =SUM(B23:H23) -> 1.6666667 | K23: 2020
A24: Départ | B24: 0.5 | C24: 0.5 | D24: 0.5 | E24: 0.5 | F24: 0.5 | I24: =SUM(B24:H24) -> 2.5 | K24: 2021
A25: Total a.m | B25: =B24-B23 -> 0.16666667 | C25: =C24-C23 -> 0.16666667 | D25: =D24-D23 -> 0.16666667 | E25: =E24-E23 -> 0.16666667 | F25: =F24-F23 -> 0.16666667 | G25: =G24-G23 -> 0 | H25: =H24-H23 -> 0 | I25: =I24-I23 -> 0.83333333 | K25: 2022
A26: Arrivée | B26: 0.5625 | C26: 0.5625 | D26: 0.5625 | E26: 0.5625 | F26: 0.5625 | I26: =SUM(B26:H26) -> 2.8125 | K26: 2023
A27: Départ | B27: 0.72916667 | C27: 0.72916667 | D27: 0.72916667 | E27: 0.72916667 | F27: 0.72916667 | I27: =SUM(B27:H27) -> 3.6458333 | K27: 2024
A28: Total p.m | B28: =B27-B26 -> 0.16666667 | C28: =C27-C26 -> 0.16666667 | D28: =D27-D26 -> 0.16666667 | E28: =E27-E26 -> 0.16666667 | F28: =F27-F26 -> 0.16666667 | G28: =G27-G26 -> 0 | H28: =H27-H26 -> 0 | I28: =I27-I26 -> 0.83333333 | K28: 2025
A29: Total du jour (minute) | B29: =B25+B28 -> 0.33333333 | C29: =C25+C28 -> 0.33333333 | D29: =D25+D28 -> 0.33333333 | E29: =E25+E28 -> 0.33333333 | F29: =F25+F28 -> 0.33333333 | G29: =G25+G28 -> 0 | H29: =H25+H28 -> 0 | I29: =SUM(B29:H29) -> 1.6666667
A31: Remarque
K32: 2017
A33: SEMAINE N° | B33: LUNDI | C33: MARDI | D33: MERCREDI | E33: JEUDI | F33: VENDREDI | G33: SAMEDI | H33: DIMANCHE | I33: Total de la semaine
A34: 20 | B34: 41408 | C34: 41409 | D34: 41410 | E34: 41411 | F34: 41412 | G34: 41413 | H34: 41414
B35: =IF(OR(B33="LUNDI",B33="MARDI",B33="MERCREDI",B33="JEUDI",B33="VENDREDI"),1,0) -> 1 | C35: =IF(OR(C33="LUNDI",C33="MARDI",C33="MERCREDI",C33="JEUDI",C33="VENDREDI"),1,0) -> 1 | D35: =IF(OR(D33="LUNDI",D33="MARDI",D33="MERCREDI",D33="JEUDI",D33="VENDREDI"),1,0) -> 1 | E35: =IF(OR(E33="LUNDI",E33="MARDI",E33="MERCREDI",E33="JEUDI",E33="VENDREDI"),1,0) -> 1 | F35: =IF(OR(F33="LUNDI",F33="MARDI",F33="MERCREDI",F33="JEUDI",F33="VENDREDI"),1,0) -> 1 | G35: =IF(OR(G33="LUNDI",G33="MARDI",G33="MERCREDI",G33="JEUDI",G33="VENDREDI"),1,0) -> 0 | H35: =IF(OR(H33="LUNDI",H33="MARDI",H33="MERCREDI",H33="JEUDI",H33="VENDREDI"),1,0) -> 0
A36: Arrivée | B36: 0.33333333 | C36: 0.33333333 | D36: 0.33333333 | E36: 0.33333333 | F36: 0.33333333 | I36: =SUM(B36:H36) -> 1.6666667
A37: Départ | B37: 0.5 | C37: 0.5 | D37: 0.5 | E37: 0.5 | F37: 0.5 | I37: =SUM(B37:H37) -> 2.5
A38: Total a.m | B38: =B37-B36 -> 0.16666667 | C38: =C37-C36 -> 0.16666667 | D38: =D37-D36 -> 0.16666667 | E38: =E37-E36 -> 0.16666667 | F38: =F37-F36 -> 0.16666667 | G38: =G37-G36 -> 0 | H38: =H37-H36 -> 0 | I38: =I37-I36 -> 0.83333333
A39: Arrivée | B39: 0.5625 | C39: 0.5625 | D39: 0.5625 | E39: 0.5625 | F39: 0.5625 | I39: =SUM(B39:H39) -> 2.8125
A40: Départ | B40: 0.72916667 | C40: 0.72916667 | D40: 0.72916667 | E40: 0.72916667 | F40: 0.72916667 | I40: =SUM(B40:H40) -> 3.6458333
A41: Total p.m | B41: =B40-B39 -> 0.16666667 | C41: =C40-C39 -> 0.16666667 | D41: =D40-D39 -> 0.16666667 | E41: =E40-E39 -> 0.16666667 | F41: =F40-F39 -> 0.16666667 | G41: =G40-G39 -> 0 | H41: =H40-H39 -> 0 | I41: =I40-I39 -> 0.83333333
A42: Total du jour (minute) | B42: =B38+B41 -> 0.33333333 | C42: =C38+C41 -> 0.33333333 | D42: =D38+D41 -> 0.33333333 | E42: =E38+E41 -> 0.33333333 | F42: =F38+F41 -> 0.33333333 | G42: =G38+G41 -> 0 | H42: =H38+H41 -> 0 | I42: =SUM(B42:H42) -> 1.6666667
A44: Remarque
K45: 2017
A46: SEMAINE N° | B46: LUNDI | C46: MARDI | D46: MERCREDI | E46: JEUDI | F46: VENDREDI | G46: SAMEDI | H46: DIMANCHE | I46: Total de la semaine
A47: 21 | B47: 41415 | C47: 41416 | D47: 41417 | E47: 41418 | F47: 41419 | G47: 41420 | H47: 41421
B48: =IF(OR(B46="LUNDI",B46="MARDI",B46="MERCREDI",B46="JEUDI",B46="VENDREDI"),1,0) -> 1 | C48: =IF(OR(C46="LUNDI",C46="MARDI",C46="MERCREDI",C46="JEUDI",C46="VENDREDI"),1,0) -> 1 | D48: =IF(OR(D46="LUNDI",D46="MARDI",D46="MERCREDI",D46="JEUDI",D46="VENDREDI"),1,0) -> 1 | E48: 0 | F48: 0 | G48: =IF(OR(G46="LUNDI",G46="MARDI",G46="MERCREDI",G46="JEUDI",G46="VENDREDI"),1,0) -> 0 | H48: =IF(OR(H46="LUNDI",H46="MARDI",H46="MERCREDI",H46="JEUDI",H46="VENDREDI"),1,0) -> 0
A49: Arrivée | B49: 0.33333333 | C49: 0.33333333 | D49: 0.33333333 | E49: CONGE OFFICIEL | F49: CONGE OFFICIEL | I49: =SUM(B49:H49) -> 1
A50: Départ | B50: 0.5 | C50: 0.5 | D50: 0.5 | I50: =SUM(B50:H50) -> 1.5
A51: Total a.m | B51: =B50-B49 -> 0.16666667 | C51: =C50-C49 -> 0.16666667 | D51: =D50-D49 -> 0.16666667 | G51: =G50-G49 -> 0 | H51: =H50-H49 -> 0 | I51: =I50-I49 -> 0.5
A52: Arrivée | B52: 0.5625 | C52: 0.5625 | D52: 0.5625 | I52: =SUM(B52:H52) -> 1.6875
A53: Départ | B53: 0.72916667 | C53: 0.72916667 | D53: 0.72916667 | I53: =SUM(B53:H53) -> 2.1875
A54: Total p.m | B54: =B53-B52 -> 0.16666667 | C54: =C53-C52 -> 0.16666667 | D54: =D53-D52 -> 0.16666667 | G54: =G53-G52 -> 0 | H54: =H53-H52 -> 0 | I54: =I53-I52 -> 0.5
A55: Total du jour (minute) | B55: =B51+B54 -> 0.33333333 | C55: =C51+C54 -> 0.33333333 | D55: =D51+D54 -> 0.33333333 | E55: =E51+E54 -> 0 | F55: =F51+F54 -> 0 | G55: =G51+G54 -> 0 | H55: =H51+H54 -> 0 | I55: =SUM(B55:H55) -> 1
A57: Remarque
K58: 2017
A59: SEMAINE N° | B59: LUNDI | C59: MARDI | D59: MERCREDI | E59: JEUDI | F59: VENDREDI | G59: SAMEDI | H59: DIMANCHE | I59: Total de la semaine
A60: 22 | B60: 41422 | C60: 41423 | D60: 41424
B61: =IF(OR(B59="LUNDI",B59="MARDI",B59="MERCREDI",B59="JEUDI",B59="VENDREDI"),1,0) -> 1 | C61: =IF(OR(C59="LUNDI",C59="MARDI",C59="MERCREDI",C59="JEUDI",C59="VENDREDI"),1,0) -> 1 | D61: 1 | E61: 0 | F61: 0 | G61: =IF(OR(G59="LUNDI",G59="MARDI",G59="MERCREDI",G59="JEUDI",G59="VENDREDI"),1,0) -> 0 | H61: =IF(OR(H59="LUNDI",H59="MARDI",H59="MERCREDI",H59="JEUDI",H59="VENDREDI"),1,0) -> 0
A62: Arrivée | B62: 0.33333333 | C62: 0.33333333 | D62: 0.33333333 | I62: =SUM(B62:H62) -> 1
A63: Départ | B63: 0.5 | C63: 0.5 | D63: 0.5 | I63: =SUM(B63:H63) -> 1.5
A64: Total a.m | B64: =B63-B62 -> 0.16666667 | C64: =C63-C62 -> 0.16666667 | D64: =D63-D62 -> 0.16666667 | E64: =E63-E62 -> 0 | F64: =F63-F62 -> 0 | G64: =G63-G62 -> 0 | H64: =H63-H62 -> 0 | I64: =I63-I62 -> 0.5
A65: Arrivée | B65: 0.5625 | C65: 0.5625 | D65: 0.5625 | I65: =SUM(B65:H65) -> 1.6875
A66: Départ | B66: 0.72916667 | C66: 0.72916667 | D66: 0.72916667 | I66: =SUM(B66:H66) -> 2.1875
A67: Total p.m | B67: =B66-B65 -> 0.16666667 | C67: =C66-C65 -> 0.16666667 | D67: =D66-D65 -> 0.16666667 | E67: =E66-E65 -> 0 | F67: =F66-F65 -> 0 | G67: =G66-G65 -> 0 | H67: =H66-H65 -> 0 | I67: =I66-I65 -> 0.5
A68: Total du jour (minute) | B68: =B64+B67 -> 0.33333333 | C68: =C64+C67 -> 0.33333333 | D68: =D64+D67 -> 0.33333333 | E68: =E64+E67 -> 0 | F68: =F64+F67 -> 0 | G68: =G64+G67 -> 0 | H68: =H64+H67 -> 0 | I68: =SUM(B68:H68) -> 1
A70: Remarque
A72: TOTAL DES HEURES | C72: =(I68+I55+I42+I29+I16) -> 7
A74: NOMBRE DE JOURS | C74: =SUM(B9:H9,B22:H22,B35:H35,B48:H48,B61:H61,) -> 21 | D74: (Pour un 100%)
A75: NOMBRE D'HEURE PAR JOUR | C75: 0.33333333
A77: TOTAL HEURES A FAIRE | C77: =(C74*C75) -> 7
A79: Différence: | C79: =(C72-C77) -> 0

Sheet JUIN
A1: Gestion des heures
A3: Nom : | D3: Mois: | E3: JUIN | K3: JANVIER
A4: Prénom: | B4: ALAIN | D4: Année: | E4: 2017 | K4: FEVRIER
A5: Noter les heures sous la forme 8:00 et arrondisser vos heures. | K5: MARS
K6: AVRIL
A7: SEMAINE N° | B7: LUNDI | C7: MARDI | D7: MERCREDI | E7: JEUDI | F7: VENDREDI | G7: SAMEDI | H7: DIMANCHE | I7: Total de la semaine | K7: MAI
A8: 22 | E8: 41425 | F8: 41426 | G8: 41427 | H8: 41428 | K8: JUIN
B9: 0 | C9: 0 | D9: 0 | E9: 1 | F9: 1 | G9: =IF(OR(G7="LUNDI",G7="MARDI",G7="MERCREDI",G7="JEUDI",G7="VENDREDI"),1,0) -> 0 | H9: =IF(OR(H7="LUNDI",H7="MARDI",H7="MERCREDI",H7="JEUDI",H7="VENDREDI"),1,0) -> 0 | K9: JUIN
A10: Arrivée | E10: 0.33333333 | F10: 0.33333333 | I10: =SUM(B10:H10) -> 0.66666667 | K10: JUILLET
A11: Départ | E11: 0.5 | F11: 0.5 | I11: =SUM(B11:H11) -> 1 | K11: AOÛT
A12: Total a.m | B12: =B11-B10 -> 0 | C12: =C11-C10 -> 0 | D12: =D11-D10 -> 0 | E12: =E11-E10 -> 0.16666667 | F12: =F11-F10 -> 0.16666667 | G12: =G11-G10 -> 0 | H12: =H11-H10 -> 0 | I12: =I11-I10 -> 0.33333333 | K12: SEPTEMBRE
A13: Arrivée | E13: 0.5625 | F13: 0.5625 | I13: =SUM(B13:H13) -> 1.125 | K13: OCTOBRE
A14: Départ | E14: 0.72916667 | F14: 0.72916667 | I14: =SUM(B14:H14) -> 1.4583333 | K14: NOVEMBRE
A15: Total p.m | B15: =B14-B13 -> 0 | C15: =C14-C13 -> 0 | D15: =D14-D13 -> 0 | E15: =E14-E13 -> 0.16666667 | F15: =F14-F13 -> 0.16666667 | G15: =G14-G13 -> 0 | H15: =H14-H13 -> 0 | I15: =I14-I13 -> 0.33333333 | K15: DÉCEMBRE
A16: Total du jour (minute) | B16: =B12+B15 -> 0 | C16: =C12+C15 -> 0 | D16: =D12+D15 -> 0 | E16: =E12+E15 -> 0.33333333 | F16: =F12+F15 -> 0.33333333 | G16: =G12+G15 -> 0 | H16: =H12+H15 -> 0 | I16: =SUM(B16:H16) -> 0.66666667
A18: Remarque
K19: 2017
A20: SEMAINE N° | B20: LUNDI | C20: MARDI | D20: MERCREDI | E20: JEUDI | F20: VENDREDI | G20: SAMEDI | H20: DIMANCHE | I20: Total de la semaine | K20: 2018
A21: 23 | B21: 41429 | C21: 41430 | D21: 41431 | E21: 41432 | F21: 41433 | G21: 41434 | H21: 41435
B22: 1 | C22: =IF(OR(C20="LUNDI",C20="MARDI",C20="MERCREDI",C20="JEUDI",C20="VENDREDI"),1,0) -> 1 | D22: =IF(OR(D20="LUNDI",D20="MARDI",D20="MERCREDI",D20="JEUDI",D20="VENDREDI"),1,0) -> 1 | E22: =IF(OR(E20="LUNDI",E20="MARDI",E20="MERCREDI",E20="JEUDI",E20="VENDREDI"),1,0) -> 1 | F22: =IF(OR(F20="LUNDI",F20="MARDI",F20="MERCREDI",F20="JEUDI",F20="VENDREDI"),1,0) -> 1 | G22: =IF(OR(G20="LUNDI",G20="MARDI",G20="MERCREDI",G20="JEUDI",G20="VENDREDI"),1,0) -> 0 | H22: =IF(OR(H20="LUNDI",H20="MARDI",H20="MERCREDI",H20="JEUDI",H20="VENDREDI"),1,0) -> 0 | K22: 2019
A23: Arrivée | B23: 0.33333333 | C23: 0.33333333 | D23: 0.33333333 | E23: 0.33333333 | F23: 0.33333333 | I23: =SUM(B23:H23) -> 1.6666667 | K23: 2020
A24: Départ | B24: 0.5 | C24: 0.5 | D24: 0.5 | E24: 0.5 | F24: 0.5 | I24: =SUM(B24:H24) -> 2.5 | K24: 2021
A25: Total a.m | B25: =B24-B23 -> 0.16666667 | C25: =C24-C23 -> 0.16666667 | D25: =D24-D23 -> 0.16666667 | E25: =E24-E23 -> 0.16666667 | F25: =F24-F23 -> 0.16666667 | G25: =G24-G23 -> 0 | H25: =H24-H23 -> 0 | I25: =I24-I23 -> 0.83333333 | K25: 2022
A26: Arrivée | B26: 0.5625 | C26: 0.5625 | D26: 0.5625 | E26: 0.5625 | F26: 0.5625 | I26: =SUM(B26:H26) -> 2.8125 | K26: 2023
A27: Départ | B27: 0.72916667 | C27: 0.72916667 | D27: 0.72916667 | E27: 0.72916667 | F27: 0.72916667 | I27: =SUM(B27:H27) -> 3.6458333 | K27: 2024
A28: Total p.m | B28: =B27-B26 -> 0.16666667 | C28: =C27-C26 -> 0.16666667 | D28: =D27-D26 -> 0.16666667 | E28: =E27-E26 -> 0.16666667 | F28: =F27-F26 -> 0.16666667 | G28: =G27-G26 -> 0 | H28: =H27-H26 -> 0 | I28: =I27-I26 -> 0.83333333 | K28: 2025
A29: Total du jour (minute) | B29: =B25+B28 -> 0.33333333 | C29: =C25+C28 -> 0.33333333 | D29: =D25+D28 -> 0.33333333 | E29: =E25+E28 -> 0.33333333 | F29: =F25+F28 -> 0.33333333 | G29: =G25+G28 -> 0 | H29: =H25+H28 -> 0 | I29: =SUM(B29:H29) -> 1.6666667
A31: Remarque
K32: 2017
A33: SEMAINE N° | B33: LUNDI | C33: MARDI | D33: MERCREDI | E33: JEUDI | F33: VENDREDI | G33: SAMEDI | H33: DIMANCHE | I33: Total de la semaine
A34: 24 | B34: 41436 | C34: 41437 | D34: 41438 | E34: 41439 | F34: 41440 | G34: 41441 | H34: 41442
B35: =IF(OR(B33="LUNDI",B33="MARDI",B33="MERCREDI",B33="JEUDI",B33="VENDREDI"),1,0) -> 1 | C35: =IF(OR(C33="LUNDI",C33="MARDI",C33="MERCREDI",C33="JEUDI",C33="VENDREDI"),1,0) -> 1 | D35: =IF(OR(D33="LUNDI",D33="MARDI",D33="MERCREDI",D33="JEUDI",D33="VENDREDI"),1,0) -> 1 | E35: =IF(OR(E33="LUNDI",E33="MARDI",E33="MERCREDI",E33="JEUDI",E33="VENDREDI"),1,0) -> 1 | F35: =IF(OR(F33="LUNDI",F33="MARDI",F33="MERCREDI",F33="JEUDI",F33="VENDREDI"),1,0) -> 1 | G35: =IF(OR(G33="LUNDI",G33="MARDI",G33="MERCREDI",G33="JEUDI",G33="VENDREDI"),1,0) -> 0 | H35: =IF(OR(H33="LUNDI",H33="MARDI",H33="MERCREDI",H33="JEUDI",H33="VENDREDI"),1,0) -> 0
A36: Arrivée | B36: 0.33333333 | C36: 0.33333333 | D36: 0.33333333 | E36: 0.33333333 | F36: 0.33333333 | I36: =SUM(B36:H36) -> 1.6666667
A37: Départ | B37: 0.5 | C37: 0.5 | D37: 0.5 | E37: 0.5 | F37: 0.5 | I37: =SUM(B37:H37) -> 2.5
A38: Total a.m | B38: =B37-B36 -> 0.16666667 | C38: =C37-C36 -> 0.16666667 | D38: =D37-D36 -> 0.16666667 | E38: =E37-E36 -> 0.16666667 | F38: =F37-F36 -> 0.16666667 | G38: =G37-G36 -> 0 | H38: =H37-H36 -> 0 | I38: =I37-I36 -> 0.83333333
A39: Arrivée | B39: 0.5625 | C39: 0.5625 | D39: 0.5625 | E39: 0.5625 | F39: 0.5625 | I39: =SUM(B39:H39) -> 2.8125
A40: Départ | B40: 0.72916667 | C40: 0.72916667 | D40: 0.72916667 | E40: 0.72916667 | F40: 0.72916667 | I40: =SUM(B40:H40) -> 3.6458333
A41: Total p.m | B41: =B40-B39 -> 0.16666667 | C41: =C40-C39 -> 0.16666667 | D41: =D40-D39 -> 0.16666667 | E41: =E40-E39 -> 0.16666667 | F41: =F40-F39 -> 0.16666667 | G41: =G40-G39 -> 0 | H41: =H40-H39 -> 0 | I41: =I40-I39 -> 0.83333333
A42: Total du jour (minute) | B42: =B38+B41 -> 0.33333333 | C42: =C38+C41 -> 0.33333333 | D42: =D38+D41 -> 0.33333333 | E42: =E38+E41 -> 0.33333333 | F42: =F38+F41 -> 0.33333333 | G42: =G38+G41 -> 0 | H42: =H38+H41 -> 0 | I42: =SUM(B42:H42) -> 1.6666667
A44: Remarque
K45: 2017
A46: SEMAINE N° | B46: LUNDI | C46: MARDI | D46: MERCREDI | E46: JEUDI | F46: VENDREDI | G46: SAMEDI | H46: DIMANCHE | I46: Total de la semaine
A47: 25 | B47: 41443 | C47: 41444 | D47: 41445 | E47: 41446 | F47: 41447 | G47: 41448 | H47: 41449
B48: =IF(OR(B46="LUNDI",B46="MARDI",B46="MERCREDI",B46="JEUDI",B46="VENDREDI"),1,0) -> 1 | C48: =IF(OR(C46="LUNDI",C46="MARDI",C46="MERCREDI",C46="JEUDI",C46="VENDREDI"),1,0) -> 1 | D48: =IF(OR(D46="LUNDI",D46="MARDI",D46="MERCREDI",D46="JEUDI",D46="VENDREDI"),1,0) -> 1 | E48: 1 | F48: 1 | G48: =IF(OR(G46="LUNDI",G46="MARDI",G46="MERCREDI",G46="JEUDI",G46="VENDREDI"),1,0) -> 0 | H48: =IF(OR(H46="LUNDI",H46="MARDI",H46="MERCREDI",H46="JEUDI",H46="VENDREDI"),1,0) -> 0
A49: Arrivée | B49: 0.33333333 | C49: 0.33333333 | D49: 0.33333333 | E49: 0.33333333 | F49: 0.33333333 | I49: =SUM(B49:H49) -> 1.6666667
A50: Départ | B50: 0.5 | C50: 0.5 | D50: 0.5 | E50: 0.5 | F50: 0.5 | I50: =SUM(B50:H50) -> 2.5
A51: Total a.m | B51: =B50-B49 -> 0.16666667 | C51: =C50-C49 -> 0.16666667 | D51: =D50-D49 -> 0.16666667 | E51: =E50-E49 -> 0.16666667 | F51: =F50-F49 -> 0.16666667 | G51: =G50-G49 -> 0 | H51: =H50-H49 -> 0 | I51: =I50-I49 -> 0.83333333
A52: Arrivée | B52: 0.5625 | C52: 0.5625 | D52: 0.5625 | E52: 0.5625 | F52: 0.5625 | I52: =SUM(B52:H52) -> 2.8125
A53: Départ | B53: 0.72916667 | C53: 0.72916667 | D53: 0.72916667 | E53: 0.72916667 | F53: 0.72916667 | I53: =SUM(B53:H53) -> 3.6458333
A54: Total p.m | B54: =B53-B52 -> 0.16666667 | C54: =C53-C52 -> 0.16666667 | D54: =D53-D52 -> 0.16666667 | E54: =E53-E52 -> 0.16666667 | F54: =F53-F52 -> 0.16666667 | G54: =G53-G52 -> 0 | H54: =H53-H52 -> 0 | I54: =I53-I52 -> 0.83333333
A55: Total du jour (minute) | B55: =B51+B54 -> 0.33333333 | C55: =C51+C54 -> 0.33333333 | D55: =D51+D54 -> 0.33333333 | E55: =E51+E54 -> 0.33333333 | F55: =F51+F54 -> 0.33333333 | G55: =G51+G54 -> 0 | H55: =H51+H54 -> 0 | I55: =SUM(B55:H55) -> 1.6666667
A57: Remarque
K58: 2017
A59: SEMAINE N° | B59: LUNDI | C59: MARDI | D59: MERCREDI | E59: JEUDI | F59: VENDREDI | G59: SAMEDI | H59: DIMANCHE | I59: Total de la semaine
A60: 26 | B60: 41450 | C60: 41451 | D60: 41452 | E60: 41453 | F60: 41454
B61: =IF(OR(B59="LUNDI",B59="MARDI",B59="MERCREDI",B59="JEUDI",B59="VENDREDI"),1,0) -> 1 | C61: =IF(OR(C59="LUNDI",C59="MARDI",C59="MERCREDI",C59="JEUDI",C59="VENDREDI"),1,0) -> 1 | D61: 1 | E61: 1 | F61: 1 | G61: =IF(OR(G59="LUNDI",G59="MARDI",G59="MERCREDI",G59="JEUDI",G59="VENDREDI"),1,0) -> 0 | H61: =IF(OR(H59="LUNDI",H59="MARDI",H59="MERCREDI",H59="JEUDI",H59="VENDREDI"),1,0) -> 0
A62: Arrivée | B62: 0.33333333 | C62: 0.33333333 | D62: 0.33333333 | E62: 0.33333333 | F62: 0.33333333 | I62: =SUM(B62:H62) -> 1.6666667
A63: Départ | B63: 0.5 | C63: 0.5 | D63: 0.5 | E63: 0.5 | F63: 0.5 | I63: =SUM(B63:H63) -> 2.5
A64: Total a.m | B64: =B63-B62 -> 0.16666667 | C64: =C63-C62 -> 0.16666667 | D64: =D63-D62 -> 0.16666667 | E64: =E63-E62 -> 0.16666667 | F64: =F63-F62 -> 0.16666667 | G64: =G63-G62 -> 0 | H64: =H63-H62 -> 0 | I64: =I63-I62 -> 0.83333333
A65: Arrivée | B65: 0.5625 | C65: 0.5625 | D65: 0.5625 | E65: 0.5625 | F65: 0.5625 | I65: =SUM(B65:H65) -> 2.8125
A66: Départ | B66: 0.72916667 | C66: 0.72916667 | D66: 0.72916667 | E66: 0.72916667 | F66: 0.72916667 | I66: =SUM(B66:H66) -> 3.6458333
A67: Total p.m | B67: =B66-B65 -> 0.16666667 | C67: =C66-C65 -> 0.16666667 | D67: =D66-D65 -> 0.16666667 | E67: =E66-E65 -> 0.16666667 | F67: =F66-F65 -> 0.16666667 | G67: =G66-G65 -> 0 | H67: =H66-H65 -> 0 | I67: =I66-I65 -> 0.83333333
A68: Total du jour (minute) | B68: =B64+B67 -> 0.33333333 | C68: =C64+C67 -> 0.33333333 | D68: =D64+D67 -> 0.33333333 | E68: =E64+E67 -> 0.33333333 | F68: =F64+F67 -> 0.33333333 | G68: =G64+G67 -> 0 | H68: =H64+H67 -> 0 | I68: =SUM(B68:H68) -> 1.6666667
A70: Remarque
A72: TOTAL DES HEURES | C72: =(I68+I55+I42+I29+I16) -> 7.3333333
A74: NOMBRE DE JOURS | C74: =SUM(B9:H9,B22:H22,B35:H35,B48:H48,B61:H61,) -> 22 | D74: (Pour un 100%)
A75: NOMBRE D'HEURE PAR JOUR | C75: 0.33333333
A77: TOTAL HEURES A FAIRE | C77: =(C74*C75) -> 7.3333333
A79: Différence: | C79: =(C72-C77) -> 0

Sheet JUILLET
A1: Gestion des heures
A3: Nom : | D3: Mois: | E3: JUILLET | K3: JANVIER
A4: Prénom: | B4: ALAIN | D4: Année: | E4: 2017 | K4: FEVRIER
A5: Noter les heures sous la forme 8:00 et arrondisser vos heures. | K5: MARS
K6: AVRIL
A7: SEMAINE N° | B7: LUNDI | C7: MARDI | D7: MERCREDI | E7: JEUDI | F7: VENDREDI | G7: SAMEDI | H7: DIMANCHE | I7: Total de la semaine | K7: MAI
A8: 26 | G8: 41455 | H8: 41456 | K8: JUIN
B9: 0 | C9: 0 | D9: 0 | E9: 0 | F9: 0 | G9: =IF(OR(G7="LUNDI",G7="MARDI",G7="MERCREDI",G7="JEUDI",G7="VENDREDI"),1,0) -> 0 | H9: =IF(OR(H7="LUNDI",H7="MARDI",H7="MERCREDI",H7="JEUDI",H7="VENDREDI"),1,0) -> 0 | K9: JUIN
A10: Arrivée | I10: =SUM(B10:H10) -> 0 | K10: JUILLET
A11: Départ | I11: =SUM(B11:H11) -> 0 | K11: AOÛT
A12: Total a.m | B12: =B11-B10 -> 0 | C12: =C11-C10 -> 0 | D12: =D11-D10 -> 0 | E12: =E11-E10 -> 0 | F12: =F11-F10 -> 0 | G12: =G11-G10 -> 0 | H12: =H11-H10 -> 0 | I12: =I11-I10 -> 0 | K12: SEPTEMBRE
A13: Arrivée | I13: =SUM(B13:H13) -> 0 | K13: OCTOBRE
A14: Départ | I14: =SUM(B14:H14) -> 0 | K14: NOVEMBRE
A15: Total p.m | B15: =B14-B13 -> 0 | C15: =C14-C13 -> 0 | D15: =D14-D13 -> 0 | E15: =E14-E13 -> 0 | F15: =F14-F13 -> 0 | G15: =G14-G13 -> 0 | H15: =H14-H13 -> 0 | I15: =I14-I13 -> 0 | K15: DÉCEMBRE
A16: Total du jour (minute) | B16: =B12+B15 -> 0 | C16: =C12+C15 -> 0 | D16: =D12+D15 -> 0 | E16: =E12+E15 -> 0 | F16: =F12+F15 -> 0 | G16: =G12+G15 -> 0 | H16: =H12+H15 -> 0 | I16: =SUM(B16:H16) -> 0
A18: Remarque
K19: 2017
A20: SEMAINE N° | B20: LUNDI | C20: MARDI | D20: MERCREDI | E20: JEUDI | F20: VENDREDI | G20: SAMEDI | H20: DIMANCHE | I20: Total de la semaine | K20: 2018
A21: 27 | B21: 41457 | C21: 41458 | D21: 41459 | E21: 41460 | F21: 41461 | G21: 41462 | H21: 41463
B22: 1 | C22: =IF(OR(C20="LUNDI",C20="MARDI",C20="MERCREDI",C20="JEUDI",C20="VENDREDI"),1,0) -> 1 | D22: =IF(OR(D20="LUNDI",D20="MARDI",D20="MERCREDI",D20="JEUDI",D20="VENDREDI"),1,0) -> 1 | E22: =IF(OR(E20="LUNDI",E20="MARDI",E20="MERCREDI",E20="JEUDI",E20="VENDREDI"),1,0) -> 1 | F22: =IF(OR(F20="LUNDI",F20="MARDI",F20="MERCREDI",F20="JEUDI",F20="VENDREDI"),1,0) -> 1 | G22: =IF(OR(G20="LUNDI",G20="MARDI",G20="MERCREDI",G20="JEUDI",G20="VENDREDI"),1,0) -> 0 | H22: =IF(OR(H20="LUNDI",H20="MARDI",H20="MERCREDI",H20="JEUDI",H20="VENDREDI"),1,0) -> 0 | K22: 2019
A23: Arrivée | B23: 0.33333333 | C23: 0.33333333 | D23: 0.33333333 | E23: 0.33333333 | F23: 0.33333333 | I23: =SUM(B23:H23) -> 1.6666667 | K23: 2020
A24: Départ | B24: 0.5 | C24: 0.5 | D24: 0.5 | E24: 0.5 | F24: 0.5 | I24: =SUM(B24:H24) -> 2.5 | K24: 2021
A25: Total a.m | B25: =B24-B23 -> 0.16666667 | C25: =C24-C23 -> 0.16666667 | D25: =D24-D23 -> 0.16666667 | E25: =E24-E23 -> 0.16666667 | F25: =F24-F23 -> 0.16666667 | G25: =G24-G23 -> 0 | H25: =H24-H23 -> 0 | I25: =I24-I23 -> 0.83333333 | K25: 2022
A26: Arrivée | B26: 0.5625 | C26: 0.5625 | D26: 0.5625 | E26: 0.5625 | F26: 0.5625 | I26: =SUM(B26:H26) -> 2.8125 | K26: 2023
A27: Départ | B27: 0.72916667 | C27: 0.72916667 | D27: 0.72916667 | E27: 0.72916667 | F27: 0.72916667 | I27: =SUM(B27:H27) -> 3.6458333 | K27: 2024
A28: Total p.m | B28: =B27-B26 -> 0.16666667 | C28: =C27-C26 -> 0.16666667 | D28: =D27-D26 -> 0.16666667 | E28: =E27-E26 -> 0.16666667 | F28: =F27-F26 -> 0.16666667 | G28: =G27-G26 -> 0 | H28: =H27-H26 -> 0 | I28: =I27-I26 -> 0.83333333 | K28: 2025
A29: Total du jour (minute) | B29: =B25+B28 -> 0.33333333 | C29: =C25+C28 -> 0.33333333 | D29: =D25+D28 -> 0.33333333 | E29: =E25+E28 -> 0.33333333 | F29: =F25+F28 -> 0.33333333 | G29: =G25+G28 -> 0 | H29: =H25+H28 -> 0 | I29: =SUM(B29:H29) -> 1.6666667
A31: Remarque
K32: 2017
A33: SEMAINE N° | B33: LUNDI | C33: MARDI | D33: MERCREDI | E33: JEUDI | F33: VENDREDI | G33: SAMEDI | H33: DIMANCHE | I33: Total de la semaine
A34: 28 | B34: 41464 | C34: 41465 | D34: 41466 | E34: 41467 | F34: 41468 | G34: 41469 | H34: 41470
B35: =IF(OR(B33="LUNDI",B33="MARDI",B33="MERCREDI",B33="JEUDI",B33="VENDREDI"),1,0) -> 1 | C35: =IF(OR(C33="LUNDI",C33="MARDI",C33="MERCREDI",C33="JEUDI",C33="VENDREDI"),1,0) -> 1 | D35: =IF(OR(D33="LUNDI",D33="MARDI",D33="MERCREDI",D33="JEUDI",D33="VENDREDI"),1,0) -> 1 | E35: =IF(OR(E33="LUNDI",E33="MARDI",E33="MERCREDI",E33="JEUDI",E33="VENDREDI"),1,0) -> 1 | F35: =IF(OR(F33="LUNDI",F33="MARDI",F33="MERCREDI",F33="JEUDI",F33="VENDREDI"),1,0) -> 1 | G35: =IF(OR(G33="LUNDI",G33="MARDI",G33="MERCREDI",G33="JEUDI",G33="VENDREDI"),1,0) -> 0 | H35: =IF(OR(H33="LUNDI",H33="MARDI",H33="MERCREDI",H33="JEUDI",H33="VENDREDI"),1,0) -> 0
A36: Arrivée | B36: 0.33333333 | C36: 0.33333333 | D36: 0.33333333 | E36: 0.33333333 | F36: 0.33333333 | I36: =SUM(B36:H36) -> 1.6666667
A37: Départ | B37: 0.5 | C37: 0.5 | D37: 0.5 | E37: 0.5 | F37: 0.5 | I37: =SUM(B37:H37) -> 2.5
A38: Total a.m | B38: =B37-B36 -> 0.16666667 | C38: =C37-C36 -> 0.16666667 | D38: =D37-D36 -> 0.16666667 | E38: =E37-E36 -> 0.16666667 | F38: =F37-F36 -> 0.16666667 | G38: =G37-G36 -> 0 | H38: =H37-H36 -> 0 | I38: =I37-I36 -> 0.83333333
A39: Arrivée | B39: 0.5625 | C39: 0.5625 | D39: 0.5625 | E39: 0.5625 | F39: 0.5625 | I39: =SUM(B39:H39) -> 2.8125
A40: Départ | B40: 0.72916667 | C40: 0.72916667 | D40: 0.72916667 | E40: 0.72916667 | F40: 0.72916667 | I40: =SUM(B40:H40) -> 3.6458333
A41: Total p.m | B41: =B40-B39 -> 0.16666667 | C41: =C40-C39 -> 0.16666667 | D41: =D40-D39 -> 0.16666667 | E41: =E40-E39 -> 0.16666667 | F41: =F40-F39 -> 0.16666667 | G41: =G40-G39 -> 0 | H41: =H40-H39 -> 0 | I41: =I40-I39 -> 0.83333333
A42: Total du jour (minute) | B42: =B38+B41 -> 0.33333333 | C42: =C38+C41 -> 0.33333333 | D42: =D38+D41 -> 0.33333333 | E42: =E38+E41 -> 0.33333333 | F42: =F38+F41 -> 0.33333333 | G42: =G38+G41 -> 0 | H42: =H38+H41 -> 0 | I42: =SUM(B42:H42) -> 1.6666667
A44: Remarque
K45: 2017
A46: SEMAINE N° | B46: LUNDI | C46: MARDI | D46: MERCREDI | E46: JEUDI | F46: VENDREDI | G46: SAMEDI | H46: DIMANCHE | I46: Total de la semaine
A47: 29 | B47: 41471 | C47: 41472 | D47: 41473 | E47: 41474 | F47: 41475 | G47: 41476 | H47: 41477
B48: =IF(OR(B46="LUNDI",B46="MARDI",B46="MERCREDI",B46="JEUDI",B46="VENDREDI"),1,0) -> 1 | C48: =IF(OR(C46="LUNDI",C46="MARDI",C46="MERCREDI",C46="JEUDI",C46="VENDREDI"),1,0) -> 1 | D48: =IF(OR(D46="LUNDI",D46="MARDI",D46="MERCREDI",D46="JEUDI",D46="VENDREDI"),1,0) -> 1 | E48: 1 | F48: 1 | G48: =IF(OR(G46="LUNDI",G46="MARDI",G46="MERCREDI",G46="JEUDI",G46="VENDREDI"),1,0) -> 0 | H48: =IF(OR(H46="LUNDI",H46="MARDI",H46="MERCREDI",H46="JEUDI",H46="VENDREDI"),1,0) -> 0
A49: Arrivée | B49: 0.33333333 | C49: 0.33333333 | D49: 0.33333333 | E49: 0.33333333 | F49: 0.33333333 | I49: =SUM(B49:H49) -> 1.6666667
A50: Départ | B50: 0.5 | C50: 0.5 | D50: 0.5 | E50: 0.5 | F50: 0.5 | I50: =SUM(B50:H50) -> 2.5
A51: Total a.m | B51: =B50-B49 -> 0.16666667 | C51: =C50-C49 -> 0.16666667 | D51: =D50-D49 -> 0.16666667 | E51: =E50-E49 -> 0.16666667 | F51: =F50-F49 -> 0.16666667 | G51: =G50-G49 -> 0 | H51: =H50-H49 -> 0 | I51: =I50-I49 -> 0.83333333
A52: Arrivée | B52: 0.5625 | C52: 0.5625 | D52: 0.5625 | E52: 0.5625 | F52: 0.5625 | I52: =SUM(B52:H52) -> 2.8125
A53: Départ | B53: 0.72916667 | C53: 0.72916667 | D53: 0.72916667 | E53: 0.72916667 | F53: 0.72916667 | I53: =SUM(B53:H53) -> 3.6458333
A54: Total p.m | B54: =B53-B52 -> 0.16666667 | C54: =C53-C52 -> 0.16666667 | D54: =D53-D52 -> 0.16666667 | E54: =E53-E52 -> 0.16666667 | F54: =F53-F52 -> 0.16666667 | G54: =G53-G52 -> 0 | H54: =H53-H52 -> 0 | I54: =I53-I52 -> 0.83333333
A55: Total du jour (minute) | B55: =B51+B54 -> 0.33333333 | C55: =C51+C54 -> 0.33333333 | D55: =D51+D54 -> 0.33333333 | E55: =E51+E54 -> 0.33333333 | F55: =F51+F54 -> 0.33333333 | G55: =G51+G54 -> 0 | H55: =H51+H54 -> 0 | I55: =SUM(B55:H55) -> 1.6666667
A57: Remarque
K58: 2017
A59: SEMAINE N° | B59: LUNDI | C59: MARDI | D59: MERCREDI | E59: JEUDI | F59: VENDREDI | G59: SAMEDI | H59: DIMANCHE | I59: Total de la semaine
A60: 30 | B60: 41478 | C60: 41479 | D60: 41480 | E60: 41481 | F60: 41482 | G60: 41483 | H60: 41484
B61: =IF(OR(B59="LUNDI",B59="MARDI",B59="MERCREDI",B59="JEUDI",B59="VENDREDI"),1,0) -> 1 | C61: =IF(OR(C59="LUNDI",C59="MARDI",C59="MERCREDI",C59="JEUDI",C59="VENDREDI"),1,0) -> 1 | D61: 1 | E61: 1 | F61: 1 | G61: =IF(OR(G59="LUNDI",G59="MARDI",G59="MERCREDI",G59="JEUDI",G59="VENDREDI"),1,0) -> 0 | H61: =IF(OR(H59="LUNDI",H59="MARDI",H59="MERCREDI",H59="JEUDI",H59="VENDREDI"),1,0) -> 0
A62: Arrivée | B62: 0.33333333 | C62: 0.33333333 | D62: 0.33333333 | E62: 0.33333333 | F62: 0.33333333 | I62: =SUM(B62:H62) -> 1.6666667
A63: Départ | B63: 0.5 | C63: 0.5 | D63: 0.5 | E63: 0.5 | F63: 0.5 | I63: =SUM(B63:H63) -> 2.5
A64: Total a.m | B64: =B63-B62 -> 0.16666667 | C64: =C63-C62 -> 0.16666667 | D64: =D63-D62 -> 0.16666667 | E64: =E63-E62 -> 0.16666667 | F64: =F63-F62 -> 0.16666667 | G64: =G63-G62 -> 0 | H64: =H63-H62 -> 0 | I64: =I63-I62 -> 0.83333333
A65: Arrivée | B65: 0.5625 | C65: 0.5625 | D65: 0.5625 | E65: 0.5625 | F65: 0.5625 | I65: =SUM(B65:H65) -> 2.8125
A66: Départ | B66: 0.72916667 | C66: 0.72916667 | D66: 0.72916667 | E66: 0.72916667 | F66: 0.72916667 | I66: =SUM(B66:H66) -> 3.6458333
A67: Total p.m | B67: =B66-B65 -> 0.16666667 | C67: =C66-C65 -> 0.16666667 | D67: =D66-D65 -> 0.16666667 | E67: =E66-E65 -> 0.16666667 | F67: =F66-F65 -> 0.16666667 | G67: =G66-G65 -> 0 | H67: =H66-H65 -> 0 | I67: =I66-I65 -> 0.83333333
A68: Total du jour (minute) | B68: =B64+B67 -> 0.33333333 | C68: =C64+C67 -> 0.33333333 | D68: =D64+D67 -> 0.33333333 | E68: =E64+E67 -> 0.33333333 | F68: =F64+F67 -> 0.33333333 | G68: =G64+G67 -> 0 | H68: =H64+H67 -> 0 | I68: =SUM(B68:H68) -> 1.6666667
A70: Remarque
A72: SEMAINE N° | B72: LUNDI | C72: MARDI | D72: MERCREDI | E72: JEUDI | F72: VENDREDI | G72: SAMEDI | H72: DIMANCHE | I72: Total de la semaine
A73: 31 | B73: 41485
B74: =IF(OR(B72="LUNDI",B72="MARDI",B72="MERCREDI",B72="JEUDI",B72="VENDREDI"),1,0) -> 1 | C74: 0 | D74: 0 | E74: 0 | F74: 0 | G74: =IF(OR(G72="LUNDI",G72="MARDI",G72="MERCREDI",G72="JEUDI",G72="VENDREDI"),1,0) -> 0 | H74: =IF(OR(H72="LUNDI",H72="MARDI",H72="MERCREDI",H72="JEUDI",H72="VENDREDI"),1,0) -> 0
A75: Arrivée | B75: 0.33333333 | I75: =SUM(B75:H75) -> 0.33333333
A76: Départ | B76: 0.5 | I76: =SUM(B76:H76) -> 0.5
A77: Total a.m | B77: =B76-B75 -> 0.16666667 | C77: =C76-C75 -> 0 | D77: =D76-D75 -> 0 | E77: =E76-E75 -> 0 | F77: =F76-F75 -> 0 | G77: =G76-G75 -> 0 | H77: =H76-H75 -> 0 | I77: =I76-I75 -> 0.16666667
A78: Arrivée | B78: 0.5625 | I78: =SUM(B78:H78) -> 0.5625
A79: Départ | B79: 0.72916667 | I79: =SUM(B79:H79) -> 0.72916667
A80: Total p.m | B80: =B79-B78 -> 0.16666667 | C80: =C79-C78 -> 0 | D80: =D79-D78 -> 0 | E80: =E79-E78 -> 0 | F80: =F79-F78 -> 0 | G80: =G79-G78 -> 0 | H80: =H79-H78 -> 0 | I80: =I79-I78 -> 0.16666667
A81: Total du jour (minute) | B81: =B77+B80 -> 0.33333333 | C81: =C77+C80 -> 0 | D81: =D77+D80 -> 0 | E81: =E77+E80 -> 0 | F81: =F77+F80 -> 0 | G81: =G77+G80 -> 0 | H81: =H77+H80 -> 0 | I81: =SUM(B81:H81) -> 0.33333333
A83: Remarque
A85: TOTAL DES HEURES | C85: =(I68+I55+I42+I29+I16+I81) -> 7
A87: NOMBRE DE JOURS | C87: =SUM(B9:H9,B22:H22,B35:H35,B48:H48,B61:H61,B74:H74) -> 21 | D87: (Pour un 100%)
A88: NOMBRE D'HEURE PAR JOUR | C88: 0.33333333
A90: TOTAL HEURES A FAIRE | C90: =(C87*C88) -> 7
A92: Différence: | C92: =(C85-C90) -> -8.8817842e-16

Sheet AOÛT
A1: Gestion des heures
A3: Nom : | D3: Mois: | E3: AOÛT | K3: JANVIER
A4: Prénom: | B4: ALAIN | D4: Année: | E4: 2017 | K4: FEVRIER
A5: Noter les heures sous la forme 8:00 et arrondisser vos heures. | K5: MARS
K6: AVRIL
A7: SEMAINE N° | B7: LUNDI | C7: MARDI | D7: MERCREDI | E7: JEUDI | F7: VENDREDI | G7: SAMEDI | H7: DIMANCHE | I7: Total de la semaine | K7: MAI
A8: 31 | C8: 41486 | D8: 41487 | E8: 41488 | F8: 41489 | G8: 41490 | H8: 41491 | K8: JUIN
B9: 0 | C9: 0 | D9: 1 | E9: 1 | F9: 1 | G9: =IF(OR(G7="LUNDI",G7="MARDI",G7="MERCREDI",G7="JEUDI",G7="VENDREDI"),1,0) -> 0 | H9: =IF(OR(H7="LUNDI",H7="MARDI",H7="MERCREDI",H7="JEUDI",H7="VENDREDI"),1,0) -> 0 | K9: JUIN
A10: Arrivée | C10: CONGE OFFICIEL | D10: 0.33333333 | E10: 0.33333333 | F10: 0.33333333 | I10: =SUM(B10:H10) -> 1 | K10: JUILLET
A11: Départ | D11: 0.5 | E11: 0.5 | F11: 0.5 | I11: =SUM(B11:H11) -> 1.5 | K11: AOÛT
A12: Total a.m | B12: =B11-B10 -> 0 | D12: =D11-D10 -> 0.16666667 | E12: =E11-E10 -> 0.16666667 | F12: =F11-F10 -> 0.16666667 | G12: =G11-G10 -> 0 | H12: =H11-H10 -> 0 | I12: =I11-I10 -> 0.5 | K12: SEPTEMBRE
A13: Arrivée | D13: 0.5625 | E13: 0.5625 | F13: 0.5625 | I13: =SUM(B13:H13) -> 1.6875 | K13: OCTOBRE
A14: Départ | D14: 0.72916667 | E14: 0.72916667 | F14: 0.72916667 | I14: =SUM(B14:H14) -> 2.1875 | K14: NOVEMBRE
A15: Total p.m | B15: =B14-B13 -> 0 | D15: =D14-D13 -> 0.16666667 | E15: =E14-E13 -> 0.16666667 | F15: =F14-F13 -> 0.16666667 | G15: =G14-G13 -> 0 | H15: =H14-H13 -> 0 | I15: =I14-I13 -> 0.5 | K15: DÉCEMBRE
A16: Total du jour (minute) | B16: =B12+B15 -> 0 | C16: =C12+C15 -> 0 | D16: =D12+D15 -> 0.33333333 | E16: =E12+E15 -> 0.33333333 | F16: =F12+F15 -> 0.33333333 | G16: =G12+G15 -> 0 | H16: =H12+H15 -> 0 | I16: =SUM(B16:H16) -> 1
A18: Remarque
K19: 2017
A20: SEMAINE N° | B20: LUNDI | C20: MARDI | D20: MERCREDI | E20: JEUDI | F20: VENDREDI | G20: SAMEDI | H20: DIMANCHE | I20: Total de la semaine | K20: 2018
A21: 32 | B21: 41492 | C21: 41493 | D21: 41494 | E21: 41495 | F21: 41496 | G21: 41497 | H21: 41498
B22: 1 | C22: =IF(OR(C20="LUNDI",C20="MARDI",C20="MERCREDI",C20="JEUDI",C20="VENDREDI"),1,0) -> 1 | D22: =IF(OR(D20="LUNDI",D20="MARDI",D20="MERCREDI",D20="JEUDI",D20="VENDREDI"),1,0) -> 1 | E22: =IF(OR(E20="LUNDI",E20="MARDI",E20="MERCREDI",E20="JEUDI",E20="VENDREDI"),1,0) -> 1 | F22: =IF(OR(F20="LUNDI",F20="MARDI",F20="MERCREDI",F20="JEUDI",F20="VENDREDI"),1,0) -> 1 | G22: =IF(OR(G20="LUNDI",G20="MARDI",G20="MERCREDI",G20="JEUDI",G20="VENDREDI"),1,0) -> 0 | H22: =IF(OR(H20="LUNDI",H20="MARDI",H20="MERCREDI",H20="JEUDI",H20="VENDREDI"),1,0) -> 0 | K22: 2019
A23: Arrivée | B23: 0.33333333 | C23: 0.33333333 | D23: 0.33333333 | E23: 0.33333333 | F23: 0.33333333 | I23: =SUM(B23:H23) -> 1.6666667 | K23: 2020
A24: Départ | B24: 0.5 | C24: 0.5 | D24: 0.5 | E24: 0.5 | F24: 0.5 | I24: =SUM(B24:H24) -> 2.5 | K24: 2021
A25: Total a.m | B25: =B24-B23 -> 0.16666667 | C25: =C24-C23 -> 0.16666667 | D25: =D24-D23 -> 0.16666667 | E25: =E24-E23 -> 0.16666667 | F25: =F24-F23 -> 0.16666667 | G25: =G24-G23 -> 0 | H25: =H24-H23 -> 0 | I25: =I24-I23 -> 0.83333333 | K25: 2022
A26: Arrivée | B26: 0.5625 | C26: 0.5625 | D26: 0.5625 | E26: 0.5625 | F26: 0.5625 | I26: =SUM(B26:H26) -> 2.8125 | K26: 2023
A27: Départ | B27: 0.72916667 | C27: 0.72916667 | D27: 0.72916667 | E27: 0.72916667 | F27: 0.72916667 | I27: =SUM(B27:H27) -> 3.6458333 | K27: 2024
A28: Total p.m | B28: =B27-B26 -> 0.16666667 | C28: =C27-C26 -> 0.16666667 | D28: =D27-D26 -> 0.16666667 | E28: =E27-E26 -> 0.16666667 | F28: =F27-F26 -> 0.16666667 | G28: =G27-G26 -> 0 | H28: =H27-H26 -> 0 | I28: =I27-I26 -> 0.83333333 | K28: 2025
A29: Total du jour (minute) | B29: =B25+B28 -> 0.33333333 | C29: =C25+C28 -> 0.33333333 | D29: =D25+D28 -> 0.33333333 | E29: =E25+E28 -> 0.33333333 | F29: =F25+F28 -> 0.33333333 | G29: =G25+G28 -> 0 | H29: =H25+H28 -> 0 | I29: =SUM(B29:H29) -> 1.6666667
A31: Remarque
K32: 2017
A33: SEMAINE N° | B33: LUNDI | C33: MARDI | D33: MERCREDI | E33: JEUDI | F33: VENDREDI | G33: SAMEDI | H33: DIMANCHE | I33: Total de la semaine
A34: 33 | B34: 41499 | C34: 41500 | D34: 41501 | E34: 41502 | F34: 41503 | G34: 41504 | H34: 41505
B35: =IF(OR(B33="LUNDI",B33="MARDI",B33="MERCREDI",B33="JEUDI",B33="VENDREDI"),1,0) -> 1 | C35: =IF(OR(C33="LUNDI",C33="MARDI",C33="MERCREDI",C33="JEUDI",C33="VENDREDI"),1,0) -> 1 | D35: =IF(OR(D33="LUNDI",D33="MARDI",D33="MERCREDI",D33="JEUDI",D33="VENDREDI"),1,0) -> 1 | E35: =IF(OR(E33="LUNDI",E33="MARDI",E33="MERCREDI",E33="JEUDI",E33="VENDREDI"),1,0) -> 1 | F35: =IF(OR(F33="LUNDI",F33="MARDI",F33="MERCREDI",F33="JEUDI",F33="VENDREDI"),1,0) -> 1 | G35: =IF(OR(G33="LUNDI",G33="MARDI",G33="MERCREDI",G33="JEUDI",G33="VENDREDI"),1,0) -> 0 | H35: =IF(OR(H33="LUNDI",H33="MARDI",H33="MERCREDI",H33="JEUDI",H33="VENDREDI"),1,0) -> 0
A36: Arrivée | B36: 0.33333333 | C36: 0.33333333 | D36: 0.33333333 | E36: 0.33333333 | F36: 0.33333333 | I36: =SUM(B36:H36) -> 1.6666667
A37: Départ | B37: 0.5 | C37: 0.5 | D37: 0.5 | E37: 0.5 | F37: 0.5 | I37: =SUM(B37:H37) -> 2.5
A38: Total a.m | B38: =B37-B36 -> 0.16666667 | C38: =C37-C36 -> 0.16666667 | D38: =D37-D36 -> 0.16666667 | E38: =E37-E36 -> 0.16666667 | F38: =F37-F36 -> 0.16666667 | G38: =G37-G36 -> 0 | H38: =H37-H36 -> 0 | I38: =I37-I36 -> 0.83333333
A39: Arrivée | B39: 0.5625 | C39: 0.5625 | D39: 0.5625 | E39: 0.5625 | F39: 0.5625 | I39: =SUM(B39:H39) -> 2.8125
A40: Départ | B40: 0.72916667 | C40: 0.72916667 | D40: 0.72916667 | E40: 0.72916667 | F40: 0.72916667 | I40: =SUM(B40:H40) -> 3.6458333
A41: Total p.m | B41: =B40-B39 -> 0.16666667 | C41: =C40-C39 -> 0.16666667 | D41: =D40-D39 -> 0.16666667 | E41: =E40-E39 -> 0.16666667 | F41: =F40-F39 -> 0.16666667 | G41: =G40-G39 -> 0 | H41: =H40-H39 -> 0 | I41: =I40-I39 -> 0.83333333
A42: Total du jour (minute) | B42: =B38+B41 -> 0.33333333 | C42: =C38+C41 -> 0.33333333 | D42: =D38+D41 -> 0.33333333 | E42: =E38+E41 -> 0.33333333 | F42: =F38+F41 -> 0.33333333 | G42: =G38+G41 -> 0 | H42: =H38+H41 -> 0 | I42: =SUM(B42:H42) -> 1.6666667
A44: Remarque
K45: 2017
A46: SEMAINE N° | B46: LUNDI | C46: MARDI | D46: MERCREDI | E46: JEUDI | F46: VENDREDI | G46: SAMEDI | H46: DIMANCHE | I46: Total de la semaine
A47: 34 | B47: 41506 | C47: 41507 | D47: 41508 | E47: 41509 | F47: 41510 | G47: 41511 | H47: 41512
B48: =IF(OR(B46="LUNDI",B46="MARDI",B46="MERCREDI",B46="JEUDI",B46="VENDREDI"),1,0) -> 1 | C48: =IF(OR(C46="LUNDI",C46="MARDI",C46="MERCREDI",C46="JEUDI",C46="VENDREDI"),1,0) -> 1 | D48: =IF(OR(D46="LUNDI",D46="MARDI",D46="MERCREDI",D46="JEUDI",D46="VENDREDI"),1,0) -> 1 | E48: 1 | F48: 1 | G48: =IF(OR(G46="LUNDI",G46="MARDI",G46="MERCREDI",G46="JEUDI",G46="VENDREDI"),1,0) -> 0 | H48: =IF(OR(H46="LUNDI",H46="MARDI",H46="MERCREDI",H46="JEUDI",H46="VENDREDI"),1,0) -> 0
A49: Arrivée | B49: 0.33333333 | C49: 0.33333333 | D49: 0.33333333 | E49: 0.33333333 | F49: 0.33333333 | I49: =SUM(B49:H49) -> 1.6666667
A50: Départ | B50: 0.5 | C50: 0.5 | D50: 0.5 | E50: 0.5 | F50: 0.5 | I50: =SUM(B50:H50) -> 2.5
A51: Total a.m | B51: =B50-B49 -> 0.16666667 | C51: =C50-C49 -> 0.16666667 | D51: =D50-D49 -> 0.16666667 | E51: =E50-E49 -> 0.16666667 | F51: =F50-F49 -> 0.16666667 | G51: =G50-G49 -> 0 | H51: =H50-H49 -> 0 | I51: =I50-I49 -> 0.83333333
A52: Arrivée | B52: 0.5625 | C52: 0.5625 | D52: 0.5625 | E52: 0.5625 | F52: 0.5625 | I52: =SUM(B52:H52) -> 2.8125
A53: Départ | B53: 0.72916667 | C53: 0.72916667 | D53: 0.72916667 | E53: 0.72916667 | F53: 0.72916667 | I53: =SUM(B53:H53) -> 3.6458333
A54: Total p.m | B54: =B53-B52 -> 0.16666667 | C54: =C53-C52 -> 0.16666667 | D54: =D53-D52 -> 0.16666667 | E54: =E53-E52 -> 0.16666667 | F54: =F53-F52 -> 0.16666667 | G54: =G53-G52 -> 0 | H54: =H53-H52 -> 0 | I54: =I53-I52 -> 0.83333333
A55: Total du jour (minute) | B55: =B51+B54 -> 0.33333333 | C55: =C51+C54 -> 0.33333333 | D55: =D51+D54 -> 0.33333333 | E55: =E51+E54 -> 0.33333333 | F55: =F51+F54 -> 0.33333333 | G55: =G51+G54 -> 0 | H55: =H51+H54 -> 0 | I55: =SUM(B55:H55) -> 1.6666667
A57: Remarque
K58: 2017
A59: SEMAINE N° | B59: LUNDI | C59: MARDI | D59: MERCREDI | E59: JEUDI | F59: VENDREDI | G59: SAMEDI | H59: DIMANCHE | I59: Total de la semaine
A60: 35 | B60: 41513 | C60: 41514 | D60: 41515 | E60: 41516
B61: =IF(OR(B59="LUNDI",B59="MARDI",B59="MERCREDI",B59="JEUDI",B59="VENDREDI"),1,0) -> 1 | C61: =IF(OR(C59="LUNDI",C59="MARDI",C59="MERCREDI",C59="JEUDI",C59="VENDREDI"),1,0) -> 1 | D61: 1 | E61: 1 | F61: 0 | G61: =IF(OR(G59="LUNDI",G59="MARDI",G59="MERCREDI",G59="JEUDI",G59="VENDREDI"),1,0) -> 0 | H61: =IF(OR(H59="LUNDI",H59="MARDI",H59="MERCREDI",H59="JEUDI",H59="VENDREDI"),1,0) -> 0
A62: Arrivée | B62: 0.33333333 | C62: 0.33333333 | D62: 0.33333333 | E62: 0.33333333 | I62: =SUM(B62:H62) -> 1.3333333
A63: Départ | B63: 0.5 | C63: 0.5 | D63: 0.5 | E63: 0.5 | I63: =SUM(B63:H63) -> 2
A64: Total a.m | B64: =B63-B62 -> 0.16666667 | C64: =C63-C62 -> 0.16666667 | D64: =D63-D62 -> 0.16666667 | E64: =E63-E62 -> 0.16666667 | F64: =F63-F62 -> 0 | G64: =G63-G62 -> 0 | H64: =H63-H62 -> 0 | I64: =I63-I62 -> 0.66666667
A65: Arrivée | B65: 0.5625 | C65: 0.5625 | D65: 0.5625 | E65: 0.5625 | I65: =SUM(B65:H65) -> 2.25
A66: Départ | B66: 0.72916667 | C66: 0.72916667 | D66: 0.72916667 | E66: 0.72916667 | I66: =SUM(B66:H66) -> 2.9166667
A67: Total p.m | B67: =B66-B65 -> 0.16666667 | C67: =C66-C65 -> 0.16666667 | D67: =D66-D65 -> 0.16666667 | E67: =E66-E65 -> 0.16666667 | F67: =F66-F65 -> 0 | G67: =G66-G65 -> 0 | H67: =H66-H65 -> 0 | I67: =I66-I65 -> 0.66666667
A68: Total du jour (minute) | B68: =B64+B67 -> 0.33333333 | C68: =C64+C67 -> 0.33333333 | D68: =D64+D67 -> 0.33333333 | E68: =E64+E67 -> 0.33333333 | F68: =F64+F67 -> 0 | G68: =G64+G67 -> 0 | H68: =H64+H67 -> 0 | I68: =SUM(B68:H68) -> 1.3333333
A70: Remarque
A72: TOTAL DES HEURES | C72: =(I68+I55+I42+I29+I16) -> 7.3333333
A74: NOMBRE DE JOURS | C74: =SUM(B9:H9,B22:H22,B35:H35,B48:H48,B61:H61,) -> 22 | D74: (Pour un 100%)
A75: NOMBRE D'HEURE PAR JOUR | C75: 0.33333333
A77: TOTAL HEURES A FAIRE | C77: =(C74*C75) -> 7.3333333
A79: Différence: | C79: =(C72-C77) -> -8.8817842e-16

Sheet SEPTEMBRE
A1: Gestion des heures
A3: Nom : | D3: Mois: | E3: SEPTEMBRE | K3: JANVIER
A4: Prénom: | B4: ALAIN | D4: Année: | E4: 2017 | K4: FEVRIER
A5: Noter les heures sous la forme 8:00 et arrondisser vos heures. | K5: MARS
K6: AVRIL
A7: SEMAINE N° | B7: LUNDI | C7: MARDI | D7: MERCREDI | E7: JEUDI | F7: VENDREDI | G7: SAMEDI | H7: DIMANCHE | I7: Total de la semaine | K7: MAI
A8: 35 | F8: 41517 | G8: 41518 | H8: 41519 | K8: JUIN
B9: 0 | C9: 0 | D9: 0 | E9: 0 | F9: 1 | G9: =IF(OR(G7="LUNDI",G7="MARDI",G7="MERCREDI",G7="JEUDI",G7="VENDREDI"),1,0) -> 0 | H9: =IF(OR(H7="LUNDI",H7="MARDI",H7="MERCREDI",H7="JEUDI",H7="VENDREDI"),1,0) -> 0 | K9: JUIN
A10: Arrivée | F10: 0.33333333 | I10: =SUM(B10:H10) -> 0.33333333 | K10: JUILLET
A11: Départ | F11: 0.5 | I11: =SUM(B11:H11) -> 0.5 | K11: AOÛT
A12: Total a.m | B12: =B11-B10 -> 0 | C12: =C11-C10 -> 0 | D12: =D11-D10 -> 0 | E12: =E11-E10 -> 0 | F12: =F11-F10 -> 0.16666667 | G12: =G11-G10 -> 0 | H12: =H11-H10 -> 0 | I12: =I11-I10 -> 0.16666667 | K12: SEPTEMBRE
A13: Arrivée | F13: 0.5625 | I13: =SUM(B13:H13) -> 0.5625 | K13: OCTOBRE
A14: Départ | F14: 0.72916667 | I14: =SUM(B14:H14) -> 0.72916667 | K14: NOVEMBRE
A15: Total p.m | B15: =B14-B13 -> 0 | C15: =C14-C13 -> 0 | D15: =D14-D13 -> 0 | E15: =E14-E13 -> 0 | F15: =F14-F13 -> 0.16666667 | G15: =G14-G13 -> 0 | H15: =H14-H13 -> 0 | I15: =I14-I13 -> 0.16666667 | K15: DÉCEMBRE
A16: Total du jour (minute) | B16: =B12+B15 -> 0 | C16: =C12+C15 -> 0 | D16: =D12+D15 -> 0 | E16: =E12+E15 -> 0 | F16: =F12+F15 -> 0.33333333 | G16: =G12+G15 -> 0 | H16: =H12+H15 -> 0 | I16: =SUM(B16:H16) -> 0.33333333
A18: Remarque
K19: 2017
A20: SEMAINE N° | B20: LUNDI | C20: MARDI | D20: MERCREDI | E20: JEUDI | F20: VENDREDI | G20: SAMEDI | H20: DIMANCHE | I20: Total de la semaine | K20: 2018
A21: 36 | B21: 41520 | C21: 41521 | D21: 41522 | E21: 41523 | F21: 41524 | G21: 41525 | H21: 41526
B22: 1 | C22: =IF(OR(C20="LUNDI",C20="MARDI",C20="MERCREDI",C20="JEUDI",C20="VENDREDI"),1,0) -> 1 | D22: =IF(OR(D20="LUNDI",D20="MARDI",D20="MERCREDI",D20="JEUDI",D20="VENDREDI"),1,0) -> 1 | E22: =IF(OR(E20="LUNDI",E20="MARDI",E20="MERCREDI",E20="JEUDI",E20="VENDREDI"),1,0) -> 1 | F22: =IF(OR(F20="LUNDI",F20="MARDI",F20="MERCREDI",F20="JEUDI",F20="VENDREDI"),1,0) -> 1 | G22: =IF(OR(G20="LUNDI",G20="MARDI",G20="MERCREDI",G20="JEUDI",G20="VENDREDI"),1,0) -> 0 | H22: =IF(OR(H20="LUNDI",H20="MARDI",H20="MERCREDI",H20="JEUDI",H20="VENDREDI"),1,0) -> 0 | K22: 2019
A23: Arrivée | B23: 0.33333333 | C23: 0.33333333 | D23: 0.33333333 | E23: 0.33333333 | F23: 0.33333333 | I23: =SUM(B23:H23) -> 1.6666667 | K23: 2020
A24: Départ | B24: 0.5 | C24: 0.5 | D24: 0.5 | E24: 0.5 | F24: 0.5 | I24: =SUM(B24:H24) -> 2.5 | K24: 2021
A25: Total a.m | B25: =B24-B23 -> 0.16666667 | C25: =C24-C23 -> 0.16666667 | D25: =D24-D23 -> 0.16666667 | E25: =E24-E23 -> 0.16666667 | F25: =F24-F23 -> 0.16666667 | G25: =G24-G23 -> 0 | H25: =H24-H23 -> 0 | I25: =I24-I23 -> 0.83333333 | K25: 2022
A26: Arrivée | B26: 0.5625 | C26: 0.5625 | D26: 0.5625 | E26: 0.5625 | F26: 0.5625 | I26: =SUM(B26:H26) -> 2.8125 | K26: 2023
A27: Départ | B27: 0.72916667 | C27: 0.72916667 | D27: 0.72916667 | E27: 0.72916667 | F27: 0.72916667 | I27: =SUM(B27:H27) -> 3.6458333 | K27: 2024
A28: Total p.m | B28: =B27-B26 -> 0.16666667 | C28: =C27-C26 -> 0.16666667 | D28: =D27-D26 -> 0.16666667 | E28: =E27-E26 -> 0.16666667 | F28: =F27-F26 -> 0.16666667 | G28: =G27-G26 -> 0 | H28: =H27-H26 -> 0 | I28: =I27-I26 -> 0.83333333 | K28: 2025
A29: Total du jour (minute) | B29: =B25+B28 -> 0.33333333 | C29: =C25+C28 -> 0.33333333 | D29: =D25+D28 -> 0.33333333 | E29: =E25+E28 -> 0.33333333 | F29: =F25+F28 -> 0.33333333 | G29: =G25+G28 -> 0 | H29: =H25+H28 -> 0 | I29: =SUM(B29:H29) -> 1.6666667
A31: Remarque
K32: 2017
A33: SEMAINE N° | B33: LUNDI | C33: MARDI | D33: MERCREDI | E33: JEUDI | F33: VENDREDI | G33: SAMEDI | H33: DIMANCHE | I33: Total de la semaine
A34: 37 | B34: 41527 | C34: 41528 | D34: 41529 | E34: 41530 | F34: 41531 | G34: 41532 | H34: 41533
B35: =IF(OR(B33="LUNDI",B33="MARDI",B33="MERCREDI",B33="JEUDI",B33="VENDREDI"),1,0) -> 1 | C35: =IF(OR(C33="LUNDI",C33="MARDI",C33="MERCREDI",C33="JEUDI",C33="VENDREDI"),1,0) -> 1 | D35: =IF(OR(D33="LUNDI",D33="MARDI",D33="MERCREDI",D33="JEUDI",D33="VENDREDI"),1,0) -> 1 | E35: =IF(OR(E33="LUNDI",E33="MARDI",E33="MERCREDI",E33="JEUDI",E33="VENDREDI"),1,0) -> 1 | F35: =IF(OR(F33="LUNDI",F33="MARDI",F33="MERCREDI",F33="JEUDI",F33="VENDREDI"),1,0) -> 1 | G35: =IF(OR(G33="LUNDI",G33="MARDI",G33="MERCREDI",G33="JEUDI",G33="VENDREDI"),1,0) -> 0 | H35: =IF(OR(H33="LUNDI",H33="MARDI",H33="MERCREDI",H33="JEUDI",H33="VENDREDI"),1,0) -> 0
A36: Arrivée | B36: 0.33333333 | C36: 0.33333333 | D36: 0.33333333 | E36: 0.33333333 | F36: 0.33333333 | I36: =SUM(B36:H36) -> 1.6666667
A37: Départ | B37: 0.5 | C37: 0.5 | D37: 0.5 | E37: 0.5 | F37: 0.5 | I37: =SUM(B37:H37) -> 2.5
A38: Total a.m | B38: =B37-B36 -> 0.16666667 | C38: =C37-C36 -> 0.16666667 | D38: =D37-D36 -> 0.16666667 | E38: =E37-E36 -> 0.16666667 | F38: =F37-F36 -> 0.16666667 | G38: =G37-G36 -> 0 | H38: =H37-H36 -> 0 | I38: =I37-I36 -> 0.83333333
A39: Arrivée | B39: 0.5625 | C39: 0.5625 | D39: 0.5625 | E39: 0.5625 | F39: 0.5625 | I39: =SUM(B39:H39) -> 2.8125
A40: Départ | B40: 0.72916667 | C40: 0.72916667 | D40: 0.72916667 | E40: 0.72916667 | F40: 0.72916667 | I40: =SUM(B40:H40) -> 3.6458333
A41: Total p.m | B41: =B40-B39 -> 0.16666667 | C41: =C40-C39 -> 0.16666667 | D41: =D40-D39 -> 0.16666667 | E41: =E40-E39 -> 0.16666667 | F41: =F40-F39 -> 0.16666667 | G41: =G40-G39 -> 0 | H41: =H40-H39 -> 0 | I41: =I40-I39 -> 0.83333333
A42: Total du jour (minute) | B42: =B38+B41 -> 0.33333333 | C42: =C38+C41 -> 0.33333333 | D42: =D38+D41 -> 0.33333333 | E42: =E38+E41 -> 0.33333333 | F42: =F38+F41 -> 0.33333333 | G42: =G38+G41 -> 0 | H42: =H38+H41 -> 0 | I42: =SUM(B42:H42) -> 1.6666667
A44: Remarque
K45: 2017
A46: SEMAINE N° | B46: LUNDI | C46: MARDI | D46: MERCREDI | E46: JEUDI | F46: VENDREDI | G46: SAMEDI | H46: DIMANCHE | I46: Total de la semaine
A47: 38 | B47: 41534 | C47: 41535 | D47: 41536 | E47: 41537 | F47: 41538 | G47: 41539 | H47: 41540
B48: =IF(OR(B46="LUNDI",B46="MARDI",B46="MERCREDI",B46="JEUDI",B46="VENDREDI"),1,0) -> 1 | C48: =IF(OR(C46="LUNDI",C46="MARDI",C46="MERCREDI",C46="JEUDI",C46="VENDREDI"),1,0) -> 1 | D48: =IF(OR(D46="LUNDI",D46="MARDI",D46="MERCREDI",D46="JEUDI",D46="VENDREDI"),1,0) -> 1 | E48: 1 | F48: 1 | G48: =IF(OR(G46="LUNDI",G46="MARDI",G46="MERCREDI",G46="JEUDI",G46="VENDREDI"),1,0) -> 0 | H48: =IF(OR(H46="LUNDI",H46="MARDI",H46="MERCREDI",H46="JEUDI",H46="VENDREDI"),1,0) -> 0
A49: Arrivée | B49: 0.33333333 | C49: 0.33333333 | D49: 0.33333333 | E49: 0.33333333 | F49: 0.33333333 | I49: =SUM(B49:H49) -> 1.6666667
A50: Départ | B50: 0.5 | C50: 0.5 | D50: 0.5 | E50: 0.5 | F50: 0.5 | I50: =SUM(B50:H50) -> 2.5
A51: Total a.m | B51: =B50-B49 -> 0.16666667 | C51: =C50-C49 -> 0.16666667 | D51: =D50-D49 -> 0.16666667 | E51: =E50-E49 -> 0.16666667 | F51: =F50-F49 -> 0.16666667 | G51: =G50-G49 -> 0 | H51: =H50-H49 -> 0 | I51: =I50-I49 -> 0.83333333
A52: Arrivée | B52: 0.5625 | C52: 0.5625 | D52: 0.5625 | E52: 0.5625 | F52: 0.5625 | I52: =SUM(B52:H52) -> 2.8125
A53: Départ | B53: 0.72916667 | C53: 0.72916667 | D53: 0.72916667 | E53: 0.72916667 | F53: 0.72916667 | I53: =SUM(B53:H53) -> 3.6458333
A54: Total p.m | B54: =B53-B52 -> 0.16666667 | C54: =C53-C52 -> 0.16666667 | D54: =D53-D52 -> 0.16666667 | E54: =E53-E52 -> 0.16666667 | F54: =F53-F52 -> 0.16666667 | G54: =G53-G52 -> 0 | H54: =H53-H52 -> 0 | I54: =I53-I52 -> 0.83333333
A55: Total du jour (minute) | B55: =B51+B54 -> 0.33333333 | C55: =C51+C54 -> 0.33333333 | D55: =D51+D54 -> 0.33333333 | E55: =E51+E54 -> 0.33333333 | F55: =F51+F54 -> 0.33333333 | G55: =G51+G54 -> 0 | H55: =H51+H54 -> 0 | I55: =SUM(B55:H55) -> 1.6666667
A57: Remarque
K58: 2017
A59: SEMAINE N° | B59: LUNDI | C59: MARDI | D59: MERCREDI | E59: JEUDI | F59: VENDREDI | G59: SAMEDI | H59: DIMANCHE | I59: Total de la semaine
A60: 39 | B60: 41541 | C60: 41542 | D60: 41543 | E60: 41544 | F60: 41545 | G60: 41546
B61: =IF(OR(B59="LUNDI",B59="MARDI",B59="MERCREDI",B59="JEUDI",B59="VENDREDI"),1,0) -> 1 | C61: =IF(OR(C59="LUNDI",C59="MARDI",C59="MERCREDI",C59="JEUDI",C59="VENDREDI"),1,0) -> 1 | D61: 1 | E61: 1 | F61: 1 | G61: =IF(OR(G59="LUNDI",G59="MARDI",G59="MERCREDI",G59="JEUDI",G59="VENDREDI"),1,0) -> 0 | H61: =IF(OR(H59="LUNDI",H59="MARDI",H59="MERCREDI",H59="JEUDI",H59="VENDREDI"),1,0) -> 0
A62: Arrivée | B62: 0.33333333 | C62: 0.33333333 | D62: 0.33333333 | E62: 0.33333333 | F62: 0.33333333 | I62: =SUM(B62:H62) -> 1.6666667
A63: Départ | B63: 0.5 | C63: 0.5 | D63: 0.5 | E63: 0.5 | F63: 0.5 | I63: =SUM(B63:H63) -> 2.5
A64: Total a.m | B64: =B63-B62 -> 0.16666667 | C64: =C63-C62 -> 0.16666667 | D64: =D63-D62 -> 0.16666667 | E64: =E63-E62 -> 0.16666667 | F64: =F63-F62 -> 0.16666667 | G64: =G63-G62 -> 0 | H64: =H63-H62 -> 0 | I64: =I63-I62 -> 0.83333333
A65: Arrivée | B65: 0.5625 | C65: 0.5625 | D65: 0.5625 | E65: 0.5625 | F65: 0.5625 | I65: =SUM(B65:H65) -> 2.8125
A66: Départ | B66: 0.72916667 | C66: 0.72916667 | D66: 0.72916667 | E66: 0.72916667 | F66: 0.72916667 | I66: =SUM(B66:H66) -> 3.6458333
A67: Total p.m | B67: =B66-B65 -> 0.16666667 | C67: =C66-C65 -> 0.16666667 | D67: =D66-D65 -> 0.16666667 | E67: =E66-E65 -> 0.16666667 | F67: =F66-F65 -> 0.16666667 | G67: =G66-G65 -> 0 | H67: =H66-H65 -> 0 | I67: =I66-I65 -> 0.83333333
A68: Total du jour (minute) | B68: =B64+B67 -> 0.33333333 | C68: =C64+C67 -> 0.33333333 | D68: =D64+D67 -> 0.33333333 | E68: =E64+E67 -> 0.33333333 | F68: =F64+F67 -> 0.33333333 | G68: =G64+G67 -> 0 | H68: =H64+H67 -> 0 | I68: =SUM(B68:H68) -> 1.6666667
A70: Remarque
A72: TOTAL DES HEURES | C72: =(I68+I55+I42+I29+I16) -> 7
A74: NOMBRE DE JOURS | C74: =SUM(B9:H9,B22:H22,B35:H35,B48:H48,B61:H61,) -> 21 | D74: (Pour un 100%)
A75: NOMBRE D'HEURE PAR JOUR | C75: 0.33333333
A77: TOTAL HEURES A FAIRE | C77: =(C74*C75) -> 7
A79: Différence: | C79: =(C72-C77) -> -8.8817842e-16

Sheet OCTOBRE
A1: Gestion des heures
A3: Nom : | D3: Mois: | E3: OCTOBRE | K3: JANVIER
A4: Prénom: | B4: ALAIN | D4: Année: | E4: 2017 | K4: FEVRIER
A5: Noter les heures sous la forme 8:00 et arrondisser vos heures. | K5: MARS
K6: AVRIL
A7: SEMAINE N° | B7: LUNDI | C7: MARDI | D7: MERCREDI | E7: JEUDI | F7: VENDREDI | G7: SAMEDI | H7: DIMANCHE | I7: Total de la semaine | K7: MAI
A8: 39 | H8: 41547 | K8: JUIN
B9: 0 | C9: 0 | D9: 0 | E9: 0 | F9: 0 | G9: =IF(OR(G7="LUNDI",G7="MARDI",G7="MERCREDI",G7="JEUDI",G7="VENDREDI"),1,0) -> 0 | H9: =IF(OR(H7="LUNDI",H7="MARDI",H7="MERCREDI",H7="JEUDI",H7="VENDREDI"),1,0) -> 0 | K9: JUIN
A10: Arrivée | I10: =SUM(B10:H10) -> 0 | K10: JUILLET
A11: Départ | I11: =SUM(B11:H11) -> 0 | K11: AOÛT
A12: Total a.m | B12: =B11-B10 -> 0 | C12: =C11-C10 -> 0 | D12: =D11-D10 -> 0 | E12: =E11-E10 -> 0 | F12: =F11-F10 -> 0 | G12: =G11-G10 -> 0 | H12: =H11-H10 -> 0 | I12: =I11-I10 -> 0 | K12: SEPTEMBRE
A13: Arrivée | I13: =SUM(B13:H13) -> 0 | K13: OCTOBRE
A14: Départ | I14: =SUM(B14:H14) -> 0 | K14: NOVEMBRE
A15: Total p.m | B15: =B14-B13 -> 0 | C15: =C14-C13 -> 0 | D15: =D14-D13 -> 0 | E15: =E14-E13 -> 0 | F15: =F14-F13 -> 0 | G15: =G14-G13 -> 0 | H15: =H14-H13 -> 0 | I15: =I14-I13 -> 0 | K15: DÉCEMBRE
A16: Total du jour (minute) | B16: =B12+B15 -> 0 | C16: =C12+C15 -> 0 | D16: =D12+D15 -> 0 | E16: =E12+E15 -> 0 | F16: =F12+F15 -> 0 | G16: =G12+G15 -> 0 | H16: =H12+H15 -> 0 | I16: =SUM(B16:H16) -> 0
A18: Remarque
K19: 2017
A20: SEMAINE N° | B20: LUNDI | C20: MARDI | D20: MERCREDI | E20: JEUDI | F20: VENDREDI | G20: SAMEDI | H20: DIMANCHE | I20: Total de la semaine | K20: 2018
A21: 40 | B21: 41548 | C21: 41549 | D21: 41550 | E21: 41551 | F21: 41552 | G21: 41553 | H21: 41554
B22: 1 | C22: =IF(OR(C20="LUNDI",C20="MARDI",C20="MERCREDI",C20="JEUDI",C20="VENDREDI"),1,0) -> 1 | D22: =IF(OR(D20="LUNDI",D20="MARDI",D20="MERCREDI",D20="JEUDI",D20="VENDREDI"),1,0) -> 1 | E22: =IF(OR(E20="LUNDI",E20="MARDI",E20="MERCREDI",E20="JEUDI",E20="VENDREDI"),1,0) -> 1 | F22: =IF(OR(F20="LUNDI",F20="MARDI",F20="MERCREDI",F20="JEUDI",F20="VENDREDI"),1,0) -> 1 | G22: =IF(OR(G20="LUNDI",G20="MARDI",G20="MERCREDI",G20="JEUDI",G20="VENDREDI"),1,0) -> 0 | H22: =IF(OR(H20="LUNDI",H20="MARDI",H20="MERCREDI",H20="JEUDI",H20="VENDREDI"),1,0) -> 0 | K22: 2019
A23: Arrivée | B23: 0.33333333 | C23: 0.33333333 | D23: 0.33333333 | E23: 0.33333333 | F23: 0.33333333 | I23: =SUM(B23:H23) -> 1.6666667 | K23: 2020
A24: Départ | B24: 0.5 | C24: 0.5 | D24: 0.5 | E24: 0.5 | F24: 0.5 | I24: =SUM(B24:H24) -> 2.5 | K24: 2021
A25: Total a.m | B25: =B24-B23 -> 0.16666667 | C25: =C24-C23 -> 0.16666667 | D25: =D24-D23 -> 0.16666667 | E25: =E24-E23 -> 0.16666667 | F25: =F24-F23 -> 0.16666667 | G25: =G24-G23 -> 0 | H25: =H24-H23 -> 0 | I25: =I24-I23 -> 0.83333333 | K25: 2022
A26: Arrivée | B26: 0.5625 | C26: 0.5625 | D26: 0.5625 | E26: 0.5625 | F26: 0.5625 | I26: =SUM(B26:H26) -> 2.8125 | K26: 2023
A27: Départ | B27: 0.72916667 | C27: 0.72916667 | D27: 0.72916667 | E27: 0.72916667 | F27: 0.72916667 | I27: =SUM(B27:H27) -> 3.6458333 | K27: 2024
A28: Total p.m | B28: =B27-B26 -> 0.16666667 | C28: =C27-C26 -> 0.16666667 | D28: =D27-D26 -> 0.16666667 | E28: =E27-E26 -> 0.16666667 | F28: =F27-F26 -> 0.16666667 | G28: =G27-G26 -> 0 | H28: =H27-H26 -> 0 | I28: =I27-I26 -> 0.83333333 | K28: 2025
A29: Total du jour (minute) | B29: =B25+B28 -> 0.33333333 | C29: =C25+C28 -> 0.33333333 | D29: =D25+D28 -> 0.33333333 | E29: =E25+E28 -> 0.33333333 | F29: =F25+F28 -> 0.33333333 | G29: =G25+G28 -> 0 | H29: =H25+H28 -> 0 | I29: =SUM(B29:H29) -> 1.6666667
A31: Remarque
K32: 2017
A33: SEMAINE N° | B33: LUNDI | C33: MARDI | D33: MERCREDI | E33: JEUDI | F33: VENDREDI | G33: SAMEDI | H33: DIMANCHE | I33: Total de la semaine
A34: 41 | B34: 41555 | C34: 41556 | D34: 41557 | E34: 41558 | F34: 41559 | G34: 41560 | H34: 41561
B35: =IF(OR(B33="LUNDI",B33="MARDI",B33="MERCREDI",B33="JEUDI",B33="VENDREDI"),1,0) -> 1 | C35: =IF(OR(C33="LUNDI",C33="MARDI",C33="MERCREDI",C33="JEUDI",C33="VENDREDI"),1,0) -> 1 | D35: =IF(OR(D33="LUNDI",D33="MARDI",D33="MERCREDI",D33="JEUDI",D33="VENDREDI"),1,0) -> 1 | E35: =IF(OR(E33="LUNDI",E33="MARDI",E33="MERCREDI",E33="JEUDI",E33="VENDREDI"),1,0) -> 1 | F35: =IF(OR(F33="LUNDI",F33="MARDI",F33="MERCREDI",F33="JEUDI",F33="VENDREDI"),1,0) -> 1 | G35: =IF(OR(G33="LUNDI",G33="MARDI",G33="MERCREDI",G33="JEUDI",G33="VENDREDI"),1,0) -> 0 | H35: =IF(OR(H33="LUNDI",H33="MARDI",H33="MERCREDI",H33="JEUDI",H33="VENDREDI"),1,0) -> 0
A36: Arrivée | B36: 0.33333333 | C36: 0.33333333 | D36: 0.33333333 | E36: 0.33333333 | F36: 0.33333333 | I36: =SUM(B36:H36) -> 1.6666667
A37: Départ | B37: 0.5 | C37: 0.5 | D37: 0.5 | E37: 0.5 | F37: 0.5 | I37: =SUM(B37:H37) -> 2.5
A38: Total a.m | B38: =B37-B36 -> 0.16666667 | C38: =C37-C36 -> 0.16666667 | D38: =D37-D36 -> 0.16666667 | E38: =E37-E36 -> 0.16666667 | F38: =F37-F36 -> 0.16666667 | G38: =G37-G36 -> 0 | H38: =H37-H36 -> 0 | I38: =I37-I36 -> 0.83333333
A39: Arrivée | B39: 0.5625 | C39: 0.5625 | D39: 0.5625 | E39: 0.5625 | F39: 0.5625 | I39: =SUM(B39:H39) -> 2.8125
A40: Départ | B40: 0.72916667 | C40: 0.72916667 | D40: 0.72916667 | E40: 0.72916667 | F40: 0.72916667 | I40: =SUM(B40:H40) -> 3.6458333
A41: Total p.m | B41: =B40-B39 -> 0.16666667 | C41: =C40-C39 -> 0.16666667 | D41: =D40-D39 -> 0.16666667 | E41: =E40-E39 -> 0.16666667 | F41: =F40-F39 -> 0.16666667 | G41: =G40-G39 -> 0 | H41: =H40-H39 -> 0 | I41: =I40-I39 -> 0.83333333
A42: Total du jour (minute) | B42: =B38+B41 -> 0.33333333 | C42: =C38+C41 -> 0.33333333 | D42: =D38+D41 -> 0.33333333 | E42: =E38+E41 -> 0.33333333 | F42: =F38+F41 -> 0.33333333 | G42: =G38+G41 -> 0 | H42: =H38+H41 -> 0 | I42: =SUM(B42:H42) -> 1.6666667
A44: Remarque
K45: 2017
A46: SEMAINE N° | B46: LUNDI | C46: MARDI | D46: MERCREDI | E46: JEUDI | F46: VENDREDI | G46: SAMEDI | H46: DIMANCHE | I46: Total de la semaine
A47: 42 | B47: 41562 | C47: 41563 | D47: 41564 | E47: 41565 | F47: 41566 | G47: 41567 | H47: 41568
B48: =IF(OR(B46="LUNDI",B46="MARDI",B46="MERCREDI",B46="JEUDI",B46="VENDREDI"),1,0) -> 1 | C48: =IF(OR(C46="LUNDI",C46="MARDI",C46="MERCREDI",C46="JEUDI",C46="VENDREDI"),1,0) -> 1 | D48: =IF(OR(D46="LUNDI",D46="MARDI",D46="MERCREDI",D46="JEUDI",D46="VENDREDI"),1,0) -> 1 | E48: 1 | F48: 1 | G48: =IF(OR(G46="LUNDI",G46="MARDI",G46="MERCREDI",G46="JEUDI",G46="VENDREDI"),1,0) -> 0 | H48: =IF(OR(H46="LUNDI",H46="MARDI",H46="MERCREDI",H46="JEUDI",H46="VENDREDI"),1,0) -> 0
A49: Arrivée | B49: 0.33333333 | C49: 0.33333333 | D49: 0.33333333 | E49: 0.33333333 | F49: 0.33333333 | I49: =SUM(B49:H49) -> 1.6666667
A50: Départ | B50: 0.5 | C50: 0.5 | D50: 0.5 | E50: 0.5 | F50: 0.5 | I50: =SUM(B50:H50) -> 2.5
A51: Total a.m | B51: =B50-B49 -> 0.16666667 | C51: =C50-C49 -> 0.16666667 | D51: =D50-D49 -> 0.16666667 | E51: =E50-E49 -> 0.16666667 | F51: =F50-F49 -> 0.16666667 | G51: =G50-G49 -> 0 | H51: =H50-H49 -> 0 | I51: =I50-I49 -> 0.83333333
A52: Arrivée | B52: 0.5625 | C52: 0.5625 | D52: 0.5625 | E52: 0.5625 | F52: 0.5625 | I52: =SUM(B52:H52) -> 2.8125
A53: Départ | B53: 0.72916667 | C53: 0.72916667 | D53: 0.72916667 | E53: 0.72916667 | F53: 0.72916667 | I53: =SUM(B53:H53) -> 3.6458333
A54: Total p.m | B54: =B53-B52 -> 0.16666667 | C54: =C53-C52 -> 0.16666667 | D54: =D53-D52 -> 0.16666667 | E54: =E53-E52 -> 0.16666667 | F54: =F53-F52 -> 0.16666667 | G54: =G53-G52 -> 0 | H54: =H53-H52 -> 0 | I54: =I53-I52 -> 0.83333333
A55: Total du jour (minute) | B55: =B51+B54 -> 0.33333333 | C55: =C51+C54 -> 0.33333333 | D55: =D51+D54 -> 0.33333333 | E55: =E51+E54 -> 0.33333333 | F55: =F51+F54 -> 0.33333333 | G55: =G51+G54 -> 0 | H55: =H51+H54 -> 0 | I55: =SUM(B55:H55) -> 1.6666667
A57: Remarque
K58: 2017
A59: SEMAINE N° | B59: LUNDI | C59: MARDI | D59: MERCREDI | E59: JEUDI | F59: VENDREDI | G59: SAMEDI | H59: DIMANCHE | I59: Total de la semaine
A60: 43 | B60: 41569 | C60: 41570 | D60: 41571 | E60: 41572 | F60: 41573 | G60: 41574 | H60: 41575
B61: =IF(OR(B59="LUNDI",B59="MARDI",B59="MERCREDI",B59="JEUDI",B59="VENDREDI"),1,0) -> 1 | C61: =IF(OR(C59="LUNDI",C59="MARDI",C59="MERCREDI",C59="JEUDI",C59="VENDREDI"),1,0) -> 1 | D61: 1 | E61: 1 | F61: 1 | G61: =IF(OR(G59="LUNDI",G59="MARDI",G59="MERCREDI",G59="JEUDI",G59="VENDREDI"),1,0) -> 0 | H61: =IF(OR(H59="LUNDI",H59="MARDI",H59="MERCREDI",H59="JEUDI",H59="VENDREDI"),1,0) -> 0
A62: Arrivée | B62: 0.33333333 | C62: 0.33333333 | D62: 0.33333333 | E62: 0.33333333 | F62: 0.33333333 | I62: =SUM(B62:H62) -> 1.6666667
A63: Départ | B63: 0.5 | C63: 0.5 | D63: 0.5 | E63: 0.5 | F63: 0.5 | I63: =SUM(B63:H63) -> 2.5
A64: Total a.m | B64: =B63-B62 -> 0.16666667 | C64: =C63-C62 -> 0.16666667 | D64: =D63-D62 -> 0.16666667 | E64: =E63-E62 -> 0.16666667 | F64: =F63-F62 -> 0.16666667 | G64: =G63-G62 -> 0 | H64: =H63-H62 -> 0 | I64: =I63-I62 -> 0.83333333
A65: Arrivée | B65: 0.5625 | C65: 0.5625 | D65: 0.5625 | E65: 0.5625 | F65: 0.5625 | I65: =SUM(B65:H65) -> 2.8125
A66: Départ | B66: 0.72916667 | C66: 0.72916667 | D66: 0.72916667 | E66: 0.72916667 | F66: 0.72916667 | I66: =SUM(B66:H66) -> 3.6458333
A67: Total p.m | B67: =B66-B65 -> 0.16666667 | C67: =C66-C65 -> 0.16666667 | D67: =D66-D65 -> 0.16666667 | E67: =E66-E65 -> 0.16666667 | F67: =F66-F65 -> 0.16666667 | G67: =G66-G65 -> 0 | H67: =H66-H65 -> 0 | I67: =I66-I65 -> 0.83333333
A68: Total du jour (minute) | B68: =B64+B67 -> 0.33333333 | C68: =C64+C67 -> 0.33333333 | D68: =D64+D67 -> 0.33333333 | E68: =E64+E67 -> 0.33333333 | F68: =F64+F67 -> 0.33333333 | G68: =G64+G67 -> 0 | H68: =H64+H67 -> 0 | I68: =SUM(B68:H68) -> 1.6666667
A70: Remarque
A72: SEMAINE N° | B72: LUNDI | C72: MARDI | D72: MERCREDI | E72: JEUDI | F72: VENDREDI | G72: SAMEDI | H72: DIMANCHE | I72: Total de la semaine
A73: 44 | B73: 41576 | C73: 41577
B74: =IF(OR(B72="LUNDI",B72="MARDI",B72="MERCREDI",B72="JEUDI",B72="VENDREDI"),1,0) -> 1 | C74: =IF(OR(C72="LUNDI",C72="MARDI",C72="MERCREDI",C72="JEUDI",C72="VENDREDI"),1,0) -> 1 | D74: 0 | E74: 0 | F74: 0 | G74: =IF(OR(G72="LUNDI",G72="MARDI",G72="MERCREDI",G72="JEUDI",G72="VENDREDI"),1,0) -> 0 | H74: =IF(OR(H72="LUNDI",H72="MARDI",H72="MERCREDI",H72="JEUDI",H72="VENDREDI"),1,0) -> 0
A75: Arrivée | B75: 0.33333333 | C75: 0.33333333 | I75: =SUM(B75:H75) -> 0.66666667
A76: Départ | B76: 0.5 | C76: 0.5 | I76: =SUM(B76:H76) -> 1
A77: Total a.m | B77: =B76-B75 -> 0.16666667 | C77: =C76-C75 -> 0.16666667 | D77: =D76-D75 -> 0 | E77: =E76-E75 -> 0 | F77: =F76-F75 -> 0 | G77: =G76-G75 -> 0 | H77: =H76-H75 -> 0 | I77: =I76-I75 -> 0.33333333
A78: Arrivée | B78: 0.5625 | C78: 0.5625 | I78: =SUM(B78:H78) -> 1.125
A79: Départ | B79: 0.72916667 | C79: 0.72916667 | I79: =SUM(B79:H79) -> 1.4583333
A80: Total p.m | B80: =B79-B78 -> 0.16666667 | C80: =C79-C78 -> 0.16666667 | D80: =D79-D78 -> 0 | E80: =E79-E78 -> 0 | F80: =F79-F78 -> 0 | G80: =G79-G78 -> 0 | H80: =H79-H78 -> 0 | I80: =I79-I78 -> 0.33333333
A81: Total du jour (minute) | B81: =B77+B80 -> 0.33333333 | C81: =C77+C80 -> 0.33333333 | D81: =D77+D80 -> 0 | E81: =E77+E80 -> 0 | F81: =F77+F80 -> 0 | G81: =G77+G80 -> 0 | H81: =H77+H80 -> 0 | I81: =SUM(B81:H81) -> 0.66666667
A83: Remarque
A85: TOTAL DES HEURES | C85: =(I68+I55+I42+I29+I16+I81) -> 7.3333333
A87: NOMBRE DE JOURS | C87: =SUM(B9:H9,B22:H22,B35:H35,B48:H48,B61:H61,B74:H74) -> 22 | D87: (Pour un 100%)
A88: NOMBRE D'HEURE PAR JOUR | C88: 0.33333333
A90: TOTAL HEURES A FAIRE | C90: =(C87*C88) -> 7.3333333
A92: Différence: | C92: =(C85-C90) -> 0

Sheet NOVEMBRE
A1: Gestion des heures
A3: Nom : | D3: Mois: | E3: NOVEMBRE | K3: JANVIER
A4: Prénom: | B4: ALAIN | D4: Année: | E4: 2017 | K4: FEVRIER
A5: Noter les heures sous la forme 8:00 et arrondisser vos heures. | K5: MARS
K6: AVRIL
A7: SEMAINE N° | B7: LUNDI | C7: MARDI | D7: MERCREDI | E7: JEUDI | F7: VENDREDI | G7: SAMEDI | H7: DIMANCHE | I7: Total de la semaine | K7: MAI
A8: 44 | D8: 41578 | E8: 41579 | F8: 41580 | G8: 41581 | H8: 41582 | K8: JUIN
B9: 0 | C9: 0 | D9: 0 | E9: 1 | F9: 1 | G9: =IF(OR(G7="LUNDI",G7="MARDI",G7="MERCREDI",G7="JEUDI",G7="VENDREDI"),1,0) -> 0 | H9: =IF(OR(H7="LUNDI",H7="MARDI",H7="MERCREDI",H7="JEUDI",H7="VENDREDI"),1,0) -> 0 | K9: JUIN
A10: Arrivée | E10: 0.33333333 | F10: 0.33333333 | I10: =SUM(B10:H10) -> 0.66666667 | K10: JUILLET
A11: Départ | E11: 0.5 | F11: 0.5 | I11: =SUM(B11:H11) -> 1 | K11: AOÛT
A12: Total a.m | B12: =B11-B10 -> 0 | C12: =C11-C10 -> 0 | D12: =D11-D10 -> 0 | E12: =E11-E10 -> 0.16666667 | F12: =F11-F10 -> 0.16666667 | G12: =G11-G10 -> 0 | H12: =H11-H10 -> 0 | I12: =I11-I10 -> 0.33333333 | K12: SEPTEMBRE
A13: Arrivée | E13: 0.5625 | F13: 0.5625 | I13: =SUM(B13:H13) -> 1.125 | K13: OCTOBRE
A14: Départ | E14: 0.72916667 | F14: 0.72916667 | I14: =SUM(B14:H14) -> 1.4583333 | K14: NOVEMBRE
A15: Total p.m | B15: =B14-B13 -> 0 | C15: =C14-C13 -> 0 | D15: =D14-D13 -> 0 | E15: =E14-E13 -> 0.16666667 | F15: =F14-F13 -> 0.16666667 | G15: =G14-G13 -> 0 | H15: =H14-H13 -> 0 | I15: =I14-I13 -> 0.33333333 | K15: DÉCEMBRE
A16: Total du jour (minute) | B16: =B12+B15 -> 0 | C16: =C12+C15 -> 0 | D16: =D12+D15 -> 0 | E16: =E12+E15 -> 0.33333333 | F16: =F12+F15 -> 0.33333333 | G16: =G12+G15 -> 0 | H16: =H12+H15 -> 0 | I16: =SUM(B16:H16) -> 0.66666667
A18: Remarque
K19: 2017
A20: SEMAINE N° | B20: LUNDI | C20: MARDI | D20: MERCREDI | E20: JEUDI | F20: VENDREDI | G20: SAMEDI | H20: DIMANCHE | I20: Total de la semaine | K20: 2018
A21: 45 | B21: 41583 | C21: 41584 | D21: 41585 | E21: 41586 | F21: 41587 | G21: 41588 | H21: 41589
B22: 1 | C22: =IF(OR(C20="LUNDI",C20="MARDI",C20="MERCREDI",C20="JEUDI",C20="VENDREDI"),1,0) -> 1 | D22: =IF(OR(D20="LUNDI",D20="MARDI",D20="MERCREDI",D20="JEUDI",D20="VENDREDI"),1,0) -> 1 | E22: =IF(OR(E20="LUNDI",E20="MARDI",E20="MERCREDI",E20="JEUDI",E20="VENDREDI"),1,0) -> 1 | F22: =IF(OR(F20="LUNDI",F20="MARDI",F20="MERCREDI",F20="JEUDI",F20="VENDREDI"),1,0) -> 1 | G22: =IF(OR(G20="LUNDI",G20="MARDI",G20="MERCREDI",G20="JEUDI",G20="VENDREDI"),1,0) -> 0 | H22: =IF(OR(H20="LUNDI",H20="MARDI",H20="MERCREDI",H20="JEUDI",H20="VENDREDI"),1,0) -> 0 | K22: 2019
A23: Arrivée | B23: 0.33333333 | C23: 0.33333333 | D23: 0.33333333 | E23: 0.33333333 | F23: 0.33333333 | I23: =SUM(B23:H23) -> 1.6666667 | K23: 2020
A24: Départ | B24: 0.5 | C24: 0.5 | D24: 0.5 | E24: 0.5 | F24: 0.5 | I24: =SUM(B24:H24) -> 2.5 | K24: 2021
A25: Total a.m | B25: =B24-B23 -> 0.16666667 | C25: =C24-C23 -> 0.16666667 | D25: =D24-D23 -> 0.16666667 | E25: =E24-E23 -> 0.16666667 | F25: =F24-F23 -> 0.16666667 | G25: =G24-G23 -> 0 | H25: =H24-H23 -> 0 | I25: =I24-I23 -> 0.83333333 | K25: 2022
A26: Arrivée | B26: 0.5625 | C26: 0.5625 | D26: 0.5625 | E26: 0.5625 | F26: 0.5625 | I26: =SUM(B26:H26) -> 2.8125 | K26: 2023
A27: Départ | B27: 0.72916667 | C27: 0.72916667 | D27: 0.72916667 | E27: 0.72916667 | F27: 0.72916667 | I27: =SUM(B27:H27) -> 3.6458333 | K27: 2024
A28: Total p.m | B28: =B27-B26 -> 0.16666667 | C28: =C27-C26 -> 0.16666667 | D28: =D27-D26 -> 0.16666667 | E28: =E27-E26 -> 0.16666667 | F28: =F27-F26 -> 0.16666667 | G28: =G27-G26 -> 0 | H28: =H27-H26 -> 0 | I28: =I27-I26 -> 0.83333333 | K28: 2025
A29: Total du jour (minute) | B29: =B25+B28 -> 0.33333333 | C29: =C25+C28 -> 0.33333333 | D29: =D25+D28 -> 0.33333333 | E29: =E25+E28 -> 0.33333333 | F29: =F25+F28 -> 0.33333333 | G29: =G25+G28 -> 0 | H29: =H25+H28 -> 0 | I29: =SUM(B29:H29) -> 1.6666667
A31: Remarque
K32: 2017
A33: SEMAINE N° | B33: LUNDI | C33: MARDI | D33: MERCREDI | E33: JEUDI | F33: VENDREDI | G33: SAMEDI | H33: DIMANCHE | I33: Total de la semaine
A34: 46 | B34: 41590 | C34: 41591 | D34: 41592 | E34: 41593 | F34: 41594 | G34: 41595 | H34: 41596
B35: =IF(OR(B33="LUNDI",B33="MARDI",B33="MERCREDI",B33="JEUDI",B33="VENDREDI"),1,0) -> 1 | C35: =IF(OR(C33="LUNDI",C33="MARDI",C33="MERCREDI",C33="JEUDI",C33="VENDREDI"),1,0) -> 1 | D35: =IF(OR(D33="LUNDI",D33="MARDI",D33="MERCREDI",D33="JEUDI",D33="VENDREDI"),1,0) -> 1 | E35: =IF(OR(E33="LUNDI",E33="MARDI",E33="MERCREDI",E33="JEUDI",E33="VENDREDI"),1,0) -> 1 | F35: =IF(OR(F33="LUNDI",F33="MARDI",F33="MERCREDI",F33="JEUDI",F33="VENDREDI"),1,0) -> 1 | G35: =IF(OR(G33="LUNDI",G33="MARDI",G33="MERCREDI",G33="JEUDI",G33="VENDREDI"),1,0) -> 0 | H35: =IF(OR(H33="LUNDI",H33="MARDI",H33="MERCREDI",H33="JEUDI",H33="VENDREDI"),1,0) -> 0
A36: Arrivée | B36: 0.33333333 | C36: 0.33333333 | D36: 0.33333333 | E36: 0.33333333 | F36: 0.33333333 | I36: =SUM(B36:H36) -> 1.6666667
A37: Départ | B37: 0.5 | C37: 0.5 | D37: 0.5 | E37: 0.5 | F37: 0.5 | I37: =SUM(B37:H37) -> 2.5
A38: Total a.m | B38: =B37-B36 -> 0.16666667 | C38: =C37-C36 -> 0.16666667 | D38: =D37-D36 -> 0.16666667 | E38: =E37-E36 -> 0.16666667 | F38: =F37-F36 -> 0.16666667 | G38: =G37-G36 -> 0 | H38: =H37-H36 -> 0 | I38: =I37-I36 -> 0.83333333
A39: Arrivée | B39: 0.5625 | C39: 0.5625 | D39: 0.5625 | E39: 0.5625 | F39: 0.5625 | I39: =SUM(B39:H39) -> 2.8125
A40: Départ | B40: 0.72916667 | C40: 0.72916667 | D40: 0.72916667 | E40: 0.72916667 | F40: 0.72916667 | I40: =SUM(B40:H40) -> 3.6458333
A41: Total p.m | B41: =B40-B39 -> 0.16666667 | C41: =C40-C39 -> 0.16666667 | D41: =D40-D39 -> 0.16666667 | E41: =E40-E39 -> 0.16666667 | F41: =F40-F39 -> 0.16666667 | G41: =G40-G39 -> 0 | H41: =H40-H39 -> 0 | I41: =I40-I39 -> 0.83333333
A42: Total du jour (minute) | B42: =B38+B41 -> 0.33333333 | C42: =C38+C41 -> 0.33333333 | D42: =D38+D41 -> 0.33333333 | E42: =E38+E41 -> 0.33333333 | F42: =F38+F41 -> 0.33333333 | G42: =G38+G41 -> 0 | H42: =H38+H41 -> 0 | I42: =SUM(B42:H42) -> 1.6666667
A44: Remarque
K45: 2017
A46: SEMAINE N° | B46: LUNDI | C46: MARDI | D46: MERCREDI | E46: JEUDI | F46: VENDREDI | G46: SAMEDI | H46: DIMANCHE | I46: Total de la semaine
A47: 47 | B47: 41597 | C47: 41598 | D47: 41599 | E47: 41600 | F47: 41601 | G47: 41602 | H47: 41603
B48: =IF(OR(B46="LUNDI",B46="MARDI",B46="MERCREDI",B46="JEUDI",B46="VENDREDI"),1,0) -> 1 | C48: =IF(OR(C46="LUNDI",C46="MARDI",C46="MERCREDI",C46="JEUDI",C46="VENDREDI"),1,0) -> 1 | D48: =IF(OR(D46="LUNDI",D46="MARDI",D46="MERCREDI",D46="JEUDI",D46="VENDREDI"),1,0) -> 1 | E48: 1 | F48: 1 | G48: =IF(OR(G46="LUNDI",G46="MARDI",G46="MERCREDI",G46="JEUDI",G46="VENDREDI"),1,0) -> 0 | H48: =IF(OR(H46="LUNDI",H46="MARDI",H46="MERCREDI",H46="JEUDI",H46="VENDREDI"),1,0) -> 0
A49: Arrivée | B49: 0.33333333 | C49: 0.33333333 | D49: 0.33333333 | E49: 0.33333333 | F49: 0.33333333 | I49: =SUM(B49:H49) -> 1.6666667
A50: Départ | B50: 0.5 | C50: 0.5 | D50: 0.5 | E50: 0.5 | F50: 0.5 | I50: =SUM(B50:H50) -> 2.5
A51: Total a.m | B51: =B50-B49 -> 0.16666667 | C51: =C50-C49 -> 0.16666667 | D51: =D50-D49 -> 0.16666667 | E51: =E50-E49 -> 0.16666667 | F51: =F50-F49 -> 0.16666667 | G51: =G50-G49 -> 0 | H51: =H50-H49 -> 0 | I51: =I50-I49 -> 0.83333333
A52: Arrivée | B52: 0.5625 | C52: 0.5625 | D52: 0.5625 | E52: 0.5625 | F52: 0.5625 | I52: =SUM(B52:H52) -> 2.8125
A53: Départ | B53: 0.72916667 | C53: 0.72916667 | D53: 0.72916667 | E53: 0.72916667 | F53: 0.72916667 | I53: =SUM(B53:H53) -> 3.6458333
A54: Total p.m | B54: =B53-B52 -> 0.16666667 | C54: =C53-C52 -> 0.16666667 | D54: =D53-D52 -> 0.16666667 | E54: =E53-E52 -> 0.16666667 | F54: =F53-F52 -> 0.16666667 | G54: =G53-G52 -> 0 | H54: =H53-H52 -> 0 | I54: =I53-I52 -> 0.83333333
A55: Total du jour (minute) | B55: =B51+B54 -> 0.33333333 | C55: =C51+C54 -> 0.33333333 | D55: =D51+D54 -> 0.33333333 | E55: =E51+E54 -> 0.33333333 | F55: =F51+F54 -> 0.33333333 | G55: =G51+G54 -> 0 | H55: =H51+H54 -> 0 | I55: =SUM(B55:H55) -> 1.6666667
A57: Remarque
K58: 2017
A59: SEMAINE N° | B59: LUNDI | C59: MARDI | D59: MERCREDI | E59: JEUDI | F59: VENDREDI | G59: SAMEDI | H59: DIMANCHE | I59: Total de la semaine
A60: 48 | B60: 41604 | C60: 41605 | D60: 41606 | E60: 41607
B61: =IF(OR(B59="LUNDI",B59="MARDI",B59="MERCREDI",B59="JEUDI",B59="VENDREDI"),1,0) -> 1 | C61: =IF(OR(C59="LUNDI",C59="MARDI",C59="MERCREDI",C59="JEUDI",C59="VENDREDI"),1,0) -> 1 | D61: 1 | E61: 1 | F61: 0 | G61: =IF(OR(G59="LUNDI",G59="MARDI",G59="MERCREDI",G59="JEUDI",G59="VENDREDI"),1,0) -> 0 | H61: =IF(OR(H59="LUNDI",H59="MARDI",H59="MERCREDI",H59="JEUDI",H59="VENDREDI"),1,0) -> 0
A62: Arrivée | B62: 0.33333333 | C62: 0.33333333 | D62: 0.33333333 | E62: 0.33333333 | I62: =SUM(B62:H62) -> 1.3333333
A63: Départ | B63: 0.5 | C63: 0.5 | D63: 0.5 | E63: 0.5 | I63: =SUM(B63:H63) -> 2
A64: Total a.m | B64: =B63-B62 -> 0.16666667 | C64: =C63-C62 -> 0.16666667 | D64: =D63-D62 -> 0.16666667 | E64: =E63-E62 -> 0.16666667 | F64: =F63-F62 -> 0 | G64: =G63-G62 -> 0 | H64: =H63-H62 -> 0 | I64: =I63-I62 -> 0.66666667
A65: Arrivée | B65: 0.5625 | C65: 0.5625 | D65: 0.5625 | E65: 0.5625 | I65: =SUM(B65:H65) -> 2.25
A66: Départ | B66: 0.72916667 | C66: 0.72916667 | D66: 0.72916667 | E66: 0.72916667 | I66: =SUM(B66:H66) -> 2.9166667
A67: Total p.m | B67: =B66-B65 -> 0.16666667 | C67: =C66-C65 -> 0.16666667 | D67: =D66-D65 -> 0.16666667 | E67: =E66-E65 -> 0.16666667 | F67: =F66-F65 -> 0 | G67: =G66-G65 -> 0 | H67: =H66-H65 -> 0 | I67: =I66-I65 -> 0.66666667
A68: Total du jour (minute) | B68: =B64+B67 -> 0.33333333 | C68: =C64+C67 -> 0.33333333 | D68: =D64+D67 -> 0.33333333 | E68: =E64+E67 -> 0.33333333 | F68: =F64+F67 -> 0 | G68: =G64+G67 -> 0 | H68: =H64+H67 -> 0 | I68: =SUM(B68:H68) -> 1.3333333
A70: Remarque
A72: TOTAL DES HEURES | C72: =(I68+I55+I42+I29+I16) -> 7
A74: NOMBRE DE JOURS | C74: =SUM(B9:H9,B22:H22,B35:H35,B48:H48,B61:H61,) -> 21 | D74: (Pour un 100%)
A75: NOMBRE D'HEURE PAR JOUR | C75: 0.33333333
A77: TOTAL HEURES A FAIRE | C77: =(C74*C75) -> 7
A79: Différence: | C79: =(C72-C77) -> -8.8817842e-16

Sheet DECEMBRE
A1: Gestion des heures
A3: Nom : | D3: Mois: | E3: DÉCEMBRE | K3: JANVIER
A4: Prénom: | B4: ALAIN | D4: Année: | E4: 2017 | K4: FEVRIER
A5: Noter les heures sous la forme 8:00 et arrondisser vos heures. | K5: MARS
K6: AVRIL
A7: SEMAINE N° | B7: LUNDI | C7: MARDI | D7: MERCREDI | E7: JEUDI | F7: VENDREDI | G7: SAMEDI | H7: DIMANCHE | I7: Total de la semaine | K7: MAI
A8: 48 | F8: 41608 | G8: 41609 | H8: 41610 | K8: JUIN
B9: 0 | C9: 0 | D9: 0 | E9: 1 | F9: 1 | G9: =IF(OR(G7="LUNDI",G7="MARDI",G7="MERCREDI",G7="JEUDI",G7="VENDREDI"),1,0) -> 0 | H9: =IF(OR(H7="LUNDI",H7="MARDI",H7="MERCREDI",H7="JEUDI",H7="VENDREDI"),1,0) -> 0 | K9: JUIN
A10: Arrivée | F10: 0.33333333 | I10: =SUM(B10:H10) -> 0.33333333 | K10: JUILLET
A11: Départ | F11: 0.5 | I11: =SUM(B11:H11) -> 0.5 | K11: AOÛT
A12: Total a.m | B12: =B11-B10 -> 0 | C12: =C11-C10 -> 0 | D12: =D11-D10 -> 0 | E12: =E11-E10 -> 0 | F12: =F11-F10 -> 0.16666667 | G12: =G11-G10 -> 0 | H12: =H11-H10 -> 0 | I12: =I11-I10 -> 0.16666667 | K12: SEPTEMBRE
A13: Arrivée | F13: 0.5625 | I13: =SUM(B13:H13) -> 0.5625 | K13: OCTOBRE
A14: Départ | F14: 0.72916667 | I14: =SUM(B14:H14) -> 0.72916667 | K14: NOVEMBRE
A15: Total p.m | B15: =B14-B13 -> 0 | C15: =C14-C13 -> 0 | D15: =D14-D13 -> 0 | E15: =E14-E13 -> 0 | F15: =F14-F13 -> 0.16666667 | G15: =G14-G13 -> 0 | H15: =H14-H13 -> 0 | I15: =I14-I13 -> 0.16666667 | K15: DÉCEMBRE
A16: Total du jour (minute) | B16: =B12+B15 -> 0 | C16: =C12+C15 -> 0 | D16: =D12+D15 -> 0 | E16: =E12+E15 -> 0 | F16: =F12+F15 -> 0.33333333 | G16: =G12+G15 -> 0 | H16: =H12+H15 -> 0 | I16: =SUM(B16:H16) -> 0.33333333
A18: Remarque
K19: 2017
A20: SEMAINE N° | B20: LUNDI | C20: MARDI | D20: MERCREDI | E20: JEUDI | F20: VENDREDI | G20: SAMEDI | H20: DIMANCHE | I20: Total de la semaine | K20: 2018
A21: 49 | B21: 41611 | C21: 41612 | D21: 41613 | E21: 41614 | F21: 41615 | G21: 41616 | H21: 41617
B22: 1 | C22: =IF(OR(C20="LUNDI",C20="MARDI",C20="MERCREDI",C20="JEUDI",C20="VENDREDI"),1,0) -> 1 | D22: =IF(OR(D20="LUNDI",D20="MARDI",D20="MERCREDI",D20="JEUDI",D20="VENDREDI"),1,0) -> 1 | E22: =IF(OR(E20="LUNDI",E20="MARDI",E20="MERCREDI",E20="JEUDI",E20="VENDREDI"),1,0) -> 1 | F22: =IF(OR(F20="LUNDI",F20="MARDI",F20="MERCREDI",F20="JEUDI",F20="VENDREDI"),1,0) -> 1 | G22: =IF(OR(G20="LUNDI",G20="MARDI",G20="MERCREDI",G20="JEUDI",G20="VENDREDI"),1,0) -> 0 | H22: =IF(OR(H20="LUNDI",H20="MARDI",H20="MERCREDI",H20="JEUDI",H20="VENDREDI"),1,0) -> 0 | K22: 2019
A23: Arrivée | B23: 0.33333333 | C23: 0.33333333 | D23: 0.33333333 | E23: 0.33333333 | F23: 0.33333333 | I23: =SUM(B23:H23) -> 1.6666667 | K23: 2020
A24: Départ | B24: 0.5 | C24: 0.5 | D24: 0.5 | E24: 0.5 | F24: 0.5 | I24: =SUM(B24:H24) -> 2.5 | K24: 2021
A25: Total a.m | B25: =B24-B23 -> 0.16666667 | C25: =C24-C23 -> 0.16666667 | D25: =D24-D23 -> 0.16666667 | E25: =E24-E23 -> 0.16666667 | F25: =F24-F23 -> 0.16666667 | G25: =G24-G23 -> 0 | H25: =H24-H23 -> 0 | I25: =I24-I23 -> 0.83333333 | K25: 2022
A26: Arrivée | B26: 0.5625 | C26: 0.5625 | D26: 0.5625 | E26: 0.5625 | F26: 0.5625 | I26: =SUM(B26:H26) -> 2.8125 | K26: 2023
A27: Départ | B27: 0.72916667 | C27: 0.72916667 | D27: 0.72916667 | E27: 0.72916667 | F27: 0.72916667 | I27: =SUM(B27:H27) -> 3.6458333 | K27: 2024
A28: Total p.m | B28: =B27-B26 -> 0.16666667 | C28: =C27-C26 -> 0.16666667 | D28: =D27-D26 -> 0.16666667 | E28: =E27-E26 -> 0.16666667 | F28: =F27-F26 -> 0.16666667 | G28: =G27-G26 -> 0 | H28: =H27-H26 -> 0 | I28: =I27-I26 -> 0.83333333 | K28: 2025
A29: Total du jour (minute) | B29: =B25+B28 -> 0.33333333 | C29: =C25+C28 -> 0.33333333 | D29: =D25+D28 -> 0.33333333 | E29: =E25+E28 -> 0.33333333 | F29: =F25+F28 -> 0.33333333 | G29: =G25+G28 -> 0 | H29: =H25+H28 -> 0 | I29: =SUM(B29:H29) -> 1.6666667
A31: Remarque
K32: 2017
A33: SEMAINE N° | B33: LUNDI | C33: MARDI | D33: MERCREDI | E33: JEUDI | F33: VENDREDI | G33: SAMEDI | H33: DIMANCHE | I33: Total de la semaine
A34: 50 | B34: 41618 | C34: 41619 | D34: 41620 | E34: 41621 | F34: 41622 | G34: 41623 | H34: 41624
B35: =IF(OR(B33="LUNDI",B33="MARDI",B33="MERCREDI",B33="JEUDI",B33="VENDREDI"),1,0) -> 1 | C35: =IF(OR(C33="LUNDI",C33="MARDI",C33="MERCREDI",C33="JEUDI",C33="VENDREDI"),1,0) -> 1 | D35: =IF(OR(D33="LUNDI",D33="MARDI",D33="MERCREDI",D33="JEUDI",D33="VENDREDI"),1,0) -> 1 | E35: =IF(OR(E33="LUNDI",E33="MARDI",E33="MERCREDI",E33="JEUDI",E33="VENDREDI"),1,0) -> 1 | F35: =IF(OR(F33="LUNDI",F33="MARDI",F33="MERCREDI",F33="JEUDI",F33="VENDREDI"),1,0) -> 1 | G35: =IF(OR(G33="LUNDI",G33="MARDI",G33="MERCREDI",G33="JEUDI",G33="VENDREDI"),1,0) -> 0 | H35: =IF(OR(H33="LUNDI",H33="MARDI",H33="MERCREDI",H33="JEUDI",H33="VENDREDI"),1,0) -> 0
A36: Arrivée | B36: 0.33333333 | C36: 0.33333333 | D36: 0.33333333 | E36: 0.33333333 | F36: 0.33333333 | I36: =SUM(B36:H36) -> 1.6666667
A37: Départ | B37: 0.5 | C37: 0.5 | D37: 0.5 | E37: 0.5 | F37: 0.5 | I37: =SUM(B37:H37) -> 2.5
A38: Total a.m | B38: =B37-B36 -> 0.16666667 | C38: =C37-C36 -> 0.16666667 | D38: =D37-D36 -> 0.16666667 | E38: =E37-E36 -> 0.16666667 | F38: =F37-F36 -> 0.16666667 | G38: =G37-G36 -> 0 | H38: =H37-H36 -> 0 | I38: =I37-I36 -> 0.83333333
A39: Arrivée | B39: 0.5625 | C39: 0.5625 | D39: 0.5625 | E39: 0.5625 | F39: 0.5625 | I39: =SUM(B39:H39) -> 2.8125
A40: Départ | B40: 0.72916667 | C40: 0.72916667 | D40: 0.72916667 | E40: 0.72916667 | F40: 0.72916667 | I40: =SUM(B40:H40) -> 3.6458333
A41: Total p.m | B41: =B40-B39 -> 0.16666667 | C41: =C40-C39 -> 0.16666667 | D41: =D40-D39 -> 0.16666667 | E41: =E40-E39 -> 0.16666667 | F41: =F40-F39 -> 0.16666667 | G41: =G40-G39 -> 0 | H41: =H40-H39 -> 0 | I41: =I40-I39 -> 0.83333333
A42: Total du jour (minute) | B42: =B38+B41 -> 0.33333333 | C42: =C38+C41 -> 0.33333333 | D42: =D38+D41 -> 0.33333333 | E42: =E38+E41 -> 0.33333333 | F42: =F38+F41 -> 0.33333333 | G42: =G38+G41 -> 0 | H42: =H38+H41 -> 0 | I42: =SUM(B42:H42) -> 1.6666667
A44: Remarque
K45: 2017
A46: SEMAINE N° | B46: LUNDI | C46: MARDI | D46: MERCREDI | E46: JEUDI | F46: VENDREDI | G46: SAMEDI | H46: DIMANCHE | I46: Total de la semaine
A47: 51 | B47: 41625 | C47: 41626 | D47: 41627 | E47: 41628 | F47: 41629 | G47: 41630 | H47: 41631
B48: =IF(OR(B46="LUNDI",B46="MARDI",B46="MERCREDI",B46="JEUDI",B46="VENDREDI"),1,0) -> 1 | C48: =IF(OR(C46="LUNDI",C46="MARDI",C46="MERCREDI",C46="JEUDI",C46="VENDREDI"),1,0) -> 1 | D48: =IF(OR(D46="LUNDI",D46="MARDI",D46="MERCREDI",D46="JEUDI",D46="VENDREDI"),1,0) -> 1 | E48: 1 | F48: 1 | G48: =IF(OR(G46="LUNDI",G46="MARDI",G46="MERCREDI",G46="JEUDI",G46="VENDREDI"),1,0) -> 0 | H48: =IF(OR(H46="LUNDI",H46="MARDI",H46="MERCREDI",H46="JEUDI",H46="VENDREDI"),1,0) -> 0
A49: Arrivée | B49: 0.33333333 | C49: 0.33333333 | D49: 0.33333333 | E49: 0.33333333 | F49: 0.33333333 | I49: =SUM(B49:H49) -> 1.6666667
A50: Départ | B50: 0.5 | C50: 0.5 | D50: 0.5 | E50: 0.5 | F50: 0.5 | I50: =SUM(B50:H50) -> 2.5
A51: Total a.m | B51: =B50-B49 -> 0.16666667 | C51: =C50-C49 -> 0.16666667 | D51: =D50-D49 -> 0.16666667 | E51: =E50-E49 -> 0.16666667 | F51: =F50-F49 -> 0.16666667 | G51: =G50-G49 -> 0 | H51: =H50-H49 -> 0 | I51: =I50-I49 -> 0.83333333
A52: Arrivée | B52: 0.5625 | C52: 0.5625 | D52: 0.5625 | E52: 0.5625 | F52: 0.5625 | I52: =SUM(B52:H52) -> 2.8125
A53: Départ | B53: 0.72916667 | C53: 0.72916667 | D53: 0.72916667 | E53: 0.72916667 | F53: 0.72916667 | I53: =SUM(B53:H53) -> 3.6458333
A54: Total p.m | B54: =B53-B52 -> 0.16666667 | C54: =C53-C52 -> 0.16666667 | D54: =D53-D52 -> 0.16666667 | E54: =E53-E52 -> 0.16666667 | F54: =F53-F52 -> 0.16666667 | G54: =G53-G52 -> 0 | H54: =H53-H52 -> 0 | I54: =I53-I52 -> 0.83333333
A55: Total du jour (minute) | B55: =B51+B54 -> 0.33333333 | C55: =C51+C54 -> 0.33333333 | D55: =D51+D54 -> 0.33333333 | E55: =E51+E54 -> 0.33333333 | F55: =F51+F54 -> 0.33333333 | G55: =G51+G54 -> 0 | H55: =H51+H54 -> 0 | I55: =SUM(B55:H55) -> 1.6666667
A57: Remarque
K58: 2017
A59: SEMAINE N° | B59: LUNDI | C59: MARDI | D59: MERCREDI | E59: JEUDI | F59: VENDREDI | G59: SAMEDI | H59: DIMANCHE | I59: Total de la semaine
A60: 52 | B60: 41632 | C60: 41633 | D60: 41634 | E60: 41635 | F60: 41636 | G60: 41637 | H60: 41638
B61: =IF(OR(B59="LUNDI",B59="MARDI",B59="MERCREDI",B59="JEUDI",B59="VENDREDI"),1,0) -> 1 | C61: =IF(OR(C59="LUNDI",C59="MARDI",C59="MERCREDI",C59="JEUDI",C59="VENDREDI"),1,0) -> 1 | D61: 1 | E61: 1 | F61: 0 | G61: =IF(OR(G59="LUNDI",G59="MARDI",G59="MERCREDI",G59="JEUDI",G59="VENDREDI"),1,0) -> 0 | H61: =IF(OR(H59="LUNDI",H59="MARDI",H59="MERCREDI",H59="JEUDI",H59="VENDREDI"),1,0) -> 0
A62: Arrivée | B62: 0.33333333 | C62: 0.33333333 | D62: 0.33333333 | E62: 0.33333333 | F62: 0.33333333 | I62: =SUM(B62:H62) -> 1.6666667
A63: Départ | B63: 0.5 | C63: 0.5 | D63: 0.5 | E63: 0.5 | F63: 0.5 | I63: =SUM(B63:H63) -> 2.5
A64: Total a.m | B64: =B63-B62 -> 0.16666667 | C64: =C63-C62 -> 0.16666667 | D64: =D63-D62 -> 0.16666667 | E64: =E63-E62 -> 0.16666667 | F64: =F63-F62 -> 0.16666667 | G64: =G63-G62 -> 0 | H64: =H63-H62 -> 0 | I64: =I63-I62 -> 0.83333333
A65: Arrivée | B65: 0.5625 | C65: 0.5625 | D65: 0.5625 | E65: 0.5625 | F65: 0.5625 | I65: =SUM(B65:H65) -> 2.8125
A66: Départ | B66: 0.72916667 | C66: 0.72916667 | D66: 0.72916667 | E66: 0.72916667 | F66: 0.72916667 | I66: =SUM(B66:H66) -> 3.6458333
A67: Total p.m | B67: =B66-B65 -> 0.16666667 | C67: =C66-C65 -> 0.16666667 | D67: =D66-D65 -> 0.16666667 | E67: =E66-E65 -> 0.16666667 | F67: =F66-F65 -> 0.16666667 | G67: =G66-G65 -> 0 | H67: =H66-H65 -> 0 | I67: =I66-I65 -> 0.83333333
A68: Total du jour (minute) | B68: =B64+B67 -> 0.33333333 | C68: =C64+C67 -> 0.33333333 | D68: =D64+D67 -> 0.33333333 | E68: =E64+E67 -> 0.33333333 | F68: =F64+F67 -> 0.33333333 | G68: =G64+G67 -> 0 | H68: =H64+H67 -> 0 | I68: =SUM(B68:H68) -> 1.6666667
A70: Remarque
A72: TOTAL DES HEURES | C72: =(I68+I55+I42+I29+I16) -> 7
A74: NOMBRE DE JOURS | C74: =SUM(B9:H9,B22:H22,B35:H35,B48:H48,B61:H61,) -> 21 | D74: (Pour un 100%)
A75: NOMBRE D'HEURE PAR JOUR | C75: 0.33333333
A77: TOTAL HEURES A FAIRE | C77: =(C74*C75) -> 7
A79: Différence: | C79: =(C72-C77) -> -8.8817842e-16

Sheet RECAP ANNUEL
A1: Gestion des heures
A3: Récapitulatif annuel | C3: 2017
F4: 2016
A5: Nom : | C5: Prénom: | D5: ALAIN | F5: 2017
F6: 2018
C7: REPORT 2016 | D7: ='[1]RECAP ANNUEL'!$D$22 -> 0 | F7: 2020
B9: TOTAL HEURES FAITES | C9: NOMBRE D'HEURES A FAIRE | D9: DIFFERENCE | F9: 2021
A10: JANVIER | B10: =JANVIER!C85 -> 7 | C10: =JANVIER!C90 -> 7 | D10: =(B10-C10) -> 0 | F10: 2022
A11: FÉVRIER | B11: =FEVRIER!C72 -> 6.6666667 | C11: =FEVRIER!C77 -> 6.6666667 | D11: =(B11-C11) -> 0 | F11: 2023
A12: MARS | B12: =MARS!C$72 -> 7.6666667 | C12: =MARS!C77 -> 7.6666667 | D12: =(B12-C12) -> 0 | F12: 2024
A13: AVRIL | B13: =AVRIL!C$72 -> 6 | C13: =AVRIL!C77 -> 6 | D13: =(B13-C13) -> 0 | F13: 2025
A14: MAI | B14: =MAI!C$72 -> 7 | C14: =MAI!C77 -> 7 | D14: =(B14-C14) -> 0
A15: JUIN | B15: =JUIN!C$72 -> 7.3333333 | C15: =JUIN!C77 -> 7.3333333 | D15: =(B15-C15) -> 0
A16: JUILLET | B16: =JUILLET!C85 -> 7 | C16: =JUILLET!C90 -> 7 | D16: =(B16-C16) -> -8.8817842e-16
A17: AOÛT | B17: =AOÛT!C72 -> 7.3333333 | C17: =AOÛT!C77 -> 7.3333333 | D17: =(B17-C17) -> -8.8817842e-16
A18: SEPTEMBRE | B18: =SEPTEMBRE!C72 -> 7 | C18: =SEPTEMBRE!C77 -> 7 | D18: =(B18-C18) -> -8.8817842e-16
A19: OCTOBRE | B19: =OCTOBRE!C85 -> 7.3333333 | C19: =OCTOBRE!C90 -> 7.3333333 | D19: =(B19-C19) -> 0
A20: NOVEMBRE | B20: =NOVEMBRE!C72 -> 7 | C20: =NOVEMBRE!C77 -> 7 | D20: =(B20-C20) -> -8.8817842e-16
A21: DÉCEMBRE | B21: =DECEMBRE!C72 -> 7 | C21: =DECEMBRE!C77 -> 7 | D21: =(B21-C21) -> -8.8817842e-16
A23: TOTAL FINAL | B23: =SUM(B11:B21) -> 77.333333 | C23: =SUM(C11:C21) -> 77.333333 | D23: =SUM(D10:D21)+D7 -> -4.4408921e-15

Sheet VACANCE
A1: 2017
A2: VACANCE | H2: HEURES SUP. | K2: Extra Tage Überzeit | O2: Krank
A5: DATE (DU..AU..) | D5: NOMBRE DE JOUR | H5: MOIS | I5: H. | K5: Datum | M5: Tage | O5: Datum | P5: Erkl. | Q5: Tage
H6: JANVIER | I6: =('RECAP ANNUEL'!D10) -> 0
H7: FEVRIER | I7: =('RECAP ANNUEL'!D11) -> 0
H8: MARS | I8: =('RECAP ANNUEL'!D12) -> 0
H9: AVRIL | I9: =('RECAP ANNUEL'!D13) -> 0
H10: MAI | I10: =('RECAP ANNUEL'!D14) -> 0
H11: JUIN | I11: =('RECAP ANNUEL'!D15) -> 0
H12: JUILLET | I12: =('RECAP ANNUEL'!D16) -> -8.8817842e-16
H13: AOÛT | I13: =('RECAP ANNUEL'!D17) -> -8.8817842e-16
H14: SEPTEMBRE | I14: =('RECAP ANNUEL'!D18) -> -8.8817842e-16
H15: OCTOBRE | I15: =('RECAP ANNUEL'!D19) -> 0
H16: NOVEMBRE | I16: =('RECAP ANNUEL'!D20) -> -8.8817842e-16
H17: DECEMBRE | I17: =('RECAP ANNUEL'!D21) -> -8.8817842e-16
A24: Bereits genommen | D24: =SUM(D6:F23) -> 0 | H24: Total | I24: =SUM(I5:I23) -> -4.4408921e-15 | K24: Total | M24: =SUM(M6:M23) -> 0 | O24: Total | Q24: =SUM(Q6:Q23) -> 0
A26: Report Vacance 2016 | H26: h + in Tagen | J26: =K38/8 -> #REF!
H27: Total Ferientage: | J27: =K37+J26 -> #REF!
A28: Heures sup. en jour
A30: Total Tage 2017 | D30: 20
G37: Übrige Ferien/Stunden | J37: Ferientage | K37: =D30+D26+M24-D24 -> 20
J38: Stunden: | K38: =I24+#REF! -> #REF!
