Workbook

Sheet JANVIER
A1: Gestion des heures
A3: Nom : | D3: Mois: | E3: JANVIER | K3: JANVIER
A4: Prénom: | B4: ALAIN | D4: Année: | E4: 2017 | K4: FEVRIER
A5: Noter les heures sous la forme 8:00 et arrondisser vos heures. | K5: MARS
K6: AVRIL
A7: SEMAINE N° | B7: LUNDI | C7: MARDI | D7: MERCREDI | E7: JEUDI | F7: VENDREDI | G7: SAMEDI | H7: DIMANCHE | I7: Total de la semaine | K7: MAI
A8: 52 | H8: 41274 | K8: JUIN
B9: 0 | C9: 0 | D9: 0 | E9: 0 | F9: 0 | G9: =IF(OR(G7="LUNDI",G7="MARDI",G7="MERCREDI",G7="JEUDI",G7="VENDREDI"),1,0) -> 0 | H9: =IF(OR(H7="LUNDI",H7="MARDI",H7="MERCREDI",H7="JEUDI",H7="VENDREDI"),1,0) -> 0 | K9: JUIN
A10: Arrivée | I10: =SUM(B10:H10) -> 0 | K10: JUILLET
A11: Départ | I11: =SUM(B11:H11) -> 0 | K11: AOÛT
A12: Total a.m | B12: =B11-B10 -> 0 | C12: =C11-C10 -> 0 | D12: =D11-D10 -> 0 | E12: =E11-E10 -> 0 | F12: =F11-F10 -> 0 | G12: =G11-G10 -> 0 | H12: =H11-H10 -> 0 | I12: =I11-I10 -> 0 | K12: SEPTEMBRE
A13: Arrivée | I13: =SUM(B13:H13) -> 0 | K13: OCTOBRE
A14: Départ | I14: =SUM(B14:H14) -> 0 | K14: NOVEMBRE
A15: Total p.m | B15: =B14-B13 -> 0 | C15: =C14-C13 -> 0 | D15: =D14-D13 -> 0 | E15: =E14-E13 -> 0 | F15: =F14-F13 -> 0 | G15: =G14-G13 -> 0 | H15: =H14-H13 -> 0 | I15: =I14-I13 -> 0 | K15: DÉCEMBRE
A16: Total du jour (minute) | B16: =B12+B15 -> 0 | C16: =C12+C15 -> 0 | D16: =D12+D15 -> 0 | E16: =E12+E15 -> 0 | F16: =F12+F15 -> 0 | G16: =G12+G15 -> 0 | H16: =H12+H15 -> 0 | I16: =SUM(B16:H16) -> 0
A18: Remarque
K19: 2017
A20: SEMAINE N° | B20: LUNDI | C20: MARDI | D20: MERCREDI | E20: JEUDI | F20: VENDREDI | G20: SAMEDI | H20: DIMANCHE | I20: Total de la semaine | K20: 2018
A21: 1 | B21: 41275 | C21: 41276 | D21: 41277 | E21: 41278 | F21: 41279 | G21: 41280 | H21: 41281
B22: 0 | C22: =IF(OR(C20="LUNDI",C20="MARDI",C20="MERCREDI",C20="JEUDI",C20="VENDREDI"),1,0) -> 1 | D22: =IF(OR(D20="LUNDI",D20="MARDI",D20="MERCREDI",D20="JEUDI",D20="VENDREDI"),1,0) -> 1 | E22: =IF(OR(E20="LUNDI",E20="MARDI",E20="MERCREDI",E20="JEUDI",E20="VENDREDI"),1,0) -> 1 | F22: =IF(OR(F20="LUNDI",F20="MARDI",F20="MERCREDI",F20="JEUDI",F20="VENDREDI"),1,0) -> 1 | G22: =IF(OR(G20="LUNDI",G20="MARDI",G20="MERCREDI",G20="JEUDI",G20="VENDREDI"),1,0) -> 0 | H22: =IF(OR(H20="LUNDI",H20="MARDI",H20="MERCREDI",H20="JEUDI",H20="VENDREDI"),1,0) -> 0 | K22: 2019
A23: Arrivée | B23: CONGE OFFICIEL | C23: 0.33333333 | D23: 0.33333333 | E23: 0.33333333 | F23: 0.33333333 | I23: =SUM(B23:H23) -> 1.3333333 | K23: 2020
A24: Départ | C24: 0.5 | D24: 0.5 | E24: 0.5 | F24: 0.5 | I24: =SUM(B24:H24) -> 2 | K24: 2021
A25: Total a.m | C25: =C24-C23 -> 0.16666667 | D25: =D24-D23 -> 0.16666667 | E25: =E24-E23 -> 0.16666667 | F25: =F24-F23 -> 0.16666667 | G25: =G24-G23 -> 0 | H25: =H24-H23 -> 0 | I25: =I24-I23 -> 0.66666667 | K25: 2022
A26: Arrivée | C26: 0.5625 | D26: 0.5625 | E26: 0.5625 | F26: 0.5625 | I26: =SUM(B26:H26) -> 2.25 | K26: 2023
A27: Départ | C27: 0.72916667 | D27: 0.72916667 | E27: 0.72916667 | F27: 0.72916667 | I27: =SUM(B27:H27) -> 2.9166667 | K27: 2024
A28: Total p.m | C28: =C27-C26 -> 0.16666667 | D28: =D27-D26 -> 0.16666667 | E28: =E27-E26 -> 0.16666667 | F28: =F27-F26 -> 0.16666667 | G28: =G27-G26 -> 0 | H28: =H27-H26 -> 0 | I28: =I27-I26 -> 0.66666667 | K28: 2025
A29: Total du jour (minute) | B29: =B25+B28 -> 0 | C29: =C25+C28 -> 0.33333333 | D29: =D25+D28 -> 0.33333333 | E29: =E25+E28 -> 0.33333333 | F29: =F25+F28 -> 0.33333333 | G29: =G25+G28 -> 0 | H29: =H25+H28 -> 0 | I29: =SUM(B29:H29) -> 1.3333333
A31: Remarque
K32: 2017
A33: SEMAINE N° | B33: LUNDI | C33: MARDI | D33: MERCREDI | E33: JEUDI | F33: VENDREDI | G33: SAMEDI | H33: DIMANCHE | I33: Total de la semaine
A34: 2 | B34: 41282 | C34: 41283 | D34: 41284 | E34: 41285 | F34: 41286 | G34: 41287 | H34: 41288
B35: =IF(OR(B33="LUNDI",B33="MARDI",B33="MERCREDI",B33="JEUDI",B33="VENDREDI"),1,0) -> 1 | C35: =IF(OR(C33="LUNDI",C33="MARDI",C33="MERCREDI",C33="JEUDI",C33="VENDREDI"),1,0) -> 1 | D35: =IF(OR(D33="LUNDI",D33="MARDI",D33="MERCREDI",D33="JEUDI",D33="VENDREDI"),1,0) -> 1 | E35: =IF(OR(E33="LUNDI",E33="MARDI",E33="MERCREDI",E33="JEUDI",E33="VENDREDI"),1,0) -> 1 | F35: =IF(OR(F33="LUNDI",F33="MARDI",F33="MERCREDI",F33="JEUDI",F33="VENDREDI"),1,0) -> 1 | G35: =IF(OR(G33="LUNDI",G33="MARDI",G33="MERCREDI",G33="JEUDI",G33="VENDREDI"),1,0) -> 0 | H35: =IF(OR(H33="LUNDI",H33="MARDI",H33="MERCREDI",H33="JEUDI",H33="VENDREDI"),1,0) -> 0
A36: Arrivée | B36: 0.33333333 | C36: 0.33333333 | D36: 0.33333333 | E36: 0.33333333 | F36: 0.33333333 | I36: =SUM(B36:H36) -> 1.6666667
A37: Départ | B37: 0.5 | C37: 0.5 | D37: 0.5 | E37: 0.5 | F37: 0.5 | I37: =SUM(B37:H37) -> 2.5
A38: Total a.m | B38: =B37-B36 -> 0.16666667 | C38: =C37-C36 -> 0.16666667 | D38: =D37-D36 -> 0.16666667 | E38: =E37-E36 -> 0.16666667 | F38: =F37-F36 -> 0.16666667 | G38: =G37-G36 -> 0 | H38: =H37-H36 -> 0 | I38: =I37-I36 -> 0.83333333
A39: Arrivée | B39: 0.5625 | C39: 0.5625 | D39: 0.5625 | E39: 0.5625 | F39: 0.5625 | I39: =SUM(B39:H39) -> 2.8125
A40: Départ | B40: 0.72916667 | C40: 0.72916667 | D40: 0.72916667 | E40: 0.72916667 | F40: 0.72916667 | I40: =SUM(B40:H40) -> 3.6458333
A41: Total p.m | B41: =B40-B39 -> 0.16666667 | C41: =C40-C39 -> 0.16666667 | D41: =D40-D39 -> 0.16666667 | E41: =E40-E39 -> 0.16666667 | F41: =F40-F39 -> 0.16666667 | G41: =G40-G39 -> 0 | H41: =H40-H39 -> 0 | I41: =I40-I39 -> 0.83333333
A42: Total du jour (minute) | B42: =B38+B41 -> 0.33333333 | C42: =C38+C41 -> 0.33333333 | D42: =D38+D41 -> 0.33333333 | E42: =E38+E41 -> 0.33333333 | F42: =F38+F41 -> 0.33333333 | G42: =G38+G41 -> 0 | H42: =H38+H41 -> 0 | I42: =SUM(B42:H42) -> 1.6666667
A44: Remarque
...

Sheet FEVRIER
A1: Gestion des heures
A3: Nom : | D3: Mois: | E3: FEVRIER | K3: JANVIER
A4: Prénom: | B4: ALAIN | D4: Année: | E4: 2017 | K4: FEVRIER
A5: Noter les heures sous la forme 8:00 et arrondisser vos heures. | K5: MARS
K6: AVRIL
A7: SEMAINE N° | B7: LUNDI | C7: MARDI | D7: MERCREDI | E7: JEUDI | F7: VENDREDI | G7: SAMEDI | H7: DIMANCHE | I7: Total de la semaine | K7: MAI
A8: 5 | D8: 41305 | E8: 41306 | F8: 41307 | G8: 41308 | H8: 41309 | K8: JUIN
B9: 0 | C9: 0 | D9: 1 | E9: 1 | F9: 1 | G9: =IF(OR(G7="LUNDI",G7="MARDI",G7="MERCREDI",G7="JEUDI",G7="VENDREDI"),1,0) -> 0 | H9: =IF(OR(H7="LUNDI",H7="MARDI",H7="MERCREDI",H7="JEUDI",H7="VENDREDI"),1,0) -> 0 | K9: JUIN
A10: Arrivée | D10: 0.33333333 | E10: 0.33333333 | F10: 0.33333333 | I10: =SUM(B10:H10) -> 1 | K10: JUILLET
A11: Départ | D11: 0.5 | E11: 0.5 | F11: 0.5 | I11: =SUM(B11:H11) -> 1.5 | K11: AOÛT
A12: Total a.m | B12: =B11-B10 -> 0 | C12: =C11-C10 -> 0 | D12: =D11-D10 -> 0.16666667 | E12: =E11-E10 -> 0.16666667 | F12: =F11-F10 -> 0.16666667 | G12: =G11-G10 -> 0 | H12: =H11-H10 -> 0 | I12: =I11-I10 -> 0.5 | K12: SEPTEMBRE
A13: Arrivée | D13: 0.5625 | E13: 0.5625 | F13: 0.5625 | I13: =SUM(B13:H13) -> 1.6875 | K13: OCTOBRE
A14: Départ | D14: 0.72916667 | E14: 0.72916667 | F14: 0.72916667 | I14: =SUM(B14:H14) -> 2.1875 | K14: NOVEMBRE
A15: Total p.m | B15: =B14-B13 -> 0 | C15: =C14-C13 -> 0 | D15: =D14-D13 -> 0.16666667 | E15: =E14-E13 -> 0.16666667 | F15: =F14-F13 -> 0.16666667 | G15: =G14-G13 -> 0 | H15: =H14-H13 -> 0 | I15: =I14-I13 -> 0.5 | K15: DÉCEMBRE
A16: Total du jour (minute) | B16: =B12+B15 -> 0 | C16: =C12+C15 -> 0 | D16: =D12+D15 -> 0.33333333 | E16: =E12+E15 -> 0.33333333 | F16: =F12+F15 -> 0.33333333 | G16: =G12+G15 -> 0 | H16: =H12+H15 -> 0 | I16: =SUM(B16:H16) -> 1
A18: Remarque
K19: 2017
A20: SEMAINE N° | B20: LUNDI | C20: MARDI | D20: MERCREDI | E20: JEUDI | F20: VENDREDI | G20: SAMEDI | H20: DIMANCHE | I20: Total de la semaine | K20: 2018
A21: 6 | B21: 41310 | C21: 41311 | D21: 41312 | E21: 41313 | F21: 41314 | G21: 41315 | H21: 41316
B22: 1 | C22: =IF(OR(C20="LUNDI",C20="MARDI",C20="MERCREDI",C20="JEUDI",C20="VENDREDI"),1,0) -> 1 | D22: =IF(OR(D20="LUNDI",D20="MARDI",D20="MERCREDI",D20="JEUDI",D20="VENDREDI"),1,0) -> 1 | E22: =IF(OR(E20="LUNDI",E20="MARDI",E20="MERCREDI",E20="JEUDI",E20="VENDREDI"),1,0) -> 1 | F22: =IF(OR(F20="LUNDI",F20="MARDI",F20="MERCREDI",F20="JEUDI",F20="VENDREDI"),1,0) -> 1 | G22: =IF(OR(G20="LUNDI",G20="MARDI",G20="MERCREDI",G20="JEUDI",G20="VENDREDI"),1,0) -> 0 | H22: =IF(OR(H20="LUNDI",H20="MARDI",H20="MERCREDI",H20="JEUDI",H20="VENDREDI"),1,0) -> 0 | K22: 2019
A23: Arrivée | B23: 0.33333333 | C23: 0.33333333 | D23: 0.33333333 | E23: 0.33333333 | F23: 0.33333333 | I23: =SUM(B23:H23) -> 1.6666667 | K23: 2020
A24: Départ | B24: 0.5 | C24: 0.5 | D24: 0.5 | E24: 0.5 | F24: 0.5 | I24: =SUM(B24:H24) -> 2.5 | K24: 2021
A25: Total a.m | B25: =B24-B23 -> 0.16666667 | C25: =C24-C23 -> 0.16666667 | D25: =D24-D23 -> 0.16666667 | E25: =E24-E23 -> 0.16666667 | F25: =F24-F23 -> 0.16666667 | G25: =G24-G23 -> 0 | H25: =H24-H23 -> 0 | I25: =I24-I23 -> 0.83333333 | K25: 2022
A26: Arrivée | B26: 0.5625 | C26: 0.5625 | D26: 0.5625 | E26: 0.5625 | F26: 0.5625 | I26: =SUM(B26:H26) -> 2.8125 | K26: 2023
A27: Départ | B27: 0.72916667 | C27: 0.72916667 | D27: 0.72916667 | E27: 0.72916667 | F27: 0.72916667 | I27: =SUM(B27:H27) -> 3.6458333 | K27: 2024
A28: Total p.m | B28: =B27-B26 -> 0.16666667 | C28: =C27-C26 -> 0.16666667 | D28: =D27-D26 -> 0.16666667 | E28: =E27-E26 -> 0.16666667 | F28: =F27-F26 -> 0.16666667 | G28: =G27-G26 -> 0 | H28: =H27-H26 -> 0 | I28: =I27-I26 -> 0.83333333 | K28: 2025
A29: Total du jour (minute) | B29: =B25+B28 -> 0.33333333 | C29: =C25+C28 -> 0.33333333 | D29: =D25+D28 -> 0.33333333 | E29: =E25+E28 -> 0.33333333 | F29: =F25+F28 -> 0.33333333 | G29: =G25+G28 -> 0 | H29: =H25+H28 -> 0 | I29: =SUM(B29:H29) -> 1.6666667
A31: Remarque
K32: 2017
A33: SEMAINE N° | B33: LUNDI | C33: MARDI | D33: MERCREDI | E33: JEUDI | F33: VENDREDI | G33: SAMEDI | H33: DIMANCHE | I33: Total de la semaine
A34: 7 | B34: 41317 | C34: 41318 | D34: 41319 | E34: 41320 | F34: 41321 | G34: 41322 | H34: 41323
B35: =IF(OR(B33="LUNDI",B33="MARDI",B33="MERCREDI",B33="JEUDI",B33="VENDREDI"),1,0) -> 1 | C35: =IF(OR(C33="LUNDI",C33="MARDI",C33="MERCREDI",C33="JEUDI",C33="VENDREDI"),1,0) -> 1 | D35: =IF(OR(D33="LUNDI",D33="MARDI",D33="MERCREDI",D33="JEUDI",D33="VENDREDI"),1,0) -> 1 | E35: =IF(OR(E33="LUNDI",E33="MARDI",E33="MERCREDI",E33="JEUDI",E33="VENDREDI"),1,0) -> 1 | F35: =IF(OR(F33="LUNDI",F33="MARDI",F33="MERCREDI",F33="JEUDI",F33="VENDREDI"),1,0) -> 1 | G35: =IF(OR(G33="LUNDI",G33="MARDI",G33="MERCREDI",G33="JEUDI",G33="VENDREDI"),1,0) -> 0 | H35: =IF(OR(H33="LUNDI",H33="MARDI",H33="MERCREDI",H33="JEUDI",H33="VENDREDI"),1,0) -> 0
A36: Arrivée | B36: 0.33333333 | C36: 0.33333333 | D36: 0.33333333 | E36: 0.33333333 | F36: 0.33333333 | I36: =SUM(B36:H36) -> 1.6666667
A37: Départ | B37: 0.5 | C37: 0.5 | D37: 0.5 | E37: 0.5 | F37: 0.5 | I37: =SUM(B37:H37) -> 2.5
A38: Total a.m | B38: =B37-B36 -> 0.16666667 | C38: =C37-C36 -> 0.16666667 | D38: =D37-D36 -> 0.16666667 | E38: =E37-E36 -> 0.16666667 | F38: =F37-F36 -> 0.16666667 | G38: =G37-G36 -> 0 | H38: =H37-H36 -> 0 | I38: =I37-I36 -> 0.83333333
A39: Arrivée | B39: 0.5625 | C39: 0.5625 | D39: 0.5625 | E39: 0.5625 | F39: 0.5625 | I39: =SUM(B39:H39) -> 2.8125
A40: Départ | B40: 0.72916667 | C40: 0.72916667 | D40: 0.72916667 | E40: 0.72916667 | F40: 0.72916667 | I40: =SUM(B40:H40) -> 3.6458333
A41: Total p.m | B41: =B40-B39 -> 0.16666667 | C41: =C40-C39 -> 0.16666667 | D41: =D40-D39 -> 0.16666667 | E41: =E40-E39 -> 0.16666667 | F41: =F40-F39 -> 0.16666667 | G41: =G40-G39 -> 0 | H41: =H40-H39 -> 0 | I41: =I40-I39 -> 0.83333333
A42: Total du jour (minute) | B42: =B38+B41 -> 0.33333333 | C42: =C38+C41 -> 0.33333333 | D42: =D38+D41 -> 0.33333333 | E42: =E38+E41 -> 0.33333333 | F42: =F38+F41 -> 0.33333333 | G42: =G38+G41 -> 0 | H42: =H38+H41 -> 0 | I42: =SUM(B42:H42) -> 1.6666667
A44: Remarque
...

Sheet MARS
A1: Gestion des heures
A3: Nom : | D3: Mois: | E3: MARS | K3: JANVIER
A4: Prénom: | B4: ALAIN | D4: Année: | E4: 2017 | K4: FEVRIER
A5: Noter les heures sous la forme 8:00 et arrondisser vos heures. | K5: MARS
K6: AVRIL
A7: SEMAINE N° | B7: LUNDI | C7: MARDI | D7: MERCREDI | E7: JEUDI | F7: VENDREDI | G7: SAMEDI | H7: DIMANCHE | I7: Total de la semaine | K7: MAI
A8: 9 | D8: 41333 | E8: 41334 | F8: 41335 | G8: 41336 | H8: 41337 | K8: JUIN
B9: 0 | C9: 0 | D9: 1 | E9: 1 | F9: 1 | G9: =IF(OR(G7="LUNDI",G7="MARDI",G7="MERCREDI",G7="JEUDI",G7="VENDREDI"),1,0) -> 0 | H9: =IF(OR(H7="LUNDI",H7="MARDI",H7="MERCREDI",H7="JEUDI",H7="VENDREDI"),1,0) -> 0 | K9: JUIN
A10: Arrivée | D10: 0.33333333 | E10: 0.33333333 | F10: 0.33333333 | I10: =SUM(B10:H10) -> 1 | K10: JUILLET
A11: Départ | D11: 0.5 | E11: 0.5 | F11: 0.5 | I11: =SUM(B11:H11) -> 1.5 | K11: AOÛT
A12: Total a.m | B12: =B11-B10 -> 0 | C12: =C11-C10 -> 0 | D12: =D11-D10 -> 0.16666667 | E12: =E11-E10 -> 0.16666667 | F12: =F11-F10 -> 0.16666667 | G12: =G11-G10 -> 0 | H12: =H11-H10 -> 0 | I12: =I11-I10 -> 0.5 | K12: SEPTEMBRE
A13: Arrivée | D13: 0.5625 | E13: 0.5625 | F13: 0.5625 | I13: =SUM(B13:H13) -> 1.6875 | K13: OCTOBRE
A14: Départ | D14: 0.72916667 | E14: 0.72916667 | F14: 0.72916667 | I14: =SUM(B14:H14) -> 2.1875 | K14: NOVEMBRE
A15: Total p.m | B15: =B14-B13 -> 0 | C15: =C14-C13 -> 0 | D15: =D14-D13 -> 0.16666667 | E15: =E14-E13 -> 0.16666667 | F15: =F14-F13 -> 0.16666667 | G15: =G14-G13 -> 0 | H15: =H14-H13 -> 0 | I15: =I14-I13 -> 0.5 | K15: DÉCEMBRE
A16: Total du jour (minute) | B16: =B12+B15 -> 0 | C16: =C12+C15 -> 0 | D16: =D12+D15 -> 0.33333333 | E16: =E12+E15 -> 0.33333333 | F16: =F12+F15 -> 0.33333333 | G16: =G12+G15 -> 0 | H16: =H12+H15 -> 0 | I16: =SUM(B16:H16) -> 1
A18: Remarque
K19: 2017
A20: SEMAINE N° | B20: LUNDI | C20: MARDI | D20: MERCREDI | E20: JEUDI | F20: VENDREDI | G20: SAMEDI | H20: DIMANCHE | I20: Total de la semaine | K20: 2018
A21: 10 | B21: 41338 | C21: 41339 | D21: 41340 | E21: 41341 | F21: 41342 | G21: 41343 | H21: 41344
B22: 1 | C22: =IF(OR(C20="LUNDI",C20="MARDI",C20="MERCREDI",C20="JEUDI",C20="VENDREDI"),1,0) -> 1 | D22: =IF(OR(D20="LUNDI",D20="MARDI",D20="MERCREDI",D20="JEUDI",D20="VENDREDI"),1,0) -> 1 | E22: =IF(OR(E20="LUNDI",E20="MARDI",E20="MERCREDI",E20="JEUDI",E20="VENDREDI"),1,0) -> 1 | F22: =IF(OR(F20="LUNDI",F20="MARDI",F20="MERCREDI",F20="JEUDI",F20="VENDREDI"),1,0) -> 1 | G22: =IF(OR(G20="LUNDI",G20="MARDI",G20="MERCREDI",G20="JEUDI",G20="VENDREDI"),1,0) -> 0 | H22: =IF(OR(H20="LUNDI",H20="MARDI",H20="MERCREDI",H20="JEUDI",H20="VENDREDI"),1,0) -> 0 | K22: 2019
A23: Arrivée | B23: 0.33333333 | C23: 0.33333333 | D23: 0.33333333 | E23: 0.33333333 | F23: 0.33333333 | I23: =SUM(B23:H23) -> 1.6666667 | K23: 2020
A24: Départ | B24: 0.5 | C24: 0.5 | D24: 0.5 | E24: 0.5 | F24: 0.5 | I24: =SUM(B24:H24) -> 2.5 | K24: 2021
A25: Total a.m | B25: =B24-B23 -> 0.16666667 | C25: =C24-C23 -> 0.16666667 | D25: =D24-D23 -> 0.16666667 | E25: =E24-E23 -> 0.16666667 | F25: =F24-F23 -> 0.16666667 | G25: =G24-G23 -> 0 | H25: =H24-H23 -> 0 | I25: =I24-I23 -> 0.83333333 | K25: 2022
A26: Arrivée | B26: 0.5625 | C26: 0.5625 | D26: 0.5625 | E26: 0.5625 | F26: 0.5625 | I26: =SUM(B26:H26) -> 2.8125 | K26: 2023
A27: Départ | B27: 0.72916667 | C27: 0.72916667 | D27: 0.72916667 | E27: 0.72916667 | F27: 0.72916667 | I27: =SUM(B27:H27) -> 3.6458333 | K27: 2024
A28: Total p.m | B28: =B27-B26 -> 0.16666667 | C28: =C27-C26 -> 0.16666667 | D28: =D27-D26 -> 0.16666667 | E28: =E27-E26 -> 0.16666667 | F28: =F27-F26 -> 0.16666667 | G28: =G27-G26 -> 0 | H28: =H27-H26 -> 0 | I28: =I27-I26 -> 0.83333333 | K28: 2025
A29: Total du jour (minute) | B29: =B25+B28 -> 0.33333333 | C29: =C25+C28 -> 0.33333333 | D29: =D25+D28 -> 0.33333333 | E29: =E25+E28 -> 0.33333333 | F29: =F25+F28 -> 0.33333333 | G29: =G25+G28 -> 0 | H29: =H25+H28 -> 0 | I29: =SUM(B29:H29) -> 1.6666667
A31: Remarque
K32: 2017
A33: SEMAINE N° | B33: LUNDI | C33: MARDI | D33: MERCREDI | E33: JEUDI | F33: VENDREDI | G33: SAMEDI | H33: DIMANCHE | I33: Total de la semaine
A34: 11 | B34: 41345 | C34: 41346 | D34: 41347 | E34: 41348 | F34: 41349 | G34: 41350 | H34: 41351
B35: =IF(OR(B33="LUNDI",B33="MARDI",B33="MERCREDI",B33="JEUDI",B33="VENDREDI"),1,0) -> 1 | C35: =IF(OR(C33="LUNDI",C33="MARDI",C33="MERCREDI",C33="JEUDI",C33="VENDREDI"),1,0) -> 1 | D35: =IF(OR(D33="LUNDI",D33="MARDI",D33="MERCREDI",D33="JEUDI",D33="VENDREDI"),1,0) -> 1 | E35: =IF(OR(E33="LUNDI",E33="MARDI",E33="MERCREDI",E33="JEUDI",E33="VENDREDI"),1,0) -> 1 | F35: =IF(OR(F33="LUNDI",F33="MARDI",F33="MERCREDI",F33="JEUDI",F33="VENDREDI"),1,0) -> 1 | G35: =IF(OR(G33="LUNDI",G33="MARDI",G33="MERCREDI",G33="JEUDI",G33="VENDREDI"),1,0) -> 0 | H35: =IF(OR(H33="LUNDI",H33="MARDI",H33="MERCREDI",H33="JEUDI",H33="VENDREDI"),1,0) -> 0
A36: Arrivée | B36: 0.33333333 | C36: 0.33333333 | D36: 0.33333333 | E36: 0.33333333 | F36: 0.33333333 | I36: =SUM(B36:H36) -> 1.6666667
A37: Départ | B37: 0.5 | C37: 0.5 | D37: 0.5 | E37: 0.5 | F37: 0.5 | I37: =SUM(B37:H37) -> 2.5
A38: Total a.m | B38: =B37-B36 -> 0.16666667 | C38: =C37-C36 -> 0.16666667 | D38: =D37-D36 -> 0.16666667 | E38: =E37-E36 -> 0.16666667 | F38: =F37-F36 -> 0.16666667 | G38: =G37-G36 -> 0 | H38: =H37-H36 -> 0 | I38: =I37-I36 -> 0.83333333
A39: Arrivée | B39: 0.5625 | C39: 0.5625 | D39: 0.5625 | E39: 0.5625 | F39: 0.5625 | I39: =SUM(B39:H39) -> 2.8125
A40: Départ | B40: 0.72916667 | C40: 0.72916667 | D40: 0.72916667 | E40: 0.72916667 | F40: 0.72916667 | I40: =SUM(B40:H40) -> 3.6458333
A41: Total p.m | B41: =B40-B39 -> 0.16666667 | C41: =C40-C39 -> 0.16666667 | D41: =D40-D39 -> 0.16666667 | E41: =E40-E39 -> 0.16666667 | F41: =F40-F39 -> 0.16666667 | G41: =G40-G39 -> 0 | H41: =H40-H39 -> 0 | I41: =I40-I39 -> 0.83333333
A42: Total du jour (minute) | B42: =B38+B41 -> 0.33333333 | C42: =C38+C41 -> 0.33333333 | D42: =D38+D41 -> 0.33333333 | E42: =E38+E41 -> 0.33333333 | F42: =F38+F41 -> 0.33333333 | G42: =G38+G41 -> 0 | H42: =H38+H41 -> 0 | I42: =SUM(B42:H42) -> 1.6666667
A44: Remarque
...

Sheet AVRIL
A1: Gestion des heures
A3: Nom : | D3: Mois: | E3: AVRIL | K3: JANVIER
A4: Prénom: | B4: ALAIN | D4: Année: | E4: 2017 | K4: FEVRIER
A5: Noter les heures sous la forme 8:00 et arrondisser vos heures. | K5: MARS
K6: AVRIL
A7: SEMAINE N° | B7: LUNDI | C7: MARDI | D7: MERCREDI | E7: JEUDI | F7: VENDREDI | G7: SAMEDI | H7: DIMANCHE | I7: Total de la semaine | K7: MAI
A8: 13 | G8: 41364 | H8: 41365 | K8: JUIN
B9: 0 | C9: 0 | D9: 0 | E9: 0 | F9: 0 | G9: =IF(OR(G7="LUNDI",G7="MARDI",G7="MERCREDI",G7="JEUDI",G7="VENDREDI"),1,0) -> 0 | H9: =IF(OR(H7="LUNDI",H7="MARDI",H7="MERCREDI",H7="JEUDI",H7="VENDREDI"),1,0) -> 0 | K9: JUIN
A10: Arrivée | I10: =SUM(B10:H10) -> 0 | K10: JUILLET
A11: Départ | I11: =SUM(B11:H11) -> 0 | K11: AOÛT
A12: Total a.m | B12: =B11-B10 -> 0 | C12: =C11-C10 -> 0 | D12: =D11-D10 -> 0 | E12: =E11-E10 -> 0 | F12: =F11-F10 -> 0 | G12: =G11-G10 -> 0 | H12: =H11-H10 -> 0 | I12: =I11-I10 -> 0 | K12: SEPTEMBRE
A13: Arrivée | I13: =SUM(B13:H13) -> 0 | K13: OCTOBRE
A14: Départ | I14: =SUM(B14:H14) -> 0 | K14: NOVEMBRE
A15: Total p.m | B15: =B14-B13 -> 0 | C15: =C14-C13 -> 0 | D15: =D14-D13 -> 0 | E15: =E14-E13 -> 0 | F15: =F14-F13 -> 0 | G15: =G14-G13 -> 0 | H15: =H14-H13 -> 0 | I15: =I14-I13 -> 0 | K15: DÉCEMBRE
A16: Total du jour (minute) | B16: =B12+B15 -> 0 | C16: =C12+C15 -> 0 | D16: =D12+D15 -> 0 | E16: =E12+E15 -> 0 | F16: =F12+F15 -> 0 | G16: =G12+G15 -> 0 | H16: =H12+H15 -> 0 | I16: =SUM(B16:H16) -> 0
A18: Remarque
K19: 2017
A20: SEMAINE N° | B20: LUNDI | C20: MARDI | D20: MERCREDI | E20: JEUDI | F20: VENDREDI | G20: SAMEDI | H20: DIMANCHE | I20: Total de la semaine | K20: 2018
A21: 14 | B21: 41366 | C21: 41367 | D21: 41368 | E21: 41369 | F21: 41370 | G21: 41371 | H21: 41372
B22: 1 | C22: =IF(OR(C20="LUNDI",C20="MARDI",C20="MERCREDI",C20="JEUDI",C20="VENDREDI"),1,0) -> 1 | D22: =IF(OR(D20="LUNDI",D20="MARDI",D20="MERCREDI",D20="JEUDI",D20="VENDREDI"),1,0) -> 1 | E22: =IF(OR(E20="LUNDI",E20="MARDI",E20="MERCREDI",E20="JEUDI",E20="VENDREDI"),1,0) -> 1 | F22: =IF(OR(F20="LUNDI",F20="MARDI",F20="MERCREDI",F20="JEUDI",F20="VENDREDI"),1,0) -> 1 | G22: =IF(OR(G20="LUNDI",G20="MARDI",G20="MERCREDI",G20="JEUDI",G20="VENDREDI"),1,0) -> 0 | H22: =IF(OR(H20="LUNDI",H20="MARDI",H20="MERCREDI",H20="JEUDI",H20="VENDREDI"),1,0) -> 0 | K22: 2019
A23: Arrivée | B23: 0.33333333 | C23: 0.33333333 | D23: 0.33333333 | E23: 0.33333333 | F23: 0.33333333 | I23: =SUM(B23:H23) -> 1.6666667 | K23: 2020
A24: Départ | B24: 0.5 | C24: 0.5 | D24: 0.5 | E24: 0.5 | F24: 0.5 | I24: =SUM(B24:H24) -> 2.5 | K24: 2021
A25: Total a.m | B25: =B24-B23 -> 0.16666667 | C25: =C24-C23 -> 0.16666667 | D25: =D24-D23 -> 0.16666667 | E25: =E24-E23 -> 0.16666667 | F25: =F24-F23 -> 0.16666667 | G25: =G24-G23 -> 0 | H25: =H24-H23 -> 0 | I25: =I24-I23 -> 0.83333333 | K25: 2022
A26: Arrivée | B26: 0.5625 | C26: 0.5625 | D26: 0.5625 | E26: 0.5625 | F26: 0.5625 | I26: =SUM(B26:H26) -> 2.8125 | K26: 2023
A27: Départ | B27: 0.72916667 | C27: 0.72916667 | D27: 0.72916667 | E27: 0.72916667 | F27: 0.72916667 | I27: =SUM(B27:H27) -> 3.6458333 | K27: 2024
A28: Total p.m | B28: =B27-B26 -> 0.16666667 | C28: =C27-C26 -> 0.16666667 | D28: =D27-D26 -> 0.16666667 | E28: =E27-E26 -> 0.16666667 | F28: =F27-F26 -> 0.16666667 | G28: =G27-G26 -> 0 | H28: =H27-H26 -> 0 | I28: =I27-I26 -> 0.83333333 | K28: 2025
A29: Total du jour (minute) | B29: =B25+B28 -> 0.33333333 | C29: =C25+C28 -> 0.33333333 | D29: =D25+D28 -> 0.33333333 | E29: =E25+E28 -> 0.33333333 | F29: =F25+F28 -> 0.33333333 | G29: =G25+G28 -> 0 | H29: =H25+H28 -> 0 | I29: =SUM(B29:H29) -> 1.6666667
A31: Remarque
K32: 2017
A33: SEMAINE N° | B33: LUNDI | C33: MARDI | D33: MERCREDI | E33: JEUDI | F33: VENDREDI | G33: SAMEDI | H33: DIMANCHE | I33: Total de la semaine
A34: 15 | B34: 41373 | C34: 41374 | D34: 41375 | E34: 41376 | F34: 41377 | G34: 41378 | H34: 41379
B35: =IF(OR(B33="LUNDI",B33="MARDI",B33="MERCREDI",B33="JEUDI",B33="VENDREDI"),1,0) -> 1 | C35: =IF(OR(C33="LUNDI",C33="MARDI",C33="MERCREDI",C33="JEUDI",C33="VENDREDI"),1,0) -> 1 | D35: =IF(OR(D33="LUNDI",D33="MARDI",D33="MERCREDI",D33="JEUDI",D33="VENDREDI"),1,0) -> 1 | E35: =IF(OR(E33="LUNDI",E33="MARDI",E33="MERCREDI",E33="JEUDI",E33="VENDREDI"),1,0) -> 1 | F35: 0 | G35: =IF(OR(G33="LUNDI",G33="MARDI",G33="MERCREDI",G33="JEUDI",G33="VENDREDI"),1,0) -> 0 | H35: =IF(OR(H33="LUNDI",H33="MARDI",H33="MERCREDI",H33="JEUDI",H33="VENDREDI"),1,0) -> 0
A36: Arrivée | B36: 0.33333333 | C36: 0.33333333 | D36: 0.33333333 | E36: 0.33333333 | F36: CONGE OFFICIEL | I36: =SUM(B36:H36) -> 1.3333333
A37: Départ | B37: 0.5 | C37: 0.5 | D37: 0.5 | E37: 0.5 | I37: =SUM(B37:H37) -> 2
A38: Total a.m | B38: =B37-B36 -> 0.16666667 | C38: =C37-C36 -> 0.16666667 | D38: =D37-D36 -> 0.16666667 | E38: =E37-E36 -> 0.16666667 | G38: =G37-G36 -> 0 | H38: =H37-H36 -> 0 | I38: =I37-I36 -> 0.66666667
A39: Arrivée | B39: 0.5625 | C39: 0.5625 | D39: 0.5625 | E39: 0.5625 | I39: =SUM(B39:H39) -> 2.25
A40: Départ | B40: 0.72916667 | C40: 0.72916667 | D40: 0.72916667 | E40: 0.72916667 | I40: =SUM(B40:H40) -> 2.9166667
A41: Total p.m | B41: =B40-B39 -> 0.16666667 | C41: =C40-C39 -> 0.16666667 | D41: =D40-D39 -> 0.16666667 | E41: =E40-E39 -> 0.16666667 | G41: =G40-G39 -> 0 | H41: =H40-H39 -> 0 | I41: =I40-I39 -> 0.66666667
A42: Total du jour (minute) | B42: =B38+B41 -> 0.33333333 | C42: =C38+C41 -> 0.33333333 | D42: =D38+D41 -> 0.33333333 | E42: =E38+E41 -> 0.33333333 | F42: =F38+F41 -> 0 | G42: =G38+G41 -> 0 | H42: =H38+H41 -> 0 | I42: =SUM(B42:H42) -> 1.3333333
A44: Remarque
...

Sheet MAI
A1: Gestion des heures
A3: Nom : | D3: Mois: | E3: MAI | K3: JANVIER
A4: Prénom: | B4: ALAIN | D4: Année: | E4: 2017 | K4: FEVRIER
A5: Noter les heures sous la forme 8:00 et arrondisser vos heures. | K5: MARS
K6: AVRIL
A7: SEMAINE N° | B7: LUNDI | C7: MARDI | D7: MERCREDI | E7: JEUDI | F7: VENDREDI | G7: SAMEDI | H7: DIMANCHE | I7: Total de la semaine | K7: MAI
A8: 18 | B8: 41394 | C8: 41395 | D8: 41396 | E8: 41397 | F8: 41398 | G8: 41399 | H8: 41400 | K8: JUIN
B9: 1 | C9: 1 | D9: 1 | E9: 1 | F9: 1 | G9: =IF(OR(G7="LUNDI",G7="MARDI",G7="MERCREDI",G7="JEUDI",G7="VENDREDI"),1,0) -> 0 | H9: =IF(OR(H7="LUNDI",H7="MARDI",H7="MERCREDI",H7="JEUDI",H7="VENDREDI"),1,0) -> 0 | K9: JUIN
A10: Arrivée | B10: 0.33333333 | C10: 0.33333333 | D10: 0.33333333 | E10: 0.33333333 | F10: 0.33333333 | I10: =SUM(B10:H10) -> 1.6666667 | K10: JUILLET
A11: Départ | B11: 0.5 | C11: 0.5 | D11: 0.5 | E11: 0.5 | F11: 0.5 | I11: =SUM(B11:H11) -> 2.5 | K11: AOÛT
A12: Total a.m | B12: =B11-B10 -> 0.16666667 | C12: =C11-C10 -> 0.16666667 | D12: =D11-D10 -> 0.16666667 | E12: =E11-E10 -> 0.16666667 | F12: =F11-F10 -> 0.16666667 | G12: =G11-G10 -> 0 | H12: =H11-H10 -> 0 | I12: =I11-I10 -> 0.83333333 | K12: SEPTEMBRE
A13: Arrivée | B13: 0.5625 | C13: 0.5625 | D13: 0.5625 | E13: 0.5625 | F13: 0.5625 | I13: =SUM(B13:H13) -> 2.8125 | K13: OCTOBRE
A14: Départ | B14: 0.72916667 | C14: 0.72916667 | D14: 0.72916667 | E14: 0.72916667 | F14: 0.72916667 | I14: =SUM(B14:H14) -> 3.6458333 | K14: NOVEMBRE
A15: Total p.m | B15: =B14-B13 -> 0.16666667 | C15: =C14-C13 -> 0.16666667 | D15: =D14-D13 -> 0.16666667 | E15: =E14-E13 -> 0.16666667 | F15: =F14-F13 -> 0.16666667 | G15: =G14-G13 -> 0 | H15: =H14-H13 -> 0 | I15: =I14-I13 -> 0.83333333 | K15: DÉCEMBRE
A16: Total du jour (minute) | B16: =B12+B15 -> 0.33333333 | C16: =C12+C15 -> 0.33333333 | D16: =D12+D15 -> 0.33333333 | E16: =E12+E15 -> 0.33333333 | F16: =F12+F15 -> 0.33333333 | G16: =G12+G15 -> 0 | H16: =H12+H15 -> 0 | I16: =SUM(B16:H16) -> 1.6666667
A18: Remarque
K19: 2017
A20: SEMAINE N° | B20: LUNDI | C20: MARDI | D20: MERCREDI | E20: JEUDI | F20: VENDREDI | G20: SAMEDI | H20: DIMANCHE | I20: Total de la semaine | K20: 2018
A21: 19 | B21: 41401 | C21: 41402 | D21: 41403 | E21: 41404 | F21: 41405 | G21: 41406 | H21: 41407
B22: 1 | C22: =IF(OR(C20="LUNDI",C20="MARDI",C20="MERCREDI",C20="JEUDI",C20="VENDREDI"),1,0) -> 1 | D22: =IF(OR(D20="LUNDI",D20="MARDI",D20="MERCREDI",D20="JEUDI",D20="VENDREDI"),1,0) -> 1 | E22: =IF(OR(E20="LUNDI",E20="MARDI",E20="MERCREDI",E20="JEUDI",E20="VENDREDI"),1,0) -> 1 | F22: =IF(OR(F20="LUNDI",F20="MARDI",F20="MERCREDI",F20="JEUDI",F20="VENDREDI"),1,0) -> 1 | G22: =IF(OR(G20="LUNDI",G20="MARDI",G20="MERCREDI",G20="JEUDI",G20="VENDREDI"),1,0) -> 0 | H22: =IF(OR(H20="LUNDI",H20="MARDI",H20="MERCREDI",H20="JEUDI",H20="VENDREDI"),1,0) -> 0 | K22: 2019
A23: Arrivée | B23: 0.33333333 | C23: 0.33333333 | D23: 0.33333333 | E23: 0.33333333 | F23: 0.33333333 | I23: =SUM(B23:H23) -> 1.6666667 | K23: 2020
A24: Départ | B24: 0.5 | C24: 0.5 | D24: 0.5 | E24: 0.5 | F24: 0.5 | I24: =SUM(B24:H24) -> 2.5 | K24: 2021
A25: Total a.m | B25: =B24-B23 -> 0.16666667 | C25: =C24-C23 -> 0.16666667 | D25: =D24-D23 -> 0.16666667 | E25: =E24-E23 -> 0.16666667 | F25: =F24-F23 -> 0.16666667 | G25: =G24-G23 -> 0 | H25: =H24-H23 -> 0 | I25: =I24-I23 -> 0.83333333 | K25: 2022
A26: Arrivée | B26: 0.5625 | C26: 0.5625 | D26: 0.5625 | E26: 0.5625 | F26: 0.5625 | I26: =SUM(B26:H26) -> 2.8125 | K26: 2023
A27: Départ | B27: 0.72916667 | C27: 0.72916667 | D27: 0.72916667 | E27: 0.72916667 | F27: 0.72916667 | I27: =SUM(B27:H27) -> 3.6458333 | K27: 2024
A28: Total p.m | B28: =B27-B26 -> 0.16666667 | C28: =C27-C26 -> 0.16666667 | D28: =D27-D26 -> 0.16666667 | E28: =E27-E26 -> 0.16666667 | F28: =F27-F26 -> 0.16666667 | G28: =G27-G26 -> 0 | H28: =H27-H26 -> 0 | I28: =I27-I26 -> 0.83333333 | K28: 2025
A29: Total du jour (minute) | B29: =B25+B28 -> 0.33333333 | C29: =C25+C28 -> 0.33333333 | D29: =D25+D28 -> 0.33333333 | E29: =E25+E28 -> 0.33333333 | F29: =F25+F28 -> 0.33333333 | G29: =G25+G28 -> 0 | H29: =H25+H28 -> 0 | I29: =SUM(B29:H29) -> 1.6666667
A31: Remarque
K32: 2017
A33: SEMAINE N° | B33: LUNDI | C33: MARDI | D33: MERCREDI | E33: JEUDI | F33: VENDREDI | G33: SAMEDI | H33: DIMANCHE | I33: Total de la semaine
A34: 20 | B34: 41408 | C34: 41409 | D34: 41410 | E34: 41411 | F34: 41412 | G34: 41413 | H34: 41414
B35: =IF(OR(B33="LUNDI",B33="MARDI",B33="MERCREDI",B33="JEUDI",B33="VENDREDI"),1,0) -> 1 | C35: =IF(OR(C33="LUNDI",C33="MARDI",C33="MERCREDI",C33="JEUDI",C33="VENDREDI"),1,0) -> 1 | D35: =IF(OR(D33="LUNDI",D33="MARDI",D33="MERCREDI",D33="JEUDI",D33="VENDREDI"),1,0) -> 1 | E35: =IF(OR(E33="LUNDI",E33="MARDI",E33="MERCREDI",E33="JEUDI",E33="VENDREDI"),1,0) -> 1 | F35: =IF(OR(F33="LUNDI",F33="MARDI",F33="MERCREDI",F33="JEUDI",F33="VENDREDI"),1,0) -> 1 | G35: =IF(OR(G33="LUNDI",G33="MARDI",G33="MERCREDI",G33="JEUDI",G33="VENDREDI"),1,0) -> 0 | H35: =IF(OR(H33="LUNDI",H33="MARDI",H33="MERCREDI",H33="JEUDI",H33="VENDREDI"),1,0) -> 0
A36: Arrivée | B36: 0.33333333 | C36: 0.33333333 | D36: 0.33333333 | E36: 0.33333333 | F36: 0.33333333 | I36: =SUM(B36:H36) -> 1.6666667
A37: Départ | B37: 0.5 | C37: 0.5 | D37: 0.5 | E37: 0.5 | F37: 0.5 | I37: =SUM(B37:H37) -> 2.5
A38: Total a.m | B38: =B37-B36 -> 0.16666667 | C38: =C37-C36 -> 0.16666667 | D38: =D37-D36 -> 0.16666667 | E38: =E37-E36 -> 0.16666667 | F38: =F37-F36 -> 0.16666667 | G38: =G37-G36 -> 0 | H38: =H37-H36 -> 0 | I38: =I37-I36 -> 0.83333333
A39: Arrivée | B39: 0.5625 | C39: 0.5625 | D39: 0.5625 | E39: 0.5625 | F39: 0.5625 | I39: =SUM(B39:H39) -> 2.8125
A40: Départ | B40: 0.72916667 | C40: 0.72916667 | D40: 0.72916667 | E40: 0.72916667 | F40: 0.72916667 | I40: =SUM(B40:H40) -> 3.6458333
A41: Total p.m | B41: =B40-B39 -> 0.16666667 | C41: =C40-C39 -> 0.16666667 | D41: =D40-D39 -> 0.16666667 | E41: =E40-E39 -> 0.16666667 | F41: =F40-F39 -> 0.16666667 | G41: =G40-G39 -> 0 | H41: =H40-H39 -> 0 | I41: =I40-I39 -> 0.83333333
A42: Total du jour (minute) | B42: =B38+B41 -> 0.33333333 | C42: =C38+C41 -> 0.33333333 | D42: =D38+D41 -> 0.33333333 | E42: =E38+E41 -> 0.33333333 | F42: =F38+F41 -> 0.33333333 | G42: =G38+G41 -> 0 | H42: =H38+H41 -> 0 | I42: =SUM(B42:H42) -> 1.6666667
A44: Remarque
...

Sheet JUIN
A1: Gestion des heures
A3: Nom : | D3: Mois: | E3: JUIN | K3: JANVIER
A4: Prénom: | B4: ALAIN | D4: Année: | E4: 2017 | K4: FEVRIER
A5: Noter les heures sous la forme 8:00 et arrondisser vos heures. | K5: MARS
K6: AVRIL
A7: SEMAINE N° | B7: LUNDI | C7: MARDI | D7: MERCREDI | E7: JEUDI | F7: VENDREDI | G7: SAMEDI | H7: DIMANCHE | I7: Total de la semaine | K7: MAI
A8: 22 | E8: 41425 | F8: 41426 | G8: 41427 | H8: 41428 | K8: JUIN
B9: 0 | C9: 0 | D9: 0 | E9: 1 | F9: 1 | G9: =IF(OR(G7="LUNDI",G7="MARDI",G7="MERCREDI",G7="JEUDI",G7="VENDREDI"),1,0) -> 0 | H9: =IF(OR(H7="LUNDI",H7="MARDI",H7="MERCREDI",H7="JEUDI",H7="VENDREDI"),1,0) -> 0 | K9: JUIN
A10: Arrivée | E10: 0.33333333 | F10: 0.33333333 | I10: =SUM(B10:H10) -> 0.66666667 | K10: JUILLET
A11: Départ | E11: 0.5 | F11: 0.5 | I11: =SUM(B11:H11) -> 1 | K11: AOÛT
A12: Total a.m | B12: =B11-B10 -> 0 | C12: =C11-C10 -> 0 | D12: =D11-D10 -> 0 | E12: =E11-E10 -> 0.16666667 | F12: =F11-F10 -> 0.16666667 | G12: =G11-G10 -> 0 | H12: =H11-H10 -> 0 | I12: =I11-I10 -> 0.33333333 | K12: SEPTEMBRE
A13: Arrivée | E13: 0.5625 | F13: 0.5625 | I13: =SUM(B13:H13) -> 1.125 | K13: OCTOBRE
A14: Départ | E14: 0.72916667 | F14: 0.72916667 | I14: =SUM(B14:H14) -> 1.4583333 | K14: NOVEMBRE
A15: Total p.m | B15: =B14-B13 -> 0 | C15: =C14-C13 -> 0 | D15: =D14-D13 -> 0 | E15: =E14-E13 -> 0.16666667 | F15: =F14-F13 -> 0.16666667 | G15: =G14-G13 -> 0 | H15: =H14-H13 -> 0 | I15: =I14-I13 -> 0.33333333 | K15: DÉCEMBRE
A16: Total du jour (minute) | B16: =B12+B15 -> 0 | C16: =C12+C15 -> 0 | D16: =D12+D15 -> 0 | E16: =E12+E15 -> 0.33333333 | F16: =F12+F15 -> 0.33333333 | G16: =G12+G15 -> 0 | H16: =H12+H15 -> 0 | I16: =SUM(B16:H16) -> 0.66666667
A18: Remarque
K19: 2017
A20: SEMAINE N° | B20: LUNDI | C20: MARDI | D20: MERCREDI | E20: JEUDI | F20: VENDREDI | G20: SAMEDI | H20: DIMANCHE | I20: Total de la semaine | K20: 2018
A21: 23 | B21: 41429 | C21: 41430 | D21: 41431 | E21: 41432 | F21: 41433 | G21: 41434 | H21: 41435
B22: 1 | C22: =IF(OR(C20="LUNDI",C20="MARDI",C20="MERCREDI",C20="JEUDI",C20="VENDREDI"),1,0) -> 1 | D22: =IF(OR(D20="LUNDI",D20="MARDI",D20="MERCREDI",D20="JEUDI",D20="VENDREDI"),1,0) -> 1 | E22: =IF(OR(E20="LUNDI",E20="MARDI",E20="MERCREDI",E20="JEUDI",E20="VENDREDI"),1,0) -> 1 | F22: =IF(OR(F20="LUNDI",F20="MARDI",F20="MERCREDI",F20="JEUDI",F20="VENDREDI"),1,0) -> 1 | G22: =IF(OR(G20="LUNDI",G20="MARDI",G20="MERCREDI",G20="JEUDI",G20="VENDREDI"),1,0) -> 0 | H22: =IF(OR(H20="LUNDI",H20="MARDI",H20="MERCREDI",H20="JEUDI",H20="VENDREDI"),1,0) -> 0 | K22: 2019
A23: Arrivée | B23: 0.33333333 | C23: 0.33333333 | D23: 0.33333333 | E23: 0.33333333 | F23: 0.33333333 | I23: =SUM(B23:H23) -> 1.6666667 | K23: 2020
A24: Départ | B24: 0.5 | C24: 0.5 | D24: 0.5 | E24: 0.5 | F24: 0.5 | I24: =SUM(B24:H24) -> 2.5 | K24: 2021
A25: Total a.m | B25: =B24-B23 -> 0.16666667 | C25: =C24-C23 -> 0.16666667 | D25: =D24-D23 -> 0.16666667 | E25: =E24-E23 -> 0.16666667 | F25: =F24-F23 -> 0.16666667 | G25: =G24-G23 -> 0 | H25: =H24-H23 -> 0 | I25: =I24-I23 -> 0.83333333 | K25: 2022
A26: Arrivée | B26: 0.5625 | C26: 0.5625 | D26: 0.5625 | E26: 0.5625 | F26: 0.5625 | I26: =SUM(B26:H26) -> 2.8125 | K26: 2023
A27: Départ | B27: 0.72916667 | C27: 0.72916667 | D27: 0.72916667 | E27: 0.72916667 | F27: 0.72916667 | I27: =SUM(B27:H27) -> 3.6458333 | K27: 2024
A28: Total p.m | B28: =B27-B26 -> 0.16666667 | C28: =C27-C26 -> 0.16666667 | D28: =D27-D26 -> 0.16666667 | E28: =E27-E26 -> 0.16666667 | F28: =F27-F26 -> 0.16666667 | G28: =G27-G26 -> 0 | H28: =H27-H26 -> 0 | I28: =I27-I26 -> 0.83333333 | K28: 2025
A29: Total du jour (minute) | B29: =B25+B28 -> 0.33333333 | C29: =C25+C28 -> 0.33333333 | D29: =D25+D28 -> 0.33333333 | E29: =E25+E28 -> 0.33333333 | F29: =F25+F28 -> 0.33333333 | G29: =G25+G28 -> 0 | H29: =H25+H28 -> 0 | I29: =SUM(B29:H29) -> 1.6666667
A31: Remarque
K32: 2017
A33: SEMAINE N° | B33: LUNDI | C33: MARDI | D33: MERCREDI | E33: JEUDI | F33: VENDREDI | G33: SAMEDI | H33: DIMANCHE | I33: Total de la semaine
A34: 24 | B34: 41436 | C34: 41437 | D34: 41438 | E34: 41439 | F34: 41440 | G34: 41441 | H34: 41442
B35: =IF(OR(B33="LUNDI",B33="MARDI",B33="MERCREDI",B33="JEUDI",B33="VENDREDI"),1,0) -> 1 | C35: =IF(OR(C33="LUNDI",C33="MARDI",C33="MERCREDI",C33="JEUDI",C33="VENDREDI"),1,0) -> 1 | D35: =IF(OR(D33="LUNDI",D33="MARDI",D33="MERCREDI",D33="JEUDI",D33="VENDREDI"),1,0) -> 1 | E35: =IF(OR(E33="LUNDI",E33="MARDI",E33="MERCREDI",E33="JEUDI",E33="VENDREDI"),1,0) -> 1 | F35: =IF(OR(F33="LUNDI",F33="MARDI",F33="MERCREDI",F33="JEUDI",F33="VENDREDI"),1,0) -> 1 | G35: =IF(OR(G33="LUNDI",G33="MARDI",G33="MERCREDI",G33="JEUDI",G33="VENDREDI"),1,0) -> 0 | H35: =IF(OR(H33="LUNDI",H33="MARDI",H33="MERCREDI",H33="JEUDI",H33="VENDREDI"),1,0) -> 0
A36: Arrivée | B36: 0.33333333 | C36: 0.33333333 | D36: 0.33333333 | E36: 0.33333333 | F36: 0.33333333 | I36: =SUM(B36:H36) -> 1.6666667
A37: Départ | B37: 0.5 | C37: 0.5 | D37: 0.5 | E37: 0.5 | F37: 0.5 | I37: =SUM(B37:H37) -> 2.5
A38: Total a.m | B38: =B37-B36 -> 0.16666667 | C38: =C37-C36 -> 0.16666667 | D38: =D37-D36 -> 0.16666667 | E38: =E37-E36 -> 0.16666667 | F38: =F37-F36 -> 0.16666667 | G38: =G37-G36 -> 0 | H38: =H37-H36 -> 0 | I38: =I37-I36 -> 0.83333333
A39: Arrivée | B39: 0.5625 | C39: 0.5625 | D39: 0.5625 | E39: 0.5625 | F39: 0.5625 | I39: =SUM(B39:H39) -> 2.8125
A40: Départ | B40: 0.72916667 | C40: 0.72916667 | D40: 0.72916667 | E40: 0.72916667 | F40: 0.72916667 | I40: =SUM(B40:H40) -> 3.6458333
A41: Total p.m | B41: =B40-B39 -> 0.16666667 | C41: =C40-C39 -> 0.16666667 | D41: =D40-D39 -> 0.16666667 | E41: =E40-E39 -> 0.16666667 | F41: =F40-F39 -> 0.16666667 | G41: =G40-G39 -> 0 | H41: =H40-H39 -> 0 | I41: =I40-I39 -> 0.83333333
A42: Total du jour (minute) | B42: =B38+B41 -> 0.33333333 | C42: =C38+C41 -> 0.33333333 | D42: =D38+D41 -> 0.33333333 | E42: =E38+E41 -> 0.33333333 | F42: =F38+F41 -> 0.33333333 | G42: =G38+G41 -> 0 | H42: =H38+H41 -> 0 | I42: =SUM(B42:H42) -> 1.6666667
A44: Remarque
...

Sheet JUILLET
A1: Gestion des heures
A3: Nom : | D3: Mois: | E3: JUILLET | K3: JANVIER
A4: Prénom: | B4: ALAIN | D4: Année: | E4: 2017 | K4: FEVRIER
A5: Noter les heures sous la forme 8:00 et arrondisser vos heures. | K5: MARS
K6: AVRIL
A7: SEMAINE N° | B7: LUNDI | C7: MARDI | D7: MERCREDI | E7: JEUDI | F7: VENDREDI | G7: SAMEDI | H7: DIMANCHE | I7: Total de la semaine | K7: MAI
A8: 26 | G8: 41455 | H8: 41456 | K8: JUIN
B9: 0 | C9: 0 | D9: 0 | E9: 0 | F9: 0 | G9: =IF(OR(G7="LUNDI",G7="MARDI",G7="MERCREDI",G7="JEUDI",G7="VENDREDI"),1,0) -> 0 | H9: =IF(OR(H7="LUNDI",H7="MARDI",H7="MERCREDI",H7="JEUDI",H7="VENDREDI"),1,0) -> 0 | K9: JUIN
A10: Arrivée | I10: =SUM(B10:H10) -> 0 | K10: JUILLET
A11: Départ | I11: =SUM(B11:H11) -> 0 | K11: AOÛT
A12: Total a.m | B12: =B11-B10 -> 0 | C12: =C11-C10 -> 0 | D12: =D11-D10 -> 0 | E12: =E11-E10 -> 0 | F12: =F11-F10 -> 0 | G12: =G11-G10 -> 0 | H12: =H11-H10 -> 0 | I12: =I11-I10 -> 0 | K12: SEPTEMBRE
A13: Arrivée | I13: =SUM(B13:H13) -> 0 | K13: OCTOBRE
A14: Départ | I14: =SUM(B14:H14) -> 0 | K14: NOVEMBRE
A15: Total p.m | B15: =B14-B13 -> 0 | C15: =C14-C13 -> 0 | D15: =D14-D13 -> 0 | E15: =E14-E13 -> 0 | F15: =F14-F13 -> 0 | G15: =G14-G13 -> 0 | H15: =H14-H13 -> 0 | I15: =I14-I13 -> 0 | K15: DÉCEMBRE
A16: Total du jour (minute) | B16: =B12+B15 -> 0 | C16: =C12+C15 -> 0 | D16: =D12+D15 -> 0 | E16: =E12+E15 -> 0 | F16: =F12+F15 -> 0 | G16: =G12+G15 -> 0 | H16: =H12+H15 -> 0 | I16: =SUM(B16:H16) -> 0
A18: Remarque
K19: 2017
A20: SEMAINE N° | B20: LUNDI | C20: MARDI | D20: MERCREDI | E20: JEUDI | F20: VENDREDI | G20: SAMEDI | H20: DIMANCHE | I20: Total de la semaine | K20: 2018
A21: 27 | B21: 41457 | C21: 41458 | D21: 41459 | E21: 41460 | F21: 41461 | G21: 41462 | H21: 41463
B22: 1 | C22: =IF(OR(C20="LUNDI",C20="MARDI",C20="MERCREDI",C20="JEUDI",C20="VENDREDI"),1,0) -> 1 | D22: =IF(OR(D20="LUNDI",D20="MARDI",D20="MERCREDI",D20="JEUDI",D20="VENDREDI"),1,0) -> 1 | E22: =IF(OR(E20="LUNDI",E20="MARDI",E20="MERCREDI",E20="JEUDI",E20="VENDREDI"),1,0) -> 1 | F22: =IF(OR(F20="LUNDI",F20="MARDI",F20="MERCREDI",F20="JEUDI",F20="VENDREDI"),1,0) -> 1 | G22: =IF(OR(G20="LUNDI",G20="MARDI",G20="MERCREDI",G20="JEUDI",G20="VENDREDI"),1,0) -> 0 | H22: =IF(OR(H20="LUNDI",H20="MARDI",H20="MERCREDI",H20="JEUDI",H20="VENDREDI"),1,0) -> 0 | K22: 2019
A23: Arrivée | B23: 0.33333333 | C23: 0.33333333 | D23: 0.33333333 | E23: 0.33333333 | F23: 0.33333333 | I23: =SUM(B23:H23) -> 1.6666667 | K23: 2020
A24: Départ | B24: 0.5 | C24: 0.5 | D24: 0.5 | E24: 0.5 | F24: 0.5 | I24: =SUM(B24:H24) -> 2.5 | K24: 2021
A25: Total a.m | B25: =B24-B23 -> 0.16666667 | C25: =C24-C23 -> 0.16666667 | D25: =D24-D23 -> 0.16666667 | E25: =E24-E23 -> 0.16666667 | F25: =F24-F23 -> 0.16666667 | G25: =G24-G23 -> 0 | H25: =H24-H23 -> 0 | I25: =I24-I23 -> 0.83333333 | K25: 2022
A26: Arrivée | B26: 0.5625 | C26: 0.5625 | D26: 0.5625 | E26: 0.5625 | F26: 0.5625 | I26: =SUM(B26:H26) -> 2.8125 | K26: 2023
A27: Départ | B27: 0.72916667 | C27: 0.72916667 | D27: 0.72916667 | E27: 0.72916667 | F27: 0.72916667 | I27: =SUM(B27:H27) -> 3.6458333 | K27: 2024
A28: Total p.m | B28: =B27-B26 -> 0.16666667 | C28: =C27-C26 -> 0.16666667 | D28: =D27-D26 -> 0.16666667 | E28: =E27-E26 -> 0.16666667 | F28: =F27-F26 -> 0.16666667 | G28: =G27-G26 -> 0 | H28: =H27-H26 -> 0 | I28: =I27-I26 -> 0.83333333 | K28: 2025
A29: Total du jour (minute) | B29: =B25+B28 -> 0.33333333 | C29: =C25+C28 -> 0.33333333 | D29: =D25+D28 -> 0.33333333 | E29: =E25+E28 -> 0.33333333 | F29: =F25+F28 -> 0.33333333 | G29: =G25+G28 -> 0 | H29: =H25+H28 -> 0 | I29: =SUM(B29:H29) -> 1.6666667
A31: Remarque
K32: 2017
A33: SEMAINE N° | B33: LUNDI | C33: MARDI | D33: MERCREDI | E33: JEUDI | F33: VENDREDI | G33: SAMEDI | H33: DIMANCHE | I33: Total de la semaine
A34: 28 | B34: 41464 | C34: 41465 | D34: 41466 | E34: 41467 | F34: 41468 | G34: 41469 | H34: 41470
B35: =IF(OR(B33="LUNDI",B33="MARDI",B33="MERCREDI",B33="JEUDI",B33="VENDREDI"),1,0) -> 1 | C35: =IF(OR(C33="LUNDI",C33="MARDI",C33="MERCREDI",C33="JEUDI",C33="VENDREDI"),1,0) -> 1 | D35: =IF(OR(D33="LUNDI",D33="MARDI",D33="MERCREDI",D33="JEUDI",D33="VENDREDI"),1,0) -> 1 | E35: =IF(OR(E33="LUNDI",E33="MARDI",E33="MERCREDI",E33="JEUDI",E33="VENDREDI"),1,0) -> 1 | F35: =IF(OR(F33="LUNDI",F33="MARDI",F33="MERCREDI",F33="JEUDI",F33="VENDREDI"),1,0) -> 1 | G35: =IF(OR(G33="LUNDI",G33="MARDI",G33="MERCREDI",G33="JEUDI",G33="VENDREDI"),1,0) -> 0 | H35: =IF(OR(H33="LUNDI",H33="MARDI",H33="MERCREDI",H33="JEUDI",H33="VENDREDI"),1,0) -> 0
A36: Arrivée | B36: 0.33333333 | C36: 0.33333333 | D36: 0.33333333 | E36: 0.33333333 | F36: 0.33333333 | I36: =SUM(B36:H36) -> 1.6666667
A37: Départ | B37: 0.5 | C37: 0.5 | D37: 0.5 | E37: 0.5 | F37: 0.5 | I37: =SUM(B37:H37) -> 2.5
A38: Total a.m | B38: =B37-B36 -> 0.16666667 | C38: =C37-C36 -> 0.16666667 | D38: =D37-D36 -> 0.16666667 | E38: =E37-E36 -> 0.16666667 | F38: =F37-F36 -> 0.16666667 | G38: =G37-G36 -> 0 | H38: =H37-H36 -> 0 | I38: =I37-I36 -> 0.83333333
A39: Arrivée | B39: 0.5625 | C39: 0.5625 | D39: 0.5625 | E39: 0.5625 | F39: 0.5625 | I39: =SUM(B39:H39) -> 2.8125
A40: Départ | B40: 0.72916667 | C40: 0.72916667 | D40: 0.72916667 | E40: 0.72916667 | F40: 0.72916667 | I40: =SUM(B40:H40) -> 3.6458333
A41: Total p.m | B41: =B40-B39 -> 0.16666667 | C41: =C40-C39 -> 0.16666667 | D41: =D40-D39 -> 0.16666667 | E41: =E40-E39 -> 0.16666667 | F41: =F40-F39 -> 0.16666667 | G41: =G40-G39 -> 0 | H41: =H40-H39 -> 0 | I41: =I40-I39 -> 0.83333333
A42: Total du jour (minute) | B42: =B38+B41 -> 0.33333333 | C42: =C38+C41 -> 0.33333333 | D42: =D38+D41 -> 0.33333333 | E42: =E38+E41 -> 0.33333333 | F42: =F38+F41 -> 0.33333333 | G42: =G38+G41 -> 0 | H42: =H38+H41 -> 0 | I42: =SUM(B42:H42) -> 1.6666667
A44: Remarque
...

Sheet AOÛT
A1: Gestion des heures
A3: Nom : | D3: Mois: | E3: AOÛT | K3: JANVIER
A4: Prénom: | B4: ALAIN | D4: Année: | E4: 2017 | K4: FEVRIER
A5: Noter les heures sous la forme 8:00 et arrondisser vos heures. | K5: MARS
K6: AVRIL
A7: SEMAINE N° | B7: LUNDI | C7: MARDI | D7: MERCREDI | E7: JEUDI | F7: VENDREDI | G7: SAMEDI | H7: DIMANCHE | I7: Total de la semaine | K7: MAI
A8: 31 | C8: 41486 | D8: 41487 | E8: 41488 | F8: 41489 | G8: 41490 | H8: 41491 | K8: JUIN
B9: 0 | C9: 0 | D9: 1 | E9: 1 | F9: 1 | G9: =IF(OR(G7="LUNDI",G7="MARDI",G7="MERCREDI",G7="JEUDI",G7="VENDREDI"),1,0) -> 0 | H9: =IF(OR(H7="LUNDI",H7="MARDI",H7="MERCREDI",H7="JEUDI",H7="VENDREDI"),1,0) -> 0 | K9: JUIN
A10: Arrivée | C10: CONGE OFFICIEL | D10: 0.33333333 | E10: 0.33333333 | F10: 0.33333333 | I10: =SUM(B10:H10) -> 1 | K10: JUILLET
A11: Départ | D11: 0.5 | E11: 0.5 | F11: 0.5 | I11: =SUM(B11:H11) -> 1.5 | K11: AOÛT
A12: Total a.m | B12: =B11-B10 -> 0 | D12: =D11-D10 -> 0.16666667 | E12: =E11-E10 -> 0.16666667 | F12: =F11-F10 -> 0.16666667 | G12: =G11-G10 -> 0 | H12: =H11-H10 -> 0 | I12: =I11-I10 -> 0.5 | K12: SEPTEMBRE
A13: Arrivée | D13: 0.5625 | E13: 0.5625 | F13: 0.5625 | I13: =SUM(B13:H13) -> 1.6875 | K13: OCTOBRE
A14: Départ | D14: 0.72916667 | E14: 0.72916667 | F14: 0.72916667 | I14: =SUM(B14:H14) -> 2.1875 | K14: NOVEMBRE
A15: Total p.m | B15: =B14-B13 -> 0 | D15: =D14-D13 -> 0.16666667 | E15: =E14-E13 -> 0.16666667 | F15: =F14-F13 -> 0.16666667 | G15: =G14-G13 -> 0 | H15: =H14-H13 -> 0 | I15: =I14-I13 -> 0.5 | K15: DÉCEMBRE
A16: Total du jour (minute) | B16: =B12+B15 -> 0 | C16: =C12+C15 -> 0 | D16: =D12+D15 -> 0.33333333 | E16: =E12+E15 -> 0.33333333 | F16: =F12+F15 -> 0.33333333 | G16: =G12+G15 -> 0 | H16: =H12+H15 -> 0 | I16: =SUM(B16:H16) -> 1
A18: Remarque
K19: 2017
A20: SEMAINE N° | B20: LUNDI | C20: MARDI | D20: MERCREDI | E20: JEUDI | F20: VENDREDI | G20: SAMEDI | H20: DIMANCHE | I20: Total de la semaine | K20: 2018
A21: 32 | B21: 41492 | C21: 41493 | D21: 41494 | E21: 41495 | F21: 41496 | G21: 41497 | H21: 41498
B22: 1 | C22: =IF(OR(C20="LUNDI",C20="MARDI",C20="MERCREDI",C20="JEUDI",C20="VENDREDI"),1,0) -> 1 | D22: =IF(OR(D20="LUNDI",D20="MARDI",D20="MERCREDI",D20="JEUDI",D20="VENDREDI"),1,0) -> 1 | E22: =IF(OR(E20="LUNDI",E20="MARDI",E20="MERCREDI",E20="JEUDI",E20="VENDREDI"),1,0) -> 1 | F22: =IF(OR(F20="LUNDI",F20="MARDI",F20="MERCREDI",F20="JEUDI",F20="VENDREDI"),1,0) -> 1 | G22: =IF(OR(G20="LUNDI",G20="MARDI",G20="MERCREDI",G20="JEUDI",G20="VENDREDI"),1,0) -> 0 | H22: =IF(OR(H20="LUNDI",H20="MARDI",H20="MERCREDI",H20="JEUDI",H20="VENDREDI"),1,0) -> 0 | K22: 2019
A23: Arrivée | B23: 0.33333333 | C23: 0.33333333 | D23: 0.33333333 | E23: 0.33333333 | F23: 0.33333333 | I23: =SUM(B23:H23) -> 1.6666667 | K23: 2020
A24: Départ | B24: 0.5 | C24: 0.5 | D24: 0.5 | E24: 0.5 | F24: 0.5 | I24: =SUM(B24:H24) -> 2.5 | K24: 2021
A25: Total a.m | B25: =B24-B23 -> 0.16666667 | C25: =C24-C23 -> 0.16666667 | D25: =D24-D23 -> 0.16666667 | E25: =E24-E23 -> 0.16666667 | F25: =F24-F23 -> 0.16666667 | G25: =G24-G23 -> 0 | H25: =H24-H23 -> 0 | I25: =I24-I23 -> 0.83333333 | K25: 2022
A26: Arrivée | B26: 0.5625 | C26: 0.5625 | D26: 0.5625 | E26: 0.5625 | F26: 0.5625 | I26: =SUM(B26:H26) -> 2.8125 | K26: 2023
A27: Départ | B27: 0.72916667 | C27: 0.72916667 | D27: 0.72916667 | E27: 0.72916667 | F27: 0.72916667 | I27: =SUM(B27:H27) -> 3.6458333 | K27: 2024
A28: Total p.m | B28: =B27-B26 -> 0.16666667 | C28: =C27-C26 -> 0.16666667 | D28: =D27-D26 -> 0.16666667 | E28: =E27-E26 -> 0.16666667 | F28: =F27-F26 -> 0.16666667 | G28: =G27-G26 -> 0 | H28: =H27-H26 -> 0 | I28: =I27-I26 -> 0.83333333 | K28: 2025
A29: Total du jour (minute) | B29: =B25+B28 -> 0.33333333 | C29: =C25+C28 -> 0.33333333 | D29: =D25+D28 -> 0.33333333 | E29: =E25+E28 -> 0.33333333 | F29: =F25+F28 -> 0.33333333 | G29: =G25+G28 -> 0 | H29: =H25+H28 -> 0 | I29: =SUM(B29:H29) -> 1.6666667
A31: Remarque
K32: 2017
A33: SEMAINE N° | B33: LUNDI | C33: MARDI | D33: MERCREDI | E33: JEUDI | F33: VENDREDI | G33: SAMEDI | H33: DIMANCHE | I33: Total de la semaine
A34: 33 | B34: 41499 | C34: 41500 | D34: 41501 | E34: 41502 | F34: 41503 | G34: 41504 | H34: 41505
B35: =IF(OR(B33="LUNDI",B33="MARDI",B33="MERCREDI",B33="JEUDI",B33="VENDREDI"),1,0) -> 1 | C35: =IF(OR(C33="LUNDI",C33="MARDI",C33="MERCREDI",C33="JEUDI",C33="VENDREDI"),1,0) -> 1 | D35: =IF(OR(D33="LUNDI",D33="MARDI",D33="MERCREDI",D33="JEUDI",D33="VENDREDI"),1,0) -> 1 | E35: =IF(OR(E33="LUNDI",E33="MARDI",E33="MERCREDI",E33="JEUDI",E33="VENDREDI"),1,0) -> 1 | F35: =IF(OR(F33="LUNDI",F33="MARDI",F33="MERCREDI",F33="JEUDI",F33="VENDREDI"),1,0) -> 1 | G35: =IF(OR(G33="LUNDI",G33="MARDI",G33="MERCREDI",G33="JEUDI",G33="VENDREDI"),1,0) -> 0 | H35: =IF(OR(H33="LUNDI",H33="MARDI",H33="MERCREDI",H33="JEUDI",H33="VENDREDI"),1,0) -> 0
A36: Arrivée | B36: 0.33333333 | C36: 0.33333333 | D36: 0.33333333 | E36: 0.33333333 | F36: 0.33333333 | I36: =SUM(B36:H36) -> 1.6666667
A37: Départ | B37: 0.5 | C37: 0.5 | D37: 0.5 | E37: 0.5 | F37: 0.5 | I37: =SUM(B37:H37) -> 2.5
A38: Total a.m | B38: =B37-B36 -> 0.16666667 | C38: =C37-C36 -> 0.16666667 | D38: =D37-D36 -> 0.16666667 | E38: =E37-E36 -> 0.16666667 | F38: =F37-F36 -> 0.16666667 | G38: =G37-G36 -> 0 | H38: =H37-H36 -> 0 | I38: =I37-I36 -> 0.83333333
A39: Arrivée | B39: 0.5625 | C39: 0.5625 | D39: 0.5625 | E39: 0.5625 | F39: 0.5625 | I39: =SUM(B39:H39) -> 2.8125
A40: Départ | B40: 0.72916667 | C40: 0.72916667 | D40: 0.72916667 | E40: 0.72916667 | F40: 0.72916667 | I40: =SUM(B40:H40) -> 3.6458333
A41: Total p.m | B41: =B40-B39 -> 0.16666667 | C41: =C40-C39 -> 0.16666667 | D41: =D40-D39 -> 0.16666667 | E41: =E40-E39 -> 0.16666667 | F41: =F40-F39 -> 0.16666667 | G41: =G40-G39 -> 0 | H41: =H40-H39 -> 0 | I41: =I40-I39 -> 0.83333333
A42: Total du jour (minute) | B42: =B38+B41 -> 0.33333333 | C42: =C38+C41 -> 0.33333333 | D42: =D38+D41 -> 0.33333333 | E42: =E38+E41 -> 0.33333333 | F42: =F38+F41 -> 0.33333333 | G42: =G38+G41 -> 0 | H42: =H38+H41 -> 0 | I42: =SUM(B42:H42) -> 1.6666667
A44: Remarque
...

Sheet SEPTEMBRE
A1: Gestion des heures
A3: Nom : | D3: Mois: | E3: SEPTEMBRE | K3: JANVIER
A4: Prénom: | B4: ALAIN | D4: Année: | E4: 2017 | K4: FEVRIER
A5: Noter les heures sous la forme 8:00 et arrondisser vos heures. | K5: MARS
K6: AVRIL
A7: SEMAINE N° | B7: LUNDI | C7: MARDI | D7: MERCREDI | E7: JEUDI | F7: VENDREDI | G7: SAMEDI | H7: DIMANCHE | I7: Total de la semaine | K7: MAI
A8: 35 | F8: 41517 | G8: 41518 | H8: 41519 | K8: JUIN
B9: 0 | C9: 0 | D9: 0 | E9: 0 | F9: 1 | G9: =IF(OR(G7="LUNDI",G7="MARDI",G7="MERCREDI",G7="JEUDI",G7="VENDREDI"),1,0) -> 0 | H9: =IF(OR(H7="LUNDI",H7="MARDI",H7="MERCREDI",H7="JEUDI",H7="VENDREDI"),1,0) -> 0 | K9: JUIN
A10: Arrivée | F10: 0.33333333 | I10: =SUM(B10:H10) -> 0.33333333 | K10: JUILLET
A11: Départ | F11: 0.5 | I11: =SUM(B11:H11) -> 0.5 | K11: AOÛT
A12: Total a.m | B12: =B11-B10 -> 0 | C12: =C11-C10 -> 0 | D12: =D11-D10 -> 0 | E12: =E11-E10 -> 0 | F12: =F11-F10 -> 0.16666667 | G12: =G11-G10 -> 0 | H12: =H11-H10 -> 0 | I12: =I11-I10 -> 0.16666667 | K12: SEPTEMBRE
A13: Arrivée | F13: 0.5625 | I13: =SUM(B13:H13) -> 0.5625 | K13: OCTOBRE
A14: Départ | F14: 0.72916667 | I14: =SUM(B14:H14) -> 0.72916667 | K14: NOVEMBRE
A15: Total p.m | B15: =B14-B13 -> 0 | C15: =C14-C13 -> 0 | D15: =D14-D13 -> 0 | E15: =E14-E13 -> 0 | F15: =F14-F13 -> 0.16666667 | G15: =G14-G13 -> 0 | H15: =H14-H13 -> 0 | I15: =I14-I13 -> 0.16666667 | K15: DÉCEMBRE
A16: Total du jour (minute) | B16: =B12+B15 -> 0 | C16: =C12+C15 -> 0 | D16: =D12+D15 -> 0 | E16: =E12+E15 -> 0 | F16: =F12+F15 -> 0.33333333 | G16: =G12+G15 -> 0 | H16: =H12+H15 -> 0 | I16: =SUM(B16:H16) -> 0.33333333
A18: Remarque
K19: 2017
A20: SEMAINE N° | B20: LUNDI | C20: MARDI | D20: MERCREDI | E20: JEUDI | F20: VENDREDI | G20: SAMEDI | H20: DIMANCHE | I20: Total de la semaine | K20: 2018
A21: 36 | B21: 41520 | C21: 41521 | D21: 41522 | E21: 41523 | F21: 41524 | G21: 41525 | H21: 41526
B22: 1 | C22: =IF(OR(C20="LUNDI",C20="MARDI",C20="MERCREDI",C20="JEUDI",C20="VENDREDI"),1,0) -> 1 | D22: =IF(OR(D20="LUNDI",D20="MARDI",D20="MERCREDI",D20="JEUDI",D20="VENDREDI"),1,0) -> 1 | E22: =IF(OR(E20="LUNDI",E20="MARDI",E20="MERCREDI",E20="JEUDI",E20="VENDREDI"),1,0) -> 1 | F22: =IF(OR(F20="LUNDI",F20="MARDI",F20="MERCREDI",F20="JEUDI",F20="VENDREDI"),1,0) -> 1 | G22: =IF(OR(G20="LUNDI",G20="MARDI",G20="MERCREDI",G20="JEUDI",G20="VENDREDI"),1,0) -> 0 | H22: =IF(OR(H20="LUNDI",H20="MARDI",H20="MERCREDI",H20="JEUDI",H20="VENDREDI"),1,0) -> 0 | K22: 2019
A23: Arrivée | B23: 0.33333333 | C23: 0.33333333 | D23: 0.33333333 | E23: 0.33333333 | F23: 0.33333333 | I23: =SUM(B23:H23) -> 1.6666667 | K23: 2020
A24: Départ | B24: 0.5 | C24: 0.5 | D24: 0.5 | E24: 0.5 | F24: 0.5 | I24: =SUM(B24:H24) -> 2.5 | K24: 2021
A25: Total a.m | B25: =B24-B23 -> 0.16666667 | C25: =C24-C23 -> 0.16666667 | D25: =D24-D23 -> 0.16666667 | E25: =E24-E23 -> 0.16666667 | F25: =F24-F23 -> 0.16666667 | G25: =G24-G23 -> 0 | H25: =H24-H23 -> 0 | I25: =I24-I23 -> 0.83333333 | K25: 2022
A26: Arrivée | B26: 0.5625 | C26: 0.5625 | D26: 0.5625 | E26: 0.5625 | F26: 0.5625 | I26: =SUM(B26:H26) -> 2.8125 | K26: 2023
A27: Départ | B27: 0.72916667 | C27: 0.72916667 | D27: 0.72916667 | E27: 0.72916667 | F27: 0.72916667 | I27: =SUM(B27:H27) -> 3.6458333 | K27: 2024
A28: Total p.m | B28: =B27-B26 -> 0.16666667 | C28: =C27-C26 -> 0.16666667 | D28: =D27-D26 -> 0.16666667 | E28: =E27-E26 -> 0.16666667 | F28: =F27-F26 -> 0.16666667 | G28: =G27-G26 -> 0 | H28: =H27-H26 -> 0 | I28: =I27-I26 -> 0.83333333 | K28: 2025
A29: Total du jour (minute) | B29: =B25+B28 -> 0.33333333 | C29: =C25+C28 -> 0.33333333 | D29: =D25+D28 -> 0.33333333 | E29: =E25+E28 -> 0.33333333 | F29: =F25+F28 -> 0.33333333 | G29: =G25+G28 -> 0 | H29: =H25+H28 -> 0 | I29: =SUM(B29:H29) -> 1.6666667
A31: Remarque
K32: 2017
A33: SEMAINE N° | B33: LUNDI | C33: MARDI | D33: MERCREDI | E33: JEUDI | F33: VENDREDI | G33: SAMEDI | H33: DIMANCHE | I33: Total de la semaine
A34: 37 | B34: 41527 | C34: 41528 | D34: 41529 | E34: 41530 | F34: 41531 | G34: 41532 | H34: 41533
B35: =IF(OR(B33="LUNDI",B33="MARDI",B33="MERCREDI",B33="JEUDI",B33="VENDREDI"),1,0) -> 1 | C35: =IF(OR(C33="LUNDI",C33="MARDI",C33="MERCREDI",C33="JEUDI",C33="VENDREDI"),1,0) -> 1 | D35: =IF(OR(D33="LUNDI",D33="MARDI",D33="MERCREDI",D33="JEUDI",D33="VENDREDI"),1,0) -> 1 | E35: =IF(OR(E33="LUNDI",E33="MARDI",E33="MERCREDI",E33="JEUDI",E33="VENDREDI"),1,0) -> 1 | F35: =IF(OR(F33="LUNDI",F33="MARDI",F33="MERCREDI",F33="JEUDI",F33="VENDREDI"),1,0) -> 1 | G35: =IF(OR(G33="LUNDI",G33="MARDI",G33="MERCREDI",G33="JEUDI",G33="VENDREDI"),1,0) -> 0 | H35: =IF(OR(H33="LUNDI",H33="MARDI",H33="MERCREDI",H33="JEUDI",H33="VENDREDI"),1,0) -> 0
A36: Arrivée | B36: 0.33333333 | C36: 0.33333333 | D36: 0.33333333 | E36: 0.33333333 | F36: 0.33333333 | I36: =SUM(B36:H36) -> 1.6666667
A37: Départ | B37: 0.5 | C37: 0.5 | D37: 0.5 | E37: 0.5 | F37: 0.5 | I37: =SUM(B37:H37) -> 2.5
A38: Total a.m | B38: =B37-B36 -> 0.16666667 | C38: =C37-C36 -> 0.16666667 | D38: =D37-D36 -> 0.16666667 | E38: =E37-E36 -> 0.16666667 | F38: =F37-F36 -> 0.16666667 | G38: =G37-G36 -> 0 | H38: =H37-H36 -> 0 | I38: =I37-I36 -> 0.83333333
A39: Arrivée | B39: 0.5625 | C39: 0.5625 | D39: 0.5625 | E39: 0.5625 | F39: 0.5625 | I39: =SUM(B39:H39) -> 2.8125
A40: Départ | B40: 0.72916667 | C40: 0.72916667 | D40: 0.72916667 | E40: 0.72916667 | F40: 0.72916667 | I40: =SUM(B40:H40) -> 3.6458333
A41: Total p.m | B41: =B40-B39 -> 0.16666667 | C41: =C40-C39 -> 0.16666667 | D41: =D40-D39 -> 0.16666667 | E41: =E40-E39 -> 0.16666667 | F41: =F40-F39 -> 0.16666667 | G41: =G40-G39 -> 0 | H41: =H40-H39 -> 0 | I41: =I40-I39 -> 0.83333333
A42: Total du jour (minute) | B42: =B38+B41 -> 0.33333333 | C42: =C38+C41 -> 0.33333333 | D42: =D38+D41 -> 0.33333333 | E42: =E38+E41 -> 0.33333333 | F42: =F38+F41 -> 0.33333333 | G42: =G38+G41 -> 0 | H42: =H38+H41 -> 0 | I42: =SUM(B42:H42) -> 1.6666667
A44: Remarque
...

Sheet OCTOBRE
A1: Gestion des heures
A3: Nom : | D3: Mois: | E3: OCTOBRE | K3: JANVIER
A4: Prénom: | B4: ALAIN | D4: Année: | E4: 2017 | K4: FEVRIER
A5: Noter les heures sous la forme 8:00 et arrondisser vos heures. | K5: MARS
K6: AVRIL
A7: SEMAINE N° | B7: LUNDI | C7: MARDI | D7: MERCREDI | E7: JEUDI | F7: VENDREDI | G7: SAMEDI | H7: DIMANCHE | I7: Total de la semaine | K7: MAI
A8: 39 | H8: 41547 | K8: JUIN
B9: 0 | C9: 0 | D9: 0 | E9: 0 | F9: 0 | G9: =IF(OR(G7="LUNDI",G7="MARDI",G7="MERCREDI",G7="JEUDI",G7="VENDREDI"),1,0) -> 0 | H9: =IF(OR(H7="LUNDI",H7="MARDI",H7="MERCREDI",H7="JEUDI",H7="VENDREDI"),1,0) -> 0 | K9: JUIN
A10: Arrivée | I10: =SUM(B10:H10) -> 0 | K10: JUILLET
A11: Départ | I11: =SUM(B11:H11) -> 0 | K11: AOÛT
A12: Total a.m | B12: =B11-B10 -> 0 | C12: =C11-C10 -> 0 | D12: =D11-D10 -> 0 | E12: =E11-E10 -> 0 | F12: =F11-F10 -> 0 | G12: =G11-G10 -> 0 | H12: =H11-H10 -> 0 | I12: =I11-I10 -> 0 | K12: SEPTEMBRE
A13: Arrivée | I13: =SUM(B13:H13) -> 0 | K13: OCTOBRE
A14: Départ | I14: =SUM(B14:H14) -> 0 | K14: NOVEMBRE
A15: Total p.m | B15: =B14-B13 -> 0 | C15: =C14-C13 -> 0 | D15: =D14-D13 -> 0 | E15: =E14-E13 -> 0 | F15: =F14-F13 -> 0 | G15: =G14-G13 -> 0 | H15: =H14-H13 -> 0 | I15: =I14-I13 -> 0 | K15: DÉCEMBRE
A16: Total du jour (minute) | B16: =B12+B15 -> 0 | C16: =C12+C15 -> 0 | D16: =D12+D15 -> 0 | E16: =E12+E15 -> 0 | F16: =F12+F15 -> 0 | G16: =G12+G15 -> 0 | H16: =H12+H15 -> 0 | I16: =SUM(B16:H16) -> 0
A18: Remarque
K19: 2017
A20: SEMAINE N° | B20: LUNDI | C20: MARDI | D20: MERCREDI | E20: JEUDI | F20: VENDREDI | G20: SAMEDI | H20: DIMANCHE | I20: Total de la semaine | K20: 2018
A21: 40 | B21: 41548 | C21: 41549 | D21: 41550 | E21: 41551 | F21: 41552 | G21: 41553 | H21: 41554
B22: 1 | C22: =IF(OR(C20="LUNDI",C20="MARDI",C20="MERCREDI",C20="JEUDI",C20="VENDREDI"),1,0) -> 1 | D22: =IF(OR(D20="LUNDI",D20="MARDI",D20="MERCREDI",D20="JEUDI",D20="VENDREDI"),1,0) -> 1 | E22: =IF(OR(E20="LUNDI",E20="MARDI",E20="MERCREDI",E20="JEUDI",E20="VENDREDI"),1,0) -> 1 | F22: =IF(OR(F20="LUNDI",F20="MARDI",F20="MERCREDI",F20="JEUDI",F20="VENDREDI"),1,0) -> 1 | G22: =IF(OR(G20="LUNDI",G20="MARDI",G20="MERCREDI",G20="JEUDI",G20="VENDREDI"),1,0) -> 0 | H22: =IF(OR(H20="LUNDI",H20="MARDI",H20="MERCREDI",H20="JEUDI",H20="VENDREDI"),1,0) -> 0 | K22: 2019
A23: Arrivée | B23: 0.33333333 | C23: 0.33333333 | D23: 0.33333333 | E23: 0.33333333 | F23: 0.33333333 | I23: =SUM(B23:H23) -> 1.6666667 | K23: 2020
A24: Départ | B24: 0.5 | C24: 0.5 | D24: 0.5 | E24: 0.5 | F24: 0.5 | I24: =SUM(B24:H24) -> 2.5 | K24: 2021
A25: Total a.m | B25: =B24-B23 -> 0.16666667 | C25: =C24-C23 -> 0.16666667 | D25: =D24-D23 -> 0.16666667 | E25: =E24-E23 -> 0.16666667 | F25: =F24-F23 -> 0.16666667 | G25: =G24-G23 -> 0 | H25: =H24-H23 -> 0 | I25: =I24-I23 -> 0.83333333 | K25: 2022
A26: Arrivée | B26: 0.5625 | C26: 0.5625 | D26: 0.5625 | E26: 0.5625 | F26: 0.5625 | I26: =SUM(B26:H26) -> 2.8125 | K26: 2023
A27: Départ | B27: 0.72916667 | C27: 0.72916667 | D27: 0.72916667 | E27: 0.72916667 | F27: 0.72916667 | I27: =SUM(B27:H27) -> 3.6458333 | K27: 2024
A28: Total p.m | B28: =B27-B26 -> 0.16666667 | C28: =C27-C26 -> 0.16666667 | D28: =D27-D26 -> 0.16666667 | E28: =E27-E26 -> 0.16666667 | F28: =F27-F26 -> 0.16666667 | G28: =G27-G26 -> 0 | H28: =H27-H26 -> 0 | I28: =I27-I26 -> 0.83333333 | K28: 2025
A29: Total du jour (minute) | B29: =B25+B28 -> 0.33333333 | C29: =C25+C28 -> 0.33333333 | D29: =D25+D28 -> 0.33333333 | E29: =E25+E28 -> 0.33333333 | F29: =F25+F28 -> 0.33333333 | G29: =G25+G28 -> 0 | H29: =H25+H28 -> 0 | I29: =SUM(B29:H29) -> 1.6666667
A31: Remarque
K32: 2017
A33: SEMAINE N° | B33: LUNDI | C33: MARDI | D33: MERCREDI | E33: JEUDI | F33: VENDREDI | G33: SAMEDI | H33: DIMANCHE | I33: Total de la semaine
A34: 41 | B34: 41555 | C34: 41556 | D34: 41557 | E34: 41558 | F34: 41559 | G34: 41560 | H34: 41561
B35: =IF(OR(B33="LUNDI",B33="MARDI",B33="MERCREDI",B33="JEUDI",B33="VENDREDI"),1,0) -> 1 | C35: =IF(OR(C33="LUNDI",C33="MARDI",C33="MERCREDI",C33="JEUDI",C33="VENDREDI"),1,0) -> 1 | D35: =IF(OR(D33="LUNDI",D33="MARDI",D33="MERCREDI",D33="JEUDI",D33="VENDREDI"),1,0) -> 1 | E35: =IF(OR(E33="LUNDI",E33="MARDI",E33="MERCREDI",E33="JEUDI",E33="VENDREDI"),1,0) -> 1 | F35: =IF(OR(F33="LUNDI",F33="MARDI",F33="MERCREDI",F33="JEUDI",F33="VENDREDI"),1,0) -> 1 | G35: =IF(OR(G33="LUNDI",G33="MARDI",G33="MERCREDI",G33="JEUDI",G33="VENDREDI"),1,0) -> 0 | H35: =IF(OR(H33="LUNDI",H33="MARDI",H33="MERCREDI",H33="JEUDI",H33="VENDREDI"),1,0) -> 0
A36: Arrivée | B36: 0.33333333 | C36: 0.33333333 | D36: 0.33333333 | E36: 0.33333333 | F36: 0.33333333 | I36: =SUM(B36:H36) -> 1.6666667
A37: Départ | B37: 0.5 | C37: 0.5 | D37: 0.5 | E37: 0.5 | F37: 0.5 | I37: =SUM(B37:H37) -> 2.5
A38: Total a.m | B38: =B37-B36 -> 0.16666667 | C38: =C37-C36 -> 0.16666667 | D38: =D37-D36 -> 0.16666667 | E38: =E37-E36 -> 0.16666667 | F38: =F37-F36 -> 0.16666667 | G38: =G37-G36 -> 0 | H38: =H37-H36 -> 0 | I38: =I37-I36 -> 0.83333333
A39: Arrivée | B39: 0.5625 | C39: 0.5625 | D39: 0.5625 | E39: 0.5625 | F39: 0.5625 | I39: =SUM(B39:H39) -> 2.8125
A40: Départ | B40: 0.72916667 | C40: 0.72916667 | D40: 0.72916667 | E40: 0.72916667 | F40: 0.72916667 | I40: =SUM(B40:H40) -> 3.6458333
A41: Total p.m | B41: =B40-B39 -> 0.16666667 | C41: =C40-C39 -> 0.16666667 | D41: =D40-D39 -> 0.16666667 | E41: =E40-E39 -> 0.16666667 | F41: =F40-F39 -> 0.16666667 | G41: =G40-G39 -> 0 | H41: =H40-H39 -> 0 | I41: =I40-I39 -> 0.83333333
A42: Total du jour (minute) | B42: =B38+B41 -> 0.33333333 | C42: =C38+C41 -> 0.33333333 | D42: =D38+D41 -> 0.33333333 | E42: =E38+E41 -> 0.33333333 | F42: =F38+F41 -> 0.33333333 | G42: =G38+G41 -> 0 | H42: =H38+H41 -> 0 | I42: =SUM(B42:H42) -> 1.6666667
A44: Remarque
...

Sheet NOVEMBRE
A1: Gestion des heures
A3: Nom : | D3: Mois: | E3: NOVEMBRE | K3: JANVIER
A4: Prénom: | B4: ALAIN | D4: Année: | E4: 2017 | K4: FEVRIER
A5: Noter les heures sous la forme 8:00 et arrondisser vos heures. | K5: MARS
K6: AVRIL
A7: SEMAINE N° | B7: LUNDI | C7: MARDI | D7: MERCREDI | E7: JEUDI | F7: VENDREDI | G7: SAMEDI | H7: DIMANCHE | I7: Total de la semaine | K7: MAI
A8: 44 | D8: 41578 | E8: 41579 | F8: 41580 | G8: 41581 | H8: 41582 | K8: JUIN
B9: 0 | C9: 0 | D9: 0 | E9: 1 | F9: 1 | G9: =IF(OR(G7="LUNDI",G7="MARDI",G7="MERCREDI",G7="JEUDI",G7="VENDREDI"),1,0) -> 0 | H9: =IF(OR(H7="LUNDI",H7="MARDI",H7="MERCREDI",H7="JEUDI",H7="VENDREDI"),1,0) -> 0 | K9: JUIN
A10: Arrivée | E10: 0.33333333 | F10: 0.33333333 | I10: =SUM(B10:H10) -> 0.66666667 | K10: JUILLET
A11: Départ | E11: 0.5 | F11: 0.5 | I11: =SUM(B11:H11) -> 1 | K11: AOÛT
A12: Total a.m | B12: =B11-B10 -> 0 | C12: =C11-C10 -> 0 | D12: =D11-D10 -> 0 | E12: =E11-E10 -> 0.16666667 | F12: =F11-F10 -> 0.16666667 | G12: =G11-G10 -> 0 | H12: =H11-H10 -> 0 | I12: =I11-I10 -> 0.33333333 | K12: SEPTEMBRE
A13: Arrivée | E13: 0.5625 | F13: 0.5625 | I13: =SUM(B13:H13) -> 1.125 | K13: OCTOBRE
A14: Départ | E14: 0.72916667 | F14: 0.72916667 | I14: =SUM(B14:H14) -> 1.4583333 | K14: NOVEMBRE
