Workbook
Name MesDates: 'Tableau struturé'!$A$3:$A$104
Name MesDates: #REF!

Sheet Tableau struturé
A1: SITUATION DU COMPTE
A2: Date | B2: Désignation de l’opération | C2: Débit | D2: Crédit | E2: Solde
A3: 45170 | B3: Solde | D3: 9051 | E3: =SUM(E2,-C3,D3) -> 9051
A4: 45191 | B4: Dépôt | D4: 330500 | E4: =SUM(E3,-C4,D4) -> 339551
A5: 45195 | B5: Dépôt | D5: 23000 | E5: =SUM(E4,-C5,D5) -> 362551 | H5: ="Solde au " & TEXT(DATE(YEAR(MAX(tClcam[Date])), 8, 31),"j mmmm aaaa ---> ") -> Solde au j août lundi ---> | I5: {=_xlfn.LET( _xlpm.pl_T, tClcam[], _xlpm.pl_D, INDEX(_xlpm.pl_T, , 1), _xlpm.decLig, INDEX(ROW(_xlpm.pl_D), 1) - 1, _xlpm.derLig, ROWS(_xlpm.pl_D) + _xlpm.decLig, _xlpm.dat0, DATE(YEAR(MAX(_xlpm.pl_D)), 8, 31), _xlpm.ligD1, _xlfn.XMATCH(TRUE, _xlpm.pl_D = _xlpm.dat0) + _xlpm.decLig, _xlpm.ligD2, IFERROR(_xlfn.XMATCH(1, (_xlpm.pl_D > _xlpm.dat0) * (ISNUMBER(_xlpm.pl_D))) + _xlpm.decLig, _xlpm.derLig + 1), _xlpm.f, _xlfn._xlws.FILTER(_xlpm.pl_T, (ROW(_xlpm.pl_T) >= _xlpm.ligD1) * (ROW(_xlpm.pl_T) < _xlpm.ligD2)), INDEX(_xlpm.f, ROWS(_xlpm.f), 5) )} -> 802430
A6: d° | B6: Retrait | C6: 196840 | E6: =SUM(E5,-C6,D6) -> 165711
A7: 45197 | B7: Retrait | C7: 117000 | E7: =SUM(E6,-C7,D7) -> 48711
A8: 45223 | B8: Dépôt | D8: 197500 | E8: =SUM(E7,-C8,D8) -> 246211
A9: d° | B9: Retrait | C9: 68000 | E9: =SUM(E8,-C9,D9) -> 178211
A10: d° | B10: FTC | C10: 500 | E10: =SUM(E9,-C10,D10) -> 177711
A11: 45252 | B11: FTC | C11: 500 | E11: =SUM(E10,-C11,D11) -> 177211
A12: d° | B12: Avance sur droits de scolarité des filles du 1er cycle à la charge de l'Etat | D12: 325125 | E12: =SUM(E11,-C12,D12) -> 502336
A13: d° | B13: Taxe | C13: 1625 | D13: 3000 | E13: =SUM(E12,-C13,D13) -> 503711
A14: d° | B14: Reversement | E14: =SUM(E13,-C14,D14) -> 503711
A15: d° | B15: Dépôt | D15: 1053500 | E15: =SUM(E14,-C15,D15) -> 1557211
A16: d° | B16: Retrait | C16: 237425 | E16: =SUM(E15,-C16,D16) -> 1319786
A17: 45257 | B17: Fournitures scolaire et de bureau | C17: 508290 | E17: =SUM(E16,-C17,D17) -> 811496
A18: 45259 | B18: Imprimés techniques | C18: 295000 | E18: =SUM(E17,-C18,D18) -> 516496
A19: 45272 | B19: Retrait | C19: 223680 | E19: =SUM(E18,-C19,D19) -> 292816
A20: 45279 | B20: Dépôt | D20: 43000 | E20: =SUM(E19,-C20,D20) -> 335816
A21: d° | B21: Retrait | C21: 47000 | E21: =SUM(E20,-C21,D21) -> 288816
A22: 45315 | B22: Dépôt | D22: 505000 | E22: =SUM(E21,-C22,D22) -> 793816
A23: d° | B23: Frais de dossier BEPC | D23: 151700 | E23: =SUM(E22,-C23,D23) -> 945516
A24: d° | B24: Retrait | C24: 178330 | E24: =SUM(E23,-C24,D24) -> 767186
A25: 45335 | B25: Retrait | C25: 271700 | E25: =SUM(E24,-C25,D25) -> 495486
A26: 45348 | B26: Dépôt | D26: 30800 | E26: =SUM(E25,-C26,D26) -> 526286
A27: d° | B27: Retrait | C27: 45000 | E27: =SUM(E26,-C27,D27) -> 481286
A28: d° | B28: Retrait | C28: 54000 | E28: =SUM(E27,-C28,D28) -> 427286
A29: d° | B29: FTC | C29: 1500 | E29: =SUM(E28,-C29,D29) -> 425786
A30: d° | B30: Correction de solde | D30: 5 | E30: =SUM(E29,-C30,D30) -> 425791
A31: 45358 | B31: Retrait | C31: 33000 | E31: =SUM(E30,-C31,D31) -> 392791
A32: d° | B32: FTC | C32: 500 | E32: =SUM(E31,-C32,D32) -> 392291
A33: 45376 | B33: Retrait | C33: 187245 | E33: =SUM(E32,-C33,D33) -> 205046
A34: d° | B34: Dépôt | D34: 61100 | E34: =SUM(E33,-C34,D34) -> 266146
A35: 45393 | B35: Retrait | C35: 20500 | E35: =SUM(E34,-C35,D35) -> 245646
A36: 45407 | B36: FTC | C36: 500 | E36: =SUM(E35,-C36,D36) -> 245146
A37: d° | B37: Dépôt | D37: 24000 | E37: =SUM(E36,-C37,D37) -> 269146
A38: d° | B38: Retrait | C38: 196200 | E38: =SUM(E37,-C38,D38) -> 72946
A39: 45411 | B39: Retrait | C39: 7000 | E39: =SUM(E38,-C39,D39) -> 65946
A40: 45442 | B40: Dépôt | D40: 11000 | E40: =SUM(E39,-C40,D40) -> 76946
...

Sheet Entête
B1: COLLEGE D'ENSEIGNEMENT GENERAL ZOUKOU
B2: IFU: 4202495877266
B3: BP: Tél : (+229) 0124801169 | E3: Exercice : 2025 - 2026
B4: E. Géofroy KLOGBODJI
B5: Hervé Claude V. G. DOVONON

Sheet FED
C1: Route de l’aéroport 10 BP 250 Cotonou ® : (229) 21 32 38 43 ; Fax : 21 32 41 88 web: www.enseignementsecondaire.gouv.bj
A4: =Entête!$B$1 -> COLLEGE D'ENSEIGNEMENT GENERAL ZOUKOU
B5: =Entête!B2 -> IFU: 4202495877266
A6: =Entête!$B$3 -> BP: Tél : (+229) 0124801169
D7: =Entête!$E$3 -> Exercice : 2025 - 2026
A9: FICHE D'ENGAGEMENT DE DEPENSES (FED) N°01
B11: N° du chèque : | C11: 00612632
A13: N° | B13: DESIGNATION | C13: MONTANT | D13: Chp | E13: CP | F13: CD | G13: SC | I13: TTC | J13: HT | K13: TVA | N13: AIB | O13: Retenu TVA+AIB | P13: Prestataire | Q13: TVA+AIB+Payé
A14: 1 | B14: Indemnité de caisse (septembre 2025) | C14: 10000 | D14: B | E14: 65 | F14: 650 | G14: 6504 | I14: 100000 | J14: =I14/1.18 -> 84745.763 | K14: =I14-J14 -> 15254.237 | L14: 100 | M14: =IF(L14=40,K14*L14/100,IF(L14=60,K14*60/100,K14)) -> 15254.237 | N14: =J14/100 -> 847.45763 | O14: =SUM(M14,N14) -> 16101.695 | P14: =I14-O14 -> 83898.305 | Q14: =SUM(M14,N14,P14) -> 100000
A15: 2 | B15: Primes de déplacement du personnel administratif (septembre 2025) | C15: 37000 | D15: B | E15: 65 | F15: 650 | G15: 6504 | J15: =I15/1.18 -> 0 | K15: =I15-J15 -> 0 | L15: 100 | M15: =IF(L15=40,K15*L15/100,IF(L15=60,K15*60/100,K15)) -> 0 | N15: =J15/100 -> 0 | O15: =SUM(M15,N15) -> 0 | P15: =I15-O15 -> 0 | Q15: =SUM(M15,N15,P15) -> 0
A16: 3 | B16: Recharge d'électricité | C16: 39275 | D16: B | E16: 61 | F16: 610 | G16: 6107 | J16: =I16/1.18 -> 0 | K16: =I16-J16 -> 0 | M16: =IF(L16=40,K16*L16/100,IF(L16=60,K16*60/100,K16)) -> 0 | N16: =J16/100 -> 0 | O16: =SUM(M16,N16) -> 0 | P16: =I16-O16 -> 0 | Q16: =SUM(M16,N16,P16) -> 0
A17: 4 | B17: Abonnement internet | C17: 9900 | D17: B | E17: 63 | F17: 638 | G17: 6380 | J17: =I17/1.18 -> 0 | K17: =I17-J17 -> 0 | M17: =IF(L17=40,K17*L17/100,IF(L17=60,K17*60/100,K17)) -> 0 | N17: =J17/100 -> 0 | O17: =SUM(M17,N17) -> 0 | P17: =I17-O17 -> 0 | Q17: =SUM(M17,N17,P17) -> 0
J18: =I18/1.18 -> 0 | K18: =I18-J18 -> 0 | M18: =IF(L18=40,K18*L18/100,IF(L18=60,K18*60/100,K18)) -> 0 | N18: =J18/100 -> 0 | O18: =SUM(M18,N18) -> 0 | P18: =I18-O18 -> 0 | Q18: =SUM(M18,N18,P18) -> 0
J19: =I19/1.18 -> 0 | K19: =I19-J19 -> 0 | M19: =IF(L19=40,K19*L19/100,IF(L19=60,K19*60/100,K19)) -> 0 | N19: =J19/100 -> 0 | O19: =SUM(M19,N19) -> 0 | P19: =I19-O19 -> 0 | Q19: =SUM(M19,N19,P19) -> 0
J20: =I20/1.18 -> 0 | K20: =I20-J20 -> 0 | M20: =IF(L20=40,K20*L20/100,IF(L20=60,K20*60/100,K20)) -> 0 | N20: =J20/100 -> 0 | O20: =SUM(M20,N20) -> 0 | P20: =I20-O20 -> 0 | Q20: =SUM(M20,N20,P20) -> 0
I21: =SUM(I14:I20) -> 100000 | J21: =SUM(J14:J20) -> 84745.763 | K21: =SUM(K14:K20) -> 15254.237 | M21: =SUM(M14:M20) -> 15254.237 | N21: =SUM(N14:N20) -> 847.45763 | O21: =SUM(O14:O20) -> 16101.695 | P21: =SUM(P14:P20) -> 83898.305 | Q21: =SUM(Q14:Q20) -> 100000
A26: TOTAL | C26: =SUM(C14:C25) -> 96175
A27: Arrêté la présente fiche à la somme de : | C27: quatre-vingt-seize mille cent soixante-quinze
F28: =$C$47&C26&$E$47 -> (96175) FCFA
C29: Zoukou, le 22/09/2025 | J29: Caisse | K29: Dépla | L29: Dev | M29: Missions | P29: Total | R29: Reste
A30: Vu et approuvé | I30: Diro | P30: =SUM(J30:O30) -> 0 | R30: =SUM(P30:Q30) -> 0
I31: Compt | P31: =SUM(J31:O31) -> 0 | R31: =SUM(P31:Q31) -> 0
I32: SG | P32: =SUM(J32:O32) -> 0 | R32: =SUM(P32:Q32) -> 0
I33: Sporr | P33: =SUM(J33:O33) -> 0 | Q33: 0 | R33: =SUM(P33:Q33) -> 0
P34: =SUM(J34:O34) -> 0 | Q34: 0 | R34: =SUM(P34:Q34) -> 0
P35: =SUM(J35:O35) -> 0 | Q35: 0 | R35: =SUM(P35:Q35) -> 0
P36: =SUM(P30:P35) -> 0 | Q36: =SUM(Q30:Q34) -> 0 | R36: =SUM(R30:R35) -> 0
A41: =Entête!B4 -> E. Géofroy KLOGBODJI | D41: =Entête!B5 -> Hervé Claude V. G. DOVONON
A42: Le Gestionnaire-Comptable | D42: Le Directeur, Ordonnateur
C47: ( | E47: ) FCFA

Sheet Bordereau sortie de chèque
B1: MINISTÈRE DES ENSEIGNEMENTS SECONDAIRE, TECHNIQUE ET DE LA FORMATION PROFESSIONNELLE REPUBLIQUE DU BENIN -------***------- SECRETARIAT GENERAL DU MINISTERE -------***------- DIRECTION DEPARTEMENTALE DES ENSEIGNEMENTS SECONDAIRE, TECHNIQUE ET DE LA FORMATION PROFESSIONNELLE DU ZOU -------***------- | G1: Route de l’aéroport 10 BP 250 Cotonou ® : (229) 21 32 38 43 ; Fax : 21 32 41 88 web: www.enseignementsecondaire.gouv.bj
B2: =Entête!$B$1 -> COLLEGE D'ENSEIGNEMENT GENERAL ZOUKOU
B3: =Entête!B2 -> IFU: 4202495877266
B4: =Entête!$B$3 -> BP: Tél : (+229) 0124801169
G5: =Entête!$E$3 -> Exercice : 2025 - 2026
A7: BORDEREAU DE SORTIE DE CHEQUE
G8: N° | H8: 13
A10: MONTANT EN FRANCS CFA : | D10: 96600
A12: Nom du bénéficiaire | C12: Gestionnaire-Comptable
A13: Adresse
A14: Objet | B14: Approvisionnement de caisse
A15: Chèque N° | B15: 7768115 | C15: de | D15: quatre-vingt-seize mille six cents
A17: N° et date de la pièce comptable
A18: Date et lieu de paiement
F19: Zoukou le 04/03/2023
D26: =Entête!B4 -> E. Géofroy KLOGBODJI | H26: =Entête!B5 -> Hervé Claude V. G. DOVONON
A27: Le Bénéficiaire | D27: Le Gestionnaire-Comptable | H27: Le Directeur, Ordonnateur

Sheet Relevé des menues dépenses
B1: MINISTÈRE DES ENSEIGNEMENTS SECONDAIRE, TECHNIQUE ET DE LA FORMATION PROFESSIONNELLE RÉPUBLIQUE DU BÉNIN ********************** SECRÉTARIAT GÉNÉRAL DU MINISTÈRE *********************** DIRECTION DÉPARTEMENTALE DES ENSEIGNEMENTS SECONDAIRE, TECHNIQUE ET DE LA FORMATION PROFESSIONNELLE DU ZOU *************** | F1: Route de l’aéroport 10 BP 250 Cotonou ® : (229) 21 32 38 43 ; Fax : 21 32 41 88 web: www.enseignementsecondaire.gouv.bj
B2: =Entête!$B$1 -> COLLEGE D'ENSEIGNEMENT GENERAL ZOUKOU
B3: =Entête!B2 -> IFU: 4202495877266
B4: =Entête!$B$3 -> BP: Tél : (+229) 0124801169
E5: =Entête!$E$3 -> Exercice : 2025 - 2026
A7: RELEVE DES MENUES DEPENSES N°01
A9: N° | B9: Date | C9: DESIGNATION DE LA DEPENSE | D9: MONTANT | E9: IMPUTATION | I9: OBSER
E10: Chp | F10: CP | G10: CD | H10: SC
A30: TOTAL | D30: =SUM(D11:D29) -> 0
A32: Arrêté la présente fiche à la somme de : vingt-neuf mille sept cent vingt-cinq (29 725) FCFA
D33: Zoukou, le 08/12/2020
A34: Vu et approuvé
A41: =Entête!B4 -> E. Géofroy KLOGBODJI | G41: =Entête!B5 -> Hervé Claude V. G. DOVONON
A42: Le Gestionnaire-Comptable | G42: Le Directeur, Ordonnateur

Sheet Budget
B1: TABLEAU N° 9 : PREVISION DE PRODUITS
A2: Chp | B2: N° de comptes | E2: INTITULÉS | F2: Crédits par comptes
B3: CP | C3: CD | D3: SC | F3: SC | G3: CD | H3: CP
A4: I | B4: 70 | C4: VENTE DES IMPRIMES
C5: 701 | D5: Certificat et attestation de scolarité; fiche de transfert | G5: 15600
C6: 702 | D6: Carte d'identité scolaire 350 x 1 000F = 350 000 Photo BEPC 45 x 1 000F | G6: 395000 | J6: Effect total | K6: 422
C7: 709 | D7: Autres ventes | G7: =IF(SUM(F8:F8)=0,"PM",SUM(F8:F8)) -> PM | J7: Enf d'Enseig | K7: 3 + 1
D8: 7090 | J8: Filles du 1er cyc | K8: 152
B9: TOTAL CP 70 | H9: =IF(SUM(G5:G8)=0,"PM",SUM(G5:G8)) -> 410600 | J9: candidat BEPC | K9: 36
A10: II | B10: 71 | C10: PRODUITS SCOLAIRES, PRESTATION DE SERVICE, AUTRES PRODUITS | J10: BAC | K10: 12
C11: 712 | D11: Prestation de service | G11: =IF(SUM(F12:F14)=0,"PM",SUM(F12:F14)) -> 87000 | J11: Contribuable | K11: 418
D12: 7121 | E12: Manifestations culturelles et sportives | F12: PM
D13: 7122 | E13: Locations diverses (Droits de place: vendeuses 42 000f; Kiosque 45 000f) | F13: 87000
D14: 7129 | E14: Autres produits | F14: PM
C15: 714 | D15: Produits scolaires | G15: =IF(SUM(F16:F19)=0,"PM",SUM(F16:F19)) -> 3456000
D16: 7140 | E16: Droits de scolarité : (Contribuables - filles du cyc 1) x 12 000 (418-152) x 12 000 | F16: 3192000
D17: 7145 | E17: Reste à recouvrer | F17: 10000 | K17: 3m sur 2,5
D18: 7146 | E18: Frais de Dossiers BEPC : 2 800Fx 45; BAC 8 000Fx16 | F18: 254000 | K18: Entre le portail et le bâtiment ancien
D19: 7149 | E19: Autres produits scolaires | K19: 5000/mois pendant 9 mois payable en une tranche
C20: 716 | D20: Solde de l’exercice antérieur | G20: 101679 | K20: Rester sur le compteur SBEE du collège avec un décompteur numérique ingelec à raison de 250f/kwh jusqu'en décembre 2025 au plus tard
B21: TOTAL CP 71 | H21: =IF(SUM(G11:G20)=0,"PM",SUM(G11:G20)) -> 3644679
A22: III | B22: 76 | C22: SUBVENTIONS
C23: 760 | D23: Subvention de l’État | G23: =IF(SUM(F24:F25)=0,"PM",SUM(F24:F25)) -> 1824000
D24: 7605 | E24: Subvention pour droits de scolarité des filles du 1er cycle : 152 x 12 000 | F24: 1824000
D25: 7606 | E25: Autres subventions
B26: TOTAL CP 76 | H26: =IF(SUM(G23)=0,"PM",SUM(G23)) -> 1824000
A27: IV | B27: 77 | C27: INTERETS ET DIVIDENDES REÇUS
C28: 771 | D28: Intérêts des comptes courants créditeurs | G28: PM
B29: TOTAL CP 77 | H29: =IF(SUM(G28)=0,"PM",SUM(G28)) -> PM
B31: TOTAL PRODUITS : 70 + 71 + 76 + 77 | H31: =SUM(H4:H29) -> 5879279
D39: TABLEAU N° 10 : RECAPITULATIF PRODUITS
C41: Chp | D41: CP | E41: INTITULÉS | F41: Produits votés
C42: I | D42: 70 | E42: Vente des imprimés | F42: =H9 -> 410600
C43: II | D43: 71 | E43: Produits scolaires, prestations de service, autres produits | F43: =H21 -> 3644679
C44: III | D44: 76 | E44: Subventions et dons | F44: =H26 -> 1824000
C45: IV | D45: 77 | E45: Intérêts et dividendes reçus | F45: =H29 -> PM
C46: TOTAL GENERAL | F46: =SUM(F42:F45) -> 5879279
E85: CHARGES
A86: A | E86: CHAPITRE A : ACTIVITE EDUCACATIVE ET PEDAGOGIQUE
B88: N° de comptes | F88: Crédits par comptes
...

Sheet CB
B1: =Budget!B1 -> TABLEAU N° 9 : PREVISION DE PRODUITS
A3: Chp | B3: =Budget!B2 -> N° de comptes | E3: =Budget!E2 -> INTITULÉS | F3: Produit autorisé | G3: Décision | I3: Produit ouvert
B4: =Budget!B3 -> CP | C4: =Budget!C3 -> CD | D4: =Budget!D3 -> SC | G4: + | H4: -
A5: =Budget!A4 -> I | B5: =Budget!B4 -> 70 | C5: =Budget!C4 -> VENTE DES IMPRIMES
C6: =Budget!C5 -> 701 | D6: =Budget!D5 -> Certificat et attestation de scolarité; fiche de transfert | F6: =Budget!G5 -> 15600 | I6: =SUM(F6,G6,-H6) -> 15600
C7: =Budget!C6 -> 702 | D7: =Budget!D6 -> Carte d'identité scolaire 350 x 1 000F = 350 000 Photo BEPC 45 x 1 000F | F7: =Budget!G6 -> 395000 | I7: =SUM(F7,G7,-H7) -> 395000
C8: =Budget!C7 -> 709 | D8: =Budget!D7 -> Autres ventes | G8: 0 | H8: 0 | I8: =SUM(F8,G8,-H8) -> 0
D9: =Budget!D8 -> 7090 | E9: =Budget!E8 -> 0 | F9: =Budget!F8 -> 0 | I9: =SUM(F9,G9,-H9) -> 0
B10: =Budget!B9 -> TOTAL CP 70 | F10: =SUM(F6:F9) -> 410600 | G10: =SUM(G6:G9) -> 0 | H10: =SUM(H6:H9) -> 0 | I10: =SUM(I6:I9) -> 410600
A11: =Budget!A10 -> II | B11: =Budget!B10 -> 71 | C11: =Budget!C10 -> PRODUITS SCOLAIRES, PRESTATION DE SERVICE, AUTRES PRODUITS
C12: =Budget!C11 -> 712 | D12: =Budget!D11 -> Prestation de service
D13: =Budget!D12 -> 7121 | E13: =Budget!E12 -> Manifestations culturelles et sportives | F13: =Budget!F12 -> PM | I13: =SUM(F13,G13,-H13) -> 0
D14: =Budget!D13 -> 7122 | E14: =Budget!E13 -> Locations diverses (Droits de place: vendeuses 42 000f; Kiosque 45 000f) | F14: =Budget!F13 -> 87000 | I14: =SUM(F14,G14,-H14) -> 87000
D15: =Budget!D14 -> 7129 | E15: =Budget!E14 -> Autres produits | F15: =Budget!F14 -> PM | I15: =SUM(F15,G15,-H15) -> 0
C16: =Budget!C15 -> 714 | D16: =Budget!D15 -> Produits scolaires
D17: =Budget!D16 -> 7140 | E17: =Budget!E16 -> Droits de scolarité : (Contribuables - filles du cyc 1) x 12 000 (418-152) x 12 000 | F17: =Budget!F16 -> 3192000 | H17: 0 | I17: =SUM(F17,G17,-H17) -> 3192000
D18: =Budget!D17 -> 7145 | E18: =Budget!E17 -> Reste à recouvrer | F18: =Budget!F17 -> 10000 | G18: 0 | H18: 0 | I18: =SUM(F18,G18,-H18) -> 10000
D19: =Budget!D18 -> 7146 | E19: =Budget!E18 -> Frais de Dossiers BEPC : 2 800Fx 45; BAC 8 000Fx16 | F19: =Budget!F18 -> 254000 | I19: =SUM(F19,G19,-H19) -> 254000
D20: =Budget!D19 -> 7149 | E20: =Budget!E19 -> Autres produits scolaires | F20: =Budget!F19 -> 0 | G20: 0 | I20: =SUM(F20,G20,-H20) -> 0
C21: =Budget!C20 -> 716 | D21: =Budget!D20 -> Solde de l’exercice antérieur | F21: =Budget!G20 -> 101679 | G21: 0 | H21: 0 | I21: =SUM(F21,G21,-H21) -> 101679
B22: =Budget!B21 -> TOTAL CP 71 | F22: =SUM(F13:F21) -> 3644679 | G22: =SUM(G13:G21) -> 0 | H22: =SUM(H13:H21) -> 0 | I22: =SUM(I13:I21) -> 3644679
A23: =Budget!A22 -> III | B23: =Budget!B22 -> 76 | C23: =Budget!C22 -> SUBVENTIONS
C24: =Budget!C23 -> 760 | D24: =Budget!D23 -> Subvention de l’État
D25: =Budget!D24 -> 7605 | E25: =Budget!E24 -> Subvention pour droits de scolarité des filles du 1er cycle : 152 x 12 000 | F25: =Budget!F24 -> 1824000 | G25: 0 | I25: =SUM(F25,G25,-H25) -> 1824000
D26: =Budget!D25 -> 7606 | E26: =Budget!E25 -> Autres subventions | F26: =Budget!F25 -> 0 | H26: 0 | I26: =SUM(F26,G26,-H26) -> 0
B27: =Budget!B26 -> TOTAL CP 76 | F27: =SUM(F25:F26) -> 1824000 | G27: =SUM(G25:G26) -> 0 | H27: =SUM(H25:H26) -> 0 | I27: =SUM(I25:I26) -> 1824000
A28: =Budget!A27 -> IV | B28: =Budget!B27 -> 77 | C28: =Budget!C27 -> INTERETS ET DIVIDENDES REÇUS
C29: =Budget!C28 -> 771 | D29: =Budget!D28 -> Intérêts des comptes courants créditeurs | F29: =Budget!G28 -> PM | G29: 0 | H29: 0 | I29: =SUM(F29:G29,-H29) -> 0
B30: =Budget!B29 -> TOTAL CP 77 | F30: =SUM(F29) -> 0 | G30: =SUM(G29) -> 0 | H30: =SUM(H29) -> 0 | I30: =SUM(I29) -> 0
B32: =Budget!B31 -> TOTAL PRODUITS : 70 + 71 + 76 + 77 | F32: =SUM(F10,F22,F27,F30) -> 5879279 | G32: =SUM(G10,G22,G27,G30) -> 0 | H32: =SUM(H10,H22,H27,H30) -> 0 | I32: =SUM(I10,I22,I27,I30) -> 5879279
D39: =Budget!D39 -> TABLEAU N° 10 : RECAPITULATIF PRODUITS
C41: =Budget!C41 -> Chp | D41: CP | E41: INTITULÉS | F41: Produit autorisé | G41: Décision | I41: Produit voté
G42: + | H42: -
C43: =Budget!C42 -> I | D43: =Budget!D42 -> 70 | E43: =Budget!E42 -> Vente des imprimés | F43: =F10 -> 410600 | G43: =G10 -> 0 | H43: =H10 -> 0 | I43: =I10 -> 410600
C44: =Budget!C43 -> II | D44: =Budget!D43 -> 71 | E44: =Budget!E43 -> Produits scolaires, prestations de service, autres produits | F44: =F22 -> 3644679 | G44: =G22 -> 0 | H44: =H22 -> 0 | I44: =I22 -> 3644679
C45: =Budget!C44 -> III | D45: =Budget!D44 -> 76 | E45: =Budget!E44 -> Subventions et dons | F45: =F27 -> 1824000 | G45: =G27 -> 0 | H45: =H27 -> 0 | I45: =I27 -> 1824000
C46: =Budget!C45 -> IV | D46: =Budget!D45 -> 77 | E46: =Budget!E45 -> Intérêts et dividendes reçus | F46: =F30 -> 0 | G46: =G30 -> 0 | H46: =H30 -> 0 | I46: =I30 -> 0
C47: =Budget!C46 -> TOTAL GENERAL | F47: =SUM(F43:F46) -> 5879279 | G47: =SUM(G43:G46) -> 0 | H47: =SUM(H43:H46) -> 0 | I47: =SUM(I43:I46) -> 5879279
E85: =Budget!E85 -> CHARGES
E86: =Budget!E86 -> CHAPITRE A : ACTIVITE EDUCACATIVE ET PEDAGOGIQUE
...

Sheet Suivi Recettes
B1: RÉPUBLIQUE DU BÉNIN MINISTÈRE DES ENSEIGNEMENTS SECONDAIRE, TECHNIQUE ET DE LA FORMATION PROFESSIONNELLE ************* SECRÉTARIAT GÉNÉRAL DU MINISTÈRE *-*-*-*-*- DIRECTION DÉPARTEMENTALE DES ENSEIGNEMENTS SECONDAIRE, TECHNIQUE ET DE LA FORMATION PROFESSIONNELLE DU ZOU ********
B2: =Entête!B1 -> COLLEGE D'ENSEIGNEMENT GENERAL ZOUKOU
B3: =Entête!B2 -> IFU: 4202495877266
A13: FICHES DE SUIVI DES RECETTES
C19: =Entête!E3 -> Exercice : 2025 - 2026
A60: CHAPITRE : | C60: =Budget!A4 -> I | E60: Crédit autorisé: | G60: =Budget!$G$5 -> 15600
A61: =Budget!B3 -> CP | C61: =Budget!B4 -> 70 | E61: Décisions modificatives: | G61: =IF(CB!G6>0,CB!G6,-CB!H6) -> 0
A62: =Budget!C3 -> CD | C62: =Budget!C5 -> 701 | E62: Total crédit ouvert: | G62: =SUM(G60:G61) -> 15600
A63: SC
A65: DESIGNATION : | C65: =Budget!D5 -> Certificat et attestation de scolarité; fiche de transfert
A66: Date | B66: N° Recette | C66: DESIGNATION DES RECETTES | D66: MONTANT | E66: MONTANT CUMULE | F66: RESTE A RECOUVRER | G66: OBSER
E67: =D67 -> 0 | F67: =G62-E67 -> 15600
E68: =SUM(E67,D68) -> 0 | F68: =F67-D68 -> 15600
E69: =SUM(E68,D69) -> 0 | F69: =F68-D69 -> 15600
E70: =SUM(E69,D70) -> 0 | F70: =F69-D70 -> 15600
E71: =SUM(E70,D71) -> 0 | F71: =F70-D71 -> 15600
E72: =SUM(E71,D72) -> 0 | F72: =F71-D72 -> 15600
E73: =SUM(E72,D73) -> 0 | F73: =F72-D73 -> 15600
E74: =SUM(E73,D74) -> 0 | F74: =F73-D74 -> 15600
E75: =SUM(E74,D75) -> 0 | F75: =F74-D75 -> 15600
F77: Prévu | G77: Réalisé
D78: =A62 -> CD | E78: =C62 -> 701 | F78: =G62 -> 15600 | G78: =E75 -> 0
A118: CHAPITRE : | C118: =Budget!A4 -> I | E118: Crédit autorisé: | G118: =Budget!$G$6 -> 395000
A119: =Budget!B3 -> CP | C119: =Budget!B4 -> 70 | E119: Décisions modificatives: | G119: =IF(CB!G7>0,CB!G7,-CB!H7) -> 0
A120: =Budget!C3 -> CD | C120: =Budget!C6 -> 702 | E120: Total crédit ouvert: | G120: =SUM(G118:G119) -> 395000
A121: =Budget!D3 -> SC
A123: DESIGNATION : | C123: =Budget!D6 -> Carte d'identité scolaire 350 x 1 000F = 350 000 Photo BEPC 45 x 1 000F
A124: Date | B124: N° Recette | C124: DESIGNATION DES RECETTES | D124: MONTANT | E124: MONTANT CUMULE | F124: RESTE A RECOUVRER | G124: OBSER
A125: 45918 | B125: 2 | C125: Frais de carte d'identité scolaire | D125: 80750 | E125: =D125 -> 80750 | F125: =G120-E125 -> 314250
E126: =SUM(E125,D126) -> 80750 | F126: =F125-D126 -> 314250
E127: =SUM(E126,D127) -> 80750 | F127: =F126-D127 -> 314250
E128: =SUM(E127,D128) -> 80750 | F128: =F127-D128 -> 314250
E129: =SUM(E128,D129) -> 80750 | F129: =F128-D129 -> 314250
E130: =SUM(E129,D130) -> 80750 | F130: =F129-D130 -> 314250
E131: =SUM(E130,D131) -> 80750 | F131: =F130-D131 -> 314250
E132: =SUM(E131,D132) -> 80750 | F132: =F131-D132 -> 314250
F134: Prévu | G134: Réalisé
D135: =A120 -> CD | E135: =C120 -> 702 | F135: =G120 -> 395000 | G135: =E132 -> 80750
A177: CHAPITRE : | C177: =Budget!A4 -> I | E177: Crédit autorisé: | G177: =Budget!$F$8 -> 0
A178: =Budget!B3 -> CP | C178: =Budget!B4 -> 70 | E178: Décisions modificatives: | G178: =IF(CB!G9>0,CB!G9,-CB!H9) -> 0
...

Sheet Suivi Dépenses
B1: RÉPUBLIQUE DU BÉNIN MINISTÈRE DES ENSEIGNEMENTS SECONDAIRE, TECHNIQUE ET DE LA FORMATION PROFESSIONNELLE ************* SECRÉTARIAT GÉNÉRAL DU MINISTÈRE *-*-*-*-*- DIRECTION DÉPARTEMENTALE DES ENSEIGNEMENTS SECONDAIRE, TECHNIQUE ET DE LA FORMATION PROFESSIONNELLE DU ZOU ********
B2: =Entête!B1 -> COLLEGE D'ENSEIGNEMENT GENERAL ZOUKOU
B3: =Entête!B2 -> IFU: 4202495877266
A13: FICHES DE SUIVI DES DÉPENSES
C19: =Entête!E3 -> Exercice : 2025 - 2026
A55: CHAPITRE : | C55: =Budget!A86 -> A | E55: Crédit autorisé: | G55: =Budget!F92 -> 96000
A56: =Budget!B89 -> CP | C56: =Budget!B90 -> 60 | E56: Décisions modificatives: | G56: =IF(CB!H92>0,CB!H92,-CB!I92) -> 0
A57: =Budget!C89 -> CD | C57: =Budget!C91 -> 600 | E57: Total crédit ouvert: | G57: =SUM(G55:G56) -> 96000
A58: =Budget!D89 -> SC | C58: =Budget!D92 -> 6001
A60: DESIGNATION : | C60: =Budget!E92 -> Animation Pédagogigue de Zone (APZ)
A61: Date | B61: N° Dpse | C61: DESIGNATION DES DEPENSES | D61: MONTANT | E61: MONTANT CUMULE | F61: DISPONIBLE | G61: OBSER
E62: =D62 -> 0 | F62: =G57-E62 -> 96000
E63: =SUM(E62,D63) -> 0 | F63: =F62-D63 -> 96000
E64: =SUM(E63,D64) -> 0 | F64: =F63-D64 -> 96000
E65: =SUM(E64,D65) -> 0 | F65: =F64-D65 -> 96000
E66: =SUM(E65,D66) -> 0 | F66: =F65-D66 -> 96000
E68: Ouvert | F68: Consommé
D69: =C58 -> 6001 | E69: =G57 -> 96000 | F69: =E66 -> 0
A102: CHAPITRE : | C102: =Budget!A86 -> A | E102: Crédit autorisé: | G102: =Budget!F93 -> 450000
A103: =Budget!B89 -> CP | C103: =Budget!B90 -> 60 | E103: Décisions modificatives: | G103: =IF(CB!H93>0,CB!H93,-CB!I93) -> 0
A104: =Budget!C89 -> CD | C104: =Budget!C91 -> 600 | E104: Total crédit ouvert: | G104: =SUM(G102:G103) -> 450000
A105: =Budget!D89 -> SC | C105: =Budget!D93 -> 6002
A107: DESIGNATION : | C107: =Budget!E93 -> Primes PP 09 et AE 06: 15 000f x 15 x 2
A108: Date | B108: N° Dpse | C108: DESIGNATION DES DEPENSES | D108: MONTANT | E108: MONTANT CUMULE | F108: DISPONIBLE | G108: OBSER
E109: =D109 -> 0 | F109: =G104-E109 -> 450000
E110: =SUM(E109,D110) -> 0 | F110: =F109-D110 -> 450000
E111: =SUM(E110,D111) -> 0 | F111: =F110-D111 -> 450000
E113: Ouvert | F113: Consommé
D114: =C105 -> 6002 | E114: =G104 -> 450000 | F114: =E111 -> 0
A148: CHAPITRE : | C148: =Budget!A86 -> A | E148: Crédit autorisé: | G148: =Budget!F94 -> 300000
A149: =Budget!B89 -> CP | C149: =Budget!B90 -> 60 | E149: Décisions modificatives: | G149: =IF(CB!H94>0,CB!H94,-CB!I94) -> 0
A150: =Budget!C89 -> CD | C150: =Budget!C91 -> 600 | E150: Total crédit ouvert: | G150: =SUM(G148:G149) -> 300000
A151: =Budget!D89 -> SC | C151: =Budget!D94 -> 6003
A153: DESIGNATION : | C153: =Budget!E94 -> Organisation des travaux dirigés (TD)
A154: Date | B154: N° Dpse | C154: DESIGNATION DES DEPENSES | D154: MONTANT | E154: MONTANT CUMULE | F154: DISPONIBLE | G154: OBSER
E155: =D155 -> 0 | F155: =G150-E155 -> 300000
E156: =SUM(E155,D156) -> 0 | F156: =F155-D156 -> 300000
E157: =SUM(E156,D157) -> 0 | F157: =F156-D157 -> 300000
E158: =SUM(E157,D158) -> 0 | F158: =F157-D158 -> 300000
E159: =SUM(E158,D159) -> 0 | F159: =F158-D159 -> 300000
...

Sheet Bilan Produits
C1: LES RECETTES
E3: TABLEAU N° 1 : RÉSUMÉ DES RECETTES
C5: Chp | D5: CP | E5: INTITULÉS | F5: Recettes | H5: Écarts | J5: %
F6: Prévues | G6: Réalisées | H6: - | I6: +
C7: =A20 -> I | D7: =B20 -> 70 | E7: =C20 -> VENTE DES IMPRIMES | F7: =F25 -> 410600 | G7: =G25 -> 80750 | H7: =IF(G7-F7>=0,"-",ABS(G7-F7)) -> 329850 | I7: =IF(G7-F7<=0,"-",G7-F7) -> - | J7: =IF(F7=0,"-",G7*100/F7) -> 19.666342
C8: =A26 -> II | D8: =B26 -> 71 | E8: =C26 -> PRODUITS SCOLAIRES, PRESTATION DE SERVICE, AUTRES PRODUITS | F8: =F37 -> 3644679 | G8: =G37 -> #REF! | H8: =IF(G8-F8>=0,"-",ABS(G8-F8)) -> #REF! | I8: =IF(G8-F8<=0,"-",G8-F8) -> #REF! | J8: =IF(F8=0,"-",G8*100/F8) -> #REF!
C9: =A38 -> III | D9: =B38 -> 76 | E9: =C38 -> SUBVENTIONS | F9: =F42 -> 1824000 | G9: =G42 -> 0 | H9: =IF(G9-F9>=0,"-",ABS(G9-F9)) -> 1824000 | I9: =IF(G9-F9<=0,"-",G9-F9) -> - | J9: =IF(F9=0,"-",G9*100/F9) -> 0
C10: =A43 -> IV | D10: =B43 -> 77 | E10: =C43 -> INTERETS ET DIVIDENDES REÇUS | F10: =F45 -> 0 | G10: =G45 -> 0 | H10: =IF(G10-F10>=0,"-",ABS(G10-F10)) -> - | I10: =IF(G10-F10<=0,"-",G10-F10) -> - | J10: =IF(F10=0,"-",G10*100/F10) -> -
C11: TOTAL GENERAL | F11: =SUM(F7:F10) -> 5879279 | G11: =SUM(G7:G10) -> #REF! | H11: =IF(G11-F11>=0,"-",ABS(G11-F11)) -> #REF! | I11: =IF(G11-F11<=0,"-",G11-F11) -> #REF! | J11: =IF(F11=0,"-",G11*100/F11) -> #REF!
D16: TABLEAU N° 2 : DETAILS DES RECETTES
A18: =Budget!A2 -> Chp | B18: =Budget!B3 -> CP | C18: =Budget!C3 -> CD | D18: =Budget!D3 -> SC | E18: =Budget!E2 -> INTITULÉS | F18: Recettes | H18: Écarts | J18: %
F19: Prévues | G19: Réalisées | H19: - | I19: +
A20: =Budget!A4 -> I | B20: =Budget!B4 -> 70 | C20: =Budget!C4 -> VENTE DES IMPRIMES
C21: =Budget!C5 -> 701 | D21: =Budget!D5 -> Certificat et attestation de scolarité; fiche de transfert | F21: ='Suivi Recettes'!F78 -> 15600 | G21: ='Suivi Recettes'!G78 -> 0 | H21: =IF(G21-F21>=0,"-",ABS(G21-F21)) -> 15600 | I21: =IF(G21-F21<=0,"-",G21-F21) -> - | J21: =IF(F21=0,"-",G21*100/F21) -> 0
C22: =Budget!C6 -> 702 | D22: =Budget!D6 -> Carte d'identité scolaire 350 x 1 000F = 350 000 Photo BEPC 45 x 1 000F | F22: ='Suivi Recettes'!F135 -> 395000 | G22: ='Suivi Recettes'!G135 -> 80750 | H22: =IF(G22-F22>=0,"-",ABS(G22-F22)) -> 314250 | I22: =IF(G22-F22<=0,"-",G22-F22) -> - | J22: =IF(F22=0,"-",G22*100/F22) -> 20.443038
C23: =Budget!C7 -> 709 | D23: =Budget!D7 -> Autres ventes | F23: ='Suivi Recettes'!F190 -> 0 | G23: ='Suivi Recettes'!G190 -> 0 | H23: =IF(G23-F23>=0,"-",ABS(G23-F23)) -> - | I23: =IF(G23-F23<=0,"-",G23-F23) -> - | J23: =IF(F23=0,"-",G23*100/F23) -> -
D24: =Budget!D8 -> 7090 | E24: =Budget!E8 -> 0 | F24: ='Suivi Recettes'!F189 -> 0 | G24: ='Suivi Recettes'!G189 -> 0 | H24: =IF(G24-F24>=0,"-",ABS(G24-F24)) -> - | I24: =IF(G24-F24<=0,"-",G24-F24) -> - | J24: =IF(F24=0,"-",G24*100/F24) -> -
B25: =Budget!B9 -> TOTAL CP 70 | F25: ='Suivi Recettes'!F191 -> 410600 | G25: ='Suivi Recettes'!G191 -> 80750 | H25: =IF(G25-F25>=0,"-",ABS(G25-F25)) -> 329850 | I25: =IF(G25-F25<=0,"-",G25-F25) -> - | J25: =IF(F25=0,"-",G25*100/F25) -> 19.666342
A26: =Budget!A10 -> II | B26: =Budget!B10 -> 71 | C26: =Budget!C10 -> PRODUITS SCOLAIRES, PRESTATION DE SERVICE, AUTRES PRODUITS
C27: =Budget!C11 -> 712 | D27: =Budget!D11 -> Prestation de service | F27: ='Suivi Recettes'!F356 -> 87000 | G27: ='Suivi Recettes'!G356 -> 0 | H27: =IF(G27-F27>=0,"-",ABS(G27-F27)) -> 87000 | I27: =IF(G27-F27<=0,"-",G27-F27) -> - | J27: =IF(F27=0,"-",G27*100/F27) -> 0
D28: =Budget!D12 -> 7121 | E28: =Budget!E12 -> Manifestations culturelles et sportives | F28: ='Suivi Recettes'!F248 -> 0 | G28: ='Suivi Recettes'!G248 -> 0 | H28: =IF(G28-F28>=0,"-",ABS(G28-F28)) -> - | I28: =IF(G28-F28<=0,"-",G28-F28) -> - | J28: =IF(F28=0,"-",G28*100/F28) -> -
D29: =Budget!D13 -> 7122 | E29: =Budget!E13 -> Locations diverses (Droits de place: vendeuses 42 000f; Kiosque 45 000f) | F29: ='Suivi Recettes'!F301 -> 87000 | G29: ='Suivi Recettes'!G301 -> 0 | H29: =IF(G29-F29>=0,"-",ABS(G29-F29)) -> 87000 | I29: =IF(G29-F29<=0,"-",G29-F29) -> - | J29: =IF(F29=0,"-",G29*100/F29) -> 0
D30: =Budget!D14 -> 7129 | E30: =Budget!E14 -> Autres produits | F30: ='Suivi Recettes'!F355 -> 0 | G30: ='Suivi Recettes'!G355 -> 0 | H30: =IF(G30-F30>=0,"-",ABS(G30-F30)) -> - | I30: =IF(G30-F30<=0,"-",G30-F30) -> - | J30: =IF(F30=0,"-",G30*100/F30) -> -
C31: =Budget!C15 -> 714 | D31: =Budget!D15 -> Produits scolaires | F31: ='Suivi Recettes'!F563 -> 3456000 | G31: ='Suivi Recettes'!G563 -> 620000 | H31: =IF(G31-F31>=0,"-",ABS(G31-F31)) -> 2836000 | I31: =IF(G31-F31<=0,"-",G31-F31) -> - | J31: =IF(F31=0,"-",G31*100/F31) -> 17.939815
D32: =Budget!D16 -> 7140 | E32: =Budget!E16 -> Droits de scolarité : (Contribuables - filles du cyc 1) x 12 000 (418-152) x 12 000 | F32: ='Suivi Recettes'!F418 -> 3192000 | G32: ='Suivi Recettes'!G418 -> 620000 | H32: =IF(G32-F32>=0,"-",ABS(G32-F32)) -> 2572000 | I32: =IF(G32-F32<=0,"-",G32-F32) -> - | J32: =IF(F32=0,"-",G32*100/F32) -> 19.423559
D33: =Budget!D17 -> 7145 | E33: =Budget!E17 -> Reste à recouvrer | F33: ='Suivi Recettes'!F459 -> 10000 | G33: ='Suivi Recettes'!G459 -> 0 | H33: =IF(G33-F33>=0,"-",ABS(G33-F33)) -> 10000 | I33: =IF(G33-F33<=0,"-",G33-F33) -> - | J33: =IF(F33=0,"-",G33*100/F33) -> 0
D34: =Budget!D18 -> 7146 | E34: =Budget!E18 -> Frais de Dossiers BEPC : 2 800Fx 45; BAC 8 000Fx16 | F34: ='Suivi Recettes'!F511 -> 254000 | G34: ='Suivi Recettes'!G511 -> 0 | H34: =IF(G34-F34>=0,"-",ABS(G34-F34)) -> 254000 | I34: =IF(G34-F34<=0,"-",G34-F34) -> - | J34: =IF(F34=0,"-",G34*100/F34) -> 0
D35: =Budget!D19 -> 7149 | E35: =Budget!E19 -> Autres produits scolaires | F35: ='Suivi Recettes'!F562 -> 0 | G35: ='Suivi Recettes'!G562 -> 0 | H35: =IF(G35-F35>=0,"-",ABS(G35-F35)) -> - | I35: =IF(G35-F35<=0,"-",G35-F35) -> - | J35: =IF(F35=0,"-",G35*100/F35) -> -
C36: =Budget!C20 -> 716 | D36: =Budget!D20 -> Solde de l’exercice antérieur | F36: ='Suivi Recettes'!F596 -> 101679 | G36: ='Suivi Recettes'!G596 -> #REF! | H36: =IF(G36-F36>=0,"-",ABS(G36-F36)) -> #REF! | I36: =IF(G36-F36<=0,"-",G36-F36) -> #REF! | J36: =IF(F36=0,"-",G36*100/F36) -> #REF!
B37: =Budget!B21 -> TOTAL CP 71 | F37: ='Suivi Recettes'!F597 -> 3644679 | G37: ='Suivi Recettes'!G597 -> #REF! | H37: =IF(G37-F37>=0,"-",ABS(G37-F37)) -> #REF! | I37: =IF(G37-F37<=0,"-",G37-F37) -> #REF! | J37: =IF(F37=0,"-",G37*100/F37) -> #REF!
A38: =Budget!A22 -> III | B38: =Budget!B22 -> 76 | C38: =Budget!C22 -> SUBVENTIONS
C39: =Budget!C23 -> 760 | D39: =Budget!D23 -> Subvention de l’État | F39: ='Suivi Recettes'!F695 -> 1824000 | G39: ='Suivi Recettes'!G695 -> 0 | H39: =IF(G39-F39>=0,"-",ABS(G39-F39)) -> 1824000 | I39: =IF(G39-F39<=0,"-",G39-F39) -> - | J39: =IF(F39=0,"-",G39*100/F39) -> 0
D40: =Budget!D24 -> 7605 | E40: =Budget!E24 -> Subvention pour droits de scolarité des filles du 1er cycle : 152 x 12 000 | F40: ='Suivi Recettes'!F642 -> 1824000 | G40: ='Suivi Recettes'!G642 -> 0 | H40: =IF(G40-F40>=0,"-",ABS(G40-F40)) -> 1824000 | I40: =IF(G40-F40<=0,"-",G40-F40) -> - | J40: =IF(F40=0,"-",G40*100/F40) -> 0
D41: =Budget!D25 -> 7606 | E41: =Budget!E25 -> Autres subventions | F41: ='Suivi Recettes'!F694 -> 0 | G41: ='Suivi Recettes'!G694 -> 0 | H41: =IF(G41-F41>=0,"-",ABS(G41-F41)) -> - | I41: =IF(G41-F41<=0,"-",G41-F41) -> - | J41: =IF(F41=0,"-",G41*100/F41) -> -
B42: =Budget!B26 -> TOTAL CP 76 | F42: ='Suivi Recettes'!F696 -> 1824000 | G42: ='Suivi Recettes'!G696 -> 0 | H42: =IF(G42-F42>=0,"-",ABS(G42-F42)) -> 1824000 | I42: =IF(G42-F42<=0,"-",G42-F42) -> - | J42: =IF(F42=0,"-",G42*100/F42) -> 0
A43: =Budget!A27 -> IV | B43: =Budget!B27 -> 77 | C43: =Budget!C27 -> INTERETS ET DIVIDENDES REÇUS
C44: =Budget!C28 -> 771 | D44: =Budget!D28 -> Intérêts des comptes courants créditeurs | F44: ='Suivi Recettes'!F717 -> 0 | G44: ='Suivi Recettes'!G717 -> 0 | H44: =IF(G44-F44>=0,"-",ABS(G44-F44)) -> - | I44: =IF(G44-F44<=0,"-",G44-F44) -> - | J44: =IF(F44=0,"-",G44*100/F44) -> -
B45: =Budget!B29 -> TOTAL CP 77 | F45: ='Suivi Recettes'!F718 -> 0 | G45: ='Suivi Recettes'!G718 -> 0 | H45: =IF(G45-F45>=0,"-",ABS(G45-F45)) -> - | I45: =IF(G45-F45<=0,"-",G45-F45) -> - | J45: =IF(F45=0,"-",G45*100/F45) -> -
A46: =Budget!B31 -> TOTAL PRODUITS : 70 + 71 + 76 + 77 | F46: =SUM(F25,F37,F42,F45) -> 5879279 | G46: =SUM(G25,G37,G42,G45) -> #REF! | H46: =IF(G46-F46>=0,"-",ABS(G46-F46)) -> #REF! | I46: =IF(G46-F46<=0,"-",G46-F46) -> #REF! | J46: =IF(F46=0,"-",G46*100/F46) -> #REF!
F49: Recette | G49: Dépenses réalisées | H49: Solde | I49: Ventilation
...

Sheet Bilan Charges
A1: CHARGES
D3: TABLEAU N° 3 : RÉSUMÉ DE CHARGES
B5: =Budget!A2 -> Chp | C5: =Budget!B3 -> CP | D5: =Budget!E2 -> INTITULÉS | E5: Crédits | G5: Écarts | I5: %
E6: Ouvert | F6: Consommé | G6: - | H6: +
B7: =Budget!A86 -> A | D7: ACTIVITES EDUCATIVES ET PEDAGOGIQUES
C8: =Budget!B90 -> 60 | D8: Animations pédagogiques et formations | E8: =SUM(G46) -> 1260000 | F8: =SUM(H46) -> 0 | G8: =IF(F8-E8>=0,"-",ABS(F8-E8)) -> 1260000 | H8: =IF(F8-E8<=0,"-",F8-E8) -> - | I8: =IF(E8=0,"-",F8*100/E8) -> 0
C9: =Budget!B99 -> 61 | D9: Matières, matériels et fournitures consommés | E9: =SUM(G60) -> 1625000 | F9: =SUM(H60) -> 0 | G9: =IF(F9-E9>=0,"-",ABS(F9-E9)) -> 1625000 | H9: =IF(F9-E9<=0,"-",F9-E9) -> - | I9: =IF(E9=0,"-",F9*100/E9) -> 0
C10: =Budget!B113 -> 62 | D10: Transports consommés | E10: =SUM(G66) -> 20000 | F10: =SUM(H66) -> 0 | G10: =IF(F10-E10>=0,"-",ABS(F10-E10)) -> 20000 | H10: =IF(F10-E10<=0,"-",F10-E10) -> - | I10: =IF(E10=0,"-",F10*100/E10) -> 0
C11: =Budget!B119 -> 63 | D11: Autres services consommés | E11: =SUM(G72) -> 0 | F11: =SUM(H72) -> 0 | G11: =IF(F11-E11>=0,"-",ABS(F11-E11)) -> - | H11: =IF(F11-E11<=0,"-",F11-E11) -> - | I11: =IF(E11=0,"-",F11*100/E11) -> -
C12: =Budget!B125 -> 64 | D12: Charges et pertes diverses | E12: =SUM(G76) -> 0 | F12: =SUM(H76) -> 0 | G12: =IF(F12-E12>=0,"-",ABS(F12-E12)) -> - | H12: =IF(F12-E12<=0,"-",F12-E12) -> - | I12: =IF(E12=0,"-",F12*100/E12) -> -
C13: =Budget!B129 -> 65 | D13: Frais du personnel | E13: =SUM(G80) -> 0 | F13: =SUM(H80) -> 0 | G13: =IF(F13-E13>=0,"-",ABS(F13-E13)) -> - | H13: =IF(F13-E13<=0,"-",F13-E13) -> - | I13: =IF(E13=0,"-",F13*100/E13) -> -
B14: SOUS-TOTAL A | E14: =SUM(E8:E13) -> 2905000 | F14: =SUM(F8:F13) -> 0 | G14: =SUM(G8:G13) -> 2905000 | H14: =SUM(H8:H13) -> 0 | I14: =IF(E14=0,"-",F14*100/E14) -> 0
B15: B | D15: CHARGES GENERALES
C16: 61 | D16: Matières, matériels et fournitures consommés | E16: =SUM(G97) -> 617750 | F16: =SUM(H97) -> 39275 | G16: =IF(F16-E16>=0,"-",ABS(F16-E16)) -> 578475 | H16: =IF(F16-E16<=0,"-",F16-E16) -> - | I16: =IF(E16=0,"-",F16*100/E16) -> 6.3577499
C17: 62 | D17: Transport consommé | E17: =SUM(G101) -> 180000 | F17: =SUM(H101) -> 0 | G17: =IF(F17-E17>=0,"-",ABS(F17-E17)) -> 180000 | H17: =IF(F17-E17<=0,"-",F17-E17) -> - | I17: =IF(E17=0,"-",F17*100/E17) -> 0
C18: 63 | D18: Autres services consommés | E18: =SUM(G112) -> 448800 | F18: =SUM(H112) -> 9900 | G18: =IF(F18-E18>=0,"-",ABS(F18-E18)) -> 438900 | H18: =IF(F18-E18<=0,"-",F18-E18) -> - | I18: =IF(E18=0,"-",F18*100/E18) -> 2.2058824
C19: 64 | D19: Charges et pertes diverses | E19: =SUM(G115) -> 0 | F19: =SUM(H115) -> 0 | G19: =IF(F19-E19>=0,"-",ABS(F19-E19)) -> - | H19: =IF(F19-E19<=0,"-",F19-E19) -> - | I19: =IF(E19=0,"-",F19*100/E19) -> -
C20: 65 | D20: Frais du personnel | E20: =SUM(G123) -> 749000 | F20: =SUM(H123) -> 0 | G20: =IF(F20-E20>=0,"-",ABS(F20-E20)) -> 749000 | H20: =IF(F20-E20<=0,"-",F20-E20) -> - | I20: =IF(E20=0,"-",F20*100/E20) -> 0
C21: 66 | D21: Impôts et taxes | E21: =SUM(G127) -> 0 | F21: =SUM(H127) -> 0 | G21: =IF(F21-E21>=0,"-",ABS(F21-E21)) -> - | H21: =IF(F21-E21<=0,"-",F21-E21) -> - | I21: =IF(E21=0,"-",F21*100/E21) -> -
C22: 67 | D22: Charges financières | E22: =SUM(G131) -> 3000 | F22: =SUM(H131) -> 0 | G22: =IF(F22-E22>=0,"-",ABS(F22-E22)) -> 3000 | H22: =IF(F22-E22<=0,"-",F22-E22) -> - | I22: =IF(E22=0,"-",F22*100/E22) -> 0
B23: SOUS-TOTAL B | E23: =SUM(E16:E22) -> 1998550 | F23: =SUM(F16:F22) -> 49175 | G23: =SUM(G16:G22) -> 1949375 | H23: =SUM(H16:H22) -> 0 | I23: =IF(E23=0,"-",F23*100/E23) -> 2.4605339
B24: D | D24: TRANSFERTS
C25: 64 | D25: Charges et pertes diverses | E25: =SUM(G148) -> 409600 | F25: =SUM(H148) -> 0 | G25: =IF(F25-E25>=0,"-",ABS(F25-E25)) -> 409600 | H25: =IF(F25-E25<=0,"-",F25-E25) -> - | I25: =IF(E25=0,"-",F25*100/E25) -> 0
B26: SOUS-TOTAL D | E26: =SUM(E25) -> 409600 | F26: =SUM(F25) -> 0 | G26: =SUM(G25) -> 409600 | H26: =SUM(H25) -> 0 | I26: =IF(E26=0,"-",F26*100/E26) -> 0
B27: Z | D27: DEPENSES EN CAPITAL
C28: 69 | D28: Investissements | E28: =SUM(G172) -> 566129 | F28: =SUM(H172) -> 0 | G28: =IF(F28-E28>=0,"-",ABS(F28-E28)) -> 566129 | H28: =IF(F28-E28<=0,"-",F28-E28) -> - | I28: =IF(E28=0,"-",F28*100/E28) -> 0
B29: SOUS-TOTAL Z | E29: =SUM(E28) -> 566129 | F29: =SUM(F28) -> 0 | G29: =SUM(G28) -> 566129 | H29: =SUM(H28) -> 0 | I29: =IF(E29=0,"-",F29*100/E29) -> 0
B31: TOTAL GENERAL | E31: =SUM(E14,E23,E26,E29) -> 5879279 | F31: =SUM(F14,F23,F26,F29) -> 49175 | G31: =SUM(G14,G23,G26,G29) -> 5830104 | H31: =SUM(H14,H23,H26,H29) -> 0 | I31: =IF(E31=0,"-",F31*100/E31) -> 0.83641208
E34: TABLEAU N° 4 : CHAPITRE A : Activités éducatives et pédagogiques
A36: =Budget!B89 -> CP | B36: =Budget!C89 -> CD | C36: =Budget!D89 -> SC | D36: =Budget!E89 -> INTITULÉS | E36: Crédits | G36: Total crédits | I36: Écarts | K36: %
E37: Autorisés | F37: Modif (+/-) | G37: Ouverts | H37: Conso | I37: - | J37: +
A38: =Budget!B90 -> 60 | D38: =Budget!C90 -> ANIMATION PEDAGOGIQUE ET FORMATION
B39: =Budget!C91 -> 600 | D39: =Budget!D91 -> Animation pédagogique | E39: ='Suivi Dépenses'!E208 -> 990000 | F39: =SUM('Suivi Dépenses'!$G$56) -> 0 | G39: =SUM(E39:F39) -> 990000 | H39: ='Suivi Dépenses'!F208 -> 0 | I39: =IF(H39-G39>=0,"-",ABS(H39-G39)) -> 990000 | J39: =IF(H39-G39<=0,"-",H39-G39) -> - | K39: =IF(G39=0,"-",H39*100/G39) -> 0
C40: =Budget!D92 -> 6001 | D40: =Budget!E92 -> Animation Pédagogigue de Zone (APZ) | E40: ='Suivi Dépenses'!E69 -> 96000 | F40: =SUM('Suivi Dépenses'!$G$56) -> 0 | G40: =SUM(E40:F40) -> 96000 | H40: ='Suivi Dépenses'!F69 -> 0 | I40: =IF(H40-G40>=0,"-",ABS(H40-G40)) -> 96000 | J40: =IF(H40-G40<=0,"-",H40-G40) -> - | K40: =IF(G40=0,"-",H40*100/G40) -> 0
C41: =Budget!D93 -> 6002 | D41: =Budget!E93 -> Primes PP 09 et AE 06: 15 000f x 15 x 2 | E41: ='Suivi Dépenses'!E114 -> 450000 | F41: =SUM('Suivi Dépenses'!$G$103) -> 0 | G41: =SUM(E41:F41) -> 450000 | H41: ='Suivi Dépenses'!F114 -> 0 | I41: =IF(H41-G41>=0,"-",ABS(H41-G41)) -> 450000 | J41: =IF(H41-G41<=0,"-",H41-G41) -> - | K41: =IF(G41=0,"-",H41*100/G41) -> 0
C42: =Budget!D94 -> 6003 | D42: =Budget!E94 -> Organisation des travaux dirigés (TD) | E42: ='Suivi Dépenses'!E170 -> 300000 | F42: =SUM('Suivi Dépenses'!$G$149) -> 0 | G42: =SUM(E42:F42) -> 300000 | H42: ='Suivi Dépenses'!F170 -> 0 | I42: =IF(H42-G42>=0,"-",ABS(H42-G42)) -> 300000 | J42: =IF(H42-G42<=0,"-",H42-G42) -> - | K42: =IF(G42=0,"-",H42*100/G42) -> 0
C43: =Budget!D95 -> 6004 | D43: =Budget!E95 -> Examens blancs: Secrétariat 16 000f; BEPC 49 000f; BAC 63 000f (NB: All + Esp = un correcteur) | E43: ='Suivi Dépenses'!E207 -> 144000 | F43: =SUM('Suivi Dépenses'!$G$194) -> 0 | G43: =SUM(E43:F43) -> 144000 | H43: ='Suivi Dépenses'!F207 -> 0 | I43: =IF(H43-G43>=0,"-",ABS(H43-G43)) -> 144000 | J43: =IF(H43-G43<=0,"-",H43-G43) -> - | K43: =IF(G43=0,"-",H43*100/G43) -> 0
B44: =Budget!C96 -> 601 | D44: =Budget!D96 -> Formation | E44: ='Suivi Dépenses'!E260 -> 270000 | F44: =SUM('Suivi Dépenses'!$G$149) -> 0 | G44: =SUM(E44:F44) -> 270000 | H44: ='Suivi Dépenses'!F260 -> 0 | I44: =IF(H44-G44>=0,"-",ABS(H44-G44)) -> 270000 | J44: =IF(H44-G44<=0,"-",H44-G44) -> - | K44: =IF(G44=0,"-",H44*100/G44) -> 0
C45: =Budget!D97 -> 6010 | D45: =Budget!E97 -> Formation des personnels | E45: ='Suivi Dépenses'!E259 -> 270000 | F45: ='Suivi Dépenses'!G240 -> 0 | G45: =SUM(E45:F45) -> 270000 | H45: ='Suivi Dépenses'!F259 -> 0 | I45: =IF(H45-G45>=0,"-",ABS(H45-G45)) -> 270000 | J45: =IF(H45-G45<=0,"-",H45-G45) -> - | K45: =IF(G45=0,"-",H45*100/G45) -> 0
B46: =Budget!B98 -> TOTAL CP 60 | E46: =SUM(E39,E44) -> 1260000 | F46: =SUM(F39,F44) -> 0 | G46: =SUM(G39,G44) -> 1260000 | H46: =SUM(H39,H44) -> 0 | I46: =SUM(I39,I44) -> 1260000 | J46: =SUM(J39,J44) -> 0 | K46: =IF(G46=0,"-",H46*100/G46) -> 0
...
