Workbook

Sheet jour férié
A1: jour férié 2025-fermeture machine
A2: 45658 | B2: Mercredi
A3: 45767 | B3: Dimanche
A4: 45768 | B4: Lundi
A5: 45778 | B5: Jeudi
A6: 45779 | B6: Vendredi
A7: 45785 | B7: Jeudi
A8: 45786 | B8: Vendredi
A9: 45806 | B9: Jeudi
A10: 45807 | B10: Vendredi
A11: 45816 | B11: Dimanche
A12: 45817 | B12: Lundi
A13: 45852 | B13: Lundi
... A39: 46023 | B39: Jeudi
A40: 46024

Sheet TBI-520
B1: 2*8 | E1: 1*8
B2: Heure d'ouverture | C2: 0.3125 | E2: Heure d'ouverture | F2: 0.34375 | I2: 45905.344
B3: Heure de fermeture | C3: 0.77083333 | E3: Heure de fermeture | F3: 0.57291667
B4: Temps de fermeture | C4: =MOD(C2-C3,1) -> 0.54166667 | E4: Temps de fermeture | F4: =MOD(F2-F3,1) -> 0.77083333
B5: Temps d'ouverture | C5: =(C3-C2)*24 -> 11 | E5: Temps d'ouverture | F5: =(F3-F2)*24 -> 5.5
H6: OP- Brut= début | I6: DATE_DEBUT | J6: TPS_PREVU | K6: TPS_PASSE | L6: TPS_RESTANT | M6: DATE_FINALE
I7: =I2 -> 45905.344 | J7: 17 | K7: 5 | L7: =IF(N7="OUI",0,ABS(J7-K7)) -> 12 | M7: =_xlfn.LET(_xlpm.debut, I7,_xlpm.ouverture, $F$2,_xlpm.amplitude, $F$5,_xlpm.heures, L7,_xlpm.feries, 'jour férié'!$A$2:$A$200,_xlpm.debut_reel, IF(MOD(_xlpm.debut,1) < _xlpm.ouverture, INT(_xlpm.debut) + _xlpm.ouverture, _xlpm.debut), _xlpm.jours_complets, INT(_xlpm.heures / _xlpm.amplitude), _xlpm.reliquat, MOD(_xlpm.heures, _xlpm.amplitude), IF(_xlpm.reliquat = 0, WORKDAY(_xlpm.debut_reel, _xlpm.jours_complets - 1, _xlpm.feries) + _xlpm.ouverture + _xlpm.amplitude/24, WORKDAY(_xlpm.debut_reel, _xlpm.jours_complets, _xlpm.feries) + _xlpm.ouverture + _xlpm.reliquat/24)) -> 45909.385 | N7: OK
I8: =M7 -> 45909.385 | J8: 8 | K8: 2 | L8: =IF(N8="OUI",0,ABS(J8-K8)) -> 6 | M8: =_xlfn.LET(_xlpm.debut, I8,_xlpm.ouverture, $F$2,_xlpm.amplitude, $F$5,_xlpm.heures, L8,_xlpm.feries, 'jour férié'!$A$2:$A$200,_xlpm.debut_reel, IF(MOD(_xlpm.debut,1) < _xlpm.ouverture, INT(_xlpm.debut) + _xlpm.ouverture, _xlpm.debut), _xlpm.jours_complets, INT(_xlpm.heures / _xlpm.amplitude), _xlpm.reliquat, MOD(_xlpm.heures, _xlpm.amplitude), IF(_xlpm.reliquat = 0, WORKDAY(_xlpm.debut_reel, _xlpm.jours_complets - 1, _xlpm.feries) + _xlpm.ouverture + _xlpm.amplitude/24, WORKDAY(_xlpm.debut_reel, _xlpm.jours_complets, _xlpm.feries) + _xlpm.ouverture + _xlpm.reliquat/24)) -> 45910.365
I9: =M8 -> 45910.365 | J9: 8 | K9: 6 | L9: =IF(N9="OUI",0,ABS(J9-K9)) -> 2 | M9: =_xlfn.LET(_xlpm.debut, I9,_xlpm.ouverture, $F$2,_xlpm.amplitude, $F$5,_xlpm.heures, L9,_xlpm.feries, 'jour férié'!$A$2:$A$200,_xlpm.debut_reel, IF(MOD(_xlpm.debut,1) < _xlpm.ouverture, INT(_xlpm.debut) + _xlpm.ouverture, _xlpm.debut), _xlpm.jours_complets, INT(_xlpm.heures / _xlpm.amplitude), _xlpm.reliquat, MOD(_xlpm.heures, _xlpm.amplitude), IF(_xlpm.reliquat = 0, WORKDAY(_xlpm.debut_reel, _xlpm.jours_complets - 1, _xlpm.feries) + _xlpm.ouverture + _xlpm.amplitude/24, WORKDAY(_xlpm.debut_reel, _xlpm.jours_complets, _xlpm.feries) + _xlpm.ouverture + _xlpm.reliquat/24)) -> 45910.427
I10: =M9 -> 45910.427 | J10: 8 | K10: 7 | L10: =IF(N10="OUI",0,ABS(J10-K10)) -> 1 | M10: =_xlfn.LET(_xlpm.debut, I10,_xlpm.ouverture, $F$2,_xlpm.amplitude, $F$5,_xlpm.heures, L10,_xlpm.feries, 'jour férié'!$A$2:$A$200,_xlpm.debut_reel, IF(MOD(_xlpm.debut,1) < _xlpm.ouverture, INT(_xlpm.debut) + _xlpm.ouverture, _xlpm.debut), _xlpm.jours_complets, INT(_xlpm.heures / _xlpm.amplitude), _xlpm.reliquat, MOD(_xlpm.heures, _xlpm.amplitude), IF(_xlpm.reliquat = 0, WORKDAY(_xlpm.debut_reel, _xlpm.jours_complets - 1, _xlpm.feries) + _xlpm.ouverture + _xlpm.amplitude/24, WORKDAY(_xlpm.debut_reel, _xlpm.jours_complets, _xlpm.feries) + _xlpm.ouverture + _xlpm.reliquat/24)) -> 45910.385
I11: =M10 -> 45910.385 | J11: 5 | K11: 4 | L11: =IF(N11="OUI",0,ABS(J11-K11)) -> 1 | M11: =_xlfn.LET(_xlpm.debut, I11,_xlpm.ouverture, $F$2,_xlpm.amplitude, $F$5,_xlpm.heures, L11,_xlpm.feries, 'jour férié'!$A$2:$A$200,_xlpm.debut_reel, IF(MOD(_xlpm.debut,1) < _xlpm.ouverture, INT(_xlpm.debut) + _xlpm.ouverture, _xlpm.debut), _xlpm.jours_complets, INT(_xlpm.heures / _xlpm.amplitude), _xlpm.reliquat, MOD(_xlpm.heures, _xlpm.amplitude), IF(_xlpm.reliquat = 0, WORKDAY(_xlpm.debut_reel, _xlpm.jours_complets - 1, _xlpm.feries) + _xlpm.ouverture + _xlpm.amplitude/24, WORKDAY(_xlpm.debut_reel, _xlpm.jours_complets, _xlpm.feries) + _xlpm.ouverture + _xlpm.reliquat/24)) -> 45910.385
I12: =M11 -> 45910.385 | J12: 16 | K12: 15 | L12: =IF(N12="OUI",0,ABS(J12-K12)) -> 1 | M12: =_xlfn.LET(_xlpm.debut, I12,_xlpm.ouverture, $F$2,_xlpm.amplitude, $F$5,_xlpm.heures, L12,_xlpm.feries, 'jour férié'!$A$2:$A$200,_xlpm.debut_reel, IF(MOD(_xlpm.debut,1) < _xlpm.ouverture, INT(_xlpm.debut) + _xlpm.ouverture, _xlpm.debut), _xlpm.jours_complets, INT(_xlpm.heures / _xlpm.amplitude), _xlpm.reliquat, MOD(_xlpm.heures, _xlpm.amplitude), IF(_xlpm.reliquat = 0, WORKDAY(_xlpm.debut_reel, _xlpm.jours_complets - 1, _xlpm.feries) + _xlpm.ouverture + _xlpm.amplitude/24, WORKDAY(_xlpm.debut_reel, _xlpm.jours_complets, _xlpm.feries) + _xlpm.ouverture + _xlpm.reliquat/24)) -> 45910.385
I13: =M12 -> 45910.385 | J13: 2 | K13: 1 | L13: =IF(N13="OUI",0,ABS(J13-K13)) -> 1 | M13: =_xlfn.LET(_xlpm.debut, I13,_xlpm.ouverture, $F$2,_xlpm.amplitude, $F$5,_xlpm.heures, L13,_xlpm.feries, 'jour férié'!$A$2:$A$200,_xlpm.debut_reel, IF(MOD(_xlpm.debut,1) < _xlpm.ouverture, INT(_xlpm.debut) + _xlpm.ouverture, _xlpm.debut), _xlpm.jours_complets, INT(_xlpm.heures / _xlpm.amplitude), _xlpm.reliquat, MOD(_xlpm.heures, _xlpm.amplitude), IF(_xlpm.reliquat = 0, WORKDAY(_xlpm.debut_reel, _xlpm.jours_complets - 1, _xlpm.feries) + _xlpm.ouverture + _xlpm.amplitude/24, WORKDAY(_xlpm.debut_reel, _xlpm.jours_complets, _xlpm.feries) + _xlpm.ouverture + _xlpm.reliquat/24)) -> 45910.385
I14: =M13 -> 45910.385 | J14: 10 | K14: 9 | L14: =IF(N14="OUI",0,ABS(J14-K14)) -> 1 | M14: =_xlfn.LET(_xlpm.debut, I14,_xlpm.ouverture, $F$2,_xlpm.amplitude, $F$5,_xlpm.heures, L14,_xlpm.feries, 'jour férié'!$A$2:$A$200,_xlpm.debut_reel, IF(MOD(_xlpm.debut,1) < _xlpm.ouverture, INT(_xlpm.debut) + _xlpm.ouverture, _xlpm.debut), _xlpm.jours_complets, INT(_xlpm.heures / _xlpm.amplitude), _xlpm.reliquat, MOD(_xlpm.heures, _xlpm.amplitude), IF(_xlpm.reliquat = 0, WORKDAY(_xlpm.debut_reel, _xlpm.jours_complets - 1, _xlpm.feries) + _xlpm.ouverture + _xlpm.amplitude/24, WORKDAY(_xlpm.debut_reel, _xlpm.jours_complets, _xlpm.feries) + _xlpm.ouverture + _xlpm.reliquat/24)) -> 45910.385
I15: =M14 -> 45910.385 | J15: 6 | K15: 5 | L15: =IF(N15="OUI",0,ABS(J15-K15)) -> 1 | M15: =_xlfn.LET(_xlpm.debut, I15,_xlpm.ouverture, $F$2,_xlpm.amplitude, $F$5,_xlpm.heures, L15,_xlpm.feries, 'jour férié'!$A$2:$A$200,_xlpm.debut_reel, IF(MOD(_xlpm.debut,1) < _xlpm.ouverture, INT(_xlpm.debut) + _xlpm.ouverture, _xlpm.debut), _xlpm.jours_complets, INT(_xlpm.heures / _xlpm.amplitude), _xlpm.reliquat, MOD(_xlpm.heures, _xlpm.amplitude), IF(_xlpm.reliquat = 0, WORKDAY(_xlpm.debut_reel, _xlpm.jours_complets - 1, _xlpm.feries) + _xlpm.ouverture + _xlpm.amplitude/24, WORKDAY(_xlpm.debut_reel, _xlpm.jours_complets, _xlpm.feries) + _xlpm.ouverture + _xlpm.reliquat/24)) -> 45910.385
I16: =M15 -> 45910.385 | J16: 3 | K16: 2 | L16: =IF(N16="OUI",0,ABS(J16-K16)) -> 1 | M16: =_xlfn.LET(_xlpm.debut, I16,_xlpm.ouverture, $F$2,_xlpm.amplitude, $F$5,_xlpm.heures, L16,_xlpm.feries, 'jour férié'!$A$2:$A$200,_xlpm.debut_reel, IF(MOD(_xlpm.debut,1) < _xlpm.ouverture, INT(_xlpm.debut) + _xlpm.ouverture, _xlpm.debut), _xlpm.jours_complets, INT(_xlpm.heures / _xlpm.amplitude), _xlpm.reliquat, MOD(_xlpm.heures, _xlpm.amplitude), IF(_xlpm.reliquat = 0, WORKDAY(_xlpm.debut_reel, _xlpm.jours_complets - 1, _xlpm.feries) + _xlpm.ouverture + _xlpm.amplitude/24, WORKDAY(_xlpm.debut_reel, _xlpm.jours_complets, _xlpm.feries) + _xlpm.ouverture + _xlpm.reliquat/24)) -> 45910.385
I17: =M16 -> 45910.385 | J17: 12 | K17: 11 | L17: =IF(N17="OUI",0,ABS(J17-K17)) -> 1 | M17: =_xlfn.LET(_xlpm.debut, I17,_xlpm.ouverture, $F$2,_xlpm.amplitude, $F$5,_xlpm.heures, L17,_xlpm.feries, 'jour férié'!$A$2:$A$200,_xlpm.debut_reel, IF(MOD(_xlpm.debut,1) < _xlpm.ouverture, INT(_xlpm.debut) + _xlpm.ouverture, _xlpm.debut), _xlpm.jours_complets, INT(_xlpm.heures / _xlpm.amplitude), _xlpm.reliquat, MOD(_xlpm.heures, _xlpm.amplitude), IF(_xlpm.reliquat = 0, WORKDAY(_xlpm.debut_reel, _xlpm.jours_complets - 1, _xlpm.feries) + _xlpm.ouverture + _xlpm.amplitude/24, WORKDAY(_xlpm.debut_reel, _xlpm.jours_complets, _xlpm.feries) + _xlpm.ouverture + _xlpm.reliquat/24)) -> 45910.385
I18: =M17 -> 45910.385 | J18: 20 | K18: 19 | L18: =IF(N18="OUI",0,ABS(J18-K18)) -> 1 | M18: =_xlfn.LET(_xlpm.debut, I18,_xlpm.ouverture, $F$2,_xlpm.amplitude, $F$5,_xlpm.heures, L18,_xlpm.feries, 'jour férié'!$A$2:$A$200,_xlpm.debut_reel, IF(MOD(_xlpm.debut,1) < _xlpm.ouverture, INT(_xlpm.debut) + _xlpm.ouverture, _xlpm.debut), _xlpm.jours_complets, INT(_xlpm.heures / _xlpm.amplitude), _xlpm.reliquat, MOD(_xlpm.heures, _xlpm.amplitude), IF(_xlpm.reliquat = 0, WORKDAY(_xlpm.debut_reel, _xlpm.jours_complets - 1, _xlpm.feries) + _xlpm.ouverture + _xlpm.amplitude/24, WORKDAY(_xlpm.debut_reel, _xlpm.jours_complets, _xlpm.feries) + _xlpm.ouverture + _xlpm.reliquat/24)) -> 45910.385
