Workbook
Name date: #REF!

Sheet bourso
C1: Calcul PRU LVMH MOET VUITTON FR0000121014
A3: Compte | B3: Date | C3: Libellé | D3: Quantité | E3: Solde | F3: Net Client | H3: PRU
A4: 00050217438 | B4: 40179 | C4: Solde report | E4: 3 | F4: =E4*H4 -> 199.83 | H4: 66.61 | I4: malgré la vente
A5: 00050217438 | B5: 40197 | C5: VENTE COMPTANT | D5: 1 | E5: 2 | F5: 75.58 | I5: recalcul 2 à 66.61 | J5: =H4*E5 -> 133.22
A6: 00050217438 | B6: 40287 | C6: ACHAT COMPTANT | D6: 1 | E6: 3 | F6: 92.21 | H6: =(E5*H4+F6)/E6 -> 75.143333 | I6: plus 1 à 92.21 | J6: =(F6*D6)+J5 -> 225.43
A7: 00050217438 | B7: 40604 | C7: VENTE COMPTANT | D7: 1 | E7: 2 | F7: 107.75 | I7: revente non prise dans
I8: le calcul
A11: date | B11: quantité | C11: cours | D11: Total achat (cours) | E11: frais | F11: prix comptable (cours + frais) | H11: cumul qté | I11: prix de revient moyen
A12: 39423 | B12: 1 | C12: 84.71 | D12: 84.71 | E12: 5.5 | F12: 90.21 | G12: =F12 -> 90.21 | H12: =B12 -> 1 | I12: =(IF(B12>0,(J11+F12)/H12,I11)) -> 90.21 | J12: =I12*H12 -> 90.21
A13: 39729 | B13: 1 | C13: 55.875 | D13: 55.875 | E13: 5.5 | F13: 61.375 | G13: =IF(B13>0,(G12+F13),G12) -> 151.585 | H13: =H12+B13 -> 2 | I13: =(IF(B13>0,(J12+F13)/H13,I12)) -> 75.7925 | J13: =I13*H13 -> 151.585
A14: 39785 | B14: 1 | C14: 42.73 | D14: 42.73 | E14: 5.5 | F14: 48.23 | G14: =IF(B14>0,(G13+F14),G13) -> 199.815 | H14: =H13+B14 -> 3 | I14: =(IF(B14>0,(J13+F14)/H14,I13)) -> 66.605 | J14: =I14*H14 -> 199.815
A15: 40197 | B15: -1 | C15: 81.08 | D15: -81.08 | E15: 5.5 | F15: -75.58 | G15: =IF(B15>0,(G14+F15),G14) -> 199.815 | H15: =H14+B15 -> 2 | I15: =(IF(B15>0,(J14+F15)/H15,I14)) -> 66.605 | J15: =I15*H15 -> 133.21
A16: 40287 | B16: 1 | C16: 86.71 | D16: 86.71 | E16: 5.5 | F16: 92.21 | G16: =IF(B16>0,(G15+F16),G15) -> 292.025 | H16: =H15+B16 -> 3 | I16: =(IF(B16>0,(J15+F16)/H16,I15)) -> 75.14 | J16: =I16*H16 -> 225.42
A17: 40604 | B17: -1 | C17: 113.25 | D17: -113.25 | E17: 5.5 | F17: -107.75 | G17: =IF(B17>0,(G16+F17),G16) -> 292.025 | H17: =H16+B17 -> 2 | I17: =(IF(B17>0,(J16+F17)/H17,I16)) -> 75.14 | J17: =I17*H17 -> 150.28

Sheet saisie achats
A1: date | B1: ACTION | C1: quantité | D1: cours | E1: achat (cours) | F1: vente (cours) | G1: frais | H1: cours + frais | I1: cumul qté | J1: prix de revient | K1: total au prix revient
A2: 39423 | B2: AIR FRANCE-KLM | C2: 1 | D2: 24.74 | E2: =IF(C2>0,(D2*C2),0) -> 24.74 | F2: =IF(C2<0,(D2*C2),0) -> 0 | G2: =IF((C2>0),5.5,5.5) -> 5.5 | H2: =E2+F2+G2 -> 30.24 | I2: =C2 -> 1 | J2: =IF(C2>0,(H2)/I2,0) -> 30.24 | K2: =I2*J2 -> 30.24
A3: 39714 | B3: AIR FRANCE-KLM | C3: 1 | D3: 15.28 | E3: =IF(C3>0,(D3*C3),0) -> 15.28 | F3: =IF(C3<0,(D3*C3),0) -> 0 | G3: =IF((C3>0),5.5,5.5) -> 5.5 | H3: =E3+F3+G3 -> 20.78 | I3: =I2+C3 -> 2 | J3: =IF(C3>0,(K2+H3)/I3,J2) -> 25.51 | K3: =I3*J3 -> 51.02
A4: 40207 | B4: AIR FRANCE-KLM | C4: 1 | D4: 11.82 | E4: =IF(C4>0,(D4*C4),0) -> 11.82 | F4: =IF(C4<0,(D4*C4),0) -> 0 | G4: =IF((C4>0),5.5,5.5) -> 5.5 | H4: =E4+F4+G4 -> 17.32 | I4: =I3+C4 -> 3 | J4: =IF(C4>0,(K3+H4)/I4,J3) -> 22.78 | K4: =I4*J4 -> 68.34
A5: 40287 | B5: AIR FRANCE-KLM | C5: -3 | D5: 11.98 | E5: =IF(C5>0,(D5*C5),0) -> 0 | F5: =IF(C5<0,(D5*C5),0) -> -35.94 | G5: =IF((C5>0),5.5,5.5) -> 5.5 | H5: =E5+F5+G5 -> -30.44 | I5: =I4+C5 -> 0 | J5: =IF(C5>0,(K4+H5)/I5,J4) -> 22.78 | K5: =I5*J5 -> 0
A6: 39426 | B6: ARCELOR MITTAL | C6: 1 | D6: 50.4 | E6: =IF(C6>0,(D6*C6),0) -> 50.4 | F6: =IF(C6<0,(D6*C6),0) -> 0 | G6: =IF((C6>0),5.5,5.5) -> 5.5 | H6: =E6+F6+G6 -> 55.9 | I6: =C6 -> 1 | J6: =IF(C6>0,(H6)/I6,0) -> 55.9 | K6: =I6*J6 -> 55.9
A7: 39527 | B7: ARCELOR MITTAL | C7: 1 | D7: 47.4 | E7: =IF(C7>0,(D7*C7),0) -> 47.4 | F7: =IF(C7<0,(D7*C7),0) -> 0 | G7: =IF((C7>0),5.5,5.5) -> 5.5 | H7: =E7+F7+G7 -> 52.9 | I7: =I6+C7 -> 2 | J7: =IF(C7>0,(K6+H7)/I7,J6) -> 54.4 | K7: =I7*J7 -> 108.8
A8: 40207 | B8: ARCELOR MITTAL | C8: 1 | D8: 28.39 | E8: =IF(C8>0,(D8*C8),0) -> 28.39 | F8: =IF(C8<0,(D8*C8),0) -> 0 | G8: =IF((C8>0),5.5,5.5) -> 5.5 | H8: =E8+F8+G8 -> 33.89 | I8: =I7+C8 -> 3 | J8: =IF(C8>0,(K7+H8)/I8,J7) -> 47.563333 | K8: =I8*J8 -> 142.69
A9: 40504 | B9: ARCELOR MITTAL | C9: -3 | D9: 24.48 | E9: =IF(C9>0,(D9*C9),0) -> 0 | F9: =IF(C9<0,(D9*C9),0) -> -73.44 | G9: =IF((C9>0),5.5,5.5) -> 5.5 | H9: =E9+F9+G9 -> -67.94 | I9: =I8+C9 -> 0 | J9: =IF(C9>0,(K8+H9)/I9,J8) -> 47.563333 | K9: =I9*J9 -> 0
A10: 39426 | B10: AXA | C10: 1 | D10: 28.71 | E10: =IF(C10>0,(D10*C10),0) -> 28.71 | F10: =IF(C10<0,(D10*C10),0) -> 0 | G10: =IF((C10>0),5.5,5.5) -> 5.5 | H10: =E10+F10+G10 -> 34.21 | I10: =C10 -> 1 | J10: =IF(C10>0,(H10)/I10,0) -> 34.21 | K10: =I10*J10 -> 34.21
A11: 39714 | B11: AXA | C11: 1 | D11: 22.5 | E11: =IF(C11>0,(D11*C11),0) -> 22.5 | F11: =IF(C11<0,(D11*C11),0) -> 0 | G11: =IF((C11>0),5.5,5.5) -> 5.5 | H11: =E11+F11+G11 -> 28 | I11: =I10+C11 -> 2 | J11: =IF(C11>0,(K10+H11)/I11,J10) -> 31.105 | K11: =I11*J11 -> 62.21
A12: 40297 | B12: AXA | C12: 2 | D12: 15.18 | E12: =IF(C12>0,(D12*C12),0) -> 30.36 | F12: =IF(C12<0,(D12*C12),0) -> 0 | G12: =IF((C12>0),5.5,5.5) -> 5.5 | H12: =E12+F12+G12 -> 35.86 | I12: =I11+C12 -> 4 | J12: =IF(C12>0,(K11+H12)/I12,J11) -> 24.5175 | K12: =I12*J12 -> 98.07
A13: 40399 | B13: AXA | C13: 1 | D13: 14.52 | E13: =IF(C13>0,(D13*C13),0) -> 14.52 | F13: =IF(C13<0,(D13*C13),0) -> 0 | G13: =IF((C13>0),5.5,5.5) -> 5.5 | H13: =E13+F13+G13 -> 20.02 | I13: =I12+C13 -> 5 | J13: =IF(C13>0,(K12+H13)/I13,J12) -> 23.618 | K13: =I13*J13 -> 118.09
A14: 40486 | B14: AXA | C14: 2 | D14: 13.42 | E14: =IF(C14>0,(D14*C14),0) -> 26.84 | F14: =IF(C14<0,(D14*C14),0) -> 0 | G14: =IF((C14>0),5.5,5.5) -> 5.5 | H14: =E14+F14+G14 -> 32.34 | I14: =I13+C14 -> 7 | J14: =IF(C14>0,(K13+H14)/I14,J13) -> 21.49 | K14: =I14*J14 -> 150.43
A15: 40604 | B15: AXA | C15: 2 | D15: 14.77 | E15: =IF(C15>0,(D15*C15),0) -> 29.54 | F15: =IF(C15<0,(D15*C15),0) -> 0 | G15: =IF((C15>0),5.5,5.5) -> 5.5 | H15: =E15+F15+G15 -> 35.04 | I15: =I14+C15 -> 9 | J15: =IF(C15>0,(K14+H15)/I15,J14) -> 20.607778 | K15: =I15*J15 -> 185.47
A16: 40770 | B16: AXA | C16: 1 | D16: 11.22 | E16: =IF(C16>0,(D16*C16),0) -> 11.22 | F16: =IF(C16<0,(D16*C16),0) -> 0 | G16: =IF((C16>0),5.5,5.5) -> 5.5 | H16: =E16+F16+G16 -> 16.72 | I16: =I15+C16 -> 10 | J16: =IF(C16>0,(K15+H16)/I16,J15) -> 20.219 | K16: =I16*J16 -> 202.19
A17: 39426 | B17: CAP GEMINI | C17: 1 | D17: 39.74 | E17: =IF(C17>0,(D17*C17),0) -> 39.74 | F17: =IF(C17<0,(D17*C17),0) -> 0 | G17: =IF((C17>0),5.5,5.5) -> 5.5 | H17: =E17+F17+G17 -> 45.24 | I17: =C17 -> 1 | J17: =IF(C17>0,(H17)/I17,0) -> 45.24 | K17: =I17*J17 -> 45.24
A18: 39660 | B18: CAP GEMINI | C18: 1 | D18: 40.52 | E18: =IF(C18>0,(D18*C18),0) -> 40.52 | F18: =IF(C18<0,(D18*C18),0) -> 0 | G18: =IF((C18>0),5.5,5.5) -> 5.5 | H18: =E18+F18+G18 -> 46.02 | I18: =I17+C18 -> 2 | J18: =IF(C18>0,(K17+H18)/I18,J17) -> 45.63 | K18: =I18*J18 -> 91.26
A19: 40774 | B19: CAP GEMINI | C19: 1 | D19: 26.59 | E19: =IF(C19>0,(D19*C19),0) -> 26.59 | F19: =IF(C19<0,(D19*C19),0) -> 0 | G19: =IF((C19>0),5.5,5.5) -> 5.5 | H19: =E19+F19+G19 -> 32.09 | I19: =I18+C19 -> 3 | J19: =IF(C19>0,(K18+H19)/I19,J18) -> 41.116667 | K19: =I19*J19 -> 123.35
A20: 39426 | B20: CARREFOUR | C20: 1 | D20: 53.03 | E20: =IF(C20>0,(D20*C20),0) -> 53.03 | F20: =IF(C20<0,(D20*C20),0) -> 0 | G20: =IF((C20>0),5.5,5.5) -> 5.5 | H20: =E20+F20+G20 -> 58.53 | I20: =C20 -> 1 | J20: =IF(C20>0,(H20)/I20,0) -> 58.53 | K20: =I20*J20 -> 58.53
A21: 39714 | B21: CARREFOUR | C21: 1 | D21: 32.79 | E21: =IF(C21>0,(D21*C21),0) -> 32.79 | F21: =IF(C21<0,(D21*C21),0) -> 0 | G21: =IF((C21>0),5.5,5.5) -> 5.5 | H21: =E21+F21+G21 -> 38.29 | I21: =I20+C21 -> 2 | J21: =IF(C21>0,(K20+H21)/I21,J20) -> 48.41 | K21: =I21*J21 -> 96.82
A22: 39714 | B22: CARREFOUR | C22: 1 | D22: 32.63 | E22: =IF(C22>0,(D22*C22),0) -> 32.63 | F22: =IF(C22<0,(D22*C22),0) -> 0 | G22: =IF((C22>0),5.5,5.5) -> 5.5 | H22: =E22+F22+G22 -> 38.13 | I22: =I21+C22 -> 3 | J22: =IF(C22>0,(K21+H22)/I22,J21) -> 44.983333 | K22: =I22*J22 -> 134.95
A23: 40500 | B23: CARREFOUR | C23: 1 | D23: 38.67 | E23: =IF(C23>0,(D23*C23),0) -> 38.67 | F23: =IF(C23<0,(D23*C23),0) -> 0 | G23: =IF((C23>0),5.5,5.5) -> 5.5 | H23: =E23+F23+G23 -> 44.17 | I23: =I22+C23 -> 4 | J23: =IF(C23>0,(K22+H23)/I23,J22) -> 44.78 | K23: =I23*J23 -> 179.12
A24: 40604 | B24: CARREFOUR | C24: 1 | D24: 34.99 | E24: =IF(C24>0,(D24*C24),0) -> 34.99 | F24: =IF(C24<0,(D24*C24),0) -> 0 | G24: =IF((C24>0),5.5,5.5) -> 5.5 | H24: =E24+F24+G24 -> 40.49 | I24: =I23+C24 -> 5 | J24: =IF(C24>0,(K23+H24)/I24,J23) -> 43.922 | K24: =I24*J24 -> 219.61
A25: 40770 | B25: CARREFOUR | C25: 1 | D25: 19.38 | E25: =IF(C25>0,(D25*C25),0) -> 19.38 | F25: =IF(C25<0,(D25*C25),0) -> 0 | G25: =IF((C25>0),5.5,5.5) -> 5.5 | H25: =E25+F25+G25 -> 24.88 | I25: =I24+C25 -> 6 | J25: =IF(C25>0,(K24+H25)/I25,J24) -> 40.748333 | K25: =I25*J25 -> 244.49
A26: 39426 | B26: DEXIA | C26: 1 | D26: 18.05 | E26: =IF(C26>0,(D26*C26),0) -> 18.05 | F26: =IF(C26<0,(D26*C26),0) -> 0 | G26: =IF((C26>0),5.5,5.5) -> 5.5 | H26: =E26+F26+G26 -> 23.55 | I26: =C26 -> 1 | J26: =IF(C26>0,(H26)/I26,0) -> 23.55 | K26: =I26*J26 -> 23.55
A27: 39527 | B27: DEXIA | C27: 1 | D27: 16.46 | E27: =IF(C27>0,(D27*C27),0) -> 16.46 | F27: =IF(C27<0,(D27*C27),0) -> 0 | G27: =IF((C27>0),5.5,5.5) -> 5.5 | H27: =E27+F27+G27 -> 21.96 | I27: =I26+C27 -> 2 | J27: =IF(C27>0,(K26+H27)/I27,J26) -> 22.755 | K27: =I27*J27 -> 45.51
A28: 39714 | B28: DEXIA | C28: 1 | D28: 10.28 | E28: =IF(C28>0,(D28*C28),0) -> 10.28 | F28: =IF(C28<0,(D28*C28),0) -> 0 | G28: =IF((C28>0),5.5,5.5) -> 5.5 | H28: =E28+F28+G28 -> 15.78 | I28: =I27+C28 -> 3 | J28: =IF(C28>0,(K27+H28)/I28,J27) -> 20.43 | K28: =I28*J28 -> 61.29
A29: 39785 | B29: DEXIA | C29: 1 | D29: 3.349 | E29: =IF(C29>0,(D29*C29),0) -> 3.349 | F29: =IF(C29<0,(D29*C29),0) -> 0 | G29: =IF((C29>0),5.5,5.5) -> 5.5 | H29: =E29+F29+G29 -> 8.849 | I29: =I28+C29 -> 4 | J29: =IF(C29>0,(K28+H29)/I29,J28) -> 17.53475 | K29: =I29*J29 -> 70.139
A30: 39833 | B30: DEXIA | C30: 1 | D30: 2.41 | E30: =IF(C30>0,(D30*C30),0) -> 2.41 | F30: =IF(C30<0,(D30*C30),0) -> 0 | G30: =IF((C30>0),5.5,5.5) -> 5.5 | H30: =E30+F30+G30 -> 7.91 | I30: =I29+C30 -> 5 | J30: =IF(C30>0,(K29+H30)/I30,J29) -> 15.6098 | K30: =I30*J30 -> 78.049
A31: 40081 | B31: DEXIA | C31: 1 | D31: 6.15 | E31: =IF(C31>0,(D31*C31),0) -> 6.15 | F31: =IF(C31<0,(D31*C31),0) -> 0 | G31: =IF((C31>0),5.5,5.5) -> 5.5 | H31: =E31+F31+G31 -> 11.65 | I31: =I30+C31 -> 6 | J31: =IF(C31>0,(K30+H31)/I31,J30) -> 14.949833 | K31: =I31*J31 -> 89.699
A32: 40449 | B32: DEXIA | C32: -6 | D32: 3.159 | E32: =IF(C32>0,(D32*C32),0) -> 0 | F32: =IF(C32<0,(D32*C32),0) -> -18.954 | G32: =IF((C32>0),5.5,5.5) -> 5.5 | H32: =E32+F32+G32 -> -13.454 | I32: =I31+C32 -> 0 | J32: =IF(C32>0,(K31+H32)/I32,J31) -> 14.949833 | K32: =I32*J32 -> 0
A33: 39423 | B33: ESSILOR INTL | C33: 1 | D33: 43.45 | E33: =IF(C33>0,(D33*C33),0) -> 43.45 | F33: =IF(C33<0,(D33*C33),0) -> 0 | G33: =IF((C33>0),5.5,5.5) -> 5.5 | H33: =E33+F33+G33 -> 48.95 | I33: =C33 -> 1 | J33: =IF(C33>0,(H33)/I33,0) -> 48.95 | K33: =I33*J33 -> 48.95
A34: 39717 | B34: ESSILOR INTL | C34: 1 | D34: 34.85 | E34: =IF(C34>0,(D34*C34),0) -> 34.85 | F34: =IF(C34<0,(D34*C34),0) -> 0 | G34: =IF((C34>0),5.5,5.5) -> 5.5 | H34: =E34+F34+G34 -> 40.35 | I34: =I33+C34 -> 2 | J34: =IF(C34>0,(K33+H34)/I34,J33) -> 44.65 | K34: =I34*J34 -> 89.3
A35: 40095 | B35: ESSILOR INTL | C35: 1 | D35: 40.12 | E35: =IF(C35>0,(D35*C35),0) -> 40.12 | F35: =IF(C35<0,(D35*C35),0) -> 0 | G35: =IF((C35>0),5.5,5.5) -> 5.5 | H35: =E35+F35+G35 -> 45.62 | I35: =I34+C35 -> 3 | J35: =IF(C35>0,(K34+H35)/I35,J34) -> 44.973333 | K35: =I35*J35 -> 134.92
A36: 40207 | B36: ESSILOR INTL | C36: 1 | D36: 41.91 | E36: =IF(C36>0,(D36*C36),0) -> 41.91 | F36: =IF(C36<0,(D36*C36),0) -> 0 | G36: =IF((C36>0),5.5,5.5) -> 5.5 | H36: =E36+F36+G36 -> 47.41 | I36: =I35+C36 -> 4 | J36: =IF(C36>0,(K35+H36)/I36,J35) -> 45.5825 | K36: =I36*J36 -> 182.33
A37: 40227 | B37: ESSILOR INTL | C37: 1 | D37: 44.12 | E37: =IF(C37>0,(D37*C37),0) -> 44.12 | F37: =IF(C37<0,(D37*C37),0) -> 0 | G37: =IF((C37>0),5.5,5.5) -> 5.5 | H37: =E37+F37+G37 -> 49.62 | I37: =I36+C37 -> 5 | J37: =IF(C37>0,(K36+H37)/I37,J36) -> 46.39 | K37: =I37*J37 -> 231.95
A38: 40382 | B38: ESSILOR INTL | C38: 1 | D38: 49.12 | E38: =IF(C38>0,(D38*C38),0) -> 49.12 | F38: =IF(C38<0,(D38*C38),0) -> 0 | G38: =IF((C38>0),5.5,5.5) -> 5.5 | H38: =E38+F38+G38 -> 54.62 | I38: =I37+C38 -> 6 | J38: =IF(C38>0,(K37+H38)/I38,J37) -> 47.761667 | K38: =I38*J38 -> 286.57
A39: 40662 | B39: ESSILOR INTL | C39: -3 | D39: 56.47 | E39: =IF(C39>0,(D39*C39),0) -> 0 | F39: =IF(C39<0,(D39*C39),0) -> -169.41 | G39: =IF((C39>0),5.5,5.5) -> 5.5 | H39: =E39+F39+G39 -> -163.91 | I39: =I38+C39 -> 3 | J39: =IF(C39>0,(K38+H39)/I39,J38) -> 47.761667 | K39: =I39*J39 -> 143.285
A40: 40774 | B40: ESSILOR INTL | C40: 1 | D40: 52.19 | E40: =IF(C40>0,(D40*C40),0) -> 52.19 | F40: =IF(C40<0,(D40*C40),0) -> 0 | G40: =IF((C40>0),5.5,5.5) -> 5.5 | H40: =E40+F40+G40 -> 57.69 | I40: =I39+C40 -> 4 | J40: =IF(C40>0,(K39+H40)/I40,J39) -> 50.24375 | K40: =I40*J40 -> 200.975
...

Sheet p revient
C2: achat | I2: vente
C3: =SUM(C5:C100) -> 96 | D3: =SUM(D5:D100) -> 627.16836 | E3: =SUM(E5:E100) -> 3615.459 | F3: =SUM(F5:F100) -> 528 | G3: =SUM(G5:G100) -> 4143.459 | I3: =SUM(I5:I100) -> -23 | J3: =SUM(J5:J100) -> 365.57567 | K3: =SUM(K5:K100) -> -1041.234 | L3: =SUM(L5:L100) -> 126.5 | M3: =SUM(M5:M100) -> -914.734 | O3: =SUM(O5:O100) -> 73 | Q3: =SUM(Q5:Q100) -> 2992.1922
C4: quantité | D4: cours | E4: achat | F4: frais | G4: cours + frais | I4: quantité | J4: cours | K4: vente | L4: frais | M4: cours + frais | O4: quantité | P4: Prix de revient | Q4: portefeuille selon prix de revient
B5: AIR FRANCE-KLM | C5: =SUMIFS('saisie achats'!C:C,'saisie achats'!C:C,">0",'saisie achats'!B:B,B5) -> 3 | D5: =(SUMIFS('saisie achats'!E:E,'saisie achats'!C:C,">0",'saisie achats'!B:B,B5))/C5 -> 17.28 | E5: =D5*C5 -> 51.84 | F5: =IF((0<C5>0),(5.5*C5),0) -> 16.5 | G5: =E5+F5 -> 68.34 | I5: =SUMIFS('saisie achats'!C:C,'saisie achats'!C:C,"<0",'saisie achats'!B:B,B5) -> -3 | J5: =IF(I5=0,0,(SUMIFS('saisie achats'!F:F,'saisie achats'!C:C,"<0",'saisie achats'!B:B,B5))/I5) -> 11.98 | K5: =J5*I5 -> -35.94 | L5: =IF((0<I5>0),(-5.5*I5),0) -> 16.5 | M5: =K5+L5 -> -19.44 | O5: =C5+I5 -> 0 | P5: 22.78 | Q5: =P5*O5 -> 0 | S5: =MATCH(B5,'saisie achats'!B:B) -> 5 | T5: =INDEX('saisie achats'!A:K,S5,10) -> 22.78
B6: ARCELOR MITTAL | C6: =SUMIFS('saisie achats'!C:C,'saisie achats'!C:C,">0",'saisie achats'!B:B,B6) -> 3 | D6: =(SUMIFS('saisie achats'!E:E,'saisie achats'!C:C,">0",'saisie achats'!B:B,B6))/C6 -> 42.063333 | E6: =D6*C6 -> 126.19 | F6: =IF((0<C6>0),(5.5*C6),0) -> 16.5 | G6: =E6+F6 -> 142.69 | I6: =SUMIFS('saisie achats'!C:C,'saisie achats'!C:C,"<0",'saisie achats'!B:B,B6) -> -3 | J6: =IF(I6=0,0,(SUMIFS('saisie achats'!F:F,'saisie achats'!C:C,"<0",'saisie achats'!B:B,B6))/I6) -> 24.48 | K6: =J6*I6 -> -73.44 | L6: =IF((0<I6>0),(-5.5*I6),0) -> 16.5 | M6: =K6+L6 -> -56.94 | O6: =C6+I6 -> 0 | P6: 47.563333 | Q6: =P6*O6 -> 0 | S6: =MATCH(B6,'saisie achats'!B:B) -> 9 | T6: =INDEX('saisie achats'!A:K,S6,10) -> 47.563333
B7: AXA | C7: =SUMIFS('saisie achats'!C:C,'saisie achats'!C:C,">0",'saisie achats'!B:B,B7) -> 10 | D7: =(SUMIFS('saisie achats'!E:E,'saisie achats'!C:C,">0",'saisie achats'!B:B,B7))/C7 -> 16.369 | E7: =D7*C7 -> 163.69 | F7: =IF((0<C7>0),(5.5*C7),0) -> 55 | G7: =E7+F7 -> 218.69 | I7: =SUMIFS('saisie achats'!C:C,'saisie achats'!C:C,"<0",'saisie achats'!B:B,B7) -> 0 | J7: =IF(I7=0,0,(SUMIFS('saisie achats'!F:F,'saisie achats'!C:C,"<0",'saisie achats'!B:B,B7))/I7) -> 0 | K7: =J7*I7 -> 0 | L7: =IF((0<I7>0),(-5.5*I7),0) -> 0 | M7: =K7+L7 -> 0 | O7: =C7+I7 -> 10 | P7: 20.22 | Q7: =P7*O7 -> 202.2 | S7: =MATCH(B7,'saisie achats'!B:B) -> 16 | T7: =INDEX('saisie achats'!A:K,S7,10) -> 20.219
B8: CAP GEMINI | C8: =SUMIFS('saisie achats'!C:C,'saisie achats'!C:C,">0",'saisie achats'!B:B,B8) -> 3 | D8: =(SUMIFS('saisie achats'!E:E,'saisie achats'!C:C,">0",'saisie achats'!B:B,B8))/C8 -> 35.616667 | E8: =D8*C8 -> 106.85 | F8: =IF((0<C8>0),(5.5*C8),0) -> 16.5 | G8: =E8+F8 -> 123.35 | I8: =SUMIFS('saisie achats'!C:C,'saisie achats'!C:C,"<0",'saisie achats'!B:B,B8) -> 0 | J8: =IF(I8=0,0,(SUMIFS('saisie achats'!F:F,'saisie achats'!C:C,"<0",'saisie achats'!B:B,B8))/I8) -> 0 | K8: =J8*I8 -> 0 | L8: =IF((0<I8>0),(-5.5*I8),0) -> 0 | M8: =K8+L8 -> 0 | O8: =C8+I8 -> 3 | P8: 41.12 | Q8: =P8*O8 -> 123.36 | S8: =MATCH(B8,'saisie achats'!B:B) -> 19 | T8: =INDEX('saisie achats'!A:K,S8,10) -> 41.116667
B9: CARREFOUR | C9: =SUMIFS('saisie achats'!C:C,'saisie achats'!C:C,">0",'saisie achats'!B:B,B9) -> 6 | D9: =(SUMIFS('saisie achats'!E:E,'saisie achats'!C:C,">0",'saisie achats'!B:B,B9))/C9 -> 35.248333 | E9: =D9*C9 -> 211.49 | F9: =IF((0<C9>0),(5.5*C9),0) -> 33 | G9: =E9+F9 -> 244.49 | I9: =SUMIFS('saisie achats'!C:C,'saisie achats'!C:C,"<0",'saisie achats'!B:B,B9) -> 0 | J9: =IF(I9=0,0,(SUMIFS('saisie achats'!F:F,'saisie achats'!C:C,"<0",'saisie achats'!B:B,B9))/I9) -> 0 | K9: =J9*I9 -> 0 | L9: =IF((0<I9>0),(-5.5*I9),0) -> 0 | M9: =K9+L9 -> 0 | O9: =C9+I9 -> 6 | P9: 40.75 | Q9: =P9*O9 -> 244.5 | S9: =MATCH(B9,'saisie achats'!B:B) -> 25 | T9: =INDEX('saisie achats'!A:K,S9,10) -> 40.748333
B10: DEXIA | C10: =SUMIFS('saisie achats'!C:C,'saisie achats'!C:C,">0",'saisie achats'!B:B,B10) -> 6 | D10: =(SUMIFS('saisie achats'!E:E,'saisie achats'!C:C,">0",'saisie achats'!B:B,B10))/C10 -> 9.4498333 | E10: =D10*C10 -> 56.699 | F10: =IF((0<C10>0),(5.5*C10),0) -> 33 | G10: =E10+F10 -> 89.699 | I10: =SUMIFS('saisie achats'!C:C,'saisie achats'!C:C,"<0",'saisie achats'!B:B,B10) -> -6 | J10: =IF(I10=0,0,(SUMIFS('saisie achats'!F:F,'saisie achats'!C:C,"<0",'saisie achats'!B:B,B10))/I10) -> 3.159 | K10: =J10*I10 -> -18.954 | L10: =IF((0<I10>0),(-5.5*I10),0) -> 33 | M10: =K10+L10 -> 14.046 | O10: =C10+I10 -> 0 | P10: 14.949833 | Q10: =P10*O10 -> 0 | S10: =MATCH(B10,'saisie achats'!B:B) -> 32 | T10: =INDEX('saisie achats'!A:K,S10,10) -> 14.949833
B11: ESSILOR INTL | C11: =SUMIFS('saisie achats'!C:C,'saisie achats'!C:C,">0",'saisie achats'!B:B,B11) -> 7 | D11: =(SUMIFS('saisie achats'!E:E,'saisie achats'!C:C,">0",'saisie achats'!B:B,B11))/C11 -> 43.68 | E11: =D11*C11 -> 305.76 | F11: =IF((0<C11>0),(5.5*C11),0) -> 38.5 | G11: =E11+F11 -> 344.26 | I11: =SUMIFS('saisie achats'!C:C,'saisie achats'!C:C,"<0",'saisie achats'!B:B,B11) -> -3 | J11: =IF(I11=0,0,(SUMIFS('saisie achats'!F:F,'saisie achats'!C:C,"<0",'saisie achats'!B:B,B11))/I11) -> 56.47 | K11: =J11*I11 -> -169.41 | L11: =IF((0<I11>0),(-5.5*I11),0) -> 16.5 | M11: =K11+L11 -> -152.91 | O11: =C11+I11 -> 4 | P11: 50.24 | Q11: =P11*O11 -> 200.96 | S11: =MATCH(B11,'saisie achats'!B:B) -> 40 | T11: =INDEX('saisie achats'!A:K,S11,10) -> 50.24375
B12: LVMH MOET VUITTON | C12: =SUMIFS('saisie achats'!C:C,'saisie achats'!C:C,">0",'saisie achats'!B:B,B12) -> 5 | D12: =(SUMIFS('saisie achats'!E:E,'saisie achats'!C:C,">0",'saisie achats'!B:B,B12))/C12 -> 75.547 | E12: =D12*C12 -> 377.735 | F12: =IF((0<C12>0),(5.5*C12),0) -> 27.5 | G12: =E12+F12 -> 405.235 | I12: =SUMIFS('saisie achats'!C:C,'saisie achats'!C:C,"<0",'saisie achats'!B:B,B12) -> -3 | J12: =IF(I12=0,0,(SUMIFS('saisie achats'!F:F,'saisie achats'!C:C,"<0",'saisie achats'!B:B,B12))/I12) -> 105.09333 | K12: =J12*I12 -> -315.28 | L12: =IF((0<I12>0),(-5.5*I12),0) -> 16.5 | M12: =K12+L12 -> -298.78 | O12: =C12+I12 -> 2 | P12: 94.171111 | Q12: =P12*O12 -> 188.34222 | S12: =MATCH(B12,'saisie achats'!B:B) -> 48 | T12: =INDEX('saisie achats'!A:K,S12,10) -> 94.171111
B13: OREAL | C13: =SUMIFS('saisie achats'!C:C,'saisie achats'!C:C,">0",'saisie achats'!B:B,B13) -> 6 | D13: =(SUMIFS('saisie achats'!E:E,'saisie achats'!C:C,">0",'saisie achats'!B:B,B13))/C13 -> 83.741667 | E13: =D13*C13 -> 502.45 | F13: =IF((0<C13>0),(5.5*C13),0) -> 33 | G13: =E13+F13 -> 535.45 | I13: =SUMIFS('saisie achats'!C:C,'saisie achats'!C:C,"<0",'saisie achats'!B:B,B13) -> 0 | J13: =IF(I13=0,0,(SUMIFS('saisie achats'!F:F,'saisie achats'!C:C,"<0",'saisie achats'!B:B,B13))/I13) -> 0 | K13: =J13*I13 -> 0 | L13: =IF((0<I13>0),(-5.5*I13),0) -> 0 | M13: =K13+L13 -> 0 | O13: =C13+I13 -> 6 | P13: 89.24 | Q13: =P13*O13 -> 535.44 | S13: =MATCH(B13,'saisie achats'!B:B) -> 54 | T13: =INDEX('saisie achats'!A:K,S13,10) -> 89.241667
B14: PERNOD RICARD | C14: =SUMIFS('saisie achats'!C:C,'saisie achats'!C:C,">0",'saisie achats'!B:B,B14) -> 2 | D14: =(SUMIFS('saisie achats'!E:E,'saisie achats'!C:C,">0",'saisie achats'!B:B,B14))/C14 -> 75.65 | E14: =D14*C14 -> 151.3 | F14: =IF((0<C14>0),(5.5*C14),0) -> 11 | G14: =E14+F14 -> 162.3 | I14: =SUMIFS('saisie achats'!C:C,'saisie achats'!C:C,"<0",'saisie achats'!B:B,B14) -> -2 | J14: =IF(I14=0,0,(SUMIFS('saisie achats'!F:F,'saisie achats'!C:C,"<0",'saisie achats'!B:B,B14))/I14) -> 64.97 | K14: =J14*I14 -> -129.94 | L14: =IF((0<I14>0),(-5.5*I14),0) -> 11 | M14: =K14+L14 -> -118.94 | O14: =C14+I14 -> 0 | P14: 78.4 | Q14: =P14*O14 -> 0 | S14: =MATCH(B14,'saisie achats'!B:B) -> 56 | T14: =INDEX('saisie achats'!A:K,S14,10) -> 78.4
B15: PPR | C15: =SUMIFS('saisie achats'!C:C,'saisie achats'!C:C,">0",'saisie achats'!B:B,B15) -> 3 | D15: =(SUMIFS('saisie achats'!E:E,'saisie achats'!C:C,">0",'saisie achats'!B:B,B15))/C15 -> 74.515 | E15: =D15*C15 -> 223.545 | F15: =IF((0<C15>0),(5.5*C15),0) -> 16.5 | G15: =E15+F15 -> 240.045 | I15: =SUMIFS('saisie achats'!C:C,'saisie achats'!C:C,"<0",'saisie achats'!B:B,B15) -> -3 | J15: =IF(I15=0,0,(SUMIFS('saisie achats'!F:F,'saisie achats'!C:C,"<0",'saisie achats'!B:B,B15))/I15) -> 99.423333 | K15: =J15*I15 -> -298.27 | L15: =IF((0<I15>0),(-5.5*I15),0) -> 16.5 | M15: =K15+L15 -> -281.77 | O15: =C15+I15 -> 0 | P15: 164.0525 | Q15: =P15*O15 -> 0 | S15: =MATCH(B15,'saisie achats'!B:B) -> 61 | T15: =INDEX('saisie achats'!A:K,S15,10) -> 164.0525
B16: SOCIETE GENERALE | C16: =SUMIFS('saisie achats'!C:C,'saisie achats'!C:C,">0",'saisie achats'!B:B,B16) -> 10 | D16: =(SUMIFS('saisie achats'!E:E,'saisie achats'!C:C,">0",'saisie achats'!B:B,B16))/C16 -> 46.677 | E16: =D16*C16 -> 466.77 | F16: =IF((0<C16>0),(5.5*C16),0) -> 55 | G16: =E16+F16 -> 521.77 | I16: =SUMIFS('saisie achats'!C:C,'saisie achats'!C:C,"<0",'saisie achats'!B:B,B16) -> 0 | J16: =IF(I16=0,0,(SUMIFS('saisie achats'!F:F,'saisie achats'!C:C,"<0",'saisie achats'!B:B,B16))/I16) -> 0 | K16: =J16*I16 -> 0 | L16: =IF((0<I16>0),(-5.5*I16),0) -> 0 | M16: =K16+L16 -> 0 | O16: =C16+I16 -> 10 | P16: 50.53 | Q16: =P16*O16 -> 505.3 | S16: =MATCH(B16,'saisie achats'!B:B) -> 68 | T16: =INDEX('saisie achats'!A:K,S16,10) -> 50.527
... B19: VIVENDI | C19: =SUMIFS('saisie achats'!C:C,'saisie achats'!C:C,">0",'saisie achats'!B:B,B19) -> 8 | D19: =(SUMIFS('saisie achats'!E:E,'saisie achats'!C:C,">0",'saisie achats'!B:B,B19))/C19 -> 22.43875 | E19: =D19*C19 -> 179.51 | F19: =IF((0<C19>0),(5.5*C19),0) -> 44 | G19: =E19+F19 -> 223.51 | I19: =SUMIFS('saisie achats'!C:C,'saisie achats'!C:C,"<0",'saisie achats'!B:B,B19) -> 0 | J19: =IF(I19=0,0,(SUMIFS('saisie achats'!F:F,'saisie achats'!C:C,"<0",'saisie achats'!B:B,B19))/I19) -> 0 | K19: =J19*I19 -> 0 | L19: =IF((0<I19>0),(-5.5*I19),0) -> 0 | M19: =K19+L19 -> 0 | O19: =C19+I19 -> 8 | P19: 26.56375 | Q19: =P19*O19 -> 212.51 | S19: =MATCH(B19,'saisie achats'!B:B) -> 90 | T19: =INDEX('saisie achats'!A:K,S19,10) -> 26.56375

Sheet Feuil2
