Workbook
Name date: #REF!

Sheet bourso
C1: Calcul PRU LVMH MOET VUITTON FR0000121014
A3: Compte | B3: Date | C3: Libellé | D3: Quantité | E3: Solde | F3: Net Client | H3: PRU
A4: 00050217438 | B4: 40179 | C4: Solde report | E4: 3 | F4: =E4*H4 -> 199.83 | H4: 66.61 | I4: malgré la vente
A5: 00050217438 | B5: 40197 | C5: VENTE COMPTANT | D5: 1 | E5: 2 | F5: 75.58 | I5: recalcul 2 à 66.61 | J5: =H4*E5 -> 133.22
A6: 00050217438 | B6: 40287 | C6: ACHAT COMPTANT | D6: 1 | E6: 3 | F6: 92.21 | H6: =(E5*H4+F6)/E6 -> 75.143333 | I6: plus 1 à 92.21 | J6: =(F6*D6)+J5 -> 225.43
A7: 00050217438 | B7: 40604 | C7: VENTE COMPTANT | D7: 1 | E7: 2 | F7: 107.75 | I7: revente non prise dans
I8: le calcul
A11: date | B11: quantité | C11: cours | D11: Total achat (cours) | E11: frais | F11: prix comptable (cours + frais) | H11: cumul qté | I11: prix de revient moyen
A12: 39423 | B12: 1 | C12: 84.71 | D12: 84.71 | E12: 5.5 | F12: 90.21 | G12: =F12 -> 90.21 | H12: =B12 -> 1 | I12: =(IF(B12>0,(J11+F12)/H12,I11)) -> 90.21 | J12: =I12*H12 -> 90.21
A13: 39729 | B13: 1 | C13: 55.875 | D13: 55.875 | E13: 5.5 | F13: 61.375 | G13: =IF(B13>0,(G12+F13),G12) -> 151.585 | H13: =H12+B13 -> 2 | I13: =(IF(B13>0,(J12+F13)/H13,I12)) -> 75.7925 | J13: =I13*H13 -> 151.585
A14: 39785 | B14: 1 | C14: 42.73 | D14: 42.73 | E14: 5.5 | F14: 48.23 | G14: =IF(B14>0,(G13+F14),G13) -> 199.815 | H14: =H13+B14 -> 3 | I14: =(IF(B14>0,(J13+F14)/H14,I13)) -> 66.605 | J14: =I14*H14 -> 199.815
A15: 40197 | B15: -1 | C15: 81.08 | D15: -81.08 | E15: 5.5 | F15: -75.58 | G15: =IF(B15>0,(G14+F15),G14) -> 199.815 | H15: =H14+B15 -> 2 | I15: =(IF(B15>0,(J14+F15)/H15,I14)) -> 66.605 | J15: =I15*H15 -> 133.21
A16: 40287 | B16: 1 | C16: 86.71 | D16: 86.71 | E16: 5.5 | F16: 92.21 | G16: =IF(B16>0,(G15+F16),G15) -> 292.025 | H16: =H15+B16 -> 3 | I16: =(IF(B16>0,(J15+F16)/H16,I15)) -> 75.14 | J16: =I16*H16 -> 225.42
A17: 40604 | B17: -1 | C17: 113.25 | D17: -113.25 | E17: 5.5 | F17: -107.75 | G17: =IF(B17>0,(G16+F17),G16) -> 292.025 | H17: =H16+B17 -> 2 | I17: =(IF(B17>0,(J16+F17)/H17,I16)) -> 75.14 | J17: =I17*H17 -> 150.28

Sheet saisie achats
A1: date | B1: ACTION | C1: quantité | D1: cours | E1: achat (cours) | F1: vente (cours) | G1: frais | H1: cours + frais | I1: cumul qté | J1: prix de revient | K1: total au prix revient
A2: 39423 | B2: AIR FRANCE-KLM | C2: 1 | D2: 24.74 | E2: =IF(C2>0,(D2*C2),0) -> 24.74 | F2: =IF(C2<0,(D2*C2),0) -> 0 | G2: =IF((C2>0),5.5,5.5) -> 5.5 | H2: =E2+F2+G2 -> 30.24 | I2: =C2 -> 1 | J2: =IF(C2>0,(H2)/I2,0) -> 30.24 | K2: =I2*J2 -> 30.24
A3: 39714 | B3: AIR FRANCE-KLM | C3: 1 | D3: 15.28 | E3: =IF(C3>0,(D3*C3),0) -> 15.28 | F3: =IF(C3<0,(D3*C3),0) -> 0 | G3: =IF((C3>0),5.5,5.5) -> 5.5 | H3: =E3+F3+G3 -> 20.78 | I3: =I2+C3 -> 2 | J3: =IF(C3>0,(K2+H3)/I3,J2) -> 25.51 | K3: =I3*J3 -> 51.02
A4: 40207 | B4: AIR FRANCE-KLM | C4: 1 | D4: 11.82 | E4: =IF(C4>0,(D4*C4),0) -> 11.82 | F4: =IF(C4<0,(D4*C4),0) -> 0 | G4: =IF((C4>0),5.5,5.5) -> 5.5 | H4: =E4+F4+G4 -> 17.32 | I4: =I3+C4 -> 3 | J4: =IF(C4>0,(K3+H4)/I4,J3) -> 22.78 | K4: =I4*J4 -> 68.34
A5: 40287 | B5: AIR FRANCE-KLM | C5: -3 | D5: 11.98 | E5: =IF(C5>0,(D5*C5),0) -> 0 | F5: =IF(C5<0,(D5*C5),0) -> -35.94 | G5: =IF((C5>0),5.5,5.5) -> 5.5 | H5: =E5+F5+G5 -> -30.44 | I5: =I4+C5 -> 0 | J5: =IF(C5>0,(K4+H5)/I5,J4) -> 22.78 | K5: =I5*J5 -> 0
A6: 39426 | B6: ARCELOR MITTAL | C6: 1 | D6: 50.4 | E6: =IF(C6>0,(D6*C6),0) -> 50.4 | F6: =IF(C6<0,(D6*C6),0) -> 0 | G6: =IF((C6>0),5.5,5.5) -> 5.5 | H6: =E6+F6+G6 -> 55.9 | I6: =C6 -> 1 | J6: =IF(C6>0,(H6)/I6,0) -> 55.9 | K6: =I6*J6 -> 55.9
A7: 39527 | B7: ARCELOR MITTAL | C7: 1 | D7: 47.4 | E7: =IF(C7>0,(D7*C7),0) -> 47.4 | F7: =IF(C7<0,(D7*C7),0) -> 0 | G7: =IF((C7>0),5.5,5.5) -> 5.5 | H7: =E7+F7+G7 -> 52.9 | I7: =I6+C7 -> 2 | J7: =IF(C7>0,(K6+H7)/I7,J6) -> 54.4 | K7: =I7*J7 -> 108.8
A8: 40207 | B8: ARCELOR MITTAL | C8: 1 | D8: 28.39 | E8: =IF(C8>0,(D8*C8),0) -> 28.39 | F8: =IF(C8<0,(D8*C8),0) -> 0 | G8: =IF((C8>0),5.5,5.5) -> 5.5 | H8: =E8+F8+G8 -> 33.89 | I8: =I7+C8 -> 3 | J8: =IF(C8>0,(K7+H8)/I8,J7) -> 47.563333 | K8: =I8*J8 -> 142.69
A9: 40504 | B9: ARCELOR MITTAL | C9: -3 | D9: 24.48 | E9: =IF(C9>0,(D9*C9),0) -> 0 | F9: =IF(C9<0,(D9*C9),0) -> -73.44 | G9: =IF((C9>0),5.5,5.5) -> 5.5 | H9: =E9+F9+G9 -> -67.94 | I9: =I8+C9 -> 0 | J9: =IF(C9>0,(K8+H9)/I9,J8) -> 47.563333 | K9: =I9*J9 -> 0
A10: 39426 | B10: AXA | C10: 1 | D10: 28.71 | E10: =IF(C10>0,(D10*C10),0) -> 28.71 | F10: =IF(C10<0,(D10*C10),0) -> 0 | G10: =IF((C10>0),5.5,5.5) -> 5.5 | H10: =E10+F10+G10 -> 34.21 | I10: =C10 -> 1 | J10: =IF(C10>0,(H10)/I10,0) -> 34.21 | K10: =I10*J10 -> 34.21
A11: 39714 | B11: AXA | C11: 1 | D11: 22.5 | E11: =IF(C11>0,(D11*C11),0) -> 22.5 | F11: =IF(C11<0,(D11*C11),0) -> 0 | G11: =IF((C11>0),5.5,5.5) -> 5.5 | H11: =E11+F11+G11 -> 28 | I11: =I10+C11 -> 2 | J11: =IF(C11>0,(K10+H11)/I11,J10) -> 31.105 | K11: =I11*J11 -> 62.21
A12: 40297 | B12: AXA | C12: 2 | D12: 15.18 | E12: =IF(C12>0,(D12*C12),0) -> 30.36 | F12: =IF(C12<0,(D12*C12),0) -> 0 | G12: =IF((C12>0),5.5,5.5) -> 5.5 | H12: =E12+F12+G12 -> 35.86 | I12: =I11+C12 -> 4 | J12: =IF(C12>0,(K11+H12)/I12,J11) -> 24.5175 | K12: =I12*J12 -> 98.07
A13: 40399 | B13: AXA | C13: 1 | D13: 14.52 | E13: =IF(C13>0,(D13*C13),0) -> 14.52 | F13: =IF(C13<0,(D13*C13),0) -> 0 | G13: =IF((C13>0),5.5,5.5) -> 5.5 | H13: =E13+F13+G13 -> 20.02 | I13: =I12+C13 -> 5 | J13: =IF(C13>0,(K12+H13)/I13,J12) -> 23.618 | K13: =I13*J13 -> 118.09
A14: 40486 | B14: AXA | C14: 2 | D14: 13.42 | E14: =IF(C14>0,(D14*C14),0) -> 26.84 | F14: =IF(C14<0,(D14*C14),0) -> 0 | G14: =IF((C14>0),5.5,5.5) -> 5.5 | H14: =E14+F14+G14 -> 32.34 | I14: =I13+C14 -> 7 | J14: =IF(C14>0,(K13+H14)/I14,J13) -> 21.49 | K14: =I14*J14 -> 150.43
A15: 40604 | B15: AXA | C15: 2 | D15: 14.77 | E15: =IF(C15>0,(D15*C15),0) -> 29.54 | F15: =IF(C15<0,(D15*C15),0) -> 0 | G15: =IF((C15>0),5.5,5.5) -> 5.5 | H15: =E15+F15+G15 -> 35.04 | I15: =I14+C15 -> 9 | J15: =IF(C15>0,(K14+H15)/I15,J14) -> 20.607778 | K15: =I15*J15 -> 185.47
A16: 40770 | B16: AXA | C16: 1 | D16: 11.22 | E16: =IF(C16>0,(D16*C16),0) -> 11.22 | F16: =IF(C16<0,(D16*C16),0) -> 0 | G16: =IF((C16>0),5.5,5.5) -> 5.5 | H16: =E16+F16+G16 -> 16.72 | I16: =I15+C16 -> 10 | J16: =IF(C16>0,(K15+H16)/I16,J15) -> 20.219 | K16: =I16*J16 -> 202.19
A17: 39426 | B17: CAP GEMINI | C17: 1 | D17: 39.74 | E17: =IF(C17>0,(D17*C17),0) -> 39.74 | F17: =IF(C17<0,(D17*C17),0) -> 0 | G17: =IF((C17>0),5.5,5.5) -> 5.5 | H17: =E17+F17+G17 -> 45.24 | I17: =C17 -> 1 | J17: =IF(C17>0,(H17)/I17,0) -> 45.24 | K17: =I17*J17 -> 45.24
A18: 39660 | B18: CAP GEMINI | C18: 1 | D18: 40.52 | E18: =IF(C18>0,(D18*C18),0) -> 40.52 | F18: =IF(C18<0,(D18*C18),0) -> 0 | G18: =IF((C18>0),5.5,5.5) -> 5.5 | H18: =E18+F18+G18 -> 46.02 | I18: =I17+C18 -> 2 | J18: =IF(C18>0,(K17+H18)/I18,J17) -> 45.63 | K18: =I18*J18 -> 91.26
A19: 40774 | B19: CAP GEMINI | C19: 1 | D19: 26.59 | E19: =IF(C19>0,(D19*C19),0) -> 26.59 | F19: =IF(C19<0,(D19*C19),0) -> 0 | G19: =IF((C19>0),5.5,5.5) -> 5.5 | H19: =E19+F19+G19 -> 32.09 | I19: =I18+C19 -> 3 | J19: =IF(C19>0,(K18+H19)/I19,J18) -> 41.116667 | K19: =I19*J19 -> 123.35
A20: 39426 | B20: CARREFOUR | C20: 1 | D20: 53.03 | E20: =IF(C20>0,(D20*C20),0) -> 53.03 | F20: =IF(C20<0,(D20*C20),0) -> 0 | G20: =IF((C20>0),5.5,5.5) -> 5.5 | H20: =E20+F20+G20 -> 58.53 | I20: =C20 -> 1 | J20: =IF(C20>0,(H20)/I20,0) -> 58.53 | K20: =I20*J20 -> 58.53
A21: 39714 | B21: CARREFOUR | C21: 1 | D21: 32.79 | E21: =IF(C21>0,(D21*C21),0) -> 32.79 | F21: =IF(C21<0,(D21*C21),0) -> 0 | G21: =IF((C21>0),5.5,5.5) -> 5.5 | H21: =E21+F21+G21 -> 38.29 | I21: =I20+C21 -> 2 | J21: =IF(C21>0,(K20+H21)/I21,J20) -> 48.41 | K21: =I21*J21 -> 96.82
A22: 39714 | B22: CARREFOUR | C22: 1 | D22: 32.63 | E22: =IF(C22>0,(D22*C22),0) -> 32.63 | F22: =IF(C22<0,(D22*C22),0) -> 0 | G22: =IF((C22>0),5.5,5.5) -> 5.5 | H22: =E22+F22+G22 -> 38.13 | I22: =I21+C22 -> 3 | J22: =IF(C22>0,(K21+H22)/I22,J21) -> 44.983333 | K22: =I22*J22 -> 134.95
A23: 40500 | B23: CARREFOUR | C23: 1 | D23: 38.67 | E23: =IF(C23>0,(D23*C23),0) -> 38.67 | F23: =IF(C23<0,(D23*C23),0) -> 0 | G23: =IF((C23>0),5.5,5.5) -> 5.5 | H23: =E23+F23+G23 -> 44.17 | I23: =I22+C23 -> 4 | J23: =IF(C23>0,(K22+H23)/I23,J22) -> 44.78 | K23: =I23*J23 -> 179.12
A24: 40604 | B24: CARREFOUR | C24: 1 | D24: 34.99 | E24: =IF(C24>0,(D24*C24),0) -> 34.99 | F24: =IF(C24<0,(D24*C24),0) -> 0 | G24: =IF((C24>0),5.5,5.5) -> 5.5 | H24: =E24+F24+G24 -> 40.49 | I24: =I23+C24 -> 5 | J24: =IF(C24>0,(K23+H24)/I24,J23) -> 43.922 | K24: =I24*J24 -> 219.61
A25: 40770 | B25: CARREFOUR | C25: 1 | D25: 19.38 | E25: =IF(C25>0,(D25*C25),0) -> 19.38 | F25: =IF(C25<0,(D25*C25),0) -> 0 | G25: =IF((C25>0),5.5,5.5) -> 5.5 | H25: =E25+F25+G25 -> 24.88 | I25: =I24+C25 -> 6 | J25: =IF(C25>0,(K24+H25)/I25,J24) -> 40.748333 | K25: =I25*J25 -> 244.49
A26: 39426 | B26: DEXIA | C26: 1 | D26: 18.05 | E26: =IF(C26>0,(D26*C26),0) -> 18.05 | F26: =IF(C26<0,(D26*C26),0) -> 0 | G26: =IF((C26>0),5.5,5.5) -> 5.5 | H26: =E26+F26+G26 -> 23.55 | I26: =C26 -> 1 | J26: =IF(C26>0,(H26)/I26,0) -> 23.55 | K26: =I26*J26 -> 23.55
A27: 39527 | B27: DEXIA | C27: 1 | D27: 16.46 | E27: =IF(C27>0,(D27*C27),0) -> 16.46 | F27: =IF(C27<0,(D27*C27),0) -> 0 | G27: =IF((C27>0),5.5,5.5) -> 5.5 | H27: =E27+F27+G27 -> 21.96 | I27: =I26+C27 -> 2 | J27: =IF(C27>0,(K26+H27)/I27,J26) -> 22.755 | K27: =I27*J27 -> 45.51
A28: 39714 | B28: DEXIA | C28: 1 | D28: 10.28 | E28: =IF(C28>0,(D28*C28),0) -> 10.28 | F28: =IF(C28<0,(D28*C28),0) -> 0 | G28: =IF((C28>0),5.5,5.5) -> 5.5 | H28: =E28+F28+G28 -> 15.78 | I28: =I27+C28 -> 3 | J28: =IF(C28>0,(K27+H28)/I28,J27) -> 20.43 | K28: =I28*J28 -> 61.29
A29: 39785 | B29: DEXIA | C29: 1 | D29: 3.349 | E29: =IF(C29>0,(D29*C29),0) -> 3.349 | F29: =IF(C29<0,(D29*C29),0) -> 0 | G29: =IF((C29>0),5.5,5.5) -> 5.5 | H29: =E29+F29+G29 -> 8.849 | I29: =I28+C29 -> 4 | J29: =IF(C29>0,(K28+H29)/I29,J28) -> 17.53475 | K29: =I29*J29 -> 70.139
A30: 39833 | B30: DEXIA | C30: 1 | D30: 2.41 | E30: =IF(C30>0,(D30*C30),0) -> 2.41 | F30: =IF(C30<0,(D30*C30),0) -> 0 | G30: =IF((C30>0),5.5,5.5) -> 5.5 | H30: =E30+F30+G30 -> 7.91 | I30: =I29+C30 -> 5 | J30: =IF(C30>0,(K29+H30)/I30,J29) -> 15.6098 | K30: =I30*J30 -> 78.049
A31: 40081 | B31: DEXIA | C31: 1 | D31: 6.15 | E31: =IF(C31>0,(D31*C31),0) -> 6.15 | F31: =IF(C31<0,(D31*C31),0) -> 0 | G31: =IF((C31>0),5.5,5.5) -> 5.5 | H31: =E31+F31+G31 -> 11.65 | I31: =I30+C31 -> 6 | J31: =IF(C31>0,(K30+H31)/I31,J30) -> 14.949833 | K31: =I31*J31 -> 89.699
A32: 40449 | B32: DEXIA | C32: -6 | D32: 3.159 | E32: =IF(C32>0,(D32*C32),0) -> 0 | F32: =IF(C32<0,(D32*C32),0) -> -18.954 | G32: =IF((C32>0),5.5,5.5) -> 5.5 | H32: =E32+F32+G32 -> -13.454 | I32: =I31+C32 -> 0 | J32: =IF(C32>0,(K31+H32)/I32,J31) -> 14.949833 | K32: =I32*J32 -> 0
A33: 39423 | B33: ESSILOR INTL | C33: 1 | D33: 43.45 | E33: =IF(C33>0,(D33*C33),0) -> 43.45 | F33: =IF(C33<0,(D33*C33),0) -> 0 | G33: =IF((C33>0),5.5,5.5) -> 5.5 | H33: =E33+F33+G33 -> 48.95 | I33: =C33 -> 1 | J33: =IF(C33>0,(H33)/I33,0) -> 48.95 | K33: =I33*J33 -> 48.95
A34: 39717 | B34: ESSILOR INTL | C34: 1 | D34: 34.85 | E34: =IF(C34>0,(D34*C34),0) -> 34.85 | F34: =IF(C34<0,(D34*C34),0) -> 0 | G34: =IF((C34>0),5.5,5.5) -> 5.5 | H34: =E34+F34+G34 -> 40.35 | I34: =I33+C34 -> 2 | J34: =IF(C34>0,(K33+H34)/I34,J33) -> 44.65 | K34: =I34*J34 -> 89.3
A35: 40095 | B35: ESSILOR INTL | C35: 1 | D35: 40.12 | E35: =IF(C35>0,(D35*C35),0) -> 40.12 | F35: =IF(C35<0,(D35*C35),0) -> 0 | G35: =IF((C35>0),5.5,5.5) -> 5.5 | H35: =E35+F35+G35 -> 45.62 | I35: =I34+C35 -> 3 | J35: =IF(C35>0,(K34+H35)/I35,J34) -> 44.973333 | K35: =I35*J35 -> 134.92
A36: 40207 | B36: ESSILOR INTL | C36: 1 | D36: 41.91 | E36: =IF(C36>0,(D36*C36),0) -> 41.91 | F36: =IF(C36<0,(D36*C36),0) -> 0 | G36: =IF((C36>0),5.5,5.5) -> 5.5 | H36: =E36+F36+G36 -> 47.41 | I36: =I35+C36 -> 4 | J36: =IF(C36>0,(K35+H36)/I36,J35) -> 45.5825 | K36: =I36*J36 -> 182.33
A37: 40227 | B37: ESSILOR INTL | C37: 1 | D37: 44.12 | E37: =IF(C37>0,(D37*C37),0) -> 44.12 | F37: =IF(C37<0,(D37*C37),0) -> 0 | G37: =IF((C37>0),5.5,5.5) -> 5.5 | H37: =E37+F37+G37 -> 49.62 | I37: =I36+C37 -> 5 | J37: =IF(C37>0,(K36+H37)/I37,J36) -> 46.39 | K37: =I37*J37 -> 231.95
A38: 40382 | B38: ESSILOR INTL | C38: 1 | D38: 49.12 | E38: =IF(C38>0,(D38*C38),0) -> 49.12 | F38: =IF(C38<0,(D38*C38),0) -> 0 | G38: =IF((C38>0),5.5,5.5) -> 5.5 | H38: =E38+F38+G38 -> 54.62 | I38: =I37+C38 -> 6 | J38: =IF(C38>0,(K37+H38)/I38,J37) -> 47.761667 | K38: =I38*J38 -> 286.57
A39: 40662 | B39: ESSILOR INTL | C39: -3 | D39: 56.47 | E39: =IF(C39>0,(D39*C39),0) -> 0 | F39: =IF(C39<0,(D39*C39),0) -> -169.41 | G39: =IF((C39>0),5.5,5.5) -> 5.5 | H39: =E39+F39+G39 -> -163.91 | I39: =I38+C39 -> 3 | J39: =IF(C39>0,(K38+H39)/I39,J38) -> 47.761667 | K39: =I39*J39 -> 143.285
A40: 40774 | B40: ESSILOR INTL | C40: 1 | D40: 52.19 | E40: =IF(C40>0,(D40*C40),0) -> 52.19 | F40: =IF(C40<0,(D40*C40),0) -> 0 | G40: =IF((C40>0),5.5,5.5) -> 5.5 | H40: =E40+F40+G40 -> 57.69 | I40: =I39+C40 -> 4 | J40: =IF(C40>0,(K39+H40)/I40,J39) -> 50.24375 | K40: =I40*J40 -> 200.975
A41: 39423 | B41: LVMH MOET VUITTON | C41: 1 | D41: 84.71 | E41: =IF(C41>0,(D41*C41),0) -> 84.71 | F41: =IF(C41<0,(D41*C41),0) -> 0 | G41: =IF((C41>0),5.5,5.5) -> 5.5 | H41: =E41+F41+G41 -> 90.21 | I41: =C41 -> 1 | J41: =IF(C41>0,(H41)/I41,0) -> 90.21 | K41: =I41*J41 -> 90.21
A42: 39729 | B42: LVMH MOET VUITTON | C42: 1 | D42: 55.875 | E42: =IF(C42>0,(D42*C42),0) -> 55.875 | F42: =IF(C42<0,(D42*C42),0) -> 0 | G42: =IF((C42>0),5.5,5.5) -> 5.5 | H42: =E42+F42+G42 -> 61.375 | I42: =I41+C42 -> 2 | J42: =IF(C42>0,(K41+H42)/I42,J41) -> 75.7925 | K42: =I42*J42 -> 151.585
A43: 39785 | B43: LVMH MOET VUITTON | C43: 1 | D43: 42.74 | E43: =IF(C43>0,(D43*C43),0) -> 42.74 | F43: =IF(C43<0,(D43*C43),0) -> 0 | G43: =IF((C43>0),5.5,5.5) -> 5.5 | H43: =E43+F43+G43 -> 48.24 | I43: =I42+C43 -> 3 | J43: =IF(C43>0,(K42+H43)/I43,J42) -> 66.608333 | K43: =I43*J43 -> 199.825
A44: 40197 | B44: LVMH MOET VUITTON | C44: -1 | D44: 81.08 | E44: =IF(C44>0,(D44*C44),0) -> 0 | F44: =IF(C44<0,(D44*C44),0) -> -81.08 | G44: =IF((C44>0),5.5,5.5) -> 5.5 | H44: =E44+F44+G44 -> -75.58 | I44: =I43+C44 -> 2 | J44: =IF(C44>0,(K43+H44)/I44,J43) -> 66.608333 | K44: =I44*J44 -> 133.21667
A45: 40287 | B45: LVMH MOET VUITTON | C45: 1 | D45: 86.71 | E45: =IF(C45>0,(D45*C45),0) -> 86.71 | F45: =IF(C45<0,(D45*C45),0) -> 0 | G45: =IF((C45>0),5.5,5.5) -> 5.5 | H45: =E45+F45+G45 -> 92.21 | I45: =I44+C45 -> 3 | J45: =IF(C45>0,(K44+H45)/I45,J44) -> 75.142222 | K45: =I45*J45 -> 225.42667
A46: 40604 | B46: LVMH MOET VUITTON | C46: -1 | D46: 113.25 | E46: =IF(C46>0,(D46*C46),0) -> 0 | F46: =IF(C46<0,(D46*C46),0) -> -113.25 | G46: =IF((C46>0),5.5,5.5) -> 5.5 | H46: =E46+F46+G46 -> -107.75 | I46: =I45+C46 -> 2 | J46: =IF(C46>0,(K45+H46)/I46,J45) -> 75.142222 | K46: =I46*J46 -> 150.28444
A47: 40662 | B47: LVMH MOET VUITTON | C47: -1 | D47: 120.95 | E47: =IF(C47>0,(D47*C47),0) -> 0 | F47: =IF(C47<0,(D47*C47),0) -> -120.95 | G47: =IF((C47>0),5.5,5.5) -> 5.5 | H47: =E47+F47+G47 -> -115.45 | I47: =I46+C47 -> 1 | J47: =IF(C47>0,(K46+H47)/I47,J46) -> 75.142222 | K47: =I47*J47 -> 75.142222
A48: 40774 | B48: LVMH MOET VUITTON | C48: 1 | D48: 107.7 | E48: =IF(C48>0,(D48*C48),0) -> 107.7 | F48: =IF(C48<0,(D48*C48),0) -> 0 | G48: =IF((C48>0),5.5,5.5) -> 5.5 | H48: =E48+F48+G48 -> 113.2 | I48: =I47+C48 -> 2 | J48: =IF(C48>0,(K47+H48)/I48,J47) -> 94.171111 | K48: =I48*J48 -> 188.34222
A49: 39426 | B49: OREAL | C49: 1 | D49: 95.86 | E49: =IF(C49>0,(D49*C49),0) -> 95.86 | F49: =IF(C49<0,(D49*C49),0) -> 0 | G49: =IF((C49>0),5.5,5.5) -> 5.5 | H49: =E49+F49+G49 -> 101.36 | I49: =C49 -> 1 | J49: =IF(C49>0,(H49)/I49,0) -> 101.36 | K49: =I49*J49 -> 101.36
A50: 39685 | B50: OREAL | C50: 1 | D50: 68.6 | E50: =IF(C50>0,(D50*C50),0) -> 68.6 | F50: =IF(C50<0,(D50*C50),0) -> 0 | G50: =IF((C50>0),5.5,5.5) -> 5.5 | H50: =E50+F50+G50 -> 74.1 | I50: =I49+C50 -> 2 | J50: =IF(C50>0,(K49+H50)/I50,J49) -> 87.73 | K50: =I50*J50 -> 175.46
A51: 40434 | B51: OREAL | C51: 1 | D51: 83.73 | E51: =IF(C51>0,(D51*C51),0) -> 83.73 | F51: =IF(C51<0,(D51*C51),0) -> 0 | G51: =IF((C51>0),5.5,5.5) -> 5.5 | H51: =E51+F51+G51 -> 89.23 | I51: =I50+C51 -> 3 | J51: =IF(C51>0,(K50+H51)/I51,J50) -> 88.23 | K51: =I51*J51 -> 264.69
A52: 40465 | B52: OREAL | C52: 1 | D52: 83.66 | E52: =IF(C52>0,(D52*C52),0) -> 83.66 | F52: =IF(C52<0,(D52*C52),0) -> 0 | G52: =IF((C52>0),5.5,5.5) -> 5.5 | H52: =E52+F52+G52 -> 89.16 | I52: =I51+C52 -> 4 | J52: =IF(C52>0,(K51+H52)/I52,J51) -> 88.4625 | K52: =I52*J52 -> 353.85
A53: 40570 | B53: OREAL | C53: 1 | D53: 85.35 | E53: =IF(C53>0,(D53*C53),0) -> 85.35 | F53: =IF(C53<0,(D53*C53),0) -> 0 | G53: =IF((C53>0),5.5,5.5) -> 5.5 | H53: =E53+F53+G53 -> 90.85 | I53: =I52+C53 -> 5 | J53: =IF(C53>0,(K52+H53)/I53,J52) -> 88.94 | K53: =I53*J53 -> 444.7
A54: 40679 | B54: OREAL | C54: 1 | D54: 85.25 | E54: =IF(C54>0,(D54*C54),0) -> 85.25 | F54: =IF(C54<0,(D54*C54),0) -> 0 | G54: =IF((C54>0),5.5,5.5) -> 5.5 | H54: =E54+F54+G54 -> 90.75 | I54: =I53+C54 -> 6 | J54: =IF(C54>0,(K53+H54)/I54,J53) -> 89.241667 | K54: =I54*J54 -> 535.45
A55: 39426 | B55: PERNOD RICARD | C55: 2 | D55: 75.65 | E55: =IF(C55>0,(D55*C55),0) -> 151.3 | F55: =IF(C55<0,(D55*C55),0) -> 0 | G55: =IF((C55>0),5.5,5.5) -> 5.5 | H55: =E55+F55+G55 -> 156.8 | I55: =C55 -> 2 | J55: =IF(C55>0,(H55)/I55,0) -> 78.4 | K55: =I55*J55 -> 156.8
A56: 40277 | B56: PERNOD RICARD | C56: -2 | D56: 64.97 | E56: =IF(C56>0,(D56*C56),0) -> 0 | F56: =IF(C56<0,(D56*C56),0) -> -129.94 | G56: =IF((C56>0),5.5,5.5) -> 5.5 | H56: =E56+F56+G56 -> -124.44 | I56: =I55+C56 -> 0 | J56: =IF(C56>0,(K55+H56)/I56,J55) -> 78.4 | K56: =I56*J56 -> 0
A57: 39463 | B57: PPR | C57: 1 | D57: 88.4 | E57: =IF(C57>0,(D57*C57),0) -> 88.4 | F57: =IF(C57<0,(D57*C57),0) -> 0 | G57: =IF((C57>0),5.5,5.5) -> 5.5 | H57: =E57+F57+G57 -> 93.9 | I57: =C57 -> 1 | J57: =IF(C57>0,(H57)/I57,0) -> 93.9 | K57: =I57*J57 -> 93.9
A58: 39729 | B58: PPR | C58: 1 | D58: 52.585 | E58: =IF(C58>0,(D58*C58),0) -> 52.585 | F58: =IF(C58<0,(D58*C58),0) -> 0 | G58: =IF((C58>0),5.5,5.5) -> 5.5 | H58: =E58+F58+G58 -> 58.085 | I58: =I57+C58 -> 2 | J58: =IF(C58>0,(K57+H58)/I58,J57) -> 75.9925 | K58: =I58*J58 -> 151.985
A59: 40197 | B59: PPR | C59: -1 | D59: 90.17 | E59: =IF(C59>0,(D59*C59),0) -> 0 | F59: =IF(C59<0,(D59*C59),0) -> -90.17 | G59: =IF((C59>0),5.5,5.5) -> 5.5 | H59: =E59+F59+G59 -> -84.67 | I59: =I58+C59 -> 1 | J59: =IF(C59>0,(K58+H59)/C59,J58) -> 75.9925 | K59: =I59*J59 -> 75.9925
A60: 40234 | B60: PPR | C60: 1 | D60: 82.56 | E60: =IF(C60>0,(D60*C60),0) -> 82.56 | F60: =IF(C60<0,(D60*C60),0) -> 0 | G60: =IF((C60>0),5.5,5.5) -> 5.5 | H60: =E60+F60+G60 -> 88.06 | I60: =I59+C60 -> 2 | J60: =IF(C60>0,(K59+H60)/C60,J59) -> 164.0525 | K60: =I60*J60 -> 328.105
A61: 40277 | B61: PPR | C61: -2 | D61: 104.05 | E61: =IF(C61>0,(D61*C61),0) -> 0 | F61: =IF(C61<0,(D61*C61),0) -> -208.1 | G61: =IF((C61>0),5.5,5.5) -> 5.5 | H61: =E61+F61+G61 -> -202.6 | I61: =I60+C61 -> 0 | J61: =IF(C61>0,(K60+H61)/C61,J60) -> 164.0525 | K61: =I61*J61 -> 0
A62: 39423 | B62: SOCIETE GENERALE | C62: 1 | D62: 107.28 | E62: =IF(C62>0,(D62*C62),0) -> 107.28 | F62: =IF(C62<0,(D62*C62),0) -> 0 | G62: =IF((C62>0),5.5,5.5) -> 5.5 | H62: =E62+F62+G62 -> 112.78 | I62: =C62 -> 1 | J62: =IF(C62>0,(H62)/I62,0) -> 112.78 | K62: =I62*J62 -> 112.78
A63: 39729 | B63: SOCIETE GENERALE | C63: 1 | D63: 59.6 | E63: =IF(C63>0,(D63*C63),0) -> 59.6 | F63: =IF(C63<0,(D63*C63),0) -> 0 | G63: =IF((C63>0),5.5,5.5) -> 5.5 | H63: =E63+F63+G63 -> 65.1 | I63: =I62+C63 -> 2 | J63: =IF(C63>0,(K62+H63)/I63,J62) -> 88.94 | K63: =I63*J63 -> 177.88
A64: 39833 | B64: SOCIETE GENERALE | C64: 1 | D64: 27.2 | E64: =IF(C64>0,(D64*C64),0) -> 27.2 | F64: =IF(C64<0,(D64*C64),0) -> 0 | G64: =IF((C64>0),5.5,5.5) -> 5.5 | H64: =E64+F64+G64 -> 32.7 | I64: =I63+C64 -> 3 | J64: =IF(C64>0,(K63+H64)/I64,J63) -> 70.193333 | K64: =I64*J64 -> 210.58
A65: 40486 | B65: SOCIETE GENERALE | C65: 2 | D65: 44.85 | E65: =IF(C65>0,(D65*C65),0) -> 89.7 | F65: =IF(C65<0,(D65*C65),0) -> 0 | G65: =IF((C65>0),5.5,5.5) -> 5.5 | H65: =E65+F65+G65 -> 95.2 | I65: =I64+C65 -> 5 | J65: =IF(C65>0,(K64+H65)/I65,J64) -> 61.156 | K65: =I65*J65 -> 305.78
A66: 40581 | B66: SOCIETE GENERALE | C66: 2 | D66: 48.08 | E66: =IF(C66>0,(D66*C66),0) -> 96.16 | F66: =IF(C66<0,(D66*C66),0) -> 0 | G66: =IF((C66>0),5.5,5.5) -> 5.5 | H66: =E66+F66+G66 -> 101.66 | I66: =I65+C66 -> 7 | J66: =IF(C66>0,(K65+H66)/I66,J65) -> 58.205714 | K66: =I66*J66 -> 407.44
A67: 40714 | B67: SOCIETE GENERALE | C67: 1 | D67: 38.25 | E67: =IF(C67>0,(D67*C67),0) -> 38.25 | F67: =IF(C67<0,(D67*C67),0) -> 0 | G67: =IF((C67>0),5.5,5.5) -> 5.5 | H67: =E67+F67+G67 -> 43.75 | I67: =I66+C67 -> 8 | J67: =IF(C67>0,(K66+H67)/I67,J66) -> 56.39875 | K67: =I67*J67 -> 451.19
A68: 40770 | B68: SOCIETE GENERALE | C68: 2 | D68: 24.29 | E68: =IF(C68>0,(D68*C68),0) -> 48.58 | F68: =IF(C68<0,(D68*C68),0) -> 0 | G68: =IF((C68>0),5.5,5.5) -> 5.5 | H68: =E68+F68+G68 -> 54.08 | I68: =I67+C68 -> 10 | J68: =IF(C68>0,(K67+H68)/I68,J67) -> 50.527 | K68: =I68*J68 -> 505.27
A69: 39423 | B69: ST MICROELECTRONICS | C69: 1 | D69: 10.72 | E69: =IF(C69>0,(D69*C69),0) -> 10.72 | F69: =IF(C69<0,(D69*C69),0) -> 0 | G69: =IF((C69>0),5.5,5.5) -> 5.5 | H69: =E69+F69+G69 -> 16.22 | I69: =C69 -> 1 | J69: =IF(C69>0,(H69)/I69,0) -> 16.22 | K69: =I69*J69 -> 16.22
A70: 39567 | B70: ST MICROELECTRONICS | C70: 1 | D70: 7.67 | E70: =IF(C70>0,(D70*C70),0) -> 7.67 | F70: =IF(C70<0,(D70*C70),0) -> 0 | G70: =IF((C70>0),5.5,5.5) -> 5.5 | H70: =E70+F70+G70 -> 13.17 | I70: =I69+C70 -> 2 | J70: =IF(C70>0,(K69+H70)/I70,J69) -> 14.695 | K70: =I70*J70 -> 29.39
A71: 39714 | B71: ST MICROELECTRONICS | C71: 1 | D71: 7.63 | E71: =IF(C71>0,(D71*C71),0) -> 7.63 | F71: =IF(C71<0,(D71*C71),0) -> 0 | G71: =IF((C71>0),5.5,5.5) -> 5.5 | H71: =E71+F71+G71 -> 13.13 | I71: =I70+C71 -> 3 | J71: =IF(C71>0,(K70+H71)/I71,J70) -> 14.173333 | K71: =I71*J71 -> 42.52
A72: 40081 | B72: ST MICROELECTRONICS | C72: 1 | D72: 6.38 | E72: =IF(C72>0,(D72*C72),0) -> 6.38 | F72: =IF(C72<0,(D72*C72),0) -> 0 | G72: =IF((C72>0),5.5,5.5) -> 5.5 | H72: =E72+F72+G72 -> 11.88 | I72: =I71+C72 -> 4 | J72: =IF(C72>0,(K71+H72)/I72,J71) -> 13.6 | K72: =I72*J72 -> 54.4
A73: 40744 | B73: ST MICROELECTRONICS | C73: 4 | D73: 6.35 | E73: =IF(C73>0,(D73*C73),0) -> 25.4 | F73: =IF(C73<0,(D73*C73),0) -> 0 | G73: =IF((C73>0),5.5,5.5) -> 5.5 | H73: =E73+F73+G73 -> 30.9 | I73: =I72+C73 -> 8 | J73: =IF(C73>0,(K72+H73)/I73,J72) -> 10.6625 | K73: =I73*J73 -> 85.3
A74: 40770 | B74: ST MICROELECTRONICS | C74: 1 | D74: 4.82 | E74: =IF(C74>0,(D74*C74),0) -> 4.82 | F74: =IF(C74<0,(D74*C74),0) -> 0 | G74: =IF((C74>0),5.5,5.5) -> 5.5 | H74: =E74+F74+G74 -> 10.32 | I74: =I73+C74 -> 9 | J74: =IF(C74>0,(K73+H74)/I74,J73) -> 10.624444 | K74: =I74*J74 -> 95.62
A75: 39429 | B75: VINCI | C75: 1 | D75: 55.36 | E75: =IF(C75>0,(D75*C75),0) -> 55.36 | F75: =IF(C75<0,(D75*C75),0) -> 0 | G75: =IF((C75>0),5.5,5.5) -> 5.5 | H75: =E75+F75+G75 -> 60.86 | I75: =C75 -> 1 | J75: =IF(C75>0,(H75)/I75,0) -> 60.86 | K75: =I75*J75 -> 60.86
A76: 39714 | B76: VINCI | C76: 1 | D76: 33.41 | E76: =IF(C76>0,(D76*C76),0) -> 33.41 | F76: =IF(C76<0,(D76*C76),0) -> 0 | G76: =IF((C76>0),5.5,5.5) -> 5.5 | H76: =E76+F76+G76 -> 38.91 | I76: =I75+C76 -> 2 | J76: =IF(C76>0,(K75+H76)/I76,J75) -> 49.885 | K76: =I76*J76 -> 99.77
A77: 39994 | B77: VINCI | C77: 1 | D77: 32.7 | E77: =IF(C77>0,(D77*C77),0) -> 32.7 | F77: =IF(C77<0,(D77*C77),0) -> 0 | G77: =IF((C77>0),5.5,5.5) -> 5.5 | H77: =E77+F77+G77 -> 38.2 | I77: =I76+C77 -> 3 | J77: =IF(C77>0,(K76+H77)/I77,J76) -> 45.99 | K77: =I77*J77 -> 137.97
A78: 40095 | B78: VINCI | C78: 1 | D78: 39.25 | E78: =IF(C78>0,(D78*C78),0) -> 39.25 | F78: =IF(C78<0,(D78*C78),0) -> 0 | G78: =IF((C78>0),5.5,5.5) -> 5.5 | H78: =E78+F78+G78 -> 44.75 | I78: =I77+C78 -> 4 | J78: =IF(C78>0,(K77+H78)/I78,J77) -> 45.68 | K78: =I78*J78 -> 182.72
A79: 40228 | B79: VINCI | C79: 1 | D79: 38.61 | E79: =IF(C79>0,(D79*C79),0) -> 38.61 | F79: =IF(C79<0,(D79*C79),0) -> 0 | G79: =IF((C79>0),5.5,5.5) -> 5.5 | H79: =E79+F79+G79 -> 44.11 | I79: =I78+C79 -> 5 | J79: =IF(C79>0,(K78+H79)/I79,J78) -> 45.366 | K79: =I79*J79 -> 226.83
A80: 40277 | B80: VINCI | C80: 5 | D80: 44.6 | E80: =IF(C80>0,(D80*C80),0) -> 223 | F80: =IF(C80<0,(D80*C80),0) -> 0 | G80: =IF((C80>0),5.5,5.5) -> 5.5 | H80: =E80+F80+G80 -> 228.5 | I80: =I79+C80 -> 10 | J80: =IF(C80>0,(K79+H80)/I80,J79) -> 45.533 | K80: =I80*J80 -> 455.33
A81: 40297 | B81: VINCI | C81: 2 | D81: 41.98 | E81: =IF(C81>0,(D81*C81),0) -> 83.96 | F81: =IF(C81<0,(D81*C81),0) -> 0 | G81: =IF((C81>0),5.5,5.5) -> 5.5 | H81: =E81+F81+G81 -> 89.46 | I81: =I80+C81 -> 12 | J81: =IF(C81>0,(K80+H81)/I81,J80) -> 45.399167 | K81: =I81*J81 -> 544.79
A82: 40581 | B82: VINCI | C82: 1 | D82: 42.98 | E82: =IF(C82>0,(D82*C82),0) -> 42.98 | F82: =IF(C82<0,(D82*C82),0) -> 0 | G82: =IF((C82>0),5.5,5.5) -> 5.5 | H82: =E82+F82+G82 -> 48.48 | I82: =I81+C82 -> 13 | J82: =IF(C82>0,(K81+H82)/I82,J81) -> 45.636154 | K82: =I82*J82 -> 593.27
A83: 40667 | B83: VINCI | C83: 1 | D83: 44.62 | E83: =IF(C83>0,(D83*C83),0) -> 44.62 | F83: =IF(C83<0,(D83*C83),0) -> 0 | G83: =IF((C83>0),5.5,5.5) -> 5.5 | H83: =E83+F83+G83 -> 50.12 | I83: =I82+C83 -> 14 | J83: =IF(C83>0,(K82+H83)/I83,J82) -> 45.956429 | K83: =I83*J83 -> 643.39
A84: 40771 | B84: VINCI | C84: 1 | D84: 35.12 | E84: =IF(C84>0,(D84*C84),0) -> 35.12 | F84: =IF(C84<0,(D84*C84),0) -> 0 | G84: =IF((C84>0),5.5,5.5) -> 5.5 | H84: =E84+F84+G84 -> 40.62 | I84: =I83+C84 -> 15 | J84: =IF(C84>0,(K83+H84)/I84,J83) -> 45.600667 | K84: =I84*J84 -> 684.01
A85: 39426 | B85: VIVENDI | C85: 1 | D85: 32.11 | E85: =IF(C85>0,(D85*C85),0) -> 32.11 | F85: =IF(C85<0,(D85*C85),0) -> 0 | G85: =IF((C85>0),5.5,5.5) -> 5.5 | H85: =E85+F85+G85 -> 37.61 | I85: =C85 -> 1 | J85: =IF(C85>0,(H85)/I85,0) -> 37.61 | K85: =I85*J85 -> 37.61
A86: 39622 | B86: VIVENDI | C86: 1 | D86: 24.6 | E86: =IF(C86>0,(D86*C86),0) -> 24.6 | F86: =IF(C86<0,(D86*C86),0) -> 0 | G86: =IF((C86>0),5.5,5.5) -> 5.5 | H86: =E86+F86+G86 -> 30.1 | I86: =I85+C86 -> 2 | J86: =IF(C86>0,(K85+H86)/I86,J85) -> 33.855 | K86: =I86*J86 -> 67.71
A87: 39714 | B87: VIVENDI | C87: 1 | D87: 23.02 | E87: =IF(C87>0,(D87*C87),0) -> 23.02 | F87: =IF(C87<0,(D87*C87),0) -> 0 | G87: =IF((C87>0),5.5,5.5) -> 5.5 | H87: =E87+F87+G87 -> 28.52 | I87: =I86+C87 -> 3 | J87: =IF(C87>0,(K86+H87)/I87,J86) -> 32.076667 | K87: =I87*J87 -> 96.23
A88: 40228 | B88: VIVENDI | C88: 1 | D88: 18.41 | E88: =IF(C88>0,(D88*C88),0) -> 18.41 | F88: =IF(C88<0,(D88*C88),0) -> 0 | G88: =IF((C88>0),5.5,5.5) -> 5.5 | H88: =E88+F88+G88 -> 23.91 | I88: =I87+C88 -> 4 | J88: =IF(C88>0,(K87+H88)/I88,J87) -> 30.035 | K88: =I88*J88 -> 120.14
A89: 40504 | B89: VIVENDI | C89: 3 | D89: 20.4 | E89: =IF(C89>0,(D89*C89),0) -> 61.2 | F89: =IF(C89<0,(D89*C89),0) -> 0 | G89: =IF((C89>0),5.5,5.5) -> 5.5 | H89: =E89+F89+G89 -> 66.7 | I89: =I88+C89 -> 7 | J89: =IF(C89>0,(K88+H89)/I89,J88) -> 26.691429 | K89: =I89*J89 -> 186.84
A90: 40604 | B90: VIVENDI | C90: 1 | D90: 20.17 | E90: =IF(C90>0,(D90*C90),0) -> 20.17 | F90: =IF(C90<0,(D90*C90),0) -> 0 | G90: =IF((C90>0),5.5,5.5) -> 5.5 | H90: =E90+F90+G90 -> 25.67 | I90: =I89+C90 -> 8 | J90: =IF(C90>0,(K89+H90)/I90,J89) -> 26.56375 | K90: =I90*J90 -> 212.51

Sheet p revient
C2: achat | I2: vente
C3: =SUM(C5:C100) -> 96 | D3: =SUM(D5:D100) -> 627.16836 | E3: =SUM(E5:E100) -> 3615.459 | F3: =SUM(F5:F100) -> 528 | G3: =SUM(G5:G100) -> 4143.459 | I3: =SUM(I5:I100) -> -23 | J3: =SUM(J5:J100) -> 365.57567 | K3: =SUM(K5:K100) -> -1041.234 | L3: =SUM(L5:L100) -> 126.5 | M3: =SUM(M5:M100) -> -914.734 | O3: =SUM(O5:O100) -> 73 | Q3: =SUM(Q5:Q100) -> 2992.1922
C4: quantité | D4: cours | E4: achat | F4: frais | G4: cours + frais | I4: quantité | J4: cours | K4: vente | L4: frais | M4: cours + frais | O4: quantité | P4: Prix de revient | Q4: portefeuille selon prix de revient
B5: AIR FRANCE-KLM | C5: =SUMIFS('saisie achats'!C:C,'saisie achats'!C:C,">0",'saisie achats'!B:B,B5) -> 3 | D5: =(SUMIFS('saisie achats'!E:E,'saisie achats'!C:C,">0",'saisie achats'!B:B,B5))/C5 -> 17.28 | E5: =D5*C5 -> 51.84 | F5: =IF((0<C5>0),(5.5*C5),0) -> 16.5 | G5: =E5+F5 -> 68.34 | I5: =SUMIFS('saisie achats'!C:C,'saisie achats'!C:C,"<0",'saisie achats'!B:B,B5) -> -3 | J5: =IF(I5=0,0,(SUMIFS('saisie achats'!F:F,'saisie achats'!C:C,"<0",'saisie achats'!B:B,B5))/I5) -> 11.98 | K5: =J5*I5 -> -35.94 | L5: =IF((0<I5>0),(-5.5*I5),0) -> 16.5 | M5: =K5+L5 -> -19.44 | O5: =C5+I5 -> 0 | P5: 22.78 | Q5: =P5*O5 -> 0 | S5: =MATCH(B5,'saisie achats'!B:B) -> 5 | T5: =INDEX('saisie achats'!A:K,S5,10) -> 22.78
B6: ARCELOR MITTAL | C6: =SUMIFS('saisie achats'!C:C,'saisie achats'!C:C,">0",'saisie achats'!B:B,B6) -> 3 | D6: =(SUMIFS('saisie achats'!E:E,'saisie achats'!C:C,">0",'saisie achats'!B:B,B6))/C6 -> 42.063333 | E6: =D6*C6 -> 126.19 | F6: =IF((0<C6>0),(5.5*C6),0) -> 16.5 | G6: =E6+F6 -> 142.69 | I6: =SUMIFS('saisie achats'!C:C,'saisie achats'!C:C,"<0",'saisie achats'!B:B,B6) -> -3 | J6: =IF(I6=0,0,(SUMIFS('saisie achats'!F:F,'saisie achats'!C:C,"<0",'saisie achats'!B:B,B6))/I6) -> 24.48 | K6: =J6*I6 -> -73.44 | L6: =IF((0<I6>0),(-5.5*I6),0) -> 16.5 | M6: =K6+L6 -> -56.94 | O6: =C6+I6 -> 0 | P6: 47.563333 | Q6: =P6*O6 -> 0 | S6: =MATCH(B6,'saisie achats'!B:B) -> 9 | T6: =INDEX('saisie achats'!A:K,S6,10) -> 47.563333
B7: AXA | C7: =SUMIFS('saisie achats'!C:C,'saisie achats'!C:C,">0",'saisie achats'!B:B,B7) -> 10 | D7: =(SUMIFS('saisie achats'!E:E,'saisie achats'!C:C,">0",'saisie achats'!B:B,B7))/C7 -> 16.369 | E7: =D7*C7 -> 163.69 | F7: =IF((0<C7>0),(5.5*C7),0) -> 55 | G7: =E7+F7 -> 218.69 | I7: =SUMIFS('saisie achats'!C:C,'saisie achats'!C:C,"<0",'saisie achats'!B:B,B7) -> 0 | J7: =IF(I7=0,0,(SUMIFS('saisie achats'!F:F,'saisie achats'!C:C,"<0",'saisie achats'!B:B,B7))/I7) -> 0 | K7: =J7*I7 -> 0 | L7: =IF((0<I7>0),(-5.5*I7),0) -> 0 | M7: =K7+L7 -> 0 | O7: =C7+I7 -> 10 | P7: 20.22 | Q7: =P7*O7 -> 202.2 | S7: =MATCH(B7,'saisie achats'!B:B) -> 16 | T7: =INDEX('saisie achats'!A:K,S7,10) -> 20.219
B8: CAP GEMINI | C8: =SUMIFS('saisie achats'!C:C,'saisie achats'!C:C,">0",'saisie achats'!B:B,B8) -> 3 | D8: =(SUMIFS('saisie achats'!E:E,'saisie achats'!C:C,">0",'saisie achats'!B:B,B8))/C8 -> 35.616667 | E8: =D8*C8 -> 106.85 | F8: =IF((0<C8>0),(5.5*C8),0) -> 16.5 | G8: =E8+F8 -> 123.35 | I8: =SUMIFS('saisie achats'!C:C,'saisie achats'!C:C,"<0",'saisie achats'!B:B,B8) -> 0 | J8: =IF(I8=0,0,(SUMIFS('saisie achats'!F:F,'saisie achats'!C:C,"<0",'saisie achats'!B:B,B8))/I8) -> 0 | K8: =J8*I8 -> 0 | L8: =IF((0<I8>0),(-5.5*I8),0) -> 0 | M8: =K8+L8 -> 0 | O8: =C8+I8 -> 3 | P8: 41.12 | Q8: =P8*O8 -> 123.36 | S8: =MATCH(B8,'saisie achats'!B:B) -> 19 | T8: =INDEX('saisie achats'!A:K,S8,10) -> 41.116667
B9: CARREFOUR | C9: =SUMIFS('saisie achats'!C:C,'saisie achats'!C:C,">0",'saisie achats'!B:B,B9) -> 6 | D9: =(SUMIFS('saisie achats'!E:E,'saisie achats'!C:C,">0",'saisie achats'!B:B,B9))/C9 -> 35.248333 | E9: =D9*C9 -> 211.49 | F9: =IF((0<C9>0),(5.5*C9),0) -> 33 | G9: =E9+F9 -> 244.49 | I9: =SUMIFS('saisie achats'!C:C,'saisie achats'!C:C,"<0",'saisie achats'!B:B,B9) -> 0 | J9: =IF(I9=0,0,(SUMIFS('saisie achats'!F:F,'saisie achats'!C:C,"<0",'saisie achats'!B:B,B9))/I9) -> 0 | K9: =J9*I9 -> 0 | L9: =IF((0<I9>0),(-5.5*I9),0) -> 0 | M9: =K9+L9 -> 0 | O9: =C9+I9 -> 6 | P9: 40.75 | Q9: =P9*O9 -> 244.5 | S9: =MATCH(B9,'saisie achats'!B:B) -> 25 | T9: =INDEX('saisie achats'!A:K,S9,10) -> 40.748333
B10: DEXIA | C10: =SUMIFS('saisie achats'!C:C,'saisie achats'!C:C,">0",'saisie achats'!B:B,B10) -> 6 | D10: =(SUMIFS('saisie achats'!E:E,'saisie achats'!C:C,">0",'saisie achats'!B:B,B10))/C10 -> 9.4498333 | E10: =D10*C10 -> 56.699 | F10: =IF((0<C10>0),(5.5*C10),0) -> 33 | G10: =E10+F10 -> 89.699 | I10: =SUMIFS('saisie achats'!C:C,'saisie achats'!C:C,"<0",'saisie achats'!B:B,B10) -> -6 | J10: =IF(I10=0,0,(SUMIFS('saisie achats'!F:F,'saisie achats'!C:C,"<0",'saisie achats'!B:B,B10))/I10) -> 3.159 | K10: =J10*I10 -> -18.954 | L10: =IF((0<I10>0),(-5.5*I10),0) -> 33 | M10: =K10+L10 -> 14.046 | O10: =C10+I10 -> 0 | P10: 14.949833 | Q10: =P10*O10 -> 0 | S10: =MATCH(B10,'saisie achats'!B:B) -> 32 | T10: =INDEX('saisie achats'!A:K,S10,10) -> 14.949833
B11: ESSILOR INTL | C11: =SUMIFS('saisie achats'!C:C,'saisie achats'!C:C,">0",'saisie achats'!B:B,B11) -> 7 | D11: =(SUMIFS('saisie achats'!E:E,'saisie achats'!C:C,">0",'saisie achats'!B:B,B11))/C11 -> 43.68 | E11: =D11*C11 -> 305.76 | F11: =IF((0<C11>0),(5.5*C11),0) -> 38.5 | G11: =E11+F11 -> 344.26 | I11: =SUMIFS('saisie achats'!C:C,'saisie achats'!C:C,"<0",'saisie achats'!B:B,B11) -> -3 | J11: =IF(I11=0,0,(SUMIFS('saisie achats'!F:F,'saisie achats'!C:C,"<0",'saisie achats'!B:B,B11))/I11) -> 56.47 | K11: =J11*I11 -> -169.41 | L11: =IF((0<I11>0),(-5.5*I11),0) -> 16.5 | M11: =K11+L11 -> -152.91 | O11: =C11+I11 -> 4 | P11: 50.24 | Q11: =P11*O11 -> 200.96 | S11: =MATCH(B11,'saisie achats'!B:B) -> 40 | T11: =INDEX('saisie achats'!A:K,S11,10) -> 50.24375
B12: LVMH MOET VUITTON | C12: =SUMIFS('saisie achats'!C:C,'saisie achats'!C:C,">0",'saisie achats'!B:B,B12) -> 5 | D12: =(SUMIFS('saisie achats'!E:E,'saisie achats'!C:C,">0",'saisie achats'!B:B,B12))/C12 -> 75.547 | E12: =D12*C12 -> 377.735 | F12: =IF((0<C12>0),(5.5*C12),0) -> 27.5 | G12: =E12+F12 -> 405.235 | I12: =SUMIFS('saisie achats'!C:C,'saisie achats'!C:C,"<0",'saisie achats'!B:B,B12) -> -3 | J12: =IF(I12=0,0,(SUMIFS('saisie achats'!F:F,'saisie achats'!C:C,"<0",'saisie achats'!B:B,B12))/I12) -> 105.09333 | K12: =J12*I12 -> -315.28 | L12: =IF((0<I12>0),(-5.5*I12),0) -> 16.5 | M12: =K12+L12 -> -298.78 | O12: =C12+I12 -> 2 | P12: 94.171111 | Q12: =P12*O12 -> 188.34222 | S12: =MATCH(B12,'saisie achats'!B:B) -> 48 | T12: =INDEX('saisie achats'!A:K,S12,10) -> 94.171111
B13: OREAL | C13: =SUMIFS('saisie achats'!C:C,'saisie achats'!C:C,">0",'saisie achats'!B:B,B13) -> 6 | D13: =(SUMIFS('saisie achats'!E:E,'saisie achats'!C:C,">0",'saisie achats'!B:B,B13))/C13 -> 83.741667 | E13: =D13*C13 -> 502.45 | F13: =IF((0<C13>0),(5.5*C13),0) -> 33 | G13: =E13+F13 -> 535.45 | I13: =SUMIFS('saisie achats'!C:C,'saisie achats'!C:C,"<0",'saisie achats'!B:B,B13) -> 0 | J13: =IF(I13=0,0,(SUMIFS('saisie achats'!F:F,'saisie achats'!C:C,"<0",'saisie achats'!B:B,B13))/I13) -> 0 | K13: =J13*I13 -> 0 | L13: =IF((0<I13>0),(-5.5*I13),0) -> 0 | M13: =K13+L13 -> 0 | O13: =C13+I13 -> 6 | P13: 89.24 | Q13: =P13*O13 -> 535.44 | S13: =MATCH(B13,'saisie achats'!B:B) -> 54 | T13: =INDEX('saisie achats'!A:K,S13,10) -> 89.241667
B14: PERNOD RICARD | C14: =SUMIFS('saisie achats'!C:C,'saisie achats'!C:C,">0",'saisie achats'!B:B,B14) -> 2 | D14: =(SUMIFS('saisie achats'!E:E,'saisie achats'!C:C,">0",'saisie achats'!B:B,B14))/C14 -> 75.65 | E14: =D14*C14 -> 151.3 | F14: =IF((0<C14>0),(5.5*C14),0) -> 11 | G14: =E14+F14 -> 162.3 | I14: =SUMIFS('saisie achats'!C:C,'saisie achats'!C:C,"<0",'saisie achats'!B:B,B14) -> -2 | J14: =IF(I14=0,0,(SUMIFS('saisie achats'!F:F,'saisie achats'!C:C,"<0",'saisie achats'!B:B,B14))/I14) -> 64.97 | K14: =J14*I14 -> -129.94 | L14: =IF((0<I14>0),(-5.5*I14),0) -> 11 | M14: =K14+L14 -> -118.94 | O14: =C14+I14 -> 0 | P14: 78.4 | Q14: =P14*O14 -> 0 | S14: =MATCH(B14,'saisie achats'!B:B) -> 56 | T14: =INDEX('saisie achats'!A:K,S14,10) -> 78.4
B15: PPR | C15: =SUMIFS('saisie achats'!C:C,'saisie achats'!C:C,">0",'saisie achats'!B:B,B15) -> 3 | D15: =(SUMIFS('saisie achats'!E:E,'saisie achats'!C:C,">0",'saisie achats'!B:B,B15))/C15 -> 74.515 | E15: =D15*C15 -> 223.545 | F15: =IF((0<C15>0),(5.5*C15),0) -> 16.5 | G15: =E15+F15 -> 240.045 | I15: =SUMIFS('saisie achats'!C:C,'saisie achats'!C:C,"<0",'saisie achats'!B:B,B15) -> -3 | J15: =IF(I15=0,0,(SUMIFS('saisie achats'!F:F,'saisie achats'!C:C,"<0",'saisie achats'!B:B,B15))/I15) -> 99.423333 | K15: =J15*I15 -> -298.27 | L15: =IF((0<I15>0),(-5.5*I15),0) -> 16.5 | M15: =K15+L15 -> -281.77 | O15: =C15+I15 -> 0 | P15: 164.0525 | Q15: =P15*O15 -> 0 | S15: =MATCH(B15,'saisie achats'!B:B) -> 61 | T15: =INDEX('saisie achats'!A:K,S15,10) -> 164.0525
B16: SOCIETE GENERALE | C16: =SUMIFS('saisie achats'!C:C,'saisie achats'!C:C,">0",'saisie achats'!B:B,B16) -> 10 | D16: =(SUMIFS('saisie achats'!E:E,'saisie achats'!C:C,">0",'saisie achats'!B:B,B16))/C16 -> 46.677 | E16: =D16*C16 -> 466.77 | F16: =IF((0<C16>0),(5.5*C16),0) -> 55 | G16: =E16+F16 -> 521.77 | I16: =SUMIFS('saisie achats'!C:C,'saisie achats'!C:C,"<0",'saisie achats'!B:B,B16) -> 0 | J16: =IF(I16=0,0,(SUMIFS('saisie achats'!F:F,'saisie achats'!C:C,"<0",'saisie achats'!B:B,B16))/I16) -> 0 | K16: =J16*I16 -> 0 | L16: =IF((0<I16>0),(-5.5*I16),0) -> 0 | M16: =K16+L16 -> 0 | O16: =C16+I16 -> 10 | P16: 50.53 | Q16: =P16*O16 -> 505.3 | S16: =MATCH(B16,'saisie achats'!B:B) -> 68 | T16: =INDEX('saisie achats'!A:K,S16,10) -> 50.527
... B19: VIVENDI | C19: =SUMIFS('saisie achats'!C:C,'saisie achats'!C:C,">0",'saisie achats'!B:B,B19) -> 8 | D19: =(SUMIFS('saisie achats'!E:E,'saisie achats'!C:C,">0",'saisie achats'!B:B,B19))/C19 -> 22.43875 | E19: =D19*C19 -> 179.51 | F19: =IF((0<C19>0),(5.5*C19),0) -> 44 | G19: =E19+F19 -> 223.51 | I19: =SUMIFS('saisie achats'!C:C,'saisie achats'!C:C,"<0",'saisie achats'!B:B,B19) -> 0 | J19: =IF(I19=0,0,(SUMIFS('saisie achats'!F:F,'saisie achats'!C:C,"<0",'saisie achats'!B:B,B19))/I19) -> 0 | K19: =J19*I19 -> 0 | L19: =IF((0<I19>0),(-5.5*I19),0) -> 0 | M19: =K19+L19 -> 0 | O19: =C19+I19 -> 8 | P19: 26.56375 | Q19: =P19*O19 -> 212.51 | S19: =MATCH(B19,'saisie achats'!B:B) -> 90 | T19: =INDEX('saisie achats'!A:K,S19,10) -> 26.56375

Sheet Feuil2
