Workbook

Sheet actions 2011
D1: achat
D2: vente
A3: Banque | B3: Colonne1 | C3: Actions | D3: Sens d'opération | E3: Quantité | F3: Quantité en cours | G3: Prix de revient | H3: Cours d'opération | I3: Date | J3: Frais | K3: Montants
A4: LBP | B4: =IF(OR(C4=0,C4="",COUNTIF(C$4:C4,C4)>1),"",ROW()-3) -> 1 | C4: Casino | D4: achat | E4: 10 | F4: =SUMIFS(E$4:E4,C$4:C4,'actions 2011'!$C4,D$4:D4,D$1)-SUMIFS(E$4:E4,C$4:C4,'actions 2011'!$C4,D$4:D4,D$2) -> 10 | G4: =K4/F4 -> 10.9 | H4: 10 | I4: 37996 | J4: 9 | K4: =IF('actions 2011'!$D4=D$1,'actions 2011'!$E4*'actions 2011'!$H4+'actions 2011'!$J4,'actions 2011'!$E4*'actions 2011'!$H4-'actions 2011'!$J4) -> 109
A5: LBP | B5: =IF(OR(C5=0,C5="",COUNTIF(C$4:C5,C5)>1),"",ROW()-3) -> 2 | C5: Pernod Ricard | D5: achat | E5: 15 | F5: =SUMIFS(E$4:E5,C$4:C5,'actions 2011'!$C5,D$4:D5,D$1)-SUMIFS(E$4:E5,C$4:C5,'actions 2011'!$C5,D$4:D5,D$2) -> 15 | G5: =K5/F5 -> 50.6 | H5: 50 | I5: 38212 | J5: 9 | K5: =IF('actions 2011'!$D5=D$1,'actions 2011'!$E5*'actions 2011'!$H5+'actions 2011'!$J5,'actions 2011'!$E5*'actions 2011'!$H5-'actions 2011'!$J5) -> 759 | M5: le prix de revient des 15 actions est de 50,60€. Le montant investi est de 759€ (15 * 50,6€)
A6: LBP | C6: Casino | D6: achat | E6: 10 | F6: =SUMIFS(E$4:E6,C$4:C6,'actions 2011'!$C6,D$4:D6,D$1)-SUMIFS(E$4:E6,C$4:C6,'actions 2011'!$C6,D$4:D6,D$2) -> 20 | H6: 12 | I6: 38245 | J6: 9 | K6: =IF('actions 2011'!$D6=D$1,'actions 2011'!$E6*'actions 2011'!$H6+'actions 2011'!$J6,'actions 2011'!$E6*'actions 2011'!$H6-'actions 2011'!$J6) -> 129
A7: LBP | B7: =IF(OR(C7=0,C7="",COUNTIF(C$4:C7,C7)>1),"",ROW()-3) | C7: Pernod Ricard | D7: vente | E7: 5 | F7: =SUMIFS(E$4:E7,C$4:C7,'actions 2011'!$C7,D$4:D7,D$1)-SUMIFS(E$4:E7,C$4:C7,'actions 2011'!$C7,D$4:D7,D$2) -> 10 | G7: =K7/F7 -> 36.6 | H7: 75 | I7: 38385 | J7: 9 | K7: =IF('actions 2011'!$D7=D$1,'actions 2011'!$E7*'actions 2011'!$H7+'actions 2011'!$J7,'actions 2011'!$E7*'actions 2011'!$H7-'actions 2011'!$J7) -> 366 | M7: le prix de revient des 10 actions restantes est toujours de 50,60€. Le montant investi est de 10*50,6€ ou 759€ / 15 * 10
A8: LBP | B8: =IF(OR(C8=0,C8="",COUNTIF(C$4:C8,C8)>1),"",ROW()-3) | C8: Casino | D8: achat | E8: 10 | F8: =SUMIFS(E$4:E8,C$4:C8,'actions 2011'!$C8,D$4:D8,D$1)-SUMIFS(E$4:E8,C$4:C8,'actions 2011'!$C8,D$4:D8,D$2) -> 30 | H8: 8 | I8: 38429 | J8: 9 | K8: =IF('actions 2011'!$D8=D$1,'actions 2011'!$E8*'actions 2011'!$H8+'actions 2011'!$J8,'actions 2011'!$E8*'actions 2011'!$H8-'actions 2011'!$J8) -> 89
A9: BOURSO | B9: =IF(OR(C9=0,C9="",COUNTIF(C$4:C9,C9)>1),"",ROW()-3) -> 6 | C9: Veolia | D9: achat | E9: 50 | F9: =SUMIFS(E$4:E9,C$4:C9,'actions 2011'!$C9,D$4:D9,D$1)-SUMIFS(E$4:E9,C$4:C9,'actions 2011'!$C9,D$4:D9,D$2) -> 50 | H9: 35 | I9: 38750 | J9: 5.5 | K9: =IF('actions 2011'!$D9=D$1,'actions 2011'!$E9*'actions 2011'!$H9+'actions 2011'!$J9,'actions 2011'!$E9*'actions 2011'!$H9-'actions 2011'!$J9) -> 1755.5
A10: LBP | B10: =IF(OR(C10=0,C10="",COUNTIF(C$4:C10,C10)>1),"",ROW()-3) | C10: Pernod Ricard | D10: achat | E10: 15 | F10: =SUMIFS(E$4:E10,C$4:C10,'actions 2011'!$C10,D$4:D10,D$1)-SUMIFS(E$4:E10,C$4:C10,'actions 2011'!$C10,D$4:D10,D$2) -> 25 | H10: 60 | I10: 39649 | J10: 9 | K10: =IF('actions 2011'!$D10=D$1,'actions 2011'!$E10*'actions 2011'!$H10+'actions 2011'!$J10,'actions 2011'!$E10*'actions 2011'!$H10-'actions 2011'!$J10) -> 909
A11: LBP | B11: =IF(OR(C11=0,C11="",COUNTIF(C$4:C11,C11)>1),"",ROW()-3) | C11: Casino | D11: achat | E11: 20 | F11: =SUMIFS(E$4:E11,C$4:C11,'actions 2011'!$C11,D$4:D11,D$1)-SUMIFS(E$4:E11,C$4:C11,'actions 2011'!$C11,D$4:D11,D$2) -> 50 | H11: 6 | I11: 39771 | J11: 9 | K11: =IF('actions 2011'!$D11=D$1,'actions 2011'!$E11*'actions 2011'!$H11+'actions 2011'!$J11,'actions 2011'!$E11*'actions 2011'!$H11-'actions 2011'!$J11) -> 129
A12: LBP | C12: Pernod Ricard | D12: achat | E12: 15 | F12: =SUMIFS(E$4:E12,C$4:C12,'actions 2011'!$C12,D$4:D12,D$1)-SUMIFS(E$4:E12,C$4:C12,'actions 2011'!$C12,D$4:D12,D$2) -> 40 | H12: 55 | I12: 39845 | J12: 9 | K12: =IF('actions 2011'!$D12=D$1,'actions 2011'!$E12*'actions 2011'!$H12+'actions 2011'!$J12,'actions 2011'!$E12*'actions 2011'!$H12-'actions 2011'!$J12) -> 834
A13: LBP | C13: Pernod Ricard | D13: vente | E13: 40 | F13: =SUMIFS(E$4:E13,C$4:C13,'actions 2011'!$C13,D$4:D13,D$1)-SUMIFS(E$4:E13,C$4:C13,'actions 2011'!$C13,D$4:D13,D$2) -> 0 | H13: 80 | I13: 40422 | J13: 9 | K13: =IF('actions 2011'!$D13=D$1,'actions 2011'!$E13*'actions 2011'!$H13+'actions 2011'!$J13,'actions 2011'!$E13*'actions 2011'!$H13-'actions 2011'!$J13) -> 3191
A14: BOURSO | B14: =IF(OR(C14=0,C14="",COUNTIF(C$4:C14,C14)>1),"",ROW()-3) | C14: Veolia | D14: vente | E14: 20 | F14: =SUMIFS(E$4:E14,C$4:C14,'actions 2011'!$C14,D$4:D14,D$1)-SUMIFS(E$4:E14,C$4:C14,'actions 2011'!$C14,D$4:D14,D$2) -> 30 | H14: 40 | I14: 40664 | J14: 5.5 | K14: =IF('actions 2011'!$D14=D$1,'actions 2011'!$E14*'actions 2011'!$H14+'actions 2011'!$J14,'actions 2011'!$E14*'actions 2011'!$H14-'actions 2011'!$J14) -> 794.5
A15: LBP | B15: =IF(OR(C15=0,C15="",COUNTIF(C$4:C15,C15)>1),"",ROW()-3) | C15: Casino | D15: vente | E15: 30 | F15: =SUMIFS(E$4:E15,C$4:C15,'actions 2011'!$C15,D$4:D15,D$1)-SUMIFS(E$4:E15,C$4:C15,'actions 2011'!$C15,D$4:D15,D$2) -> 20 | H15: 15 | I15: 40695 | J15: 9 | K15: =IF('actions 2011'!$D15=D$1,'actions 2011'!$E15*'actions 2011'!$H15+'actions 2011'!$J15,'actions 2011'!$E15*'actions 2011'!$H15-'actions 2011'!$J15) -> 441
A16: BOURSO | C16: Veolia | D16: vente | E16: 20 | F16: =SUMIFS(E$4:E16,C$4:C16,'actions 2011'!$C16,D$4:D16,D$1)-SUMIFS(E$4:E16,C$4:C16,'actions 2011'!$C16,D$4:D16,D$2) -> 10 | H16: 45 | I16: 40695 | J16: 5.5 | K16: =IF('actions 2011'!$D16=D$1,'actions 2011'!$E16*'actions 2011'!$H16+'actions 2011'!$J16,'actions 2011'!$E16*'actions 2011'!$H16-'actions 2011'!$J16) -> 894.5
A17: LBP | C17: Casino | D17: achat | E17: 20 | F17: =SUMIFS(E$4:E17,C$4:C17,'actions 2011'!$C17,D$4:D17,D$1)-SUMIFS(E$4:E17,C$4:C17,'actions 2011'!$C17,D$4:D17,D$2) -> 40 | H17: 11 | I17: 40756 | J17: 9 | K17: =IF('actions 2011'!$D17=D$1,'actions 2011'!$E17*'actions 2011'!$H17+'actions 2011'!$J17,'actions 2011'!$E17*'actions 2011'!$H17-'actions 2011'!$J17) -> 229
K18: =IF('actions 2011'!$D18=D$1,'actions 2011'!$E18*'actions 2011'!$H18+'actions 2011'!$J18,'actions 2011'!$E18*'actions 2011'!$H18-'actions 2011'!$J18) -> 0
B32: =IF(OR(C32=0,C32="",COUNTIF(C$4:C32,C32)>1),"",ROW()-3)
B33: =IF(OR(C33=0,C33="",COUNTIF(C$4:C18,C33)>1),"",ROW()-3)
