Workbook

Sheet Variables
B2: GRILLE INDICIAIRE 01/01/2025
A4: code échelon | B4: Grade | C4: échelon | D4: IB | E4: IM | F4: Durée
A5: =B5&"-"&C5 -> C1-1 | B5: C1 | C5: 1 | D5: 367 | E5: 366 | F5: 1
A6: =B6&"-"&C6 -> C1-2 | B6: C1 | C6: 2 | D6: 368 | E6: 367 | F6: 1
A7: =B7&"-"&C7 -> C1-3 | B7: C1 | C7: 3 | D7: 370 | E7: 368 | F7: 1
A8: =B8&"-"&C8 -> C1-4 | B8: C1 | C8: 4 | D8: 371 | E8: 369 | F8: 1
A9: =B9&"-"&C9 -> C1-5 | B9: C1 | C9: 5 | D9: 374 | E9: 370 | F9: 1
A10: =B10&"-"&C10 -> C1-6 | B10: C1 | C10: 6 | D10: 378 | E10: 371 | F10: 1
A11: =B11&"-"&C11 -> C1-7 | B11: C1 | C11: 7 | D11: 381 | E11: 372 | F11: 3
A12: =B12&"-"&C12 -> C1-8 | B12: C1 | C12: 8 | D12: 387 | E12: 373 | F12: 3
A13: =B13&"-"&C13 -> C1-9 | B13: C1 | C13: 9 | D13: 401 | E13: 376 | F13: 3
A14: =B14&"-"&C14 -> C1-10 | B14: C1 | C14: 10 | D14: 419 | E14: 377 | F14: 4
A15: =B15&"-"&C15 -> C1-11 | B15: C1 | C15: 11 | D15: 432 | E15: 387 | F15: 10
A16: =B16&"-"&C16 -> C2-1 | B16: C2 | C16: 1 | D16: 368 | E16: 367 | F16: 1
... A136: =B136&"-"&C136 -> I2-9 | B136: I2 | C136: 9 | D136: 1015 | E136: 826 | F136: 10

Sheet Suivi
A1: Avancement contractuels
A3: Grade Actuel | B3: Matricule | C3: Nom | D3: Prénom | E3: Grade | F3: Grade Actuel | G3: Echelon actuel | H3: IB actuel | I3: IM actuel | J3: Date entrée dans l'échelon actuel | K3: Ancienneté pour passage prochain échelon | L3: Date prochain avancement | M3: Echelon suivant | N3: IB | O3: IM | P3: Commentaire
A4: C1-1 | E4: Adjoint technique territorial | F4: =INDEX(Variables!$A$5:$F$136,MATCH($A4,Variables!$A$5:$A$136,),2) -> C1 | G4: =INDEX(Variables!$A$5:$F$136,MATCH($A4,Variables!$A$5:$A$136,),3) -> 1 | H4: =INDEX(Variables!$A$5:$F$136,MATCH($F4&"-"&G4,Variables!$A$5:$A$136,),4) -> 367 | I4: =INDEX(Variables!$A$5:$F$136,MATCH($F4&"-"&G4,Variables!$A$5:$A$136,),5) -> 366 | J4: 45874 | K4: =INDEX(Variables!$A$5:$F$136,MATCH($F4&"-"&G4,Variables!$A$5:$A$136,),6) -> 1 | L4: =EDATE(J4,12*K4) -> 46239 | M4: =INDEX(Variables!$A$5:$F$136,MATCH(F4&"-"&(G4+1),Variables!$A$5:$A$136,),3) -> 2 | N4: 368 | O4: 367 | P4: à faire pour effet au 05/08/2026 docn prochain renouvellement
A5: C1-1 | E5: Adjoint administratif territorial | F5: =INDEX(Variables!$A$5:$F$136,MATCH($A5,Variables!$A$5:$A$136,),2) -> C1 | G5: =INDEX(Variables!$A$5:$F$136,MATCH($A5,Variables!$A$5:$A$136,),3) -> 1 | H5: =INDEX(Variables!$A$5:$F$136,MATCH($F5&"-"&G5,Variables!$A$5:$A$136,),4) -> 367 | I5: =INDEX(Variables!$A$5:$F$136,MATCH($F5&"-"&G5,Variables!$A$5:$A$136,),5) -> 366 | J5: 44927 | K5: =INDEX(Variables!$A$5:$F$136,MATCH($F5&"-"&G5,Variables!$A$5:$A$136,),6) -> 1 | L5: =EDATE(J5,12*K5) -> 45292 | M5: =INDEX(Variables!$A$5:$F$136,MATCH(F5&"-"&(G5+1),Variables!$A$5:$A$136,),3) -> 2 | N5: 368 | O5: 367 | P5: à faire pour effet au 01/01/2026
A6: C1-1 | E6: Adjoint territorial du patrimoine | F6: =INDEX(Variables!$A$5:$F$136,MATCH($A6,Variables!$A$5:$A$136,),2) -> C1 | G6: =INDEX(Variables!$A$5:$F$136,MATCH($A6,Variables!$A$5:$A$136,),3) -> 1 | H6: =INDEX(Variables!$A$5:$F$136,MATCH($F6&"-"&G6,Variables!$A$5:$A$136,),4) -> 367 | I6: =INDEX(Variables!$A$5:$F$136,MATCH($F6&"-"&G6,Variables!$A$5:$A$136,),5) -> 366 | J6: 45537 | K6: =INDEX(Variables!$A$5:$F$136,MATCH($F6&"-"&G6,Variables!$A$5:$A$136,),6) -> 1 | L6: =EDATE(J6,12*K6) -> 45902 | M6: =INDEX(Variables!$A$5:$F$136,MATCH(F6&"-"&(G6+1),Variables!$A$5:$A$136,),3) -> 2 | N6: 368 | O6: 367 | P6: à faire pour effet au 01/01/2026
A7: B1-5 | E7: Assistant d'enseignement artistique principal de 2ème classe | F7: =INDEX(Variables!$A$5:$F$136,MATCH($A7,Variables!$A$5:$A$136,),2) -> B1 | G7: =INDEX(Variables!$A$5:$F$136,MATCH($A7,Variables!$A$5:$A$136,),3) -> 5 | H7: =INDEX(Variables!$A$5:$F$136,MATCH($F7&"-"&G7,Variables!$A$5:$A$136,),4) -> 415 | I7: =INDEX(Variables!$A$5:$F$136,MATCH($F7&"-"&G7,Variables!$A$5:$A$136,),5) -> 377 | J7: 45658 | K7: =INDEX(Variables!$A$5:$F$136,MATCH($F7&"-"&G7,Variables!$A$5:$A$136,),6) -> 2 | L7: =EDATE(J7,12*K7) -> 46388 | M7: =INDEX(Variables!$A$5:$F$136,MATCH(F7&"-"&(G7+1),Variables!$A$5:$A$136,),3) -> 6 | N7: 431 | O7: 386
A8: C1-4 | E8: Adjoint territorial du patrimoine | F8: =INDEX(Variables!$A$5:$F$136,MATCH($A8,Variables!$A$5:$A$136,),2) -> C1 | G8: =INDEX(Variables!$A$5:$F$136,MATCH($A8,Variables!$A$5:$A$136,),3) -> 4 | H8: =INDEX(Variables!$A$5:$F$136,MATCH($F8&"-"&G8,Variables!$A$5:$A$136,),4) -> 371 | I8: =INDEX(Variables!$A$5:$F$136,MATCH($F8&"-"&G8,Variables!$A$5:$A$136,),5) -> 369 | J8: 44666 | K8: =INDEX(Variables!$A$5:$F$136,MATCH($F8&"-"&G8,Variables!$A$5:$A$136,),6) -> 1 | L8: =EDATE(J8,12*K8) -> 45031 | M8: =INDEX(Variables!$A$5:$F$136,MATCH(F8&"-"&(G8+1),Variables!$A$5:$A$136,),3) -> 5 | N8: 374 | O8: 370 | P8: à faire pour effet au 01/01/2026
A9: C1-1 | E9: Adjoint territorial du patrimoine | F9: =INDEX(Variables!$A$5:$F$136,MATCH($A9,Variables!$A$5:$A$136,),2) -> C1 | G9: =INDEX(Variables!$A$5:$F$136,MATCH($A9,Variables!$A$5:$A$136,),3) -> 1 | H9: =INDEX(Variables!$A$5:$F$136,MATCH($F9&"-"&G9,Variables!$A$5:$A$136,),4) -> 367 | I9: =INDEX(Variables!$A$5:$F$136,MATCH($F9&"-"&G9,Variables!$A$5:$A$136,),5) -> 366 | J9: 45292 | K9: =INDEX(Variables!$A$5:$F$136,MATCH($F9&"-"&G9,Variables!$A$5:$A$136,),6) -> 1 | L9: =EDATE(J9,12*K9) -> 45658 | M9: =INDEX(Variables!$A$5:$F$136,MATCH(F9&"-"&(G9+1),Variables!$A$5:$A$136,),3) -> 2 | N9: 368 | O9: 367 | P9: à faire pour effet au 01/01/2026
A10: B1-4 | E10: Assistant d'enseignement artistique principal de 2ème classe | F10: =INDEX(Variables!$A$5:$F$136,MATCH($A10,Variables!$A$5:$A$136,),2) -> B1 | G10: =INDEX(Variables!$A$5:$F$136,MATCH($A10,Variables!$A$5:$A$136,),3) -> 4 | H10: =INDEX(Variables!$A$5:$F$136,MATCH($F10&"-"&G10,Variables!$A$5:$A$136,),4) -> 401 | I10: =INDEX(Variables!$A$5:$F$136,MATCH($F10&"-"&G10,Variables!$A$5:$A$136,),5) -> 376 | J10: 45170 | K10: =INDEX(Variables!$A$5:$F$136,MATCH($F10&"-"&G10,Variables!$A$5:$A$136,),6) -> 1 | L10: =EDATE(J10,12*K10) -> 45536 | M10: =INDEX(Variables!$A$5:$F$136,MATCH(F10&"-"&(G10+1),Variables!$A$5:$A$136,),3) -> 5 | N10: 415 | O10: 377 | P10: à faire pour effet au 01/01/2026
A11: C1-1 | E11: Adjoint technique territorial | F11: =INDEX(Variables!$A$5:$F$136,MATCH($A11,Variables!$A$5:$A$136,),2) -> C1 | G11: =INDEX(Variables!$A$5:$F$136,MATCH($A11,Variables!$A$5:$A$136,),3) -> 1 | H11: =INDEX(Variables!$A$5:$F$136,MATCH($F11&"-"&G11,Variables!$A$5:$A$136,),4) -> 367 | I11: =INDEX(Variables!$A$5:$F$136,MATCH($F11&"-"&G11,Variables!$A$5:$A$136,),5) -> 366 | J11: 44769 | K11: =INDEX(Variables!$A$5:$F$136,MATCH($F11&"-"&G11,Variables!$A$5:$A$136,),6) -> 1 | L11: =EDATE(J11,12*K11) -> 45134 | M11: =INDEX(Variables!$A$5:$F$136,MATCH(F11&"-"&(G11+1),Variables!$A$5:$A$136,),3) -> 2 | N11: 368 | O11: 367 | P11: à faire pour effet au 01/01/2026
A12: C1-1 | E12: Adjoint technique territorial | F12: =INDEX(Variables!$A$5:$F$136,MATCH($A12,Variables!$A$5:$A$136,),2) -> C1 | G12: =INDEX(Variables!$A$5:$F$136,MATCH($A12,Variables!$A$5:$A$136,),3) -> 1 | H12: =INDEX(Variables!$A$5:$F$136,MATCH($F12&"-"&G12,Variables!$A$5:$A$136,),4) -> 367 | I12: =INDEX(Variables!$A$5:$F$136,MATCH($F12&"-"&G12,Variables!$A$5:$A$136,),5) -> 366 | J12: 42779 | K12: =INDEX(Variables!$A$5:$F$136,MATCH($F12&"-"&G12,Variables!$A$5:$A$136,),6) -> 1 | L12: =EDATE(J12,12*K12) -> 43144 | M12: =INDEX(Variables!$A$5:$F$136,MATCH(F12&"-"&(G12+1),Variables!$A$5:$A$136,),3) -> 2 | N12: 368 | O12: 367 | P12: à faire pour effet au 01/01/2026
A13: I1-9 | E13: Ingénieur | F13: =INDEX(Variables!$A$5:$F$136,MATCH($A13,Variables!$A$5:$A$136,),2) -> I1 | G13: =INDEX(Variables!$A$5:$F$136,MATCH($A13,Variables!$A$5:$A$136,),3) -> 9 | H13: =INDEX(Variables!$A$5:$F$136,MATCH($F13&"-"&G13,Variables!$A$5:$A$136,),4) -> 774 | I13: =INDEX(Variables!$A$5:$F$136,MATCH($F13&"-"&G13,Variables!$A$5:$A$136,),5) -> 642 | J13: 45536 | K13: =INDEX(Variables!$A$5:$F$136,MATCH($F13&"-"&G13,Variables!$A$5:$A$136,),6) -> 4 | L13: =EDATE(J13,12*K13) -> 46997 | M13: =INDEX(Variables!$A$5:$F$136,MATCH(F13&"-"&(G13+1),Variables!$A$5:$A$136,),3) -> 10 | N13: 821 | O13: 678 | P13: Il faudrait le faire passer ingénieur principal
A14: B1-9 | E14: Rédacteur | F14: =INDEX(Variables!$A$5:$F$136,MATCH($A14,Variables!$A$5:$A$136,),2) -> B1 | G14: =INDEX(Variables!$A$5:$F$136,MATCH($A14,Variables!$A$5:$A$136,),3) -> 9 | H14: =INDEX(Variables!$A$5:$F$136,MATCH($F14&"-"&G14,Variables!$A$5:$A$136,),4) -> 500 | I14: =INDEX(Variables!$A$5:$F$136,MATCH($F14&"-"&G14,Variables!$A$5:$A$136,),5) -> 436 | J14: 45824 | K14: =INDEX(Variables!$A$5:$F$136,MATCH($F14&"-"&G14,Variables!$A$5:$A$136,),6) -> 3 | L14: =EDATE(J14,12*K14) -> 46920 | M14: =INDEX(Variables!$A$5:$F$136,MATCH(F14&"-"&(G14+1),Variables!$A$5:$A$136,),3) -> 10 | N14: 513 | O14: 446
A15: C1-2 | E15: Adjoint technique territorial | F15: =INDEX(Variables!$A$5:$F$136,MATCH($A15,Variables!$A$5:$A$136,),2) -> C1 | G15: =INDEX(Variables!$A$5:$F$136,MATCH($A15,Variables!$A$5:$A$136,),3) -> 2 | H15: =INDEX(Variables!$A$5:$F$136,MATCH($F15&"-"&G15,Variables!$A$5:$A$136,),4) -> 368 | I15: =INDEX(Variables!$A$5:$F$136,MATCH($F15&"-"&G15,Variables!$A$5:$A$136,),5) -> 367 | J15: 45658 | K15: =INDEX(Variables!$A$5:$F$136,MATCH($F15&"-"&G15,Variables!$A$5:$A$136,),6) -> 1 | L15: =EDATE(J15,12*K15) -> 46023 | M15: =INDEX(Variables!$A$5:$F$136,MATCH(F15&"-"&(G15+1),Variables!$A$5:$A$136,),3) -> 3 | N15: 370 | O15: 368 | P15: à faire
A16: AM1-13 | E16: Agent de maîtrise | F16: =INDEX(Variables!$A$5:$F$136,MATCH($A16,Variables!$A$5:$A$136,),2) -> AM1 | G16: =INDEX(Variables!$A$5:$F$136,MATCH($A16,Variables!$A$5:$A$136,),3) -> 13 | H16: =INDEX(Variables!$A$5:$F$136,MATCH($F16&"-"&G16,Variables!$A$5:$A$136,),4) -> 562 | I16: =INDEX(Variables!$A$5:$F$136,MATCH($F16&"-"&G16,Variables!$A$5:$A$136,),5) -> 481 | J16: 45649 | K16: =INDEX(Variables!$A$5:$F$136,MATCH($F16&"-"&G16,Variables!$A$5:$A$136,),6) -> 10 | L16: =EDATE(J16,12*K16) -> 49301 | M16: sommet | N16: 597 | O16: 508 | P16: Il faudrait le faire passer agent de maitrise principal car il est déjà au sommet du grade agent de maitrise
A17: C1-1 | E17: Adjoint technique territorial | F17: =INDEX(Variables!$A$5:$F$136,MATCH($A17,Variables!$A$5:$A$136,),2) -> C1 | G17: =INDEX(Variables!$A$5:$F$136,MATCH($A17,Variables!$A$5:$A$136,),3) -> 1 | H17: =INDEX(Variables!$A$5:$F$136,MATCH($F17&"-"&G17,Variables!$A$5:$A$136,),4) -> 367 | I17: =INDEX(Variables!$A$5:$F$136,MATCH($F17&"-"&G17,Variables!$A$5:$A$136,),5) -> 366 | J17: 44976 | K17: =INDEX(Variables!$A$5:$F$136,MATCH($F17&"-"&G17,Variables!$A$5:$A$136,),6) -> 1 | L17: =EDATE(J17,12*K17) -> 45341 | M17: =INDEX(Variables!$A$5:$F$136,MATCH(F17&"-"&(G17+1),Variables!$A$5:$A$136,),3) -> 2 | N17: 368 | O17: 367 | P17: à faire pour effet au 01/01/2026
A18: B1-5 | E18: Assistant d'enseignement artistique principal de 2ème classe | F18: =INDEX(Variables!$A$5:$F$136,MATCH($A18,Variables!$A$5:$A$136,),2) -> B1 | G18: =INDEX(Variables!$A$5:$F$136,MATCH($A18,Variables!$A$5:$A$136,),3) -> 5 | H18: =INDEX(Variables!$A$5:$F$136,MATCH($F18&"-"&G18,Variables!$A$5:$A$136,),4) -> 415 | I18: =INDEX(Variables!$A$5:$F$136,MATCH($F18&"-"&G18,Variables!$A$5:$A$136,),5) -> 377 | J18: 45901 | K18: =INDEX(Variables!$A$5:$F$136,MATCH($F18&"-"&G18,Variables!$A$5:$A$136,),6) -> 2 | L18: =EDATE(J18,12*K18) -> 46631 | M18: =INDEX(Variables!$A$5:$F$136,MATCH(F18&"-"&(G18+1),Variables!$A$5:$A$136,),3) -> 6 | N18: 431 | O18: 386
A19: B1-1 | E19: Assistant de conservation | F19: =INDEX(Variables!$A$5:$F$136,MATCH($A19,Variables!$A$5:$A$136,),2) -> B1 | G19: =INDEX(Variables!$A$5:$F$136,MATCH($A19,Variables!$A$5:$A$136,),3) -> 1 | H19: =INDEX(Variables!$A$5:$F$136,MATCH($F19&"-"&G19,Variables!$A$5:$A$136,),4) -> 389 | I19: =INDEX(Variables!$A$5:$F$136,MATCH($F19&"-"&G19,Variables!$A$5:$A$136,),5) -> 373 | J19: 44928 | K19: =INDEX(Variables!$A$5:$F$136,MATCH($F19&"-"&G19,Variables!$A$5:$A$136,),6) -> 1 | L19: =EDATE(J19,12*K19) -> 45293 | M19: =INDEX(Variables!$A$5:$F$136,MATCH(F19&"-"&(G19+1),Variables!$A$5:$A$136,),3) -> 2 | N19: 395 | O19: 374 | P19: à faire pour effet au 01/01/2026
A20: C1-4 | E20: Adjoint technique territorial | F20: =INDEX(Variables!$A$5:$F$136,MATCH($A20,Variables!$A$5:$A$136,),2) -> C1 | G20: =INDEX(Variables!$A$5:$F$136,MATCH($A20,Variables!$A$5:$A$136,),3) -> 4 | H20: =INDEX(Variables!$A$5:$F$136,MATCH($F20&"-"&G20,Variables!$A$5:$A$136,),4) -> 371 | I20: =INDEX(Variables!$A$5:$F$136,MATCH($F20&"-"&G20,Variables!$A$5:$A$136,),5) -> 369 | J20: 44657 | K20: =INDEX(Variables!$A$5:$F$136,MATCH($F20&"-"&G20,Variables!$A$5:$A$136,),6) -> 1 | L20: =EDATE(J20,12*K20) -> 45022 | M20: =INDEX(Variables!$A$5:$F$136,MATCH(F20&"-"&(G20+1),Variables!$A$5:$A$136,),3) -> 5 | N20: 374 | O20: 370 | P20: à faire pour effet au 01/01/2026
A21: B2-7 | E21: Technicien principal de 2ème classe | F21: =INDEX(Variables!$A$5:$F$136,MATCH($A21,Variables!$A$5:$A$136,),2) -> B2 | G21: =INDEX(Variables!$A$5:$F$136,MATCH($A21,Variables!$A$5:$A$136,),3) -> 7 | H21: =INDEX(Variables!$A$5:$F$136,MATCH($F21&"-"&G21,Variables!$A$5:$A$136,),4) -> 506 | I21: =INDEX(Variables!$A$5:$F$136,MATCH($F21&"-"&G21,Variables!$A$5:$A$136,),5) -> 441 | J21: 45261 | K21: =INDEX(Variables!$A$5:$F$136,MATCH($F21&"-"&G21,Variables!$A$5:$A$136,),6) -> 3 | L21: =EDATE(J21,12*K21) -> 46357 | M21: =INDEX(Variables!$A$5:$F$136,MATCH(F21&"-"&(G21+1),Variables!$A$5:$A$136,),3) -> 8 | N21: 528 | O21: 457 | P21: à faire
A22: C1-1 | E22: Adjoint technique territorial | F22: =INDEX(Variables!$A$5:$F$136,MATCH($A22,Variables!$A$5:$A$136,),2) -> C1 | G22: =INDEX(Variables!$A$5:$F$136,MATCH($A22,Variables!$A$5:$A$136,),3) -> 1 | H22: =INDEX(Variables!$A$5:$F$136,MATCH($F22&"-"&G22,Variables!$A$5:$A$136,),4) -> 367 | I22: =INDEX(Variables!$A$5:$F$136,MATCH($F22&"-"&G22,Variables!$A$5:$A$136,),5) -> 366 | J22: 44712 | K22: =INDEX(Variables!$A$5:$F$136,MATCH($F22&"-"&G22,Variables!$A$5:$A$136,),6) -> 1 | L22: =EDATE(J22,12*K22) -> 45077 | M22: =INDEX(Variables!$A$5:$F$136,MATCH(F22&"-"&(G22+1),Variables!$A$5:$A$136,),3) -> 2 | N22: 368 | O22: 367 | P22: à faire pour effet au 01/01/2026
A23: B1-5 | E23: Assistant d'enseignement artistique principal de 2ème classe | F23: =INDEX(Variables!$A$5:$F$136,MATCH($A23,Variables!$A$5:$A$136,),2) -> B1 | G23: =INDEX(Variables!$A$5:$F$136,MATCH($A23,Variables!$A$5:$A$136,),3) -> 5 | H23: =INDEX(Variables!$A$5:$F$136,MATCH($F23&"-"&G23,Variables!$A$5:$A$136,),4) -> 415 | I23: =INDEX(Variables!$A$5:$F$136,MATCH($F23&"-"&G23,Variables!$A$5:$A$136,),5) -> 377 | J23: 45902 | K23: =INDEX(Variables!$A$5:$F$136,MATCH($F23&"-"&G23,Variables!$A$5:$A$136,),6) -> 2 | L23: =EDATE(J23,12*K23) -> 46632 | M23: =INDEX(Variables!$A$5:$F$136,MATCH(F23&"-"&(G23+1),Variables!$A$5:$A$136,),3) -> 6 | N23: 431 | O23: 386
A24: C1-1 | E24: Adjoint territorial du patrimoine | F24: =INDEX(Variables!$A$5:$F$136,MATCH($A24,Variables!$A$5:$A$136,),2) -> C1 | G24: =INDEX(Variables!$A$5:$F$136,MATCH($A24,Variables!$A$5:$A$136,),3) -> 1 | H24: =INDEX(Variables!$A$5:$F$136,MATCH($F24&"-"&G24,Variables!$A$5:$A$136,),4) -> 367 | I24: =INDEX(Variables!$A$5:$F$136,MATCH($F24&"-"&G24,Variables!$A$5:$A$136,),5) -> 366 | J24: 45663 | K24: =INDEX(Variables!$A$5:$F$136,MATCH($F24&"-"&G24,Variables!$A$5:$A$136,),6) -> 1 | L24: =EDATE(J24,12*K24) -> 46028 | M24: =INDEX(Variables!$A$5:$F$136,MATCH(F24&"-"&(G24+1),Variables!$A$5:$A$136,),3) -> 2 | N24: 368 | O24: 367 | P24: à faire
A25: C1-4 | E25: Adjoint administratif territorial | F25: =INDEX(Variables!$A$5:$F$136,MATCH($A25,Variables!$A$5:$A$136,),2) -> C1 | G25: =INDEX(Variables!$A$5:$F$136,MATCH($A25,Variables!$A$5:$A$136,),3) -> 4 | H25: =INDEX(Variables!$A$5:$F$136,MATCH($F25&"-"&G25,Variables!$A$5:$A$136,),4) -> 371 | I25: =INDEX(Variables!$A$5:$F$136,MATCH($F25&"-"&G25,Variables!$A$5:$A$136,),5) -> 369 | J25: 44657 | K25: =INDEX(Variables!$A$5:$F$136,MATCH($F25&"-"&G25,Variables!$A$5:$A$136,),6) -> 1 | L25: =EDATE(J25,12*K25) -> 45022 | M25: =INDEX(Variables!$A$5:$F$136,MATCH(F25&"-"&(G25+1),Variables!$A$5:$A$136,),3) -> 5 | N25: 374 | O25: 370 | P25: à faire pour effet au 01/01/2026
A26: C1-1 | E26: Adjoint administratif territorial | F26: =INDEX(Variables!$A$5:$F$136,MATCH($A26,Variables!$A$5:$A$136,),2) -> C1 | G26: =INDEX(Variables!$A$5:$F$136,MATCH($A26,Variables!$A$5:$A$136,),3) -> 1 | H26: =INDEX(Variables!$A$5:$F$136,MATCH($F26&"-"&G26,Variables!$A$5:$A$136,),4) -> 367 | I26: =INDEX(Variables!$A$5:$F$136,MATCH($F26&"-"&G26,Variables!$A$5:$A$136,),5) -> 366 | J26: 44986 | K26: =INDEX(Variables!$A$5:$F$136,MATCH($F26&"-"&G26,Variables!$A$5:$A$136,),6) -> 1 | L26: =EDATE(J26,12*K26) -> 45352 | M26: =INDEX(Variables!$A$5:$F$136,MATCH(F26&"-"&(G26+1),Variables!$A$5:$A$136,),3) -> 2 | N26: 368 | O26: 367 | P26: à faire pour effet au 01/01/2026
A27: B1-2 | E27: Technicien | F27: =INDEX(Variables!$A$5:$F$136,MATCH($A27,Variables!$A$5:$A$136,),2) -> B1 | G27: =INDEX(Variables!$A$5:$F$136,MATCH($A27,Variables!$A$5:$A$136,),3) -> 2 | H27: =INDEX(Variables!$A$5:$F$136,MATCH($F27&"-"&G27,Variables!$A$5:$A$136,),4) -> 395 | I27: =INDEX(Variables!$A$5:$F$136,MATCH($F27&"-"&G27,Variables!$A$5:$A$136,),5) -> 374 | J27: 45292 | K27: =INDEX(Variables!$A$5:$F$136,MATCH($F27&"-"&G27,Variables!$A$5:$A$136,),6) -> 1 | L27: =EDATE(J27,12*K27) -> 45658 | M27: =INDEX(Variables!$A$5:$F$136,MATCH(F27&"-"&(G27+1),Variables!$A$5:$A$136,),3) -> 3 | N27: 397 | O27: 375 | P27: à faire pour effet au 01/01/2026
A28: C1-4 | E28: Adjoint technique territorial | F28: =INDEX(Variables!$A$5:$F$136,MATCH($A28,Variables!$A$5:$A$136,),2) -> C1 | G28: =INDEX(Variables!$A$5:$F$136,MATCH($A28,Variables!$A$5:$A$136,),3) -> 4 | H28: =INDEX(Variables!$A$5:$F$136,MATCH($F28&"-"&G28,Variables!$A$5:$A$136,),4) -> 371 | I28: =INDEX(Variables!$A$5:$F$136,MATCH($F28&"-"&G28,Variables!$A$5:$A$136,),5) -> 369 | J28: 44924 | K28: =INDEX(Variables!$A$5:$F$136,MATCH($F28&"-"&G28,Variables!$A$5:$A$136,),6) -> 1 | L28: =EDATE(J28,12*K28) -> 45289 | M28: =INDEX(Variables!$A$5:$F$136,MATCH(F28&"-"&(G28+1),Variables!$A$5:$A$136,),3) -> 5 | N28: 374 | O28: 370 | P28: à faire pour effet au 01/01/2026
A29: C1-2 | E29: Adjoint administratif territorial | F29: =INDEX(Variables!$A$5:$F$136,MATCH($A29,Variables!$A$5:$A$136,),2) -> C1 | G29: =INDEX(Variables!$A$5:$F$136,MATCH($A29,Variables!$A$5:$A$136,),3) -> 2 | H29: =INDEX(Variables!$A$5:$F$136,MATCH($F29&"-"&G29,Variables!$A$5:$A$136,),4) -> 368 | I29: =INDEX(Variables!$A$5:$F$136,MATCH($F29&"-"&G29,Variables!$A$5:$A$136,),5) -> 367 | J29: 45538 | K29: =INDEX(Variables!$A$5:$F$136,MATCH($F29&"-"&G29,Variables!$A$5:$A$136,),6) -> 1 | L29: =EDATE(J29,12*K29) -> 45903 | M29: =INDEX(Variables!$A$5:$F$136,MATCH(F29&"-"&(G29+1),Variables!$A$5:$A$136,),3) -> 3 | N29: 370 | O29: 368 | P29: à faire pour effet au 01/01/2026
A30: C1-1 | E30: Adjoint technique territorial | F30: =INDEX(Variables!$A$5:$F$136,MATCH($A30,Variables!$A$5:$A$136,),2) -> C1 | G30: =INDEX(Variables!$A$5:$F$136,MATCH($A30,Variables!$A$5:$A$136,),3) -> 1 | H30: =INDEX(Variables!$A$5:$F$136,MATCH($F30&"-"&G30,Variables!$A$5:$A$136,),4) -> 367 | I30: =INDEX(Variables!$A$5:$F$136,MATCH($F30&"-"&G30,Variables!$A$5:$A$136,),5) -> 366 | J30: 44652 | K30: =INDEX(Variables!$A$5:$F$136,MATCH($F30&"-"&G30,Variables!$A$5:$A$136,),6) -> 1 | L30: =EDATE(J30,12*K30) -> 45017 | M30: =INDEX(Variables!$A$5:$F$136,MATCH(F30&"-"&(G30+1),Variables!$A$5:$A$136,),3) -> 2 | N30: 368 | O30: 367 | P30: à faire pour effet au 01/01/2026
A31: C1-4 | E31: Adjoint technique territorial | F31: =INDEX(Variables!$A$5:$F$136,MATCH($A31,Variables!$A$5:$A$136,),2) -> C1 | G31: =INDEX(Variables!$A$5:$F$136,MATCH($A31,Variables!$A$5:$A$136,),3) -> 4 | H31: =INDEX(Variables!$A$5:$F$136,MATCH($F31&"-"&G31,Variables!$A$5:$A$136,),4) -> 371 | I31: =INDEX(Variables!$A$5:$F$136,MATCH($F31&"-"&G31,Variables!$A$5:$A$136,),5) -> 369 | J31: 44877 | K31: =INDEX(Variables!$A$5:$F$136,MATCH($F31&"-"&G31,Variables!$A$5:$A$136,),6) -> 1 | L31: =EDATE(J31,12*K31) -> 45242 | M31: =INDEX(Variables!$A$5:$F$136,MATCH(F31&"-"&(G31+1),Variables!$A$5:$A$136,),3) -> 5 | N31: 374 | O31: 370 | P31: à faire pour effet au 01/01/2026
A32: C1-1 | E32: Adjoint technique territorial | F32: =INDEX(Variables!$A$5:$F$136,MATCH($A32,Variables!$A$5:$A$136,),2) -> C1 | G32: =INDEX(Variables!$A$5:$F$136,MATCH($A32,Variables!$A$5:$A$136,),3) -> 1 | H32: =INDEX(Variables!$A$5:$F$136,MATCH($F32&"-"&G32,Variables!$A$5:$A$136,),4) -> 367 | I32: =INDEX(Variables!$A$5:$F$136,MATCH($F32&"-"&G32,Variables!$A$5:$A$136,),5) -> 366 | J32: 45352 | K32: =INDEX(Variables!$A$5:$F$136,MATCH($F32&"-"&G32,Variables!$A$5:$A$136,),6) -> 1 | L32: =EDATE(J32,12*K32) -> 45717 | M32: =INDEX(Variables!$A$5:$F$136,MATCH(F32&"-"&(G32+1),Variables!$A$5:$A$136,),3) -> 2 | N32: 368 | O32: 367 | P32: à faire pour effet au 01/01/2026
A33: C1-1 | E33: Adjoint administratif territorial | F33: =INDEX(Variables!$A$5:$F$136,MATCH($A33,Variables!$A$5:$A$136,),2) -> C1 | G33: =INDEX(Variables!$A$5:$F$136,MATCH($A33,Variables!$A$5:$A$136,),3) -> 1 | H33: =INDEX(Variables!$A$5:$F$136,MATCH($F33&"-"&G33,Variables!$A$5:$A$136,),4) -> 367 | I33: =INDEX(Variables!$A$5:$F$136,MATCH($F33&"-"&G33,Variables!$A$5:$A$136,),5) -> 366 | J33: 44936 | K33: =INDEX(Variables!$A$5:$F$136,MATCH($F33&"-"&G33,Variables!$A$5:$A$136,),6) -> 1 | L33: =EDATE(J33,12*K33) -> 45301 | M33: =INDEX(Variables!$A$5:$F$136,MATCH(F33&"-"&(G33+1),Variables!$A$5:$A$136,),3) -> 2 | N33: 368 | O33: 367 | P33: à faire pour effet au 01/01/2026
A34: C1-8 | E34: Adjoint territorial du patrimoine | F34: =INDEX(Variables!$A$5:$F$136,MATCH($A34,Variables!$A$5:$A$136,),2) -> C1 | G34: =INDEX(Variables!$A$5:$F$136,MATCH($A34,Variables!$A$5:$A$136,),3) -> 8 | H34: =INDEX(Variables!$A$5:$F$136,MATCH($F34&"-"&G34,Variables!$A$5:$A$136,),4) -> 387 | I34: =INDEX(Variables!$A$5:$F$136,MATCH($F34&"-"&G34,Variables!$A$5:$A$136,),5) -> 373 | J34: 45446 | K34: =INDEX(Variables!$A$5:$F$136,MATCH($F34&"-"&G34,Variables!$A$5:$A$136,),6) -> 3 | L34: =EDATE(J34,12*K34) -> 46541 | M34: =INDEX(Variables!$A$5:$F$136,MATCH(F34&"-"&(G34+1),Variables!$A$5:$A$136,),3) -> 9 | N34: 401 | O34: 376
A35: C1-1 | E35: Adjoint administratif territorial | F35: =INDEX(Variables!$A$5:$F$136,MATCH($A35,Variables!$A$5:$A$136,),2) -> C1 | G35: =INDEX(Variables!$A$5:$F$136,MATCH($A35,Variables!$A$5:$A$136,),3) -> 1 | H35: =INDEX(Variables!$A$5:$F$136,MATCH($F35&"-"&G35,Variables!$A$5:$A$136,),4) -> 367 | I35: =INDEX(Variables!$A$5:$F$136,MATCH($F35&"-"&G35,Variables!$A$5:$A$136,),5) -> 366 | J35: 42486 | K35: =INDEX(Variables!$A$5:$F$136,MATCH($F35&"-"&G35,Variables!$A$5:$A$136,),6) -> 1 | L35: =EDATE(J35,12*K35) -> 42851 | M35: =INDEX(Variables!$A$5:$F$136,MATCH(F35&"-"&(G35+1),Variables!$A$5:$A$136,),3) -> 2 | N35: 368 | O35: 367 | P35: à faire pour effet au 01/01/2026
A36: AM1-8 | E36: Adjoint technique territorial | F36: =INDEX(Variables!$A$5:$F$136,MATCH($A36,Variables!$A$5:$A$136,),2) -> AM1 | G36: =INDEX(Variables!$A$5:$F$136,MATCH($A36,Variables!$A$5:$A$136,),3) -> 8 | H36: =INDEX(Variables!$A$5:$F$136,MATCH($F36&"-"&G36,Variables!$A$5:$A$136,),4) -> 449 | I36: =INDEX(Variables!$A$5:$F$136,MATCH($F36&"-"&G36,Variables!$A$5:$A$136,),5) -> 399 | J36: 45796 | K36: =INDEX(Variables!$A$5:$F$136,MATCH($F36&"-"&G36,Variables!$A$5:$A$136,),6) -> 2 | L36: =EDATE(J36,12*K36) -> 46526 | M36: =INDEX(Variables!$A$5:$F$136,MATCH(F36&"-"&(G36+1),Variables!$A$5:$A$136,),3) -> 9 | N36: 401 | O36: 376
A37: B1-4 | E37: Assistant d'enseignement artistique principal de 2ème classe | F37: =INDEX(Variables!$A$5:$F$136,MATCH($A37,Variables!$A$5:$A$136,),2) -> B1 | G37: =INDEX(Variables!$A$5:$F$136,MATCH($A37,Variables!$A$5:$A$136,),3) -> 4 | H37: =INDEX(Variables!$A$5:$F$136,MATCH($F37&"-"&G37,Variables!$A$5:$A$136,),4) -> 401 | I37: =INDEX(Variables!$A$5:$F$136,MATCH($F37&"-"&G37,Variables!$A$5:$A$136,),5) -> 376 | J37: 45537 | K37: =INDEX(Variables!$A$5:$F$136,MATCH($F37&"-"&G37,Variables!$A$5:$A$136,),6) -> 1 | L37: =EDATE(J37,12*K37) -> 45902 | M37: =INDEX(Variables!$A$5:$F$136,MATCH(F37&"-"&(G37+1),Variables!$A$5:$A$136,),3) -> 5 | N37: 415 | O37: 377 | P37: à faire pour effet au 01/01/2026
A38: C1-4 | E38: Adjoint administratif territorial | F38: =INDEX(Variables!$A$5:$F$136,MATCH($A38,Variables!$A$5:$A$136,),2) -> C1 | G38: =INDEX(Variables!$A$5:$F$136,MATCH($A38,Variables!$A$5:$A$136,),3) -> 4 | H38: =INDEX(Variables!$A$5:$F$136,MATCH($F38&"-"&G38,Variables!$A$5:$A$136,),4) -> 371 | I38: =INDEX(Variables!$A$5:$F$136,MATCH($F38&"-"&G38,Variables!$A$5:$A$136,),5) -> 369 | J38: 45705 | K38: =INDEX(Variables!$A$5:$F$136,MATCH($F38&"-"&G38,Variables!$A$5:$A$136,),6) -> 1 | L38: =EDATE(J38,12*K38) -> 46070 | M38: =INDEX(Variables!$A$5:$F$136,MATCH(F38&"-"&(G38+1),Variables!$A$5:$A$136,),3) -> 5 | N38: 374 | O38: 370 | P38: à faire
A39: B1-4 | E39: Assistant d'enseignement artistique principal de 2ème classe | F39: =INDEX(Variables!$A$5:$F$136,MATCH($A39,Variables!$A$5:$A$136,),2) -> B1 | G39: =INDEX(Variables!$A$5:$F$136,MATCH($A39,Variables!$A$5:$A$136,),3) -> 4 | H39: =INDEX(Variables!$A$5:$F$136,MATCH($F39&"-"&G39,Variables!$A$5:$A$136,),4) -> 401 | I39: =INDEX(Variables!$A$5:$F$136,MATCH($F39&"-"&G39,Variables!$A$5:$A$136,),5) -> 376 | J39: 45302 | K39: =INDEX(Variables!$A$5:$F$136,MATCH($F39&"-"&G39,Variables!$A$5:$A$136,),6) -> 1 | L39: =EDATE(J39,12*K39) -> 45668 | M39: =INDEX(Variables!$A$5:$F$136,MATCH(F39&"-"&(G39+1),Variables!$A$5:$A$136,),3) -> 5 | N39: 415 | O39: 377 | P39: à faire pour effet au 01/01/2026
A40: C1-1 | E40: Adjoint technique territorial | F40: =INDEX(Variables!$A$5:$F$136,MATCH($A40,Variables!$A$5:$A$136,),2) -> C1 | G40: =INDEX(Variables!$A$5:$F$136,MATCH($A40,Variables!$A$5:$A$136,),3) -> 1 | H40: =INDEX(Variables!$A$5:$F$136,MATCH($F40&"-"&G40,Variables!$A$5:$A$136,),4) -> 367 | I40: =INDEX(Variables!$A$5:$F$136,MATCH($F40&"-"&G40,Variables!$A$5:$A$136,),5) -> 366 | J40: 45250 | K40: =INDEX(Variables!$A$5:$F$136,MATCH($F40&"-"&G40,Variables!$A$5:$A$136,),6) -> 1 | L40: =EDATE(J40,12*K40) -> 45616 | M40: =INDEX(Variables!$A$5:$F$136,MATCH(F40&"-"&(G40+1),Variables!$A$5:$A$136,),3) -> 2 | N40: 368 | O40: 367 | P40: à faire pour effet au 01/01/2026
A41: B1-2 | E41: Assistant d'enseignement artistique principal de 2ème classe | F41: =INDEX(Variables!$A$5:$F$136,MATCH($A41,Variables!$A$5:$A$136,),2) -> B1 | G41: =INDEX(Variables!$A$5:$F$136,MATCH($A41,Variables!$A$5:$A$136,),3) -> 2 | H41: =INDEX(Variables!$A$5:$F$136,MATCH($F41&"-"&G41,Variables!$A$5:$A$136,),4) -> 395 | I41: =INDEX(Variables!$A$5:$F$136,MATCH($F41&"-"&G41,Variables!$A$5:$A$136,),5) -> 374 | J41: 45931 | K41: =INDEX(Variables!$A$5:$F$136,MATCH($F41&"-"&G41,Variables!$A$5:$A$136,),6) -> 1 | L41: =EDATE(J41,12*K41) -> 46296 | M41: =INDEX(Variables!$A$5:$F$136,MATCH(F41&"-"&(G41+1),Variables!$A$5:$A$136,),3) -> 3 | N41: 429 | O41: 384 | P41: avenant contrat fait le 08/07/2025 avec ces informations, prochain cadencement à faire au 01/10/2028
...

Sheet C
A1: CATÉGORIE C
A3: Échelles de rémunération C1, C2 et C3
A5: Échelon | B5: IB | C5: IM | D5: Durée | E5: Brut | F5: SP D2016-596 - EI D2016-604
A6: 1 | B6: 367 | C6: 366 | D6: 1 an | E6: 1801.74 | F6: Échelle de rémunération C1
A7: 2 | B7: 368 | C7: 367 | D7: 1 an | E7: 1806.66 | F7: Adjoint administratif territorial
A8: 3 | B8: 370 | C8: 368 | D8: 1 an | E8: 1811.58 | F8: Adjoint technique territorial
A9: 4 | B9: 371 | C9: 369 | D9: 1 an | E9: 1816.51 | F9: Adjoint technique territorial des EE
A10: 5 | B10: 374 | C10: 370 | D10: 1 an | E10: 1821.43 | F10: Adjoint territorial d'animation
A11: 6 | B11: 378 | C11: 371 | D11: 1 an | E11: 1826.35 | F11: Adjoint territorial du patrimoine
A12: 7 | B12: 381 | C12: 372 | D12: 3 ans | E12: 1831.28 | F12: Agent social territorial
A13: 8 | B13: 387 | C13: 373 | D13: 3 ans | E13: 1836.2 | F13: Opérateur territorial des activités physiques et sportives
A14: 9 | B14: 401 | C14: 376 | D14: 3 ans | E14: 1850.97 | F14: Sapeur de SPP
A15: 10 | B15: 419 | C15: 377 | D15: 4 ans | E15: 1855.89 | F15: Traitement brut moyen : | G15: 1853.43
A16: 11 | B16: 432 | C16: 387 | D16: - | E16: 1905.12 | F16: Taux horaire moyen : | G16: 12.22
A18: Échelon | B18: IB | C18: IM | D18: Durée | E18: Brut | F18: Échelle de rémunération C2
A19: 1 | B19: 368 | C19: 367 | D19: 1 an | E19: 1806.66 | F19: Adjoint administratif territorial principal de 2ème cl.
A20: 2 | B20: 371 | C20: 369 | D20: 1 an | E20: 1816.51 | F20: Adjoint technique territorial principal de 2ème cl.
A21: 3 | B21: 376 | C21: 370 | D21: 1 an | E21: 1821.43 | F21: Adjoint technique territorial principal de 2ème cl. des EE
A22: 4 | B22: 387 | C22: 373 | D22: 1 an | E22: 1836.2 | F22: Adjoint territorial d'animation principal de 2ème cl.
A23: 5 | B23: 396 | C23: 374 | D23: 1 an | E23: 1841.12 | F23: Adjoint territorial du patrimoine principal de 2ème cl.
A24: 6 | B24: 404 | C24: 376 | D24: 1 an | E24: 1850.97 | F24: Agent social territorial principal de 2ème cl.
A25: 7 | B25: 416 | C25: 377 | D25: 2 ans | E25: 1855.89 | F25: Agent territorial spécialisé principal de 2ème cl. des écoles maternelles
A26: 8 | B26: 430 | C26: 385 | D26: 2 ans | E26: 1895.27 | F26: Auxiliaire de soins territorial principal de 2ème cl.
A27: 9 | B27: 446 | C27: 397 | D27: 3 ans | E27: 1954.34 | F27: Caporal de SPP
A28: 10 | B28: 461 | C28: 409 | D28: 3 ans | E28: 2013.42 | F28: Garde champêtre chef
A29: 11 | B29: 473 | C29: 417 | D29: 4 ans | E29: 2052.8 | F29: Opérateur territorial des activités physiques et sportives qualifié
A30: 12 | B30: 486 | C30: 425 | D30: - | E30: 2092.18 | F30: Traitement brut moyen : | G30: 1949.42
F31: Taux horaire moyen : | G31: 12.85
A32: Échelon | B32: IB | C32: IM | D32: Durée | E32: Brut | F32: Échelle de rémunération C3
A33: 1 | B33: 388 | C33: 373 | D33: 1 an | E33: 1836.2 | F33: Adjoint administratif territorial principal de 1ère cl.
A34: 2 | B34: 397 | C34: 375 | D34: 1 an | E34: 1846.04 | F34: Adjoint technique territorial principal de 1ère cl.
A35: 3 | B35: 412 | C35: 376 | D35: 2 ans | E35: 1850.97 | F35: Adjoint technique territorial principal de 1ère cl. des EE
A36: 4 | B36: 430 | C36: 385 | D36: 2 ans | E36: 1895.27 | F36: Adjoint territorial d'animation principal de 1ère cl.
A37: 5 | B37: 448 | C37: 398 | D37: 2 ans | E37: 1959.27 | F37: Adjoint territorial du patrimoine principal de 1ère cl.
A38: 6 | B38: 460 | C38: 408 | D38: 2 ans | E38: 2008.5 | F38: Agent social territorial principal de 1ère cl.
A39: 7 | B39: 478 | C39: 420 | D39: 3 ans | E39: 2067.57 | F39: Agent territorial spécialisé principal de 1ère cl. des écoles maternelles
A40: 8 | B40: 499 | C40: 435 | D40: 3 ans | E40: 2141.41 | F40: Auxiliaire de soins territorial principal de 1ère cl.
A41: 9 | B41: 525 | C41: 455 | D41: 3 ans | E41: 2239.87 | F41: Caporal-chef de SPP
A42: 10 | B42: 558 | C42: 478 | D42: - | E42: 2353.09 | F42: Garde champêtre chef principal
F43: Opérateur territorial des activités physiques et sportives principal
...

Sheet B
A1: CATÉGORIE B
A3: Échelles de rémunération B1, B2 et B3
A5: Échelon | B5: IB | C5: IM | D5: Durée | E5: Brut | F5: SP D2010-329 + D2013-490 - EI D2010-330 + D2013-493
A6: 1 | B6: 389 | C6: 373 | D6: 1 an | E6: 1836.2
A7: 2 | B7: 395 | C7: 374 | D7: 1 an | E7: 1841.12 | F7: Échelle de rémunération B1
A8: 3 | B8: 397 | C8: 375 | D8: 1 an | E8: 1846.04 | F8: Animateur territorial
A9: 4 | B9: 401 | C9: 376 | D9: 1 an | E9: 1850.97 | F9: Assistant territorial de conservation du patrimoine et des bibliothèques
A10: 5 | B10: 415 | C10: 377 | D10: 2 ans | E10: 1855.89 | F10: Assistant territorial d'enseignement artistique
A11: 6 | B11: 431 | C11: 386 | D11: 2 ans | E11: 1900.19 | F11: Chef de service de police municipale
A12: 7 | B12: 452 | C12: 401 | D12: 2 ans | E12: 1974.04 | F12: Éducateur territorial des activités physiques et sportives
A13: 8 | B13: 478 | C13: 420 | D13: 3 ans | E13: 2067.57 | F13: Lieutenant de SPP de 2ème cl.
A14: 9 | B14: 500 | C14: 436 | D14: 3 ans | E14: 2146.33 | F14: Moniteur-éducateur et intervenant familial territorial
A15: 10 | B15: 513 | C15: 446 | D15: 3 ans | E15: 2195.56 | F15: Rédacteur territorial
A16: 11 | B16: 538 | C16: 462 | D16: 3 ans | E16: 2274.33 | F16: Technicien territorial
A17: 12 | B17: 563 | C17: 482 | D17: 4 ans | E17: 2372.78 | F17: Traitement brut moyen : | G17: 2168.49
A18: 13 | B18: 597 | C18: 508 | D18: - | E18: 2500.77 | F18: Taux horaire moyen : | G18: 14.3
A20: Échelon | B20: IB | C20: IM | D20: Durée | E20: Brut
A21: 1 | B21: 401 | C21: 376 | D21: 1 an | E21: 1850.97 | F21: Échelle de rémunération B2
A22: 2 | B22: 415 | C22: 377 | D22: 1 an | E22: 1855.89 | F22: Animateur territorial principal de 2ème cl.
A23: 3 | B23: 429 | C23: 384 | D23: 2 ans | E23: 1890.35 | F23: Assistant territorial de conservation PB principal de 2ème cl.
A24: 4 | B24: 444 | C24: 395 | D24: 2 ans | E24: 1944.5 | F24: Assistant territorial d'enseignement artistique principal de 2ème cl.
A25: 5 | B25: 458 | C25: 406 | D25: 2 ans | E25: 1998.65 | F25: Chef de service de police municipale principal de 2ème cl.
A26: 6 | B26: 480 | C26: 421 | D26: 2 ans | E26: 2072.49 | F26: Éducateur territorial APS principal de 2ème cl.
A27: 7 | B27: 506 | C27: 441 | D27: 3 ans | E27: 2170.95 | F27: Lieutenant de SPP de 1ère cl.
A28: 8 | B28: 528 | C28: 457 | D28: 3 ans | E28: 2249.71 | F28: Moniteur-éducateur et intervenant familial territorial principal
A29: 9 | B29: 542 | C29: 466 | D29: 3 ans | E29: 2294.02 | F29: Rédacteur territorial principal de 2ème cl.
A30: 10 | B30: 567 | C30: 485 | D30: 3 ans | E30: 2387.55 | F30: Technicien territorial principal de 2ème cl.
A31: 11 | B31: 599 | C31: 509 | D31: 4 ans | E31: 2505.7 | F31: Traitement brut moyen : | G31: 2252.18
A32: 12 | B32: 638 | C32: 539 | D32: - | E32: 2653.38 | F32: Taux horaire moyen : | G32: 14.85
A34: Échelon | B34: IB | C34: IM | D34: Durée | E34: Brut
A35: 1 | B35: 446 | C35: 397 | D35: 1 an | E35: 1954.34 | F35: Échelle de rémunération B3
A36: 2 | B36: 461 | C36: 409 | D36: 2 ans | E36: 2013.42 | F36: Animateur territorial principal de 1ère cl.
A37: 3 | B37: 484 | C37: 424 | D37: 2 ans | E37: 2087.26 | F37: Assistant territorial de conservation PB principal de 1ère cl.
A38: 4 | B38: 513 | C38: 446 | D38: 2 ans | E38: 2195.56 | F38: Assistant territorial d'enseignement artistique principal de 1ère cl.
A39: 5 | B39: 547 | C39: 470 | D39: 2 ans | E39: 2313.71 | F39: Chef de service de police municipale principal de 1ère cl.
A40: 6 | B40: 573 | C40: 489 | D40: 3 ans | E40: 2407.24 | F40: Éducateur territorial APS principal de 1ère cl.
A41: 7 | B41: 604 | C41: 513 | D41: 3 ans | E41: 2525.39 | F41: Lieutenant de SPP hors cl.
A42: 8 | B42: 638 | C42: 539 | D42: 3 ans | E42: 2653.38 | F42: Rédacteur territorial principal de 1ère cl.
A43: 9 | B43: 660 | C43: 556 | D43: 3 ans | E43: 2737.07 | F43: Technicien territorial principal de 1ère cl.
A44: 10 | B44: 684 | C44: 574 | D44: 3 ans | E44: 2825.68 | F44: Traitement brut moyen : | G44: 2434.32
...

Sheet A
F1: CATÉGORIE A
A3: Attachés territoriaux (fil. administrative)
A5: Échelon | B5: IB | C5: IM | D5: Durée | E5: Brut | F5: Statut particulier : Décret n° 87-1099
A6: 1 | B6: 444 | C6: 395 | D6: 1a 6m | E6: 1944.5 | F6: Échelonnement indiciaire : Décret n° 87-1100
A7: 2 | B7: 469 | C7: 415 | D7: 2 ans | E7: 2042.96
A8: 3 | B8: 499 | C8: 435 | D8: 2 ans | E8: 2141.41 | F8: Attaché territorial
A9: 4 | B9: 525 | C9: 455 | D9: 2 ans | E9: 2239.87
A10: 5 | B10: 567 | C10: 485 | D10: 2a 6m | E10: 2387.55
A11: 6 | B11: 611 | C11: 518 | D11: 3 ans | E11: 2550 | F11: Traitement brut moyen : | G11: 2641.08
A12: 7 | B12: 653 | C12: 550 | D12: 3 ans | E12: 2707.53 | F12: Taux horaire moyen : | G12: 17.41
A13: 8 | B13: 693 | C13: 580 | D13: 3 ans | E13: 2855.21
A14: 9 | B14: 732 | C14: 610 | D14: 3 ans | E14: 3002.9
A15: 10 | B15: 778 | C15: 645 | D15: 4 ans | E15: 3175.2
A16: 11 | B16: 821 | C16: 678 | D16: - | E16: 3337.65
A18: Échelon | B18: IB | C18: IM | D18: Durée | E18: Brut
A19: 1 | B19: 593 | C19: 505 | D19: 2 ans | E19: 2486.01 | F19: Attaché territorial principal
A20: 2 | B20: 639 | C20: 540 | D20: 2 ans | E20: 2658.3
A21: 3 | B21: 693 | C21: 580 | D21: 2 ans | E21: 2855.21
A22: 4 | B22: 732 | C22: 610 | D22: 2 ans | E22: 3002.9 | F22: Traitement brut moyen : | G22: 3276.12
A23: 5 | B23: 791 | C23: 655 | D23: 2 ans | E23: 3224.42 | F23: Taux horaire moyen : | G23: 21.6
A24: 6 | B24: 843 | C24: 695 | D24: 2a 6m | E24: 3421.33
A25: 7 | B25: 896 | C25: 735 | D25: 2a 6m | E25: 3618.25
A26: 8 | B26: 946 | C26: 773 | D26: 3 ans | E26: 3805.31
A27: 9 | B27: 995 | C27: 811 | D27: 3 ans | E27: 3992.38
A28: 10 | B28: 1015 | C28: 826 | D28: - | E28: 4066.22
A30: Échelon | B30: IB | C30: IM | D30: Durée | E30: Brut
A31: 1 | B31: 797 | C31: 660 | D31: 2 ans | E31: 3201.02 | F31: Attaché territorial hors cl.
A32: 2 | B32: 850 | C32: 700 | D32: 2 ans | E32: 3395.02
A33: 3 | B33: 896 | C33: 735 | D33: 2 ans | E33: 3618.25
A34: 4 | B34: 946 | C34: 773 | D34: 2a 6m | E34: 3805.31 | F34: Traitement brut moyen : | G34: 3803.46
A35: 5 | B35: 995 | C35: 811 | D35: 3 ans | E35: 3992.38 | F35: Taux horaire moyen : | G35: 25.08
A36: 6 | B36: 1027 | C36: 835 | D36: - | E36: 4110.52
A37: Éch. Spé. | B37: HEA | D37: - | E37: 4405.89
A39: Administrateurs territoriaux (fil. administrative)
A41: Échelon | B41: IB | C41: IM | D41: Durée | E41: Brut | F41: Statut particulier : Décret n° 87-1097
A42: 1 | B42: 542 | C42: 466 | D42: 6 mois | E42: 2294.02 | F42: Échelonnement indiciaire : Décret n° 87-1098
A43: 2 | B43: 600 | C43: 510 | D43: 1 an | E43: 2510.62
A44: 3 | B44: 665 | C44: 560 | D44: 1 an | E44: 2756.76 | F44: Administrateur territorial
A45: 4 | B45: 713 | C45: 596 | D45: 1 an | E45: 2933.98
A46: 5 | B46: 762 | C46: 633 | D46: 1a 6m | E46: 3116.12
...

Sheet I
A1: Ingénieurs territoriaux (fil. technique)
A3: Échelon | B3: IB | C3: IM | D3: Durée | E3: Brut | F3: Statut particulier : Décret n° 2016-201
A4: 1 | B4: 444 | C4: 395 | D4: 1a 6m | E4: 1944.5 | F4: Échelonnement indiciaire : Décret n° 2016-203
A5: 2 | B5: 484 | C5: 424 | D5: 2 ans | E5: 2087.26
A6: 3 | B6: 518 | C6: 450 | D6: 2 ans | E6: 2215.25 | F6: Ingénieur territorial
A7: 4 | B7: 565 | C7: 483 | D7: 2a 6m | E7: 2377.7
A8: 5 | B8: 611 | C8: 518 | D8: 3 ans | E8: 2550
A9: 6 | B9: 646 | C9: 545 | D9: 4 ans | E9: 2682.92 | F9: Traitement brut moyen : | G9: 2641.08
A10: 7 | B10: 697 | C10: 583 | D10: 4 ans | E10: 2869.98 | F10: Taux horaire moyen : | G10: 17.41
A11: 8 | B11: 739 | C11: 615 | D11: 4 ans | E11: 3027.51
A12: 9 | B12: 774 | C12: 642 | D12: 4 ans | E12: 3160.43
A13: 10 | B13: 821 | C13: 678 | D13: - | E13: 3337.65
A15: Échelon | B15: IB | C15: IM | D15: Durée | E15: Brut
A16: 1 | B16: 619 | C16: 524 | D16: 2 ans | E16: 2579.54 | F16: Ingénieur territorial principal
A17: 2 | B17: 665 | C17: 560 | D17: 2a 6m | E17: 2756.76
A18: 3 | B18: 721 | C18: 602 | D18: 3 ans | E18: 2963.52
A19: 4 | B19: 791 | C19: 655 | D19: 3 ans | E19: 3224.42 | F19: Traitement brut moyen : | G19: 3322.88
A20: 5 | B20: 837 | C20: 690 | D20: 3 ans | E20: 3396.72 | F20: Taux horaire moyen : | G20: 21.91
A21: 6 | B21: 896 | C21: 735 | D21: 3 ans | E21: 3618.25
A22: 7 | B22: 946 | C22: 773 | D22: 3 ans | E22: 3805.31
A23: 8 | B23: 995 | C23: 811 | D23: 3 ans | E23: 3992.38
A24: 9 | B24: 1015 | C24: 826 | D24: - | E24: 4066.22
A26: Échelon | B26: IB | C26: IM | D26: Durée | E26: Brut
A27: 1 | B27: 850 | C27: 700 | D27: 2 ans | E27: 3445.95 | F27: Ingénieur territorial hors cl.
A28: 2 | B28: 896 | C28: 735 | D28: 2 ans | E28: 3618.25
A29: 3 | B29: 946 | C29: 773 | D29: 2a 6m | E29: 3805.31
A30: 4 | B30: 995 | C30: 811 | D30: 3 ans | E30: 3992.38 | F30: Traitement brut moyen : | G30: 3925.92
A31: 5 | B31: 1027 | C31: 835 | D31: - | E31: 4110.52 | F31: Taux horaire moyen : | G31: 25.88
A32: Éch. Spé. | B32: HEA | D32: - | E32: 4405.89
A34: Ingénieurs en chef territoriaux (fil. technique)
A36: Échelon | B36: IB | C36: IM | D36: Durée | E36: Brut | F36: Statut particulier : Décret n° 2016-200
A37: 1 | B37: 461 | C37: 409 | D37: 1 an | E37: 2013.42 | F37: Échelonnement indiciaire : Décret n° 2016-202
A38: 2 | B38: 525 | C38: 455 | D38: 1 an | E38: 2239.87
A39: 3 | B39: 574 | C39: 490 | D39: 1a 6m | E39: 2412.16 | F39: Ingénieur en chef territorial
A40: 4 | B40: 623 | C40: 528 | D40: 1a 6m | E40: 2599.23
A41: 5 | B41: 665 | C41: 560 | D41: 2 ans | E41: 2756.76
A42: 6 | B42: 713 | C42: 596 | D42: 2 ans | E42: 2933.98 | F42: Traitement brut moyen : | G42: 3039.82
A43: 7 | B43: 782 | C43: 649 | D43: 2 ans | E43: 3194.89 | F43: Taux horaire moyen : | G43: 20.04
A44: 8 | B44: 862 | C44: 710 | D44: 2a 6m | E44: 3495.18
A45: 9 | B45: 912 | C45: 748 | D45: 3 ans | E45: 3682.24
...

Sheet Table 1
A1: CENTRE DE GESTION DE LA FONCTION PUBLIQUE TERRITORIALE DE LA HAUTE-GARONNE
A2: GRILLES INDICIAIRES applicables à la fonction publique territoriale à compter du 1er janvier 2024
A3: Références : • Code général de la fonction publique (Tit. Ier – Liv. VII) ; • Décret n° 82-1105 du 23 décembre 1982 relatif aux indices de la fonction publique ; • Décret n° 85-1148 du 24 octobre 1985 relatif à la rémunération des personnels civils et militaires de l'État, des personnels des collectivités territoriales et des personnels des établissements publics d'hospitalisation ;
A4: La présente circulaire contient l’ensemble des grilles indiciaires applicables à la fonction publique territoriale au 1er janvier 2024.
A5: Le décret n° 2023-519 du 28 juin 2023 (JORF n°0149 du 29 juin 2023) portant majoration de la rémunération des personnels civils et militaires de l'Etat, des personnels des collectivités territoriales et des établissements publics d'hospitalisation attribue, à compter du 1er janvier 2024, 5 points d'indice majoré.
A8: Document réalisé par le Centre de Gestion du Haut-Rhin (CDG68) et diffusé avec son autorisation.
A9: Éléments de paie
A10: Valeur annuelle de l'indice 100 (en vigueur depuis le 1er juillet 2023) | C10: 5907.34
A11: Valeur mensuelle du point (en vigueur depuis le 1er juillet 2023) | C11: 4, 92278 €
A12: Correspondance IB / IM (en vigueur depuis le 1er janvier 2024) | C12: Voir barème A
A13: Correspondance IM / Traitements annuels bruts (en vigueur depuis le 1er juillet 2023) | C13: Voir barème B
A14: Hors échelle | B14: Chevron | C14: Valeur annuelle | D14: Valeur mensuelle
A15: Hors échelle A | B15: Chevron I | C15: 52870.69 | D15: 4405.89
B16: Chevron II | C16: 54938.26 | D16: 4578.19
B17: Chevron III | C17: 57714.71 | D17: 4809.56
A18: Hors échelle B | B18: Chevron I | C18: 57714.71 | D18: 4809.56
B19: Chevron II | C19: 60136.72 | D19: 5011.39
B20: Chevron III | C20: 63326.68 | D20: 5277.22
A21: Hors échelle B-BIS | B21: Chevron I | C21: 63326.68 | D21: 5277.22
B22: Chevron II | C22: 64980.74 | D22: 5415.06
B23: Chevron III | C23: 66693.87 | D23: 5557.82
A24: Hors échelle C | B24: Chevron I | C24: 66693.87 | D24: 5557.82
B25: Chevron II | C25: 68111.63 | D25: 5675.97
B26: Chevron III | C26: 69588.47 | D26: 5799.04
A27: Hors échelle D | B27: Chevron I | C27: 69588.47 | D27: 5799.04
B28: Chevron II | C28: 72719.36 | D28: 6059.95
B29: Chevron III | C29: 75850.25 | D29: 6320.85

Sheet Table 3
A1: Agents de police municipale (fil. police municipale)
A3: Échelon | B3: IB | C3: IM | D3: Durée | E3: Brut | F3: SP D2006-1391 - EI D94-733
A4: 1 | B4: 368 | C4: 367 | D4: 1 an | E4: 1806.66
A5: 2 | B5: 371 | C5: 369 | D5: 1 an | E5: 1816.51 | F5: Gardien-brigadier de police municipale
A6: 3 | B6: 376 | C6: 370 | D6: 1 an | E6: 1821.43 | F6: (= Échelle de rémunération C2)
A7: 4 | B7: 387 | C7: 373 | D7: 1 an | E7: 1836.2
A8: 5 | B8: 396 | C8: 374 | D8: 1 an | E8: 1841.12 | F8: Traitement brut moyen : | G8: 1949.42
A9: 6 | B9: 404 | C9: 376 | D9: 1 an | E9: 1850.97 | F9: Taux horaire moyen : | G9: 12.85
A10: 7 | B10: 416 | C10: 377 | D10: 2 ans | E10: 1855.89
A11: 8 | B11: 430 | C11: 385 | D11: 2 ans | E11: 1895.27
A12: 9 | B12: 446 | C12: 397 | D12: 3 ans | E12: 1954.34
A13: 10 | B13: 461 | C13: 409 | D13: 3 ans | E13: 2013.42
A14: 11 | B14: 473 | C14: 417 | D14: 4 ans | E14: 2052.8
A15: 12 | B15: 486 | C15: 425 | D15: - | E15: 2092.18
A17: Échelon | B17: IB | C17: IM | D17: Durée | E17: Brut
A18: 1 | B18: 390 | C18: 373 | D18: 2 ans | E18: 1836.2 | F18: Brigadier-chef principal de police municipale
A19: 2 | B19: 407 | C19: 376 | D19: 2 ans | E19: 1850.97
A20: 3 | B20: 425 | C20: 382 | D20: 2 ans | E20: 1880.5
A21: 4 | B21: 445 | C21: 396 | D21: 2 ans | E21: 1949.42 | F21: Traitement brut moyen : | G21: 2168.49
A22: 5 | B22: 469 | C22: 415 | D22: 2 ans | E22: 2042.96 | F22: Taux horaire moyen : | G22: 14.3
A23: 6 | B23: 487 | C23: 426 | D23: 2a 6m | E23: 2097.11
A24: 7 | B24: 501 | C24: 437 | D24: 3 ans | E24: 2151.26
A25: 8 | B25: 526 | C25: 456 | D25: 4 ans | E25: 2244.79
A26: 9 | B26: 566 | C26: 484 | D26: 4 ans | E26: 2382.63
A27: 10 | B27: 597 | C27: 508 | D27: - | E27: 2500.77
A29: Sous-officiers de SPP (fil. SPP)
A31: Échelon | B31: IB | C31: IM | D31: Durée | E31: Brut | F31: SP D2012-521 - EI D2012-524
A32: 1 | B32: 376 | C32: 370 | D32: 2 ans | E32: 1821.43
A33: 2 | B33: 388 | C33: 373 | D33: 2 ans | E33: 1836.2 | F33: Sergent de SPP
A34: 3 | B34: 415 | C34: 377 | D34: 2 ans | E34: 1855.89
A35: 4 | B35: 437 | C35: 390 | D35: 2 ans | E35: 1919.89
A36: 5 | B36: 449 | C36: 399 | D36: 3 ans | E36: 1964.19 | F36: Traitement brut moyen : | G36: 2094.65
A37: 6 | B37: 465 | C37: 412 | D37: 3 ans | E37: 2028.19 | F37: Taux horaire moyen : | G37: 13.81
A38: 7 | B38: 499 | C38: 435 | D38: 4 ans | E38: 2141.41
A39: 8 | B39: 526 | C39: 456 | D39: 4 ans | E39: 2244.79
A40: 9 | B40: 562 | C40: 481 | D40: - | E40: 2367.86
A42: Échelon | B42: IB | C42: IM | D42: Durée | E42: Brut
A43: 1 | B43: 390 | C43: 373 | D43: 1 an | E43: 1836.2 | F43: Adjudant de SPP
A44: 2 | B44: 400 | C44: 376 | D44: 1 an | E44: 1850.97
A45: 3 | B45: 420 | C45: 378 | D45: 2 ans | E45: 1860.81
...

Sheet Table 5
A1: Techniciens paramédicaux territoriaux (fil. médico-sociale / médico-technique)
A3: Échelon | B3: IB | C3: IM | D3: Durée | E3: Brut | F3: SP D2013-262 - EI D2013-263
A4: 1 | B4: 389 | C4: 373 | D4: 2 ans | E4: 1836.2
A5: 2 | B5: 418 | C5: 377 | D5: 3 ans | E5: 1855.89 | F5: Technicien paramédical territorial de cl. normale
A6: 3 | B6: 442 | C6: 394 | D6: 3 ans | E6: 1939.58
A7: 4 | B7: 468 | C7: 414 | D7: 4 ans | E7: 2038.03
A8: 5 | B8: 498 | C8: 434 | D8: 4 ans | E8: 2136.49 | F8: Traitement brut moyen : | G8: 2244.79
A9: 6 | B9: 543 | C9: 467 | D9: 4 ans | E9: 2298.94 | F9: Taux horaire moyen : | G9: 14.8
A10: 7 | B10: 587 | C10: 500 | D10: 4 ans | E10: 2461.39
A11: 8 | B11: 638 | C11: 539 | D11: - | E11: 2653.38
A13: Échelon | B13: IB | C13: IM | D13: Durée | E13: Brut
A14: 1 | B14: 532 | C14: 460 | D14: 1 an | E14: 2264.48 | F14: Technicien paramédical territorial de cl. supérieure
A15: 2 | B15: 553 | C15: 474 | D15: 2 ans | E15: 2333.4
A16: 3 | B16: 587 | C16: 500 | D16: 2 ans | E16: 2461.39
A17: 4 | B17: 621 | C17: 526 | D17: 2a 6m | E17: 2589.38 | F17: Traitement brut moyen : | G17: 2670.61
A18: 5 | B18: 652 | C18: 549 | D18: 2a 6m | E18: 2702.61 | F18: Taux horaire moyen : | G18: 17.61
A19: 6 | B19: 674 | C19: 566 | D19: 2a 6m | E19: 2786.3
A20: 7 | B20: 693 | C20: 580 | D20: 2a 6m | E20: 2855.21
A21: 8 | B21: 705 | C21: 590 | D21: 3 ans | E21: 2904.44
A22: 9 | B22: 725 | C22: 605 | D22: 3 ans | E22: 2978.28
A23: 10 | B23: 751 | C23: 625 | D23: - | E23: 3076.74

Sheet Table 8
A1: Attachés territoriaux de conservation du patrimoine (fil. culturelle) Bibliothécaires territoriaux (fil. culturelle)
A3: Échelon | B3: IB | C3: IM | D3: Durée | E3: Brut | F3: Statut particulier : Décret n° 91-843
A4: 1 | B4: 444 | C4: 395 | D4: 1a 6m | E4: 1944.5 | F4: Échelonnement indiciaire : Décret n° 91-844
A5: 2 | B5: 469 | C5: 415 | D5: 2 ans | E5: 2042.96 | F5: Statut particulier : Décret n° 91-845
A6: 3 | B6: 499 | C6: 435 | D6: 2 ans | E6: 2141.41 | F6: Échelonnement indiciaire : Décret n° 91-846
A7: 4 | B7: 525 | C7: 455 | D7: 2 ans | E7: 2239.87
A8: 5 | B8: 567 | C8: 485 | D8: 2a 6m | E8: 2387.55 | F8: Attaché territorial de conservation du patrimoine
A9: 6 | B9: 611 | C9: 518 | D9: 3 ans | E9: 2550 | F9: Bibliothécaire territorial
A10: 7 | B10: 653 | C10: 550 | D10: 3 ans | E10: 2707.53
A11: 8 | B11: 693 | C11: 580 | D11: 3 ans | E11: 2855.21 | F11: Traitement brut moyen : | G11: 2641.08
A12: 9 | B12: 732 | C12: 610 | D12: 3 ans | E12: 3002.9 | F12: Taux horaire moyen : | G12: 17.41
A13: 10 | B13: 778 | C13: 645 | D13: 4 ans | E13: 3175.2
A14: 11 | B14: 821 | C14: 678 | D14: - | E14: 3337.65
A16: Échelon | B16: IB | C16: IM | D16: Durée | E16: Brut
A17: 1 | B17: 593 | C17: 505 | D17: 2 ans | E17: 2486.01 | F17: Attaché territorial principal de conservation du patrimoine
A18: 2 | B18: 639 | C18: 540 | D18: 2 ans | E18: 2658.3 | F18: Bibliothécaire territorial principal
A19: 3 | B19: 693 | C19: 580 | D19: 2 ans | E19: 2855.21
A20: 4 | B20: 732 | C20: 610 | D20: 2 ans | E20: 3002.9 | F20: Traitement brut moyen : | G20: 3276.12
A21: 5 | B21: 791 | C21: 655 | D21: 2 ans | E21: 3224.42 | F21: Taux horaire moyen : | G21: 21.6
A22: 6 | B22: 843 | C22: 695 | D22: 2a 6m | E22: 3421.33
A23: 7 | B23: 896 | C23: 735 | D23: 2a 6m | E23: 3618.25
A24: 8 | B24: 946 | C24: 773 | D24: 3 ans | E24: 3805.31
A25: 9 | B25: 995 | C25: 811 | D25: 3 ans | E25: 3992.38
A26: 10 | B26: 1015 | C26: 826 | D26: - | E26: 4066.22
A28: Conservateurs territoriaux du patrimoine (fil. culturelle)
A30: Échelon | B30: IB | C30: IM | D30: Durée | E30: Brut | F30: Statut particulier : Décret n° 91-839
A31: 1 | B31: 525 | C31: 455 | D31: 2 ans | E31: 2239.87 | F31: Échelonnement indiciaire : Décret n° 2022-559
A32: 2 | B32: 566 | C32: 484 | D32: 2 ans | E32: 2382.63
A33: 3 | B33: 620 | C33: 525 | D33: 2a 6m | E33: 2584.46 | F33: Conservateur territorial du patrimoine
A34: 4 | B34: 674 | C34: 566 | D34: 2a 6m | E34: 2786.3
A35: 5 | B35: 728 | C35: 607 | D35: 2a 6m | E35: 2988.13
A36: 6 | B36: 803 | C36: 664 | D36: 3 ans | E36: 3268.73 | F36: Traitement brut moyen : | G36: 2961.06
A37: 7 | B37: 878 | C37: 721 | D37: 3 ans | E37: 3549.33 | F37: Taux horaire moyen : | G37: 19.52
A38: 8 | B38: 912 | C38: 748 | D38: - | E38: 3682.24
A40: Échelon | B40: IB | C40: IM | D40: Durée | E40: Brut
A41: 1 | B41: 747 | C41: 622 | D41: 1 an | E41: 3061.97 | F41: Conservateur territorial du patrimoine en chef
A42: 2 | B42: 826 | C42: 682 | D42: 2 ans | E42: 3357.34
A43: 3 | B43: 924 | C43: 756 | D43: 2 ans | E43: 3721.62
A44: 4 | B44: 1015 | C44: 826 | D44: 2 ans | E44: 4066.22 | F44: Traitement brut moyen : | G44: 3935.76
A45: 5 | B45: 1027 | C45: 835 | D45: 3 ans | E45: 4110.52 | F45: Taux horaire moyen : | G45: 25.95
...

Sheet Table 9
A1: Professeurs territoriaux d'enseignement artistique (EA) (fil. culturelle)
A3: Échelon | B3: IB | C3: IM | D3: Durée | E3: Brut | F3: Statut particulier : Décret n° 91-857
A4: 1 | B4: 450 | C4: 400 | D4: 1a 6m | E4: 1969.11 | F4: Échelonnement indiciaire : Décret n° 91-858
A5: 2 | B5: 488 | C5: 427 | D5: 2a 6m | E5: 2102.03
A6: 3 | B6: 519 | C6: 451 | D6: 3 ans | E6: 2220.18 | F6: Professeur territorial d'EA de cl. normale
A7: 4 | B7: 558 | C7: 478 | D7: 3 ans | E7: 2353.09
A8: 5 | B8: 608 | C8: 516 | D8: 3 ans | E8: 2540.16
A9: 6 | B9: 668 | C9: 562 | D9: 3a 6m | E9: 2766.6 | F9: Traitement brut moyen : | G9: 2653.38
A10: 7 | B10: 712 | C10: 595 | D10: 3a 6m | E10: 2929.06 | F10: Taux horaire moyen : | G10: 17.49
A11: 8 | B11: 763 | C11: 634 | D11: 3a 6m | E11: 3121.04
A12: 9 | B12: 821 | C12: 678 | D12: - | E12: 3337.65
A14: Échelon | B14: IB | C14: IM | D14: Durée | E14: Brut
A15: 1 | B15: 620 | C15: 525 | D15: 2a 6m | E15: 2584.46 | F15: Professeur territorial d'EA hors cl.
A16: 2 | B16: 712 | C16: 595 | D16: 2a 6m | E16: 2929.06
A17: 3 | B17: 757 | C17: 629 | D17: 2a 6m | E17: 3096.43
A18: 4 | B18: 815 | C18: 673 | D18: 2a 6m | E18: 3313.03 | F18: Traitement brut moyen : | G18: 3325.34
A19: 5 | B19: 876 | C19: 720 | D19: 3 ans | E19: 3544.4 | F19: Taux horaire moyen : | G19: 21.92
A20: 6 | B20: 939 | C20: 768 | D20: 3 ans | E20: 3780.7
A21: 7 | B21: 995 | C21: 811 | D21: 3 ans | E21: 3992.38
A22: 8 | B22: 1015 | C22: 826 | D22: - | E22: 4066.22
A24: Directeurs d'établissements territoriaux d'enseignement artistique (EA) (fil. culturelle)
A26: Échelon | B26: IB | C26: IM | D26: Durée | E26: Brut | F26: Statut particulier : Décret n° 91-855
A27: 1 | B27: 588 | C27: 501 | D27: 1a 6m | E27: 2466.31 | F27: Échelonnement indiciaire : Décret n° 91-856
A28: 2 | B28: 620 | C28: 525 | D28: 3 ans | E28: 2584.46
A29: 3 | B29: 668 | C29: 562 | D29: 3 ans | E29: 2766.6 | F29: Directeur d'établissement territorial d'EA de 2ème cat.
A30: 4 | B30: 726 | C30: 606 | D30: 3 ans | E30: 2983.21
A31: 5 | B31: 767 | C31: 637 | D31: 3a 6m | E31: 3135.81
A32: 6 | B32: 815 | C32: 673 | D32: 3a 6m | E32: 3313.03 | F32: Traitement brut moyen : | G32: 3273.65
A33: 7 | B33: 858 | C33: 706 | D33: 3a 6m | E33: 3475.49 | F33: Taux horaire moyen : | G33: 21.58
A34: 8 | B34: 899 | C34: 737 | D34: 3a 6m | E34: 3628.09
A35: 9 | B35: 950 | C35: 776 | D35: 3a 6m | E35: 3820.08
A36: 10 | B36: 1020 | C36: 829 | D36: - | E36: 4080.99
A38: Échelon | B38: IB | C38: IM | D38: Durée | E38: Brut
A39: 1 | B39: 601 | C39: 511 | D39: 1a 6m | E39: 2515.54 | F39: Directeur d'établissement territorial d'EA de 1ère cat.
A40: 2 | B40: 641 | C40: 541 | D40: 3 ans | E40: 2663.23
A41: 3 | B41: 690 | C41: 578 | D41: 3 ans | E41: 2845.37
A42: 4 | B42: 742 | C42: 618 | D42: 3 ans | E42: 3042.28 | F42: Traitement brut moyen : | G42: 3313.03
A43: 5 | B43: 797 | C43: 660 | D43: 3a 6m | E43: 3249.04 | F43: Taux horaire moyen : | G43: 21.84
A44: 6 | B44: 862 | C44: 710 | D44: 3a 6m | E44: 3495.18
A45: 7 | B45: 929 | C45: 760 | D45: 3a 6m | E45: 3741.32
...

Sheet Table 10
A1: Directeurs de police municipale (fil. police municipale)
A3: Échelon | B3: IB | C3: IM | E3: Durée | F3: Brut | G3: Statut particulier : Décret n° 2006-1392
A4: 1 | B4: 444 | C4: 395 | E4: 1a 6m | F4: 1944.5 | G4: Échelonnement indiciaire : Décret n° 2006-1393
A5: 2 | B5: 469 | C5: 415 | E5: 2 ans | F5: 2042.96
A6: 3 | B6: 499 | C6: 435 | E6: 2 ans | F6: 2141.41 | G6: Directeur de police municipale
A7: 4 | B7: 525 | C7: 455 | E7: 2 ans | F7: 2239.87
A8: 5 | B8: 567 | C8: 485 | E8: 2a 6m | F8: 2387.55
A9: 6 | B9: 611 | C9: 518 | E9: 3 ans | F9: 2550 | G9: Traitement brut moyen : | H9: 1710.67
A10: 7 | B10: 653 | C10: 550 | E10: 3 ans | F10: 2707.53 | G10: Taux horaire moyen : | H10: 11.28
A11: 8 | B11: 693 | C11: 580 | E11: 3 ans | F11: 2855.21
A12: 9 | B12: 732 | C12: 610 | E12: 3 ans | F12: 3002.9
A13: 10 | B13: 778 | C13: 632 | E13: 4 ans | F13: 3111.2
A14: 11 | B14: 821 | C14: 300 | E14: - | F14: 1476.84
A16: Échelon | B16: IB | C16: IM | E16: Durée | F16: Brut
A17: 1 | B17: 593 | C17: 505 | E17: 2 ans | F17: 2486.01 | G17: Directeur principal de police municipale
A18: 2 | B18: 639 | C18: 540 | E18: 2 ans | F18: 2658.3
A19: 3 | B19: 693 | C19: 580 | E19: 2 ans | F19: 2855.21
A20: 4 | B20: 732 | C20: 610 | E20: 2 ans | F20: 3002.9 | G20: Traitement brut moyen : | H20: 1981.43
A21: 5 | B21: 791 | C21: 655 | E21: 2 ans | F21: 3224.42 | G21: Taux horaire moyen : | H21: 13.06
A22: 6 | B22: 843 | C22: 695 | E22: 2a 6 m | F22: 3421.33
A23: 7 | B23: 896 | C23: 735 | E23: 2a 6m | F23: 3618.25
A24: 8 | B24: 946 | C24: 673 | E24: 3 ans | F24: 3313.03
A25: 9 | B25: 995 | C25: 300 | E25: 3 ans | F25: 1476.84
A26: 10 | B26: 1015 | C26: 300 | E26: - | F26: 1476.84
A28: Assistants territoriaux socio-éducatifs (fil. sociale) Éducateurs territoriaux de jeunes enfants (fil. sociale)
A30: Échelon | B30: IB | C30: IM | E30: Durée | F30: Brut | G30: Statut particulier : Décret n° 2017-901
A31: 1 | B31: 444 | C31: 395 | E31: 2 ans | F31: 1944.5 | G31: Échelonnement indiciaire : Décret n° 2017-904
A32: 2 | B32: 461 | C32: 409 | E32: 2 ans | F32: 2013.42 | G32: Statut particulier : Décret n° 2017-902
A33: 3 | B33: 478 | C33: 420 | E33: 2 ans | F33: 2067.57 | G33: Échelonnement indiciaire : Décret n° 2017-905
A34: 4 | B34: 494 | C34: 431 | E34: 2 ans | F34: 2121.72
A35: 5 | B35: 512 | C35: 445 | E35: 2 ans | F35: 2190.64 | G35: Assistant territorial socio-éducatif
A36: 6 | B36: 528 | C36: 457 | E36: 2 ans | F36: 2249.71 | G36: Éducateur territorial de jeunes enfants
A37: 7 | B37: 547 | C37: 470 | E37: 2 ans | F37: 2313.71
A38: 8 | B38: 570 | C38: 487 | E38: 2 ans | F38: 2397.4 | G38: Traitement brut moyen : | H38: 2441.7
A39: 9 | B39: 596 | C39: 507 | E39: 2 ans | F39: 2495.85 | G39: Taux horaire moyen : | H39: 16.1
A40: 10 | B40: 623 | C40: 528 | E40: 2a 6m | F40: 2599.23
A41: 11 | B41: 655 | C41: 551 | E41: 2a 6m | F41: 2712.45
A42: 12 | B42: 680 | C42: 571 | E42: 3 ans | F42: 2810.91
A43: 13 | B43: 694 | C43: 581 | E43: 3 ans | F43: 2860.14
A44: 14 | B44: 714 | C44: 597 | E44: - | F44: 2938.9
...

Sheet Table 11
A1: Puéricultrices territoriales (fil. médico-sociale)
A3: Échelon | B3: IB | C3: IM | D3: Durée | E3: Brut | F3: Statut particulier : Décret n° 2014-923
A4: 1 | B4: 489 | C4: 427 | D4: 1a 6m | E4: 2102.03 | F4: Échelonnement indiciaire : Décret n° 2014-925
A5: 2 | B5: 518 | C5: 450 | D5: 2 ans | E5: 2215.25
A6: 3 | B6: 558 | C6: 478 | D6: 2 ans | E6: 2353.09 | F6: Puéricultrice territoriale
A7: 4 | B7: 595 | C7: 506 | D7: 2 ans | E7: 2490.93
A8: 5 | B8: 631 | C8: 534 | D8: 2 ans | E8: 2628.77
A9: 6 | B9: 669 | C9: 563 | D9: 2a 6m | E9: 2771.53 | F9: Traitement brut moyen : | G9: 2840.45
A10: 7 | B10: 709 | C10: 593 | D10: 3 ans | E10: 2919.21 | F10: Taux horaire moyen : | G10: 18.73
A11: 8 | B11: 750 | C11: 624 | D11: 3 ans | E11: 3071.82
A12: 9 | B12: 792 | C12: 656 | D12: 4 ans | E12: 3229.35
A13: 10 | B13: 836 | C13: 690 | D13: 4 ans | E13: 3396.72
A14: 11 | B14: 886 | C14: 727 | D14: - | E14: 3578.86
A16: Échelon | B16: IB | C16: IM | D16: Durée | E16: Brut
A17: 1 | B17: 614 | C17: 520 | D17: 2 ans | E17: 2559.85 | F17: Puéricultrice territoriale hors cl.
A18: 2 | B18: 663 | C18: 558 | D18: 2 ans | E18: 2746.91
A19: 3 | B19: 695 | C19: 582 | D19: 2 ans | E19: 2865.06
A20: 4 | B20: 739 | C20: 615 | D20: 2a 6m | E20: 3027.51 | F20: Traitement brut moyen : | G20: 3172.74
A21: 5 | B21: 781 | C21: 648 | D21: 3 ans | E21: 3189.96 | F21: Taux horaire moyen : | G21: 20.92
A22: 6 | B22: 825 | C22: 681 | D22: 3 ans | E22: 3352.42
A23: 7 | B23: 868 | C23: 714 | D23: 4 ans | E23: 3514.87
A24: 8 | B24: 906 | C24: 743 | D24: 4 ans | E24: 3657.63
A25: 9 | B25: 940 | C25: 769 | D25: - | E25: 3785.62
A27: Psychologues territoriaux (fil. médico-sociale)
A29: Échelon | B29: IB | C29: IM | D29: Durée | E29: Brut | F29: Statut particulier : Décret n° 92-853
A30: 1 | B30: 444 | C30: 395 | D30: 1 an | E30: 1944.5 | F30: Échelonnement indiciaire : Décret n° 92-854
A31: 2 | B31: 457 | C31: 405 | D31: 1 an | E31: 1993.73
A32: 3 | B32: 471 | C32: 416 | D32: 2 ans | E32: 2047.88 | F32: Psychologue territorial de cl. normale
A33: 4 | B33: 500 | C33: 436 | D33: 2 ans | E33: 2146.33
A34: 5 | B34: 538 | C34: 462 | D34: 2a 6m | E34: 2274.33
A35: 6 | B35: 582 | C35: 497 | D35: 3 ans | E35: 2446.62 | F35: Traitement brut moyen : | G35: 2641.08
A36: 7 | B36: 619 | C36: 524 | D36: 3 ans | E36: 2579.54 | F36: Taux horaire moyen : | G36: 17.41
A37: 8 | B37: 668 | C37: 562 | D37: 3a 6m | E37: 2766.6
A38: 9 | B38: 712 | C38: 595 | D38: 4 ans | E38: 2929.06
A39: 10 | B39: 763 | C39: 634 | D39: 4 ans | E39: 3121.04
A40: 11 | B40: 821 | C40: 678 | D40: - | E40: 3337.65
A42: Échelon | B42: IB | C42: IM | D42: Durée | E42: Brut
A43: 1 | B43: 620 | C43: 525 | D43: 2 ans | E43: 2584.46 | F43: Psychologue territorial hors cl.
A44: 2 | B44: 712 | C44: 595 | D44: 2a 6m | E44: 2929.06
A45: 3 | B45: 757 | C45: 629 | D45: 2a 6m | E45: 3096.43
...

Sheet Table 12
A1: Cadres territoriaux de santé paramédicaux (fil. médico-sociale)
A3: Échelon | B3: IB | C3: IM | D3: Durée | E3: Brut | F3: Statut particulier : Décret n° 2016-336
A4: 1 | B4: 541 | C4: 465 | D4: 1a 6m | E4: 2289.09 | F4: Échelonnement indiciaire : Décret n° 2016-337
A5: 2 | B5: 577 | C5: 492 | D5: 2 ans | E5: 2422.01
A6: 3 | B6: 614 | C6: 520 | D6: 2 ans | E6: 2559.85 | F6: Cadre territorial de santé paramédical
A7: 4 | B7: 663 | C7: 558 | D7: 2 ans | E7: 2746.91
A8: 5 | B8: 695 | C8: 582 | D8: 2 ans | E8: 2865.06
