Workbook

Sheet Feuil1
A1: totallogement | B1: periodeconstruction | C1: typelogement | D1: categorielogement | E1: presenceascenceur | F1: hlm | G1: statutoccupation | H1: typechauffage corrigé | I1: type combustible corrigé grdf et rdc | M1: urbain | N1: gaz | O1: fioul | P1: electricité | Q1: gpl
A2: 0.93 | B2: 1982_à_1989 | C2: appartement | D2: résidence_principale | E2: ascenseur | G2: locataire_meublé | H2: chauffage_electrique | I2: electricité | M2: =SUMIFS(Feuil2!$F$3:$L$722,Feuil2!$A$3:$A$722,Feuil1!$C2,Feuil2!$B$3:$B$722,Feuil1!$H2,Feuil2!$C$3:$C$722,Feuil1!$D2,Feuil2!$E$3:$E$722,Feuil1!$B2,Feuil2!$F$2:$L$2,Feuil1!$I2,Feuil2!$D$3:$D$722,Feuil1!M$1)*Feuil1!A2 -> #VALUE! | N2: =SUMIFS(Feuil2!$F$3:$L$722,Feuil2!$A$3:$A$722,Feuil1!$C2,Feuil2!$B$3:$B$722,Feuil1!$H2,Feuil2!$C$3:$C$722,Feuil1!$D2,Feuil2!$E$3:$E$722,Feuil1!$B2,Feuil2!$F$2:$L$2,Feuil1!$I2,Feuil2!$D$3:$D$722,Feuil1!N$1)*Feuil1!B2 -> #VALUE! | O2: =SUMIFS(Feuil2!$F$3:$L$722,Feuil2!$A$3:$A$722,Feuil1!$C2,Feuil2!$B$3:$B$722,Feuil1!$H2,Feuil2!$C$3:$C$722,Feuil1!$D2,Feuil2!$E$3:$E$722,Feuil1!$B2,Feuil2!$F$2:$L$2,Feuil1!$I2,Feuil2!$D$3:$D$722,Feuil1!O$1)*Feuil1!C2 -> #VALUE! | P2: =SUMIFS(Feuil2!$F$3:$L$722,Feuil2!$A$3:$A$722,Feuil1!$C2,Feuil2!$B$3:$B$722,Feuil1!$H2,Feuil2!$C$3:$C$722,Feuil1!$D2,Feuil2!$E$3:$E$722,Feuil1!$B2,Feuil2!$F$2:$L$2,Feuil1!$I2,Feuil2!$D$3:$D$722,Feuil1!P$1)*Feuil1!D2 -> #VALUE! | Q2: =SUMIFS(Feuil2!$F$3:$L$722,Feuil2!$A$3:$A$722,Feuil1!$C2,Feuil2!$B$3:$B$722,Feuil1!$H2,Feuil2!$C$3:$C$722,Feuil1!$D2,Feuil2!$E$3:$E$722,Feuil1!$B2,Feuil2!$F$2:$L$2,Feuil1!$I2,Feuil2!$D$3:$D$722,Feuil1!Q$1)*Feuil1!E2 -> #VALUE!
A3: 0.93 | B3: avant_1975 | C3: appartement | D3: résidence_principale | E3: ascenseur | G3: locataire_non_meublé | H3: chauffage_central_collectif | I3: fioul | M3: =SUMIFS(Feuil2!$F$3:$L$722,Feuil2!$A$3:$A$722,Feuil1!$C3,Feuil2!$B$3:$B$722,Feuil1!$H3,Feuil2!$C$3:$C$722,Feuil1!$D3,Feuil2!$E$3:$E$722,Feuil1!$B3,Feuil2!$F$2:$L$2,Feuil1!$I3,Feuil2!$D$3:$D$722,Feuil1!M$1)*Feuil1!A3 -> #VALUE! | N3: =SUMIFS(Feuil2!$F$3:$L$722,Feuil2!$A$3:$A$722,Feuil1!$C3,Feuil2!$B$3:$B$722,Feuil1!$H3,Feuil2!$C$3:$C$722,Feuil1!$D3,Feuil2!$E$3:$E$722,Feuil1!$B3,Feuil2!$F$2:$L$2,Feuil1!$I3,Feuil2!$D$3:$D$722,Feuil1!N$1)*Feuil1!B3 -> #VALUE! | O3: =SUMIFS(Feuil2!$F$3:$L$722,Feuil2!$A$3:$A$722,Feuil1!$C3,Feuil2!$B$3:$B$722,Feuil1!$H3,Feuil2!$C$3:$C$722,Feuil1!$D3,Feuil2!$E$3:$E$722,Feuil1!$B3,Feuil2!$F$2:$L$2,Feuil1!$I3,Feuil2!$D$3:$D$722,Feuil1!O$1)*Feuil1!C3 -> #VALUE! | P3: =SUMIFS(Feuil2!$F$3:$L$722,Feuil2!$A$3:$A$722,Feuil1!$C3,Feuil2!$B$3:$B$722,Feuil1!$H3,Feuil2!$C$3:$C$722,Feuil1!$D3,Feuil2!$E$3:$E$722,Feuil1!$B3,Feuil2!$F$2:$L$2,Feuil1!$I3,Feuil2!$D$3:$D$722,Feuil1!P$1)*Feuil1!D3 -> #VALUE! | Q3: =SUMIFS(Feuil2!$F$3:$L$722,Feuil2!$A$3:$A$722,Feuil1!$C3,Feuil2!$B$3:$B$722,Feuil1!$H3,Feuil2!$C$3:$C$722,Feuil1!$D3,Feuil2!$E$3:$E$722,Feuil1!$B3,Feuil2!$F$2:$L$2,Feuil1!$I3,Feuil2!$D$3:$D$722,Feuil1!Q$1)*Feuil1!E3 -> #VALUE!
A4: 0.93 | B4: avant_1975 | C4: appartement | D4: résidence_principale | E4: ascenseur | G4: logé_gratuitement | H4: chauffage_central_collectif | I4: fioul | M4: =SUMIFS(Feuil2!$F$3:$L$722,Feuil2!$A$3:$A$722,Feuil1!$C4,Feuil2!$B$3:$B$722,Feuil1!$H4,Feuil2!$C$3:$C$722,Feuil1!$D4,Feuil2!$E$3:$E$722,Feuil1!$B4,Feuil2!$F$2:$L$2,Feuil1!$I4,Feuil2!$D$3:$D$722,Feuil1!M$1)*Feuil1!A4 -> #VALUE! | N4: =SUMIFS(Feuil2!$F$3:$L$722,Feuil2!$A$3:$A$722,Feuil1!$C4,Feuil2!$B$3:$B$722,Feuil1!$H4,Feuil2!$C$3:$C$722,Feuil1!$D4,Feuil2!$E$3:$E$722,Feuil1!$B4,Feuil2!$F$2:$L$2,Feuil1!$I4,Feuil2!$D$3:$D$722,Feuil1!N$1)*Feuil1!B4 -> #VALUE! | O4: =SUMIFS(Feuil2!$F$3:$L$722,Feuil2!$A$3:$A$722,Feuil1!$C4,Feuil2!$B$3:$B$722,Feuil1!$H4,Feuil2!$C$3:$C$722,Feuil1!$D4,Feuil2!$E$3:$E$722,Feuil1!$B4,Feuil2!$F$2:$L$2,Feuil1!$I4,Feuil2!$D$3:$D$722,Feuil1!O$1)*Feuil1!C4 -> #VALUE! | P4: =SUMIFS(Feuil2!$F$3:$L$722,Feuil2!$A$3:$A$722,Feuil1!$C4,Feuil2!$B$3:$B$722,Feuil1!$H4,Feuil2!$C$3:$C$722,Feuil1!$D4,Feuil2!$E$3:$E$722,Feuil1!$B4,Feuil2!$F$2:$L$2,Feuil1!$I4,Feuil2!$D$3:$D$722,Feuil1!P$1)*Feuil1!D4 -> #VALUE! | Q4: =SUMIFS(Feuil2!$F$3:$L$722,Feuil2!$A$3:$A$722,Feuil1!$C4,Feuil2!$B$3:$B$722,Feuil1!$H4,Feuil2!$C$3:$C$722,Feuil1!$D4,Feuil2!$E$3:$E$722,Feuil1!$B4,Feuil2!$F$2:$L$2,Feuil1!$I4,Feuil2!$D$3:$D$722,Feuil1!Q$1)*Feuil1!E4 -> #VALUE!
A5: 0.93 | B5: avant_1975 | C5: appartement | D5: résidence_principale | E5: ascenseur | G5: propriétaire | H5: chauffage_central_collectif | I5: fioul | M5: =SUMIFS(Feuil2!$F$3:$L$722,Feuil2!$A$3:$A$722,Feuil1!$C5,Feuil2!$B$3:$B$722,Feuil1!$H5,Feuil2!$C$3:$C$722,Feuil1!$D5,Feuil2!$E$3:$E$722,Feuil1!$B5,Feuil2!$F$2:$L$2,Feuil1!$I5,Feuil2!$D$3:$D$722,Feuil1!M$1)*Feuil1!A5 -> #VALUE! | N5: =SUMIFS(Feuil2!$F$3:$L$722,Feuil2!$A$3:$A$722,Feuil1!$C5,Feuil2!$B$3:$B$722,Feuil1!$H5,Feuil2!$C$3:$C$722,Feuil1!$D5,Feuil2!$E$3:$E$722,Feuil1!$B5,Feuil2!$F$2:$L$2,Feuil1!$I5,Feuil2!$D$3:$D$722,Feuil1!N$1)*Feuil1!B5 -> #VALUE! | O5: =SUMIFS(Feuil2!$F$3:$L$722,Feuil2!$A$3:$A$722,Feuil1!$C5,Feuil2!$B$3:$B$722,Feuil1!$H5,Feuil2!$C$3:$C$722,Feuil1!$D5,Feuil2!$E$3:$E$722,Feuil1!$B5,Feuil2!$F$2:$L$2,Feuil1!$I5,Feuil2!$D$3:$D$722,Feuil1!O$1)*Feuil1!C5 -> #VALUE! | P5: =SUMIFS(Feuil2!$F$3:$L$722,Feuil2!$A$3:$A$722,Feuil1!$C5,Feuil2!$B$3:$B$722,Feuil1!$H5,Feuil2!$C$3:$C$722,Feuil1!$D5,Feuil2!$E$3:$E$722,Feuil1!$B5,Feuil2!$F$2:$L$2,Feuil1!$I5,Feuil2!$D$3:$D$722,Feuil1!P$1)*Feuil1!D5 -> #VALUE! | Q5: =SUMIFS(Feuil2!$F$3:$L$722,Feuil2!$A$3:$A$722,Feuil1!$C5,Feuil2!$B$3:$B$722,Feuil1!$H5,Feuil2!$C$3:$C$722,Feuil1!$D5,Feuil2!$E$3:$E$722,Feuil1!$B5,Feuil2!$F$2:$L$2,Feuil1!$I5,Feuil2!$D$3:$D$722,Feuil1!Q$1)*Feuil1!E5 -> #VALUE!
A6: 0.94 | B6: avant_1975 | C6: appartement | D6: logement_occasionnel | E6: ascenseur | G6: logement_inoccupé | H6: chauffage_central_collectif | I6: urbain | M6: =SUMIFS(Feuil2!$F$3:$L$722,Feuil2!$A$3:$A$722,Feuil1!$C6,Feuil2!$B$3:$B$722,Feuil1!$H6,Feuil2!$C$3:$C$722,Feuil1!$D6,Feuil2!$E$3:$E$722,Feuil1!$B6,Feuil2!$F$2:$L$2,Feuil1!$I6,Feuil2!$D$3:$D$722,Feuil1!M$1)*Feuil1!A6 -> #VALUE! | N6: =SUMIFS(Feuil2!$F$3:$L$722,Feuil2!$A$3:$A$722,Feuil1!$C6,Feuil2!$B$3:$B$722,Feuil1!$H6,Feuil2!$C$3:$C$722,Feuil1!$D6,Feuil2!$E$3:$E$722,Feuil1!$B6,Feuil2!$F$2:$L$2,Feuil1!$I6,Feuil2!$D$3:$D$722,Feuil1!N$1)*Feuil1!B6 -> #VALUE! | O6: =SUMIFS(Feuil2!$F$3:$L$722,Feuil2!$A$3:$A$722,Feuil1!$C6,Feuil2!$B$3:$B$722,Feuil1!$H6,Feuil2!$C$3:$C$722,Feuil1!$D6,Feuil2!$E$3:$E$722,Feuil1!$B6,Feuil2!$F$2:$L$2,Feuil1!$I6,Feuil2!$D$3:$D$722,Feuil1!O$1)*Feuil1!C6 -> #VALUE! | P6: =SUMIFS(Feuil2!$F$3:$L$722,Feuil2!$A$3:$A$722,Feuil1!$C6,Feuil2!$B$3:$B$722,Feuil1!$H6,Feuil2!$C$3:$C$722,Feuil1!$D6,Feuil2!$E$3:$E$722,Feuil1!$B6,Feuil2!$F$2:$L$2,Feuil1!$I6,Feuil2!$D$3:$D$722,Feuil1!P$1)*Feuil1!D6 -> #VALUE! | Q6: =SUMIFS(Feuil2!$F$3:$L$722,Feuil2!$A$3:$A$722,Feuil1!$C6,Feuil2!$B$3:$B$722,Feuil1!$H6,Feuil2!$C$3:$C$722,Feuil1!$D6,Feuil2!$E$3:$E$722,Feuil1!$B6,Feuil2!$F$2:$L$2,Feuil1!$I6,Feuil2!$D$3:$D$722,Feuil1!Q$1)*Feuil1!E6 -> #VALUE!
A7: 0.94 | B7: avant_1975 | C7: appartement | D7: logement_occasionnel | E7: sans_ascenseur | G7: logement_inoccupé | H7: chauffage_central_collectif | I7: urbain | M7: =SUMIFS(Feuil2!$F$3:$L$722,Feuil2!$A$3:$A$722,Feuil1!$C7,Feuil2!$B$3:$B$722,Feuil1!$H7,Feuil2!$C$3:$C$722,Feuil1!$D7,Feuil2!$E$3:$E$722,Feuil1!$B7,Feuil2!$F$2:$L$2,Feuil1!$I7,Feuil2!$D$3:$D$722,Feuil1!M$1)*Feuil1!A7 -> #VALUE! | N7: =SUMIFS(Feuil2!$F$3:$L$722,Feuil2!$A$3:$A$722,Feuil1!$C7,Feuil2!$B$3:$B$722,Feuil1!$H7,Feuil2!$C$3:$C$722,Feuil1!$D7,Feuil2!$E$3:$E$722,Feuil1!$B7,Feuil2!$F$2:$L$2,Feuil1!$I7,Feuil2!$D$3:$D$722,Feuil1!N$1)*Feuil1!B7 -> #VALUE! | O7: =SUMIFS(Feuil2!$F$3:$L$722,Feuil2!$A$3:$A$722,Feuil1!$C7,Feuil2!$B$3:$B$722,Feuil1!$H7,Feuil2!$C$3:$C$722,Feuil1!$D7,Feuil2!$E$3:$E$722,Feuil1!$B7,Feuil2!$F$2:$L$2,Feuil1!$I7,Feuil2!$D$3:$D$722,Feuil1!O$1)*Feuil1!C7 -> #VALUE! | P7: =SUMIFS(Feuil2!$F$3:$L$722,Feuil2!$A$3:$A$722,Feuil1!$C7,Feuil2!$B$3:$B$722,Feuil1!$H7,Feuil2!$C$3:$C$722,Feuil1!$D7,Feuil2!$E$3:$E$722,Feuil1!$B7,Feuil2!$F$2:$L$2,Feuil1!$I7,Feuil2!$D$3:$D$722,Feuil1!P$1)*Feuil1!D7 -> #VALUE! | Q7: =SUMIFS(Feuil2!$F$3:$L$722,Feuil2!$A$3:$A$722,Feuil1!$C7,Feuil2!$B$3:$B$722,Feuil1!$H7,Feuil2!$C$3:$C$722,Feuil1!$D7,Feuil2!$E$3:$E$722,Feuil1!$B7,Feuil2!$F$2:$L$2,Feuil1!$I7,Feuil2!$D$3:$D$722,Feuil1!Q$1)*Feuil1!E7 -> #VALUE!
A8: 1.88 | B8: avant_1975 | C8: appartement | D8: logement_vacant | E8: ascenseur | G8: logement_inoccupé | H8: chauffage_central_collectif | I8: fioul | M8: =SUMIFS(Feuil2!$F$3:$L$722,Feuil2!$A$3:$A$722,Feuil1!$C8,Feuil2!$B$3:$B$722,Feuil1!$H8,Feuil2!$C$3:$C$722,Feuil1!$D8,Feuil2!$E$3:$E$722,Feuil1!$B8,Feuil2!$F$2:$L$2,Feuil1!$I8,Feuil2!$D$3:$D$722,Feuil1!M$1)*Feuil1!A8 -> #VALUE! | N8: =SUMIFS(Feuil2!$F$3:$L$722,Feuil2!$A$3:$A$722,Feuil1!$C8,Feuil2!$B$3:$B$722,Feuil1!$H8,Feuil2!$C$3:$C$722,Feuil1!$D8,Feuil2!$E$3:$E$722,Feuil1!$B8,Feuil2!$F$2:$L$2,Feuil1!$I8,Feuil2!$D$3:$D$722,Feuil1!N$1)*Feuil1!B8 -> #VALUE! | O8: =SUMIFS(Feuil2!$F$3:$L$722,Feuil2!$A$3:$A$722,Feuil1!$C8,Feuil2!$B$3:$B$722,Feuil1!$H8,Feuil2!$C$3:$C$722,Feuil1!$D8,Feuil2!$E$3:$E$722,Feuil1!$B8,Feuil2!$F$2:$L$2,Feuil1!$I8,Feuil2!$D$3:$D$722,Feuil1!O$1)*Feuil1!C8 -> #VALUE! | P8: =SUMIFS(Feuil2!$F$3:$L$722,Feuil2!$A$3:$A$722,Feuil1!$C8,Feuil2!$B$3:$B$722,Feuil1!$H8,Feuil2!$C$3:$C$722,Feuil1!$D8,Feuil2!$E$3:$E$722,Feuil1!$B8,Feuil2!$F$2:$L$2,Feuil1!$I8,Feuil2!$D$3:$D$722,Feuil1!P$1)*Feuil1!D8 -> #VALUE! | Q8: =SUMIFS(Feuil2!$F$3:$L$722,Feuil2!$A$3:$A$722,Feuil1!$C8,Feuil2!$B$3:$B$722,Feuil1!$H8,Feuil2!$C$3:$C$722,Feuil1!$D8,Feuil2!$E$3:$E$722,Feuil1!$B8,Feuil2!$F$2:$L$2,Feuil1!$I8,Feuil2!$D$3:$D$722,Feuil1!Q$1)*Feuil1!E8 -> #VALUE!
A9: 0.94 | B9: avant_1975 | C9: appartement | D9: résidence_principale | E9: ascenseur | G9: locataire_meublé | H9: chauffage_central_collectif | I9: bois | M9: =SUMIFS(Feuil2!$F$3:$L$722,Feuil2!$A$3:$A$722,Feuil1!$C9,Feuil2!$B$3:$B$722,Feuil1!$H9,Feuil2!$C$3:$C$722,Feuil1!$D9,Feuil2!$E$3:$E$722,Feuil1!$B9,Feuil2!$F$2:$L$2,Feuil1!$I9,Feuil2!$D$3:$D$722,Feuil1!M$1)*Feuil1!A9 -> #VALUE! | N9: =SUMIFS(Feuil2!$F$3:$L$722,Feuil2!$A$3:$A$722,Feuil1!$C9,Feuil2!$B$3:$B$722,Feuil1!$H9,Feuil2!$C$3:$C$722,Feuil1!$D9,Feuil2!$E$3:$E$722,Feuil1!$B9,Feuil2!$F$2:$L$2,Feuil1!$I9,Feuil2!$D$3:$D$722,Feuil1!N$1)*Feuil1!B9 -> #VALUE! | O9: =SUMIFS(Feuil2!$F$3:$L$722,Feuil2!$A$3:$A$722,Feuil1!$C9,Feuil2!$B$3:$B$722,Feuil1!$H9,Feuil2!$C$3:$C$722,Feuil1!$D9,Feuil2!$E$3:$E$722,Feuil1!$B9,Feuil2!$F$2:$L$2,Feuil1!$I9,Feuil2!$D$3:$D$722,Feuil1!O$1)*Feuil1!C9 -> #VALUE! | P9: =SUMIFS(Feuil2!$F$3:$L$722,Feuil2!$A$3:$A$722,Feuil1!$C9,Feuil2!$B$3:$B$722,Feuil1!$H9,Feuil2!$C$3:$C$722,Feuil1!$D9,Feuil2!$E$3:$E$722,Feuil1!$B9,Feuil2!$F$2:$L$2,Feuil1!$I9,Feuil2!$D$3:$D$722,Feuil1!P$1)*Feuil1!D9 -> #VALUE! | Q9: =SUMIFS(Feuil2!$F$3:$L$722,Feuil2!$A$3:$A$722,Feuil1!$C9,Feuil2!$B$3:$B$722,Feuil1!$H9,Feuil2!$C$3:$C$722,Feuil1!$D9,Feuil2!$E$3:$E$722,Feuil1!$B9,Feuil2!$F$2:$L$2,Feuil1!$I9,Feuil2!$D$3:$D$722,Feuil1!Q$1)*Feuil1!E9 -> #VALUE!
A10: 0.94 | B10: avant_1975 | C10: appartement | D10: résidence_principale | E10: ascenseur | G10: locataire_meublé | H10: chauffage_central_collectif | I10: electricité | M10: =SUMIFS(Feuil2!$F$3:$L$722,Feuil2!$A$3:$A$722,Feuil1!$C10,Feuil2!$B$3:$B$722,Feuil1!$H10,Feuil2!$C$3:$C$722,Feuil1!$D10,Feuil2!$E$3:$E$722,Feuil1!$B10,Feuil2!$F$2:$L$2,Feuil1!$I10,Feuil2!$D$3:$D$722,Feuil1!M$1)*Feuil1!A10 -> #VALUE! | N10: =SUMIFS(Feuil2!$F$3:$L$722,Feuil2!$A$3:$A$722,Feuil1!$C10,Feuil2!$B$3:$B$722,Feuil1!$H10,Feuil2!$C$3:$C$722,Feuil1!$D10,Feuil2!$E$3:$E$722,Feuil1!$B10,Feuil2!$F$2:$L$2,Feuil1!$I10,Feuil2!$D$3:$D$722,Feuil1!N$1)*Feuil1!B10 -> #VALUE! | O10: =SUMIFS(Feuil2!$F$3:$L$722,Feuil2!$A$3:$A$722,Feuil1!$C10,Feuil2!$B$3:$B$722,Feuil1!$H10,Feuil2!$C$3:$C$722,Feuil1!$D10,Feuil2!$E$3:$E$722,Feuil1!$B10,Feuil2!$F$2:$L$2,Feuil1!$I10,Feuil2!$D$3:$D$722,Feuil1!O$1)*Feuil1!C10 -> #VALUE! | P10: =SUMIFS(Feuil2!$F$3:$L$722,Feuil2!$A$3:$A$722,Feuil1!$C10,Feuil2!$B$3:$B$722,Feuil1!$H10,Feuil2!$C$3:$C$722,Feuil1!$D10,Feuil2!$E$3:$E$722,Feuil1!$B10,Feuil2!$F$2:$L$2,Feuil1!$I10,Feuil2!$D$3:$D$722,Feuil1!P$1)*Feuil1!D10 -> #VALUE! | Q10: =SUMIFS(Feuil2!$F$3:$L$722,Feuil2!$A$3:$A$722,Feuil1!$C10,Feuil2!$B$3:$B$722,Feuil1!$H10,Feuil2!$C$3:$C$722,Feuil1!$D10,Feuil2!$E$3:$E$722,Feuil1!$B10,Feuil2!$F$2:$L$2,Feuil1!$I10,Feuil2!$D$3:$D$722,Feuil1!Q$1)*Feuil1!E10 -> #VALUE!
A11: 1.88 | B11: avant_1975 | C11: appartement | D11: résidence_principale | E11: ascenseur | G11: locataire_non_meublé | H11: chauffage_central_collectif | I11: electricité | M11: =SUMIFS(Feuil2!$F$3:$L$722,Feuil2!$A$3:$A$722,Feuil1!$C11,Feuil2!$B$3:$B$722,Feuil1!$H11,Feuil2!$C$3:$C$722,Feuil1!$D11,Feuil2!$E$3:$E$722,Feuil1!$B11,Feuil2!$F$2:$L$2,Feuil1!$I11,Feuil2!$D$3:$D$722,Feuil1!M$1)*Feuil1!A11 -> #VALUE! | N11: =SUMIFS(Feuil2!$F$3:$L$722,Feuil2!$A$3:$A$722,Feuil1!$C11,Feuil2!$B$3:$B$722,Feuil1!$H11,Feuil2!$C$3:$C$722,Feuil1!$D11,Feuil2!$E$3:$E$722,Feuil1!$B11,Feuil2!$F$2:$L$2,Feuil1!$I11,Feuil2!$D$3:$D$722,Feuil1!N$1)*Feuil1!B11 -> #VALUE! | O11: =SUMIFS(Feuil2!$F$3:$L$722,Feuil2!$A$3:$A$722,Feuil1!$C11,Feuil2!$B$3:$B$722,Feuil1!$H11,Feuil2!$C$3:$C$722,Feuil1!$D11,Feuil2!$E$3:$E$722,Feuil1!$B11,Feuil2!$F$2:$L$2,Feuil1!$I11,Feuil2!$D$3:$D$722,Feuil1!O$1)*Feuil1!C11 -> #VALUE! | P11: =SUMIFS(Feuil2!$F$3:$L$722,Feuil2!$A$3:$A$722,Feuil1!$C11,Feuil2!$B$3:$B$722,Feuil1!$H11,Feuil2!$C$3:$C$722,Feuil1!$D11,Feuil2!$E$3:$E$722,Feuil1!$B11,Feuil2!$F$2:$L$2,Feuil1!$I11,Feuil2!$D$3:$D$722,Feuil1!P$1)*Feuil1!D11 -> #VALUE! | Q11: =SUMIFS(Feuil2!$F$3:$L$722,Feuil2!$A$3:$A$722,Feuil1!$C11,Feuil2!$B$3:$B$722,Feuil1!$H11,Feuil2!$C$3:$C$722,Feuil1!$D11,Feuil2!$E$3:$E$722,Feuil1!$B11,Feuil2!$F$2:$L$2,Feuil1!$I11,Feuil2!$D$3:$D$722,Feuil1!Q$1)*Feuil1!E11 -> #VALUE!
A12: 3.76 | B12: avant_1975 | C12: appartement | D12: résidence_principale | E12: ascenseur | G12: locataire_meublé | H12: chauffage_central_collectif | I12: fioul | M12: =SUMIFS(Feuil2!$F$3:$L$722,Feuil2!$A$3:$A$722,Feuil1!$C12,Feuil2!$B$3:$B$722,Feuil1!$H12,Feuil2!$C$3:$C$722,Feuil1!$D12,Feuil2!$E$3:$E$722,Feuil1!$B12,Feuil2!$F$2:$L$2,Feuil1!$I12,Feuil2!$D$3:$D$722,Feuil1!M$1)*Feuil1!A12 -> #VALUE! | N12: =SUMIFS(Feuil2!$F$3:$L$722,Feuil2!$A$3:$A$722,Feuil1!$C12,Feuil2!$B$3:$B$722,Feuil1!$H12,Feuil2!$C$3:$C$722,Feuil1!$D12,Feuil2!$E$3:$E$722,Feuil1!$B12,Feuil2!$F$2:$L$2,Feuil1!$I12,Feuil2!$D$3:$D$722,Feuil1!N$1)*Feuil1!B12 -> #VALUE! | O12: =SUMIFS(Feuil2!$F$3:$L$722,Feuil2!$A$3:$A$722,Feuil1!$C12,Feuil2!$B$3:$B$722,Feuil1!$H12,Feuil2!$C$3:$C$722,Feuil1!$D12,Feuil2!$E$3:$E$722,Feuil1!$B12,Feuil2!$F$2:$L$2,Feuil1!$I12,Feuil2!$D$3:$D$722,Feuil1!O$1)*Feuil1!C12 -> #VALUE! | P12: =SUMIFS(Feuil2!$F$3:$L$722,Feuil2!$A$3:$A$722,Feuil1!$C12,Feuil2!$B$3:$B$722,Feuil1!$H12,Feuil2!$C$3:$C$722,Feuil1!$D12,Feuil2!$E$3:$E$722,Feuil1!$B12,Feuil2!$F$2:$L$2,Feuil1!$I12,Feuil2!$D$3:$D$722,Feuil1!P$1)*Feuil1!D12 -> #VALUE! | Q12: =SUMIFS(Feuil2!$F$3:$L$722,Feuil2!$A$3:$A$722,Feuil1!$C12,Feuil2!$B$3:$B$722,Feuil1!$H12,Feuil2!$C$3:$C$722,Feuil1!$D12,Feuil2!$E$3:$E$722,Feuil1!$B12,Feuil2!$F$2:$L$2,Feuil1!$I12,Feuil2!$D$3:$D$722,Feuil1!Q$1)*Feuil1!E12 -> #VALUE!
A13: 13.16 | B13: avant_1975 | C13: appartement | D13: résidence_principale | E13: ascenseur | G13: locataire_non_meublé | H13: chauffage_central_collectif | I13: fioul | M13: =SUMIFS(Feuil2!$F$3:$L$722,Feuil2!$A$3:$A$722,Feuil1!$C13,Feuil2!$B$3:$B$722,Feuil1!$H13,Feuil2!$C$3:$C$722,Feuil1!$D13,Feuil2!$E$3:$E$722,Feuil1!$B13,Feuil2!$F$2:$L$2,Feuil1!$I13,Feuil2!$D$3:$D$722,Feuil1!M$1)*Feuil1!A13 -> #VALUE! | N13: =SUMIFS(Feuil2!$F$3:$L$722,Feuil2!$A$3:$A$722,Feuil1!$C13,Feuil2!$B$3:$B$722,Feuil1!$H13,Feuil2!$C$3:$C$722,Feuil1!$D13,Feuil2!$E$3:$E$722,Feuil1!$B13,Feuil2!$F$2:$L$2,Feuil1!$I13,Feuil2!$D$3:$D$722,Feuil1!N$1)*Feuil1!B13 -> #VALUE! | O13: =SUMIFS(Feuil2!$F$3:$L$722,Feuil2!$A$3:$A$722,Feuil1!$C13,Feuil2!$B$3:$B$722,Feuil1!$H13,Feuil2!$C$3:$C$722,Feuil1!$D13,Feuil2!$E$3:$E$722,Feuil1!$B13,Feuil2!$F$2:$L$2,Feuil1!$I13,Feuil2!$D$3:$D$722,Feuil1!O$1)*Feuil1!C13 -> #VALUE! | P13: =SUMIFS(Feuil2!$F$3:$L$722,Feuil2!$A$3:$A$722,Feuil1!$C13,Feuil2!$B$3:$B$722,Feuil1!$H13,Feuil2!$C$3:$C$722,Feuil1!$D13,Feuil2!$E$3:$E$722,Feuil1!$B13,Feuil2!$F$2:$L$2,Feuil1!$I13,Feuil2!$D$3:$D$722,Feuil1!P$1)*Feuil1!D13 -> #VALUE! | Q13: =SUMIFS(Feuil2!$F$3:$L$722,Feuil2!$A$3:$A$722,Feuil1!$C13,Feuil2!$B$3:$B$722,Feuil1!$H13,Feuil2!$C$3:$C$722,Feuil1!$D13,Feuil2!$E$3:$E$722,Feuil1!$B13,Feuil2!$F$2:$L$2,Feuil1!$I13,Feuil2!$D$3:$D$722,Feuil1!Q$1)*Feuil1!E13 -> #VALUE!
... A22: 3.76 | B22: avant_1975 | C22: appartement | D22: résidence_principale | E22: ascenseur | G22: propriétaire | H22: chauffage_central_collectif | I22: urbain | M22: =SUMIFS(Feuil2!$F$3:$L$722,Feuil2!$A$3:$A$722,Feuil1!$C22,Feuil2!$B$3:$B$722,Feuil1!$H22,Feuil2!$C$3:$C$722,Feuil1!$D22,Feuil2!$E$3:$E$722,Feuil1!$B22,Feuil2!$F$2:$L$2,Feuil1!$I22,Feuil2!$D$3:$D$722,Feuil1!M$1)*Feuil1!A22 -> #VALUE! | N22: =SUMIFS(Feuil2!$F$3:$L$722,Feuil2!$A$3:$A$722,Feuil1!$C22,Feuil2!$B$3:$B$722,Feuil1!$H22,Feuil2!$C$3:$C$722,Feuil1!$D22,Feuil2!$E$3:$E$722,Feuil1!$B22,Feuil2!$F$2:$L$2,Feuil1!$I22,Feuil2!$D$3:$D$722,Feuil1!N$1)*Feuil1!B22 -> #VALUE! | O22: =SUMIFS(Feuil2!$F$3:$L$722,Feuil2!$A$3:$A$722,Feuil1!$C22,Feuil2!$B$3:$B$722,Feuil1!$H22,Feuil2!$C$3:$C$722,Feuil1!$D22,Feuil2!$E$3:$E$722,Feuil1!$B22,Feuil2!$F$2:$L$2,Feuil1!$I22,Feuil2!$D$3:$D$722,Feuil1!O$1)*Feuil1!C22 -> #VALUE! | P22: =SUMIFS(Feuil2!$F$3:$L$722,Feuil2!$A$3:$A$722,Feuil1!$C22,Feuil2!$B$3:$B$722,Feuil1!$H22,Feuil2!$C$3:$C$722,Feuil1!$D22,Feuil2!$E$3:$E$722,Feuil1!$B22,Feuil2!$F$2:$L$2,Feuil1!$I22,Feuil2!$D$3:$D$722,Feuil1!P$1)*Feuil1!D22 -> #VALUE! | Q22: =SUMIFS(Feuil2!$F$3:$L$722,Feuil2!$A$3:$A$722,Feuil1!$C22,Feuil2!$B$3:$B$722,Feuil1!$H22,Feuil2!$C$3:$C$722,Feuil1!$D22,Feuil2!$E$3:$E$722,Feuil1!$B22,Feuil2!$F$2:$L$2,Feuil1!$I22,Feuil2!$D$3:$D$722,Feuil1!Q$1)*Feuil1!E22 -> #VALUE!
A23: 0.94 | B23: avant_1975 | C23: appartement | D23: résidence_principale | E23: ascenseur | F23: HLM | G23: locataire_non_meublé | H23: chauffage_central_collectif | I23: urbain | M23: =SUMIFS(Feuil2!$F$3:$L$722,Feuil2!$A$3:$A$722,Feuil1!$C23,Feuil2!$B$3:$B$722,Feuil1!$H23,Feuil2!$C$3:$C$722,Feuil1!$D23,Feuil2!$E$3:$E$722,Feuil1!$B23,Feuil2!$F$2:$L$2,Feuil1!$I23,Feuil2!$D$3:$D$722,Feuil1!M$1)*Feuil1!A23 -> #VALUE! | N23: =SUMIFS(Feuil2!$F$3:$L$722,Feuil2!$A$3:$A$722,Feuil1!$C23,Feuil2!$B$3:$B$722,Feuil1!$H23,Feuil2!$C$3:$C$722,Feuil1!$D23,Feuil2!$E$3:$E$722,Feuil1!$B23,Feuil2!$F$2:$L$2,Feuil1!$I23,Feuil2!$D$3:$D$722,Feuil1!N$1)*Feuil1!B23 -> #VALUE! | O23: =SUMIFS(Feuil2!$F$3:$L$722,Feuil2!$A$3:$A$722,Feuil1!$C23,Feuil2!$B$3:$B$722,Feuil1!$H23,Feuil2!$C$3:$C$722,Feuil1!$D23,Feuil2!$E$3:$E$722,Feuil1!$B23,Feuil2!$F$2:$L$2,Feuil1!$I23,Feuil2!$D$3:$D$722,Feuil1!O$1)*Feuil1!C23 -> #VALUE! | P23: =SUMIFS(Feuil2!$F$3:$L$722,Feuil2!$A$3:$A$722,Feuil1!$C23,Feuil2!$B$3:$B$722,Feuil1!$H23,Feuil2!$C$3:$C$722,Feuil1!$D23,Feuil2!$E$3:$E$722,Feuil1!$B23,Feuil2!$F$2:$L$2,Feuil1!$I23,Feuil2!$D$3:$D$722,Feuil1!P$1)*Feuil1!D23 -> #VALUE! | Q23: =SUMIFS(Feuil2!$F$3:$L$722,Feuil2!$A$3:$A$722,Feuil1!$C23,Feuil2!$B$3:$B$722,Feuil1!$H23,Feuil2!$C$3:$C$722,Feuil1!$D23,Feuil2!$E$3:$E$722,Feuil1!$B23,Feuil2!$F$2:$L$2,Feuil1!$I23,Feuil2!$D$3:$D$722,Feuil1!Q$1)*Feuil1!E23 -> #VALUE!
A24: 1.88 | B24: avant_1975 | C24: appartement | D24: résidence_principale | E24: sans_ascenseur | G24: propriétaire | H24: chauffage_central_collectif | I24: fioul | M24: =SUMIFS(Feuil2!$F$3:$L$722,Feuil2!$A$3:$A$722,Feuil1!$C24,Feuil2!$B$3:$B$722,Feuil1!$H24,Feuil2!$C$3:$C$722,Feuil1!$D24,Feuil2!$E$3:$E$722,Feuil1!$B24,Feuil2!$F$2:$L$2,Feuil1!$I24,Feuil2!$D$3:$D$722,Feuil1!M$1)*Feuil1!A24 -> #VALUE! | N24: =SUMIFS(Feuil2!$F$3:$L$722,Feuil2!$A$3:$A$722,Feuil1!$C24,Feuil2!$B$3:$B$722,Feuil1!$H24,Feuil2!$C$3:$C$722,Feuil1!$D24,Feuil2!$E$3:$E$722,Feuil1!$B24,Feuil2!$F$2:$L$2,Feuil1!$I24,Feuil2!$D$3:$D$722,Feuil1!N$1)*Feuil1!B24 -> #VALUE! | O24: =SUMIFS(Feuil2!$F$3:$L$722,Feuil2!$A$3:$A$722,Feuil1!$C24,Feuil2!$B$3:$B$722,Feuil1!$H24,Feuil2!$C$3:$C$722,Feuil1!$D24,Feuil2!$E$3:$E$722,Feuil1!$B24,Feuil2!$F$2:$L$2,Feuil1!$I24,Feuil2!$D$3:$D$722,Feuil1!O$1)*Feuil1!C24 -> #VALUE! | P24: =SUMIFS(Feuil2!$F$3:$L$722,Feuil2!$A$3:$A$722,Feuil1!$C24,Feuil2!$B$3:$B$722,Feuil1!$H24,Feuil2!$C$3:$C$722,Feuil1!$D24,Feuil2!$E$3:$E$722,Feuil1!$B24,Feuil2!$F$2:$L$2,Feuil1!$I24,Feuil2!$D$3:$D$722,Feuil1!P$1)*Feuil1!D24 -> #VALUE! | Q24: =SUMIFS(Feuil2!$F$3:$L$722,Feuil2!$A$3:$A$722,Feuil1!$C24,Feuil2!$B$3:$B$722,Feuil1!$H24,Feuil2!$C$3:$C$722,Feuil1!$D24,Feuil2!$E$3:$E$722,Feuil1!$B24,Feuil2!$F$2:$L$2,Feuil1!$I24,Feuil2!$D$3:$D$722,Feuil1!Q$1)*Feuil1!E24 -> #VALUE!
A25: 0.94 | B25: avant_1975 | C25: appartement | D25: résidence_principale | E25: sans_ascenseur | G25: logé_gratuitement | H25: chauffage_central_collectif | I25: gaz
A26: 1.88 | B26: avant_1975 | C26: appartement | D26: résidence_principale | E26: sans_ascenseur | G26: propriétaire | H26: chauffage_central_collectif | I26: gaz
A27: 0.94 | B27: avant_1975 | C27: appartement | D27: résidence_principale | E27: sans_ascenseur | G27: locataire_non_meublé | H27: chauffage_central_collectif | I27: urbain
A28: 5.64 | B28: avant_1975 | C28: appartement | D28: résidence_principale | E28: sans_ascenseur | G28: propriétaire | H28: chauffage_central_collectif | I28: urbain
A29: 0.94 | B29: avant_1975 | C29: appartement | D29: résidence_secondaire | E29: ascenseur | G29: logement_inoccupé | H29: chauffage_electrique | I29: electricité
A30: 0.94 | B30: avant_1975 | C30: appartement | D30: résidence_secondaire | E30: ascenseur | G30: logement_inoccupé | H30: chauffage_central_collectif | I30: fioul
A31: 0.94 | B31: avant_1975 | C31: appartement | D31: résidence_secondaire | E31: ascenseur | G31: logement_inoccupé | H31: chauffage_central_collectif | I31: gaz
A32: 0.94 | B32: avant_1975 | C32: appartement | D32: résidence_principale | E32: ascenseur | G32: locataire_non_meublé | H32: chauffage_central_individuel | I32: electricité
A33: 0.94 | B33: avant_1975 | C33: appartement | D33: résidence_principale | E33: ascenseur | G33: logé_gratuitement | H33: chauffage_central_individuel | I33: electricité
A34: 16.92 | B34: avant_1975 | C34: appartement | D34: résidence_principale | E34: ascenseur | G34: locataire_non_meublé | H34: chauffage_central_individuel | I34: gaz
A35: 1.88 | B35: avant_1975 | C35: appartement | D35: résidence_principale | E35: ascenseur | G35: logé_gratuitement | H35: chauffage_central_individuel | I35: gaz
A36: 13.16 | B36: avant_1975 | C36: appartement | D36: résidence_principale | E36: ascenseur | G36: propriétaire | H36: chauffage_central_individuel | I36: gaz
... A40: 0.94 | B40: avant_1975 | C40: appartement | D40: logement_occasionnel | E40: ascenseur | G40: logement_inoccupé | H40: chauffage_electrique | I40: electricité

Sheet Feuil2
F1: Energie de chauffage
A2: type logement | B2: type chauffage | C2: type résidence | D2: énergie ECS | E2: période construction | F2: urbain | G2: gaz | H2: fioul | I2: electricité | J2: gpl | K2: charbon | L2: bois
A3: appartement | B3: chauffage_central_individuel | C3: résidence_principale | D3: electricité | E3: avant_1975 | F3: 0.011677087 | G3: 0.0058385433 | H3: 0.03503126 | I3: 0.11677087 | J3: 0.03503126 | K3: 0.07006252 | L3: 0.07006252
A4: appartement | B4: chauffage_central_individuel | C4: résidence_principale | D4: gpl | E4: avant_1975 | F4: 0 | G4: 0 | H4: 0 | I4: 0 | J4: 0.089151387 | K4: 0.05094365 | L4: 0.05094365
A5: appartement | B5: chauffage_central_individuel | C5: résidence_principale | D5: urbain | E5: avant_1975 | F5: 0.19222463 | G5: 0 | H5: 0 | I5: 0 | J5: 0 | K5: 0 | L5: 0
A6: appartement | B6: chauffage_central_individuel | C6: résidence_principale | D6: gaz | E6: avant_1975 | F6: 0 | G6: 0.13774471 | H6: 0 | I6: 0 | J6: 0 | K6: 0 | L6: 0
A7: appartement | B7: chauffage_central_individuel | C7: résidence_principale | D7: fioul | E7: avant_1975 | F7: 0 | G7: 0 | H7: 0.20318469 | I7: 0 | J7: 0 | K7: 0 | L7: 0
A8: appartement | B8: chauffage_central_individuel | C8: résidence_principale | D8: electricité | E8: 1975_à_1981 | F8: 0.01307098 | G8: 0.0065354901 | H8: 0.039212941 | I8: 0.1307098 | J8: 0.039212941 | K8: 0.078425881 | L8: 0.078425881
A9: appartement | B9: chauffage_central_individuel | C9: résidence_principale | D9: gpl | E9: 1975_à_1981 | F9: 0 | G9: 0 | H9: 0 | I9: 0 | J9: 0.062947357 | K9: 0.035969919 | L9: 0.035969919
A10: appartement | B10: chauffage_central_individuel | C10: résidence_principale | D10: urbain | E10: 1975_à_1981 | F10: 0.12749246 | G10: 0 | H10: 0 | I10: 0 | J10: 0 | K10: 0 | L10: 0
A11: appartement | B11: chauffage_central_individuel | C11: résidence_principale | D11: gaz | E11: 1975_à_1981 | F11: 0 | G11: 0.12458575 | H11: 0 | I11: 0 | J11: 0 | K11: 0 | L11: 0
A12: appartement | B12: chauffage_central_individuel | C12: résidence_principale | D12: fioul | E12: 1975_à_1981 | F12: 0 | G12: 0 | H12: 0.17757831 | I12: 0 | J12: 0 | K12: 0 | L12: 0
A13: appartement | B13: chauffage_central_individuel | C13: résidence_principale | D13: electricité | E13: 1982_à_1989 | F13: 0.012600059 | G13: 0.0063000296 | H13: 0.037800178 | I13: 0.12600059 | J13: 0.037800178 | K13: 0.075600355 | L13: 0.075600355
A14: appartement | B14: chauffage_central_individuel | C14: résidence_principale | D14: gpl | E14: 1982_à_1989 | F14: 0 | G14: 0 | H14: 0 | I14: 0 | J14: 0.061412056 | K14: 0.035092603 | L14: 0.035092603
... A722: foyer | B722: chauffage_electrique | C722: logement_vacant | D722: fioul | E722: après_1990 | F722: 0 | G722: 0 | H722: 0 | I722: 0 | J722: 0 | K722: 0 | L722: 0

Sheet Feuil3
