Workbook

Sheet Devis
B3: Etape 1 | C3: De quoi s'agit-il ? | D3: Feuillet
B5: Etape 2 | C5: Spécificité | D5: x | E5: y
C6: Format ouvert | D6: 15 | E6: 21
C7: Papier | D7: 250
C8: Recto/Verso | D8: Recto et Verso
C9: Couleur | D9: Quadri R°/V°
C10: Pelliculage | D10: Brillant
C12: Quantité | D12: 15000
B14: Résultat | C14: Format feuille | D14: =IF(Programmation!A52="Solution 1A","63x88 avec produit vertical",IF(Programmation!A52="Solution 1B","63x88 avec produit horizontal",IF(Programmation!A52="Solution 2A","65x92 avec produit vertical",IF(Programmation!A52="Solution 2B","65x92 avec produit horizontal",IF(Programmation!A52="Solution 3A","70x102 avec produit vertical",IF(Programmation!A52="Solution 3B","70x102 avec produit horizontal","")))))) -> 70x102 avec produit horizontal
C15: Nombre de pose | D15: =IF(D14="65x92 avec produit horizontal",Programmation!O49,IF(D14="65x92 avec produit vertical",Programmation!K49,IF(D14="63x88 avec produit horizontal",Programmation!G49,IF(D14="63x88 avec produit vertical",Programmation!C49,IF(D14="70x102 avec produit vertical",Programmation!S49,IF(D14="70x102 avec produit horizontal",Programmation!W49,"")))))) -> 16
C16: Bascule | D16: =IF(D14="65x92 avec produit horizontal",Programmation!O48,IF(D14="65x92 avec produit vertical",Programmation!K48,IF(D14="63x88 avec produit horizontal",Programmation!G48,IF(D14="63x88 avec produit vertical",Programmation!C48,IF(D14="70x102 avec produit vertical",Programmation!S48,IF(D14="70x102 avec produit horizontal",Programmation!W48,"")))))) -> Bascule 1/8
C17: Prix | D17: =IF(D14="63x88 avec produit vertical", Programmation!C47,IF(D14="63x88 avec produit horizontal",Programmation!G47,IF(D14="65x92 avec produit vertical",Programmation!K47,IF(D14="65x92 avec produit horizontal",Programmation!O47,IF(D14="70x102 avec produit vertical",Programmation!S47,IF(D14="70x102 avec produit horizontal",Programmation!W47,"")))))) -> 616.95781

Sheet Options
B2: Imposition Manuel | C2: Pince (mm) | D2: 1.5 | F2: Imposition Auto | G2: Marge Optimal
C3: Marge Produit
C4: Marge Haut | D4: 1
C5: Marge Bas | D5: 1
C6: Marge Droite | D6: 1
C7: Marge Gauche | D7: 1
C8: Marge au centre de la feuille en X | D8: Non dispo
C9: Marge au centre de la feuille en Y | D9: Non dispo
B13: Paramètres Offset Manuel | C13: Ouverture Maxi
C14: Prix Roule
C15: Prix Calage

Sheet Programmation
B1: x | C1: y
A2: Format de feuille manuel | B2: 0 | C2: 0
AA4: =MIN(C47,G47,K47,O47,S47,W47) -> 616.95781
A6: Etape 2 : Définition des tarifs | B6: Prix Calage | C6: 250
B7: Prix Roule | C7: 25
B8: Prix au Clique | C8: 0
B9: Prix Papier au Kilo | C9: 1.15
B12: SOLUTION N°1A | C12: x | D12: y | F12: SOLUTION N°1B | G12: x | H12: y | J12: SOLUTION N°2A | K12: x | L12: y | N12: SOLUTION N°2B | O12: x | P12: y | R12: SOLUTION N°3A | S12: x | T12: y | V12: SOLUTION N°3B | W12: x | X12: y
A13: Etape 3 : Format + Côte | B13: Format Feuille | C13: =IF(B2=0,88,B2) -> 88 | D13: =IF(C2=0,63,C2) -> 63 | F13: Format Feuille | G13: =IF(B2=0,88,B2) -> 88 | H13: =IF(C2=0,63,C2) -> 63 | J13: Format Feuille | K13: 92 | L13: 65 | N13: Format Feuille | O13: 92 | P13: 65 | R13: Format Feuille | S13: 102 | T13: 70 | V13: Format Feuille | W13: 102 | X13: 70
C16: x | D16: y | G16: x | H16: y | K16: x | L16: y | O16: x | P16: y | S16: x | T16: y | W16: x | X16: y
A17: Etape 4 : Impo avec bascule 1/8 | B17: Format Feuille avec Pince | C17: =C13-Options!D2 -> 86.5 | D17: =D13 -> 63 | F17: Format Feuille | G17: =G13-Options!D2 -> 86.5 | H17: =H13 -> 63 | J17: Format Feuille | K17: =K13-Options!D2 -> 90.5 | L17: =L13 -> 65 | N17: Format Feuille | O17: =O13-Options!D2 -> 90.5 | P17: =P13 -> 65 | R17: Format Feuille | S17: =S13-Options!D2 -> 100.5 | T17: =T13 -> 70 | V17: Format Feuille | W17: =W13-Options!D2 -> 100.5 | X17: =X13 -> 70
B18: Format Produit avec Marge | C18: =Devis!D6+Options!D6+Options!D7 -> 17 | D18: =Devis!E6+Options!D4+Options!D5 -> 23 | F18: Format Produit | G18: =Devis!E6+Options!D4+Options!D5 -> 23 | H18: =Devis!D6+Options!D6+Options!D7 -> 17 | J18: Format Produit | K18: =Devis!D6+Options!D6+Options!D7 -> 17 | L18: =Devis!E6+Options!D4+Options!D5 -> 23 | N18: Format Produit | O18: =Devis!E6+Options!D4+Options!D5 -> 23 | P18: =Devis!D6+Options!D6+Options!D7 -> 17 | R18: Format Produit | S18: =Devis!D6+Options!D6+Options!D7 -> 17 | T18: =Devis!E6+Options!D4+Options!D5 -> 23 | V18: Format Produit | W18: =Devis!E6+Options!D6+Options!D7 -> 23 | X18: =Devis!D6+Options!D6+Options!D7 -> 17
B20: Imposition | C20: =INT(C17/C18) -> 5 | D20: =INT(D17/D18) -> 2 | F20: Imposition | G20: =INT(G17/G18) -> 3 | H20: =INT(H17/H18) -> 3 | J20: Imposition | K20: =INT(K17/K18) -> 5 | L20: =INT(L17/L18) -> 2 | N20: Imposition | O20: =INT(O17/O18) -> 3 | P20: =INT(P17/P18) -> 3 | R20: Imposition | S20: =INT(S17/S18) -> 5 | T20: =INT(T17/T18) -> 3 | V20: Imposition | W20: =INT(W17/W18) -> 4 | X20: =INT(X17/X18) -> 4
B21: Total Imposition | C21: =C20*D20 -> 10 | D21: =IF(ISEVEN(C20),"POSSIBLE","IMPOSSIBLE") -> IMPOSSIBLE | F21: Total Imposition | G21: =G20*H20 -> 9 | H21: =IF(ISEVEN(G20),"POSSIBLE","IMPOSSIBLE") -> IMPOSSIBLE | J21: Total Imposition | K21: =K20*L20 -> 10 | L21: =IF(ISEVEN(K20),"POSSIBLE","IMPOSSIBLE") -> IMPOSSIBLE | N21: Total Imposition | O21: =O20*P20 -> 9 | P21: =IF(ISEVEN(O20),"POSSIBLE","IMPOSSIBLE") -> IMPOSSIBLE | R21: Total Imposition | S21: =S20*T20 -> 15 | T21: =IF(ISEVEN(S20),"POSSIBLE","IMPOSSIBLE") -> IMPOSSIBLE | V21: Total Imposition | W21: =W20*X20 -> 16 | X21: =IF(ISEVEN(W20),"POSSIBLE","IMPOSSIBLE") -> POSSIBLE
C24: x | D24: y | G24: x | H24: y | K24: x | L24: y | O24: x | P24: y | S24: x | T24: y | W24: x | X24: y
A25: Etape 5 : Impo avec bascule 1/12 | B25: Format Feuille | C25: =C13 -> 88 | D25: =D13-(Options!D2*2) -> 60 | F25: Format Feuille | G25: =G13 -> 88 | H25: =H13-(Options!D2*2) -> 60 | J25: Format Feuille | K25: =K13 -> 92 | L25: =L13-(Options!D2*2) -> 62 | N25: Format Feuille | O25: =O13 -> 92 | P25: =P13-(Options!D2*2) -> 62 | R25: Format Feuille | S25: =S13 -> 102 | T25: =T13-(Options!D2*2) -> 67 | V25: Format Feuille | W25: =W13 -> 102 | X25: =X13-(Options!D2*2) -> 67
B26: Format Produit | C26: =Devis!D6+Options!D6+Options!D7 -> 17 | D26: =Devis!E6+Options!D4+Options!D5 -> 23 | F26: Format Produit | G26: =Devis!E6+Options!D4+Options!D5 -> 23 | H26: =Devis!D6+Options!D6+Options!D7 -> 17 | J26: Format Produit | K26: =Devis!D6+Options!D6+Options!D7 -> 17 | L26: =Devis!E6+Options!D4+Options!D5 -> 23 | N26: Format Produit | O26: =Devis!E6+Options!D4+Options!D5 -> 23 | P26: =Devis!D6+Options!D6+Options!D7 -> 17 | R26: Format Produit | S26: =Devis!D6+Options!D6+Options!D7 -> 17 | T26: =Devis!E6+Options!D4+Options!D5 -> 23 | V26: Format Produit | W26: =Devis!E6+Options!D4+Options!D5 -> 23 | X26: =Devis!D6+Options!D6+Options!D7 -> 17
B28: Imposition | C28: =INT(C25/C26) -> 5 | D28: =INT(D25/D26) -> 2 | F28: Imposition | G28: =INT(G25/G26) -> 3 | H28: =INT(H25/H26) -> 3 | J28: Imposition | K28: =INT(K25/K26) -> 5 | L28: =INT(L25/L26) -> 2 | N28: Imposition | O28: =INT(O25/O26) -> 4 | P28: =INT(P25/P26) -> 3 | R28: Imposition | S28: =INT(S25/S26) -> 6 | T28: =INT(T25/T26) -> 2 | V28: Imposition | W28: =INT(W25/W26) -> 4 | X28: =INT(X25/X26) -> 3
B29: Total Imposition | C29: =C28*D28 -> 10 | D29: =IF(ISEVEN(D28),"POSSIBLE","IMPOSSIBLE") -> POSSIBLE | F29: Total Imposition | G29: =G28*H28 -> 9 | H29: =IF(ISEVEN(H28),"POSSIBLE","IMPOSSIBLE") -> IMPOSSIBLE | J29: Total Imposition | K29: =K28*L28 -> 10 | L29: =IF(ISEVEN(L28),"POSSIBLE","IMPOSSIBLE") -> POSSIBLE | N29: Total Imposition | O29: =O28*P28 -> 12 | P29: =IF(ISEVEN(P28),"POSSIBLE","IMPOSSIBLE") -> IMPOSSIBLE | R29: Total Imposition | S29: =S28*T28 -> 12 | T29: =IF(ISEVEN(T28),"POSSIBLE","IMPOSSIBLE") -> POSSIBLE | V29: Total Imposition | W29: =W28*X28 -> 12 | X29: =IF(ISEVEN(X28),"POSSIBLE","IMPOSSIBLE") -> IMPOSSIBLE
A32: Etape 6 : Coût papier | B32: Poid Papier au (kilo) | C32: =Devis!D7/1000 -> 0.25 | F32: Poid Papier au (kilo) | G32: =Devis!D7/1000 -> 0.25 | J32: Poid Papier au (kilo) | K32: =Devis!D7/1000 -> 0.25 | N32: Poid Papier au (kilo) | O32: =Devis!D7/1000 -> 0.25 | R32: Poid Papier au (kilo) | S32: =Devis!D7/1000 -> 0.25 | V32: Poid Papier au (kilo) | W32: =Devis!D7/1000 -> 0.25
B33: Poid D'une feuille (kilo) | C33: =((C13/100)*(D13/100))*C32 -> 0.1386 | F33: Poid D'une feuille (kilo) | G33: =((G13/100)*(H13/100))*G32 -> 0.1386 | J33: Poid D'une feuille (kilo) | K33: =((K13/100)*(L13/100))*K32 -> 0.1495 | N33: Poid D'une feuille (kilo) | O33: =((O13/100)*(P13/100))*O32 -> 0.1495 | R33: Poid D'une feuille (kilo) | S33: =((S13/100)*(T13/100))*S32 -> 0.1785 | V33: Poid D'une feuille (kilo) | W33: =((W13/100)*(X13/100))*W32 -> 0.1785
B34: Nombre de feuille | C34: =(Devis!D12/IF(AND(D21="POSSIBLE",C21>=C29),C21,C29)+500) -> 2000 | F34: Nombre de feuille | G34: =(Devis!D12/(IF(AND(H21="POSSIBLE",G21>=G29),G21,G29)))+500 -> 2166.6667 | J34: Nombre de feuille | K34: =(Devis!D12/IF(AND(L21="POSSIBLE",K21>=K29),K21,K29)+500) -> 2000 | N34: Nombre de feuille | O34: =(Devis!D12/IF(AND(P21="POSSIBLE",O21>=O29),O21,O29))+500 -> 1750 | R34: Nombre de feuille | S34: =(Devis!D12/IF(AND(T21="POSSIBLE",S21>=S29),S21,S29))+500 -> 1750 | V34: Nombre de feuille | W34: =(Devis!D12/IF(AND(X21="POSSIBLE",W21>=W29),W21,W29))+500 -> 1437.5
B35: Total Poid Papier (kilo) | C35: =C34*C33 -> 277.2 | F35: Total Poid Papier (kilo) | G35: =G33*G34 -> 300.3 | J35: Total Poid Papier (kilo) | K35: =K33*K34 -> 299 | N35: Total Poid Papier (kilo) | O35: =O33*O34 -> 261.625 | R35: Total Poid Papier (kilo) | S35: =S33*S34 -> 312.375 | V35: Total Poid Papier (kilo) | W35: =W33*W34 -> 256.59375
B36: Prix Total D'achat Papier | C36: =C35*C9 -> 318.78 | F36: Prix Total D'achat Papier | G36: =G35*C9 -> 345.345 | J36: Prix Total D'achat Papier | K36: =K35*C9 -> 343.85 | N36: Prix Total D'achat Papier | O36: =O35*C9 -> 300.86875 | R36: Prix Total D'achat Papier | S36: =S35*C9 -> 359.23125 | V36: Prix Total D'achat Papier | W36: =W35*C9 -> 295.08281
A39: Etape 7 : Impression | B39: Nombre de produit fini | C39: =Devis!D12 -> 15000 | F39: Nombre de produit fini | G39: =Devis!D12 -> 15000 | J39: Nombre de produit fini | K39: =Devis!D12 -> 15000 | N39: Nombre de produit fini | O39: =Devis!D12 -> 15000 | R39: Nombre de produit fini | S39: =Devis!D12 -> 15000 | V39: Nombre de produit fini | W39: =Devis!D12 -> 15000
B40: Nombre de Pose | C40: =IF(D21="POSSIBLE",C21,IF(D29="POSSIBLE",C29,MAX(C21,C29))) -> 10 | F40: Nombre de Pose | G40: =IF(H21="POSSIBLE",G21,IF(H29="POSSIBLE",G29,MAX(G21,G29))) -> 9 | J40: Nombre de Pose | K40: =IF(L21="POSSIBLE",K21,IF(L29="POSSIBLE",K29,MAX(K21,K29))) -> 10 | N40: Nombre de Pose | O40: =IF(P21="POSSIBLE",O21,IF(P29="POSSIBLE",O29,MAX(O21,O29))) -> 12 | R40: Nombre de Pose | S40: =IF(T21="POSSIBLE",S21,IF(T29="POSSIBLE",S29,MAX(S21,S29))) -> 12 | V40: Nombre de Pose | W40: =IF(X21="POSSIBLE",W21,IF(X29="POSSIBLE",W29,MAX(W21,W29))) -> 16
B41: Nombre de feuille | C41: =C34 -> 2000 | F41: Nombre de feuille | G41: =G34 -> 2166.6667 | J41: Nombre de feuille | K41: =K34 -> 2000 | N41: Nombre de feuille | O41: =O34 -> 1750 | R41: Nombre de feuille | S41: =S34 -> 1750 | V41: Nombre de feuille | W41: =W34 -> 1437.5
B42: Nombre de Roule | C42: =C41*(IF(Devis!D8="Recto Seul",1,2)) -> 4000 | F42: Nombre de Roule | G42: =G41*(IF(Devis!D8="Recto Seul",1,2)) -> 4333.3333 | J42: Nombre de Roule | K42: =K41*(IF(Devis!D8="Recto Seul",1,2)) -> 4000 | N42: Nombre de Roule | O42: =O41*(IF(Devis!D8="Recto Seul",1,2)) -> 3500 | R42: Nombre de Roule | S42: =S41*(IF(Devis!D8="Recto Seul",1,2)) -> 3500 | V42: Nombre de Roule | W42: =W41*(IF(Devis!D8="Recto Seul",1,2)) -> 2875
B44: Prix Impression | C44: =((C42/1000)*C7)+C6 -> 350 | F44: Prix Impression | G44: =((G42/1000)*C7)+C6 -> 358.33333 | J44: Prix Impression | K44: =((K42/1000)*C7)+C6 -> 350 | N44: Prix Impression | O44: =((O42/1000)*C7)+C6 -> 337.5 | R44: Prix Impression | S44: =((S42/1000)*C7)+C6 -> 337.5 | V44: Prix Impression | W44: =((W42/1000)*C7)+C6 -> 321.875
A47: PRIX TOTAL | C47: =IF(AND(D21="IMPOSSIBLE",D29="IMPOSSIBLE"),C36+C44+C6,C36+C44) -> 668.78 | G47: =IF(AND(H21="IMPOSSIBLE",H29="IMPOSSIBLE"),G44+G36+C6,G44+G36) -> 953.67833 | K47: =IF(AND(L21="IMPOSSIBLE",L29="IMPOSSIBLE"),K44+K36+C6,K44+K36) -> 693.85 | O47: =IF(AND(P21="IMPOSSIBLE",P29="IMPOSSIBLE"),O36+O44+C6,O36+O44) -> 888.36875 | S47: =IF(AND(T21="IMPOSSIBLE",T29="IMPOSSIBLE"),S36+S44+C6,S36+S44) -> 696.73125 | W47: =IF(AND(X21="IMPOSSIBLE",X29="IMPOSSIBLE"),W36+W44+C6,W36+W44) -> 616.95781
C48: =IF(D21="POSSIBLE", "Bascule 1/8", IF(D29="POSSIBLE","Bascule 1/12","Bascule Côté/Côté")) -> Bascule 1/12 | G48: =IF(H21="POSSIBLE", "Bascule 1/8", IF(H29="POSSIBLE","Bascule 1/12","Bascule Côté/Côté")) -> Bascule Côté/Côté | K48: =IF(L21="POSSIBLE", "Bascule 1/8", IF(L29="POSSIBLE","Bascule 1/12","Bascule Côté/Côté")) -> Bascule 1/12 | O48: =IF(P21="POSSIBLE", "Bascule 1/8", IF(P29="POSSIBLE","Bascule 1/12","Bascule Côté/Côté")) -> Bascule Côté/Côté | S48: =IF(T21="POSSIBLE", "Bascule 1/8", IF(T29="POSSIBLE","Bascule 1/12","Bascule Côté/Côté")) -> Bascule 1/12 | W48: =IF(X21="POSSIBLE", "Bascule 1/8", IF(X29="POSSIBLE","Bascule 1/12","Bascule Côté/Côté")) -> Bascule 1/8
C49: =IF(C48="Bascule 1/8",C21,IF(C48="Bascule 1/12",C29,IF(C48="Bascule Côté/Côté",MAX(C29,C21),"Erreur"))) -> 10 | G49: =IF(G48="Bascule 1/8",G21,IF(G48="Bascule 1/12",G29,IF(G48="Bascule Côté/Côté",MAX(G29,G21),"Erreur"))) -> 9 | K49: =IF(K48="Bascule 1/8",K21,IF(K48="Bascule 1/12",K29,IF(K48="Bascule Côté/Côté",MAX(K29,K21),"Erreur"))) -> 10 | O49: =IF(O48="Bascule 1/8",O21,IF(O48="Bascule 1/12",O29,IF(O48="Bascule Côté/Côté",MAX(O29,O21),"Erreur"))) -> 12 | S49: =IF(S48="Bascule 1/8",S21,IF(S48="Bascule 1/12",S29,IF(S48="Bascule Côté/Côté",MAX(S29,S21),"Erreur"))) -> 12 | W49: =IF(W48="Bascule 1/8",W21,IF(W48="Bascule 1/12",W29,IF(W48="Bascule Côté/Côté",MAX(W29,W21),"Erreur"))) -> 16
A51: SOLUTION OPTIMAL
A52: =IF(AA4=C47,"Solution 1A",IF(AA4=G47,"Solution 1B",IF(AA4=K47,"Solution 2A",IF(AA4=O47,"Solution 2B",IF(AA4=S47,"Solution 3A",IF(AA4=W47,"Solution 3B","")))))) -> Solution 3B

Sheet Feuil1
