Workbook

Sheet Tableau JMM
C2: Informations générales | Q2: Vente de gré à gré | S2: Valeur | Y2: Rachat de prêt | AC2: Valeur
C4: Renseignements emprunteurs | E4: Demandeur 1 | I4: Demandeur 2 | M4: Aval | Q4: Prix d'achat bien existant | Y4: Montant original prêt
C5: Nom | Q5: Travaux hors Tva | Y5: Solde actuel
C6: Prénom | Q6: Tva 21% sur travaux | S6: =S5*21% -> 0 | Y6: Taux dans le temps
C7: Date de naissance | Q7: Montant total travaux | S7: =S5+S6 -> 0 | Y7: Indemnité de réemploi
C8: Lieu de naissance | Q8: Fonds propres | Y8: Frais de main levée | AC8: =CHOOSE(MATCH(AC4,AE$83:AE$99,1),AF84,AF85,AF86,AF87,AF88,AF89,AF90,AF91,AF92,AF93,AF94,AF95,AF96,AF97,AF98,AF99) -> 391.1
C9: Nationalité | Q9: Montant total de l'achat | S9: =SUM(S4:S8) -> 0 | Y9: Montant total du rachat | AC9: =SUM(AC5:AC8) -> 391.1
C10: N° de carte d'identité
C11: Adresse
C12: Code postal + Ville | Q12: Construction | S12: Montant | U12: Tva 21% | W12: Total
C13: Téléphone
C14: Email | Q14: Devis construction | U14: =S14*21% -> 0 | W14: =S14+U14 -> 0
C15: N° régistre national | Q15: Devis terrain | U15: =S15*21% -> 0 | W15: =S15+U15 -> 0
C16: Etat civil | Q16: Devis garage / cave | U16: =S16*21% -> 0 | W16: =S16+U16 -> 0
C17: Nombre de personnes à charge | Q17: Devis terrain garage / cave | U17: =S17*21% -> 0 | W17: =S17+U17 -> 0
C18: Age des personnes à charge | Q18: Total terrain garage et ou cave | U18: =S18*21% -> 0 | W18: =S18+U18 -> 0
C19: Compte bancaire | Q19: Honoraires architecte | U19: =S19*21% -> 0 | W19: =S19+U19 -> 0
C20: Statut professionnelle | Q20: Raccordement égouts | U20: =S20*21% -> 0 | W20: =S20+U20 -> 0
C21: Employeur 1 | Q21: Fonds propres | W21: =S21 -> 0
C22: Adresse | Q22: Prix total construction neuve | W22: =SUM(W14:W20)-W21 -> 0
C23: Code postal + Ville
C24: Date d'entrée
C25: Nature du travail | Q25: Gage 1 (Habitation à financer) | S25: Description | Y25: Gage 2 | AE25: Description
C26: Employeur 2
C27: Adresse | Q27: Nature | Y27: Nature
C28: Code postal + Ville | Q28: Adresse / numéro | Y28: Adresse / numéro
C29: Date d'entrée | Q29: Code postal, ville | Y29: Code postal, ville
C30: Nature du travail | Q30: Pays du gage | Y30: Pays du gage
Q31: Propriétaire | Y31: Propriétaire
Q32: % professionnelle | Y32: % professionnelle
Q33: Valeur vénale | S33: =S4+AC4+W14+W15+W16+W17 -> 0 | Y33: Valeur vénale
C36: Crédits en cours | Q36: Frais de notaire | S36: Régions
C38: Type de prêt | E38: Capital départ | G38: Durée | I38: Taux | K38: Remboursement | M38: 1 échéance | O38: Solde | Q38: Frais d'acte d'achat - (Barème J - A.R. 16/12/1950) | S38: Bxl 1 achat | U38: Bruxelles | W38: Wallonie | Y38: Wallonie | AA38: Flandre | AC38: Flandre | AE38: Flandre | AG38: Flandre
Q40: Enregistrement à | S40: 0.125 | U40: 0.125 | W40: 0.125 | Y40: 0.06 | AA40: 0.1 | AC40: 5% | AE40: 0.1 | AG40: 5%
Q41: Abattement enregistrement | S41: 60000 | U41: non | W41: non | Y41: non | AA41: 15000 | AC41: 15000 | AE41: non | AG41: non
Q42: Droits d'enregistrement | S42: =IF(S4>=60000,(S9-60000)*12.5%,0) -> 0 | U42: =SUM(S4+AC9)*12.5% -> 48.8875 | W42: =SUM(S4+AC9)*12.5% -> 48.8875 | Y42: =SUM(S9+AC9)*6% -> 23.466 | AA42: =IF(S9>=15000,(S9-15000)*10%,0) -> 0 | AC42: =IF(S9>15000,(S9-15000)*5%,0) -> 0 | AE42: =SUM(S4+AC9)*10% -> 39.11 | AG42: =SUM(S4+AC9)*5% -> 19.555
Q43: Honoraires du notaire | S43: =SUM(AA83:AA89) -> 6.68781 | U43: =S43 -> 6.68781 | W43: =S43 -> 6.68781 | Y43: =S43 -> 6.68781 | AA43: =S43 -> 6.68781 | AC43: =S43 -> 6.68781 | AE43: =S43 -> 6.68781 | AG43: =S43 -> 6.68781
Q44: Frais divers d'acte d'achat | S44: 900 | U44: =S44 -> 900 | W44: =S44 -> 900 | Y44: =S44 -> 900 | AA44: =S44 -> 900 | AC44: =S44 -> 900 | AE44: =S44 -> 900 | AG44: =S44 -> 900
Q45: Total frais de notaires acte d'achat | S45: =S42+S43+S44 -> 906.68781 | U45: =SUM(U42:U44) -> 955.57531 | W45: =SUM(W42:W44) -> 955.57531 | Y45: =SUM(Y42:Y44) -> 930.15381 | AA45: =SUM(AA42:AA44) -> 906.68781 | AC45: =SUM(AC42:AC44) -> 906.68781 | AE45: =SUM(AE42:AE44) -> 945.79781 | AG45: =SUM(AG42:AG44) -> 926.24281
E47: =SUM(E40:E46) -> 0 | K47: =SUM(K40:K46) -> 0 | O47: =SUM(O40:O46) -> 0
...
