Workbook
Name voeux: Feuil1!$D$1:$D$72

Sheet postes
A4: Fiche de vœux d'affectation des professeurs des écoles
A7: Nom d'usage: | D7: Prénom:
A8: Nom patronymique: | D8: Date de naissance:
A9: Adresse électronique: | D9: Téléphone:
A10: Adresse postale: | D10: Commune:
A12: N° RNE | B12: Ecole | C12: Commune | D12: Circonscription | E12: Niveau de classe | F12: Ordre de préférence
A13: 00x0652B | B13: Ecole 1 | C13: VILLE 1 | D13: CIRCO 1 | E13: PS/MS/GS
A14: 00x1222W | B14: Ecole 2 | C14: VILLE 1 | D14: CIRCO 1 | E14: PS/GS
A15: 00x1378R | B15: Ecole 3 | C15: VILLE 1 | D15: CIRCO 1 | E15: PS
A16: 00x1624H | B16: Ecole 4 | C16: VILLE 1 | D16: CIRCO 1 | E16: MS/GS
A17: 00x1783F | B17: Ecole 5 | C17: VILLE 2 | D17: CIRCO 1 | E17: CM2
A18: 00x0761V | B18: Ecole 6 | C18: VILLE 3 | D18: CIRCO 2 | E18: MS
A19: 00x1281K | B19: Ecole 7 | C19: VILLE 3 | D19: CIRCO 2 | E19: PS
A20: 00x1435C | B20: Ecole 8 | C20: VILLE 3 | D20: CIRCO 2 | E20: PS
A21: 00x1724S | B21: Ecole 9 | C21: VILLE 3 | D21: CIRCO 2 | E21: MS
A22: 00x0543H | B22: Ecole 10 | C22: VILLE 4 | D22: CIRCO 2 | E22: CP
A23: 00x0545K | B23: Ecole 11 | C23: VILLE 4 | D23: CIRCO 2 | E23: CM2
A24: 00x0547M | B24: Ecole 12 | C24: VILLE 4 | D24: CIRCO 2 | E24: GS
... A84: 00x2050W | B84: Ecole 72 | C84: VILLE 30 | D84: CIRCO 17 | E84: PS/MS
B99: =A7 -> Nom d'usage: | D99: =D7 -> Prénom:

Sheet Feuil1
A1: 1 | B1: =IFERROR(VLOOKUP(A1,postes!$F$13:$F$84,1,FALSE),"Non choisi") -> Non choisi | C1: =IF(B1="Non choisi",A1,"") -> 1 | D1: =IFERROR(SMALL($C$1:$C$72,ROW(A1)),"") -> 1
A2: 2 | B2: =IFERROR(VLOOKUP(A2,postes!$F$13:$F$84,1,FALSE),"Non choisi") -> Non choisi | C2: =IF(B2="Non choisi",A2,"") -> 2 | D2: =IFERROR(SMALL($C$1:$C$72,ROW(A2)),"") -> 2
A3: 3 | B3: =IFERROR(VLOOKUP(A3,postes!$F$13:$F$84,1,FALSE),"Non choisi") -> Non choisi | C3: =IF(B3="Non choisi",A3,"") -> 3 | D3: =IFERROR(SMALL($C$1:$C$72,ROW(A3)),"") -> 3
A4: 4 | B4: =IFERROR(VLOOKUP(A4,postes!$F$13:$F$84,1,FALSE),"Non choisi") -> Non choisi | C4: =IF(B4="Non choisi",A4,"") -> 4 | D4: =IFERROR(SMALL($C$1:$C$72,ROW(A4)),"") -> 4
A5: 5 | B5: =IFERROR(VLOOKUP(A5,postes!$F$13:$F$84,1,FALSE),"Non choisi") -> Non choisi | C5: =IF(B5="Non choisi",A5,"") -> 5 | D5: =IFERROR(SMALL($C$1:$C$72,ROW(A5)),"") -> 5
A6: 6 | B6: =IFERROR(VLOOKUP(A6,postes!$F$13:$F$84,1,FALSE),"Non choisi") -> Non choisi | C6: =IF(B6="Non choisi",A6,"") -> 6 | D6: =IFERROR(SMALL($C$1:$C$72,ROW(A6)),"") -> 6
A7: 7 | B7: =IFERROR(VLOOKUP(A7,postes!$F$13:$F$84,1,FALSE),"Non choisi") -> Non choisi | C7: =IF(B7="Non choisi",A7,"") -> 7 | D7: =IFERROR(SMALL($C$1:$C$72,ROW(A7)),"") -> 7
A8: 8 | B8: =IFERROR(VLOOKUP(A8,postes!$F$13:$F$84,1,FALSE),"Non choisi") -> Non choisi | C8: =IF(B8="Non choisi",A8,"") -> 8 | D8: =IFERROR(SMALL($C$1:$C$72,ROW(A8)),"") -> 8
A9: 9 | B9: =IFERROR(VLOOKUP(A9,postes!$F$13:$F$84,1,FALSE),"Non choisi") -> Non choisi | C9: =IF(B9="Non choisi",A9,"") -> 9 | D9: =IFERROR(SMALL($C$1:$C$72,ROW(A9)),"") -> 9
A10: 10 | B10: =IFERROR(VLOOKUP(A10,postes!$F$13:$F$84,1,FALSE),"Non choisi") -> Non choisi | C10: =IF(B10="Non choisi",A10,"") -> 10 | D10: =IFERROR(SMALL($C$1:$C$72,ROW(A10)),"") -> 10
A11: 11 | B11: =IFERROR(VLOOKUP(A11,postes!$F$13:$F$84,1,FALSE),"Non choisi") -> Non choisi | C11: =IF(B11="Non choisi",A11,"") -> 11 | D11: =IFERROR(SMALL($C$1:$C$72,ROW(A11)),"") -> 11
A12: 12 | B12: =IFERROR(VLOOKUP(A12,postes!$F$13:$F$84,1,FALSE),"Non choisi") -> Non choisi | C12: =IF(B12="Non choisi",A12,"") -> 12 | D12: =IFERROR(SMALL($C$1:$C$72,ROW(A12)),"") -> 12
... A72: 72 | B72: =IFERROR(VLOOKUP(A72,postes!$F$13:$F$84,1,FALSE),"Non choisi") -> Non choisi | C72: =IF(B72="Non choisi",A72,"") -> 72 | D72: =IFERROR(SMALL($C$1:$C$72,ROW(A72)),"") -> 72
