Workbook

Sheet données
B1: A | C1: B | D1: C | E1: D | F1: F | G1: G | H1: H
A2: 36889 | B2: 49 | C2: 56 | D2: 52.5313 | E2: 26.1875 | F2: 19.5166 | G2: 7.4375 | H2: 88
A3: 36922 | B3: 45 | C3: 43.94 | D3: 46.565 | E3: 21.86 | F3: 27.4751 | G3: 10.8125 | H3: 104
A4: 36950 | B4: 48.6 | C4: 46.045 | D4: 48.665 | E4: 21.97 | F4: 28 | G4: 9.125 | H4: 99.9
A5: 36980 | B5: 44.63 | C5: 47.07 | D5: 43.735 | E5: 20.61 | F5: 24.6066 | G5: 11.035 | H5: 96.18
A6: 37011 | B6: 47.8 | C6: 47 | D6: 48.24 | E6: 21.55 | F6: 30.4841 | G6: 12.745 | H6: 115.14
A7: 37042 | B7: 48 | C7: 49.38 | D7: 48.475 | E7: 19.25 | F7: 31.1275 | G7: 9.975 | H7: 108
A8: 37071 | B8: 45.8 | C8: 50.5 | D8: 50 | E8: 17.4 | F8: 32.8463 | G8: 11.625 | H8: 113
A9: 37103 | B9: 45.03 | C9: 49.8 | D9: 54.1 | E9: 18.35 | F9: 29.7822 | G9: 9.395 | H9: 105.21
A10: 37134 | B10: 40.91 | C10: 51.6 | D10: 52.71 | E10: 18.87 | F10: 25.6696 | G10: 9.275 | H10: 97.97
A11: 37162 | B11: 48.12 | C11: 55.05 | D11: 55.4 | E11: 19.22 | F11: 23.0239 | G11: 7.755 | H11: 91.72
A12: 37195 | B12: 38.11 | C12: 48.37 | D12: 57.91 | E12: 21.95 | F12: 26.1646 | G12: 8.78 | H12: 108.07
A13: 37225 | B13: 33.9 | C13: 52 | D13: 58.25 | E13: 20 | F13: 28.75 | G13: 10.65 | H13: 115.59
... A86: 39447 | B86: 41.56 | C86: 58.05 | D86: 66.7 | E86: 48.3 | F86: 34.25 | G86: 195 | H86: 114

Sheet rendement
B1: A | C1: B | D1: C | E1: D | F1: F | G1: G | H1: H
A2: 36922 | B2: =LN(données!B3/données!B2) -> -0.085157808 | C2: =LN(données!C3/données!C2) -> -0.24252662 | D2: =LN(données!D3/données!D2) -> -0.12056 | E2: =LN(données!E3/données!E2) -> -0.18062371 | F2: =LN(données!F3/données!F2) -> 0.34201475 | G2: =LN(données!G3/données!G2) -> 0.3741681 | H2: =LN(données!H3/données!H2) -> 0.16705408
A3: 36950 | B3: =LN(données!B4/données!B3) -> 0.076961041 | C3: =LN(données!C4/données!C3) -> 0.046794112 | D3: =LN(données!D4/données!D3) -> 0.0441109 | E3: =LN(données!E4/données!E3) -> 0.0050194036 | F3: =LN(données!F4/données!F3) -> 0.01892437 | G3: =LN(données!G4/données!G3) -> -0.16968497 | H3: =LN(données!H4/données!H3) -> -0.040221213
A4: 36980 | B4: =LN(données!B5/données!B4) -> -0.085217252 | C4: =LN(données!C5/données!C4) -> 0.022016676 | D4: =LN(données!D5/données!D4) -> -0.10681139 | E4: =LN(données!E5/données!E4) -> -0.063901491 | F4: =LN(données!F5/données!F4) -> -0.12918981 | G4: =LN(données!G5/données!G4) -> 0.19005414 | H4: =LN(données!H5/données!H4) -> -0.03794825
A5: 37011 | B5: =LN(données!B6/données!B5) -> 0.068619361 | C5: =LN(données!C6/données!C5) -> -0.0014882537 | D5: =LN(données!D6/données!D5) -> 0.098039856 | E5: =LN(données!E6/données!E5) -> 0.044599422 | F5: =LN(données!F6/données!F5) -> 0.21419054 | G5: =LN(données!G6/données!G5) -> 0.144067 | H5: =LN(données!H6/données!H5) -> 0.17992734
A6: 37042 | B6: =LN(données!B7/données!B6) -> 0.0041753714 | C6: =LN(données!C7/données!C6) -> 0.049397882 | D6: =LN(données!D7/données!D6) -> 0.0048596487 | E6: =LN(données!E7/données!E6) -> -0.11286476 | F6: =LN(données!F7/données!F6) -> 0.020886437 | G6: =LN(données!G7/données!G6) -> -0.24505708 | H6: =LN(données!H7/données!H6) -> -0.064017552
A7: 37071 | B7: =LN(données!B8/données!B7) -> -0.04691692 | C7: =LN(données!C8/données!C7) -> 0.022427852 | D7: =LN(données!D8/données!D7) -> 0.030974804 | E7: =LN(données!E8/données!E7) -> -0.10104085 | F7: =LN(données!F8/données!F7) -> 0.053747433 | G7: =LN(données!G8/données!G7) -> 0.15307599 | H7: =LN(données!H8/données!H7) -> 0.045256592
A8: 37103 | B8: =LN(données!B9/données!B8) -> -0.016955157 | C8: =LN(données!C9/données!C8) -> -0.013958352 | D8: =LN(données!D9/données!D8) -> 0.07881118 | E8: =LN(données!E9/données!E8) -> 0.053159368 | F8: =LN(données!F9/données!F8) -> -0.097928206 | G8: =LN(données!G9/données!G8) -> -0.21298032 | H8: =LN(données!H9/données!H8) -> -0.071429466
A9: 37134 | B9: =LN(données!B10/données!B9) -> -0.095954402 | C9: =LN(données!C10/données!C9) -> 0.035506688 | D9: =LN(données!D10/données!D9) -> -0.026028995 | E9: =LN(données!E10/données!E9) -> 0.027943785 | F9: =LN(données!F10/données!F9) -> -0.14860349 | G9: =LN(données!G10/données!G9) -> -0.012855024 | H9: =LN(données!H10/données!H9) -> -0.071297043
A10: 37162 | B10: =LN(données!B11/données!B10) -> 0.16232336 | C10: =LN(données!C11/données!C10) -> 0.064720191 | D10: =LN(données!D11/données!D10) -> 0.049774403 | E10: =LN(données!E11/données!E10) -> 0.018378044 | F10: =LN(données!F11/données!F10) -> -0.10877461 | G10: =LN(données!G11/données!G10) -> -0.17898481 | H10: =LN(données!H11/données!H10) -> -0.065920851
A11: 37195 | B11: =LN(données!B12/données!B11) -> -0.23322118 | C11: =LN(données!C12/données!C11) -> -0.12936208 | D11: =LN(données!D12/données!D11) -> 0.044310487 | E11: =LN(données!E12/données!E11) -> 0.13281574 | F11: =LN(données!F12/données!F11) -> 0.12787455 | G11: =LN(données!G12/données!G11) -> 0.12413861 | H11: =LN(données!H12/données!H11) -> 0.16403871
A12: 37225 | B12: =LN(données!B13/données!B12) -> -0.1170617 | C12: =LN(données!C13/données!C12) -> 0.072363932 | D12: =LN(données!D13/données!D12) -> 0.0058540112 | E12: =LN(données!E13/données!E12) -> -0.093034866 | F12: =LN(données!F13/données!F12) -> 0.094230415 | G12: =LN(données!G13/données!G12) -> 0.19308348 | H12: =LN(données!H13/données!H12) -> 0.067270282
A13: 37256 | B13: =LN(données!B14/données!B13) -> 0.14449613 | C13: =LN(données!C14/données!C13) -> 0.030864894 | D13: =LN(données!D14/données!D13) -> 0.014486832 | E13: =LN(données!E14/données!E13) -> 0.085259844 | F13: =LN(données!F14/données!F13) -> 0.036179303 | G13: =LN(données!G14/données!G13) -> 0.027779564 | H13: =LN(données!H14/données!H13) -> -0.13532505
... A85: 39447 | B85: =LN(données!B86/données!B85) -> 0.084040905 | C85: =LN(données!C86/données!C85) -> -0.030870837 | D85: =LN(données!D86/données!D85) -> -0.015471894 | E85: =LN(données!E86/données!E85) -> -0.0057803629 | F85: =LN(données!F86/données!F85) -> 0.019160498 | G85: =LN(données!G86/données!G85) -> 0.085613753 | H85: =LN(données!H86/données!H85) -> 0.08052528
A129: moyenne | B129: =GEOMEAN(B150:B275)-1 -> -0.0045746495 | C129: =GEOMEAN(C150:C275)-1 -> -0.0058236979 | D129: =GEOMEAN(D150:D275)-1 -> 0.0016221798 | E129: =GEOMEAN(E150:E275)-1 -> 0.0035423343 | F129: =GEOMEAN(F150:F275)-1 -> 0.0023732368 | G129: =GEOMEAN(G150:G275)-1 -> 0.027356637 | H129: =GEOMEAN(H150:H275)-1 -> -0.0076057974
A130: variance | B130: =VARP(B2:B127) -> 0.0063756223 | C130: =VARP(C2:C127) -> 0.013085739 | D130: =VARP(D2:D127) -> 0.0019376739 | E130: =VARP(E2:E127) -> 0.006285043 | F130: =VARP(F2:F127) -> 0.0083213422 | G130: =VARP(G2:G127) -> 0.015187171 | H130: =VARP(H2:H127) -> 0.022295161
A131: max | B131: =MAX(B2:B127) -> 0.24421354 | C131: =MAX(C2:C127) -> 0.29404105 | D131: =MAX(D2:D127) -> 0.098338781 | E131: =MAX(E2:E127) -> 0.1726096 | F131: =MAX(F2:F127) -> 0.34201475 | G131: =MAX(G2:G127) -> 0.3741681 | H131: =MAX(H2:H127) -> 0.48032879
A132: min | B132: =MIN(B2:B127) -> -0.23322118 | C132: =MIN(C2:C127) -> -0.42072716 | D132: =MIN(D2:D127) -> -0.16036391 | E132: =MIN(E2:E127) -> -0.22206189 | F132: =MIN(F2:F127) -> -0.15940958 | G132: =MIN(G2:G127) -> -0.27375942 | H132: =MIN(H2:H127) -> -0.51635774
A150: 36922 | B150: =1+B2 -> 0.91484219 | C150: =1+C2 -> 0.75747338 | D150: =1+D2 -> 0.87944 | E150: =1+E2 -> 0.81937629 | F150: =1+F2 -> 1.3420148 | G150: =1+G2 -> 1.3741681 | H150: =1+H2 -> 1.1670541
A151: 36950 | B151: =1+B3 -> 1.076961 | C151: =1+C3 -> 1.0467941 | D151: =1+D3 -> 1.0441109 | E151: =1+E3 -> 1.0050194 | F151: =1+F3 -> 1.0189244 | G151: =1+G3 -> 0.83031503 | H151: =1+H3 -> 0.95977879
A152: 36980 | B152: =1+B4 -> 0.91478275 | C152: =1+C4 -> 1.0220167 | D152: =1+D4 -> 0.89318861 | E152: =1+E4 -> 0.93609851 | F152: =1+F4 -> 0.87081019 | G152: =1+G4 -> 1.1900541 | H152: =1+H4 -> 0.96205175
A153: 37011 | B153: =1+B5 -> 1.0686194 | C153: =1+C5 -> 0.99851175 | D153: =1+D5 -> 1.0980399 | E153: =1+E5 -> 1.0445994 | F153: =1+F5 -> 1.2141905 | G153: =1+G5 -> 1.144067 | H153: =1+H5 -> 1.1799273
A154: 37042 | B154: =1+B6 -> 1.0041754 | C154: =1+C6 -> 1.0493979 | D154: =1+D6 -> 1.0048596 | E154: =1+E6 -> 0.88713524 | F154: =1+F6 -> 1.0208864 | G154: =1+G6 -> 0.75494292 | H154: =1+H6 -> 0.93598245
A155: 37071 | B155: =1+B7 -> 0.95308308 | C155: =1+C7 -> 1.0224279 | D155: =1+D7 -> 1.0309748 | E155: =1+E7 -> 0.89895915 | F155: =1+F7 -> 1.0537474 | G155: =1+G7 -> 1.153076 | H155: =1+H7 -> 1.0452566
A156: 37103 | B156: =1+B8 -> 0.98304484 | C156: =1+C8 -> 0.98604165 | D156: =1+D8 -> 1.0788112 | E156: =1+E8 -> 1.0531594 | F156: =1+F8 -> 0.90207179 | G156: =1+G8 -> 0.78701968 | H156: =1+H8 -> 0.92857053
A157: 37134 | B157: =1+B9 -> 0.9040456 | C157: =1+C9 -> 1.0355067 | D157: =1+D9 -> 0.97397101 | E157: =1+E9 -> 1.0279438 | F157: =1+F9 -> 0.85139651 | G157: =1+G9 -> 0.98714498 | H157: =1+H9 -> 0.92870296
A158: 37162 | B158: =1+B10 -> 1.1623234 | C158: =1+C10 -> 1.0647202 | D158: =1+D10 -> 1.0497744 | E158: =1+E10 -> 1.018378 | F158: =1+F10 -> 0.89122539 | G158: =1+G10 -> 0.82101519 | H158: =1+H10 -> 0.93407915
A159: 37195 | B159: =1+B11 -> 0.76677882 | C159: =1+C11 -> 0.87063792 | D159: =1+D11 -> 1.0443105 | E159: =1+E11 -> 1.1328157 | F159: =1+F11 -> 1.1278745 | G159: =1+G11 -> 1.1241386 | H159: =1+H11 -> 1.1640387
A160: 37225 | B160: =1+B12 -> 0.8829383 | C160: =1+C12 -> 1.0723639 | D160: =1+D12 -> 1.005854 | E160: =1+E12 -> 0.90696513 | F160: =1+F12 -> 1.0942304 | G160: =1+G12 -> 1.1930835 | H160: =1+H12 -> 1.0672703
A161: 37256 | B161: =1+B13 -> 1.1444961 | C161: =1+C13 -> 1.0308649 | D161: =1+D13 -> 1.0144868 | E161: =1+E13 -> 1.0852598 | F161: =1+F13 -> 1.0361793 | G161: =1+G13 -> 1.0277796 | H161: =1+H13 -> 0.86467495
... A245: 39813 | B245: =1+B97 -> 1 | C245: =1+C97 -> 1 | D245: =1+D97 -> 1 | E245: =1+E97 -> 1 | F245: =1+F97 -> 1 | G245: =1+G97 -> 1 | H245: =1+H97 -> 1

Sheet rdmt moyen
B1: A | C1: B | D1: C | E1: D | F1: F | G1: G | H1: H
A2: r moy 01-03
A3: 36922 | B3: =rendement!B2-AVERAGE(rendement!B$2:B$37) -> -0.067629056 | C3: =rendement!C2-AVERAGE(rendement!C$2:C$37) -> -0.22929581 | D3: =rendement!D2-AVERAGE(rendement!D$2:D$37) -> -0.1200954 | E3: =rendement!E2-AVERAGE(rendement!E$2:E$37) -> -0.18679296 | F3: =rendement!F2-AVERAGE(rendement!F$2:F$37) -> 0.33555053 | G3: =rendement!G2-AVERAGE(rendement!G$2:G$37) -> 0.36410404 | H3: =rendement!H2-AVERAGE(rendement!H$2:H$37) -> 0.16867898
A4: 36950 | B4: =rendement!B3-AVERAGE(rendement!B$2:B$37) -> 0.094489793 | C4: =rendement!C3-AVERAGE(rendement!C$2:C$37) -> 0.060024923 | D4: =rendement!D3-AVERAGE(rendement!D$2:D$37) -> 0.044575494 | E4: =rendement!E3-AVERAGE(rendement!E$2:E$37) -> -0.001149843 | F4: =rendement!F3-AVERAGE(rendement!F$2:F$37) -> 0.012460148 | G4: =rendement!G3-AVERAGE(rendement!G$2:G$37) -> -0.17974903 | H4: =rendement!H3-AVERAGE(rendement!H$2:H$37) -> -0.038596319
A5: 36980 | B5: =rendement!B4-AVERAGE(rendement!B$2:B$37) -> -0.0676885 | C5: =rendement!C4-AVERAGE(rendement!C$2:C$37) -> 0.035247487 | D5: =rendement!D4-AVERAGE(rendement!D$2:D$37) -> -0.10634679 | E5: =rendement!E4-AVERAGE(rendement!E$2:E$37) -> -0.070070738 | F5: =rendement!F4-AVERAGE(rendement!F$2:F$37) -> -0.13565403 | G5: =rendement!G4-AVERAGE(rendement!G$2:G$37) -> 0.17999008 | H5: =rendement!H4-AVERAGE(rendement!H$2:H$37) -> -0.036323355
A6: 37011 | B6: =rendement!B5-AVERAGE(rendement!B$2:B$37) -> 0.086148113 | C6: =rendement!C5-AVERAGE(rendement!C$2:C$37) -> 0.011742557 | D6: =rendement!D5-AVERAGE(rendement!D$2:D$37) -> 0.09850445 | E6: =rendement!E5-AVERAGE(rendement!E$2:E$37) -> 0.038430175 | F6: =rendement!F5-AVERAGE(rendement!F$2:F$37) -> 0.20772631 | G6: =rendement!G5-AVERAGE(rendement!G$2:G$37) -> 0.13400294 | H6: =rendement!H5-AVERAGE(rendement!H$2:H$37) -> 0.18155224
A7: 37042 | B7: =rendement!B6-AVERAGE(rendement!B$2:B$37) -> 0.021704123 | C7: =rendement!C6-AVERAGE(rendement!C$2:C$37) -> 0.062628693 | D7: =rendement!D6-AVERAGE(rendement!D$2:D$37) -> 0.005324243 | E7: =rendement!E6-AVERAGE(rendement!E$2:E$37) -> -0.119034 | F7: =rendement!F6-AVERAGE(rendement!F$2:F$37) -> 0.014422214 | G7: =rendement!G6-AVERAGE(rendement!G$2:G$37) -> -0.25512113 | H7: =rendement!H6-AVERAGE(rendement!H$2:H$37) -> -0.062392657
A8: 37071 | B8: =rendement!B7-AVERAGE(rendement!B$2:B$37) -> -0.029388168 | C8: =rendement!C7-AVERAGE(rendement!C$2:C$37) -> 0.035658663 | D8: =rendement!D7-AVERAGE(rendement!D$2:D$37) -> 0.031439399 | E8: =rendement!E7-AVERAGE(rendement!E$2:E$37) -> -0.1072101 | F8: =rendement!F7-AVERAGE(rendement!F$2:F$37) -> 0.04728321 | G8: =rendement!G7-AVERAGE(rendement!G$2:G$37) -> 0.14301193 | H8: =rendement!H7-AVERAGE(rendement!H$2:H$37) -> 0.046881486
A9: 37103 | B9: =rendement!B8-AVERAGE(rendement!B$2:B$37) -> 0.00057359514 | C9: =rendement!C8-AVERAGE(rendement!C$2:C$37) -> -0.00072754164 | D9: =rendement!D8-AVERAGE(rendement!D$2:D$37) -> 0.079275775 | E9: =rendement!E8-AVERAGE(rendement!E$2:E$37) -> 0.046990122 | F9: =rendement!F8-AVERAGE(rendement!F$2:F$37) -> -0.10439243 | G9: =rendement!G8-AVERAGE(rendement!G$2:G$37) -> -0.22304438 | H9: =rendement!H8-AVERAGE(rendement!H$2:H$37) -> -0.069804571
A10: 37134 | B10: =rendement!B9-AVERAGE(rendement!B$2:B$37) -> -0.07842565 | C10: =rendement!C9-AVERAGE(rendement!C$2:C$37) -> 0.048737499 | D10: =rendement!D9-AVERAGE(rendement!D$2:D$37) -> -0.025564401 | E10: =rendement!E9-AVERAGE(rendement!E$2:E$37) -> 0.021774538 | F10: =rendement!F9-AVERAGE(rendement!F$2:F$37) -> -0.15506771 | G10: =rendement!G9-AVERAGE(rendement!G$2:G$37) -> -0.022919083 | H10: =rendement!H9-AVERAGE(rendement!H$2:H$37) -> -0.069672149
A11: 37162 | B11: =rendement!B10-AVERAGE(rendement!B$2:B$37) -> 0.17985211 | C11: =rendement!C10-AVERAGE(rendement!C$2:C$37) -> 0.077951001 | D11: =rendement!D10-AVERAGE(rendement!D$2:D$37) -> 0.050238997 | E11: =rendement!E10-AVERAGE(rendement!E$2:E$37) -> 0.012208797 | F11: =rendement!F10-AVERAGE(rendement!F$2:F$37) -> -0.11523883 | G11: =rendement!G10-AVERAGE(rendement!G$2:G$37) -> -0.18904887 | H11: =rendement!H10-AVERAGE(rendement!H$2:H$37) -> -0.064295957
A12: 37195 | B12: =rendement!B11-AVERAGE(rendement!B$2:B$37) -> -0.21569242 | C12: =rendement!C11-AVERAGE(rendement!C$2:C$37) -> -0.11613127 | D12: =rendement!D11-AVERAGE(rendement!D$2:D$37) -> 0.044775082 | E12: =rendement!E11-AVERAGE(rendement!E$2:E$37) -> 0.12664649 | F12: =rendement!F11-AVERAGE(rendement!F$2:F$37) -> 0.12141032 | G12: =rendement!G11-AVERAGE(rendement!G$2:G$37) -> 0.11407455 | H12: =rendement!H11-AVERAGE(rendement!H$2:H$37) -> 0.1656636
A13: 37225 | B13: =rendement!B12-AVERAGE(rendement!B$2:B$37) -> -0.099532949 | C13: =rendement!C12-AVERAGE(rendement!C$2:C$37) -> 0.085594742 | D13: =rendement!D12-AVERAGE(rendement!D$2:D$37) -> 0.0063186055 | E13: =rendement!E12-AVERAGE(rendement!E$2:E$37) -> -0.099204113 | F13: =rendement!F12-AVERAGE(rendement!F$2:F$37) -> 0.087766193 | G13: =rendement!G12-AVERAGE(rendement!G$2:G$37) -> 0.18301943 | H13: =rendement!H12-AVERAGE(rendement!H$2:H$37) -> 0.068895177
A14: 37256 | B14: =rendement!B13-AVERAGE(rendement!B$2:B$37) -> 0.16202489 | C14: =rendement!C13-AVERAGE(rendement!C$2:C$37) -> 0.044095705 | D14: =rendement!D13-AVERAGE(rendement!D$2:D$37) -> 0.014951426 | E14: =rendement!E13-AVERAGE(rendement!E$2:E$37) -> 0.079090597 | F14: =rendement!F13-AVERAGE(rendement!F$2:F$37) -> 0.029715081 | G14: =rendement!G13-AVERAGE(rendement!G$2:G$37) -> 0.017715505 | H14: =rendement!H13-AVERAGE(rendement!H$2:H$37) -> -0.13370015
... A38: 37986 | B38: =rendement!B37-AVERAGE(rendement!B$2:B$37) -> 0.13071936 | C38: =rendement!C37-AVERAGE(rendement!C$2:C$37) -> 0.23651813 | D38: =rendement!D37-AVERAGE(rendement!D$2:D$37) -> 0.047224301 | E38: =rendement!E37-AVERAGE(rendement!E$2:E$37) -> -0.0061692467 | F38: =rendement!F37-AVERAGE(rendement!F$2:F$37) -> 0.056106035 | G38: =rendement!G37-AVERAGE(rendement!G$2:G$37) -> -0.088774033 | H38: =rendement!H37-AVERAGE(rendement!H$2:H$37) -> -0.08532624
A39: rmoy 02-04
A40: 37287 | B40: =rendement!B14-AVERAGE(rendement!B$14:B$49) -> -0.0069218928 | C40: =rendement!C14-AVERAGE(rendement!C$14:C$49) -> 0.052424706 | D40: =rendement!D14-AVERAGE(rendement!D$14:D$49) -> -0.029231755 | E40: =rendement!E14-AVERAGE(rendement!E$14:E$49) -> 0.014869218 | F40: =rendement!F14-AVERAGE(rendement!F$14:F$49) -> -0.036055834 | G40: =rendement!G14-AVERAGE(rendement!G$14:G$49) -> 0.091164135 | H40: =rendement!H14-AVERAGE(rendement!H$14:H$49) -> 0.067050457
A41: 37315 | B41: =rendement!B15-AVERAGE(rendement!B$14:B$49) -> -0.0043613928 | C41: =rendement!C15-AVERAGE(rendement!C$14:C$49) -> 0.0059331956 | D41: =rendement!D15-AVERAGE(rendement!D$14:D$49) -> 0.055314653 | E41: =rendement!E15-AVERAGE(rendement!E$14:E$49) -> 0.076486666 | F41: =rendement!F15-AVERAGE(rendement!F$14:F$49) -> -0.085013398 | G41: =rendement!G15-AVERAGE(rendement!G$14:G$49) -> -0.16026223 | H41: =rendement!H15-AVERAGE(rendement!H$14:H$49) -> -0.094258304
A42: 37344 | B42: =rendement!B16-AVERAGE(rendement!B$14:B$49) -> 0.015849975 | C42: =rendement!C16-AVERAGE(rendement!C$14:C$49) -> 0.082511755 | D42: =rendement!D16-AVERAGE(rendement!D$14:D$49) -> 0.062424892 | E42: =rendement!E16-AVERAGE(rendement!E$14:E$49) -> 0.11616956 | F42: =rendement!F16-AVERAGE(rendement!F$14:F$49) -> 0.036248907 | G42: =rendement!G16-AVERAGE(rendement!G$14:G$49) -> 0.056934302 | H42: =rendement!H16-AVERAGE(rendement!H$14:H$49) -> 0.058862346
A43: 37376 | B43: =rendement!B17-AVERAGE(rendement!B$14:B$49) -> -0.19003478 | C43: =rendement!C17-AVERAGE(rendement!C$14:C$49) -> -0.03279509 | D43: =rendement!D17-AVERAGE(rendement!D$14:D$49) -> -0.018884232 | E43: =rendement!E17-AVERAGE(rendement!E$14:E$49) -> 0.069632243 | F43: =rendement!F17-AVERAGE(rendement!F$14:F$49) -> -0.14022767 | G43: =rendement!G17-AVERAGE(rendement!G$14:G$49) -> -0.0049292648 | H43: =rendement!H17-AVERAGE(rendement!H$14:H$49) -> -0.21577267
A44: 37407 | B44: =rendement!B18-AVERAGE(rendement!B$14:B$49) -> 0.11056351 | C44: =rendement!C18-AVERAGE(rendement!C$14:C$49) -> -0.04566038 | D44: =rendement!D18-AVERAGE(rendement!D$14:D$49) -> -0.042057692 | E44: =rendement!E18-AVERAGE(rendement!E$14:E$49) -> -0.031720001 | F44: =rendement!F18-AVERAGE(rendement!F$14:F$49) -> -0.028691021 | G44: =rendement!G18-AVERAGE(rendement!G$14:G$49) -> -0.07074952 | H44: =rendement!H18-AVERAGE(rendement!H$14:H$49) -> 0.048337915
A45: 37435 | B45: =rendement!B19-AVERAGE(rendement!B$14:B$49) -> -0.10549652 | C45: =rendement!C19-AVERAGE(rendement!C$14:C$49) -> -0.17682608 | D45: =rendement!D19-AVERAGE(rendement!D$14:D$49) -> -0.16232359 | E45: =rendement!E19-AVERAGE(rendement!E$14:E$49) -> -0.086116426 | F45: =rendement!F19-AVERAGE(rendement!F$14:F$49) -> 0.08040238 | G45: =rendement!G19-AVERAGE(rendement!G$14:G$49) -> -0.30372128 | H45: =rendement!H19-AVERAGE(rendement!H$14:H$49) -> -0.19830203
A46: 37468 | B46: =rendement!B20-AVERAGE(rendement!B$14:B$49) -> -0.086108798 | C46: =rendement!C20-AVERAGE(rendement!C$14:C$49) -> -0.095516083 | D46: =rendement!D20-AVERAGE(rendement!D$14:D$49) -> 0.012100977 | E46: =rendement!E20-AVERAGE(rendement!E$14:E$49) -> -0.18694223 | F46: =rendement!F20-AVERAGE(rendement!F$14:F$49) -> -0.1280419 | G46: =rendement!G20-AVERAGE(rendement!G$14:G$49) -> -0.14845056 | H46: =rendement!H20-AVERAGE(rendement!H$14:H$49) -> -0.021810189
A47: 37498 | B47: =rendement!B21-AVERAGE(rendement!B$14:B$49) -> -0.0999354 | C47: =rendement!C21-AVERAGE(rendement!C$14:C$49) -> -0.082862738 | D47: =rendement!D21-AVERAGE(rendement!D$14:D$49) -> 0.022456782 | E47: =rendement!E21-AVERAGE(rendement!E$14:E$49) -> 0.03159884 | F47: =rendement!F21-AVERAGE(rendement!F$14:F$49) -> 0.025704346 | G47: =rendement!G21-AVERAGE(rendement!G$14:G$49) -> -0.094924021 | H47: =rendement!H21-AVERAGE(rendement!H$14:H$49) -> 0.069011391
A48: 37529 | B48: =rendement!B22-AVERAGE(rendement!B$14:B$49) -> -0.19607099 | C48: =rendement!C22-AVERAGE(rendement!C$14:C$49) -> -0.15995558 | D48: =rendement!D22-AVERAGE(rendement!D$14:D$49) -> -0.0062036166 | E48: =rendement!E22-AVERAGE(rendement!E$14:E$49) -> -0.089698057 | F48: =rendement!F22-AVERAGE(rendement!F$14:F$49) -> -0.11214816 | G48: =rendement!G22-AVERAGE(rendement!G$14:G$49) -> 0.051383778 | H48: =rendement!H22-AVERAGE(rendement!H$14:H$49) -> -0.25610572
A49: 37560 | B49: =rendement!B23-AVERAGE(rendement!B$14:B$49) -> 0.2558441 | C49: =rendement!C23-AVERAGE(rendement!C$14:C$49) -> -0.18746722 | D49: =rendement!D23-AVERAGE(rendement!D$14:D$49) -> 0.080867045 | E49: =rendement!E23-AVERAGE(rendement!E$14:E$49) -> 0.079183297 | F49: =rendement!F23-AVERAGE(rendement!F$14:F$49) -> 0.20389631 | G49: =rendement!G23-AVERAGE(rendement!G$14:G$49) -> -0.025596403 | H49: =rendement!H23-AVERAGE(rendement!H$14:H$49) -> 0.30357713
A50: 37589 | B50: =rendement!B24-AVERAGE(rendement!B$14:B$49) -> 0.11660129 | C50: =rendement!C24-AVERAGE(rendement!C$14:C$49) -> 0.25796981 | D50: =rendement!D24-AVERAGE(rendement!D$14:D$49) -> -0.031848746 | E50: =rendement!E24-AVERAGE(rendement!E$14:E$49) -> 0.090197911 | F50: =rendement!F24-AVERAGE(rendement!F$14:F$49) -> 0.078829249 | G50: =rendement!G24-AVERAGE(rendement!G$14:G$49) -> 0.026297303 | H50: =rendement!H24-AVERAGE(rendement!H$14:H$49) -> 0.10931141
A51: 37621 | B51: =rendement!B25-AVERAGE(rendement!B$14:B$49) -> -0.038370865 | C51: =rendement!C25-AVERAGE(rendement!C$14:C$49) -> -0.12099688 | D51: =rendement!D25-AVERAGE(rendement!D$14:D$49) -> -0.061762556 | E51: =rendement!E25-AVERAGE(rendement!E$14:E$49) -> 0.014773917 | F51: =rendement!F25-AVERAGE(rendement!F$14:F$49) -> -0.10641372 | G51: =rendement!G25-AVERAGE(rendement!G$14:G$49) -> -0.20081996 | H51: =rendement!H25-AVERAGE(rendement!H$14:H$49) -> -0.11357552
... A75: 38352 | B75: =rendement!B49-AVERAGE(rendement!B$14:B$49) -> 0.035188774 | C75: =rendement!C49-AVERAGE(rendement!C$14:C$49) -> 0.099601884 | D75: =rendement!D49-AVERAGE(rendement!D$14:D$49) -> 0.048155869 | E75: =rendement!E49-AVERAGE(rendement!E$14:E$49) -> 0.051022917 | F75: =rendement!F49-AVERAGE(rendement!F$14:F$49) -> -0.00032358352 | G75: =rendement!G49-AVERAGE(rendement!G$14:G$49) -> -0.07192606 | H75: =rendement!H49-AVERAGE(rendement!H$14:H$49) -> -0.062429282
A76: R m 03-05
A77: 37652 | B77: =rendement!B26-AVERAGE(rendement!B$26:B$61) -> -0.10085826 | C77: =rendement!C26-AVERAGE(rendement!C$26:C$61) -> -0.0018177938 | D77: =rendement!D26-AVERAGE(rendement!D$26:D$61) -> -0.0049861038 | E77: =rendement!E26-AVERAGE(rendement!E$26:E$61) -> 0.0016595997 | F77: =rendement!F26-AVERAGE(rendement!F$26:F$61) -> -0.088821452 | G77: =rendement!G26-AVERAGE(rendement!G$26:G$61) -> -0.087351499 | H77: =rendement!H26-AVERAGE(rendement!H$26:H$61) -> -0.0051083294
A78: 37680 | B78: =rendement!B27-AVERAGE(rendement!B$26:B$61) -> -0.15844488 | C78: =rendement!C27-AVERAGE(rendement!C$26:C$61) -> -0.0008013261 | D78: =rendement!D27-AVERAGE(rendement!D$26:D$61) -> -0.024997801 | E78: =rendement!E27-AVERAGE(rendement!E$26:E$61) -> -0.088934559 | F78: =rendement!F27-AVERAGE(rendement!F$26:F$61) -> -0.0045154664 | G78: =rendement!G27-AVERAGE(rendement!G$26:G$61) -> 0.0056057296 | H78: =rendement!H27-AVERAGE(rendement!H$26:H$61) -> -0.00064017028
A79: 37711 | B79: =rendement!B28-AVERAGE(rendement!B$26:B$61) -> -0.033401932 | C79: =rendement!C28-AVERAGE(rendement!C$26:C$61) -> -0.42895295 | D79: =rendement!D28-AVERAGE(rendement!D$26:D$61) -> 0.095216263 | E79: =rendement!E28-AVERAGE(rendement!E$26:E$61) -> 0.045427123 | F79: =rendement!F28-AVERAGE(rendement!F$26:F$61) -> 0.018042791 | G79: =rendement!G28-AVERAGE(rendement!G$26:G$61) -> -0.054109852 | H79: =rendement!H28-AVERAGE(rendement!H$26:H$61) -> 0.0010183257
A80: 37741 | B80: =rendement!B29-AVERAGE(rendement!B$26:B$61) -> 0.15512065 | C80: =rendement!C29-AVERAGE(rendement!C$26:C$61) -> 0.20195862 | D80: =rendement!D29-AVERAGE(rendement!D$26:D$61) -> -0.029561946 | E80: =rendement!E29-AVERAGE(rendement!E$26:E$61) -> -0.04431832 | F80: =rendement!F29-AVERAGE(rendement!F$26:F$61) -> 0.05100968 | G80: =rendement!G29-AVERAGE(rendement!G$26:G$61) -> -0.12806454 | H80: =rendement!H29-AVERAGE(rendement!H$26:H$61) -> 0.10242226
A81: 37771 | B81: =rendement!B30-AVERAGE(rendement!B$26:B$61) -> 0.088906707 | C81: =rendement!C30-AVERAGE(rendement!C$26:C$61) -> 0.088664169 | D81: =rendement!D30-AVERAGE(rendement!D$26:D$61) -> -0.039437591 | E81: =rendement!E30-AVERAGE(rendement!E$26:E$61) -> 0.13001646 | F81: =rendement!F30-AVERAGE(rendement!F$26:F$61) -> -0.041125915 | G81: =rendement!G30-AVERAGE(rendement!G$26:G$61) -> 0.19364765 | H81: =rendement!H30-AVERAGE(rendement!H$26:H$61) -> 0.010603786
A82: 37802 | B82: =rendement!B31-AVERAGE(rendement!B$26:B$61) -> 0.0063519955 | C82: =rendement!C31-AVERAGE(rendement!C$26:C$61) -> 0.017486573 | D82: =rendement!D31-AVERAGE(rendement!D$26:D$61) -> -0.05310935 | E82: =rendement!E31-AVERAGE(rendement!E$26:E$61) -> 0.066245577 | F82: =rendement!F31-AVERAGE(rendement!F$26:F$61) -> 0.037750667 | G82: =rendement!G31-AVERAGE(rendement!G$26:G$61) -> -0.028812353 | H82: =rendement!H31-AVERAGE(rendement!H$26:H$61) -> -0.036419352
A83: 37833 | B83: =rendement!B32-AVERAGE(rendement!B$26:B$61) -> -0.060593895 | C83: =rendement!C32-AVERAGE(rendement!C$26:C$61) -> 0.051855698 | D83: =rendement!D32-AVERAGE(rendement!D$26:D$61) -> -0.0013832188 | E83: =rendement!E32-AVERAGE(rendement!E$26:E$61) -> 0.022731033 | F83: =rendement!F32-AVERAGE(rendement!F$26:F$61) -> 0.026342078 | G83: =rendement!G32-AVERAGE(rendement!G$26:G$61) -> 0.064744692 | H83: =rendement!H32-AVERAGE(rendement!H$26:H$61) -> -0.046399787
A84: 37862 | B84: =rendement!B33-AVERAGE(rendement!B$26:B$61) -> -0.062660928 | C84: =rendement!C33-AVERAGE(rendement!C$26:C$61) -> 0.0093657603 | D84: =rendement!D33-AVERAGE(rendement!D$26:D$61) -> -0.046732072 | E84: =rendement!E33-AVERAGE(rendement!E$26:E$61) -> -0.094490175 | F84: =rendement!F33-AVERAGE(rendement!F$26:F$61) -> 0.16068139 | G84: =rendement!G33-AVERAGE(rendement!G$26:G$61) -> -0.022051477 | H84: =rendement!H33-AVERAGE(rendement!H$26:H$61) -> 0.032006625
A85: 37894 | B85: =rendement!B34-AVERAGE(rendement!B$26:B$61) -> -0.0065706687 | C85: =rendement!C34-AVERAGE(rendement!C$26:C$61) -> 0.025367292 | D85: =rendement!D34-AVERAGE(rendement!D$26:D$61) -> -0.0043334159 | E85: =rendement!E34-AVERAGE(rendement!E$26:E$61) -> -0.023627942 | F85: =rendement!F34-AVERAGE(rendement!F$26:F$61) -> -0.11589122 | G85: =rendement!G34-AVERAGE(rendement!G$26:G$61) -> -0.046951657 | H85: =rendement!H34-AVERAGE(rendement!H$26:H$61) -> 0.04898365
A86: 37925 | B86: =rendement!B35-AVERAGE(rendement!B$26:B$61) -> 0.077701413 | C86: =rendement!C35-AVERAGE(rendement!C$26:C$61) -> -0.020691325 | D86: =rendement!D35-AVERAGE(rendement!D$26:D$61) -> 0.013102175 | E86: =rendement!E35-AVERAGE(rendement!E$26:E$61) -> -0.021117807 | F86: =rendement!F35-AVERAGE(rendement!F$26:F$61) -> -0.06481822 | G86: =rendement!G35-AVERAGE(rendement!G$26:G$61) -> -0.068847668 | H86: =rendement!H35-AVERAGE(rendement!H$26:H$61) -> 0.1127607
...

Sheet Covariance
A1: Matrice cov 00-02 | B1: A | C1: B | D1: C | E1: D | F1: F | G1: G | H1: H
A2: A | B2: =MMULT(TRANSPOSE('rdmt moyen'!B3:H38),'rdmt moyen'!B3:H38)/36 -> #VALUE!
A3: B
A4: C
A5: D
A6: F
A7: G
A8: H
