Workbook

Sheet ACCESSOIRES
B1: REF 3M | M1: REF AO | Y1: REF FORESTADENT | AJ1: REF GACD | AV1: REF LEONE | BG1: REF MEGA DENTAL | BS1: REF NEW ORTHO | CD1: REF ORMODENT | CP1: REF RMO | DA1: REF SCHEIN
C2: REF | E2: PX TTC | F2: REM | G2: PX REM | H2: Q | I2: TOT TTC | J2: TOT REM | K2: UNITE | L2: UNITE REM | N2: REF | P2: PX TTC | Q2: REM | R2: PX REM | S2: Q | T2: TOT TTC | U2: TOT REM | V2: UNITE | W2: UNITE REM | Z2: REF | AB2: PX TTC | AC2: REM | AD2: PX REM | AE2: Q | AF2: TOT TTC | AG2: TOT REM | AH2: UNITE | AI2: UNITE REM | AK2: REF | AM2: PX TTC | AN2: REM | AO2: PX REM | AP2: Q | AQ2: TOT TTC | AR2: TOT REM | AS2: UNITE | AT2: UNITE REM | AW2: REF | AY2: PX TTC | AZ2: REM | BA2: PX REM | BB2: Q | BC2: TOT TTC | BD2: TOT REM | BE2: UNITE | BF2: UNITE REM | BH2: REF | BJ2: PX TTC | BK2: REM | BL2: PX REM | BM2: Q | BN2: TOT TTC | BO2: TOT REM | BP2: UNITE | BQ2: UNITE REM | BT2: REF | BV2: PX TTC | BW2: REM | BX2: PX REM | BY2: Q | BZ2: TOT TTC | CA2: TOT REM | CB2: UNITE | CC2: UNITE REM | CE2: REF | CG2: PX TTC | CH2: REM | CI2: PX REM | CJ2: Q | CK2: TOT TTC | CL2: TOT REM | CM2: UNITE | CN2: UNITE REM | CQ2: REF | CS2: PX TTC | CT2: REM | CU2: PX REM | CV2: Q | CW2: TOT TTC | CX2: TOT REM | CY2: UNITE | CZ2: UNITE REM | DB2: REF | DD2: PX TTC | DE2: REM | DF2: PX REM | DG2: Q | DH2: TOT TTC | DI2: TOT REM | DJ2: UNITE | DK2: UNITE REM | DM2: REF GAC
A4: ANTI-HEMORRAGIQUE | X4: ANTI-HEMORRAGIQUE | AF4: =AE4*AB4 -> 0 | AG4: =AE4*AD4 -> 0 | AH4: =AB4/AA4 -> #DIV/0! | AI4: =AD4/AA4 -> #DIV/0! | AJ4: HEMOSTASYL/COFFRET 2X2g+EMBOUT | AK4: 223.442 | AL4: 0.004 | AM4: 73 | AP4: 0 | AQ4: =AM4*AP4 -> 0 | AS4: =AM4/AL4 -> 18250 | AU4: ANTI-HEMORRAGIQUE | BG4: HEMOSTASYL/COFFRET/2X2g+EMBOUT | BH4: 5302.014 | BI4: 0.004 | BJ4: 143 | BM4: 0 | BN4: =BJ4*BM4 -> 0 | BP4: =BJ4/BI4 -> 35750 | BR4: ANTI-HEMORRAGIQUE | CG4: 0 | CO4: ANTI-HEMORRAGIQUE | DA4: HEMOSTASYL/COFFRET | DB4: 892.3180 | DC4: 1 | DD4: 143 | DG4: 0 | DH4: =DD4*DG4 -> 0 | DI4: =DG4*DF4 -> 0 | DJ4: =DD4/DC4 -> 143 | DK4: =DF4/DC4 -> 0 | DL4: ANTI-HEMORRAGIQUE
AJ5: HEMOSPAD/15ml | AK5: 223.083 | AL5: 0.015 | AM5: 32.5 | AP5: 0 | AQ5: =AM5*AP5 -> 0 | AS5: =AM5/AL5 -> 2166.6667 | BG5: DENTSPLY/HEMOSPAD/15ml | BH5: 5756.014 | BI5: 0.015 | BJ5: 30.3 | BM5: 0 | BN5: =BJ5*BM5 -> 0 | BP5: =BJ5/BI5 -> 2020 | CG5: 0 | DA5: HEMOSPAD/15ml | DB5: 892.3534 | DC5: 0.015 | DD5: 31.3 | DG5: 0 | DH5: =DD5*DG5 -> 0 | DI5: =DG5*DF5 -> 0 | DJ5: =DD5/DC5 -> 2086.6667 | DK5: =DF5/DC5 -> 0
A6: ASPIRATION FINE | X6: ASPIRATION FINE | AJ6: MEDIBASE/TRANSPARENTE/Q100 | AK6: 225.753 | AL6: 100 | AM6: 3.3 | AP6: 1 | AQ6: =AM6*AP6 -> 3.3 | AS6: =AM6/AL6 -> 0.033 | AU6: ASPIRATION FINE | BG6: CYBER EVAC/Q100/TRANSPARENTE | BH6: 4952.122 | BI6: 100 | BJ6: 3.3 | BM6: 2 | BN6: =BJ6*BM6 -> 6.6 | BP6: =BJ6/BI6 -> 0.033 | BR6: ASPIRATION FINE | CD6: Q100 | CE6: PG0.337.0648 | CF6: 100 | CG6: 3.74348 | CI6: =CG6-(CG6*CH6) -> 3.74348 | CK6: =CJ6*CG6 -> 0 | CL6: =CJ6*CI6 -> 0 | CM6: =CG6/CF6 -> 0.0374348 | CN6: =CI6/CF6 -> 0.0374348 | CO6: ASPIRATION FINE | DA6: CYBER EVAC/TRANSPARENTE/Q100 | DB6: 900.2730 | DC6: 100 | DD6: 3.4 | DG6: 2 | DH6: =DD6*DG6 -> 6.8 | DI6: =DG6*DF6 -> 0 | DJ6: =DD6/DC6 -> 0.034 | DK6: =DF6/DC6 -> 0 | DL6: ASPIRATION FINE
A7: ASPIRATION GROSSE | X7: ASPIRATION GROSSE | AJ7: HYGOVAC VENT/Q100 | AK7: 225.214 | AL7: 100 | AM7: 4.2 | AP7: 1 | AQ7: =AM7*AP7 -> 4.2 | AS7: =AM7/AL7 -> 0.042 | AU7: ASPIRATION GROSSE | BN7: =BJ7*BM7 -> 0 | BR7: ASPIRATION GROSSE | CG7: 0 | CO7: ASPIRATION GROSSE | DH7: =DD7*DG7 -> 0 | DL7: ASPIRATION GROSSE
A8: BLOC A SPATULER | M8: Q(4) | N8: 001.907 | O8: 4 | P8: 32.74 | Q8: 0.25 | R8: =P8*0.75 -> 24.555 | T8: =S8*P8 -> 0 | U8: =S8*R8 -> 0 | V8: =P8/O8 -> 8.185 | W8: =R8/O8 -> 6.13875 | X8: BLOC A SPATULER | AJ8: MEDIBASE/7X8cm/Q100 | AK8: 225.698 | AL8: 100 | AM8: 5.4 | AP8: 2 | AQ8: =AM8*AP8 -> 10.8 | AS8: =AM8/AL8 -> 0.054 | AU8: BLOC A SPATULER | BG8: CYBERPAD/7X8cm/Q100 | BH8: 4155.122 | BI8: 100 | BJ8: 4.9 | BM8: 2 | BN8: =BJ8*BM8 -> 9.8 | BP8: =BJ8/BI8 -> 0.049 | BR8: BLOC A SPATULER | BS8: PVC+MOUSSE/7X8cm/Q100 | BT8: FIX.7 | BU8: 100 | BV8: 7 | BZ8: =BV8*BY8 -> 0 | CA8: =BY8*BX8 -> 0 | CB8: =BV8/BU8 -> 0.07 | CC8: =BX8/BU8 -> 0 | CD8: 75 FEUILLES | CE8: OR0.740.0124 | CF8: 75 | CG8: 11.38592 | CI8: =CG8-(CG8*CH8) -> 11.38592 | CK8: =CJ8*CG8 -> 0 | CL8: =CJ8*CI8 -> 0 | CM8: =CG8/CF8 -> 0.15181227 | CN8: =CI8/CF8 -> 0.15181227 | CO8: BLOC A SPATULER | DA8: BLOC PVC/7X8cm/Q100 | DB8: 877.0331 | DC8: 100 | DD8: 6.4 | DG8: 2 | DH8: =DD8*DG8 -> 12.8 | DI8: =DG8*DF8 -> 0 | DJ8: =DD8/DC8 -> 0.064 | DK8: =DF8/DC8 -> 0 | DL8: BLOC A SPATULER | DM8: LARGE/DOUBLE FACE/Q(10) | DN8: 53102
A9: BOITE DE CONTENTION | M9: ASSORTIMENT/Q100 | N9: 861.074 | O9: 100 | P9: 223.17 | Q9: 0.25 | R9: =P9*0.75 -> 167.3775 | T9: =S9*P9 -> 0 | U9: =S9*R9 -> 0 | V9: =P9/O9 -> 2.2317 | W9: =R9/O9 -> 1.673775 | X9: BOITE DE CONTENTION | Y9: TAILLE 1/Q20 | Z9: 100.0051 | AA9: 20 | AB9: 33.64 | AF9: =AE9*AB9 -> 0 | AG9: =AE9*AD9 -> 0 | AH9: =AB9/AA9 -> 1.682 | AI9: =AD9/AA9 -> 0 | AJ9: DIFFERENTE COULEUR/PETITE/Q10 | AK9: 2218.020 | AL9: 10 | AM9: 9.9 | AP9: 1 | AQ9: =AM9*AP9 -> 9.9 | AS9: =AM9/AL9 -> 0.99 | AU9: BOITE DE CONTENTION | AV9: ASSORTIMENT/Q200 | AW9: A3038.99 | AX9: 200 | AY9: 175.82 | AZ9: 0.35 | BA9: =AY9-(AY9*AZ9) -> 114.283 | BC9: =BB9*AY9 -> 0 | BD9: =BA9*BB9 -> 0 | BE9: =AY9/AX9 -> 0.8791 | BF9: =BA9/AX9 -> 0.571415 | BG9: ASSORTIMENT/PAILLETE/PETITE/Q10 | BH9: 6847.008 | BI9: 10 | BJ9: 7 | BM9: 10 | BN9: =BJ9*BM9 -> 70 | BP9: =BJ9/BI9 -> 0.7 | BR9: BOITE DE CONTENTION | BS9: G&H/ASSORTIMENT/NEON/Q50 | BT9: RET050 | BU9: 50 | BV9: 43 | BZ9: =BV9*BY9 -> 0 | CA9: =BY9*BX9 -> 0 | CB9: =BV9/BU9 -> 0.86 | CC9: =BX9/BU9 -> 0 | CD9: NOIR/Q10 | CE9: OR0.710.0013 | CF9: 10 | CG9: 18.46624 | CI9: =CG9-(CG9*CH9) -> 18.46624 | CK9: =CJ9*CG9 -> 0 | CL9: =CJ9*CI9 -> 0 | CM9: =CG9/CF9 -> 1.846624 | CN9: =CI9/CF9 -> 1.846624 | CO9: BOITE DE CONTENTION | CP9: NOIR/Q20 | CQ9: J01323 | CR9: 20 | CS9: 29.601 | CT9: 0.25 | CU9: =CS9*75% -> 22.20075 | CV9: 1 | CW9: =CV9*CS9 -> 29.601 | CX9: =CV9*CU9 -> 22.20075 | CY9: =CS9/CR9 -> 1.48005 | CZ9: =CU9/CR9 -> 1.1100375 | DH9: =DD9*DG9 -> 0 | DL9: BOITE DE CONTENTION | DM9: NOIR METAL | DN9: 12.200.04
Y10: TAILLE 2/Q20 | Z10: 100.0052 | AA10: 20 | AB10: 33.64 | AF10: =AE10*AB10 -> 0 | AG10: =AE10*AD10 -> 0 | AH10: =AB10/AA10 -> 1.682 | AI10: =AD10/AA10 -> 0 | AJ10: DIFFERENTE COULEUR/GRANDE/Q10 | AK10: 2215.992 | AL10: 10 | AM10: 10 | AP10: 1 | AQ10: =AM10*AP10 -> 10 | AS10: =AM10/AL10 -> 1 | BG10: ASSORTIMENT/PAILLETE/GRANDE/Q10 | BH10: 7834.172 | BI10: 10 | BJ10: 7.5 | BM10: 10 | BN10: =BJ10*BM10 -> 75 | BP10: =BJ10/BI10 -> 0.75 | CG10: 0 | DH10: =DD10*DG10 -> 0
A11: BOITE PORTE CLE AVEC CROCHET | X11: BOITE PORTE CLE AVEC CROCHET | AJ11: G&H/Q50 | AK11: 2261.712 | AL11: 50 | AM11: 55 | AP11: 1 | AQ11: =AM11*AP11 -> 55 | AS11: =AM11/AL11 -> 1.1 | AU11: BOITE PORTE CLE AVEC CROCHET | BN11: =BJ11*BM11 -> 0 | BR11: BOITE PORTE CLE AVEC CROCHET | BS11: FLUOS/Q50 | BT11: ESC050 | BU11: 50 | BV11: 55 | BZ11: =BV11*BY11 -> 0 | CA11: =BY11*BX11 -> 0 | CB11: =BV11/BU11 -> 1.1 | CC11: =BX11/BU11 -> 0 | CG11: 0 | CO11: BOITE PORTE CLE AVEC CROCHET | DH11: =DD11*DG11 -> 0 | DL11: BOITE PORTE CLE AVEC CROCHET
A12: BOMBE DE FROID | X12: BOMBE DE FROID | AJ12: DENTATEST/200ml/MENTHE | AK12: 223.201 | AL12: 0.2 | AM12: 6.9 | AP12: 1 | AQ12: =AM12*AP12 -> 6.9 | AS12: =AM12/AL12 -> 34.5 | AU12: BOMBE DE FROID | AW12: OP.100.89 | AX12: 1 | AY12: 50.77 | AZ12: 0.25 | BA12: =AY12-(AY12*AZ12) -> 38.0775 | BC12: =BB12*AY12 -> 0 | BD12: =BA12*BB12 -> 0 | BE12: =AY12/AX12 -> 50.77 | BF12: =BA12/AX12 -> 38.0775 | BG12: STERIBLUE/ORANGE/200ml | BH12: 0449.004 | BI12: 0.2 | BJ12: 8.9 | BM12: 1 | BN12: =BJ12*BM12 -> 8.9 | BP12: =BJ12/BI12 -> 44.5 | BR12: BOMBE DE FROID | CG12: 0 | CO12: BOMBE DE FROID | DA12: ENDO COLD/ORANGE/200ml | DB12: 900.1384 | DC12: 0.2 | DD12: 7.8 | DG12: 1 | DH12: =DD12*DG12 -> 7.8 | DI12: =DG12*DF12 -> 0 | DJ12: =DD12/DC12 -> 39 | DK12: =DF12/DC12 -> 0 | DL12: BOMBE DE FROID | DM12: FREEZE SPRAY | DN12: 22000
A13: BOUTON A COLLER | M13: CURVED/Q(10) | N13: 292.171 | O13: 10 | P13: 29.49 | Q13: 0.25 | R13: =P13*0.75 -> 22.1175 | T13: =S13*P13 -> 0 | U13: =S13*R13 -> 0 | V13: =P13/O13 -> 2.949 | W13: =R13/O13 -> 2.21175 | X13: BOUTON A COLLER | Y13: PLAT (TIGE COURTE) Q10 | Z13: 760.0802 | AA13: 10 | AB13: 28.31 | AF13: =AE13*AB13 -> 0 | AG13: =AE13*AD13 -> 0 | AH13: =AB13/AA13 -> 2.831 | AI13: =AD13/AA13 -> 0 | AJ13: G&H/PLAT ROND/Q20 | AK13: 2262.102 | AL13: 20 | AM13: 32 | AP13: 2 | AQ13: =AM13*AP13 -> 64 | AS13: =AM13/AL13 -> 1.6 | AU13: BOUTON A COLLER | AV13: Q10 | AW13: F2860.00 | AX13: 10 | AY13: 29.78 | AZ13: 0.35 | BA13: =AY13-(AY13*AZ13) -> 19.357 | BC13: =BB13*AY13 -> 0 | BD13: =BA13*BB13 -> 0 | BE13: =AY13/AX13 -> 2.978 | BF13: =BA13/AX13 -> 1.9357 | BG13: MASEL/PLAT/ROND/Q10 | BH13: 7329.172 | BI13: 10 | BJ13: 19.5 | BM13: 2 | BN13: =BJ13*BM13 -> 39 | BP13: =BJ13/BI13 -> 1.95 | BR13: BOUTON A COLLER | BS13: PLAT/ROND/Q20 | BT13: BMBC20 | BU13: 20 | BV13: 34 | BZ13: =BV13*BY13 -> 0 | CA13: =BY13*BX13 -> 0 | CB13: =BV13/BU13 -> 1.7 | CC13: =BX13/BU13 -> 0 | CD13: BASE PLATE ORMCO Q10 | CE13: OR0.300.0097 | CF13: 10 | CG13: 5.13084 | CI13: =CG13-(CG13*CH13) -> 5.13084 | CK13: =CJ13*CG13 -> 0 | CL13: =CJ13*CI13 -> 0 | CM13: =CG13/CF13 -> 0.513084 | CN13: =CI13/CF13 -> 0.513084 | CO13: BOUTON A COLLER | CP13: ROND/MEDIUM/Q10 | CQ13: A07903 | CR13: 10 | CS13: 44.1922 | CT13: 0.4 | CU13: =CS13*60% -> 26.51532 | CV13: 2 | CW13: =CV13*CS13 -> 88.3844 | CX13: =CV13*CU13 -> 53.03064 | CY13: =CS13/CR13 -> 4.41922 | CZ13: =CU13/CR13 -> 2.651532 | DH13: =DD13*DG13 -> 0 | DL13: BOUTON A COLLER | DN13: 30.000.00
Y14: PLAT (TIGE LONGUE) Q10 | Z14: 760.0801 | AA14: 10 | AB14: 28.31 | AF14: =AE14*AB14 -> 0 | AG14: =AE14*AD14 -> 0 | AH14: =AB14/AA14 -> 2.831 | AI14: =AD14/AA14 -> 0 | AQ14: =AM14*AP14 -> 0 | BN14: =BJ14*BM14 -> 0 | BS14: PLAT/RECTANGULAIRE | BT14: BLBF20 | BU14: 20 | BV14: 34 | BZ14: =BV14*BY14 -> 0 | CA14: =BY14*BX14 -> 0 | CB14: =BV14/BU14 -> 1.7 | CC14: =BX14/BU14 -> 0 | CD14: (A+ Q25) | CE14: (AY0.704.4015) | CF14: 25 | CG14: 82.69144 | CI14: =CG14-(CG14*CH14) -> 82.69144 | CK14: =CJ14*CG14 -> 0 | CL14: =CJ14*CI14 -> 0 | CM14: =CG14/CF14 -> 3.3076576 | CN14: =CI14/CF14 -> 3.3076576 | DH14: =DD14*DG14 -> 0
Y15: COURBE Q10 | Z15: 760.0805 | AA15: 10 | AB15: 30.23 | AF15: =AE15*AB15 -> 0 | AG15: =AE15*AD15 -> 0 | AH15: =AB15/AA15 -> 3.023 | AI15: =AD15/AA15 -> 0 | AJ15: G&H/COURBE/Q20 | AK15: 2262.101 | AL15: 20 | AM15: 32 | AP15: 1 | AQ15: =AM15*AP15 -> 32 | AS15: =AM15/AL15 -> 1.6 | BG15: MASEL/COURBE/Q10 | BH15: 7320°.172 | BI15: 10 | BJ15: 19.5 | BM15: 1 | BN15: =BJ15*BM15 -> 19.5 | BP15: =BJ15/BI15 -> 1.95 | BS15: PLAT/COURBE | BT15: BLBC20 | BU15: 20 | BV15: 34 | BZ15: =BV15*BY15 -> 0 | CA15: =BY15*BX15 -> 0 | CB15: =BV15/BU15 -> 1.7 | CC15: =BX15/BU15 -> 0 | CG15: 0 | DH15: =DD15*DG15 -> 0
A16: BROSSE A DENT JETABLE | X16: BROSSE A DENT JETABLE | AJ16: MEDIBASE/IMPREGNEE/Q100/ASSORTIS | AK16: 2215.637 | AL16: 100 | AM16: 18.6 | AP16: 1 | AQ16: =AM16*AP16 -> 18.6 | AS16: =AM16/AL16 -> 0.186 | AU16: BROSSE A DENT JETABLE | AV16: Q144 | AX16: 144 | AY16: 89.1 | AZ16: 0.25 | BA16: =AY16-(AY16*AZ16) -> 66.825 | BC16: =BB16*AY16 -> 0 | BD16: =BA16*BB16 -> 0 | BE16: =AY16/AX16 -> 0.61875 | BF16: =BA16/AX16 -> 0.4640625 | BG16: DE HEALTH/Q100 | BH16: 4202.191 | BI16: 100 | BJ16: 17 | BM16: 1 | BN16: =BJ16*BM16 -> 17 | BP16: =BJ16/BI16 -> 0.17 | BR16: BROSSE A DENT JETABLE | BS16: ASSORTIMENT/Q144 | BT16: 10232 | BU16: 144 | BV16: 41 | BZ16: =BV16*BY16 -> 0 | CA16: =BY16*BX16 -> 0 | CB16: =BV16/BU16 -> 0.28472222 | CC16: =BX16/BU16 -> 0 | CD16: Q100 | CE16: HW0.711.0006 | CF16: 100 | CG16: ??? | CI16: =CG16-(CG16*CH16) -> #VALUE! | CK16: =CJ16*CG16 -> #VALUE! | CL16: =CJ16*CI16 -> #VALUE! | CM16: =CG16/CF16 -> #VALUE! | CN16: =CI16/CF16 -> #VALUE! | CO16: BROSSE A DENT JETABLE | CP16: Q100 | CQ16: ECM8121 | CR16: 100 | CS16: 17.4018 | CT16: 0 | CU16: 17.4018 | CV16: 1 | CW16: =CV16*CS16 -> 17.4018 | CX16: =CV16*CU16 -> 17.4018 | CY16: =CS16/CR16 -> 0.174018 | CZ16: =CU16/CR16 -> 0.174018 | DA16: HS/Q100 | DB16: 900.1377 | DC16: 100 | DD16: 21.9 | DG16: 1 | DH16: =DD16*DG16 -> 21.9 | DI16: =DG16*DF16 -> 0 | DJ16: =DD16/DC16 -> 0.219 | DK16: =DF16/DC16 -> 0 | DL16: BROSSE A DENT JETABLE
A17: BROSSETTE CONTRE ANGLE | X17: BROSSETTE CONTRE ANGLE | AJ17: MEDIBASE/NYLON/Q50 | AK17: 227.129 | AL17: 50 | AM17: 32.7 | AP17: 1 | AQ17: =AM17*AP17 -> 32.7 | AS17: =AM17/AL17 -> 0.654 | AU17: BROSSETTE CONTRE ANGLE | AV17: Q10 | AX17: 10 | AY17: 26.62 | AZ17: 0.25 | BA17: =AY17-(AY17*AZ17) -> 19.965 | BC17: =BB17*AY17 -> 0 | BD17: =BA17*BB17 -> 0 | BE17: =AY17/AX17 -> 2.662 | BF17: =BA17/AX17 -> 1.9965 | BG17: CYBERTECH/NYLON/Q50 | BH17: 4069.122 | BI17: 50 | BJ17: 31.5 | BM17: 1 | BN17: =BJ17*BM17 -> 31.5 | BP17: =BJ17/BI17 -> 0.63 | BR17: BROSSETTE CONTRE ANGLE | CD17: Q12 | CE17: PG0.012.1204 | CF17: 12 | CG17: 29.4814 | CI17: =CG17-(CG17*CH17) -> 29.4814 | CK17: =CJ17*CG17 -> 0 | CL17: =CJ17*CI17 -> 0 | CM17: =CG17/CF17 -> 2.4567833 | CN17: =CI17/CF17 -> 2.4567833 | CO17: BROSSETTE CONTRE ANGLE | DA17: CYBERBRUSH/NYLON/Q50 | DB17: 900.2847 | DC17: 50 | DD17: 32.9 | DG17: 1 | DH17: =DD17*DG17 -> 32.9 | DI17: =DG17*DF17 -> 0 | DJ17: =DD17/DC17 -> 0.658 | DK17: =DF17/DC17 -> 0 | DL17: BROSSETTE CONTRE ANGLE
A18: BROSSETTE INTERPROXIMALE | X18: BROSSETTE INTERPROXIMALE | AK18: 221.990 | AM18: 71 | AP18: 1 | AQ18: =AM18*AP18 -> 71 | AU18: BROSSETTE INTERPROXIMALE | AV18: Q144 | AX18: 144 | AY18: 195.9 | AZ18: 0.25 | BA18: =AY18-(AY18*AZ18) -> 146.925 | BC18: =BB18*AY18 -> 0 | BD18: =BA18*BB18 -> 0 | BE18: =AY18/AX18 -> 1.3604167 | BF18: =BA18/AX18 -> 1.0203125 | BN18: =BJ18*BM18 -> 0 | BR18: BROSSETTE INTERPROXIMALE | CG18: 0 | CO18: BROSSETTE INTERPROXIMALE | DH18: =DD18*DG18 -> 0 | DL18: BROSSETTE INTERPROXIMALE | DN18: 52.610.10
A19: CALES RETRO INCISIVES | X19: CALES RETRO INCISIVES | AQ19: =AM19*AP19 -> 0 | AU19: CALES RETRO INCISIVES | AV19: Q10 | AX19: 10 | AY19: 188.37 | AZ19: 0.25 | BA19: =AY19-(AY19*AZ19) -> 141.2775 | BC19: =BB19*AY19 -> 0 | BD19: =BA19*BB19 -> 0 | BE19: =AY19/AX19 -> 18.837 | BF19: =BA19/AX19 -> 14.12775 | BN19: =BJ19*BM19 -> 0 | BR19: CALES RETRO INCISIVES | CD19: Q10 | CE19: OR0.350.0000 | CF19: 10 | CG19: 13.31148 | CI19: =CG19-(CG19*CH19) -> 13.31148 | CK19: =CJ19*CG19 -> 0 | CL19: =CJ19*CI19 -> 0 | CM19: =CG19/CF19 -> 1.331148 | CN19: =CI19/CF19 -> 1.331148 | CO19: CALES RETRO INCISIVES | DH19: =DD19*DG19 -> 0 | DL19: CALES RETRO INCISIVES
A20: CALES SURELEV° (10) | X20: CALES SURELEV° (10) | AK20: 221.756 | AM20: 4 | AP20: 2 | AQ20: =AM20*AP20 -> 8 | AU20: CALES SURELEV° (10) | BN20: =BJ20*BM20 -> 0 | BR20: CALES SURELEV° (10) | CG20: 0 | CO20: CALES SURELEV° (10) | DH20: =DD20*DG20 -> 0 | DL20: CALES SURELEV° (10) | DN20: 97.980.00
A21: CHAINETTE ELASTOMERIQUE | M21: FERME/CLEAR | N21: 854.255 | O21: 2 | T21: =S21*P21 -> 0 | U21: =S21*R21 -> 0 | V21: =P21/O21 -> 0 | W21: =R21/O21 -> 0 | X21: CHAINETTE ELASTOMERIQUE | Y21: FERME/CLAIR/1,5M | Z21: 655.0002 | AA21: 1.5 | AB21: 31.57 | AF21: =AE21*AB21 -> 0 | AG21: =AE21*AD21 -> 0 | AH21: =AB21/AA21 -> 21.046667 | AI21: =AD21/AA21 -> 0 | AJ21: SERREE/CLAIR/4.5m | AK21: 2261.616 | AL21: 4.5 | AM21: 13.5 | AP21: 2 | AQ21: =AM21*AP21 -> 27 | AS21: =AM21/AL21 -> 3 | AU21: CHAINETTE ELASTOMERIQUE | AV21: SERREE/CLAIRE/5m | AW21: K6426.13 | AX21: 5 | AY21: 37.08 | AZ21: 0.25 | BA21: =AY21-(AY21*AZ21) -> 27.81 | BC21: =BB21*AY21 -> 0 | BD21: =BA21*BB21 -> 0 | BE21: =AY21/AX21 -> 7.416 | BF21: =BA21/AX21 -> 5.562 | BG21: 4,5m | BI21: 4.5 | BJ21: 11.9 | BM21: 4 | BN21: =BJ21*BM21 -> 47.6 | BP21: =BJ21/BI21 -> 2.6444444 | BR21: CHAINETTE ELASTOMERIQUE | CD21: FERME/CLAIR/4m | CE21: OR0.639.0002 | CF21: 4 | CG21: 70.75536 | CI21: =CG21-(CG21*CH21) -> 70.75536 | CK21: =CJ21*CG21 -> 0 | CL21: =CJ21*CI21 -> 0 | CM21: =CG21/CF21 -> 17.68884 | CN21: =CI21/CF21 -> 17.68884 | CO21: CHAINETTE ELASTOMERIQUE | CP21: SERREE/CLAIR/4m | CQ21: ECM0693 | CR21: 4 | CS21: 72.956 | CT21: 0.25 | CU21: =CS21*75% -> 54.717 | CV21: 2 | CW21: =CV21*CS21 -> 145.912 | CX21: =CV21*CU21 -> 109.434 | CY21: =CS21/CR21 -> 18.239 | CZ21: =CU21/CR21 -> 13.67925 | DH21: =DD21*DG21 -> 0 | DL21: CHAINETTE ELASTOMERIQUE | DM21: FERME
M22: FERME/GREY | N22: 854.252 | O22: 2 | T22: =S22*P22 -> 0 | U22: =S22*R22 -> 0 | V22: =P22/O22 -> 0 | W22: =R22/O22 -> 0 | AJ22: SERREE/GRISE/4.5m | AK22: 2261.617 | AL22: 4.5 | AM22: 13.5 | AP22: 2 | AQ22: =AM22*AP22 -> 27 | AS22: =AM22/AL22 -> 3 | AV22: SERREE/GRISE/5m | AW22: K6466.13 | AX22: 5 | AY22: 37.08 | AZ22: 0.25 | BA22: =AY22-(AY22*AZ22) -> 27.81 | BC22: =BB22*AY22 -> 0 | BD22: =BA22*BB22 -> 0 | BE22: =AY22/AX22 -> 7.416 | BF22: =BA22/AX22 -> 5.562 | BN22: =BJ22*BM22 -> 0 | CD22: FERME/GRISE/4m | CE22: OR0.639.0001 | CF22: 4 | CG22: 70.75536 | CI22: =CG22-(CG22*CH22) -> 70.75536 | CK22: =CJ22*CG22 -> 0 | CL22: =CJ22*CI22 -> 0 | CM22: =CG22/CF22 -> 17.68884 | CN22: =CI22/CF22 -> 17.68884 | CP22: SERREE/GRISE/4m | CQ22: ECM0698 | CR22: 4 | CS22: 72.956 | CT22: 0.25 | CU22: =CS22*75% -> 54.717 | CV22: 2 | CW22: =CV22*CS22 -> 145.912 | CX22: =CV22*CU22 -> 109.434 | CY22: =CS22/CR22 -> 18.239 | CZ22: =CU22/CR22 -> 13.67925 | DH22: =DD22*DG22 -> 0
M23: MOYENNE/CLEAR | N23: 854.256 | O23: 2 | T23: =S23*P23 -> 0 | U23: =S23*R23 -> 0 | V23: =P23/O23 -> 0 | W23: =R23/O23 -> 0 | Y23: MOYENNE/CLAIR/1,5M | Z23: 655.0001 | AA23: 1.5 | AB23: 31.57 | AF23: =AE23*AB23 -> 0 | AG23: =AE23*AD23 -> 0 | AH23: =AB23/AA23 -> 21.046667 | AI23: =AD23/AA23 -> 0 | AJ23: MOYENNE/CLAIRE/4.5m | AK23: 2261.624 | AL23: 4.5 | AM23: 13.5 | AP23: 2 | AQ23: =AM23*AP23 -> 27 | AS23: =AM23/AL23 -> 3 | AV23: MOYENNE/CLAIRE/5m | AW23: K6425.13 | AX23: 5 | AY23: 37.08 | AZ23: 0.25 | BA23: =AY23-(AY23*AZ23) -> 27.81 | BC23: =BB23*AY23 -> 0 | BD23: =BA23*BB23 -> 0 | BE23: =AY23/AX23 -> 7.416 | BF23: =BA23/AX23 -> 5.562 | BN23: =BJ23*BM23 -> 0 | CD23: MOYENNE/CLAIR/4m | CE23: OR0.639.0004 | CF23: 4 | CG23: 70.75536 | CI23: =CG23-(CG23*CH23) -> 70.75536 | CK23: =CJ23*CG23 -> 0 | CL23: =CJ23*CI23 -> 0 | CM23: =CG23/CF23 -> 17.68884 | CN23: =CI23/CF23 -> 17.68884 | CP23: MOYENNE/CLAIR/4,7m | CQ23: ECM0650 | CR23: 4.7 | CS23: 72.956 | CT23: 0.25 | CU23: =CS23*75% -> 54.717 | CV23: 2 | CW23: =CV23*CS23 -> 145.912 | CX23: =CV23*CU23 -> 109.434 | CY23: =CS23/CR23 -> 15.522553 | CZ23: =CU23/CR23 -> 11.641915 | DH23: =DD23*DG23 -> 0 | DM23: MOYENNE
M24: MOYENNE/GREY | N24: 854.253 | O24: 2 | T24: =S24*P24 -> 0 | U24: =S24*R24 -> 0 | V24: =P24/O24 -> 0 | W24: =R24/O24 -> 0 | AJ24: MOYENNE/GRISE/4.5m | AK24: 2261.625 | AL24: 4.5 | AM24: 13.5 | AP24: 2 | AQ24: =AM24*AP24 -> 27 | AS24: =AM24/AL24 -> 3 | AV24: MOYENNE/GRISE/5m | AW24: K6465.13 | AX24: 5 | AY24: 37.08 | AZ24: 0.25 | BA24: =AY24-(AY24*AZ24) -> 27.81 | BC24: =BB24*AY24 -> 0 | BD24: =BA24*BB24 -> 0 | BE24: =AY24/AX24 -> 7.416 | BF24: =BA24/AX24 -> 5.562 | BN24: =BJ24*BM24 -> 0 | BS24: =5*15*28.5 -> 2137.5 | CD24: MOYENNE/GRISE/4m | CE24: OR0.639.0003 | CF24: 4 | CG24: 70.75536 | CI24: =CG24-(CG24*CH24) -> 70.75536 | CK24: =CJ24*CG24 -> 0 | CL24: =CJ24*CI24 -> 0 | CM24: =CG24/CF24 -> 17.68884 | CN24: =CI24/CF24 -> 17.68884 | CP24: MOYENNE/GRISE/4,7m | CQ24: ECM0660 | CR24: 4.7 | CS24: 72.956 | CT24: 0.25 | CU24: =CS24*75% -> 54.717 | CV24: 2 | CW24: =CV24*CS24 -> 145.912 | CX24: =CV24*CU24 -> 109.434 | CY24: =CS24/CR24 -> 15.522553 | CZ24: =CU24/CR24 -> 11.641915 | DH24: =DD24*DG24 -> 0
M25: GRANDE/CLEAR | N25: 854.259 | O25: 2 | T25: =S25*P25 -> 0 | U25: =S25*R25 -> 0 | V25: =P25/O25 -> 0 | W25: =R25/O25 -> 0 | Y25: GRANDE/CLAIR/1,5M | Z25: 655.0003 | AA25: 1.5 | AB25: 31.57 | AF25: =AE25*AB25 -> 0 | AG25: =AE25*AD25 -> 0 | AH25: =AB25/AA25 -> 21.046667 | AI25: =AD25/AA25 -> 0 | AJ25: GRANDE/CLAIRE/4.5m | AK25: 2261.620 | AL25: 4.5 | AM25: 13.5 | AP25: 2 | AQ25: =AM25*AP25 -> 27 | AS25: =AM25/AL25 -> 3 | AV25: LARGE/CLAIRE/5m | AW25: K6420.13 | AX25: 5 | AY25: 37.08 | AZ25: 0.25 | BA25: =AY25-(AY25*AZ25) -> 27.81 | BC25: =BB25*AY25 -> 0 | BD25: =BA25*BB25 -> 0 | BE25: =AY25/AX25 -> 7.416 | BF25: =BA25/AX25 -> 5.562 | BN25: =BJ25*BM25 -> 0 | CD25: GRANDE/CLAIR/4m | CE25: OR0.639.0019 | CF25: 4 | CG25: 70.75536 | CI25: =CG25-(CG25*CH25) -> 70.75536 | CK25: =CJ25*CG25 -> 0 | CL25: =CJ25*CI25 -> 0 | CM25: =CG25/CF25 -> 17.68884 | CN25: =CI25/CF25 -> 17.68884 | CP25: GRANDE/CLAIR/4,7m | CQ25: ECM0691 | CR25: 4.7 | CS25: 72.956 | CT25: 0.25 | CU25: =CS25*75% -> 54.717 | CV25: 2 | CW25: =CV25*CS25 -> 145.912 | CX25: =CV25*CU25 -> 109.434 | CY25: =CS25/CR25 -> 15.522553 | CZ25: =CU25/CR25 -> 11.641915 | DH25: =DD25*DG25 -> 0 | DM25: LONGUE
M26: GRANDE/GREY | N26: 854.254 | O26: 2 | T26: =S26*P26 -> 0 | U26: =S26*R26 -> 0 | V26: =P26/O26 -> 0 | W26: =R26/O26 -> 0 | AJ26: GRANDE/GRISE/4.5m | AK26: 2261.621 | AL26: 4.5 | AM26: 13.5 | AP26: 2 | AQ26: =AM26*AP26 -> 27 | AS26: =AM26/AL26 -> 3 | AV26: LARGE/GRISE/5m | AW26: K6460.13 | AX26: 5 | AY26: 37.08 | AZ26: 0.25 | BA26: =AY26-(AY26*AZ26) -> 27.81 | BC26: =BB26*AY26 -> 0 | BD26: =BA26*BB26 -> 0 | BE26: =AY26/AX26 -> 7.416 | BF26: =BA26/AX26 -> 5.562 | BN26: =BJ26*BM26 -> 0 | CD26: GRANDE/GRISE/4m | CE26: OR0.639.0018 | CF26: 4 | CG26: 70.75536 | CI26: =CG26-(CG26*CH26) -> 70.75536 | CK26: =CJ26*CG26 -> 0 | CL26: =CJ26*CI26 -> 0 | CM26: =CG26/CF26 -> 17.68884 | CN26: =CI26/CF26 -> 17.68884 | CP26: GRANDE/GRISE/4,7 | CQ26: ECM0697 | CR26: 4.7 | CS26: 72.956 | CT26: 0.25 | CU26: =CS26*75% -> 54.717 | CV26: 2 | CW26: =CV26*CS26 -> 145.912 | CX26: =CV26*CU26 -> 109.434 | CY26: =CS26/CR26 -> 15.522553 | CZ26: =CU26/CR26 -> 11.641915 | DH26: =DD26*DG26 -> 0
A27: CIRE PROTECTION | M27: CLEAR/Q100 | N27: 861.200 | O27: 100 | P27: 75.92 | Q27: 0.25 | R27: =P27*0.75 -> 56.94 | T27: =S27*P27 -> 0 | U27: =S27*R27 -> 0 | V27: =P27/O27 -> 0.7592 | W27: =R27/O27 -> 0.5694 | X27: CIRE PROTECTION | Y27: SILICONE Q50 | Z27: 413.0011 | AA27: 50 | AB27: 74.57 | AF27: =AE27*AB27 -> 0 | AG27: =AE27*AD27 -> 0 | AH27: =AB27/AA27 -> 1.4914 | AI27: =AD27/AA27 -> 0 | AJ27: NEXA DENTAL/Q100 | AK27: 2279.003 | AL27: 100 | AM27: 54.8 | AP27: 1 | AQ27: =AM27*AP27 -> 54.8 | AS27: =AM27/AL27 -> 0.548 | AU27: CIRE PROTECTION | AV27: Q50 | AW27: TSMC | AX27: 50 | AY27: 37.08 | AZ27: 0.25 | BA27: =AY27-(AY27*AZ27) -> 27.81 | BC27: =BB27*AY27 -> 0 | BD27: =BA27*BB27 -> 0 | BE27: =AY27/AX27 -> 0.7416 | BF27: =BA27/AX27 -> 0.5562 | BG27: MASEL/NATUREL/Q50 | BH27: 7852.172 | BI27: 50 | BJ27: 29.7 | BM27: 1 | BN27: =BJ27*BM27 -> 29.7 | BP27: =BJ27/BI27 -> 0.594 | BR27: CIRE PROTECTION | BS27: PARFUMEE/Q50 | BT27: 732750 | BU27: 50 | BV27: 31 | BZ27: =BV27*BY27 -> 0 | CA27: =BY27*BX27 -> 0 | CB27: =BV27/BU27 -> 0.62 | CC27: =BX27/BU27 -> 0 | CD27: BOITE DE 5/Q40 | CE27: OR0.757.0010 | CF27: 40 | CG27: 61.60596 | CI27: =CG27-(CG27*CH27) -> 61.60596 | CK27: =CJ27*CG27 -> 0 | CL27: =CJ27*CI27 -> 0 | CM27: =CG27/CF27 -> 1.540149 | CN27: =CI27/CF27 -> 1.540149 | CO27: CIRE PROTECTION | CP27: NOIX COCO/Q10 | CQ27: ECM1353 | CR27: 10 | CS27: 9.8072 | CT27: 0.25 | CU27: =CS27*75% -> 7.3554 | CV27: 5 | CW27: =CV27*CS27 -> 49.036 | CX27: =CV27*CU27 -> 36.777 | CY27: =CS27/CR27 -> 0.98072 | CZ27: =CU27/CR27 -> 0.73554 | DH27: =DD27*DG27 -> 0 | DL27: CIRE PROTECTION | DM27: BLANC/Q(50 BOITES) | DN27: 17.222.22
AQ28: =AM28*AP28 -> 0 | BG28: LONGUE BANDE/Q48 | BH28: 3706.769 | BI28: 48 | BJ28: 19 | BM28: 1 | BN28: =BJ28*BM28 -> 19 | BP28: =BJ28/BI28 -> 0.39583333 | BS28: LONGUE/A COUPER/5X15X28,5 | BT28: 1304 | BU28: 21.38 | BV28: 20 | BZ28: =BV28*BY28 -> 0 | CA28: =BY28*BX28 -> 0 | CB28: =BV28/BU28 -> 0.9354537 | CC28: =BX28/BU28 -> 0 | CG28: 0 | DH28: =DD28*DG28 -> 0 | DM28: ROUGE (CANELLE)/Q(50 BOITES) | DN28: 17.222.23
A29: CLE ACTIVATION VERIN | X29: CLE ACTIVATION VERIN | Y29: Q1 | Z29: 100.0009 | AA29: 1 | AB29: 2.46 | AF29: =AE29*AB29 -> 0 | AG29: =AE29*AD29 -> 0 | AH29: =AB29/AA29 -> 2.46 | AI29: =AD29/AA29 -> 0 | AQ29: =AM29*AP29 -> 0 | AU29: CLE ACTIVATION VERIN | AV29: Q10 | AW29: A0558.00 | AX29: 10 | AY29: 18.73 | AZ29: 0.35 | BA29: =AY29-(AY29*AZ29) -> 12.1745 | BC29: =BB29*AY29 -> 0 | BD29: =BA29*BB29 -> 0 | BE29: =AY29/AX29 -> 1.873 | BF29: =BA29/AX29 -> 1.21745 | BN29: =BJ29*BM29 -> 0 | BR29: CLE ACTIVATION VERIN | CG29: 0 | CO29: CLE ACTIVATION VERIN | DH29: =DD29*DG29 -> 0 | DL29: CLE ACTIVATION VERIN | DN29: 97.111.11
A30: CLEAT A COLLER | M30: Q10 | N30: 593.165 | O30: 10 | T30: =S30*P30 -> 0 | U30: =S30*R30 -> 0 | V30: =P30/O30 -> 0 | W30: =R30/O30 -> 0 | X30: CLEAT A COLLER | AJ30: ORTHO TECHNOLOGY/Q10 | AK30: 2262.103 | AL30: 10 | AM30: 32 | AP30: 1 | AQ30: =AM30*AP30 -> 32 | AS30: =AM30/AL30 -> 3.2 | AU30: CLEAT A COLLER | AV30: Q10 | AX30: 10 | AY30: 62.68 | AZ30: 0.25 | BA30: =AY30-(AY30*AZ30) -> 47.01 | BC30: =BB30*AY30 -> 0 | BD30: =BA30*BB30 -> 0 | BE30: =AY30/AX30 -> 6.268 | BF30: =BA30/AX30 -> 4.701 | BN30: =BJ30*BM30 -> 0 | BR30: CLEAT A COLLER | CD30: ORMCO Q10 (A+ Q25) | CE30: OR0.300.0092 (AY0.704.4014) | CF30: 10 | CG30: 3.09764 | CI30: =CG30-(CG30*CH30) -> 3.09764 | CK30: =CJ30*CG30 -> 0 | CL30: =CJ30*CI30 -> 0 | CM30: =CG30/CF30 -> 0.309764 | CN30: =CI30/CF30 -> 0.309764 | CO30: CLEAT A COLLER | DH30: =DD30*DG30 -> 0 | DL30: CLEAT A COLLER
A31: COTON SALIVAIRE | X31: COTON SALIVAIRE | AJ31: MEDIBASE/8mm/300g | AK31: 225.932 | AL31: 0.3 | AM31: 5 | AP31: 1 | AQ31: =AM31*AP31 -> 5 | AS31: =AM31/AL31 -> 16.666667 | AU31: COTON SALIVAIRE | AV31: Q2000 | AX31: 2000 | AY31: 34.48 | AZ31: 0.25 | BA31: =AY31-(AY31*AZ31) -> 25.86 | BC31: =BB31*AY31 -> 0 | BD31: =BA31*BB31 -> 0 | BE31: =AY31/AX31 -> 0.01724 | BF31: =BA31/AX31 -> 0.01293 | BG31: CYBERTECH/TAILLE 1/300g | BH31: 4939.122 | BI31: 0.3 | BJ31: 5 | BM31: 1 | BN31: =BJ31*BM31 -> 5 | BP31: =BJ31/BI31 -> 16.666667 | BR31: COTON SALIVAIRE | CD31: DIAMETRE 8mm/Q300 | CE31: RK0.340.0101 | CF31: 300 | CG31: 12.41448 | CI31: =CG31-(CG31*CH31) -> 12.41448 | CK31: =CJ31*CG31 -> 0 | CL31: =CJ31*CI31 -> 0 | CM31: =CG31/CF31 -> 0.0413816 | CN31: =CI31/CF31 -> 0.0413816 | CO31: COTON SALIVAIRE | DA31: CYBERTECH/TAILLE 1/300g | DB31: 900.3746 | DC31: 0.3 | DD31: 5.1 | DG31: 1 | DH31: =DD31*DG31 -> 5.1 | DI31: =DG31*DF31 -> 0 | DJ31: =DD31/DC31 -> 17 | DK31: =DF31/DC31 -> 0 | DL31: COTON SALIVAIRE
AJ32: MEDIBASE/10mm/300g | AK32: 225.933 | AL32: 0.3 | AM32: 5 | AP32: 1 | AQ32: =AM32*AP32 -> 5 | AS32: =AM32/AL32 -> 16.666667 | BG32: CYBERTECH/TAILLE 3/300g | BH32: 4931.122 | BI32: 0.3 | BJ32: 5 | BM32: 1 | BN32: =BJ32*BM32 -> 5 | BP32: =BJ32/BI32 -> 16.666667 | CD32: DIAMETRE 10mm/Q300 | CE32: RK0.340.0102 | CF32: 300 | CG32: 13.02444 | CI32: =CG32-(CG32*CH32) -> 13.02444 | CK32: =CJ32*CG32 -> 0 | CL32: =CJ32*CI32 -> 0 | CM32: =CG32/CF32 -> 0.0434148 | CN32: =CI32/CF32 -> 0.0434148 | DA32: CYBERTECH/TAILLE 3/300g | DB32: 900.3748 | DC32: 0.3 | DD32: 5.1 | DG32: 1 | DH32: =DD32*DG32 -> 5.1 | DI32: =DG32*DF32 -> 0 | DJ32: =DD32/DC32 -> 17 | DK32: =DF32/DC32 -> 0
A33: COTON ROEKO | X33: COTON ROEKO | AJ33: PAROTISROLL/10mm/Q100 | AK33: 225.010 | AL33: 100 | AM33: 17.1 | AP33: 1 | AQ33: =AM33*AP33 -> 17.1 | AS33: =AM33/AL33 -> 0.171 | AU33: COTON ROEKO | BN33: =BJ33*BM33 -> 0 | BR33: COTON ROEKO | CD33: DIAMETRE 10mm/Q100 | CE33: RK0.340.0155 | CF33: 100 | CG33: 25.15188 | CI33: =CG33-(CG33*CH33) -> 25.15188 | CK33: =CJ33*CG33 -> 0 | CL33: =CJ33*CI33 -> 0 | CM33: =CG33/CF33 -> 0.2515188 | CN33: =CI33/CF33 -> 0.2515188 | CO33: COTON ROEKO | DH33: =DD33*DG33 -> 0 | DL33: COTON ROEKO
A34: CRAYON MARQUEUR | X34: CRAYON MARQUEUR | AQ34: =AM34*AP34 -> 0 | AU34: CRAYON MARQUEUR | AV34: BLANC | AW34: T3608.00 | AX34: 1 | AY34: 4.27 | AZ34: 0.35 | BA34: =AY34-(AY34*AZ34) -> 2.7755 | BC34: =BB34*AY34 -> 0 | BD34: =BA34*BB34 -> 0 | BE34: =AY34/AX34 -> 4.27 | BF34: =BA34/AX34 -> 2.7755 | BN34: =BJ34*BM34 -> 0 | BR34: CRAYON MARQUEUR | CD34: BLANC | CE34: SM0.200.1005 | CF34: 1 | CG34: 5.3222 | CI34: =CG34-(CG34*CH34) -> 5.3222 | CK34: =CJ34*CG34 -> 0 | CL34: =CJ34*CI34 -> 0 | CM34: =CG34/CF34 -> 5.3222 | CN34: =CI34/CF34 -> 5.3222 | CO34: CRAYON MARQUEUR | DH34: =DD34*DG34 -> 0 | DL34: CRAYON MARQUEUR
A35: CROCHET CHIRURGICAL | M35: .021X.025/Q10 | N35: 851.623C | O35: 10 | P35: 38.14 | Q35: 0.25 | R35: =P35*0.75 -> 28.605 | T35: =S35*P35 -> 0 | U35: =S35*R35 -> 0 | V35: =P35/O35 -> 3.814 | W35: =R35/O35 -> 2.8605 | X35: CROCHET CHIRURGICAL | AJ35: COURT/Q20 | AK35: 2262.036 | AL35: 20 | AM35: 32 | AP35: 1 | AQ35: =AM35*AP35 -> 32 | AS35: =AM35/AL35 -> 1.6 | AU35: CROCHET CHIRURGICAL | BG35: MASEL/21X25/Q10 | BH35: 7611.172 | BI35: 10 | BJ35: 26 | BM35: 2 | BN35: =BJ35*BM35 -> 52 | BP35: =BJ35/BI35 -> 2.6 | BR35: CROCHET CHIRURGICAL | BS35: MOYEN/Q10 | BT35: F201.06 | BU35: 10 | BV35: 10 | BZ35: =BV35*BY35 -> 0 | CA35: =BY35*BX35 -> 0 | CB35: =BV35/BU35 -> 1 | CC35: =BX35/BU35 -> 0 | CD35: .022/Q50 | CE35: AY0.704.9000 | CF35: 50 | CG35: 71.61648 | CI35: =CG35-(CG35*CH35) -> 71.61648 | CK35: =CJ35*CG35 -> 0 | CL35: =CJ35*CI35 -> 0 | CM35: =CG35/CF35 -> 1.4323296 | CN35: =CI35/CF35 -> 1.4323296 | CO35: CROCHET CHIRURGICAL | CP35: Q10 | CQ35: ECM1342 | CR35: 10 | CS35: 26.1326 | CT35: 0.25 | CU35: =CS35*75% -> 19.59945 | CV35: 1 | CW35: =CV35*CS35 -> 26.1326 | CX35: =CV35*CU35 -> 19.59945 | CY35: =CS35/CR35 -> 2.61326 | CZ35: =CU35/CR35 -> 1.959945 | DH35: =DD35*DG35 -> 0 | DL35: CROCHET CHIRURGICAL | DM35: Q10 | DN35: 47.601.39
A36: CROCHET PLASTIQUE POUR ELASTIQUES | X36: CROCHET PLASTIQUE POUR ELASTIQUES | Y36: Q10 | Z36: 562.0002 | AF36: =AE36*AB36 -> 0 | AG36: =AE36*AD36 -> 0 | AH36: =AB36/AA36 -> #DIV/0! | AI36: =AD36/AA36 -> #DIV/0! | AQ36: =AM36*AP36 -> 0 | AU36: CROCHET PLASTIQUE POUR ELASTIQUES | AV36: Q100 | AX36: 100 | AY36: 41.26 | AZ36: 0.25 | BA36: =AY36-(AY36*AZ36) -> 30.945 | BC36: =BB36*AY36 -> 0 | BD36: =BA36*BB36 -> 0 | BE36: =AY36/AX36 -> 0.4126 | BF36: =BA36/AX36 -> 0.30945 | BG36: MASEL/COULEUR/Q100 | BH36: 9274.172 | BI36: 100 | BJ36: 18 | BM36: 1 | BN36: =BJ36*BM36 -> 18 | BP36: =BJ36/BI36 -> 0.18 | BR36: CROCHET PLASTIQUE POUR ELASTIQUES | BS36: FLUOS/Q100 | BT36: EPT100 | BU36: 100 | BV36: 16 | BZ36: =BV36*BY36 -> 0 | CA36: =BY36*BX36 -> 0 | CB36: =BV36/BU36 -> 0.16 | CC36: =BX36/BU36 -> 0 | CG36: 0 | CO36: CROCHET PLASTIQUE POUR ELASTIQUES | CP36: Q100 | CQ36: ECM8019 | CR36: 100 | CS36: 32.3518 | CT36: 0.25 | CU36: =CS36*75% -> 24.26385 | CV36: 1 | CW36: =CV36*CS36 -> 32.3518 | CX36: =CV36*CU36 -> 24.26385 | CY36: =CS36/CR36 -> 0.323518 | CZ36: =CU36/CR36 -> 0.2426385 | DH36: =DD36*DG36 -> 0 | DL36: CROCHET PLASTIQUE POUR ELASTIQUES
A37: CROCHET PLASTIQUE INVISALIGN | X37: CROCHET PLASTIQUE INVISALIGN | AQ37: =AM37*AP37 -> 0 | AU37: CROCHET PLASTIQUE INVISALIGN | BN37: =BJ37*BM37 -> 0 | BR37: CROCHET PLASTIQUE INVISALIGN | BS37: BLEU/Q10 | BT37: RR.1TSB | BU37: 10 | BV37: 15 | BZ37: =BV37*BY37 -> 0 | CA37: =BY37*BX37 -> 0 | CB37: =BV37/BU37 -> 1.5 | CC37: =BX37/BU37 -> 0 | CG37: 0 | CO37: CROCHET PLASTIQUE INVISALIGN | DH37: =DD37*DG37 -> 0 | DL37: CROCHET PLASTIQUE INVISALIGN | DN37: 97.000.00
A38: DISTRIBUTEUR COTON | X38: DISTRIBUTEUR COTON | AU38: DISTRIBUTEUR COTON | BR38: DISTRIBUTEUR COTON | CD38: OFFERT | CO38: DISTRIBUTEUR COTON | DA38: HS/BLANC/Q50 | DB38: 900.6049 | DC38: 50 | DD38: 15.5 | DG38: 2 | DH38: =DD38*DG38 -> 31 | DI38: =DG38*DF38 -> 0 | DJ38: =DD38/DC38 -> 0.31 | DK38: =DF38/DC38 -> 0 | DL38: DISTRIBUTEUR COTON
A39: DISTRIBUTEUR ELASTIQUE | N39: 851.824 | O39: 1 | P39: 64.74 | Q39: 0.25 | R39: =P39*0.75 -> 48.555 | T39: =S39*P39 -> 0 | U39: =S39*R39 -> 0 | V39: =P39/O39 -> 64.74 | W39: =R39/O39 -> 48.555 | X39: DISTRIBUTEUR ELASTIQUE | AQ39: =AM39*AP39 -> 0 | AU39: DISTRIBUTEUR ELASTIQUE | BN39: =BJ39*BM39 -> 0 | BR39: DISTRIBUTEUR ELASTIQUE | CG39: 0 | CO39: DISTRIBUTEUR ELASTIQUE | DH39: =DD39*DG39 -> 0 | DL39: DISTRIBUTEUR ELASTIQUE
A40: DISTRIBUTEUR GOBELET | X40: DISTRIBUTEUR GOBELET | AJ40: CROSSTEX | AK40: 225.053 | AL40: 1 | AM40: 28.6 | AP40: 1 | AQ40: =AM40*AP40 -> 28.6 | AS40: =AM40/AL40 -> 28.6 | AU40: DISTRIBUTEUR GOBELET | BG40: DISTRIBUTEUR | BH40: 3293.172 | BI40: 1 | BJ40: 26 | BM40: 1 | BN40: =BJ40*BM40 -> 26 | BP40: =BJ40/BI40 -> 26 | BR40: DISTRIBUTEUR GOBELET | CG40: 0 | CO40: DISTRIBUTEUR GOBELET | DA40: MURAL/PLASTIQUE TRANSPARENT | DB40: 950.1071 | DC40: 1 | DD40: 22.7 | DG40: 1 | DH40: =DD40*DG40 -> 22.7 | DI40: =DG40*DF40 -> 0 | DJ40: =DD40/DC40 -> 22.7 | DK40: =DF40/DC40 -> 0 | DL40: DISTRIBUTEUR GOBELET
A41: DISTRIBUTEUR PAPIER | X41: DISTRIBUTEUR PAPIER | AQ41: =AM41*AP41 -> 0 | AU41: DISTRIBUTEUR PAPIER | BG41: INOX | BH41: 5203.176 | BI41: 1 | BJ41: 51 | BM41: 1 | BN41: =BJ41*BM41 -> 51 | BP41: =BJ41/BI41 -> 51 | BR41: DISTRIBUTEUR PAPIER | CG41: 0 | CO41: DISTRIBUTEUR PAPIER | DA41: TORK/ALU BROSSE | DB41: 891.2014 | DC41: 1 | DD41: 103.2 | DG41: 1 | DH41: =DD41*DG41 -> 103.2 | DI41: =DG41*DF41 -> 0 | DJ41: =DD41/DC41 -> 103.2 | DK41: =DF41/DC41 -> 0 | DL41: DISTRIBUTEUR PAPIER
...

Sheet ACCESSOIRES $
B1: REF 3M | E1: REF AO | H1: REF FORESTADENT | K1: REF GACD | N1: REF LEONE | Q1: REF MEGA DENTAL | T1: REF NEW ORTHO | W1: REF ORMODENT | Z1: REF RMO | AC1: REF SCHEIN
B2: REF | C2: UNITE | D2: UNITE REM | E2: REF | F2: UNITE | G2: UNITE REM | H2: REF | I2: UNITE | J2: UNITE REM | K2: REF | L2: UNITE | M2: UNITE REM | N2: REF | O2: UNITE | P2: UNITE REM | Q2: REF | R2: UNITE | S2: UNITE REM | T2: REF | U2: UNITE | V2: UNITE REM | W2: REF | X2: UNITE | Y2: UNITE REM | Z2: REF | AA2: UNITE | AB2: UNITE REM | AC2: REF | AD2: UNITE | AE2: UNITE REM
A4: ANTI-HEMORRAGIQUE | B4: =ACCESSOIRES!C4 -> 0 | C4: =ACCESSOIRES!K4 -> 0 | D4: =ACCESSOIRES!L4 -> 0 | E4: =ACCESSOIRES!N4 -> 0 | F4: =ACCESSOIRES!V4 -> 0 | G4: =ACCESSOIRES!W4 -> 0 | H4: =ACCESSOIRES!Z4 -> 0 | I4: =ACCESSOIRES!AH4 -> #DIV/0! | J4: =ACCESSOIRES!AI4 -> #DIV/0! | K4: =ACCESSOIRES!AK4 -> 223.442 | L4: =ACCESSOIRES!AS4 -> 18250 | M4: =ACCESSOIRES!AT4 -> 0 | N4: =ACCESSOIRES!AW4 -> 0 | O4: =ACCESSOIRES!BE4 -> 0 | P4: =ACCESSOIRES!BF4 -> 0 | Q4: =ACCESSOIRES!BH4 -> 5302.014 | R4: =ACCESSOIRES!BP4 -> 35750 | S4: =ACCESSOIRES!BQ4 -> 0 | T4: =ACCESSOIRES!BT4 -> 0 | U4: =ACCESSOIRES!CB4 -> 0 | V4: =ACCESSOIRES!CC4 -> 0 | W4: =ACCESSOIRES!CE4 -> 0 | X4: =ACCESSOIRES!CM4 -> 0 | Y4: =ACCESSOIRES!CN4 -> 0 | Z4: =ACCESSOIRES!CQ4 -> 0 | AA4: =ACCESSOIRES!CY4 -> 0 | AB4: =ACCESSOIRES!CZ4 -> 0 | AC4: =ACCESSOIRES!DB4 -> 892.3180 | AD4: =ACCESSOIRES!DJ4 -> 143 | AE4: =ACCESSOIRES!DK4 -> 0 | AF4: ANTI-HEMORRAGIQUE
B5: =ACCESSOIRES!C5 -> 0 | C5: =ACCESSOIRES!K5 -> 0 | D5: =ACCESSOIRES!L5 -> 0 | E5: =ACCESSOIRES!N5 -> 0 | F5: =ACCESSOIRES!V5 -> 0 | G5: =ACCESSOIRES!W5 -> 0 | H5: =ACCESSOIRES!Z5 -> 0 | I5: =ACCESSOIRES!AH5 -> 0 | J5: =ACCESSOIRES!AI5 -> 0 | K5: =ACCESSOIRES!AK5 -> 223.083 | L5: =ACCESSOIRES!AS5 -> 2166.6667 | M5: =ACCESSOIRES!AT5 -> 0 | N5: =ACCESSOIRES!AW5 -> 0 | O5: =ACCESSOIRES!BE5 -> 0 | P5: =ACCESSOIRES!BF5 -> 0 | Q5: =ACCESSOIRES!BH5 -> 5756.014 | R5: =ACCESSOIRES!BP5 -> 2020 | S5: =ACCESSOIRES!BQ5 -> 0 | T5: =ACCESSOIRES!BT5 -> 0 | U5: =ACCESSOIRES!CB5 -> 0 | V5: =ACCESSOIRES!CC5 -> 0 | W5: =ACCESSOIRES!CE5 -> 0 | X5: =ACCESSOIRES!CM5 -> 0 | Y5: =ACCESSOIRES!CN5 -> 0 | Z5: =ACCESSOIRES!CQ5 -> 0 | AA5: =ACCESSOIRES!CY5 -> 0 | AB5: =ACCESSOIRES!CZ5 -> 0 | AC5: =ACCESSOIRES!DB5 -> 892.3534 | AD5: =ACCESSOIRES!DJ5 -> 2086.6667 | AE5: =ACCESSOIRES!DK5 -> 0
A6: ASPIRATION FINE | B6: =ACCESSOIRES!C6 -> 0 | C6: =ACCESSOIRES!K6 -> 0 | D6: =ACCESSOIRES!L6 -> 0 | E6: =ACCESSOIRES!N6 -> 0 | F6: =ACCESSOIRES!V6 -> 0 | G6: =ACCESSOIRES!W6 -> 0 | H6: =ACCESSOIRES!Z6 -> 0 | I6: =ACCESSOIRES!AH6 -> 0 | J6: =ACCESSOIRES!AI6 -> 0 | K6: =ACCESSOIRES!AK6 -> 225.753 | L6: =ACCESSOIRES!AS6 -> 0.033 | M6: =ACCESSOIRES!AT6 -> 0 | N6: =ACCESSOIRES!AW6 -> 0 | O6: =ACCESSOIRES!BE6 -> 0 | P6: =ACCESSOIRES!BF6 -> 0 | Q6: =ACCESSOIRES!BH6 -> 4952.122 | R6: =ACCESSOIRES!BP6 -> 0.033 | S6: =ACCESSOIRES!BQ6 -> 0 | T6: =ACCESSOIRES!BT6 -> 0 | U6: =ACCESSOIRES!CB6 -> 0 | V6: =ACCESSOIRES!CC6 -> 0 | W6: =ACCESSOIRES!CE6 -> PG0.337.0648 | X6: =ACCESSOIRES!CM6 -> 0.0374348 | Y6: =ACCESSOIRES!CN6 -> 0.0374348 | Z6: =ACCESSOIRES!CQ6 -> 0 | AA6: =ACCESSOIRES!CY6 -> 0 | AB6: =ACCESSOIRES!CZ6 -> 0 | AC6: =ACCESSOIRES!DB6 -> 900.2730 | AD6: =ACCESSOIRES!DJ6 -> 0.034 | AE6: =ACCESSOIRES!DK6 -> 0 | AF6: ASPIRATION FINE
A7: ASPIRATION GROSSE | B7: =ACCESSOIRES!C7 -> 0 | C7: =ACCESSOIRES!K7 -> 0 | D7: =ACCESSOIRES!L7 -> 0 | E7: =ACCESSOIRES!N7 -> 0 | F7: =ACCESSOIRES!V7 -> 0 | G7: =ACCESSOIRES!W7 -> 0 | H7: =ACCESSOIRES!Z7 -> 0 | I7: =ACCESSOIRES!AH7 -> 0 | J7: =ACCESSOIRES!AI7 -> 0 | K7: =ACCESSOIRES!AK7 -> 225.214 | L7: =ACCESSOIRES!AS7 -> 0.042 | M7: =ACCESSOIRES!AT7 -> 0 | N7: =ACCESSOIRES!AW7 -> 0 | O7: =ACCESSOIRES!BE7 -> 0 | P7: =ACCESSOIRES!BF7 -> 0 | Q7: =ACCESSOIRES!BH7 -> 0 | R7: =ACCESSOIRES!BP7 -> 0 | S7: =ACCESSOIRES!BQ7 -> 0 | T7: =ACCESSOIRES!BT7 -> 0 | U7: =ACCESSOIRES!CB7 -> 0 | V7: =ACCESSOIRES!CC7 -> 0 | W7: =ACCESSOIRES!CE7 -> 0 | X7: =ACCESSOIRES!CM7 -> 0 | Y7: =ACCESSOIRES!CN7 -> 0 | Z7: =ACCESSOIRES!CQ7 -> 0 | AA7: =ACCESSOIRES!CY7 -> 0 | AB7: =ACCESSOIRES!CZ7 -> 0 | AC7: =ACCESSOIRES!DB7 -> 0 | AD7: =ACCESSOIRES!DJ7 -> 0 | AE7: =ACCESSOIRES!DK7 -> 0 | AF7: ASPIRATION GROSSE
A8: BLOC A SPATULER | B8: =ACCESSOIRES!C8 -> 0 | C8: =ACCESSOIRES!K8 -> 0 | D8: =ACCESSOIRES!L8 -> 0 | E8: =ACCESSOIRES!N8 -> 001.907 | F8: =ACCESSOIRES!V8 -> 8.185 | G8: =ACCESSOIRES!W8 -> 6.13875 | H8: =ACCESSOIRES!Z8 -> 0 | I8: =ACCESSOIRES!AH8 -> 0 | J8: =ACCESSOIRES!AI8 -> 0 | K8: =ACCESSOIRES!AK8 -> 225.698 | L8: =ACCESSOIRES!AS8 -> 0.054 | M8: =ACCESSOIRES!AT8 -> 0 | N8: =ACCESSOIRES!AW8 -> 0 | O8: =ACCESSOIRES!BE8 -> 0 | P8: =ACCESSOIRES!BF8 -> 0 | Q8: =ACCESSOIRES!BH8 -> 4155.122 | R8: =ACCESSOIRES!BP8 -> 0.049 | S8: =ACCESSOIRES!BQ8 -> 0 | T8: =ACCESSOIRES!BT8 -> FIX.7 | U8: =ACCESSOIRES!CB8 -> 0.07 | V8: =ACCESSOIRES!CC8 -> 0 | W8: =ACCESSOIRES!CE8 -> OR0.740.0124 | X8: =ACCESSOIRES!CM8 -> 0.15181227 | Y8: =ACCESSOIRES!CN8 -> 0.15181227 | Z8: =ACCESSOIRES!CQ8 -> 0 | AA8: =ACCESSOIRES!CY8 -> 0 | AB8: =ACCESSOIRES!CZ8 -> 0 | AC8: =ACCESSOIRES!DB8 -> 877.0331 | AD8: =ACCESSOIRES!DJ8 -> 0.064 | AE8: =ACCESSOIRES!DK8 -> 0 | AF8: BLOC A SPATULER
A9: BOITE DE CONTENTION | B9: =ACCESSOIRES!C9 -> 0 | C9: =ACCESSOIRES!K9 -> 0 | D9: =ACCESSOIRES!L9 -> 0 | E9: =ACCESSOIRES!N9 -> 861.074 | F9: =ACCESSOIRES!V9 -> 2.2317 | G9: =ACCESSOIRES!W9 -> 1.673775 | H9: =ACCESSOIRES!Z9 -> 100.0051 | I9: =ACCESSOIRES!AH9 -> 1.682 | J9: =ACCESSOIRES!AI9 -> 0 | K9: =ACCESSOIRES!AK9 -> 2218.020 | L9: =ACCESSOIRES!AS9 -> 0.99 | M9: =ACCESSOIRES!AT9 -> 0 | N9: =ACCESSOIRES!AW9 -> A3038.99 | O9: =ACCESSOIRES!BE9 -> 0.8791 | P9: =ACCESSOIRES!BF9 -> 0.571415 | Q9: =ACCESSOIRES!BH9 -> 6847.008 | R9: =ACCESSOIRES!BP9 -> 0.7 | S9: =ACCESSOIRES!BQ9 -> 0 | T9: =ACCESSOIRES!BT9 -> RET050 | U9: =ACCESSOIRES!CB9 -> 0.86 | V9: =ACCESSOIRES!CC9 -> 0 | W9: =ACCESSOIRES!CE9 -> OR0.710.0013 | X9: =ACCESSOIRES!CM9 -> 1.846624 | Y9: =ACCESSOIRES!CN9 -> 1.846624 | Z9: =ACCESSOIRES!CQ9 -> J01323 | AA9: =ACCESSOIRES!CY9 -> 1.48005 | AB9: =ACCESSOIRES!CZ9 -> 1.1100375 | AC9: =ACCESSOIRES!DB9 -> 0 | AD9: =ACCESSOIRES!DJ9 -> 0 | AE9: =ACCESSOIRES!DK9 -> 0 | AF9: BOITE DE CONTENTION
B10: =ACCESSOIRES!C10 -> 0 | C10: =ACCESSOIRES!K10 -> 0 | D10: =ACCESSOIRES!L10 -> 0 | E10: =ACCESSOIRES!N10 -> 0 | F10: =ACCESSOIRES!V10 -> 0 | G10: =ACCESSOIRES!W10 -> 0 | H10: =ACCESSOIRES!Z10 -> 100.0052 | I10: =ACCESSOIRES!AH10 -> 1.682 | J10: =ACCESSOIRES!AI10 -> 0 | K10: =ACCESSOIRES!AK10 -> 2215.992 | L10: =ACCESSOIRES!AS10 -> 1 | M10: =ACCESSOIRES!AT10 -> 0 | N10: =ACCESSOIRES!AW10 -> 0 | O10: =ACCESSOIRES!BE10 -> 0 | P10: =ACCESSOIRES!BF10 -> 0 | Q10: =ACCESSOIRES!BH10 -> 7834.172 | R10: =ACCESSOIRES!BP10 -> 0.75 | S10: =ACCESSOIRES!BQ10 -> 0 | T10: =ACCESSOIRES!BT10 -> 0 | U10: =ACCESSOIRES!CB10 -> 0 | V10: =ACCESSOIRES!CC10 -> 0 | W10: =ACCESSOIRES!CE10 -> 0 | X10: =ACCESSOIRES!CM10 -> 0 | Y10: =ACCESSOIRES!CN10 -> 0 | Z10: =ACCESSOIRES!CQ10 -> 0 | AA10: =ACCESSOIRES!CY10 -> 0 | AB10: =ACCESSOIRES!CZ10 -> 0 | AC10: =ACCESSOIRES!DB10 -> 0 | AD10: =ACCESSOIRES!DJ10 -> 0 | AE10: =ACCESSOIRES!DK10 -> 0
A11: BOITE PORTE CLE AVEC CROCHET | B11: =ACCESSOIRES!C11 -> 0 | C11: =ACCESSOIRES!K11 -> 0 | D11: =ACCESSOIRES!L11 -> 0 | E11: =ACCESSOIRES!N11 -> 0 | F11: =ACCESSOIRES!V11 -> 0 | G11: =ACCESSOIRES!W11 -> 0 | H11: =ACCESSOIRES!Z11 -> 0 | I11: =ACCESSOIRES!AH11 -> 0 | J11: =ACCESSOIRES!AI11 -> 0 | K11: =ACCESSOIRES!AK11 -> 2261.712 | L11: =ACCESSOIRES!AS11 -> 1.1 | M11: =ACCESSOIRES!AT11 -> 0 | N11: =ACCESSOIRES!AW11 -> 0 | O11: =ACCESSOIRES!BE11 -> 0 | P11: =ACCESSOIRES!BF11 -> 0 | Q11: =ACCESSOIRES!BH11 -> 0 | R11: =ACCESSOIRES!BP11 -> 0 | S11: =ACCESSOIRES!BQ11 -> 0 | T11: =ACCESSOIRES!BT11 -> ESC050 | U11: =ACCESSOIRES!CB11 -> 1.1 | V11: =ACCESSOIRES!CC11 -> 0 | W11: =ACCESSOIRES!CE11 -> 0 | X11: =ACCESSOIRES!CM11 -> 0 | Y11: =ACCESSOIRES!CN11 -> 0 | Z11: =ACCESSOIRES!CQ11 -> 0 | AA11: =ACCESSOIRES!CY11 -> 0 | AB11: =ACCESSOIRES!CZ11 -> 0 | AC11: =ACCESSOIRES!DB11 -> 0 | AD11: =ACCESSOIRES!DJ11 -> 0 | AE11: =ACCESSOIRES!DK11 -> 0 | AF11: BOITE PORTE CLE AVEC CROCHET
A12: BOMBE DE FROID | B12: =ACCESSOIRES!C12 -> 0 | C12: =ACCESSOIRES!K12 -> 0 | D12: =ACCESSOIRES!L12 -> 0 | E12: =ACCESSOIRES!N12 -> 0 | F12: =ACCESSOIRES!V12 -> 0 | G12: =ACCESSOIRES!W12 -> 0 | H12: =ACCESSOIRES!Z12 -> 0 | I12: =ACCESSOIRES!AH12 -> 0 | J12: =ACCESSOIRES!AI12 -> 0 | K12: =ACCESSOIRES!AK12 -> 223.201 | L12: =ACCESSOIRES!AS12 -> 34.5 | M12: =ACCESSOIRES!AT12 -> 0 | N12: =ACCESSOIRES!AW12 -> OP.100.89 | O12: =ACCESSOIRES!BE12 -> 50.77 | P12: =ACCESSOIRES!BF12 -> 38.0775 | Q12: =ACCESSOIRES!BH12 -> 0449.004 | R12: =ACCESSOIRES!BP12 -> 44.5 | S12: =ACCESSOIRES!BQ12 -> 0 | T12: =ACCESSOIRES!BT12 -> 0 | U12: =ACCESSOIRES!CB12 -> 0 | V12: =ACCESSOIRES!CC12 -> 0 | W12: =ACCESSOIRES!CE12 -> 0 | X12: =ACCESSOIRES!CM12 -> 0 | Y12: =ACCESSOIRES!CN12 -> 0 | Z12: =ACCESSOIRES!CQ12 -> 0 | AA12: =ACCESSOIRES!CY12 -> 0 | AB12: =ACCESSOIRES!CZ12 -> 0 | AC12: =ACCESSOIRES!DB12 -> 900.1384 | AD12: =ACCESSOIRES!DJ12 -> 39 | AE12: =ACCESSOIRES!DK12 -> 0 | AF12: BOMBE DE FROID
A13: BOUTON A COLLER | B13: =ACCESSOIRES!C13 -> 0 | C13: =ACCESSOIRES!K13 -> 0 | D13: =ACCESSOIRES!L13 -> 0 | E13: =ACCESSOIRES!N13 -> 292.171 | F13: =ACCESSOIRES!V13 -> 2.949 | G13: =ACCESSOIRES!W13 -> 2.21175 | H13: =ACCESSOIRES!Z13 -> 760.0802 | I13: =ACCESSOIRES!AH13 -> 2.831 | J13: =ACCESSOIRES!AI13 -> 0 | K13: =ACCESSOIRES!AK13 -> 2262.102 | L13: =ACCESSOIRES!AS13 -> 1.6 | M13: =ACCESSOIRES!AT13 -> 0 | N13: =ACCESSOIRES!AW13 -> F2860.00 | O13: =ACCESSOIRES!BE13 -> 2.978 | P13: =ACCESSOIRES!BF13 -> 1.9357 | Q13: =ACCESSOIRES!BH13 -> 7329.172 | R13: =ACCESSOIRES!BP13 -> 1.95 | S13: =ACCESSOIRES!BQ13 -> 0 | T13: =ACCESSOIRES!BT13 -> BMBC20 | U13: =ACCESSOIRES!CB13 -> 1.7 | V13: =ACCESSOIRES!CC13 -> 0 | W13: =ACCESSOIRES!CE13 -> OR0.300.0097 | X13: =ACCESSOIRES!CM13 -> 0.513084 | Y13: =ACCESSOIRES!CN13 -> 0.513084 | Z13: =ACCESSOIRES!CQ13 -> A07903 | AA13: =ACCESSOIRES!CY13 -> 4.41922 | AB13: =ACCESSOIRES!CZ13 -> 2.651532 | AC13: =ACCESSOIRES!DB13 -> 0 | AD13: =ACCESSOIRES!DJ13 -> 0 | AE13: =ACCESSOIRES!DK13 -> 0 | AF13: BOUTON A COLLER
B14: =ACCESSOIRES!C14 -> 0 | C14: =ACCESSOIRES!K14 -> 0 | D14: =ACCESSOIRES!L14 -> 0 | E14: =ACCESSOIRES!N14 -> 0 | F14: =ACCESSOIRES!V14 -> 0 | G14: =ACCESSOIRES!W14 -> 0 | H14: =ACCESSOIRES!Z14 -> 760.0801 | I14: =ACCESSOIRES!AH14 -> 2.831 | J14: =ACCESSOIRES!AI14 -> 0 | K14: =ACCESSOIRES!AK14 -> 0 | L14: =ACCESSOIRES!AS14 -> 0 | M14: =ACCESSOIRES!AT14 -> 0 | N14: =ACCESSOIRES!AW14 -> 0 | O14: =ACCESSOIRES!BE14 -> 0 | P14: =ACCESSOIRES!BF14 -> 0 | Q14: =ACCESSOIRES!BH14 -> 0 | R14: =ACCESSOIRES!BP14 -> 0 | S14: =ACCESSOIRES!BQ14 -> 0 | T14: =ACCESSOIRES!BT14 -> BLBF20 | U14: =ACCESSOIRES!CB14 -> 1.7 | V14: =ACCESSOIRES!CC14 -> 0 | W14: =ACCESSOIRES!CE14 -> (AY0.704.4015) | X14: =ACCESSOIRES!CM14 -> 3.3076576 | Y14: =ACCESSOIRES!CN14 -> 3.3076576 | Z14: =ACCESSOIRES!CQ14 -> 0 | AA14: =ACCESSOIRES!CY14 -> 0 | AB14: =ACCESSOIRES!CZ14 -> 0 | AC14: =ACCESSOIRES!DB14 -> 0 | AD14: =ACCESSOIRES!DJ14 -> 0 | AE14: =ACCESSOIRES!DK14 -> 0
B15: =ACCESSOIRES!C15 -> 0 | C15: =ACCESSOIRES!K15 -> 0 | D15: =ACCESSOIRES!L15 -> 0 | E15: =ACCESSOIRES!N15 -> 0 | F15: =ACCESSOIRES!V15 -> 0 | G15: =ACCESSOIRES!W15 -> 0 | H15: =ACCESSOIRES!Z15 -> 760.0805 | I15: =ACCESSOIRES!AH15 -> 3.023 | J15: =ACCESSOIRES!AI15 -> 0 | K15: =ACCESSOIRES!AK15 -> 2262.101 | L15: =ACCESSOIRES!AS15 -> 1.6 | M15: =ACCESSOIRES!AT15 -> 0 | N15: =ACCESSOIRES!AW15 -> 0 | O15: =ACCESSOIRES!BE15 -> 0 | P15: =ACCESSOIRES!BF15 -> 0 | Q15: =ACCESSOIRES!BH15 -> 7320°.172 | R15: =ACCESSOIRES!BP15 -> 1.95 | S15: =ACCESSOIRES!BQ15 -> 0 | T15: =ACCESSOIRES!BT15 -> BLBC20 | U15: =ACCESSOIRES!CB15 -> 1.7 | V15: =ACCESSOIRES!CC15 -> 0 | W15: =ACCESSOIRES!CE15 -> 0 | X15: =ACCESSOIRES!CM15 -> 0 | Y15: =ACCESSOIRES!CN15 -> 0 | Z15: =ACCESSOIRES!CQ15 -> 0 | AA15: =ACCESSOIRES!CY15 -> 0 | AB15: =ACCESSOIRES!CZ15 -> 0 | AC15: =ACCESSOIRES!DB15 -> 0 | AD15: =ACCESSOIRES!DJ15 -> 0 | AE15: =ACCESSOIRES!DK15 -> 0
A16: BROSSE A DENT JETABLE | B16: =ACCESSOIRES!C16 -> 0 | C16: =ACCESSOIRES!K16 -> 0 | D16: =ACCESSOIRES!L16 -> 0 | E16: =ACCESSOIRES!N16 -> 0 | F16: =ACCESSOIRES!V16 -> 0 | G16: =ACCESSOIRES!W16 -> 0 | H16: =ACCESSOIRES!Z16 -> 0 | I16: =ACCESSOIRES!AH16 -> 0 | J16: =ACCESSOIRES!AI16 -> 0 | K16: =ACCESSOIRES!AK16 -> 2215.637 | L16: =ACCESSOIRES!AS16 -> 0.186 | M16: =ACCESSOIRES!AT16 -> 0 | N16: =ACCESSOIRES!AW16 -> 0 | O16: =ACCESSOIRES!BE16 -> 0.61875 | P16: =ACCESSOIRES!BF16 -> 0.4640625 | Q16: =ACCESSOIRES!BH16 -> 4202.191 | R16: =ACCESSOIRES!BP16 -> 0.17 | S16: =ACCESSOIRES!BQ16 -> 0 | T16: =ACCESSOIRES!BT16 -> 10232 | U16: =ACCESSOIRES!CB16 -> 0.28472222 | V16: =ACCESSOIRES!CC16 -> 0 | W16: =ACCESSOIRES!CE16 -> HW0.711.0006 | X16: =ACCESSOIRES!CM16 -> #VALUE! | Y16: =ACCESSOIRES!CN16 -> #VALUE! | Z16: =ACCESSOIRES!CQ16 -> ECM8121 | AA16: =ACCESSOIRES!CY16 -> 0.174018 | AB16: =ACCESSOIRES!CZ16 -> 0.174018 | AC16: =ACCESSOIRES!DB16 -> 900.1377 | AD16: =ACCESSOIRES!DJ16 -> 0.219 | AE16: =ACCESSOIRES!DK16 -> 0 | AF16: BROSSE A DENT JETABLE
A17: BROSSETTE CONTRE ANGLE | B17: =ACCESSOIRES!C17 -> 0 | C17: =ACCESSOIRES!K17 -> 0 | D17: =ACCESSOIRES!L17 -> 0 | E17: =ACCESSOIRES!N17 -> 0 | F17: =ACCESSOIRES!V17 -> 0 | G17: =ACCESSOIRES!W17 -> 0 | H17: =ACCESSOIRES!Z17 -> 0 | I17: =ACCESSOIRES!AH17 -> 0 | J17: =ACCESSOIRES!AI17 -> 0 | K17: =ACCESSOIRES!AK17 -> 227.129 | L17: =ACCESSOIRES!AS17 -> 0.654 | M17: =ACCESSOIRES!AT17 -> 0 | N17: =ACCESSOIRES!AW17 -> 0 | O17: =ACCESSOIRES!BE17 -> 2.662 | P17: =ACCESSOIRES!BF17 -> 1.9965 | Q17: =ACCESSOIRES!BH17 -> 4069.122 | R17: =ACCESSOIRES!BP17 -> 0.63 | S17: =ACCESSOIRES!BQ17 -> 0 | T17: =ACCESSOIRES!BT17 -> 0 | U17: =ACCESSOIRES!CB17 -> 0 | V17: =ACCESSOIRES!CC17 -> 0 | W17: =ACCESSOIRES!CE17 -> PG0.012.1204 | X17: =ACCESSOIRES!CM17 -> 2.4567833 | Y17: =ACCESSOIRES!CN17 -> 2.4567833 | Z17: =ACCESSOIRES!CQ17 -> 0 | AA17: =ACCESSOIRES!CY17 -> 0 | AB17: =ACCESSOIRES!CZ17 -> 0 | AC17: =ACCESSOIRES!DB17 -> 900.2847 | AD17: =ACCESSOIRES!DJ17 -> 0.658 | AE17: =ACCESSOIRES!DK17 -> 0 | AF17: BROSSETTE CONTRE ANGLE
A18: BROSSETTE INTERPROXIMALE | B18: =ACCESSOIRES!C18 -> 0 | C18: =ACCESSOIRES!K18 -> 0 | D18: =ACCESSOIRES!L18 -> 0 | E18: =ACCESSOIRES!N18 -> 0 | F18: =ACCESSOIRES!V18 -> 0 | G18: =ACCESSOIRES!W18 -> 0 | H18: =ACCESSOIRES!Z18 -> 0 | I18: =ACCESSOIRES!AH18 -> 0 | J18: =ACCESSOIRES!AI18 -> 0 | K18: =ACCESSOIRES!AK18 -> 221.990 | L18: =ACCESSOIRES!AS18 -> 0 | M18: =ACCESSOIRES!AT18 -> 0 | N18: =ACCESSOIRES!AW18 -> 0 | O18: =ACCESSOIRES!BE18 -> 1.3604167 | P18: =ACCESSOIRES!BF18 -> 1.0203125 | Q18: =ACCESSOIRES!BH18 -> 0 | R18: =ACCESSOIRES!BP18 -> 0 | S18: =ACCESSOIRES!BQ18 -> 0 | T18: =ACCESSOIRES!BT18 -> 0 | U18: =ACCESSOIRES!CB18 -> 0 | V18: =ACCESSOIRES!CC18 -> 0 | W18: =ACCESSOIRES!CE18 -> 0 | X18: =ACCESSOIRES!CM18 -> 0 | Y18: =ACCESSOIRES!CN18 -> 0 | Z18: =ACCESSOIRES!CQ18 -> 0 | AA18: =ACCESSOIRES!CY18 -> 0 | AB18: =ACCESSOIRES!CZ18 -> 0 | AC18: =ACCESSOIRES!DB18 -> 0 | AD18: =ACCESSOIRES!DJ18 -> 0 | AE18: =ACCESSOIRES!DK18 -> 0 | AF18: BROSSETTE INTERPROXIMALE
A19: CALES RETRO INCISIVES | B19: =ACCESSOIRES!C19 -> 0 | C19: =ACCESSOIRES!K19 -> 0 | D19: =ACCESSOIRES!L19 -> 0 | E19: =ACCESSOIRES!N19 -> 0 | F19: =ACCESSOIRES!V19 -> 0 | G19: =ACCESSOIRES!W19 -> 0 | H19: =ACCESSOIRES!Z19 -> 0 | I19: =ACCESSOIRES!AH19 -> 0 | J19: =ACCESSOIRES!AI19 -> 0 | K19: =ACCESSOIRES!AK19 -> 0 | L19: =ACCESSOIRES!AS19 -> 0 | M19: =ACCESSOIRES!AT19 -> 0 | N19: =ACCESSOIRES!AW19 -> 0 | O19: =ACCESSOIRES!BE19 -> 18.837 | P19: =ACCESSOIRES!BF19 -> 14.12775 | Q19: =ACCESSOIRES!BH19 -> 0 | R19: =ACCESSOIRES!BP19 -> 0 | S19: =ACCESSOIRES!BQ19 -> 0 | T19: =ACCESSOIRES!BT19 -> 0 | U19: =ACCESSOIRES!CB19 -> 0 | V19: =ACCESSOIRES!CC19 -> 0 | W19: =ACCESSOIRES!CE19 -> OR0.350.0000 | X19: =ACCESSOIRES!CM19 -> 1.331148 | Y19: =ACCESSOIRES!CN19 -> 1.331148 | Z19: =ACCESSOIRES!CQ19 -> 0 | AA19: =ACCESSOIRES!CY19 -> 0 | AB19: =ACCESSOIRES!CZ19 -> 0 | AC19: =ACCESSOIRES!DB19 -> 0 | AD19: =ACCESSOIRES!DJ19 -> 0 | AE19: =ACCESSOIRES!DK19 -> 0 | AF19: CALES RETRO INCISIVES
A20: CALES SURELEV° (10) | B20: =ACCESSOIRES!C20 -> 0 | C20: =ACCESSOIRES!K20 -> 0 | D20: =ACCESSOIRES!L20 -> 0 | E20: =ACCESSOIRES!N20 -> 0 | F20: =ACCESSOIRES!V20 -> 0 | G20: =ACCESSOIRES!W20 -> 0 | H20: =ACCESSOIRES!Z20 -> 0 | I20: =ACCESSOIRES!AH20 -> 0 | J20: =ACCESSOIRES!AI20 -> 0 | K20: =ACCESSOIRES!AK20 -> 221.756 | L20: =ACCESSOIRES!AS20 -> 0 | M20: =ACCESSOIRES!AT20 -> 0 | N20: =ACCESSOIRES!AW20 -> 0 | O20: =ACCESSOIRES!BE20 -> 0 | P20: =ACCESSOIRES!BF20 -> 0 | Q20: =ACCESSOIRES!BH20 -> 0 | R20: =ACCESSOIRES!BP20 -> 0 | S20: =ACCESSOIRES!BQ20 -> 0 | T20: =ACCESSOIRES!BT20 -> 0 | U20: =ACCESSOIRES!CB20 -> 0 | V20: =ACCESSOIRES!CC20 -> 0 | W20: =ACCESSOIRES!CE20 -> 0 | X20: =ACCESSOIRES!CM20 -> 0 | Y20: =ACCESSOIRES!CN20 -> 0 | Z20: =ACCESSOIRES!CQ20 -> 0 | AA20: =ACCESSOIRES!CY20 -> 0 | AB20: =ACCESSOIRES!CZ20 -> 0 | AC20: =ACCESSOIRES!DB20 -> 0 | AD20: =ACCESSOIRES!DJ20 -> 0 | AE20: =ACCESSOIRES!DK20 -> 0 | AF20: CALES SURELEV° (10)
A21: CHAINETTE ELASTOMERIQUE | B21: =ACCESSOIRES!C21 -> 0 | C21: =ACCESSOIRES!K21 -> 0 | D21: =ACCESSOIRES!L21 -> 0 | E21: =ACCESSOIRES!N21 -> 854.255 | F21: =ACCESSOIRES!V21 -> 0 | G21: =ACCESSOIRES!W21 -> 0 | H21: =ACCESSOIRES!Z21 -> 655.0002 | I21: =ACCESSOIRES!AH21 -> 21.046667 | J21: =ACCESSOIRES!AI21 -> 0 | K21: =ACCESSOIRES!AK21 -> 2261.616 | L21: =ACCESSOIRES!AS21 -> 3 | M21: =ACCESSOIRES!AT21 -> 0 | N21: =ACCESSOIRES!AW21 -> K6426.13 | O21: =ACCESSOIRES!BE21 -> 7.416 | P21: =ACCESSOIRES!BF21 -> 5.562 | Q21: =ACCESSOIRES!BH21 -> 0 | R21: =ACCESSOIRES!BP21 -> 2.6444444 | S21: =ACCESSOIRES!BQ21 -> 0 | T21: =ACCESSOIRES!BT21 -> 0 | U21: =ACCESSOIRES!CB21 -> 0 | V21: =ACCESSOIRES!CC21 -> 0 | W21: =ACCESSOIRES!CE21 -> OR0.639.0002 | X21: =ACCESSOIRES!CM21 -> 17.68884 | Y21: =ACCESSOIRES!CN21 -> 17.68884 | Z21: =ACCESSOIRES!CQ21 -> ECM0693 | AA21: =ACCESSOIRES!CY21 -> 18.239 | AB21: =ACCESSOIRES!CZ21 -> 13.67925 | AC21: =ACCESSOIRES!DB21 -> 0 | AD21: =ACCESSOIRES!DJ21 -> 0 | AE21: =ACCESSOIRES!DK21 -> 0 | AF21: CHAINETTE ELASTOMERIQUE
B22: =ACCESSOIRES!C22 -> 0 | C22: =ACCESSOIRES!K22 -> 0 | D22: =ACCESSOIRES!L22 -> 0 | E22: =ACCESSOIRES!N22 -> 854.252 | F22: =ACCESSOIRES!V22 -> 0 | G22: =ACCESSOIRES!W22 -> 0 | H22: =ACCESSOIRES!Z22 -> 0 | I22: =ACCESSOIRES!AH22 -> 0 | J22: =ACCESSOIRES!AI22 -> 0 | K22: =ACCESSOIRES!AK22 -> 2261.617 | L22: =ACCESSOIRES!AS22 -> 3 | M22: =ACCESSOIRES!AT22 -> 0 | N22: =ACCESSOIRES!AW22 -> K6466.13 | O22: =ACCESSOIRES!BE22 -> 7.416 | P22: =ACCESSOIRES!BF22 -> 5.562 | Q22: =ACCESSOIRES!BH22 -> 0 | R22: =ACCESSOIRES!BP22 -> 0 | S22: =ACCESSOIRES!BQ22 -> 0 | T22: =ACCESSOIRES!BT22 -> 0 | U22: =ACCESSOIRES!CB22 -> 0 | V22: =ACCESSOIRES!CC22 -> 0 | W22: =ACCESSOIRES!CE22 -> OR0.639.0001 | X22: =ACCESSOIRES!CM22 -> 17.68884 | Y22: =ACCESSOIRES!CN22 -> 17.68884 | Z22: =ACCESSOIRES!CQ22 -> ECM0698 | AA22: =ACCESSOIRES!CY22 -> 18.239 | AB22: =ACCESSOIRES!CZ22 -> 13.67925 | AC22: =ACCESSOIRES!DB22 -> 0 | AD22: =ACCESSOIRES!DJ22 -> 0 | AE22: =ACCESSOIRES!DK22 -> 0
B23: =ACCESSOIRES!C23 -> 0 | C23: =ACCESSOIRES!K23 -> 0 | D23: =ACCESSOIRES!L23 -> 0 | E23: =ACCESSOIRES!N23 -> 854.256 | F23: =ACCESSOIRES!V23 -> 0 | G23: =ACCESSOIRES!W23 -> 0 | H23: =ACCESSOIRES!Z23 -> 655.0001 | I23: =ACCESSOIRES!AH23 -> 21.046667 | J23: =ACCESSOIRES!AI23 -> 0 | K23: =ACCESSOIRES!AK23 -> 2261.624 | L23: =ACCESSOIRES!AS23 -> 3 | M23: =ACCESSOIRES!AT23 -> 0 | N23: =ACCESSOIRES!AW23 -> K6425.13 | O23: =ACCESSOIRES!BE23 -> 7.416 | P23: =ACCESSOIRES!BF23 -> 5.562 | Q23: =ACCESSOIRES!BH23 -> 0 | R23: =ACCESSOIRES!BP23 -> 0 | S23: =ACCESSOIRES!BQ23 -> 0 | T23: =ACCESSOIRES!BT23 -> 0 | U23: =ACCESSOIRES!CB23 -> 0 | V23: =ACCESSOIRES!CC23 -> 0 | W23: =ACCESSOIRES!CE23 -> OR0.639.0004 | X23: =ACCESSOIRES!CM23 -> 17.68884 | Y23: =ACCESSOIRES!CN23 -> 17.68884 | Z23: =ACCESSOIRES!CQ23 -> ECM0650 | AA23: =ACCESSOIRES!CY23 -> 15.522553 | AB23: =ACCESSOIRES!CZ23 -> 11.641915 | AC23: =ACCESSOIRES!DB23 -> 0 | AD23: =ACCESSOIRES!DJ23 -> 0 | AE23: =ACCESSOIRES!DK23 -> 0
B24: =ACCESSOIRES!C24 -> 0 | C24: =ACCESSOIRES!K24 -> 0 | D24: =ACCESSOIRES!L24 -> 0 | E24: =ACCESSOIRES!N24 -> 854.253 | F24: =ACCESSOIRES!V24 -> 0 | G24: =ACCESSOIRES!W24 -> 0 | H24: =ACCESSOIRES!Z24 -> 0 | I24: =ACCESSOIRES!AH24 -> 0 | J24: =ACCESSOIRES!AI24 -> 0 | K24: =ACCESSOIRES!AK24 -> 2261.625 | L24: =ACCESSOIRES!AS24 -> 3 | M24: =ACCESSOIRES!AT24 -> 0 | N24: =ACCESSOIRES!AW24 -> K6465.13 | O24: =ACCESSOIRES!BE24 -> 7.416 | P24: =ACCESSOIRES!BF24 -> 5.562 | Q24: =ACCESSOIRES!BH24 -> 0 | R24: =ACCESSOIRES!BP24 -> 0 | S24: =ACCESSOIRES!BQ24 -> 0 | T24: =ACCESSOIRES!BT24 -> 0 | U24: =ACCESSOIRES!CB24 -> 0 | V24: =ACCESSOIRES!CC24 -> 0 | W24: =ACCESSOIRES!CE24 -> OR0.639.0003 | X24: =ACCESSOIRES!CM24 -> 17.68884 | Y24: =ACCESSOIRES!CN24 -> 17.68884 | Z24: =ACCESSOIRES!CQ24 -> ECM0660 | AA24: =ACCESSOIRES!CY24 -> 15.522553 | AB24: =ACCESSOIRES!CZ24 -> 11.641915 | AC24: =ACCESSOIRES!DB24 -> 0 | AD24: =ACCESSOIRES!DJ24 -> 0 | AE24: =ACCESSOIRES!DK24 -> 0
B25: =ACCESSOIRES!C25 -> 0 | C25: =ACCESSOIRES!K25 -> 0 | D25: =ACCESSOIRES!L25 -> 0 | E25: =ACCESSOIRES!N25 -> 854.259 | F25: =ACCESSOIRES!V25 -> 0 | G25: =ACCESSOIRES!W25 -> 0 | H25: =ACCESSOIRES!Z25 -> 655.0003 | I25: =ACCESSOIRES!AH25 -> 21.046667 | J25: =ACCESSOIRES!AI25 -> 0 | K25: =ACCESSOIRES!AK25 -> 2261.620 | L25: =ACCESSOIRES!AS25 -> 3 | M25: =ACCESSOIRES!AT25 -> 0 | N25: =ACCESSOIRES!AW25 -> K6420.13 | O25: =ACCESSOIRES!BE25 -> 7.416 | P25: =ACCESSOIRES!BF25 -> 5.562 | Q25: =ACCESSOIRES!BH25 -> 0 | R25: =ACCESSOIRES!BP25 -> 0 | S25: =ACCESSOIRES!BQ25 -> 0 | T25: =ACCESSOIRES!BT25 -> 0 | U25: =ACCESSOIRES!CB25 -> 0 | V25: =ACCESSOIRES!CC25 -> 0 | W25: =ACCESSOIRES!CE25 -> OR0.639.0019 | X25: =ACCESSOIRES!CM25 -> 17.68884 | Y25: =ACCESSOIRES!CN25 -> 17.68884 | Z25: =ACCESSOIRES!CQ25 -> ECM0691 | AA25: =ACCESSOIRES!CY25 -> 15.522553 | AB25: =ACCESSOIRES!CZ25 -> 11.641915 | AC25: =ACCESSOIRES!DB25 -> 0 | AD25: =ACCESSOIRES!DJ25 -> 0 | AE25: =ACCESSOIRES!DK25 -> 0
B26: =ACCESSOIRES!C26 -> 0 | C26: =ACCESSOIRES!K26 -> 0 | D26: =ACCESSOIRES!L26 -> 0 | E26: =ACCESSOIRES!N26 -> 854.254 | F26: =ACCESSOIRES!V26 -> 0 | G26: =ACCESSOIRES!W26 -> 0 | H26: =ACCESSOIRES!Z26 -> 0 | I26: =ACCESSOIRES!AH26 -> 0 | J26: =ACCESSOIRES!AI26 -> 0 | K26: =ACCESSOIRES!AK26 -> 2261.621 | L26: =ACCESSOIRES!AS26 -> 3 | M26: =ACCESSOIRES!AT26 -> 0 | N26: =ACCESSOIRES!AW26 -> K6460.13 | O26: =ACCESSOIRES!BE26 -> 7.416 | P26: =ACCESSOIRES!BF26 -> 5.562 | Q26: =ACCESSOIRES!BH26 -> 0 | R26: =ACCESSOIRES!BP26 -> 0 | S26: =ACCESSOIRES!BQ26 -> 0 | T26: =ACCESSOIRES!BT26 -> 0 | U26: =ACCESSOIRES!CB26 -> 0 | V26: =ACCESSOIRES!CC26 -> 0 | W26: =ACCESSOIRES!CE26 -> OR0.639.0018 | X26: =ACCESSOIRES!CM26 -> 17.68884 | Y26: =ACCESSOIRES!CN26 -> 17.68884 | Z26: =ACCESSOIRES!CQ26 -> ECM0697 | AA26: =ACCESSOIRES!CY26 -> 15.522553 | AB26: =ACCESSOIRES!CZ26 -> 11.641915 | AC26: =ACCESSOIRES!DB26 -> 0 | AD26: =ACCESSOIRES!DJ26 -> 0 | AE26: =ACCESSOIRES!DK26 -> 0
A27: CIRE PROTECTION | B27: =ACCESSOIRES!C27 -> 0 | C27: =ACCESSOIRES!K27 -> 0 | D27: =ACCESSOIRES!L27 -> 0 | E27: =ACCESSOIRES!N27 -> 861.200 | F27: =ACCESSOIRES!V27 -> 0.7592 | G27: =ACCESSOIRES!W27 -> 0.5694 | H27: =ACCESSOIRES!Z27 -> 413.0011 | I27: =ACCESSOIRES!AH27 -> 1.4914 | J27: =ACCESSOIRES!AI27 -> 0 | K27: =ACCESSOIRES!AK27 -> 2279.003 | L27: =ACCESSOIRES!AS27 -> 0.548 | M27: =ACCESSOIRES!AT27 -> 0 | N27: =ACCESSOIRES!AW27 -> TSMC | O27: =ACCESSOIRES!BE27 -> 0.7416 | P27: =ACCESSOIRES!BF27 -> 0.5562 | Q27: =ACCESSOIRES!BH27 -> 7852.172 | R27: =ACCESSOIRES!BP27 -> 0.594 | S27: =ACCESSOIRES!BQ27 -> 0 | T27: =ACCESSOIRES!BT27 -> 732750 | U27: =ACCESSOIRES!CB27 -> 0.62 | V27: =ACCESSOIRES!CC27 -> 0 | W27: =ACCESSOIRES!CE27 -> OR0.757.0010 | X27: =ACCESSOIRES!CM27 -> 1.540149 | Y27: =ACCESSOIRES!CN27 -> 1.540149 | Z27: =ACCESSOIRES!CQ27 -> ECM1353 | AA27: =ACCESSOIRES!CY27 -> 0.98072 | AB27: =ACCESSOIRES!CZ27 -> 0.73554 | AC27: =ACCESSOIRES!DB27 -> 0 | AD27: =ACCESSOIRES!DJ27 -> 0 | AE27: =ACCESSOIRES!DK27 -> 0 | AF27: CIRE PROTECTION
B28: =ACCESSOIRES!C28 -> 0 | C28: =ACCESSOIRES!K28 -> 0 | D28: =ACCESSOIRES!L28 -> 0 | E28: =ACCESSOIRES!N28 -> 0 | F28: =ACCESSOIRES!V28 -> 0 | G28: =ACCESSOIRES!W28 -> 0 | H28: =ACCESSOIRES!Z28 -> 0 | I28: =ACCESSOIRES!AH28 -> 0 | J28: =ACCESSOIRES!AI28 -> 0 | K28: =ACCESSOIRES!AK28 -> 0 | L28: =ACCESSOIRES!AS28 -> 0 | M28: =ACCESSOIRES!AT28 -> 0 | N28: =ACCESSOIRES!AW28 -> 0 | O28: =ACCESSOIRES!BE28 -> 0 | P28: =ACCESSOIRES!BF28 -> 0 | Q28: =ACCESSOIRES!BH28 -> 3706.769 | R28: =ACCESSOIRES!BP28 -> 0.39583333 | S28: =ACCESSOIRES!BQ28 -> 0 | T28: =ACCESSOIRES!BT28 -> 1304 | U28: =ACCESSOIRES!CB28 -> 0.9354537 | V28: =ACCESSOIRES!CC28 -> 0 | W28: =ACCESSOIRES!CE28 -> 0 | X28: =ACCESSOIRES!CM28 -> 0 | Y28: =ACCESSOIRES!CN28 -> 0 | Z28: =ACCESSOIRES!CQ28 -> 0 | AA28: =ACCESSOIRES!CY28 -> 0 | AB28: =ACCESSOIRES!CZ28 -> 0 | AC28: =ACCESSOIRES!DB28 -> 0 | AD28: =ACCESSOIRES!DJ28 -> 0 | AE28: =ACCESSOIRES!DK28 -> 0
A29: CLE ACTIVATION VERIN | B29: =ACCESSOIRES!C29 -> 0 | C29: =ACCESSOIRES!K29 -> 0 | D29: =ACCESSOIRES!L29 -> 0 | E29: =ACCESSOIRES!N29 -> 0 | F29: =ACCESSOIRES!V29 -> 0 | G29: =ACCESSOIRES!W29 -> 0 | H29: =ACCESSOIRES!Z29 -> 100.0009 | I29: =ACCESSOIRES!AH29 -> 2.46 | J29: =ACCESSOIRES!AI29 -> 0 | K29: =ACCESSOIRES!AK29 -> 0 | L29: =ACCESSOIRES!AS29 -> 0 | M29: =ACCESSOIRES!AT29 -> 0 | N29: =ACCESSOIRES!AW29 -> A0558.00 | O29: =ACCESSOIRES!BE29 -> 1.873 | P29: =ACCESSOIRES!BF29 -> 1.21745 | Q29: =ACCESSOIRES!BH29 -> 0 | R29: =ACCESSOIRES!BP29 -> 0 | S29: =ACCESSOIRES!BQ29 -> 0 | T29: =ACCESSOIRES!BT29 -> 0 | U29: =ACCESSOIRES!CB29 -> 0 | V29: =ACCESSOIRES!CC29 -> 0 | W29: =ACCESSOIRES!CE29 -> 0 | X29: =ACCESSOIRES!CM29 -> 0 | Y29: =ACCESSOIRES!CN29 -> 0 | Z29: =ACCESSOIRES!CQ29 -> 0 | AA29: =ACCESSOIRES!CY29 -> 0 | AB29: =ACCESSOIRES!CZ29 -> 0 | AC29: =ACCESSOIRES!DB29 -> 0 | AD29: =ACCESSOIRES!DJ29 -> 0 | AE29: =ACCESSOIRES!DK29 -> 0 | AF29: CLE ACTIVATION VERIN
A30: CLEAT A COLLER | B30: =ACCESSOIRES!C30 -> 0 | C30: =ACCESSOIRES!K30 -> 0 | D30: =ACCESSOIRES!L30 -> 0 | E30: =ACCESSOIRES!N30 -> 593.165 | F30: =ACCESSOIRES!V30 -> 0 | G30: =ACCESSOIRES!W30 -> 0 | H30: =ACCESSOIRES!Z30 -> 0 | I30: =ACCESSOIRES!AH30 -> 0 | J30: =ACCESSOIRES!AI30 -> 0 | K30: =ACCESSOIRES!AK30 -> 2262.103 | L30: =ACCESSOIRES!AS30 -> 3.2 | M30: =ACCESSOIRES!AT30 -> 0 | N30: =ACCESSOIRES!AW30 -> 0 | O30: =ACCESSOIRES!BE30 -> 6.268 | P30: =ACCESSOIRES!BF30 -> 4.701 | Q30: =ACCESSOIRES!BH30 -> 0 | R30: =ACCESSOIRES!BP30 -> 0 | S30: =ACCESSOIRES!BQ30 -> 0 | T30: =ACCESSOIRES!BT30 -> 0 | U30: =ACCESSOIRES!CB30 -> 0 | V30: =ACCESSOIRES!CC30 -> 0 | W30: =ACCESSOIRES!CE30 -> OR0.300.0092 (AY0.704.4014) | X30: =ACCESSOIRES!CM30 -> 0.309764 | Y30: =ACCESSOIRES!CN30 -> 0.309764 | Z30: =ACCESSOIRES!CQ30 -> 0 | AA30: =ACCESSOIRES!CY30 -> 0 | AB30: =ACCESSOIRES!CZ30 -> 0 | AC30: =ACCESSOIRES!DB30 -> 0 | AD30: =ACCESSOIRES!DJ30 -> 0 | AE30: =ACCESSOIRES!DK30 -> 0 | AF30: CLEAT A COLLER
