Workbook

Sheet ACCESSOIRES
B1: REF 3M | M1: REF AO | Y1: REF FORESTADENT | AJ1: REF GACD | AV1: REF LEONE | BG1: REF MEGA DENTAL | BS1: REF NEW ORTHO | CD1: REF ORMODENT | CP1: REF RMO | DA1: REF SCHEIN
C2: REF | E2: PX TTC | F2: REM | G2: PX REM | H2: Q | I2: TOT TTC | J2: TOT REM | K2: UNITE | L2: UNITE REM | N2: REF | P2: PX TTC | Q2: REM | R2: PX REM | S2: Q | T2: TOT TTC | U2: TOT REM | V2: UNITE | W2: UNITE REM | Z2: REF | AB2: PX TTC | AC2: REM | AD2: PX REM | AE2: Q | AF2: TOT TTC | AG2: TOT REM | AH2: UNITE | AI2: UNITE REM | AK2: REF | AM2: PX TTC | AN2: REM | AO2: PX REM | AP2: Q | AQ2: TOT TTC | AR2: TOT REM | AS2: UNITE | AT2: UNITE REM | AW2: REF | AY2: PX TTC | AZ2: REM | BA2: PX REM | BB2: Q | BC2: TOT TTC | BD2: TOT REM | BE2: UNITE | BF2: UNITE REM | BH2: REF | BJ2: PX TTC | BK2: REM | BL2: PX REM | BM2: Q | BN2: TOT TTC | BO2: TOT REM | BP2: UNITE | BQ2: UNITE REM | BT2: REF | BV2: PX TTC | BW2: REM | BX2: PX REM | BY2: Q | BZ2: TOT TTC | CA2: TOT REM | CB2: UNITE | CC2: UNITE REM | CE2: REF | CG2: PX TTC | CH2: REM | CI2: PX REM | CJ2: Q | CK2: TOT TTC | CL2: TOT REM | CM2: UNITE | CN2: UNITE REM | CQ2: REF | CS2: PX TTC | CT2: REM | CU2: PX REM | CV2: Q | CW2: TOT TTC | CX2: TOT REM | CY2: UNITE | CZ2: UNITE REM | DB2: REF | DD2: PX TTC | DE2: REM | DF2: PX REM | DG2: Q | DH2: TOT TTC | DI2: TOT REM | DJ2: UNITE | DK2: UNITE REM | DM2: REF GAC
A4: ANTI-HEMORRAGIQUE | X4: ANTI-HEMORRAGIQUE | AF4: =AE4*AB4 -> 0 | AG4: =AE4*AD4 -> 0 | AH4: =AB4/AA4 -> #DIV/0! | AI4: =AD4/AA4 -> #DIV/0! | AJ4: HEMOSTASYL/COFFRET 2X2g+EMBOUT | AK4: 223.442 | AL4: 0.004 | AM4: 73 | AP4: 0 | AQ4: =AM4*AP4 -> 0 | AS4: =AM4/AL4 -> 18250 | AU4: ANTI-HEMORRAGIQUE | BG4: HEMOSTASYL/COFFRET/2X2g+EMBOUT | BH4: 5302.014 | BI4: 0.004 | BJ4: 143 | BM4: 0 | BN4: =BJ4*BM4 -> 0 | BP4: =BJ4/BI4 -> 35750 | BR4: ANTI-HEMORRAGIQUE | CG4: 0 | CO4: ANTI-HEMORRAGIQUE | DA4: HEMOSTASYL/COFFRET | DB4: 892.3180 | DC4: 1 | DD4: 143 | DG4: 0 | DH4: =DD4*DG4 -> 0 | DI4: =DG4*DF4 -> 0 | DJ4: =DD4/DC4 -> 143 | DK4: =DF4/DC4 -> 0 | DL4: ANTI-HEMORRAGIQUE
AJ5: HEMOSPAD/15ml | AK5: 223.083 | AL5: 0.015 | AM5: 32.5 | AP5: 0 | AQ5: =AM5*AP5 -> 0 | AS5: =AM5/AL5 -> 2166.6667 | BG5: DENTSPLY/HEMOSPAD/15ml | BH5: 5756.014 | BI5: 0.015 | BJ5: 30.3 | BM5: 0 | BN5: =BJ5*BM5 -> 0 | BP5: =BJ5/BI5 -> 2020 | CG5: 0 | DA5: HEMOSPAD/15ml | DB5: 892.3534 | DC5: 0.015 | DD5: 31.3 | DG5: 0 | DH5: =DD5*DG5 -> 0 | DI5: =DG5*DF5 -> 0 | DJ5: =DD5/DC5 -> 2086.6667 | DK5: =DF5/DC5 -> 0
A6: ASPIRATION FINE | X6: ASPIRATION FINE | AJ6: MEDIBASE/TRANSPARENTE/Q100 | AK6: 225.753 | AL6: 100 | AM6: 3.3 | AP6: 1 | AQ6: =AM6*AP6 -> 3.3 | AS6: =AM6/AL6 -> 0.033 | AU6: ASPIRATION FINE | BG6: CYBER EVAC/Q100/TRANSPARENTE | BH6: 4952.122 | BI6: 100 | BJ6: 3.3 | BM6: 2 | BN6: =BJ6*BM6 -> 6.6 | BP6: =BJ6/BI6 -> 0.033 | BR6: ASPIRATION FINE | CD6: Q100 | CE6: PG0.337.0648 | CF6: 100 | CG6: 3.74348 | CI6: =CG6-(CG6*CH6) -> 3.74348 | CK6: =CJ6*CG6 -> 0 | CL6: =CJ6*CI6 -> 0 | CM6: =CG6/CF6 -> 0.0374348 | CN6: =CI6/CF6 -> 0.0374348 | CO6: ASPIRATION FINE | DA6: CYBER EVAC/TRANSPARENTE/Q100 | DB6: 900.2730 | DC6: 100 | DD6: 3.4 | DG6: 2 | DH6: =DD6*DG6 -> 6.8 | DI6: =DG6*DF6 -> 0 | DJ6: =DD6/DC6 -> 0.034 | DK6: =DF6/DC6 -> 0 | DL6: ASPIRATION FINE
A7: ASPIRATION GROSSE | X7: ASPIRATION GROSSE | AJ7: HYGOVAC VENT/Q100 | AK7: 225.214 | AL7: 100 | AM7: 4.2 | AP7: 1 | AQ7: =AM7*AP7 -> 4.2 | AS7: =AM7/AL7 -> 0.042 | AU7: ASPIRATION GROSSE | BN7: =BJ7*BM7 -> 0 | BR7: ASPIRATION GROSSE | CG7: 0 | CO7: ASPIRATION GROSSE | DH7: =DD7*DG7 -> 0 | DL7: ASPIRATION GROSSE
A8: BLOC A SPATULER | M8: Q(4) | N8: 001.907 | O8: 4 | P8: 32.74 | Q8: 0.25 | R8: =P8*0.75 -> 24.555 | T8: =S8*P8 -> 0 | U8: =S8*R8 -> 0 | V8: =P8/O8 -> 8.185 | W8: =R8/O8 -> 6.13875 | X8: BLOC A SPATULER | AJ8: MEDIBASE/7X8cm/Q100 | AK8: 225.698 | AL8: 100 | AM8: 5.4 | AP8: 2 | AQ8: =AM8*AP8 -> 10.8 | AS8: =AM8/AL8 -> 0.054 | AU8: BLOC A SPATULER | BG8: CYBERPAD/7X8cm/Q100 | BH8: 4155.122 | BI8: 100 | BJ8: 4.9 | BM8: 2 | BN8: =BJ8*BM8 -> 9.8 | BP8: =BJ8/BI8 -> 0.049 | BR8: BLOC A SPATULER | BS8: PVC+MOUSSE/7X8cm/Q100 | BT8: FIX.7 | BU8: 100 | BV8: 7 | BZ8: =BV8*BY8 -> 0 | CA8: =BY8*BX8 -> 0 | CB8: =BV8/BU8 -> 0.07 | CC8: =BX8/BU8 -> 0 | CD8: 75 FEUILLES | CE8: OR0.740.0124 | CF8: 75 | CG8: 11.38592 | CI8: =CG8-(CG8*CH8) -> 11.38592 | CK8: =CJ8*CG8 -> 0 | CL8: =CJ8*CI8 -> 0 | CM8: =CG8/CF8 -> 0.15181227 | CN8: =CI8/CF8 -> 0.15181227 | CO8: BLOC A SPATULER | DA8: BLOC PVC/7X8cm/Q100 | DB8: 877.0331 | DC8: 100 | DD8: 6.4 | DG8: 2 | DH8: =DD8*DG8 -> 12.8 | DI8: =DG8*DF8 -> 0 | DJ8: =DD8/DC8 -> 0.064 | DK8: =DF8/DC8 -> 0 | DL8: BLOC A SPATULER | DM8: LARGE/DOUBLE FACE/Q(10) | DN8: 53102
A9: BOITE DE CONTENTION | M9: ASSORTIMENT/Q100 | N9: 861.074 | O9: 100 | P9: 223.17 | Q9: 0.25 | R9: =P9*0.75 -> 167.3775 | T9: =S9*P9 -> 0 | U9: =S9*R9 -> 0 | V9: =P9/O9 -> 2.2317 | W9: =R9/O9 -> 1.673775 | X9: BOITE DE CONTENTION | Y9: TAILLE 1/Q20 | Z9: 100.0051 | AA9: 20 | AB9: 33.64 | AF9: =AE9*AB9 -> 0 | AG9: =AE9*AD9 -> 0 | AH9: =AB9/AA9 -> 1.682 | AI9: =AD9/AA9 -> 0 | AJ9: DIFFERENTE COULEUR/PETITE/Q10 | AK9: 2218.020 | AL9: 10 | AM9: 9.9 | AP9: 1 | AQ9: =AM9*AP9 -> 9.9 | AS9: =AM9/AL9 -> 0.99 | AU9: BOITE DE CONTENTION | AV9: ASSORTIMENT/Q200 | AW9: A3038.99 | AX9: 200 | AY9: 175.82 | AZ9: 0.35 | BA9: =AY9-(AY9*AZ9) -> 114.283 | BC9: =BB9*AY9 -> 0 | BD9: =BA9*BB9 -> 0 | BE9: =AY9/AX9 -> 0.8791 | BF9: =BA9/AX9 -> 0.571415 | BG9: ASSORTIMENT/PAILLETE/PETITE/Q10 | BH9: 6847.008 | BI9: 10 | BJ9: 7 | BM9: 10 | BN9: =BJ9*BM9 -> 70 | BP9: =BJ9/BI9 -> 0.7 | BR9: BOITE DE CONTENTION | BS9: G&H/ASSORTIMENT/NEON/Q50 | BT9: RET050 | BU9: 50 | BV9: 43 | BZ9: =BV9*BY9 -> 0 | CA9: =BY9*BX9 -> 0 | CB9: =BV9/BU9 -> 0.86 | CC9: =BX9/BU9 -> 0 | CD9: NOIR/Q10 | CE9: OR0.710.0013 | CF9: 10 | CG9: 18.46624 | CI9: =CG9-(CG9*CH9) -> 18.46624 | CK9: =CJ9*CG9 -> 0 | CL9: =CJ9*CI9 -> 0 | CM9: =CG9/CF9 -> 1.846624 | CN9: =CI9/CF9 -> 1.846624 | CO9: BOITE DE CONTENTION | CP9: NOIR/Q20 | CQ9: J01323 | CR9: 20 | CS9: 29.601 | CT9: 0.25 | CU9: =CS9*75% -> 22.20075 | CV9: 1 | CW9: =CV9*CS9 -> 29.601 | CX9: =CV9*CU9 -> 22.20075 | CY9: =CS9/CR9 -> 1.48005 | CZ9: =CU9/CR9 -> 1.1100375 | DH9: =DD9*DG9 -> 0 | DL9: BOITE DE CONTENTION | DM9: NOIR METAL | DN9: 12.200.04
Y10: TAILLE 2/Q20 | Z10: 100.0052 | AA10: 20 | AB10: 33.64 | AF10: =AE10*AB10 -> 0 | AG10: =AE10*AD10 -> 0 | AH10: =AB10/AA10 -> 1.682 | AI10: =AD10/AA10 -> 0 | AJ10: DIFFERENTE COULEUR/GRANDE/Q10 | AK10: 2215.992 | AL10: 10 | AM10: 10 | AP10: 1 | AQ10: =AM10*AP10 -> 10 | AS10: =AM10/AL10 -> 1 | BG10: ASSORTIMENT/PAILLETE/GRANDE/Q10 | BH10: 7834.172 | BI10: 10 | BJ10: 7.5 | BM10: 10 | BN10: =BJ10*BM10 -> 75 | BP10: =BJ10/BI10 -> 0.75 | CG10: 0 | DH10: =DD10*DG10 -> 0
A11: BOITE PORTE CLE AVEC CROCHET | X11: BOITE PORTE CLE AVEC CROCHET | AJ11: G&H/Q50 | AK11: 2261.712 | AL11: 50 | AM11: 55 | AP11: 1 | AQ11: =AM11*AP11 -> 55 | AS11: =AM11/AL11 -> 1.1 | AU11: BOITE PORTE CLE AVEC CROCHET | BN11: =BJ11*BM11 -> 0 | BR11: BOITE PORTE CLE AVEC CROCHET | BS11: FLUOS/Q50 | BT11: ESC050 | BU11: 50 | BV11: 55 | BZ11: =BV11*BY11 -> 0 | CA11: =BY11*BX11 -> 0 | CB11: =BV11/BU11 -> 1.1 | CC11: =BX11/BU11 -> 0 | CG11: 0 | CO11: BOITE PORTE CLE AVEC CROCHET | DH11: =DD11*DG11 -> 0 | DL11: BOITE PORTE CLE AVEC CROCHET
A12: BOMBE DE FROID | X12: BOMBE DE FROID | AJ12: DENTATEST/200ml/MENTHE | AK12: 223.201 | AL12: 0.2 | AM12: 6.9 | AP12: 1 | AQ12: =AM12*AP12 -> 6.9 | AS12: =AM12/AL12 -> 34.5 | AU12: BOMBE DE FROID | AW12: OP.100.89 | AX12: 1 | AY12: 50.77 | AZ12: 0.25 | BA12: =AY12-(AY12*AZ12) -> 38.0775 | BC12: =BB12*AY12 -> 0 | BD12: =BA12*BB12 -> 0 | BE12: =AY12/AX12 -> 50.77 | BF12: =BA12/AX12 -> 38.0775 | BG12: STERIBLUE/ORANGE/200ml | BH12: 0449.004 | BI12: 0.2 | BJ12: 8.9 | BM12: 1 | BN12: =BJ12*BM12 -> 8.9 | BP12: =BJ12/BI12 -> 44.5 | BR12: BOMBE DE FROID | CG12: 0 | CO12: BOMBE DE FROID | DA12: ENDO COLD/ORANGE/200ml | DB12: 900.1384 | DC12: 0.2 | DD12: 7.8 | DG12: 1 | DH12: =DD12*DG12 -> 7.8 | DI12: =DG12*DF12 -> 0 | DJ12: =DD12/DC12 -> 39 | DK12: =DF12/DC12 -> 0 | DL12: BOMBE DE FROID | DM12: FREEZE SPRAY | DN12: 22000
A13: BOUTON A COLLER | M13: CURVED/Q(10) | N13: 292.171 | O13: 10 | P13: 29.49 | Q13: 0.25 | R13: =P13*0.75 -> 22.1175 | T13: =S13*P13 -> 0 | U13: =S13*R13 -> 0 | V13: =P13/O13 -> 2.949 | W13: =R13/O13 -> 2.21175 | X13: BOUTON A COLLER | Y13: PLAT (TIGE COURTE) Q10 | Z13: 760.0802 | AA13: 10 | AB13: 28.31 | AF13: =AE13*AB13 -> 0 | AG13: =AE13*AD13 -> 0 | AH13: =AB13/AA13 -> 2.831 | AI13: =AD13/AA13 -> 0 | AJ13: G&H/PLAT ROND/Q20 | AK13: 2262.102 | AL13: 20 | AM13: 32 | AP13: 2 | AQ13: =AM13*AP13 -> 64 | AS13: =AM13/AL13 -> 1.6 | AU13: BOUTON A COLLER | AV13: Q10 | AW13: F2860.00 | AX13: 10 | AY13: 29.78 | AZ13: 0.35 | BA13: =AY13-(AY13*AZ13) -> 19.357 | BC13: =BB13*AY13 -> 0 | BD13: =BA13*BB13 -> 0 | BE13: =AY13/AX13 -> 2.978 | BF13: =BA13/AX13 -> 1.9357 | BG13: MASEL/PLAT/ROND/Q10 | BH13: 7329.172 | BI13: 10 | BJ13: 19.5 | BM13: 2 | BN13: =BJ13*BM13 -> 39 | BP13: =BJ13/BI13 -> 1.95 | BR13: BOUTON A COLLER | BS13: PLAT/ROND/Q20 | BT13: BMBC20 | BU13: 20 | BV13: 34 | BZ13: =BV13*BY13 -> 0 | CA13: =BY13*BX13 -> 0 | CB13: =BV13/BU13 -> 1.7 | CC13: =BX13/BU13 -> 0 | CD13: BASE PLATE ORMCO Q10 | CE13: OR0.300.0097 | CF13: 10 | CG13: 5.13084 | CI13: =CG13-(CG13*CH13) -> 5.13084 | CK13: =CJ13*CG13 -> 0 | CL13: =CJ13*CI13 -> 0 | CM13: =CG13/CF13 -> 0.513084 | CN13: =CI13/CF13 -> 0.513084 | CO13: BOUTON A COLLER | CP13: ROND/MEDIUM/Q10 | CQ13: A07903 | CR13: 10 | CS13: 44.1922 | CT13: 0.4 | CU13: =CS13*60% -> 26.51532 | CV13: 2 | CW13: =CV13*CS13 -> 88.3844 | CX13: =CV13*CU13 -> 53.03064 | CY13: =CS13/CR13 -> 4.41922 | CZ13: =CU13/CR13 -> 2.651532 | DH13: =DD13*DG13 -> 0 | DL13: BOUTON A COLLER | DN13: 30.000.00
Y14: PLAT (TIGE LONGUE) Q10 | Z14: 760.0801 | AA14: 10 | AB14: 28.31 | AF14: =AE14*AB14 -> 0 | AG14: =AE14*AD14 -> 0 | AH14: =AB14/AA14 -> 2.831 | AI14: =AD14/AA14 -> 0 | AQ14: =AM14*AP14 -> 0 | BN14: =BJ14*BM14 -> 0 | BS14: PLAT/RECTANGULAIRE | BT14: BLBF20 | BU14: 20 | BV14: 34 | BZ14: =BV14*BY14 -> 0 | CA14: =BY14*BX14 -> 0 | CB14: =BV14/BU14 -> 1.7 | CC14: =BX14/BU14 -> 0 | CD14: (A+ Q25) | CE14: (AY0.704.4015) | CF14: 25 | CG14: 82.69144 | CI14: =CG14-(CG14*CH14) -> 82.69144 | CK14: =CJ14*CG14 -> 0 | CL14: =CJ14*CI14 -> 0 | CM14: =CG14/CF14 -> 3.3076576 | CN14: =CI14/CF14 -> 3.3076576 | DH14: =DD14*DG14 -> 0
Y15: COURBE Q10 | Z15: 760.0805 | AA15: 10 | AB15: 30.23 | AF15: =AE15*AB15 -> 0 | AG15: =AE15*AD15 -> 0 | AH15: =AB15/AA15 -> 3.023 | AI15: =AD15/AA15 -> 0 | AJ15: G&H/COURBE/Q20 | AK15: 2262.101 | AL15: 20 | AM15: 32 | AP15: 1 | AQ15: =AM15*AP15 -> 32 | AS15: =AM15/AL15 -> 1.6 | BG15: MASEL/COURBE/Q10 | BH15: 7320°.172 | BI15: 10 | BJ15: 19.5 | BM15: 1 | BN15: =BJ15*BM15 -> 19.5 | BP15: =BJ15/BI15 -> 1.95 | BS15: PLAT/COURBE | BT15: BLBC20 | BU15: 20 | BV15: 34 | BZ15: =BV15*BY15 -> 0 | CA15: =BY15*BX15 -> 0 | CB15: =BV15/BU15 -> 1.7 | CC15: =BX15/BU15 -> 0 | CG15: 0 | DH15: =DD15*DG15 -> 0
A16: BROSSE A DENT JETABLE | X16: BROSSE A DENT JETABLE | AJ16: MEDIBASE/IMPREGNEE/Q100/ASSORTIS | AK16: 2215.637 | AL16: 100 | AM16: 18.6 | AP16: 1 | AQ16: =AM16*AP16 -> 18.6 | AS16: =AM16/AL16 -> 0.186 | AU16: BROSSE A DENT JETABLE | AV16: Q144 | AX16: 144 | AY16: 89.1 | AZ16: 0.25 | BA16: =AY16-(AY16*AZ16) -> 66.825 | BC16: =BB16*AY16 -> 0 | BD16: =BA16*BB16 -> 0 | BE16: =AY16/AX16 -> 0.61875 | BF16: =BA16/AX16 -> 0.4640625 | BG16: DE HEALTH/Q100 | BH16: 4202.191 | BI16: 100 | BJ16: 17 | BM16: 1 | BN16: =BJ16*BM16 -> 17 | BP16: =BJ16/BI16 -> 0.17 | BR16: BROSSE A DENT JETABLE | BS16: ASSORTIMENT/Q144 | BT16: 10232 | BU16: 144 | BV16: 41 | BZ16: =BV16*BY16 -> 0 | CA16: =BY16*BX16 -> 0 | CB16: =BV16/BU16 -> 0.28472222 | CC16: =BX16/BU16 -> 0 | CD16: Q100 | CE16: HW0.711.0006 | CF16: 100 | CG16: ??? | CI16: =CG16-(CG16*CH16) -> #VALUE! | CK16: =CJ16*CG16 -> #VALUE! | CL16: =CJ16*CI16 -> #VALUE! | CM16: =CG16/CF16 -> #VALUE! | CN16: =CI16/CF16 -> #VALUE! | CO16: BROSSE A DENT JETABLE | CP16: Q100 | CQ16: ECM8121 | CR16: 100 | CS16: 17.4018 | CT16: 0 | CU16: 17.4018 | CV16: 1 | CW16: =CV16*CS16 -> 17.4018 | CX16: =CV16*CU16 -> 17.4018 | CY16: =CS16/CR16 -> 0.174018 | CZ16: =CU16/CR16 -> 0.174018 | DA16: HS/Q100 | DB16: 900.1377 | DC16: 100 | DD16: 21.9 | DG16: 1 | DH16: =DD16*DG16 -> 21.9 | DI16: =DG16*DF16 -> 0 | DJ16: =DD16/DC16 -> 0.219 | DK16: =DF16/DC16 -> 0 | DL16: BROSSE A DENT JETABLE
A17: BROSSETTE CONTRE ANGLE | X17: BROSSETTE CONTRE ANGLE | AJ17: MEDIBASE/NYLON/Q50 | AK17: 227.129 | AL17: 50 | AM17: 32.7 | AP17: 1 | AQ17: =AM17*AP17 -> 32.7 | AS17: =AM17/AL17 -> 0.654 | AU17: BROSSETTE CONTRE ANGLE | AV17: Q10 | AX17: 10 | AY17: 26.62 | AZ17: 0.25 | BA17: =AY17-(AY17*AZ17) -> 19.965 | BC17: =BB17*AY17 -> 0 | BD17: =BA17*BB17 -> 0 | BE17: =AY17/AX17 -> 2.662 | BF17: =BA17/AX17 -> 1.9965 | BG17: CYBERTECH/NYLON/Q50 | BH17: 4069.122 | BI17: 50 | BJ17: 31.5 | BM17: 1 | BN17: =BJ17*BM17 -> 31.5 | BP17: =BJ17/BI17 -> 0.63 | BR17: BROSSETTE CONTRE ANGLE | CD17: Q12 | CE17: PG0.012.1204 | CF17: 12 | CG17: 29.4814 | CI17: =CG17-(CG17*CH17) -> 29.4814 | CK17: =CJ17*CG17 -> 0 | CL17: =CJ17*CI17 -> 0 | CM17: =CG17/CF17 -> 2.4567833 | CN17: =CI17/CF17 -> 2.4567833 | CO17: BROSSETTE CONTRE ANGLE | DA17: CYBERBRUSH/NYLON/Q50 | DB17: 900.2847 | DC17: 50 | DD17: 32.9 | DG17: 1 | DH17: =DD17*DG17 -> 32.9 | DI17: =DG17*DF17 -> 0 | DJ17: =DD17/DC17 -> 0.658 | DK17: =DF17/DC17 -> 0 | DL17: BROSSETTE CONTRE ANGLE
A18: BROSSETTE INTERPROXIMALE | X18: BROSSETTE INTERPROXIMALE | AK18: 221.990 | AM18: 71 | AP18: 1 | AQ18: =AM18*AP18 -> 71 | AU18: BROSSETTE INTERPROXIMALE | AV18: Q144 | AX18: 144 | AY18: 195.9 | AZ18: 0.25 | BA18: =AY18-(AY18*AZ18) -> 146.925 | BC18: =BB18*AY18 -> 0 | BD18: =BA18*BB18 -> 0 | BE18: =AY18/AX18 -> 1.3604167 | BF18: =BA18/AX18 -> 1.0203125 | BN18: =BJ18*BM18 -> 0 | BR18: BROSSETTE INTERPROXIMALE | CG18: 0 | CO18: BROSSETTE INTERPROXIMALE | DH18: =DD18*DG18 -> 0 | DL18: BROSSETTE INTERPROXIMALE | DN18: 52.610.10
A19: CALES RETRO INCISIVES | X19: CALES RETRO INCISIVES | AQ19: =AM19*AP19 -> 0 | AU19: CALES RETRO INCISIVES | AV19: Q10 | AX19: 10 | AY19: 188.37 | AZ19: 0.25 | BA19: =AY19-(AY19*AZ19) -> 141.2775 | BC19: =BB19*AY19 -> 0 | BD19: =BA19*BB19 -> 0 | BE19: =AY19/AX19 -> 18.837 | BF19: =BA19/AX19 -> 14.12775 | BN19: =BJ19*BM19 -> 0 | BR19: CALES RETRO INCISIVES | CD19: Q10 | CE19: OR0.350.0000 | CF19: 10 | CG19: 13.31148 | CI19: =CG19-(CG19*CH19) -> 13.31148 | CK19: =CJ19*CG19 -> 0 | CL19: =CJ19*CI19 -> 0 | CM19: =CG19/CF19 -> 1.331148 | CN19: =CI19/CF19 -> 1.331148 | CO19: CALES RETRO INCISIVES | DH19: =DD19*DG19 -> 0 | DL19: CALES RETRO INCISIVES
A20: CALES SURELEV° (10) | X20: CALES SURELEV° (10) | AK20: 221.756 | AM20: 4 | AP20: 2 | AQ20: =AM20*AP20 -> 8 | AU20: CALES SURELEV° (10) | BN20: =BJ20*BM20 -> 0 | BR20: CALES SURELEV° (10) | CG20: 0 | CO20: CALES SURELEV° (10) | DH20: =DD20*DG20 -> 0 | DL20: CALES SURELEV° (10) | DN20: 97.980.00
A21: CHAINETTE ELASTOMERIQUE | M21: FERME/CLEAR | N21: 854.255 | O21: 2 | T21: =S21*P21 -> 0 | U21: =S21*R21 -> 0 | V21: =P21/O21 -> 0 | W21: =R21/O21 -> 0 | X21: CHAINETTE ELASTOMERIQUE | Y21: FERME/CLAIR/1,5M | Z21: 655.0002 | AA21: 1.5 | AB21: 31.57 | AF21: =AE21*AB21 -> 0 | AG21: =AE21*AD21 -> 0 | AH21: =AB21/AA21 -> 21.046667 | AI21: =AD21/AA21 -> 0 | AJ21: SERREE/CLAIR/4.5m | AK21: 2261.616 | AL21: 4.5 | AM21: 13.5 | AP21: 2 | AQ21: =AM21*AP21 -> 27 | AS21: =AM21/AL21 -> 3 | AU21: CHAINETTE ELASTOMERIQUE | AV21: SERREE/CLAIRE/5m | AW21: K6426.13 | AX21: 5 | AY21: 37.08 | AZ21: 0.25 | BA21: =AY21-(AY21*AZ21) -> 27.81 | BC21: =BB21*AY21 -> 0 | BD21: =BA21*BB21 -> 0 | BE21: =AY21/AX21 -> 7.416 | BF21: =BA21/AX21 -> 5.562 | BG21: 4,5m | BI21: 4.5 | BJ21: 11.9 | BM21: 4 | BN21: =BJ21*BM21 -> 47.6 | BP21: =BJ21/BI21 -> 2.6444444 | BR21: CHAINETTE ELASTOMERIQUE | CD21: FERME/CLAIR/4m | CE21: OR0.639.0002 | CF21: 4 | CG21: 70.75536 | CI21: =CG21-(CG21*CH21) -> 70.75536 | CK21: =CJ21*CG21 -> 0 | CL21: =CJ21*CI21 -> 0 | CM21: =CG21/CF21 -> 17.68884 | CN21: =CI21/CF21 -> 17.68884 | CO21: CHAINETTE ELASTOMERIQUE | CP21: SERREE/CLAIR/4m | CQ21: ECM0693 | CR21: 4 | CS21: 72.956 | CT21: 0.25 | CU21: =CS21*75% -> 54.717 | CV21: 2 | CW21: =CV21*CS21 -> 145.912 | CX21: =CV21*CU21 -> 109.434 | CY21: =CS21/CR21 -> 18.239 | CZ21: =CU21/CR21 -> 13.67925 | DH21: =DD21*DG21 -> 0 | DL21: CHAINETTE ELASTOMERIQUE | DM21: FERME
M22: FERME/GREY | N22: 854.252 | O22: 2 | T22: =S22*P22 -> 0 | U22: =S22*R22 -> 0 | V22: =P22/O22 -> 0 | W22: =R22/O22 -> 0 | AJ22: SERREE/GRISE/4.5m | AK22: 2261.617 | AL22: 4.5 | AM22: 13.5 | AP22: 2 | AQ22: =AM22*AP22 -> 27 | AS22: =AM22/AL22 -> 3 | AV22: SERREE/GRISE/5m | AW22: K6466.13 | AX22: 5 | AY22: 37.08 | AZ22: 0.25 | BA22: =AY22-(AY22*AZ22) -> 27.81 | BC22: =BB22*AY22 -> 0 | BD22: =BA22*BB22 -> 0 | BE22: =AY22/AX22 -> 7.416 | BF22: =BA22/AX22 -> 5.562 | BN22: =BJ22*BM22 -> 0 | CD22: FERME/GRISE/4m | CE22: OR0.639.0001 | CF22: 4 | CG22: 70.75536 | CI22: =CG22-(CG22*CH22) -> 70.75536 | CK22: =CJ22*CG22 -> 0 | CL22: =CJ22*CI22 -> 0 | CM22: =CG22/CF22 -> 17.68884 | CN22: =CI22/CF22 -> 17.68884 | CP22: SERREE/GRISE/4m | CQ22: ECM0698 | CR22: 4 | CS22: 72.956 | CT22: 0.25 | CU22: =CS22*75% -> 54.717 | CV22: 2 | CW22: =CV22*CS22 -> 145.912 | CX22: =CV22*CU22 -> 109.434 | CY22: =CS22/CR22 -> 18.239 | CZ22: =CU22/CR22 -> 13.67925 | DH22: =DD22*DG22 -> 0
M23: MOYENNE/CLEAR | N23: 854.256 | O23: 2 | T23: =S23*P23 -> 0 | U23: =S23*R23 -> 0 | V23: =P23/O23 -> 0 | W23: =R23/O23 -> 0 | Y23: MOYENNE/CLAIR/1,5M | Z23: 655.0001 | AA23: 1.5 | AB23: 31.57 | AF23: =AE23*AB23 -> 0 | AG23: =AE23*AD23 -> 0 | AH23: =AB23/AA23 -> 21.046667 | AI23: =AD23/AA23 -> 0 | AJ23: MOYENNE/CLAIRE/4.5m | AK23: 2261.624 | AL23: 4.5 | AM23: 13.5 | AP23: 2 | AQ23: =AM23*AP23 -> 27 | AS23: =AM23/AL23 -> 3 | AV23: MOYENNE/CLAIRE/5m | AW23: K6425.13 | AX23: 5 | AY23: 37.08 | AZ23: 0.25 | BA23: =AY23-(AY23*AZ23) -> 27.81 | BC23: =BB23*AY23 -> 0 | BD23: =BA23*BB23 -> 0 | BE23: =AY23/AX23 -> 7.416 | BF23: =BA23/AX23 -> 5.562 | BN23: =BJ23*BM23 -> 0 | CD23: MOYENNE/CLAIR/4m | CE23: OR0.639.0004 | CF23: 4 | CG23: 70.75536 | CI23: =CG23-(CG23*CH23) -> 70.75536 | CK23: =CJ23*CG23 -> 0 | CL23: =CJ23*CI23 -> 0 | CM23: =CG23/CF23 -> 17.68884 | CN23: =CI23/CF23 -> 17.68884 | CP23: MOYENNE/CLAIR/4,7m | CQ23: ECM0650 | CR23: 4.7 | CS23: 72.956 | CT23: 0.25 | CU23: =CS23*75% -> 54.717 | CV23: 2 | CW23: =CV23*CS23 -> 145.912 | CX23: =CV23*CU23 -> 109.434 | CY23: =CS23/CR23 -> 15.522553 | CZ23: =CU23/CR23 -> 11.641915 | DH23: =DD23*DG23 -> 0 | DM23: MOYENNE
M24: MOYENNE/GREY | N24: 854.253 | O24: 2 | T24: =S24*P24 -> 0 | U24: =S24*R24 -> 0 | V24: =P24/O24 -> 0 | W24: =R24/O24 -> 0 | AJ24: MOYENNE/GRISE/4.5m | AK24: 2261.625 | AL24: 4.5 | AM24: 13.5 | AP24: 2 | AQ24: =AM24*AP24 -> 27 | AS24: =AM24/AL24 -> 3 | AV24: MOYENNE/GRISE/5m | AW24: K6465.13 | AX24: 5 | AY24: 37.08 | AZ24: 0.25 | BA24: =AY24-(AY24*AZ24) -> 27.81 | BC24: =BB24*AY24 -> 0 | BD24: =BA24*BB24 -> 0 | BE24: =AY24/AX24 -> 7.416 | BF24: =BA24/AX24 -> 5.562 | BN24: =BJ24*BM24 -> 0 | BS24: =5*15*28.5 -> 2137.5 | CD24: MOYENNE/GRISE/4m | CE24: OR0.639.0003 | CF24: 4 | CG24: 70.75536 | CI24: =CG24-(CG24*CH24) -> 70.75536 | CK24: =CJ24*CG24 -> 0 | CL24: =CJ24*CI24 -> 0 | CM24: =CG24/CF24 -> 17.68884 | CN24: =CI24/CF24 -> 17.68884 | CP24: MOYENNE/GRISE/4,7m | CQ24: ECM0660 | CR24: 4.7 | CS24: 72.956 | CT24: 0.25 | CU24: =CS24*75% -> 54.717 | CV24: 2 | CW24: =CV24*CS24 -> 145.912 | CX24: =CV24*CU24 -> 109.434 | CY24: =CS24/CR24 -> 15.522553 | CZ24: =CU24/CR24 -> 11.641915 | DH24: =DD24*DG24 -> 0
M25: GRANDE/CLEAR | N25: 854.259 | O25: 2 | T25: =S25*P25 -> 0 | U25: =S25*R25 -> 0 | V25: =P25/O25 -> 0 | W25: =R25/O25 -> 0 | Y25: GRANDE/CLAIR/1,5M | Z25: 655.0003 | AA25: 1.5 | AB25: 31.57 | AF25: =AE25*AB25 -> 0 | AG25: =AE25*AD25 -> 0 | AH25: =AB25/AA25 -> 21.046667 | AI25: =AD25/AA25 -> 0 | AJ25: GRANDE/CLAIRE/4.5m | AK25: 2261.620 | AL25: 4.5 | AM25: 13.5 | AP25: 2 | AQ25: =AM25*AP25 -> 27 | AS25: =AM25/AL25 -> 3 | AV25: LARGE/CLAIRE/5m | AW25: K6420.13 | AX25: 5 | AY25: 37.08 | AZ25: 0.25 | BA25: =AY25-(AY25*AZ25) -> 27.81 | BC25: =BB25*AY25 -> 0 | BD25: =BA25*BB25 -> 0 | BE25: =AY25/AX25 -> 7.416 | BF25: =BA25/AX25 -> 5.562 | BN25: =BJ25*BM25 -> 0 | CD25: GRANDE/CLAIR/4m | CE25: OR0.639.0019 | CF25: 4 | CG25: 70.75536 | CI25: =CG25-(CG25*CH25) -> 70.75536 | CK25: =CJ25*CG25 -> 0 | CL25: =CJ25*CI25 -> 0 | CM25: =CG25/CF25 -> 17.68884 | CN25: =CI25/CF25 -> 17.68884 | CP25: GRANDE/CLAIR/4,7m | CQ25: ECM0691 | CR25: 4.7 | CS25: 72.956 | CT25: 0.25 | CU25: =CS25*75% -> 54.717 | CV25: 2 | CW25: =CV25*CS25 -> 145.912 | CX25: =CV25*CU25 -> 109.434 | CY25: =CS25/CR25 -> 15.522553 | CZ25: =CU25/CR25 -> 11.641915 | DH25: =DD25*DG25 -> 0 | DM25: LONGUE
M26: GRANDE/GREY | N26: 854.254 | O26: 2 | T26: =S26*P26 -> 0 | U26: =S26*R26 -> 0 | V26: =P26/O26 -> 0 | W26: =R26/O26 -> 0 | AJ26: GRANDE/GRISE/4.5m | AK26: 2261.621 | AL26: 4.5 | AM26: 13.5 | AP26: 2 | AQ26: =AM26*AP26 -> 27 | AS26: =AM26/AL26 -> 3 | AV26: LARGE/GRISE/5m | AW26: K6460.13 | AX26: 5 | AY26: 37.08 | AZ26: 0.25 | BA26: =AY26-(AY26*AZ26) -> 27.81 | BC26: =BB26*AY26 -> 0 | BD26: =BA26*BB26 -> 0 | BE26: =AY26/AX26 -> 7.416 | BF26: =BA26/AX26 -> 5.562 | BN26: =BJ26*BM26 -> 0 | CD26: GRANDE/GRISE/4m | CE26: OR0.639.0018 | CF26: 4 | CG26: 70.75536 | CI26: =CG26-(CG26*CH26) -> 70.75536 | CK26: =CJ26*CG26 -> 0 | CL26: =CJ26*CI26 -> 0 | CM26: =CG26/CF26 -> 17.68884 | CN26: =CI26/CF26 -> 17.68884 | CP26: GRANDE/GRISE/4,7 | CQ26: ECM0697 | CR26: 4.7 | CS26: 72.956 | CT26: 0.25 | CU26: =CS26*75% -> 54.717 | CV26: 2 | CW26: =CV26*CS26 -> 145.912 | CX26: =CV26*CU26 -> 109.434 | CY26: =CS26/CR26 -> 15.522553 | CZ26: =CU26/CR26 -> 11.641915 | DH26: =DD26*DG26 -> 0
A27: CIRE PROTECTION | M27: CLEAR/Q100 | N27: 861.200 | O27: 100 | P27: 75.92 | Q27: 0.25 | R27: =P27*0.75 -> 56.94 | T27: =S27*P27 -> 0 | U27: =S27*R27 -> 0 | V27: =P27/O27 -> 0.7592 | W27: =R27/O27 -> 0.5694 | X27: CIRE PROTECTION | Y27: SILICONE Q50 | Z27: 413.0011 | AA27: 50 | AB27: 74.57 | AF27: =AE27*AB27 -> 0 | AG27: =AE27*AD27 -> 0 | AH27: =AB27/AA27 -> 1.4914 | AI27: =AD27/AA27 -> 0 | AJ27: NEXA DENTAL/Q100 | AK27: 2279.003 | AL27: 100 | AM27: 54.8 | AP27: 1 | AQ27: =AM27*AP27 -> 54.8 | AS27: =AM27/AL27 -> 0.548 | AU27: CIRE PROTECTION | AV27: Q50 | AW27: TSMC | AX27: 50 | AY27: 37.08 | AZ27: 0.25 | BA27: =AY27-(AY27*AZ27) -> 27.81 | BC27: =BB27*AY27 -> 0 | BD27: =BA27*BB27 -> 0 | BE27: =AY27/AX27 -> 0.7416 | BF27: =BA27/AX27 -> 0.5562 | BG27: MASEL/NATUREL/Q50 | BH27: 7852.172 | BI27: 50 | BJ27: 29.7 | BM27: 1 | BN27: =BJ27*BM27 -> 29.7 | BP27: =BJ27/BI27 -> 0.594 | BR27: CIRE PROTECTION | BS27: PARFUMEE/Q50 | BT27: 732750 | BU27: 50 | BV27: 31 | BZ27: =BV27*BY27 -> 0 | CA27: =BY27*BX27 -> 0 | CB27: =BV27/BU27 -> 0.62 | CC27: =BX27/BU27 -> 0 | CD27: BOITE DE 5/Q40 | CE27: OR0.757.0010 | CF27: 40 | CG27: 61.60596 | CI27: =CG27-(CG27*CH27) -> 61.60596 | CK27: =CJ27*CG27 -> 0 | CL27: =CJ27*CI27 -> 0 | CM27: =CG27/CF27 -> 1.540149 | CN27: =CI27/CF27 -> 1.540149 | CO27: CIRE PROTECTION | CP27: NOIX COCO/Q10 | CQ27: ECM1353 | CR27: 10 | CS27: 9.8072 | CT27: 0.25 | CU27: =CS27*75% -> 7.3554 | CV27: 5 | CW27: =CV27*CS27 -> 49.036 | CX27: =CV27*CU27 -> 36.777 | CY27: =CS27/CR27 -> 0.98072 | CZ27: =CU27/CR27 -> 0.73554 | DH27: =DD27*DG27 -> 0 | DL27: CIRE PROTECTION | DM27: BLANC/Q(50 BOITES) | DN27: 17.222.22
AQ28: =AM28*AP28 -> 0 | BG28: LONGUE BANDE/Q48 | BH28: 3706.769 | BI28: 48 | BJ28: 19 | BM28: 1 | BN28: =BJ28*BM28 -> 19 | BP28: =BJ28/BI28 -> 0.39583333 | BS28: LONGUE/A COUPER/5X15X28,5 | BT28: 1304 | BU28: 21.38 | BV28: 20 | BZ28: =BV28*BY28 -> 0 | CA28: =BY28*BX28 -> 0 | CB28: =BV28/BU28 -> 0.9354537 | CC28: =BX28/BU28 -> 0 | CG28: 0 | DH28: =DD28*DG28 -> 0 | DM28: ROUGE (CANELLE)/Q(50 BOITES) | DN28: 17.222.23
A29: CLE ACTIVATION VERIN | X29: CLE ACTIVATION VERIN | Y29: Q1 | Z29: 100.0009 | AA29: 1 | AB29: 2.46 | AF29: =AE29*AB29 -> 0 | AG29: =AE29*AD29 -> 0 | AH29: =AB29/AA29 -> 2.46 | AI29: =AD29/AA29 -> 0 | AQ29: =AM29*AP29 -> 0 | AU29: CLE ACTIVATION VERIN | AV29: Q10 | AW29: A0558.00 | AX29: 10 | AY29: 18.73 | AZ29: 0.35 | BA29: =AY29-(AY29*AZ29) -> 12.1745 | BC29: =BB29*AY29 -> 0 | BD29: =BA29*BB29 -> 0 | BE29: =AY29/AX29 -> 1.873 | BF29: =BA29/AX29 -> 1.21745 | BN29: =BJ29*BM29 -> 0 | BR29: CLE ACTIVATION VERIN | CG29: 0 | CO29: CLE ACTIVATION VERIN | DH29: =DD29*DG29 -> 0 | DL29: CLE ACTIVATION VERIN | DN29: 97.111.11
A30: CLEAT A COLLER | M30: Q10 | N30: 593.165 | O30: 10 | T30: =S30*P30 -> 0 | U30: =S30*R30 -> 0 | V30: =P30/O30 -> 0 | W30: =R30/O30 -> 0 | X30: CLEAT A COLLER | AJ30: ORTHO TECHNOLOGY/Q10 | AK30: 2262.103 | AL30: 10 | AM30: 32 | AP30: 1 | AQ30: =AM30*AP30 -> 32 | AS30: =AM30/AL30 -> 3.2 | AU30: CLEAT A COLLER | AV30: Q10 | AX30: 10 | AY30: 62.68 | AZ30: 0.25 | BA30: =AY30-(AY30*AZ30) -> 47.01 | BC30: =BB30*AY30 -> 0 | BD30: =BA30*BB30 -> 0 | BE30: =AY30/AX30 -> 6.268 | BF30: =BA30/AX30 -> 4.701 | BN30: =BJ30*BM30 -> 0 | BR30: CLEAT A COLLER | CD30: ORMCO Q10 (A+ Q25) | CE30: OR0.300.0092 (AY0.704.4014) | CF30: 10 | CG30: 3.09764 | CI30: =CG30-(CG30*CH30) -> 3.09764 | CK30: =CJ30*CG30 -> 0 | CL30: =CJ30*CI30 -> 0 | CM30: =CG30/CF30 -> 0.309764 | CN30: =CI30/CF30 -> 0.309764 | CO30: CLEAT A COLLER | DH30: =DD30*DG30 -> 0 | DL30: CLEAT A COLLER
A31: COTON SALIVAIRE | X31: COTON SALIVAIRE | AJ31: MEDIBASE/8mm/300g | AK31: 225.932 | AL31: 0.3 | AM31: 5 | AP31: 1 | AQ31: =AM31*AP31 -> 5 | AS31: =AM31/AL31 -> 16.666667 | AU31: COTON SALIVAIRE | AV31: Q2000 | AX31: 2000 | AY31: 34.48 | AZ31: 0.25 | BA31: =AY31-(AY31*AZ31) -> 25.86 | BC31: =BB31*AY31 -> 0 | BD31: =BA31*BB31 -> 0 | BE31: =AY31/AX31 -> 0.01724 | BF31: =BA31/AX31 -> 0.01293 | BG31: CYBERTECH/TAILLE 1/300g | BH31: 4939.122 | BI31: 0.3 | BJ31: 5 | BM31: 1 | BN31: =BJ31*BM31 -> 5 | BP31: =BJ31/BI31 -> 16.666667 | BR31: COTON SALIVAIRE | CD31: DIAMETRE 8mm/Q300 | CE31: RK0.340.0101 | CF31: 300 | CG31: 12.41448 | CI31: =CG31-(CG31*CH31) -> 12.41448 | CK31: =CJ31*CG31 -> 0 | CL31: =CJ31*CI31 -> 0 | CM31: =CG31/CF31 -> 0.0413816 | CN31: =CI31/CF31 -> 0.0413816 | CO31: COTON SALIVAIRE | DA31: CYBERTECH/TAILLE 1/300g | DB31: 900.3746 | DC31: 0.3 | DD31: 5.1 | DG31: 1 | DH31: =DD31*DG31 -> 5.1 | DI31: =DG31*DF31 -> 0 | DJ31: =DD31/DC31 -> 17 | DK31: =DF31/DC31 -> 0 | DL31: COTON SALIVAIRE
AJ32: MEDIBASE/10mm/300g | AK32: 225.933 | AL32: 0.3 | AM32: 5 | AP32: 1 | AQ32: =AM32*AP32 -> 5 | AS32: =AM32/AL32 -> 16.666667 | BG32: CYBERTECH/TAILLE 3/300g | BH32: 4931.122 | BI32: 0.3 | BJ32: 5 | BM32: 1 | BN32: =BJ32*BM32 -> 5 | BP32: =BJ32/BI32 -> 16.666667 | CD32: DIAMETRE 10mm/Q300 | CE32: RK0.340.0102 | CF32: 300 | CG32: 13.02444 | CI32: =CG32-(CG32*CH32) -> 13.02444 | CK32: =CJ32*CG32 -> 0 | CL32: =CJ32*CI32 -> 0 | CM32: =CG32/CF32 -> 0.0434148 | CN32: =CI32/CF32 -> 0.0434148 | DA32: CYBERTECH/TAILLE 3/300g | DB32: 900.3748 | DC32: 0.3 | DD32: 5.1 | DG32: 1 | DH32: =DD32*DG32 -> 5.1 | DI32: =DG32*DF32 -> 0 | DJ32: =DD32/DC32 -> 17 | DK32: =DF32/DC32 -> 0
A33: COTON ROEKO | X33: COTON ROEKO | AJ33: PAROTISROLL/10mm/Q100 | AK33: 225.010 | AL33: 100 | AM33: 17.1 | AP33: 1 | AQ33: =AM33*AP33 -> 17.1 | AS33: =AM33/AL33 -> 0.171 | AU33: COTON ROEKO | BN33: =BJ33*BM33 -> 0 | BR33: COTON ROEKO | CD33: DIAMETRE 10mm/Q100 | CE33: RK0.340.0155 | CF33: 100 | CG33: 25.15188 | CI33: =CG33-(CG33*CH33) -> 25.15188 | CK33: =CJ33*CG33 -> 0 | CL33: =CJ33*CI33 -> 0 | CM33: =CG33/CF33 -> 0.2515188 | CN33: =CI33/CF33 -> 0.2515188 | CO33: COTON ROEKO | DH33: =DD33*DG33 -> 0 | DL33: COTON ROEKO
A34: CRAYON MARQUEUR | X34: CRAYON MARQUEUR | AQ34: =AM34*AP34 -> 0 | AU34: CRAYON MARQUEUR | AV34: BLANC | AW34: T3608.00 | AX34: 1 | AY34: 4.27 | AZ34: 0.35 | BA34: =AY34-(AY34*AZ34) -> 2.7755 | BC34: =BB34*AY34 -> 0 | BD34: =BA34*BB34 -> 0 | BE34: =AY34/AX34 -> 4.27 | BF34: =BA34/AX34 -> 2.7755 | BN34: =BJ34*BM34 -> 0 | BR34: CRAYON MARQUEUR | CD34: BLANC | CE34: SM0.200.1005 | CF34: 1 | CG34: 5.3222 | CI34: =CG34-(CG34*CH34) -> 5.3222 | CK34: =CJ34*CG34 -> 0 | CL34: =CJ34*CI34 -> 0 | CM34: =CG34/CF34 -> 5.3222 | CN34: =CI34/CF34 -> 5.3222 | CO34: CRAYON MARQUEUR | DH34: =DD34*DG34 -> 0 | DL34: CRAYON MARQUEUR
A35: CROCHET CHIRURGICAL | M35: .021X.025/Q10 | N35: 851.623C | O35: 10 | P35: 38.14 | Q35: 0.25 | R35: =P35*0.75 -> 28.605 | T35: =S35*P35 -> 0 | U35: =S35*R35 -> 0 | V35: =P35/O35 -> 3.814 | W35: =R35/O35 -> 2.8605 | X35: CROCHET CHIRURGICAL | AJ35: COURT/Q20 | AK35: 2262.036 | AL35: 20 | AM35: 32 | AP35: 1 | AQ35: =AM35*AP35 -> 32 | AS35: =AM35/AL35 -> 1.6 | AU35: CROCHET CHIRURGICAL | BG35: MASEL/21X25/Q10 | BH35: 7611.172 | BI35: 10 | BJ35: 26 | BM35: 2 | BN35: =BJ35*BM35 -> 52 | BP35: =BJ35/BI35 -> 2.6 | BR35: CROCHET CHIRURGICAL | BS35: MOYEN/Q10 | BT35: F201.06 | BU35: 10 | BV35: 10 | BZ35: =BV35*BY35 -> 0 | CA35: =BY35*BX35 -> 0 | CB35: =BV35/BU35 -> 1 | CC35: =BX35/BU35 -> 0 | CD35: .022/Q50 | CE35: AY0.704.9000 | CF35: 50 | CG35: 71.61648 | CI35: =CG35-(CG35*CH35) -> 71.61648 | CK35: =CJ35*CG35 -> 0 | CL35: =CJ35*CI35 -> 0 | CM35: =CG35/CF35 -> 1.4323296 | CN35: =CI35/CF35 -> 1.4323296 | CO35: CROCHET CHIRURGICAL | CP35: Q10 | CQ35: ECM1342 | CR35: 10 | CS35: 26.1326 | CT35: 0.25 | CU35: =CS35*75% -> 19.59945 | CV35: 1 | CW35: =CV35*CS35 -> 26.1326 | CX35: =CV35*CU35 -> 19.59945 | CY35: =CS35/CR35 -> 2.61326 | CZ35: =CU35/CR35 -> 1.959945 | DH35: =DD35*DG35 -> 0 | DL35: CROCHET CHIRURGICAL | DM35: Q10 | DN35: 47.601.39
A36: CROCHET PLASTIQUE POUR ELASTIQUES | X36: CROCHET PLASTIQUE POUR ELASTIQUES | Y36: Q10 | Z36: 562.0002 | AF36: =AE36*AB36 -> 0 | AG36: =AE36*AD36 -> 0 | AH36: =AB36/AA36 -> #DIV/0! | AI36: =AD36/AA36 -> #DIV/0! | AQ36: =AM36*AP36 -> 0 | AU36: CROCHET PLASTIQUE POUR ELASTIQUES | AV36: Q100 | AX36: 100 | AY36: 41.26 | AZ36: 0.25 | BA36: =AY36-(AY36*AZ36) -> 30.945 | BC36: =BB36*AY36 -> 0 | BD36: =BA36*BB36 -> 0 | BE36: =AY36/AX36 -> 0.4126 | BF36: =BA36/AX36 -> 0.30945 | BG36: MASEL/COULEUR/Q100 | BH36: 9274.172 | BI36: 100 | BJ36: 18 | BM36: 1 | BN36: =BJ36*BM36 -> 18 | BP36: =BJ36/BI36 -> 0.18 | BR36: CROCHET PLASTIQUE POUR ELASTIQUES | BS36: FLUOS/Q100 | BT36: EPT100 | BU36: 100 | BV36: 16 | BZ36: =BV36*BY36 -> 0 | CA36: =BY36*BX36 -> 0 | CB36: =BV36/BU36 -> 0.16 | CC36: =BX36/BU36 -> 0 | CG36: 0 | CO36: CROCHET PLASTIQUE POUR ELASTIQUES | CP36: Q100 | CQ36: ECM8019 | CR36: 100 | CS36: 32.3518 | CT36: 0.25 | CU36: =CS36*75% -> 24.26385 | CV36: 1 | CW36: =CV36*CS36 -> 32.3518 | CX36: =CV36*CU36 -> 24.26385 | CY36: =CS36/CR36 -> 0.323518 | CZ36: =CU36/CR36 -> 0.2426385 | DH36: =DD36*DG36 -> 0 | DL36: CROCHET PLASTIQUE POUR ELASTIQUES
A37: CROCHET PLASTIQUE INVISALIGN | X37: CROCHET PLASTIQUE INVISALIGN | AQ37: =AM37*AP37 -> 0 | AU37: CROCHET PLASTIQUE INVISALIGN | BN37: =BJ37*BM37 -> 0 | BR37: CROCHET PLASTIQUE INVISALIGN | BS37: BLEU/Q10 | BT37: RR.1TSB | BU37: 10 | BV37: 15 | BZ37: =BV37*BY37 -> 0 | CA37: =BY37*BX37 -> 0 | CB37: =BV37/BU37 -> 1.5 | CC37: =BX37/BU37 -> 0 | CG37: 0 | CO37: CROCHET PLASTIQUE INVISALIGN | DH37: =DD37*DG37 -> 0 | DL37: CROCHET PLASTIQUE INVISALIGN | DN37: 97.000.00
A38: DISTRIBUTEUR COTON | X38: DISTRIBUTEUR COTON | AU38: DISTRIBUTEUR COTON | BR38: DISTRIBUTEUR COTON | CD38: OFFERT | CO38: DISTRIBUTEUR COTON | DA38: HS/BLANC/Q50 | DB38: 900.6049 | DC38: 50 | DD38: 15.5 | DG38: 2 | DH38: =DD38*DG38 -> 31 | DI38: =DG38*DF38 -> 0 | DJ38: =DD38/DC38 -> 0.31 | DK38: =DF38/DC38 -> 0 | DL38: DISTRIBUTEUR COTON
A39: DISTRIBUTEUR ELASTIQUE | N39: 851.824 | O39: 1 | P39: 64.74 | Q39: 0.25 | R39: =P39*0.75 -> 48.555 | T39: =S39*P39 -> 0 | U39: =S39*R39 -> 0 | V39: =P39/O39 -> 64.74 | W39: =R39/O39 -> 48.555 | X39: DISTRIBUTEUR ELASTIQUE | AQ39: =AM39*AP39 -> 0 | AU39: DISTRIBUTEUR ELASTIQUE | BN39: =BJ39*BM39 -> 0 | BR39: DISTRIBUTEUR ELASTIQUE | CG39: 0 | CO39: DISTRIBUTEUR ELASTIQUE | DH39: =DD39*DG39 -> 0 | DL39: DISTRIBUTEUR ELASTIQUE
A40: DISTRIBUTEUR GOBELET | X40: DISTRIBUTEUR GOBELET | AJ40: CROSSTEX | AK40: 225.053 | AL40: 1 | AM40: 28.6 | AP40: 1 | AQ40: =AM40*AP40 -> 28.6 | AS40: =AM40/AL40 -> 28.6 | AU40: DISTRIBUTEUR GOBELET | BG40: DISTRIBUTEUR | BH40: 3293.172 | BI40: 1 | BJ40: 26 | BM40: 1 | BN40: =BJ40*BM40 -> 26 | BP40: =BJ40/BI40 -> 26 | BR40: DISTRIBUTEUR GOBELET | CG40: 0 | CO40: DISTRIBUTEUR GOBELET | DA40: MURAL/PLASTIQUE TRANSPARENT | DB40: 950.1071 | DC40: 1 | DD40: 22.7 | DG40: 1 | DH40: =DD40*DG40 -> 22.7 | DI40: =DG40*DF40 -> 0 | DJ40: =DD40/DC40 -> 22.7 | DK40: =DF40/DC40 -> 0 | DL40: DISTRIBUTEUR GOBELET
A41: DISTRIBUTEUR PAPIER | X41: DISTRIBUTEUR PAPIER | AQ41: =AM41*AP41 -> 0 | AU41: DISTRIBUTEUR PAPIER | BG41: INOX | BH41: 5203.176 | BI41: 1 | BJ41: 51 | BM41: 1 | BN41: =BJ41*BM41 -> 51 | BP41: =BJ41/BI41 -> 51 | BR41: DISTRIBUTEUR PAPIER | CG41: 0 | CO41: DISTRIBUTEUR PAPIER | DA41: TORK/ALU BROSSE | DB41: 891.2014 | DC41: 1 | DD41: 103.2 | DG41: 1 | DH41: =DD41*DG41 -> 103.2 | DI41: =DG41*DF41 -> 0 | DJ41: =DD41/DC41 -> 103.2 | DK41: =DF41/DC41 -> 0 | DL41: DISTRIBUTEUR PAPIER
AQ42: =AM42*AP42 -> 0 | BN42: =BJ42*BM42 -> 0 | CG42: 0 | DH42: =DD42*DG42 -> 0
A43: DISTRIBUTEUR SAVON | X43: DISTRIBUTEUR SAVON | AQ43: =AM43*AP43 -> 0 | AU43: DISTRIBUTEUR SAVON | BG43: INOX/DESIGN ABS | BH43: 5207.176 | BI43: 1 | BJ43: 22 | BM43: 0 | BN43: =BJ43*BM43 -> 0 | BP43: =BJ43/BI43 -> 22 | BR43: DISTRIBUTEUR SAVON | CG43: 0 | CO43: DISTRIBUTEUR SAVON | DA43: TORK/BLANC/S1 | DB43: 872.3989 | DC43: 1 | DD43: 32.8 | DG43: 0 | DH43: =DD43*DG43 -> 0 | DI43: =DG43*DF43 -> 0 | DJ43: =DD43/DC43 -> 32.8 | DK43: =DF43/DC43 -> 0 | DL43: DISTRIBUTEUR SAVON
AQ44: =AM44*AP44 -> 0 | BG44: ALU/TORK | BH44: 4233.013 | BI44: 1 | BJ44: 109 | BM44: 0 | BN44: =BJ44*BM44 -> 0 | BP44: =BJ44/BI44 -> 109 | CG44: 0 | DA44: ALU/TORK/S3 | DB44: 891.2011 | DC44: 1 | DD44: 109.7 | DG44: 0 | DH44: =DD44*DG44 -> 0 | DI44: =DG44*DF44 -> 0 | DJ44: =DD44/DC44 -> 109.7 | DK44: =DF44/DC44 -> 0
A45: ECARTEUR | X45: ECARTEUR | AJ45: ULTRADENT/ADULTE | AK45: 2211.862 | AL45: 1 | AM45: 26 | AP45: 10 | AQ45: =AM45*AP45 -> 260 | AS45: =AM45/AL45 -> 26 | AU45: ECARTEUR | BN45: =BJ45*BM45 -> 0 | BR45: ECARTEUR | BS45: ADULTE/BLANC | BT45: 5058W | BU45: 1 | BV45: 29 | BZ45: =BV45*BY45 -> 0 | CA45: =BY45*BX45 -> 0 | CB45: =BV45/BU45 -> 29 | CC45: =BX45/BU45 -> 0 | CG45: 0 | CO45: ECARTEUR | CP45: ADULTE | CQ45: ECM1337 | CR45: 1 | CS45: 34.8036 | CT45: 0.25 | CU45: =CS45*75% -> 26.1027 | CV45: 10 | CW45: =CV45*CS45 -> 348.036 | CX45: =CV45*CU45 -> 261.027 | CY45: =CS45/CR45 -> 34.8036 | CZ45: =CU45/CR45 -> 26.1027 | DH45: =DD45*DG45 -> 0 | DL45: ECARTEUR
M46: CLEAR/Q6 | N46: 852.760 | O46: 6 | P46: 72.08 | Q46: 0.25 | R46: =P46*0.75 -> 54.06 | T46: =S46*P46 -> 0 | U46: =S46*R46 -> 0 | V46: =P46/O46 -> 12.013333 | W46: =R46/O46 -> 9.01 | AJ46: ULTRADENT/ENFANT | AK46: 2211.861 | AL46: 1 | AM46: 26 | AP46: 5 | AQ46: =AM46*AP46 -> 130 | AS46: =AM46/AL46 -> 26 | BN46: =BJ46*BM46 -> 0 | BS46: ENFANT/BLANC | BT46: 5056W | BU46: 1 | BV46: 29 | BZ46: =BV46*BY46 -> 0 | CA46: =BY46*BX46 -> 0 | CB46: =BV46/BU46 -> 29 | CC46: =BX46/BU46 -> 0 | CD46: TRANSPARENT | CE46: SG0.720.0690 | CF46: 1 | CG46: 22.6044 | CI46: =CG46-(CG46*CH46) -> 22.6044 | CK46: =CJ46*CG46 -> 0 | CL46: =CJ46*CI46 -> 0 | CM46: =CG46/CF46 -> 22.6044 | CN46: =CI46/CF46 -> 22.6044 | CP46: ENFANT | CQ46: ECM1333 | CR46: 1 | CS46: 31.8734 | CT46: 0.25 | CU46: =CS46*75% -> 23.90505 | CV46: 5 | CW46: =CV46*CS46 -> 159.367 | CX46: =CV46*CU46 -> 119.52525 | CY46: =CS46/CR46 -> 31.8734 | CZ46: =CU46/CR46 -> 23.90505 | DH46: =DD46*DG46 -> 0
A47: ELASTIQUES | M47: INTRA ORAUX/Q5000 | N47: 000.111S | O47: 5000 | P47: 49.34 | Q47: 0.25 | R47: =P47*0.75 -> 37.005 | T47: =S47*P47 -> 0 | U47: =S47*R47 -> 0 | V47: =P47/O47 -> 0.009868 | W47: =R47/O47 -> 0.007401 | X47: ELASTIQUES | Y47: LIGHT | Z47: 1000 | AA47: 14.01 | AF47: =AE47*AB47 -> 0 | AG47: =AE47*AD47 -> 0 | AH47: =AB47/AA47 -> 0 | AI47: =AD47/AA47 -> 0 | AJ47: G&H/LEGER/Q50 | AL47: 50 | AM47: 34.8 | AP47: 9 | AQ47: =AM47*AP47 -> 313.2 | AS47: =AM47/AL47 -> 0.696 | AU47: ELASTIQUES | AV47: Q1000 P128 | AX47: 1000 | AY47: 14.5 | AZ47: 0.35 | BA47: =AY47-(AY47*AZ47) -> 9.425 | BC47: =BB47*AY47 -> 0 | BD47: =BA47*BB47 -> 0 | BE47: =AY47/AX47 -> 0.0145 | BF47: =BA47/AX47 -> 0.009425 | BG47: SACHET DE 100/Q50 | BI47: 50 | BJ47: 24.8 | BM47: 9 | BN47: =BJ47*BM47 -> 223.2 | BP47: =BJ47/BI47 -> 0.496 | BR47: ELASTIQUES | BS47: G&H/SACHET DE 100+CROCHET/Q50 | BU47: 100 | BV47: 38 | BZ47: =BV47*BY47 -> 0 | CA47: =BY47*BX47 -> 0 | CB47: =BV47/BU47 -> 0.38 | CC47: =BX47/BU47 -> 0 | CG47: 0 | CO47: ELASTIQUES | DH47: =DD47*DG47 -> 0 | DL47: ELASTIQUES | DM47: INTRA BUCCAUX
M48: EXTRA ORAUX/Q2500 | N48: 000.127 | O48: 2500 | P48: 82.57 | Q48: 0.25 | R48: =P48*0.75 -> 61.9275 | T48: =S48*P48 -> 0 | U48: =S48*R48 -> 0 | V48: =P48/O48 -> 0.033028 | W48: =R48/O48 -> 0.024771 | Y48: MEDIUM | Z48: 1000 | AA48: 14.01 | AF48: =AE48*AB48 -> 0 | AG48: =AE48*AD48 -> 0 | AH48: =AB48/AA48 -> 0 | AI48: =AD48/AA48 -> 0 | AJ48: G&H | AQ48: =AM48*AP48 -> 0 | BN48: =BJ48*BM48 -> 0 | CG48: 0 | DH48: =DD48*DG48 -> 0 | DM48: EXTRA BUCCAUX
M49: SANS LATEX/Q3000 | N49: 000.111LF | O49: 3000 | P49: 75.01 | Q49: 0.25 | R49: =P49*0.75 -> 56.2575 | T49: =S49*P49 -> 0 | U49: =S49*R49 -> 0 | V49: =P49/O49 -> 0.025003333 | W49: =R49/O49 -> 0.0187525 | Y49: HEAVY | Z49: 1000 | AA49: 14.01 | AF49: =AE49*AB49 -> 0 | AG49: =AE49*AD49 -> 0 | AH49: =AB49/AA49 -> 0 | AI49: =AD49/AA49 -> 0 | AJ49: G&H | AQ49: =AM49*AP49 -> 0 | BN49: =BJ49*BM49 -> 0 | CG49: 0 | DH49: =DD49*DG49 -> 0 | DM49: SANS LATEX
A50: FIL ELASTIQUE | X50: FIL ELASTIQUE | AQ50: =AM50*AP50 -> 0 | AU50: FIL ELASTIQUE | AV50: GRIS/0,6mm/8m | AW50: K6060.06 | AX50: 8 | AY50: 19.23 | AZ50: 0.35 | BA50: =AY50-(AY50*AZ50) -> 12.4995 | BC50: =BB50*AY50 -> 0 | BD50: =BA50*BB50 -> 0 | BE50: =AY50/AX50 -> 2.40375 | BF50: =BA50/AX50 -> 1.5624375 | BN50: =BJ50*BM50 -> 0 | BR50: FIL ELASTIQUE | BS50: GRISE/.030/15m | BT50: ETGY030 | BU50: 15 | BV50: 7.5 | BZ50: =BV50*BY50 -> 0 | CA50: =BY50*BX50 -> 0 | CB50: =BV50/BU50 -> 0.5 | CC50: =BX50/BU50 -> 0 | CD50: GRIS/.030/15m | CE50: OR0.640.2030 | CF50: 15 | CG50: 39.61152 | CI50: =CG50-(CG50*CH50) -> 39.61152 | CK50: =CJ50*CG50 -> 0 | CL50: =CJ50*CI50 -> 0 | CM50: =CG50/CF50 -> 2.640768 | CN50: =CI50/CF50 -> 2.640768 | CO50: FIL ELASTIQUE | CP50: GRIS/.030/7,5m | CQ50: J00389 | CR50: 7.5 | CS50: 25.415 | CT50: 0.25 | CU50: =CS50*75% -> 19.06125 | CV50: 2 | CW50: =CV50*CS50 -> 50.83 | CX50: =CV50*CU50 -> 38.1225 | CY50: =CS50/CR50 -> 3.3886667 | CZ50: =CU50/CR50 -> 2.5415 | DH50: =DD50*DG50 -> 0 | DL50: FIL ELASTIQUE | DM50: ULTRA THREAD/GRIS/.030 | DN50: 34.430.12
AQ51: =AM51*AP51 -> 0 | AV51: CLAIRE/0,6mm/8m | AW51: K6020.06 | AX51: 8 | AY51: 19.23 | AZ51: 0.35 | BA51: =AY51-(AY51*AZ51) -> 12.4995 | BC51: =BB51*AY51 -> 0 | BD51: =BA51*BB51 -> 0 | BE51: =AY51/AX51 -> 2.40375 | BF51: =BA51/AX51 -> 1.5624375 | BN51: =BJ51*BM51 -> 0 | BS51: CLAIR/.030/15m | BT51: ETCL030 | BU51: 15 | BV51: 7.5 | BZ51: =BV51*BY51 -> 0 | CA51: =BY51*BX51 -> 0 | CB51: =BV51/BU51 -> 0.5 | CC51: =BX51/BU51 -> 0 | CD51: CLAIR/.030/15m | CE51: OR0.640.2031 | CF51: 15 | CG51: 39.61152 | CI51: =CG51-(CG51*CH51) -> 39.61152 | CK51: =CJ51*CG51 -> 0 | CL51: =CJ51*CI51 -> 0 | CM51: =CG51/CF51 -> 2.640768 | CN51: =CI51/CF51 -> 2.640768 | CP51: CLAIR/.030/7,5m | CQ51: J00388 | CR51: 7.5 | CS51: 25.415 | CT51: 0.25 | CU51: =CS51*75% -> 19.06125 | CV51: 2 | CW51: =CV51*CS51 -> 50.83 | CX51: =CV51*CU51 -> 38.1225 | CY51: =CS51/CR51 -> 3.3886667 | CZ51: =CU51/CR51 -> 2.5415 | DH51: =DD51*DG51 -> 0 | DM51: ULTRA THREAD/BLANC/.030 | DN51: 34.430.11
A52: FORSUS | B52: KIT PATIENT | C52: 885.146 | D52: 1 | E52: 198.87 | F52: 0.35 | G52: =E52*65% -> 129.2655 | I52: =E52*H52 -> 0 | J52: =H52*G52 -> 0 | K52: =E52/D52 -> 198.87 | L52: =G52/D52 -> 129.2655 | X52: FORSUS | AQ52: =AM52*AP52 -> 0 | AU52: FORSUS | BN52: =BJ52*BM52 -> 0 | BR52: FORSUS | CG52: 0 | CO52: FORSUS | DH52: =DD52*DG52 -> 0 | DL52: FORSUS
A53: FRAISE A COLLE | X53: FRAISE A COLLE | AJ53: KOMET/TURBINE/LONGUES/8mm/Q5 | AK53: 226.433 | AL53: 5 | AM53: 56 | AP53: 2 | AQ53: =AM53*AP53 -> 112 | AS53: =AM53/AL53 -> 11.2 | AU53: FRAISE A COLLE | AV53: Q1 | AX53: 1 | AY53: 10.51 | AZ53: 0.25 | BA53: =AY53-(AY53*AZ53) -> 7.8825 | BC53: =BB53*AY53 -> 0 | BD53: =BA53*BB53 -> 0 | BE53: =AY53/AX53 -> 10.51 | BF53: =BA53/AX53 -> 7.8825 | BG53: FINITION/MAILLEFER/.014/LONGUE/Q5 | BH53: 5684.008 | BI53: 5 | BJ53: 44.05 | BM53: 2 | BN53: =BJ53*BM53 -> 88.1 | BP53: =BJ53/BI53 -> 8.81 | BR53: FRAISE A COLLE | CD53: Q5 | CE53: OR0.741.1171 | CF53: 5 | CG53: 4.43716 | CI53: =CG53-(CG53*CH53) -> 4.43716 | CK53: =CJ53*CG53 -> 0 | CL53: =CJ53*CI53 -> 0 | CM53: =CG53/CF53 -> 0.887432 | CN53: =CI53/CF53 -> 0.887432 | CO53: FRAISE A COLLE | DA53: HS/CYLINDRIQUE/012/Q10 | DB53: 100.5104 | DC53: 10 | DD53: 22.9 | DG53: 5 | DH53: =DD53*DG53 -> 114.5 | DI53: =DG53*DF53 -> 0 | DJ53: =DD53/DC53 -> 2.29 | DK53: =DF53/DC53 -> 0 | DL53: FRAISE A COLLE
AQ54: =AM54*AP54 -> 0 | BG54: SS WHITE/.012/Q10 | BH54: 1386.111 | BI54: 10 | BJ54: 20.5 | BM54: 2 | BN54: =BJ54*BM54 -> 41 | BP54: =BJ54/BI54 -> 2.05 | CG54: 0 | DH54: =DD54*DG54 -> 0
A55: FRAISE A METAUX | X55: FRAISE A METAUX | AJ55: SS WHITE/.012/4mm/Q10 | AK55: 226.879 | AL55: 10 | AM55: 45.3 | AP55: 1 | AQ55: =AM55*AP55 -> 45.3 | AS55: =AM55/AL55 -> 4.53 | AU55: FRAISE A METAUX | BG55: SS WHITE/PR2 TURBO/PREDATOR/Q10 | BH55: 8276.008 | BI55: 10 | BJ55: 42.8 | BM55: 1 | BN55: =BJ55*BM55 -> 42.8 | BP55: =BJ55/BI55 -> 4.28 | BR55: FRAISE A METAUX | BS55: TERMINATOR/Q5 | BT55: T.2 | BU55: 5 | BV55: 28 | BZ55: =BV55*BY55 -> 0 | CA55: =BY55*BX55 -> 0 | CB55: =BV55/BU55 -> 5.6 | CC55: =BX55/BU55 -> 0 | CG55: 0 | CO55: FRAISE A METAUX | DA55: KERR/Q5 | DB55: 880.3960 | DC55: 5 | DD55: 19.9 | DG55: 2 | DH55: =DD55*DG55 -> 39.8 | DI55: =DG55*DF55 -> 0 | DJ55: =DD55/DC55 -> 3.98 | DK55: =DF55/DC55 -> 0 | DL55: FRAISE A METAUX
A56: FRAISE A SURELEVATION | X56: FRAISE A SURELEVATION | AJ56: R&S/.014/SURTAILLE BOUT ROND/Q5 | AK56: 226.728 | AL56: 5 | AM56: 10.2 | AP56: 2 | AQ56: =AM56*AP56 -> 20.4 | AS56: =AM56/AL56 -> 2.04 | AU56: FRAISE A SURELEVATION | BG56: SURTAILLLE/BOUT PLAT/.012/Q10 | BH56: 7521.111 | BI56: 10 | BJ56: 20.5 | BM56: 2 | BN56: =BJ56*BM56 -> 41 | BP56: =BJ56/BI56 -> 2.05 | BR56: FRAISE A SURELEVATION | CG56: 0 | CO56: FRAISE A SURELEVATION | DA56: HS/CYLINDRIQUE ROND SURTAILLE/012/Q10 | DB56: 100.4372 | DC56: 10 | DD56: 24.6 | DG56: 1 | DH56: =DD56*DG56 -> 24.6 | DI56: =DG56*DF56 -> 0 | DJ56: =DD56/DC56 -> 2.46 | DK56: =DF56/DC56 -> 0 | DL56: FRAISE A SURELEVATION
A57: FRAISE A STRIPPING | X57: FRAISE A STRIPPING | AQ57: =AM57*AP57 -> 0 | AU57: FRAISE A STRIPPING | AV57: Q50 | AX57: 5 | AY57: 94.05 | AZ57: 0.25 | BA57: =AY57-(AY57*AZ57) -> 70.5375 | BC57: =BB57*AY57 -> 0 | BD57: =BA57*BB57 -> 0 | BE57: =AY57/AX57 -> 18.81 | BF57: =BA57/AX57 -> 14.1075 | BN57: =BJ57*BM57 -> 0 | BR57: FRAISE A STRIPPING | BS57: 30µ/Q5 | BT57: 8859.31.010 | BU57: 5 | BV57: 57 | BZ57: =BV57*BY57 -> 0 | CA57: =BY57*BX57 -> 0 | CB57: =BV57/BU57 -> 11.4 | CC57: =BX57/BU57 -> 0 | CG57: 0 | CO57: FRAISE A STRIPPING | DH57: =DD57*DG57 -> 0 | DL57: FRAISE A STRIPPING
A58: FRAISE DIAMANT | X58: FRAISE DIAMANT | AJ58: CYLINDRIQUE BOUT ROND/.014/19mm/Q5 | AK58: 2266.118 | AL58: 5 | AM58: 54 | AP58: 1 | AQ58: =AM58*AP58 -> 54 | AS58: =AM58/AL58 -> 10.8 | AU58: FRAISE DIAMANT | BG58: CYLINDRIQUE BOUT ROND XL/.018/VERTE/Q25 | BH58: 3663.191 | BI58: 25 | BJ58: 25 | BM58: 2 | BN58: =BJ58*BM58 -> 50 | BP58: =BJ58/BI58 -> 1 | BR58: FRAISE DIAMANT | CG58: 0 | CO58: FRAISE DIAMANT | DA58: HS/CYLINDRIQUE BOUT ROND LONGUE/018/VERTE/Q5 | DB58: 878.2895 | DC58: 5 | DD58: 25.5 | DG58: 5 | DH58: =DD58*DG58 -> 127.5 | DI58: =DG58*DF58 -> 0 | DJ58: =DD58/DC58 -> 5.1 | DK58: =DF58/DC58 -> 0 | DL58: FRAISE DIAMANT
AJ59: BOULE/.016/19mm/Q5 | AK59: 2266.005 | AL59: 5 | AM59: 31.7 | AP59: 1 | AQ59: =AM59*AP59 -> 31.7 | AS59: =AM59/AL59 -> 6.34 | BG59: BOULE/.018/VERTE/Q5 | BH59: 3834.191 | BI59: 5 | BJ59: 13.5 | BM59: 2 | BN59: =BJ59*BM59 -> 27 | BP59: =BJ59/BI59 -> 2.7 | CG59: 0 | DA59: HS/BOULE/018/VERTE/Q5 | DB59: 878.2733 | DC59: 5 | DD59: 27 | DG59: 1 | DH59: =DD59*DG59 -> 27 | DI59: =DG59*DF59 -> 0 | DJ59: =DD59/DC59 -> 5.4 | DK59: =DF59/DC59 -> 0
A60: GAINE POUR ARC | X60: GAINE POUR ARC | AQ60: =AM60*AP60 -> 0 | AU60: GAINE POUR ARC | AV60: TRANSPARENT/.027/3m | AW60: K6940.07 | AX60: 3 | AY60: 10.76 | AZ60: 0.35 | BA60: =AY60-(AY60*AZ60) -> 6.994 | BC60: =BB60*AY60 -> 0 | BD60: =BA60*BB60 -> 0 | BE60: =AY60/AX60 -> 3.5866667 | BF60: =BA60/AX60 -> 2.3313333 | BG60: CLAIR/.027/3m | BH60: 7788.172 | BI60: 3 | BJ60: 4.95 | BM60: 2 | BN60: =BJ60*BM60 -> 9.9 | BP60: =BJ60/BI60 -> 1.65 | BR60: GAINE POUR ARC | BS60: CLAIR/0,27mm/3m | BT60: ASPTC027 | BU60: 3 | BV60: 5.5 | BZ60: =BV60*BY60 -> 0 | CA60: =BY60*BX60 -> 0 | CB60: =BV60/BU60 -> 1.8333333 | CC60: =BX60/BU60 -> 0 | CD60: .028/CLAIRE/3m | CE60: AI0.640.0100 | CF60: 3 | CG60: 4.99928 | CI60: =CG60-(CG60*CH60) -> 4.99928 | CK60: =CJ60*CG60 -> 0 | CL60: =CJ60*CI60 -> 0 | CM60: =CG60/CF60 -> 1.6664267 | CN60: =CI60/CF60 -> 1.6664267 | CO60: GAINE POUR ARC | DH60: =DD60*DG60 -> 0 | DL60: GAINE POUR ARC | DM60: .022 BLANC | DN60: 97.700.10
AQ61: =AM61*AP61 -> 0 | BG61: GRISE/.027/3m | BH61: 7789.172 | BI61: 3 | BJ61: 4.95 | BM61: 2 | BN61: =BJ61*BM61 -> 9.9 | BP61: =BJ61/BI61 -> 1.65 | BS61: GRISE/0,27mm/3m | BT61: ASPTG027 | BU61: 3 | BV61: 5.5 | BZ61: =BV61*BY61 -> 0 | CA61: =BY61*BX61 -> 0 | CB61: =BV61/BU61 -> 1.8333333 | CC61: =BX61/BU61 -> 0 | CD61: .028/GRISE/3m | CE61: TP0.100.0238 | CF61: 3 | CG61: 7.5348 | CI61: =CG61-(CG61*CH61) -> 7.5348 | CK61: =CJ61*CG61 -> 0 | CL61: =CJ61*CI61 -> 0 | CM61: =CG61/CF61 -> 2.5116 | CN61: =CI61/CF61 -> 2.5116 | DH61: =DD61*DG61 -> 0 | DM61: .022 GRIS | DN61: 97.710.10
A62: GANTS | X62: GANTS | AJ62: LATEX/Q100 | AK62: 225.432 | AL62: 100 | AM62: 6.7 | AP62: 10 | AQ62: =AM62*AP62 -> 67 | AS62: =AM62/AL62 -> 0.067 | AU62: GANTS | BG62: LATEX/CYBERTECH/Q100 | BH62: 3120.122 | BI62: 100 | BJ62: 6.35 | BM62: 10 | BN62: =BJ62*BM62 -> 63.5 | BP62: =BJ62/BI62 -> 0.0635 | BR62: GANTS | CG62: 0 | CO62: GANTS | DA62: CYBERTECH/LATEX/SUPER SOFT ALOE/Q100 | DB62: 900.1925 | DC62: 100 | DD62: 8.95 | DG62: 10 | DH62: =DD62*DG62 -> 89.5 | DI62: =DG62*DF62 -> 0 | DJ62: =DD62/DC62 -> 0.0895 | DK62: =DF62/DC62 -> 0 | DL62: GANTS
AJ63: VINYL/Q100 | AK63: 225.859 | AL63: 100 | AM63: 6.9 | AP63: 2 | AQ63: =AM63*AP63 -> 13.8 | AS63: =AM63/AL63 -> 0.069 | BG63: VINYL/CYBER GLOVES/Q100 | BH63: 4957.122 | BI63: 100 | BJ63: 7.9 | BM63: 2 | BN63: =BJ63*BM63 -> 15.8 | BP63: =BJ63/BI63 -> 0.079 | CG63: 0 | DA63: CYBERTECH/VINYLE/Q100 | DB63: 900.2735 | DC63: 100 | DD63: 8.1 | DG63: 2 | DH63: =DD63*DG63 -> 16.2 | DI63: =DG63*DF63 -> 0 | DJ63: =DD63/DC63 -> 0.081 | DK63: =DF63/DC63 -> 0
A64: GOBELET | X64: GOBELET | AJ64: CROSSTEX/Q1000/ARGENTE | AK64: 225.144 | AL64: 1000 | AM64: 33.6 | AP64: 1 | AQ64: =AM64*AP64 -> 33.6 | AS64: =AM64/AL64 -> 0.0336 | AU64: GOBELET | BG64: BLANC/Q3000 | BH64: 1922.003 | BI64: 3000 | BJ64: 55.4 | BM64: 1 | BN64: =BJ64*BM64 -> 55.4 | BP64: =BJ64/BI64 -> 0.018466667 | BR64: GOBELET | CG64: 0 | CO64: GOBELET | DA64: HS/MIXTE COULEUR/PLASTIQUE TRANSPARENT/Q3000 | DB64: 900.3862 | DC64: 3000 | DD64: 59 | DG64: 1 | DH64: =DD64*DG64 -> 59 | DI64: =DG64*DF64 -> 0 | DJ64: =DD64/DC64 -> 0.019666667 | DK64: =DF64/DC64 -> 0 | DL64: GOBELET
A65: INTERIEUR TIROIR | X65: INTERIEUR TIROIR | AQ65: =AM65*AP65 -> 0 | AU65: INTERIEUR TIROIR | BJ65: 27 | BN65: =BJ65*BM65 -> 0 | BR65: INTERIEUR TIROIR | CG65: 0 | CO65: INTERIEUR TIROIR | DH65: =DD65*DG65 -> 0 | DL65: INTERIEUR TIROIR
AQ66: =AM66*AP66 -> 0 | BJ66: 52 | BN66: =BJ66*BM66 -> 0 | CG66: 0 | DH66: =DD66*DG66 -> 0
AQ67: =AM67*AP67 -> 0 | BN67: =BJ67*BM67 -> 0 | CG67: 0 | DH67: =DD67*DG67 -> 0
AQ68: =AM68*AP68 -> 0 | BN68: =BJ68*BM68 -> 0 | CG68: 0 | DH68: =DD68*DG68 -> 0
AQ69: =AM69*AP69 -> 0 | BN69: =BJ69*BM69 -> 0 | CG69: 0 | DH69: =DD69*DG69 -> 0
AQ70: =AM70*AP70 -> 0 | BN70: =BJ70*BM70 -> 0 | CG70: 0 | DH70: =DD70*DG70 -> 0
A71: KOBAYASHI METAL | B71: .014/Q(100) | C71: 390.145 | D71: 100 | E71: 33 | F71: 0.5 | G71: =E71*50% -> 16.5 | I71: =E71*H71 -> 0 | J71: =H71*G71 -> 0 | K71: =E71/D71 -> 0.33 | L71: =G71/D71 -> 0.165 | M71: .014/Q100 | N71: 855.636 | O71: 100 | P71: 31.3 | Q71: 0.25 | R71: =P71*0.75 -> 23.475 | T71: =S71*P71 -> 0 | U71: =S71*R71 -> 0 | V71: =P71/O71 -> 0.313 | W71: =R71/O71 -> 0.23475 | X71: KOBAYASHI METAL | Y71: .014/Q100 | Z71: 312.1007 | AA71: 100 | AB71: 74.44 | AF71: =AE71*AB71 -> 0 | AG71: =AE71*AD71 -> 0 | AH71: =AB71/AA71 -> 0.7444 | AI71: =AD71/AA71 -> 0 | AJ71: ORTHO TECHNOLOGIE/.012/Q100 | AK71: 2262.050 | AL71: 100 | AM71: 11 | AP71: 1 | AQ71: =AM71*AP71 -> 11 | AS71: =AM71/AL71 -> 0.11 | AU71: KOBAYASHI METAL | AV71: LONGUE/.014/Q100 | AW71: K4610.36 | AX71: 100 | AY71: 37.42 | AZ71: 0.35 | BA71: =AY71-(AY71*AZ71) -> 24.323 | BC71: =BB71*AY71 -> 0 | BD71: =BA71*BB71 -> 0 | BE71: =AY71/AX71 -> 0.3742 | BF71: =BA71/AX71 -> 0.24323 | BG71: MASEL/.012/Q100 | BH71: 7616.172 | BI71: 100 | BJ71: 22 | BM71: 1 | BN71: =BJ71*BM71 -> 22 | BP71: =BJ71/BI71 -> 0.22 | BR71: KOBAYASHI METAL | BS71: .014/HTE QUALITE/Q100 | BT71: SKH014 | BU71: 100 | BV71: 31 | BZ71: =BV71*BY71 -> 0 | CA71: =BY71*BX71 -> 0 | CB71: =BV71/BU71 -> 0.31 | CC71: =BX71/BU71 -> 0 | CD71: .014/Q100 | CE71: OR0.271.0001 | CF71: 100 | CG71: 61.7734 | CI71: =CG71-(CG71*CH71) -> 61.7734 | CK71: =CJ71*CG71 -> 0 | CL71: =CJ71*CI71 -> 0 | CM71: =CG71/CF71 -> 0.617734 | CN71: =CI71/CF71 -> 0.617734 | CO71: KOBAYASHI METAL | CP71: .014/Q100 | CQ71: ECM0825 | CR71: 100 | CS71: 34.8036 | CT71: 0.25 | CU71: =CS71*75% -> 26.1027 | CV71: 1 | CW71: =CV71*CS71 -> 34.8036 | CX71: =CV71*CU71 -> 26.1027 | CY71: =CS71/CR71 -> 0.348036 | CZ71: =CU71/CR71 -> 0.261027 | DH71: =DD71*DG71 -> 0 | DL71: KOBAYASHI METAL | DM71: .014 | DN71: 03.200.14
A72: KOBAYASHI TEFLON | X72: KOBAYASHI TEFLON | Y72: .014/Q100 | Z72: 312.1011 | AA72: 100 | AB72: 103.5 | AF72: =AE72*AB72 -> 0 | AG72: =AE72*AD72 -> 0 | AH72: =AB72/AA72 -> 1.035 | AI72: =AD72/AA72 -> 0 | AQ72: =AM72*AP72 -> 0 | AU72: KOBAYASHI TEFLON | AV72: COURTE/.014/Q100 | AW72: K4680.36 | AX72: 100 | AY72: 144.35 | AZ72: 0.35 | BA72: =AY72-(AY72*AZ72) -> 93.8275 | BC72: =BB72*AY72 -> 0 | BD72: =BA72*BB72 -> 0 | BE72: =AY72/AX72 -> 1.4435 | BF72: =BA72/AX72 -> 0.938275 | BN72: =BJ72*BM72 -> 0 | BR72: KOBAYASHI TEFLON | BS72: .012/Q100 | BT72: 1001.512 | BU72: 100 | BV72: 96 | BZ72: =BV72*BY72 -> 0 | CA72: =BY72*BX72 -> 0 | CB72: =BV72/BU72 -> 0.96 | CC72: =BX72/BU72 -> 0 | CG72: 0 | CO72: KOBAYASHI TEFLON | DH72: =DD72*DG72 -> 0 | DL72: KOBAYASHI TEFLON
A73: LIGATURES ELASTOMERIQUE | X73: LIGATURES ELASTOMERIQUE | Y73: GRISE/Q1000 | Z73: 659.0012 | AA73: 1000 | AB73: 44.34 | AF73: =AE73*AB73 -> 0 | AG73: =AE73*AD73 -> 0 | AH73: =AB73/AA73 -> 0.04434 | AI73: =AD73/AA73 -> 0 | AJ73: DENTSPLY/GRISE/Q990 | AK73: 2261.609 | AL73: 990 | AM73: 12.9 | AP73: 1 | AQ73: =AM73*AP73 -> 12.9 | AS73: =AM73/AL73 -> 0.013030303 | AU73: LIGATURES ELASTOMERIQUE | BN73: =BJ73*BM73 -> 0 | BR73: LIGATURES ELASTOMERIQUE | BS73: GRISE/Q1040 | BT73: TT.5 | BU73: 1040 | BV73: 15.5 | BZ73: =BV73*BY73 -> 0 | CA73: =BY73*BX73 -> 0 | CB73: =BV73/BU73 -> 0.014903846 | CC73: =BX73/BU73 -> 0 | CD73: Q1000 | CE73: OR0640.1240 | CF73: 1000 | CG73: 79.1752 | CI73: =CG73-(CG73*CH73) -> 79.1752 | CK73: =CJ73*CG73 -> 0 | CL73: =CJ73*CI73 -> 0 | CM73: =CG73/CF73 -> 0.0791752 | CN73: =CI73/CF73 -> 0.0791752 | CO73: LIGATURES ELASTOMERIQUE | CP73: GRISE/Q990 | CQ73: J00221 | CR73: 990 | CS73: 33.6674 | CT73: 0.25 | CU73: =CS73*75% -> 25.25055 | CV73: 1 | CW73: =CV73*CS73 -> 33.6674 | CX73: =CV73*CU73 -> 25.25055 | CY73: =CS73/CR73 -> 0.034007475 | CZ73: =CU73/CR73 -> 0.025505606 | DH73: =DD73*DG73 -> 0 | DL73: LIGATURES ELASTOMERIQUE
A74: LIGATURE COURTE METAL | M74: .010/Q1000 | N74: 855.628 | O74: 1000 | P74: 57.58 | Q74: 0.25 | R74: =P74*0.75 -> 43.185 | T74: =S74*P74 -> 0 | U74: =S74*R74 -> 0 | V74: =P74/O74 -> 0.05758 | W74: =R74/O74 -> 0.043185 | X74: LIGATURE COURTE METAL | Y74: .010/Q1000 | Z74: 312.1005 | AA74: 1000 | AB74: 74.44 | AF74: =AE74*AB74 -> 0 | AG74: =AE74*AD74 -> 0 | AH74: =AB74/AA74 -> 0.07444 | AI74: =AD74/AA74 -> 0 | AJ74: G&H/.010/Q500 | AK74: 2262.005 | AL74: 500 | AM74: 17.9 | AP74: 1 | AQ74: =AM74*AP74 -> 17.9 | AS74: =AM74/AL74 -> 0.0358 | AU74: LIGATURE COURTE METAL | AV74: .010/Q1000 | AW74: K4430.25 | AX74: 1000 | AY74: 64.85 | AZ74: 0.35 | BA74: =AY74-(AY74*AZ74) -> 42.1525 | BC74: =BB74*AY74 -> 0 | BD74: =BA74*BB74 -> 0 | BE74: =AY74/AX74 -> 0.06485 | BF74: =BA74/AX74 -> 0.0421525 | BG74: MASEL/.010/Q1000 | BH74: 7615.172 | BI74: 1000 | BJ74: 32.5 | BM74: 1 | BN74: =BJ74*BM74 -> 32.5 | BP74: =BJ74/BI74 -> 0.0325 | BR74: LIGATURE COURTE METAL | BS74: .010/HTE QUALITE/Q100 | BT74: 12022 | BU74: 100 | BV74: 45 | BZ74: =BV74*BY74 -> 0 | CA74: =BY74*BX74 -> 0 | CB74: =BV74/BU74 -> 0.45 | CC74: =BX74/BU74 -> 0 | CD74: .010/Q1000 | CE74: OR0.270.0001 | CF74: 1000 | CG74: 35.54512 | CI74: =CG74-(CG74*CH74) -> 35.54512 | CK74: =CJ74*CG74 -> 0 | CL74: =CJ74*CI74 -> 0 | CM74: =CG74/CF74 -> 0.03554512 | CN74: =CI74/CF74 -> 0.03554512 | CO74: LIGATURE COURTE METAL | CP74: .010/Q500 | CQ74: ECE0707 | CR74: 500 | CS74: 30.2588 | CT74: 0.25 | CU74: =CS74*75% -> 22.6941 | CV74: 1 | CW74: =CV74*CS74 -> 30.2588 | CX74: =CV74*CU74 -> 22.6941 | CY74: =CS74/CR74 -> 0.0605176 | CZ74: =CU74/CR74 -> 0.0453882 | DH74: =DD74*DG74 -> 0 | DL74: LIGATURE COURTE METAL
A75: LIGATURE COURTE TEFLON | X75: LIGATURE COURTE TEFLON | Y75: .012/Q100 | Z75: 312.1009 | AA75: 100 | AB75: 74.44 | AF75: =AE75*AB75 -> 0 | AG75: =AE75*AD75 -> 0 | AH75: =AB75/AA75 -> 0.7444 | AI75: =AD75/AA75 -> 0 | AJ75: ORTHO TECHNOLOGIE/.012/Q100 | AK75: 2261.030 | AL75: 100 | AM75: 38 | AP75: 1 | AQ75: =AM75*AP75 -> 38 | AS75: =AM75/AL75 -> 0.38 | AU75: LIGATURE COURTE TEFLON | AV75: .012/Q100 | AW75: K4480.30 | AX75: 100 | AY75: 64.85 | AZ75: 0.35 | BA75: =AY75-(AY75*AZ75) -> 42.1525 | BC75: =BB75*AY75 -> 0 | BD75: =BA75*BB75 -> 0 | BE75: =AY75/AX75 -> 0.6485 | BF75: =BA75/AX75 -> 0.421525 | BG75: MASEL/.010/Q1000 | BH75: 7618.172 | BI75: 1000 | BJ75: 24 | BM75: 1 | BN75: =BJ75*BM75 -> 24 | BP75: =BJ75/BI75 -> 0.024 | BR75: LIGATURE COURTE TEFLON | BS75: .012/Q100 | BT75: 0975.55 | BU75: 100 | BV75: 39 | BZ75: =BV75*BY75 -> 0 | CA75: =BY75*BX75 -> 0 | CB75: =BV75/BU75 -> 0.39 | CC75: =BX75/BU75 -> 0 | CG75: 0 | CO75: LIGATURE COURTE TEFLON | DH75: =DD75*DG75 -> 0 | DL75: LIGATURE COURTE TEFLON
A76: LIGATURE LONGUE METAL | M76: .012/Q1000 | N76: 855.623 | O76: 1000 | P76: 31.3 | Q76: 0.25 | R76: =P76*0.75 -> 23.475 | T76: =S76*P76 -> 0 | U76: =S76*R76 -> 0 | V76: =P76/O76 -> 0.0313 | W76: =R76/O76 -> 0.023475 | X76: LIGATURE LONGUE METAL | Y76: .010/Q1000 | Z76: 312.1002 | AA76: 1000 | AB76: 55.27 | AF76: =AE76*AB76 -> 0 | AG76: =AE76*AD76 -> 0 | AH76: =AB76/AA76 -> 0.05527 | AI76: =AD76/AA76 -> 0 | AJ76: G&H/.010/Q1000 | AK76: 2262.002 | AL76: 1000 | AM76: 17.9 | AP76: 1 | AQ76: =AM76*AP76 -> 17.9 | AS76: =AM76/AL76 -> 0.0179 | AU76: LIGATURE LONGUE METAL | AV76: .012/Q1000 | AW76: K4210.30 | AX76: 1000 | AY76: 46.78 | AZ76: 0.35 | BA76: =AY76-(AY76*AZ76) -> 30.407 | BC76: =BB76*AY76 -> 0 | BD76: =BA76*BB76 -> 0 | BE76: =AY76/AX76 -> 0.04678 | BF76: =BA76/AX76 -> 0.030407 | BG76: MASEL/.010/Q1000 | BH76: 7609.172 | BI76: 1000 | BJ76: 17.8 | BM76: 1 | BN76: =BJ76*BM76 -> 17.8 | BP76: =BJ76/BI76 -> 0.0178 | BR76: LIGATURE LONGUE METAL | BS76: .010/Q1000 | BT76: LT010 | BU76: 1000 | BV76: 23 | BZ76: =BV76*BY76 -> 0 | CA76: =BY76*BX76 -> 0 | CB76: =BV76/BU76 -> 0.023 | CC76: =BX76/BU76 -> 0 | CD76: .012/Q1000 | CE76: OR0.270.0012 | CF76: 1000 | CG76: 35.54512 | CI76: =CG76-(CG76*CH76) -> 35.54512 | CK76: =CJ76*CG76 -> 0 | CL76: =CJ76*CI76 -> 0 | CM76: =CG76/CF76 -> 0.03554512 | CN76: =CI76/CF76 -> 0.03554512 | CO76: LIGATURE LONGUE METAL | CP76: .010/Q1000 | CQ76: E00702 | CR76: 1000 | CS76: 44.4314 | CT76: 0.25 | CU76: =CS76*75% -> 33.32355 | CV76: 1 | CW76: =CV76*CS76 -> 44.4314 | CX76: =CV76*CU76 -> 33.32355 | CY76: =CS76/CR76 -> 0.0444314 | CZ76: =CU76/CR76 -> 0.03332355 | DH76: =DD76*DG76 -> 0 | DL76: LIGATURE LONGUE METAL | DM76: .012 | DN76: 47.012.05
A77: LIGATURE LONGUE TEFLON | X77: LIGATURE LONGUE TEFLON | Y77: .012/Q100 | Z77: 312.1010 | AA77: 100 | AB77: 74.44 | AF77: =AE77*AB77 -> 0 | AG77: =AE77*AD77 -> 0 | AH77: =AB77/AA77 -> 0.7444 | AI77: =AD77/AA77 -> 0 | AJ77: ORTHO TECHNOLOGIE/.012/Q100 | AK77: 2261.031 | AL77: 100 | AM77: 27 | AP77: 1 | AQ77: =AM77*AP77 -> 27 | AS77: =AM77/AL77 -> 0.27 | AU77: LIGATURE LONGUE TEFLON | AV77: .012/Q100 | AW77: K4280.30 | AX77: 100 | AY77: 51.91 | AZ77: 0.35 | BA77: =AY77-(AY77*AZ77) -> 33.7415 | BC77: =BB77*AY77 -> 0 | BD77: =BA77*BB77 -> 0 | BE77: =AY77/AX77 -> 0.5191 | BF77: =BA77/AX77 -> 0.337415 | BG77: MASEL/.012/Q100 | BH77: 7601.172 | BI77: 100 | BJ77: 20 | BM77: 1 | BN77: =BJ77*BM77 -> 20 | BP77: =BJ77/BI77 -> 0.2 | BR77: LIGATURE LONGUE TEFLON | BS77: .012/Q100 | BT77: 907.102 | BU77: 100 | BV77: 32 | BZ77: =BV77*BY77 -> 0 | CA77: =BY77*BX77 -> 0 | CB77: =BV77/BU77 -> 0.32 | CC77: =BX77/BU77 -> 0 | CD77: .012/Q100 | CE77: OR0.272.0012 | CF77: 100 | CG77: 28.78772 | CI77: =CG77-(CG77*CH77) -> 28.78772 | CK77: =CJ77*CG77 -> 0 | CL77: =CJ77*CI77 -> 0 | CM77: =CG77/CF77 -> 0.2878772 | CN77: =CI77/CF77 -> 0.2878772 | CO77: LIGATURE LONGUE TEFLON | DH77: =DD77*DG77 -> 0 | DL77: LIGATURE LONGUE TEFLON
A78: LAMPE A POLYMERISER | B78: ORTHOLUX LUMINOUS | C78: 704.450 | D78: 1 | E78: 1800 | F78: 0.3 | G78: =E78*70% -> 1260 | I78: =E78*H78 -> 0 | J78: =H78*G78 -> 0 | K78: =E78/D78 -> 1800 | L78: =G78/D78 -> 1260 | X78: LAMPE A POLYMERISER | Y78: SATELEC ORTHO 2 OFFERT A 2200€ ACHAT | AB78: 1050 | AF78: =AE78*AB78 -> 0 | AG78: =AE78*AD78 -> 0 | AH78: =AB78/AA78 -> #DIV/0! | AI78: =AD78/AA78 -> #DIV/0! | AQ78: =AM78*AP78 -> 0 | AU78: LAMPE A POLYMERISER | AW78: IV-TU.TU7 | AX78: 1 | AY78: 869.44 | AZ78: 0.25 | BA78: =AY78-(AY78*AZ78) -> 652.08 | BC78: =BB78*AY78 -> 0 | BD78: =BA78*BB78 -> 0 | BE78: =AY78/AX78 -> 869.44 | BF78: =BA78/AX78 -> 652.08 | BN78: =BJ78*BM78 -> 0 | BR78: LAMPE A POLYMERISER | CE78: KE09100770 | CF78: 1 | CG78: 1101.6236 | CI78: =CG78-(CG78*CH78) -> 1101.6236 | CK78: =CJ78*CG78 -> 0 | CL78: =CJ78*CI78 -> 0 | CM78: =CG78/CF78 -> 1101.6236 | CN78: =CI78/CF78 -> 1101.6236 | CO78: LAMPE A POLYMERISER | DH78: =DD78*DG78 -> 0 | DL78: LAMPE A POLYMERISER
A79: MASQUE DELAIRE | X79: MASQUE DELAIRE | AJ79: CLASSIQUE/PETIT | AK79: 2265.035 | AL79: 1 | AM79: 69 | AP79: 1 | AQ79: =AM79*AP79 -> 69 | AS79: =AM79/AL79 -> 69 | AU79: MASQUE DELAIRE | AV79: PETIT/BEIGE | AW79: M0774.01 | AX79: 1 | AY79: 51.76 | AZ79: 0.35 | BA79: =AY79-(AY79*AZ79) -> 33.644 | BC79: =BB79*AY79 -> 0 | BD79: =BA79*BB79 -> 0 | BE79: =AY79/AX79 -> 51.76 | BF79: =BA79/AX79 -> 33.644 | BG79: CLASSIQUE/PETIT/BLANC | BH79: 8289.172 | BI79: 1 | BJ79: 67 | BM79: 1 | BN79: =BJ79*BM79 -> 67 | BP79: =BJ79/BI79 -> 67 | BR79: MASQUE DELAIRE | BS79: CLASSIQUE/PETIT/BLANC | BT79: 05.002 | BU79: 1 | BV79: 52 | BZ79: =BV79*BY79 -> 0 | CA79: =BY79*BX79 -> 0 | CB79: =BV79/BU79 -> 52 | CC79: =BX79/BU79 -> 0 | CG79: 0 | CO79: MASQUE DELAIRE | DH79: =DD79*DG79 -> 0 | DL79: MASQUE DELAIRE
AJ80: CLASSIQUE/GRAND | AK80: 2265.034 | AL80: 1 | AM80: 69 | AP80: 1 | AQ80: =AM80*AP80 -> 69 | AS80: =AM80/AL80 -> 69 | AV80: GRAND/BEIGE | AW80: M0776.01 | AX80: 1 | AY80: 51.76 | AZ80: 0.35 | BA80: =AY80-(AY80*AZ80) -> 33.644 | BC80: =BB80*AY80 -> 0 | BD80: =BA80*BB80 -> 0 | BE80: =AY80/AX80 -> 51.76 | BF80: =BA80/AX80 -> 33.644 | BG80: CLASSIQUE/GRAND/BLANC | BH80: 8280.172 | BI80: 1 | BJ80: 67 | BM80: 1 | BN80: =BJ80*BM80 -> 67 | BP80: =BJ80/BI80 -> 67 | BS80: CLASSIQUE/GRAND/BLANC | BT80: 05.001 | BU80: 1 | BV80: 52 | BZ80: =BV80*BY80 -> 0 | CA80: =BY80*BX80 -> 0 | CB80: =BV80/BU80 -> 52 | CC80: =BX80/BU80 -> 0 | CG80: 0 | DH80: =DD80*DG80 -> 0
AJ81: 1 TIGE/TRANSPARENT | AK81: 2285.001 | AL81: 1 | AM81: 55 | AP81: 1 | AQ81: =AM81*AP81 -> 55 | AS81: =AM81/AL81 -> 55 | AV81: 1 TIGE/VERTICAL/BLEU | AW81: M0772.01 | AX81: 1 | BA81: =AY81-(AY81*AZ81) -> 0 | BC81: =BB81*AY81 -> 0 | BD81: =BA81*BB81 -> 0 | BE81: =AY81/AX81 -> 0 | BF81: =BA81/AX81 -> 0 | BG81: 1 TIGE/BLANC | BH81: 8293.172 | BI81: 1 | BJ81: 50 | BM81: 1 | BN81: =BJ81*BM81 -> 50 | BP81: =BJ81/BI81 -> 50 | BS81: TIGE/AMERICAIN | BT81: 550.406 | BU81: 1 | BV81: 56 | BZ81: =BV81*BY81 -> 0 | CA81: =BY81*BX81 -> 0 | CB81: =BV81/BU81 -> 56 | CC81: =BX81/BU81 -> 0 | CD81: 1 TIGE/BLEU | CE81: OR0.716.0001 | CF81: 1 | CG81: 173.94624 | CI81: =CG81-(CG81*CH81) -> 173.94624 | CK81: =CJ81*CG81 -> 0 | CL81: =CJ81*CI81 -> 0 | CM81: =CG81/CF81 -> 173.94624 | CN81: =CI81/CF81 -> 173.94624 | DH81: =DD81*DG81 -> 0 | DN81: 17.100.20
A82: MASQUE PROTECTION PAPIER | X82: MASQUE PROTECTION PAPIER | AJ82: BLANC/Q50 | AK82: 225.714 | AL82: 50 | AM82: 8.6 | AP82: 5 | AQ82: =AM82*AP82 -> 43 | AS82: =AM82/AL82 -> 0.172 | AU82: MASQUE PROTECTION PAPIER | BG82: CYBERTECH/Q50 | BH82: 4907.122 | BI82: 50 | BJ82: 8.95 | BM82: 6 | BN82: =BJ82*BM82 -> 53.7 | BP82: =BJ82/BI82 -> 0.179 | BR82: MASQUE PROTECTION PAPIER | BS82: BLEU/Q50 | BT82: 10407B | BU82: 50 | BV82: 13 | BZ82: =BV82*BY82 -> 0 | CA82: =BY82*BX82 -> 0 | CB82: =BV82/BU82 -> 0.26 | CC82: =BX82/BU82 -> 0 | CG82: 0 | CO82: MASQUE PROTECTION PAPIER | DA82: CYBERTECH/PLUSIEUR COULEUR/Q50 | DB82: 900.2782 | DC82: 50 | DD82: 8.7 | DG82: 6 | DH82: =DD82*DG82 -> 52.2 | DI82: =DG82*DF82 -> 0 | DJ82: =DD82/DC82 -> 0.174 | DK82: =DF82/DC82 -> 0 | DL82: MASQUE PROTECTION PAPIER
A83: MICROBRUSH | X83: MICROBRUSH | AJ83: REGULAR+DISTRIBUTEUR/Q400 | AK83: 225.440 | AL83: 400 | AM83: 49.5 | AP83: 1 | AQ83: =AM83*AP83 -> 49.5 | AS83: =AM83/AL83 -> 0.12375 | AU83: MICROBRUSH | BG83: KIT REGULAR ASSORTIMENT/Q400 | BH83: 5422.004 | BI83: 400 | BJ83: 47 | BM83: 1 | BN83: =BJ83*BM83 -> 47 | BP83: =BJ83/BI83 -> 0.1175 | BR83: MICROBRUSH | BS83: Q400+DISTRIBUTEUR | BT83: PR400.KIT | BU83: 400 | BV83: 45 | BZ83: =BV83*BY83 -> 0 | CA83: =BY83*BX83 -> 0 | CB83: =BV83/BU83 -> 0.1125 | CC83: =BX83/BU83 -> 0 | CG83: 0 | CO83: MICROBRUSH | DA83: ELSODENT/CLASSIQUE/4X100+DISTRIBUTEUR | DB83: 891.2202 | DC83: 400 | DD83: 43.2 | DG83: 1 | DH83: =DD83*DG83 -> 43.2 | DI83: =DG83*DF83 -> 0 | DJ83: =DD83/DC83 -> 0.108 | DK83: =DF83/DC83 -> 0 | DL83: MICROBRUSH
B84: Q(100) | C84: 712.092 | D84: 100 | E84: 22.5 | F84: 0.3 | G84: =E84*70% -> 15.75 | I84: =E84*H84 -> 0 | J84: =H84*G84 -> 0 | K84: =E84/D84 -> 0.225 | L84: =G84/D84 -> 0.1575 | M84: Q(400) | N84: 001.914 | O84: 400 | P84: 94.27 | Q84: 0.25 | R84: =P84*0.75 -> 70.7025 | T84: =S84*P84 -> 0 | U84: =S84*R84 -> 0 | V84: =P84/O84 -> 0.235675 | W84: =R84/O84 -> 0.17675625 | AJ84: REGULAR/RECHARGE/Q400 | AK84: 225.740 | AL84: 400 | AM84: 42.7 | AP84: 0 | AQ84: =AM84*AP84 -> 0 | AS84: =AM84/AL84 -> 0.10675 | BG84: REGULAR/RECHARGE/Q400 | BH84: 5424.004 | BI84: 400 | BJ84: 45 | BM84: 0 | BN84: =BJ84*BM84 -> 0 | BP84: =BJ84/BI84 -> 0.1125 | BS84: RECHARGE/Q400 | BT84: MRA400 | BU84: 400 | BV84: 33 | BZ84: =BV84*BY84 -> 0 | CA84: =BY84*BX84 -> 0 | CB84: =BV84/BU84 -> 0.0825 | CC84: =BX84/BU84 -> 0 | CG84: 0 | DH84: =DD84*DG84 -> 0 | DM84: Q(50) | DN84: 17.000.25
A85: MINIMOLD | X85: MINIMOLD | AJ85: KIT INTRODUCTION (3 DE CHAQUE) | AK85: 2265.800 | AL85: 1 | AM85: 175 | AP85: 1 | AQ85: =AM85*AP85 -> 175 | AS85: =AM85/AL85 -> 175 | AU85: MINIMOLD | AV85: KIT/3 DE CHAQUE | AW85: OF.MOLD.800 | AX85: 1 | AY85: 224.35 | AZ85: 0.25 | BA85: =AY85-(AY85*AZ85) -> 168.2625 | BC85: =BB85*AY85 -> 0 | BD85: =BA85*BB85 -> 0 | BE85: =AY85/AX85 -> 224.35 | BF85: =BA85/AX85 -> 168.2625 | BG85: KIT INTRODUCTION/3 DE CHAQUE | BH85: 9369.172 | BI85: 1 | BJ85: 180 | BM85: 1 | BN85: =BJ85*BM85 -> 180 | BP85: =BJ85/BI85 -> 180 | BR85: MINIMOLD | BS85: KIT DEPART(4 DE CHAQUE)/Q24 | BT85: 2045 | BU85: 1 | BV85: 182 | BZ85: =BV85*BY85 -> 0 | CA85: =BY85*BX85 -> 0 | CB85: =BV85/BU85 -> 182 | CC85: =BX85/BU85 -> 0 | CG85: 0 | CO85: MINIMOLD | DH85: =DD85*DG85 -> 0 | DL85: MINIMOLD | DM85: KIT | DN85: ISMMASSTK
AQ86: =AM86*AP86 -> 0 | BN86: =BJ86*BM86 -> 0 | CD86: KIT DE 10 | CE86: OA0.700.0004 | CF86: 10 | CG86: 48.71308 | CI86: =CG86-(CG86*CH86) -> 48.71308 | CK86: =CJ86*CG86 -> 0 | CL86: =CJ86*CI86 -> 0 | CM86: =CG86/CF86 -> 4.871308 | CN86: =CI86/CF86 -> 4.871308 | DH86: =DD86*DG86 -> 0 | DM86: KIT DE 10 | DN86: ISMMBTNK
A87: MIROIRS PHOTO | N87: 861.095 | O87: 1 | P87: 86.85 | Q87: 0.25 | R87: =P87*0.75 -> 65.1375 | T87: =S87*P87 -> 0 | U87: =S87*R87 -> 0 | V87: =P87/O87 -> 86.85 | W87: =R87/O87 -> 65.1375 | X87: MIROIRS PHOTO | AJ87: ADULTE | AK87: 2215.582 | AL87: 1 | AM87: 62.5 | AP87: 1 | AQ87: =AM87*AP87 -> 62.5 | AS87: =AM87/AL87 -> 62.5 | AU87: MIROIRS PHOTO | AV87: ADULTE | AW87: PR.MZP512 | AX87: 1 | AY87: 50.83 | AZ87: 0.25 | BA87: =AY87-(AY87*AZ87) -> 38.1225 | BC87: =BB87*AY87 -> 0 | BD87: =BA87*BB87 -> 0 | BE87: =AY87/AX87 -> 50.83 | BF87: =BA87/AX87 -> 38.1225 | BG87: ADULTE | BH87: 3569.090 | BI87: 1 | BJ87: 58 | BM87: 1 | BN87: =BJ87*BM87 -> 58 | BP87: =BJ87/BI87 -> 58 | BR87: MIROIRS PHOTO | BS87: ADULTE | BT87: MZP512 | BU87: 1 | BV87: 55 | BZ87: =BV87*BY87 -> 0 | CA87: =BY87*BX87 -> 0 | CB87: =BV87/BU87 -> 55 | CC87: =BX87/BU87 -> 0 | CD87: ADULTE | CE87: EV0.714.0112 | CF87: 1 | CG87: 52.09776 | CI87: =CG87-(CG87*CH87) -> 52.09776 | CK87: =CJ87*CG87 -> 0 | CL87: =CJ87*CI87 -> 0 | CM87: =CG87/CF87 -> 52.09776 | CN87: =CI87/CF87 -> 52.09776 | CO87: MIROIRS PHOTO | CP87: ADULTE | CQ87: ECM0105 | CR87: 1 | CS87: 69.6072 | CT87: 0.25 | CU87: =CS87*75% -> 52.2054 | CV87: 1 | CW87: =CV87*CS87 -> 69.6072 | CX87: =CV87*CU87 -> 52.2054 | CY87: =CS87/CR87 -> 69.6072 | CZ87: =CU87/CR87 -> 52.2054 | DA87: ADULTE | DB87: 878.1347 | DC87: 1 | DD87: 59.8 | DG87: 1 | DH87: =DD87*DG87 -> 59.8 | DI87: =DG87*DF87 -> 0 | DJ87: =DD87/DC87 -> 59.8 | DK87: =DF87/DC87 -> 0 | DL87: MIROIRS PHOTO | DM87: ADULTE | DN87: 97.300.59
N88: 861.094 | O88: 1 | P88: 86.85 | Q88: 0.25 | R88: =P88*0.75 -> 65.1375 | T88: =S88*P88 -> 0 | U88: =S88*R88 -> 0 | V88: =P88/O88 -> 86.85 | W88: =R88/O88 -> 65.1375 | AJ88: ENFANT | AK88: 2215.583 | AL88: 1 | AM88: 62.5 | AP88: 1 | AQ88: =AM88*AP88 -> 62.5 | AS88: =AM88/AL88 -> 62.5 | BG88: ENFANT | BH88: 8064.002 | BI88: 1 | BJ88: 58 | BM88: 1 | BN88: =BJ88*BM88 -> 58 | BP88: =BJ88/BI88 -> 58 | BS88: ENFANT | BT88: MZP522 | BU88: 1 | BV88: 55 | BZ88: =BV88*BY88 -> 0 | CA88: =BY88*BX88 -> 0 | CB88: =BV88/BU88 -> 55 | CC88: =BX88/BU88 -> 0 | CD88: ENFANT | CE88: EV0.714.0111 | CF88: 1 | CG88: 52.09776 | CI88: =CG88-(CG88*CH88) -> 52.09776 | CK88: =CJ88*CG88 -> 0 | CL88: =CJ88*CI88 -> 0 | CM88: =CG88/CF88 -> 52.09776 | CN88: =CI88/CF88 -> 52.09776 | CP88: ENFANT | CQ88: ECM0106 | CR88: 1 | CS88: 69.6072 | CT88: 0.25 | CU88: =CS88*75% -> 52.2054 | CV88: 1 | CW88: =CV88*CS88 -> 69.6072 | CX88: =CV88*CU88 -> 52.2054 | CY88: =CS88/CR88 -> 69.6072 | CZ88: =CU88/CR88 -> 52.2054 | DA88: ENFANT | DB88: 880.6842 | DC88: 1 | DD88: 59.8 | DG88: 1 | DH88: =DD88*DG88 -> 59.8 | DI88: =DG88*DF88 -> 0 | DJ88: =DD88/DC88 -> 59.8 | DK88: =DF88/DC88 -> 0 | DM88: ENFANT
A89: PATE A POLIR | X89: PATE A POLIR | AQ89: =AM89*AP89 -> 0 | AU89: PATE A POLIR | BG89: DE HEALTH/300g | BH89: 2298.191 | BI89: 0.3 | BJ89: 26 | BM89: 0 | BN89: =BJ89*BM89 -> 0 | BP89: =BJ89/BI89 -> 86.666667 | BR89: PATE A POLIR | CD89: NON FLUOREE | CE89: DE0.923.0020 | CF89: 1 | CG89: 48.30644 | CI89: =CG89-(CG89*CH89) -> 48.30644 | CK89: =CJ89*CG89 -> 0 | CL89: =CJ89*CI89 -> 0 | CM89: =CG89/CF89 -> 48.30644 | CN89: =CI89/CF89 -> 48.30644 | CO89: PATE A POLIR | DH89: =DD89*DG89 -> 0 | DL89: PATE A POLIR
A90: PAPIER ARTICULE | X90: PAPIER ARTICULE | AJ90: ARTI-FOL/8µ/20m/DOUBLE FACE/ROUGE | AK90: 2215.404 | AL90: 20 | AM90: 17.9 | AP90: 2 | AQ90: =AM90*AP90 -> 35.8 | AS90: =AM90/AL90 -> 0.895 | AU90: PAPIER ARTICULE | BN90: =BJ90*BM90 -> 0 | BR90: PAPIER ARTICULE | CG90: 0 | CO90: PAPIER ARTICULE | DA90: BAUCH/18µ/ROULEAU/50m | DB90: 877.1135 | DC90: 50 | DD90: 18.3 | DG90: 1 | DH90: =DD90*DG90 -> 18.3 | DI90: =DG90*DF90 -> 0 | DJ90: =DD90/DC90 -> 0.366 | DK90: =DF90/DC90 -> 0 | DL90: PAPIER ARTICULE
A91: PASTILLE NETTOYAGE | X91: PASTILLE NETTOYAGE | AJ91: PASTILLE NETTOYAGE/RETAINER BRITE/Q96 | AK91: 2279.094 | AL91: 96 | AM91: 20.9 | AP91: 1 | AQ91: =AM91*AP91 -> 20.9 | AS91: =AM91/AL91 -> 0.21770833 | AU91: PASTILLE NETTOYAGE | BN91: =BJ91*BM91 -> 0 | BR91: PASTILLE NETTOYAGE | BS91: Q960 | BT91: 18159 | BU91: 960 | BV91: 17 | BZ91: =BV91*BY91 -> 0 | CA91: =BY91*BX91 -> 0 | CB91: =BV91/BU91 -> 0.017708333 | CC91: =BX91/BU91 -> 0 | CG91: 0 | CO91: PASTILLE NETTOYAGE | DH91: =DD91*DG91 -> 0 | DL91: PASTILLE NETTOYAGE
A92: MINI-PINCEAUX | X92: MINI-PINCEAUX | AJ92: MEDIBASE/Q100 | AK92: 225.752 | AL92: 100 | AM92: 7.1 | AP92: 1 | AQ92: =AM92*AP92 -> 7.1 | AS92: =AM92/AL92 -> 0.071 | AU92: MINI-PINCEAUX | BN92: =BJ92*BM92 -> 0 | BR92: MINI-PINCEAUX | BS92: Q100+DISTRIBUTEUR | BT92: U1D | BU92: 100 | BV92: 19 | BZ92: =BV92*BY92 -> 0 | CA92: =BY92*BX92 -> 0 | CB92: =BV92/BU92 -> 0.19 | CC92: =BX92/BU92 -> 0 | CG92: 0 | CO92: MINI-PINCEAUX | DA92: HS/13cm/Q100 | DB92: 900.1157 | DC92: 100 | DD92: 22.5 | DG92: 1 | DH92: =DD92*DG92 -> 22.5 | DI92: =DG92*DF92 -> 0 | DJ92: =DD92/DC92 -> 0.225 | DK92: =DF92/DC92 -> 0 | DL92: MINI-PINCEAUX
BS93: RECHARGE/Q200 | BT93: U1R200 | BU93: 200 | BV93: 33 | BZ93: =BV93*BY93 -> 0 | CA93: =BY93*BX93 -> 0 | CB93: =BV93/BU93 -> 0.165 | CC93: =BX93/BU93 -> 0 | CG93: 0 | DH93: =DD93*DG93 -> 0
A94: PISTOLET CAPSULE | C94: 712.032 | D94: 1 | E94: 56.24 | F94: 0.5 | G94: =E94*50% -> 28.12 | I94: =E94*H94 -> 0 | J94: =H94*G94 -> 0 | K94: =E94/D94 -> 56.24 | L94: =G94/D94 -> 28.12 | X94: PISTOLET CAPSULE | Y94: OFFERT AVEC LES CAPSULES | AQ94: =AM94*AP94 -> 0 | AU94: PISTOLET CAPSULE | BN94: =BJ94*BM94 -> 0 | BR94: PISTOLET CAPSULE | CG94: 0 | CO94: PISTOLET CAPSULE | DH94: =DD94*DG94 -> 0 | DL94: PISTOLET CAPSULE
A95: PISTOLET CAPSULE UNIDOSE | X95: PISTOLET CAPSULE UNIDOSE | AQ95: =AM95*AP95 -> 0 | AU95: PISTOLET CAPSULE UNIDOSE | BN95: =BJ95*BM95 -> 0 | BR95: PISTOLET CAPSULE UNIDOSE | CD95: KERR | CE95: OR0.740.0197 | CF95: 1 | CG95: 61.594 | CI95: =CG95-(CG95*CH95) -> 61.594 | CK95: =CJ95*CG95 -> 0 | CL95: =CJ95*CI95 -> 0 | CM95: =CG95/CF95 -> 61.594 | CN95: =CI95/CF95 -> 61.594 | CO95: PISTOLET CAPSULE UNIDOSE | DH95: =DD95*DG95 -> 0 | DL95: PISTOLET CAPSULE UNIDOSE
A96: PISTOLET CARPULE FUJI | N96: 001.871 | O96: 1 | P96: 200.46 | Q96: 0.25 | R96: =P96*0.75 -> 150.345 | T96: =S96*P96 -> 0 | U96: =S96*R96 -> 0 | V96: =P96/O96 -> 200.46 | W96: =R96/O96 -> 150.345 | X96: PISTOLET CARPULE FUJI | AJ96: PISTOLT APPLICATEUR | AK96: 2212.881 | AL96: 1 | AM96: 88.6 | AP96: 0 | AQ96: =AM96*AP96 -> 0 | AS96: =AM96/AL96 -> 88.6 | AU96: PISTOLET CARPULE FUJI | BN96: =BJ96*BM96 -> 0 | BR96: PISTOLET CARPULE FUJI | CG96: 0 | CO96: PISTOLET CARPULE FUJI | DA96: PISTOLET | DB96: 891.1777 | DC96: 1 | DD96: 89.6 | DG96: 1 | DH96: =DD96*DG96 -> 89.6 | DI96: =DG96*DF96 -> 0 | DJ96: =DD96/DC96 -> 89.6 | DK96: =DF96/DC96 -> 0 | DL96: PISTOLET CARPULE FUJI
A97: PLAQUETTE POUR BRACKET | M97: Q(50) | N97: 851.793 | O97: 50 | P97: 106.94 | Q97: 0.25 | R97: =P97*0.75 -> 80.205 | T97: =S97*P97 -> 0 | U97: =S97*R97 -> 0 | V97: =P97/O97 -> 2.1388 | W97: =R97/O97 -> 1.6041 | X97: PLAQUETTE POUR BRACKET | AQ97: =AM97*AP97 -> 0 | AU97: PLAQUETTE POUR BRACKET | AV97: Q25 | AW97: GL.BKB2 | AX97: 25 | AY97: 33.95 | AZ97: 0.25 | BA97: =AY97-(AY97*AZ97) -> 25.4625 | BC97: =BB97*AY97 -> 0 | BD97: =BA97*BB97 -> 0 | BE97: =AY97/AX97 -> 1.358 | BF97: =BA97/AX97 -> 1.0185 | BN97: =BJ97*BM97 -> 0 | BR97: PLAQUETTE POUR BRACKET | CE97: 740.0297 | CG97: 24.86484 | CI97: =CG97-(CG97*CH97) -> 24.86484 | CK97: =CJ97*CG97 -> 0 | CL97: =CJ97*CI97 -> 0 | CM97: =CG97/CF97 -> #DIV/0! | CN97: =CI97/CF97 -> #DIV/0! | CO97: PLAQUETTE POUR BRACKET | CP97: Q25 | CQ97: J00099 | CR97: 25 | CS97: 56.9296 | CT97: 0.25 | CU97: =CS97*75% -> 42.6972 | CV97: 1 | CW97: =CV97*CS97 -> 56.9296 | CX97: =CV97*CU97 -> 42.6972 | CY97: =CS97/CR97 -> 2.277184 | CZ97: =CU97/CR97 -> 1.707888 | DH97: =DD97*DG97 -> 0 | DL97: PLAQUETTE POUR BRACKET | DN97: 20.050.99
A98: PLATEAU JETTABLE | X98: PLATEAU JETTABLE | AQ98: =AM98*AP98 -> 0 | AU98: PLATEAU JETTABLE | BN98: =BJ98*BM98 -> 0 | BR98: PLATEAU JETTABLE | CG98: 0 | CO98: PLATEAU JETTABLE | DH98: =DD98*DG98 -> 0 | DL98: PLATEAU JETTABLE
A99: POCHETTE FEO | X99: POCHETTE FEO | AJ99: G&H/NOIR/Q5 | AK99: 2279.014 | AL99: 5 | AM99: 26.9 | AP99: 1 | AQ99: =AM99*AP99 -> 26.9 | AS99: =AM99/AL99 -> 5.38 | AU99: POCHETTE FEO | BG99: MASEL/NOIRE/16X23cm | BH99: 7861.172 | BI99: 1 | BJ99: 5.2 | BM99: 5 | BN99: =BJ99*BM99 -> 26 | BP99: =BJ99/BI99 -> 5.2 | BR99: POCHETTE FEO | BS99: TRANSPARENTE TOPOS | BU99: 1 | BV99: 2.5 | BZ99: =BV99*BY99 -> 0 | CA99: =BY99*BX99 -> 0 | CB99: =BV99/BU99 -> 2.5 | CC99: =BX99/BU99 -> 0 | CD99: NOIR/Q10 | CE99: AI0.229.0300 | CF99: 10 | CG99: 53.00672 | CI99: =CG99-(CG99*CH99) -> 53.00672 | CK99: =CJ99*CG99 -> 0 | CL99: =CJ99*CI99 -> 0 | CM99: =CG99/CF99 -> 5.300672 | CN99: =CI99/CF99 -> 5.300672 | CO99: POCHETTE FEO | DH99: =DD99*DG99 -> 0 | DL99: POCHETTE FEO
A100: POLISSOIR FLAMME | X100: POLISSOIR FLAMME | AJ100: SILICONE ?/FLAMME NOIRE/Q10 | AK100: 227.372 | AL100: 10 | AM100: 32.4 | AP100: 1 | AQ100: =AM100*AP100 -> 32.4 | AS100: =AM100/AL100 -> 3.24 | AU100: POLISSOIR FLAMME | BG100: GRISE/Q12 | BH100: 3210.191 | BI100: 12 | BJ100: 18.2 | BM100: 1 | BN100: =BJ100*BM100 -> 18.2 | BP100: =BJ100/BI100 -> 1.5166667 | BR100: POLISSOIR FLAMME | CG100: 0 | CO100: POLISSOIR FLAMME | DH100: =DD100*DG100 -> 0 | DL100: POLISSOIR FLAMME
A101: POLISSOIR CUPULE | X101: POLISSOIR CUPULE | AJ101: SILICONE ?/CUPULE NOIRE/Q10 | AK101: 227.373 | AL101: 10 | AM101: 32.4 | AP101: 1 | AQ101: =AM101*AP101 -> 32.4 | AS101: =AM101/AL101 -> 3.24 | AU101: POLISSOIR CUPULE | BG101: GRISE/Q12 | BH101: 3211.191 | BI101: 12 | BJ101: 18.2 | BM101: 1 | BN101: =BJ101*BM101 -> 18.2 | BP101: =BJ101/BI101 -> 1.5166667 | BR101: POLISSOIR CUPULE | CG101: 0 | CO101: POLISSOIR CUPULE | DH101: =DD101*DG101 -> 0 | DL101: POLISSOIR CUPULE | DM101: CUPULE | DN101: 25.140.17
...

Sheet ACCESSOIRES $
B1: REF 3M | E1: REF AO | H1: REF FORESTADENT | K1: REF GACD | N1: REF LEONE | Q1: REF MEGA DENTAL | T1: REF NEW ORTHO | W1: REF ORMODENT | Z1: REF RMO | AC1: REF SCHEIN
B2: REF | C2: UNITE | D2: UNITE REM | E2: REF | F2: UNITE | G2: UNITE REM | H2: REF | I2: UNITE | J2: UNITE REM | K2: REF | L2: UNITE | M2: UNITE REM | N2: REF | O2: UNITE | P2: UNITE REM | Q2: REF | R2: UNITE | S2: UNITE REM | T2: REF | U2: UNITE | V2: UNITE REM | W2: REF | X2: UNITE | Y2: UNITE REM | Z2: REF | AA2: UNITE | AB2: UNITE REM | AC2: REF | AD2: UNITE | AE2: UNITE REM
A4: ANTI-HEMORRAGIQUE | B4: =ACCESSOIRES!C4 -> 0 | C4: =ACCESSOIRES!K4 -> 0 | D4: =ACCESSOIRES!L4 -> 0 | E4: =ACCESSOIRES!N4 -> 0 | F4: =ACCESSOIRES!V4 -> 0 | G4: =ACCESSOIRES!W4 -> 0 | H4: =ACCESSOIRES!Z4 -> 0 | I4: =ACCESSOIRES!AH4 -> #DIV/0! | J4: =ACCESSOIRES!AI4 -> #DIV/0! | K4: =ACCESSOIRES!AK4 -> 223.442 | L4: =ACCESSOIRES!AS4 -> 18250 | M4: =ACCESSOIRES!AT4 -> 0 | N4: =ACCESSOIRES!AW4 -> 0 | O4: =ACCESSOIRES!BE4 -> 0 | P4: =ACCESSOIRES!BF4 -> 0 | Q4: =ACCESSOIRES!BH4 -> 5302.014 | R4: =ACCESSOIRES!BP4 -> 35750 | S4: =ACCESSOIRES!BQ4 -> 0 | T4: =ACCESSOIRES!BT4 -> 0 | U4: =ACCESSOIRES!CB4 -> 0 | V4: =ACCESSOIRES!CC4 -> 0 | W4: =ACCESSOIRES!CE4 -> 0 | X4: =ACCESSOIRES!CM4 -> 0 | Y4: =ACCESSOIRES!CN4 -> 0 | Z4: =ACCESSOIRES!CQ4 -> 0 | AA4: =ACCESSOIRES!CY4 -> 0 | AB4: =ACCESSOIRES!CZ4 -> 0 | AC4: =ACCESSOIRES!DB4 -> 892.3180 | AD4: =ACCESSOIRES!DJ4 -> 143 | AE4: =ACCESSOIRES!DK4 -> 0 | AF4: ANTI-HEMORRAGIQUE
B5: =ACCESSOIRES!C5 -> 0 | C5: =ACCESSOIRES!K5 -> 0 | D5: =ACCESSOIRES!L5 -> 0 | E5: =ACCESSOIRES!N5 -> 0 | F5: =ACCESSOIRES!V5 -> 0 | G5: =ACCESSOIRES!W5 -> 0 | H5: =ACCESSOIRES!Z5 -> 0 | I5: =ACCESSOIRES!AH5 -> 0 | J5: =ACCESSOIRES!AI5 -> 0 | K5: =ACCESSOIRES!AK5 -> 223.083 | L5: =ACCESSOIRES!AS5 -> 2166.6667 | M5: =ACCESSOIRES!AT5 -> 0 | N5: =ACCESSOIRES!AW5 -> 0 | O5: =ACCESSOIRES!BE5 -> 0 | P5: =ACCESSOIRES!BF5 -> 0 | Q5: =ACCESSOIRES!BH5 -> 5756.014 | R5: =ACCESSOIRES!BP5 -> 2020 | S5: =ACCESSOIRES!BQ5 -> 0 | T5: =ACCESSOIRES!BT5 -> 0 | U5: =ACCESSOIRES!CB5 -> 0 | V5: =ACCESSOIRES!CC5 -> 0 | W5: =ACCESSOIRES!CE5 -> 0 | X5: =ACCESSOIRES!CM5 -> 0 | Y5: =ACCESSOIRES!CN5 -> 0 | Z5: =ACCESSOIRES!CQ5 -> 0 | AA5: =ACCESSOIRES!CY5 -> 0 | AB5: =ACCESSOIRES!CZ5 -> 0 | AC5: =ACCESSOIRES!DB5 -> 892.3534 | AD5: =ACCESSOIRES!DJ5 -> 2086.6667 | AE5: =ACCESSOIRES!DK5 -> 0
A6: ASPIRATION FINE | B6: =ACCESSOIRES!C6 -> 0 | C6: =ACCESSOIRES!K6 -> 0 | D6: =ACCESSOIRES!L6 -> 0 | E6: =ACCESSOIRES!N6 -> 0 | F6: =ACCESSOIRES!V6 -> 0 | G6: =ACCESSOIRES!W6 -> 0 | H6: =ACCESSOIRES!Z6 -> 0 | I6: =ACCESSOIRES!AH6 -> 0 | J6: =ACCESSOIRES!AI6 -> 0 | K6: =ACCESSOIRES!AK6 -> 225.753 | L6: =ACCESSOIRES!AS6 -> 0.033 | M6: =ACCESSOIRES!AT6 -> 0 | N6: =ACCESSOIRES!AW6 -> 0 | O6: =ACCESSOIRES!BE6 -> 0 | P6: =ACCESSOIRES!BF6 -> 0 | Q6: =ACCESSOIRES!BH6 -> 4952.122 | R6: =ACCESSOIRES!BP6 -> 0.033 | S6: =ACCESSOIRES!BQ6 -> 0 | T6: =ACCESSOIRES!BT6 -> 0 | U6: =ACCESSOIRES!CB6 -> 0 | V6: =ACCESSOIRES!CC6 -> 0 | W6: =ACCESSOIRES!CE6 -> PG0.337.0648 | X6: =ACCESSOIRES!CM6 -> 0.0374348 | Y6: =ACCESSOIRES!CN6 -> 0.0374348 | Z6: =ACCESSOIRES!CQ6 -> 0 | AA6: =ACCESSOIRES!CY6 -> 0 | AB6: =ACCESSOIRES!CZ6 -> 0 | AC6: =ACCESSOIRES!DB6 -> 900.2730 | AD6: =ACCESSOIRES!DJ6 -> 0.034 | AE6: =ACCESSOIRES!DK6 -> 0 | AF6: ASPIRATION FINE
A7: ASPIRATION GROSSE | B7: =ACCESSOIRES!C7 -> 0 | C7: =ACCESSOIRES!K7 -> 0 | D7: =ACCESSOIRES!L7 -> 0 | E7: =ACCESSOIRES!N7 -> 0 | F7: =ACCESSOIRES!V7 -> 0 | G7: =ACCESSOIRES!W7 -> 0 | H7: =ACCESSOIRES!Z7 -> 0 | I7: =ACCESSOIRES!AH7 -> 0 | J7: =ACCESSOIRES!AI7 -> 0 | K7: =ACCESSOIRES!AK7 -> 225.214 | L7: =ACCESSOIRES!AS7 -> 0.042 | M7: =ACCESSOIRES!AT7 -> 0 | N7: =ACCESSOIRES!AW7 -> 0 | O7: =ACCESSOIRES!BE7 -> 0 | P7: =ACCESSOIRES!BF7 -> 0 | Q7: =ACCESSOIRES!BH7 -> 0 | R7: =ACCESSOIRES!BP7 -> 0 | S7: =ACCESSOIRES!BQ7 -> 0 | T7: =ACCESSOIRES!BT7 -> 0 | U7: =ACCESSOIRES!CB7 -> 0 | V7: =ACCESSOIRES!CC7 -> 0 | W7: =ACCESSOIRES!CE7 -> 0 | X7: =ACCESSOIRES!CM7 -> 0 | Y7: =ACCESSOIRES!CN7 -> 0 | Z7: =ACCESSOIRES!CQ7 -> 0 | AA7: =ACCESSOIRES!CY7 -> 0 | AB7: =ACCESSOIRES!CZ7 -> 0 | AC7: =ACCESSOIRES!DB7 -> 0 | AD7: =ACCESSOIRES!DJ7 -> 0 | AE7: =ACCESSOIRES!DK7 -> 0 | AF7: ASPIRATION GROSSE
A8: BLOC A SPATULER | B8: =ACCESSOIRES!C8 -> 0 | C8: =ACCESSOIRES!K8 -> 0 | D8: =ACCESSOIRES!L8 -> 0 | E8: =ACCESSOIRES!N8 -> 001.907 | F8: =ACCESSOIRES!V8 -> 8.185 | G8: =ACCESSOIRES!W8 -> 6.13875 | H8: =ACCESSOIRES!Z8 -> 0 | I8: =ACCESSOIRES!AH8 -> 0 | J8: =ACCESSOIRES!AI8 -> 0 | K8: =ACCESSOIRES!AK8 -> 225.698 | L8: =ACCESSOIRES!AS8 -> 0.054 | M8: =ACCESSOIRES!AT8 -> 0 | N8: =ACCESSOIRES!AW8 -> 0 | O8: =ACCESSOIRES!BE8 -> 0 | P8: =ACCESSOIRES!BF8 -> 0 | Q8: =ACCESSOIRES!BH8 -> 4155.122 | R8: =ACCESSOIRES!BP8 -> 0.049 | S8: =ACCESSOIRES!BQ8 -> 0 | T8: =ACCESSOIRES!BT8 -> FIX.7 | U8: =ACCESSOIRES!CB8 -> 0.07 | V8: =ACCESSOIRES!CC8 -> 0 | W8: =ACCESSOIRES!CE8 -> OR0.740.0124 | X8: =ACCESSOIRES!CM8 -> 0.15181227 | Y8: =ACCESSOIRES!CN8 -> 0.15181227 | Z8: =ACCESSOIRES!CQ8 -> 0 | AA8: =ACCESSOIRES!CY8 -> 0 | AB8: =ACCESSOIRES!CZ8 -> 0 | AC8: =ACCESSOIRES!DB8 -> 877.0331 | AD8: =ACCESSOIRES!DJ8 -> 0.064 | AE8: =ACCESSOIRES!DK8 -> 0 | AF8: BLOC A SPATULER
A9: BOITE DE CONTENTION | B9: =ACCESSOIRES!C9 -> 0 | C9: =ACCESSOIRES!K9 -> 0 | D9: =ACCESSOIRES!L9 -> 0 | E9: =ACCESSOIRES!N9 -> 861.074 | F9: =ACCESSOIRES!V9 -> 2.2317 | G9: =ACCESSOIRES!W9 -> 1.673775 | H9: =ACCESSOIRES!Z9 -> 100.0051 | I9: =ACCESSOIRES!AH9 -> 1.682 | J9: =ACCESSOIRES!AI9 -> 0 | K9: =ACCESSOIRES!AK9 -> 2218.020 | L9: =ACCESSOIRES!AS9 -> 0.99 | M9: =ACCESSOIRES!AT9 -> 0 | N9: =ACCESSOIRES!AW9 -> A3038.99 | O9: =ACCESSOIRES!BE9 -> 0.8791 | P9: =ACCESSOIRES!BF9 -> 0.571415 | Q9: =ACCESSOIRES!BH9 -> 6847.008 | R9: =ACCESSOIRES!BP9 -> 0.7 | S9: =ACCESSOIRES!BQ9 -> 0 | T9: =ACCESSOIRES!BT9 -> RET050 | U9: =ACCESSOIRES!CB9 -> 0.86 | V9: =ACCESSOIRES!CC9 -> 0 | W9: =ACCESSOIRES!CE9 -> OR0.710.0013 | X9: =ACCESSOIRES!CM9 -> 1.846624 | Y9: =ACCESSOIRES!CN9 -> 1.846624 | Z9: =ACCESSOIRES!CQ9 -> J01323 | AA9: =ACCESSOIRES!CY9 -> 1.48005 | AB9: =ACCESSOIRES!CZ9 -> 1.1100375 | AC9: =ACCESSOIRES!DB9 -> 0 | AD9: =ACCESSOIRES!DJ9 -> 0 | AE9: =ACCESSOIRES!DK9 -> 0 | AF9: BOITE DE CONTENTION
B10: =ACCESSOIRES!C10 -> 0 | C10: =ACCESSOIRES!K10 -> 0 | D10: =ACCESSOIRES!L10 -> 0 | E10: =ACCESSOIRES!N10 -> 0 | F10: =ACCESSOIRES!V10 -> 0 | G10: =ACCESSOIRES!W10 -> 0 | H10: =ACCESSOIRES!Z10 -> 100.0052 | I10: =ACCESSOIRES!AH10 -> 1.682 | J10: =ACCESSOIRES!AI10 -> 0 | K10: =ACCESSOIRES!AK10 -> 2215.992 | L10: =ACCESSOIRES!AS10 -> 1 | M10: =ACCESSOIRES!AT10 -> 0 | N10: =ACCESSOIRES!AW10 -> 0 | O10: =ACCESSOIRES!BE10 -> 0 | P10: =ACCESSOIRES!BF10 -> 0 | Q10: =ACCESSOIRES!BH10 -> 7834.172 | R10: =ACCESSOIRES!BP10 -> 0.75 | S10: =ACCESSOIRES!BQ10 -> 0 | T10: =ACCESSOIRES!BT10 -> 0 | U10: =ACCESSOIRES!CB10 -> 0 | V10: =ACCESSOIRES!CC10 -> 0 | W10: =ACCESSOIRES!CE10 -> 0 | X10: =ACCESSOIRES!CM10 -> 0 | Y10: =ACCESSOIRES!CN10 -> 0 | Z10: =ACCESSOIRES!CQ10 -> 0 | AA10: =ACCESSOIRES!CY10 -> 0 | AB10: =ACCESSOIRES!CZ10 -> 0 | AC10: =ACCESSOIRES!DB10 -> 0 | AD10: =ACCESSOIRES!DJ10 -> 0 | AE10: =ACCESSOIRES!DK10 -> 0
A11: BOITE PORTE CLE AVEC CROCHET | B11: =ACCESSOIRES!C11 -> 0 | C11: =ACCESSOIRES!K11 -> 0 | D11: =ACCESSOIRES!L11 -> 0 | E11: =ACCESSOIRES!N11 -> 0 | F11: =ACCESSOIRES!V11 -> 0 | G11: =ACCESSOIRES!W11 -> 0 | H11: =ACCESSOIRES!Z11 -> 0 | I11: =ACCESSOIRES!AH11 -> 0 | J11: =ACCESSOIRES!AI11 -> 0 | K11: =ACCESSOIRES!AK11 -> 2261.712 | L11: =ACCESSOIRES!AS11 -> 1.1 | M11: =ACCESSOIRES!AT11 -> 0 | N11: =ACCESSOIRES!AW11 -> 0 | O11: =ACCESSOIRES!BE11 -> 0 | P11: =ACCESSOIRES!BF11 -> 0 | Q11: =ACCESSOIRES!BH11 -> 0 | R11: =ACCESSOIRES!BP11 -> 0 | S11: =ACCESSOIRES!BQ11 -> 0 | T11: =ACCESSOIRES!BT11 -> ESC050 | U11: =ACCESSOIRES!CB11 -> 1.1 | V11: =ACCESSOIRES!CC11 -> 0 | W11: =ACCESSOIRES!CE11 -> 0 | X11: =ACCESSOIRES!CM11 -> 0 | Y11: =ACCESSOIRES!CN11 -> 0 | Z11: =ACCESSOIRES!CQ11 -> 0 | AA11: =ACCESSOIRES!CY11 -> 0 | AB11: =ACCESSOIRES!CZ11 -> 0 | AC11: =ACCESSOIRES!DB11 -> 0 | AD11: =ACCESSOIRES!DJ11 -> 0 | AE11: =ACCESSOIRES!DK11 -> 0 | AF11: BOITE PORTE CLE AVEC CROCHET
A12: BOMBE DE FROID | B12: =ACCESSOIRES!C12 -> 0 | C12: =ACCESSOIRES!K12 -> 0 | D12: =ACCESSOIRES!L12 -> 0 | E12: =ACCESSOIRES!N12 -> 0 | F12: =ACCESSOIRES!V12 -> 0 | G12: =ACCESSOIRES!W12 -> 0 | H12: =ACCESSOIRES!Z12 -> 0 | I12: =ACCESSOIRES!AH12 -> 0 | J12: =ACCESSOIRES!AI12 -> 0 | K12: =ACCESSOIRES!AK12 -> 223.201 | L12: =ACCESSOIRES!AS12 -> 34.5 | M12: =ACCESSOIRES!AT12 -> 0 | N12: =ACCESSOIRES!AW12 -> OP.100.89 | O12: =ACCESSOIRES!BE12 -> 50.77 | P12: =ACCESSOIRES!BF12 -> 38.0775 | Q12: =ACCESSOIRES!BH12 -> 0449.004 | R12: =ACCESSOIRES!BP12 -> 44.5 | S12: =ACCESSOIRES!BQ12 -> 0 | T12: =ACCESSOIRES!BT12 -> 0 | U12: =ACCESSOIRES!CB12 -> 0 | V12: =ACCESSOIRES!CC12 -> 0 | W12: =ACCESSOIRES!CE12 -> 0 | X12: =ACCESSOIRES!CM12 -> 0 | Y12: =ACCESSOIRES!CN12 -> 0 | Z12: =ACCESSOIRES!CQ12 -> 0 | AA12: =ACCESSOIRES!CY12 -> 0 | AB12: =ACCESSOIRES!CZ12 -> 0 | AC12: =ACCESSOIRES!DB12 -> 900.1384 | AD12: =ACCESSOIRES!DJ12 -> 39 | AE12: =ACCESSOIRES!DK12 -> 0 | AF12: BOMBE DE FROID
A13: BOUTON A COLLER | B13: =ACCESSOIRES!C13 -> 0 | C13: =ACCESSOIRES!K13 -> 0 | D13: =ACCESSOIRES!L13 -> 0 | E13: =ACCESSOIRES!N13 -> 292.171 | F13: =ACCESSOIRES!V13 -> 2.949 | G13: =ACCESSOIRES!W13 -> 2.21175 | H13: =ACCESSOIRES!Z13 -> 760.0802 | I13: =ACCESSOIRES!AH13 -> 2.831 | J13: =ACCESSOIRES!AI13 -> 0 | K13: =ACCESSOIRES!AK13 -> 2262.102 | L13: =ACCESSOIRES!AS13 -> 1.6 | M13: =ACCESSOIRES!AT13 -> 0 | N13: =ACCESSOIRES!AW13 -> F2860.00 | O13: =ACCESSOIRES!BE13 -> 2.978 | P13: =ACCESSOIRES!BF13 -> 1.9357 | Q13: =ACCESSOIRES!BH13 -> 7329.172 | R13: =ACCESSOIRES!BP13 -> 1.95 | S13: =ACCESSOIRES!BQ13 -> 0 | T13: =ACCESSOIRES!BT13 -> BMBC20 | U13: =ACCESSOIRES!CB13 -> 1.7 | V13: =ACCESSOIRES!CC13 -> 0 | W13: =ACCESSOIRES!CE13 -> OR0.300.0097 | X13: =ACCESSOIRES!CM13 -> 0.513084 | Y13: =ACCESSOIRES!CN13 -> 0.513084 | Z13: =ACCESSOIRES!CQ13 -> A07903 | AA13: =ACCESSOIRES!CY13 -> 4.41922 | AB13: =ACCESSOIRES!CZ13 -> 2.651532 | AC13: =ACCESSOIRES!DB13 -> 0 | AD13: =ACCESSOIRES!DJ13 -> 0 | AE13: =ACCESSOIRES!DK13 -> 0 | AF13: BOUTON A COLLER
B14: =ACCESSOIRES!C14 -> 0 | C14: =ACCESSOIRES!K14 -> 0 | D14: =ACCESSOIRES!L14 -> 0 | E14: =ACCESSOIRES!N14 -> 0 | F14: =ACCESSOIRES!V14 -> 0 | G14: =ACCESSOIRES!W14 -> 0 | H14: =ACCESSOIRES!Z14 -> 760.0801 | I14: =ACCESSOIRES!AH14 -> 2.831 | J14: =ACCESSOIRES!AI14 -> 0 | K14: =ACCESSOIRES!AK14 -> 0 | L14: =ACCESSOIRES!AS14 -> 0 | M14: =ACCESSOIRES!AT14 -> 0 | N14: =ACCESSOIRES!AW14 -> 0 | O14: =ACCESSOIRES!BE14 -> 0 | P14: =ACCESSOIRES!BF14 -> 0 | Q14: =ACCESSOIRES!BH14 -> 0 | R14: =ACCESSOIRES!BP14 -> 0 | S14: =ACCESSOIRES!BQ14 -> 0 | T14: =ACCESSOIRES!BT14 -> BLBF20 | U14: =ACCESSOIRES!CB14 -> 1.7 | V14: =ACCESSOIRES!CC14 -> 0 | W14: =ACCESSOIRES!CE14 -> (AY0.704.4015) | X14: =ACCESSOIRES!CM14 -> 3.3076576 | Y14: =ACCESSOIRES!CN14 -> 3.3076576 | Z14: =ACCESSOIRES!CQ14 -> 0 | AA14: =ACCESSOIRES!CY14 -> 0 | AB14: =ACCESSOIRES!CZ14 -> 0 | AC14: =ACCESSOIRES!DB14 -> 0 | AD14: =ACCESSOIRES!DJ14 -> 0 | AE14: =ACCESSOIRES!DK14 -> 0
B15: =ACCESSOIRES!C15 -> 0 | C15: =ACCESSOIRES!K15 -> 0 | D15: =ACCESSOIRES!L15 -> 0 | E15: =ACCESSOIRES!N15 -> 0 | F15: =ACCESSOIRES!V15 -> 0 | G15: =ACCESSOIRES!W15 -> 0 | H15: =ACCESSOIRES!Z15 -> 760.0805 | I15: =ACCESSOIRES!AH15 -> 3.023 | J15: =ACCESSOIRES!AI15 -> 0 | K15: =ACCESSOIRES!AK15 -> 2262.101 | L15: =ACCESSOIRES!AS15 -> 1.6 | M15: =ACCESSOIRES!AT15 -> 0 | N15: =ACCESSOIRES!AW15 -> 0 | O15: =ACCESSOIRES!BE15 -> 0 | P15: =ACCESSOIRES!BF15 -> 0 | Q15: =ACCESSOIRES!BH15 -> 7320°.172 | R15: =ACCESSOIRES!BP15 -> 1.95 | S15: =ACCESSOIRES!BQ15 -> 0 | T15: =ACCESSOIRES!BT15 -> BLBC20 | U15: =ACCESSOIRES!CB15 -> 1.7 | V15: =ACCESSOIRES!CC15 -> 0 | W15: =ACCESSOIRES!CE15 -> 0 | X15: =ACCESSOIRES!CM15 -> 0 | Y15: =ACCESSOIRES!CN15 -> 0 | Z15: =ACCESSOIRES!CQ15 -> 0 | AA15: =ACCESSOIRES!CY15 -> 0 | AB15: =ACCESSOIRES!CZ15 -> 0 | AC15: =ACCESSOIRES!DB15 -> 0 | AD15: =ACCESSOIRES!DJ15 -> 0 | AE15: =ACCESSOIRES!DK15 -> 0
A16: BROSSE A DENT JETABLE | B16: =ACCESSOIRES!C16 -> 0 | C16: =ACCESSOIRES!K16 -> 0 | D16: =ACCESSOIRES!L16 -> 0 | E16: =ACCESSOIRES!N16 -> 0 | F16: =ACCESSOIRES!V16 -> 0 | G16: =ACCESSOIRES!W16 -> 0 | H16: =ACCESSOIRES!Z16 -> 0 | I16: =ACCESSOIRES!AH16 -> 0 | J16: =ACCESSOIRES!AI16 -> 0 | K16: =ACCESSOIRES!AK16 -> 2215.637 | L16: =ACCESSOIRES!AS16 -> 0.186 | M16: =ACCESSOIRES!AT16 -> 0 | N16: =ACCESSOIRES!AW16 -> 0 | O16: =ACCESSOIRES!BE16 -> 0.61875 | P16: =ACCESSOIRES!BF16 -> 0.4640625 | Q16: =ACCESSOIRES!BH16 -> 4202.191 | R16: =ACCESSOIRES!BP16 -> 0.17 | S16: =ACCESSOIRES!BQ16 -> 0 | T16: =ACCESSOIRES!BT16 -> 10232 | U16: =ACCESSOIRES!CB16 -> 0.28472222 | V16: =ACCESSOIRES!CC16 -> 0 | W16: =ACCESSOIRES!CE16 -> HW0.711.0006 | X16: =ACCESSOIRES!CM16 -> #VALUE! | Y16: =ACCESSOIRES!CN16 -> #VALUE! | Z16: =ACCESSOIRES!CQ16 -> ECM8121 | AA16: =ACCESSOIRES!CY16 -> 0.174018 | AB16: =ACCESSOIRES!CZ16 -> 0.174018 | AC16: =ACCESSOIRES!DB16 -> 900.1377 | AD16: =ACCESSOIRES!DJ16 -> 0.219 | AE16: =ACCESSOIRES!DK16 -> 0 | AF16: BROSSE A DENT JETABLE
A17: BROSSETTE CONTRE ANGLE | B17: =ACCESSOIRES!C17 -> 0 | C17: =ACCESSOIRES!K17 -> 0 | D17: =ACCESSOIRES!L17 -> 0 | E17: =ACCESSOIRES!N17 -> 0 | F17: =ACCESSOIRES!V17 -> 0 | G17: =ACCESSOIRES!W17 -> 0 | H17: =ACCESSOIRES!Z17 -> 0 | I17: =ACCESSOIRES!AH17 -> 0 | J17: =ACCESSOIRES!AI17 -> 0 | K17: =ACCESSOIRES!AK17 -> 227.129 | L17: =ACCESSOIRES!AS17 -> 0.654 | M17: =ACCESSOIRES!AT17 -> 0 | N17: =ACCESSOIRES!AW17 -> 0 | O17: =ACCESSOIRES!BE17 -> 2.662 | P17: =ACCESSOIRES!BF17 -> 1.9965 | Q17: =ACCESSOIRES!BH17 -> 4069.122 | R17: =ACCESSOIRES!BP17 -> 0.63 | S17: =ACCESSOIRES!BQ17 -> 0 | T17: =ACCESSOIRES!BT17 -> 0 | U17: =ACCESSOIRES!CB17 -> 0 | V17: =ACCESSOIRES!CC17 -> 0 | W17: =ACCESSOIRES!CE17 -> PG0.012.1204 | X17: =ACCESSOIRES!CM17 -> 2.4567833 | Y17: =ACCESSOIRES!CN17 -> 2.4567833 | Z17: =ACCESSOIRES!CQ17 -> 0 | AA17: =ACCESSOIRES!CY17 -> 0 | AB17: =ACCESSOIRES!CZ17 -> 0 | AC17: =ACCESSOIRES!DB17 -> 900.2847 | AD17: =ACCESSOIRES!DJ17 -> 0.658 | AE17: =ACCESSOIRES!DK17 -> 0 | AF17: BROSSETTE CONTRE ANGLE
A18: BROSSETTE INTERPROXIMALE | B18: =ACCESSOIRES!C18 -> 0 | C18: =ACCESSOIRES!K18 -> 0 | D18: =ACCESSOIRES!L18 -> 0 | E18: =ACCESSOIRES!N18 -> 0 | F18: =ACCESSOIRES!V18 -> 0 | G18: =ACCESSOIRES!W18 -> 0 | H18: =ACCESSOIRES!Z18 -> 0 | I18: =ACCESSOIRES!AH18 -> 0 | J18: =ACCESSOIRES!AI18 -> 0 | K18: =ACCESSOIRES!AK18 -> 221.990 | L18: =ACCESSOIRES!AS18 -> 0 | M18: =ACCESSOIRES!AT18 -> 0 | N18: =ACCESSOIRES!AW18 -> 0 | O18: =ACCESSOIRES!BE18 -> 1.3604167 | P18: =ACCESSOIRES!BF18 -> 1.0203125 | Q18: =ACCESSOIRES!BH18 -> 0 | R18: =ACCESSOIRES!BP18 -> 0 | S18: =ACCESSOIRES!BQ18 -> 0 | T18: =ACCESSOIRES!BT18 -> 0 | U18: =ACCESSOIRES!CB18 -> 0 | V18: =ACCESSOIRES!CC18 -> 0 | W18: =ACCESSOIRES!CE18 -> 0 | X18: =ACCESSOIRES!CM18 -> 0 | Y18: =ACCESSOIRES!CN18 -> 0 | Z18: =ACCESSOIRES!CQ18 -> 0 | AA18: =ACCESSOIRES!CY18 -> 0 | AB18: =ACCESSOIRES!CZ18 -> 0 | AC18: =ACCESSOIRES!DB18 -> 0 | AD18: =ACCESSOIRES!DJ18 -> 0 | AE18: =ACCESSOIRES!DK18 -> 0 | AF18: BROSSETTE INTERPROXIMALE
A19: CALES RETRO INCISIVES | B19: =ACCESSOIRES!C19 -> 0 | C19: =ACCESSOIRES!K19 -> 0 | D19: =ACCESSOIRES!L19 -> 0 | E19: =ACCESSOIRES!N19 -> 0 | F19: =ACCESSOIRES!V19 -> 0 | G19: =ACCESSOIRES!W19 -> 0 | H19: =ACCESSOIRES!Z19 -> 0 | I19: =ACCESSOIRES!AH19 -> 0 | J19: =ACCESSOIRES!AI19 -> 0 | K19: =ACCESSOIRES!AK19 -> 0 | L19: =ACCESSOIRES!AS19 -> 0 | M19: =ACCESSOIRES!AT19 -> 0 | N19: =ACCESSOIRES!AW19 -> 0 | O19: =ACCESSOIRES!BE19 -> 18.837 | P19: =ACCESSOIRES!BF19 -> 14.12775 | Q19: =ACCESSOIRES!BH19 -> 0 | R19: =ACCESSOIRES!BP19 -> 0 | S19: =ACCESSOIRES!BQ19 -> 0 | T19: =ACCESSOIRES!BT19 -> 0 | U19: =ACCESSOIRES!CB19 -> 0 | V19: =ACCESSOIRES!CC19 -> 0 | W19: =ACCESSOIRES!CE19 -> OR0.350.0000 | X19: =ACCESSOIRES!CM19 -> 1.331148 | Y19: =ACCESSOIRES!CN19 -> 1.331148 | Z19: =ACCESSOIRES!CQ19 -> 0 | AA19: =ACCESSOIRES!CY19 -> 0 | AB19: =ACCESSOIRES!CZ19 -> 0 | AC19: =ACCESSOIRES!DB19 -> 0 | AD19: =ACCESSOIRES!DJ19 -> 0 | AE19: =ACCESSOIRES!DK19 -> 0 | AF19: CALES RETRO INCISIVES
A20: CALES SURELEV° (10) | B20: =ACCESSOIRES!C20 -> 0 | C20: =ACCESSOIRES!K20 -> 0 | D20: =ACCESSOIRES!L20 -> 0 | E20: =ACCESSOIRES!N20 -> 0 | F20: =ACCESSOIRES!V20 -> 0 | G20: =ACCESSOIRES!W20 -> 0 | H20: =ACCESSOIRES!Z20 -> 0 | I20: =ACCESSOIRES!AH20 -> 0 | J20: =ACCESSOIRES!AI20 -> 0 | K20: =ACCESSOIRES!AK20 -> 221.756 | L20: =ACCESSOIRES!AS20 -> 0 | M20: =ACCESSOIRES!AT20 -> 0 | N20: =ACCESSOIRES!AW20 -> 0 | O20: =ACCESSOIRES!BE20 -> 0 | P20: =ACCESSOIRES!BF20 -> 0 | Q20: =ACCESSOIRES!BH20 -> 0 | R20: =ACCESSOIRES!BP20 -> 0 | S20: =ACCESSOIRES!BQ20 -> 0 | T20: =ACCESSOIRES!BT20 -> 0 | U20: =ACCESSOIRES!CB20 -> 0 | V20: =ACCESSOIRES!CC20 -> 0 | W20: =ACCESSOIRES!CE20 -> 0 | X20: =ACCESSOIRES!CM20 -> 0 | Y20: =ACCESSOIRES!CN20 -> 0 | Z20: =ACCESSOIRES!CQ20 -> 0 | AA20: =ACCESSOIRES!CY20 -> 0 | AB20: =ACCESSOIRES!CZ20 -> 0 | AC20: =ACCESSOIRES!DB20 -> 0 | AD20: =ACCESSOIRES!DJ20 -> 0 | AE20: =ACCESSOIRES!DK20 -> 0 | AF20: CALES SURELEV° (10)
A21: CHAINETTE ELASTOMERIQUE | B21: =ACCESSOIRES!C21 -> 0 | C21: =ACCESSOIRES!K21 -> 0 | D21: =ACCESSOIRES!L21 -> 0 | E21: =ACCESSOIRES!N21 -> 854.255 | F21: =ACCESSOIRES!V21 -> 0 | G21: =ACCESSOIRES!W21 -> 0 | H21: =ACCESSOIRES!Z21 -> 655.0002 | I21: =ACCESSOIRES!AH21 -> 21.046667 | J21: =ACCESSOIRES!AI21 -> 0 | K21: =ACCESSOIRES!AK21 -> 2261.616 | L21: =ACCESSOIRES!AS21 -> 3 | M21: =ACCESSOIRES!AT21 -> 0 | N21: =ACCESSOIRES!AW21 -> K6426.13 | O21: =ACCESSOIRES!BE21 -> 7.416 | P21: =ACCESSOIRES!BF21 -> 5.562 | Q21: =ACCESSOIRES!BH21 -> 0 | R21: =ACCESSOIRES!BP21 -> 2.6444444 | S21: =ACCESSOIRES!BQ21 -> 0 | T21: =ACCESSOIRES!BT21 -> 0 | U21: =ACCESSOIRES!CB21 -> 0 | V21: =ACCESSOIRES!CC21 -> 0 | W21: =ACCESSOIRES!CE21 -> OR0.639.0002 | X21: =ACCESSOIRES!CM21 -> 17.68884 | Y21: =ACCESSOIRES!CN21 -> 17.68884 | Z21: =ACCESSOIRES!CQ21 -> ECM0693 | AA21: =ACCESSOIRES!CY21 -> 18.239 | AB21: =ACCESSOIRES!CZ21 -> 13.67925 | AC21: =ACCESSOIRES!DB21 -> 0 | AD21: =ACCESSOIRES!DJ21 -> 0 | AE21: =ACCESSOIRES!DK21 -> 0 | AF21: CHAINETTE ELASTOMERIQUE
B22: =ACCESSOIRES!C22 -> 0 | C22: =ACCESSOIRES!K22 -> 0 | D22: =ACCESSOIRES!L22 -> 0 | E22: =ACCESSOIRES!N22 -> 854.252 | F22: =ACCESSOIRES!V22 -> 0 | G22: =ACCESSOIRES!W22 -> 0 | H22: =ACCESSOIRES!Z22 -> 0 | I22: =ACCESSOIRES!AH22 -> 0 | J22: =ACCESSOIRES!AI22 -> 0 | K22: =ACCESSOIRES!AK22 -> 2261.617 | L22: =ACCESSOIRES!AS22 -> 3 | M22: =ACCESSOIRES!AT22 -> 0 | N22: =ACCESSOIRES!AW22 -> K6466.13 | O22: =ACCESSOIRES!BE22 -> 7.416 | P22: =ACCESSOIRES!BF22 -> 5.562 | Q22: =ACCESSOIRES!BH22 -> 0 | R22: =ACCESSOIRES!BP22 -> 0 | S22: =ACCESSOIRES!BQ22 -> 0 | T22: =ACCESSOIRES!BT22 -> 0 | U22: =ACCESSOIRES!CB22 -> 0 | V22: =ACCESSOIRES!CC22 -> 0 | W22: =ACCESSOIRES!CE22 -> OR0.639.0001 | X22: =ACCESSOIRES!CM22 -> 17.68884 | Y22: =ACCESSOIRES!CN22 -> 17.68884 | Z22: =ACCESSOIRES!CQ22 -> ECM0698 | AA22: =ACCESSOIRES!CY22 -> 18.239 | AB22: =ACCESSOIRES!CZ22 -> 13.67925 | AC22: =ACCESSOIRES!DB22 -> 0 | AD22: =ACCESSOIRES!DJ22 -> 0 | AE22: =ACCESSOIRES!DK22 -> 0
B23: =ACCESSOIRES!C23 -> 0 | C23: =ACCESSOIRES!K23 -> 0 | D23: =ACCESSOIRES!L23 -> 0 | E23: =ACCESSOIRES!N23 -> 854.256 | F23: =ACCESSOIRES!V23 -> 0 | G23: =ACCESSOIRES!W23 -> 0 | H23: =ACCESSOIRES!Z23 -> 655.0001 | I23: =ACCESSOIRES!AH23 -> 21.046667 | J23: =ACCESSOIRES!AI23 -> 0 | K23: =ACCESSOIRES!AK23 -> 2261.624 | L23: =ACCESSOIRES!AS23 -> 3 | M23: =ACCESSOIRES!AT23 -> 0 | N23: =ACCESSOIRES!AW23 -> K6425.13 | O23: =ACCESSOIRES!BE23 -> 7.416 | P23: =ACCESSOIRES!BF23 -> 5.562 | Q23: =ACCESSOIRES!BH23 -> 0 | R23: =ACCESSOIRES!BP23 -> 0 | S23: =ACCESSOIRES!BQ23 -> 0 | T23: =ACCESSOIRES!BT23 -> 0 | U23: =ACCESSOIRES!CB23 -> 0 | V23: =ACCESSOIRES!CC23 -> 0 | W23: =ACCESSOIRES!CE23 -> OR0.639.0004 | X23: =ACCESSOIRES!CM23 -> 17.68884 | Y23: =ACCESSOIRES!CN23 -> 17.68884 | Z23: =ACCESSOIRES!CQ23 -> ECM0650 | AA23: =ACCESSOIRES!CY23 -> 15.522553 | AB23: =ACCESSOIRES!CZ23 -> 11.641915 | AC23: =ACCESSOIRES!DB23 -> 0 | AD23: =ACCESSOIRES!DJ23 -> 0 | AE23: =ACCESSOIRES!DK23 -> 0
B24: =ACCESSOIRES!C24 -> 0 | C24: =ACCESSOIRES!K24 -> 0 | D24: =ACCESSOIRES!L24 -> 0 | E24: =ACCESSOIRES!N24 -> 854.253 | F24: =ACCESSOIRES!V24 -> 0 | G24: =ACCESSOIRES!W24 -> 0 | H24: =ACCESSOIRES!Z24 -> 0 | I24: =ACCESSOIRES!AH24 -> 0 | J24: =ACCESSOIRES!AI24 -> 0 | K24: =ACCESSOIRES!AK24 -> 2261.625 | L24: =ACCESSOIRES!AS24 -> 3 | M24: =ACCESSOIRES!AT24 -> 0 | N24: =ACCESSOIRES!AW24 -> K6465.13 | O24: =ACCESSOIRES!BE24 -> 7.416 | P24: =ACCESSOIRES!BF24 -> 5.562 | Q24: =ACCESSOIRES!BH24 -> 0 | R24: =ACCESSOIRES!BP24 -> 0 | S24: =ACCESSOIRES!BQ24 -> 0 | T24: =ACCESSOIRES!BT24 -> 0 | U24: =ACCESSOIRES!CB24 -> 0 | V24: =ACCESSOIRES!CC24 -> 0 | W24: =ACCESSOIRES!CE24 -> OR0.639.0003 | X24: =ACCESSOIRES!CM24 -> 17.68884 | Y24: =ACCESSOIRES!CN24 -> 17.68884 | Z24: =ACCESSOIRES!CQ24 -> ECM0660 | AA24: =ACCESSOIRES!CY24 -> 15.522553 | AB24: =ACCESSOIRES!CZ24 -> 11.641915 | AC24: =ACCESSOIRES!DB24 -> 0 | AD24: =ACCESSOIRES!DJ24 -> 0 | AE24: =ACCESSOIRES!DK24 -> 0
B25: =ACCESSOIRES!C25 -> 0 | C25: =ACCESSOIRES!K25 -> 0 | D25: =ACCESSOIRES!L25 -> 0 | E25: =ACCESSOIRES!N25 -> 854.259 | F25: =ACCESSOIRES!V25 -> 0 | G25: =ACCESSOIRES!W25 -> 0 | H25: =ACCESSOIRES!Z25 -> 655.0003 | I25: =ACCESSOIRES!AH25 -> 21.046667 | J25: =ACCESSOIRES!AI25 -> 0 | K25: =ACCESSOIRES!AK25 -> 2261.620 | L25: =ACCESSOIRES!AS25 -> 3 | M25: =ACCESSOIRES!AT25 -> 0 | N25: =ACCESSOIRES!AW25 -> K6420.13 | O25: =ACCESSOIRES!BE25 -> 7.416 | P25: =ACCESSOIRES!BF25 -> 5.562 | Q25: =ACCESSOIRES!BH25 -> 0 | R25: =ACCESSOIRES!BP25 -> 0 | S25: =ACCESSOIRES!BQ25 -> 0 | T25: =ACCESSOIRES!BT25 -> 0 | U25: =ACCESSOIRES!CB25 -> 0 | V25: =ACCESSOIRES!CC25 -> 0 | W25: =ACCESSOIRES!CE25 -> OR0.639.0019 | X25: =ACCESSOIRES!CM25 -> 17.68884 | Y25: =ACCESSOIRES!CN25 -> 17.68884 | Z25: =ACCESSOIRES!CQ25 -> ECM0691 | AA25: =ACCESSOIRES!CY25 -> 15.522553 | AB25: =ACCESSOIRES!CZ25 -> 11.641915 | AC25: =ACCESSOIRES!DB25 -> 0 | AD25: =ACCESSOIRES!DJ25 -> 0 | AE25: =ACCESSOIRES!DK25 -> 0
B26: =ACCESSOIRES!C26 -> 0 | C26: =ACCESSOIRES!K26 -> 0 | D26: =ACCESSOIRES!L26 -> 0 | E26: =ACCESSOIRES!N26 -> 854.254 | F26: =ACCESSOIRES!V26 -> 0 | G26: =ACCESSOIRES!W26 -> 0 | H26: =ACCESSOIRES!Z26 -> 0 | I26: =ACCESSOIRES!AH26 -> 0 | J26: =ACCESSOIRES!AI26 -> 0 | K26: =ACCESSOIRES!AK26 -> 2261.621 | L26: =ACCESSOIRES!AS26 -> 3 | M26: =ACCESSOIRES!AT26 -> 0 | N26: =ACCESSOIRES!AW26 -> K6460.13 | O26: =ACCESSOIRES!BE26 -> 7.416 | P26: =ACCESSOIRES!BF26 -> 5.562 | Q26: =ACCESSOIRES!BH26 -> 0 | R26: =ACCESSOIRES!BP26 -> 0 | S26: =ACCESSOIRES!BQ26 -> 0 | T26: =ACCESSOIRES!BT26 -> 0 | U26: =ACCESSOIRES!CB26 -> 0 | V26: =ACCESSOIRES!CC26 -> 0 | W26: =ACCESSOIRES!CE26 -> OR0.639.0018 | X26: =ACCESSOIRES!CM26 -> 17.68884 | Y26: =ACCESSOIRES!CN26 -> 17.68884 | Z26: =ACCESSOIRES!CQ26 -> ECM0697 | AA26: =ACCESSOIRES!CY26 -> 15.522553 | AB26: =ACCESSOIRES!CZ26 -> 11.641915 | AC26: =ACCESSOIRES!DB26 -> 0 | AD26: =ACCESSOIRES!DJ26 -> 0 | AE26: =ACCESSOIRES!DK26 -> 0
A27: CIRE PROTECTION | B27: =ACCESSOIRES!C27 -> 0 | C27: =ACCESSOIRES!K27 -> 0 | D27: =ACCESSOIRES!L27 -> 0 | E27: =ACCESSOIRES!N27 -> 861.200 | F27: =ACCESSOIRES!V27 -> 0.7592 | G27: =ACCESSOIRES!W27 -> 0.5694 | H27: =ACCESSOIRES!Z27 -> 413.0011 | I27: =ACCESSOIRES!AH27 -> 1.4914 | J27: =ACCESSOIRES!AI27 -> 0 | K27: =ACCESSOIRES!AK27 -> 2279.003 | L27: =ACCESSOIRES!AS27 -> 0.548 | M27: =ACCESSOIRES!AT27 -> 0 | N27: =ACCESSOIRES!AW27 -> TSMC | O27: =ACCESSOIRES!BE27 -> 0.7416 | P27: =ACCESSOIRES!BF27 -> 0.5562 | Q27: =ACCESSOIRES!BH27 -> 7852.172 | R27: =ACCESSOIRES!BP27 -> 0.594 | S27: =ACCESSOIRES!BQ27 -> 0 | T27: =ACCESSOIRES!BT27 -> 732750 | U27: =ACCESSOIRES!CB27 -> 0.62 | V27: =ACCESSOIRES!CC27 -> 0 | W27: =ACCESSOIRES!CE27 -> OR0.757.0010 | X27: =ACCESSOIRES!CM27 -> 1.540149 | Y27: =ACCESSOIRES!CN27 -> 1.540149 | Z27: =ACCESSOIRES!CQ27 -> ECM1353 | AA27: =ACCESSOIRES!CY27 -> 0.98072 | AB27: =ACCESSOIRES!CZ27 -> 0.73554 | AC27: =ACCESSOIRES!DB27 -> 0 | AD27: =ACCESSOIRES!DJ27 -> 0 | AE27: =ACCESSOIRES!DK27 -> 0 | AF27: CIRE PROTECTION
B28: =ACCESSOIRES!C28 -> 0 | C28: =ACCESSOIRES!K28 -> 0 | D28: =ACCESSOIRES!L28 -> 0 | E28: =ACCESSOIRES!N28 -> 0 | F28: =ACCESSOIRES!V28 -> 0 | G28: =ACCESSOIRES!W28 -> 0 | H28: =ACCESSOIRES!Z28 -> 0 | I28: =ACCESSOIRES!AH28 -> 0 | J28: =ACCESSOIRES!AI28 -> 0 | K28: =ACCESSOIRES!AK28 -> 0 | L28: =ACCESSOIRES!AS28 -> 0 | M28: =ACCESSOIRES!AT28 -> 0 | N28: =ACCESSOIRES!AW28 -> 0 | O28: =ACCESSOIRES!BE28 -> 0 | P28: =ACCESSOIRES!BF28 -> 0 | Q28: =ACCESSOIRES!BH28 -> 3706.769 | R28: =ACCESSOIRES!BP28 -> 0.39583333 | S28: =ACCESSOIRES!BQ28 -> 0 | T28: =ACCESSOIRES!BT28 -> 1304 | U28: =ACCESSOIRES!CB28 -> 0.9354537 | V28: =ACCESSOIRES!CC28 -> 0 | W28: =ACCESSOIRES!CE28 -> 0 | X28: =ACCESSOIRES!CM28 -> 0 | Y28: =ACCESSOIRES!CN28 -> 0 | Z28: =ACCESSOIRES!CQ28 -> 0 | AA28: =ACCESSOIRES!CY28 -> 0 | AB28: =ACCESSOIRES!CZ28 -> 0 | AC28: =ACCESSOIRES!DB28 -> 0 | AD28: =ACCESSOIRES!DJ28 -> 0 | AE28: =ACCESSOIRES!DK28 -> 0
A29: CLE ACTIVATION VERIN | B29: =ACCESSOIRES!C29 -> 0 | C29: =ACCESSOIRES!K29 -> 0 | D29: =ACCESSOIRES!L29 -> 0 | E29: =ACCESSOIRES!N29 -> 0 | F29: =ACCESSOIRES!V29 -> 0 | G29: =ACCESSOIRES!W29 -> 0 | H29: =ACCESSOIRES!Z29 -> 100.0009 | I29: =ACCESSOIRES!AH29 -> 2.46 | J29: =ACCESSOIRES!AI29 -> 0 | K29: =ACCESSOIRES!AK29 -> 0 | L29: =ACCESSOIRES!AS29 -> 0 | M29: =ACCESSOIRES!AT29 -> 0 | N29: =ACCESSOIRES!AW29 -> A0558.00 | O29: =ACCESSOIRES!BE29 -> 1.873 | P29: =ACCESSOIRES!BF29 -> 1.21745 | Q29: =ACCESSOIRES!BH29 -> 0 | R29: =ACCESSOIRES!BP29 -> 0 | S29: =ACCESSOIRES!BQ29 -> 0 | T29: =ACCESSOIRES!BT29 -> 0 | U29: =ACCESSOIRES!CB29 -> 0 | V29: =ACCESSOIRES!CC29 -> 0 | W29: =ACCESSOIRES!CE29 -> 0 | X29: =ACCESSOIRES!CM29 -> 0 | Y29: =ACCESSOIRES!CN29 -> 0 | Z29: =ACCESSOIRES!CQ29 -> 0 | AA29: =ACCESSOIRES!CY29 -> 0 | AB29: =ACCESSOIRES!CZ29 -> 0 | AC29: =ACCESSOIRES!DB29 -> 0 | AD29: =ACCESSOIRES!DJ29 -> 0 | AE29: =ACCESSOIRES!DK29 -> 0 | AF29: CLE ACTIVATION VERIN
A30: CLEAT A COLLER | B30: =ACCESSOIRES!C30 -> 0 | C30: =ACCESSOIRES!K30 -> 0 | D30: =ACCESSOIRES!L30 -> 0 | E30: =ACCESSOIRES!N30 -> 593.165 | F30: =ACCESSOIRES!V30 -> 0 | G30: =ACCESSOIRES!W30 -> 0 | H30: =ACCESSOIRES!Z30 -> 0 | I30: =ACCESSOIRES!AH30 -> 0 | J30: =ACCESSOIRES!AI30 -> 0 | K30: =ACCESSOIRES!AK30 -> 2262.103 | L30: =ACCESSOIRES!AS30 -> 3.2 | M30: =ACCESSOIRES!AT30 -> 0 | N30: =ACCESSOIRES!AW30 -> 0 | O30: =ACCESSOIRES!BE30 -> 6.268 | P30: =ACCESSOIRES!BF30 -> 4.701 | Q30: =ACCESSOIRES!BH30 -> 0 | R30: =ACCESSOIRES!BP30 -> 0 | S30: =ACCESSOIRES!BQ30 -> 0 | T30: =ACCESSOIRES!BT30 -> 0 | U30: =ACCESSOIRES!CB30 -> 0 | V30: =ACCESSOIRES!CC30 -> 0 | W30: =ACCESSOIRES!CE30 -> OR0.300.0092 (AY0.704.4014) | X30: =ACCESSOIRES!CM30 -> 0.309764 | Y30: =ACCESSOIRES!CN30 -> 0.309764 | Z30: =ACCESSOIRES!CQ30 -> 0 | AA30: =ACCESSOIRES!CY30 -> 0 | AB30: =ACCESSOIRES!CZ30 -> 0 | AC30: =ACCESSOIRES!DB30 -> 0 | AD30: =ACCESSOIRES!DJ30 -> 0 | AE30: =ACCESSOIRES!DK30 -> 0 | AF30: CLEAT A COLLER
A31: COTON SALIVAIRE | B31: =ACCESSOIRES!C31 -> 0 | C31: =ACCESSOIRES!K31 -> 0 | D31: =ACCESSOIRES!L31 -> 0 | E31: =ACCESSOIRES!N31 -> 0 | F31: =ACCESSOIRES!V31 -> 0 | G31: =ACCESSOIRES!W31 -> 0 | H31: =ACCESSOIRES!Z31 -> 0 | I31: =ACCESSOIRES!AH31 -> 0 | J31: =ACCESSOIRES!AI31 -> 0 | K31: =ACCESSOIRES!AK31 -> 225.932 | L31: =ACCESSOIRES!AS31 -> 16.666667 | M31: =ACCESSOIRES!AT31 -> 0 | N31: =ACCESSOIRES!AW31 -> 0 | O31: =ACCESSOIRES!BE31 -> 0.01724 | P31: =ACCESSOIRES!BF31 -> 0.01293 | Q31: =ACCESSOIRES!BH31 -> 4939.122 | R31: =ACCESSOIRES!BP31 -> 16.666667 | S31: =ACCESSOIRES!BQ31 -> 0 | T31: =ACCESSOIRES!BT31 -> 0 | U31: =ACCESSOIRES!CB31 -> 0 | V31: =ACCESSOIRES!CC31 -> 0 | W31: =ACCESSOIRES!CE31 -> RK0.340.0101 | X31: =ACCESSOIRES!CM31 -> 0.0413816 | Y31: =ACCESSOIRES!CN31 -> 0.0413816 | Z31: =ACCESSOIRES!CQ31 -> 0 | AA31: =ACCESSOIRES!CY31 -> 0 | AB31: =ACCESSOIRES!CZ31 -> 0 | AC31: =ACCESSOIRES!DB31 -> 900.3746 | AD31: =ACCESSOIRES!DJ31 -> 17 | AE31: =ACCESSOIRES!DK31 -> 0 | AF31: COTON SALIVAIRE
B32: =ACCESSOIRES!C32 -> 0 | C32: =ACCESSOIRES!K32 -> 0 | D32: =ACCESSOIRES!L32 -> 0 | E32: =ACCESSOIRES!N32 -> 0 | F32: =ACCESSOIRES!V32 -> 0 | G32: =ACCESSOIRES!W32 -> 0 | H32: =ACCESSOIRES!Z32 -> 0 | I32: =ACCESSOIRES!AH32 -> 0 | J32: =ACCESSOIRES!AI32 -> 0 | K32: =ACCESSOIRES!AK32 -> 225.933 | L32: =ACCESSOIRES!AS32 -> 16.666667 | M32: =ACCESSOIRES!AT32 -> 0 | N32: =ACCESSOIRES!AW32 -> 0 | O32: =ACCESSOIRES!BE32 -> 0 | P32: =ACCESSOIRES!BF32 -> 0 | Q32: =ACCESSOIRES!BH32 -> 4931.122 | R32: =ACCESSOIRES!BP32 -> 16.666667 | S32: =ACCESSOIRES!BQ32 -> 0 | T32: =ACCESSOIRES!BT32 -> 0 | U32: =ACCESSOIRES!CB32 -> 0 | V32: =ACCESSOIRES!CC32 -> 0 | W32: =ACCESSOIRES!CE32 -> RK0.340.0102 | X32: =ACCESSOIRES!CM32 -> 0.0434148 | Y32: =ACCESSOIRES!CN32 -> 0.0434148 | Z32: =ACCESSOIRES!CQ32 -> 0 | AA32: =ACCESSOIRES!CY32 -> 0 | AB32: =ACCESSOIRES!CZ32 -> 0 | AC32: =ACCESSOIRES!DB32 -> 900.3748 | AD32: =ACCESSOIRES!DJ32 -> 17 | AE32: =ACCESSOIRES!DK32 -> 0
A33: COTON ROEKO | B33: =ACCESSOIRES!C33 -> 0 | C33: =ACCESSOIRES!K33 -> 0 | D33: =ACCESSOIRES!L33 -> 0 | E33: =ACCESSOIRES!N33 -> 0 | F33: =ACCESSOIRES!V33 -> 0 | G33: =ACCESSOIRES!W33 -> 0 | H33: =ACCESSOIRES!Z33 -> 0 | I33: =ACCESSOIRES!AH33 -> 0 | J33: =ACCESSOIRES!AI33 -> 0 | K33: =ACCESSOIRES!AK33 -> 225.010 | L33: =ACCESSOIRES!AS33 -> 0.171 | M33: =ACCESSOIRES!AT33 -> 0 | N33: =ACCESSOIRES!AW33 -> 0 | O33: =ACCESSOIRES!BE33 -> 0 | P33: =ACCESSOIRES!BF33 -> 0 | Q33: =ACCESSOIRES!BH33 -> 0 | R33: =ACCESSOIRES!BP33 -> 0 | S33: =ACCESSOIRES!BQ33 -> 0 | T33: =ACCESSOIRES!BT33 -> 0 | U33: =ACCESSOIRES!CB33 -> 0 | V33: =ACCESSOIRES!CC33 -> 0 | W33: =ACCESSOIRES!CE33 -> RK0.340.0155 | X33: =ACCESSOIRES!CM33 -> 0.2515188 | Y33: =ACCESSOIRES!CN33 -> 0.2515188 | Z33: =ACCESSOIRES!CQ33 -> 0 | AA33: =ACCESSOIRES!CY33 -> 0 | AB33: =ACCESSOIRES!CZ33 -> 0 | AC33: =ACCESSOIRES!DB33 -> 0 | AD33: =ACCESSOIRES!DJ33 -> 0 | AE33: =ACCESSOIRES!DK33 -> 0 | AF33: COTON ROEKO
A34: CRAYON MARQUEUR | B34: =ACCESSOIRES!C34 -> 0 | C34: =ACCESSOIRES!K34 -> 0 | D34: =ACCESSOIRES!L34 -> 0 | E34: =ACCESSOIRES!N34 -> 0 | F34: =ACCESSOIRES!V34 -> 0 | G34: =ACCESSOIRES!W34 -> 0 | H34: =ACCESSOIRES!Z34 -> 0 | I34: =ACCESSOIRES!AH34 -> 0 | J34: =ACCESSOIRES!AI34 -> 0 | K34: =ACCESSOIRES!AK34 -> 0 | L34: =ACCESSOIRES!AS34 -> 0 | M34: =ACCESSOIRES!AT34 -> 0 | N34: =ACCESSOIRES!AW34 -> T3608.00 | O34: =ACCESSOIRES!BE34 -> 4.27 | P34: =ACCESSOIRES!BF34 -> 2.7755 | Q34: =ACCESSOIRES!BH34 -> 0 | R34: =ACCESSOIRES!BP34 -> 0 | S34: =ACCESSOIRES!BQ34 -> 0 | T34: =ACCESSOIRES!BT34 -> 0 | U34: =ACCESSOIRES!CB34 -> 0 | V34: =ACCESSOIRES!CC34 -> 0 | W34: =ACCESSOIRES!CE34 -> SM0.200.1005 | X34: =ACCESSOIRES!CM34 -> 5.3222 | Y34: =ACCESSOIRES!CN34 -> 5.3222 | Z34: =ACCESSOIRES!CQ34 -> 0 | AA34: =ACCESSOIRES!CY34 -> 0 | AB34: =ACCESSOIRES!CZ34 -> 0 | AC34: =ACCESSOIRES!DB34 -> 0 | AD34: =ACCESSOIRES!DJ34 -> 0 | AE34: =ACCESSOIRES!DK34 -> 0 | AF34: CRAYON MARQUEUR
A35: CROCHET CHIRURGICAL | B35: =ACCESSOIRES!C35 -> 0 | C35: =ACCESSOIRES!K35 -> 0 | D35: =ACCESSOIRES!L35 -> 0 | E35: =ACCESSOIRES!N35 -> 851.623C | F35: =ACCESSOIRES!V35 -> 3.814 | G35: =ACCESSOIRES!W35 -> 2.8605 | H35: =ACCESSOIRES!Z35 -> 0 | I35: =ACCESSOIRES!AH35 -> 0 | J35: =ACCESSOIRES!AI35 -> 0 | K35: =ACCESSOIRES!AK35 -> 2262.036 | L35: =ACCESSOIRES!AS35 -> 1.6 | M35: =ACCESSOIRES!AT35 -> 0 | N35: =ACCESSOIRES!AW35 -> 0 | O35: =ACCESSOIRES!BE35 -> 0 | P35: =ACCESSOIRES!BF35 -> 0 | Q35: =ACCESSOIRES!BH35 -> 7611.172 | R35: =ACCESSOIRES!BP35 -> 2.6 | S35: =ACCESSOIRES!BQ35 -> 0 | T35: =ACCESSOIRES!BT35 -> F201.06 | U35: =ACCESSOIRES!CB35 -> 1 | V35: =ACCESSOIRES!CC35 -> 0 | W35: =ACCESSOIRES!CE35 -> AY0.704.9000 | X35: =ACCESSOIRES!CM35 -> 1.4323296 | Y35: =ACCESSOIRES!CN35 -> 1.4323296 | Z35: =ACCESSOIRES!CQ35 -> ECM1342 | AA35: =ACCESSOIRES!CY35 -> 2.61326 | AB35: =ACCESSOIRES!CZ35 -> 1.959945 | AC35: =ACCESSOIRES!DB35 -> 0 | AD35: =ACCESSOIRES!DJ35 -> 0 | AE35: =ACCESSOIRES!DK35 -> 0 | AF35: CROCHET CHIRURGICAL
A36: CROCHET PLASTIQUE POUR ELASTIQUES | B36: =ACCESSOIRES!C36 -> 0 | C36: =ACCESSOIRES!K36 -> 0 | D36: =ACCESSOIRES!L36 -> 0 | E36: =ACCESSOIRES!N36 -> 0 | F36: =ACCESSOIRES!V36 -> 0 | G36: =ACCESSOIRES!W36 -> 0 | H36: =ACCESSOIRES!Z36 -> 562.0002 | I36: =ACCESSOIRES!AH36 -> #DIV/0! | J36: =ACCESSOIRES!AI36 -> #DIV/0! | K36: =ACCESSOIRES!AK36 -> 0 | L36: =ACCESSOIRES!AS36 -> 0 | M36: =ACCESSOIRES!AT36 -> 0 | N36: =ACCESSOIRES!AW36 -> 0 | O36: =ACCESSOIRES!BE36 -> 0.4126 | P36: =ACCESSOIRES!BF36 -> 0.30945 | Q36: =ACCESSOIRES!BH36 -> 9274.172 | R36: =ACCESSOIRES!BP36 -> 0.18 | S36: =ACCESSOIRES!BQ36 -> 0 | T36: =ACCESSOIRES!BT36 -> EPT100 | U36: =ACCESSOIRES!CB36 -> 0.16 | V36: =ACCESSOIRES!CC36 -> 0 | W36: =ACCESSOIRES!CE36 -> 0 | X36: =ACCESSOIRES!CM36 -> 0 | Y36: =ACCESSOIRES!CN36 -> 0 | Z36: =ACCESSOIRES!CQ36 -> ECM8019 | AA36: =ACCESSOIRES!CY36 -> 0.323518 | AB36: =ACCESSOIRES!CZ36 -> 0.2426385 | AC36: =ACCESSOIRES!DB36 -> 0 | AD36: =ACCESSOIRES!DJ36 -> 0 | AE36: =ACCESSOIRES!DK36 -> 0 | AF36: CROCHET PLASTIQUE POUR ELASTIQUES
A37: CROCHET PLASTIQUE INVISALIGN | B37: =ACCESSOIRES!C37 -> 0 | C37: =ACCESSOIRES!K37 -> 0 | D37: =ACCESSOIRES!L37 -> 0 | E37: =ACCESSOIRES!N37 -> 0 | F37: =ACCESSOIRES!V37 -> 0 | G37: =ACCESSOIRES!W37 -> 0 | H37: =ACCESSOIRES!Z37 -> 0 | I37: =ACCESSOIRES!AH37 -> 0 | J37: =ACCESSOIRES!AI37 -> 0 | K37: =ACCESSOIRES!AK37 -> 0 | L37: =ACCESSOIRES!AS37 -> 0 | M37: =ACCESSOIRES!AT37 -> 0 | N37: =ACCESSOIRES!AW37 -> 0 | O37: =ACCESSOIRES!BE37 -> 0 | P37: =ACCESSOIRES!BF37 -> 0 | Q37: =ACCESSOIRES!BH37 -> 0 | R37: =ACCESSOIRES!BP37 -> 0 | S37: =ACCESSOIRES!BQ37 -> 0 | T37: =ACCESSOIRES!BT37 -> RR.1TSB | U37: =ACCESSOIRES!CB37 -> 1.5 | V37: =ACCESSOIRES!CC37 -> 0 | W37: =ACCESSOIRES!CE37 -> 0 | X37: =ACCESSOIRES!CM37 -> 0 | Y37: =ACCESSOIRES!CN37 -> 0 | Z37: =ACCESSOIRES!CQ37 -> 0 | AA37: =ACCESSOIRES!CY37 -> 0 | AB37: =ACCESSOIRES!CZ37 -> 0 | AC37: =ACCESSOIRES!DB37 -> 0 | AD37: =ACCESSOIRES!DJ37 -> 0 | AE37: =ACCESSOIRES!DK37 -> 0 | AF37: CROCHET PLASTIQUE INVISALIGN
A38: DISTRIBUTEUR COTON | B38: =ACCESSOIRES!C38 -> 0 | C38: =ACCESSOIRES!K38 -> 0 | D38: =ACCESSOIRES!L38 -> 0 | E38: =ACCESSOIRES!N38 -> 0 | F38: =ACCESSOIRES!V38 -> 0 | G38: =ACCESSOIRES!W38 -> 0 | H38: =ACCESSOIRES!Z38 -> 0 | I38: =ACCESSOIRES!AH38 -> 0 | J38: =ACCESSOIRES!AI38 -> 0 | K38: =ACCESSOIRES!AK38 -> 0 | L38: =ACCESSOIRES!AS38 -> 0 | M38: =ACCESSOIRES!AT38 -> 0 | N38: =ACCESSOIRES!AW38 -> 0 | O38: =ACCESSOIRES!BE38 -> 0 | P38: =ACCESSOIRES!BF38 -> 0 | Q38: =ACCESSOIRES!BH38 -> 0 | R38: =ACCESSOIRES!BP38 -> 0 | S38: =ACCESSOIRES!BQ38 -> 0 | T38: =ACCESSOIRES!BT38 -> 0 | U38: =ACCESSOIRES!CB38 -> 0 | V38: =ACCESSOIRES!CC38 -> 0 | W38: =ACCESSOIRES!CE38 -> 0 | X38: =ACCESSOIRES!CM38 -> 0 | Y38: =ACCESSOIRES!CN38 -> 0 | Z38: =ACCESSOIRES!CQ38 -> 0 | AA38: =ACCESSOIRES!CY38 -> 0 | AB38: =ACCESSOIRES!CZ38 -> 0 | AC38: =ACCESSOIRES!DB38 -> 900.6049 | AD38: =ACCESSOIRES!DJ38 -> 0.31 | AE38: =ACCESSOIRES!DK38 -> 0 | AF38: DISTRIBUTEUR COTON
A39: DISTRIBUTEUR ELASTIQUE | B39: =ACCESSOIRES!C39 -> 0 | C39: =ACCESSOIRES!K39 -> 0 | D39: =ACCESSOIRES!L39 -> 0 | E39: =ACCESSOIRES!N39 -> 851.824 | F39: =ACCESSOIRES!V39 -> 64.74 | G39: =ACCESSOIRES!W39 -> 48.555 | H39: =ACCESSOIRES!Z39 -> 0 | I39: =ACCESSOIRES!AH39 -> 0 | J39: =ACCESSOIRES!AI39 -> 0 | K39: =ACCESSOIRES!AK39 -> 0 | L39: =ACCESSOIRES!AS39 -> 0 | M39: =ACCESSOIRES!AT39 -> 0 | N39: =ACCESSOIRES!AW39 -> 0 | O39: =ACCESSOIRES!BE39 -> 0 | P39: =ACCESSOIRES!BF39 -> 0 | Q39: =ACCESSOIRES!BH39 -> 0 | R39: =ACCESSOIRES!BP39 -> 0 | S39: =ACCESSOIRES!BQ39 -> 0 | T39: =ACCESSOIRES!BT39 -> 0 | U39: =ACCESSOIRES!CB39 -> 0 | V39: =ACCESSOIRES!CC39 -> 0 | W39: =ACCESSOIRES!CE39 -> 0 | X39: =ACCESSOIRES!CM39 -> 0 | Y39: =ACCESSOIRES!CN39 -> 0 | Z39: =ACCESSOIRES!CQ39 -> 0 | AA39: =ACCESSOIRES!CY39 -> 0 | AB39: =ACCESSOIRES!CZ39 -> 0 | AC39: =ACCESSOIRES!DB39 -> 0 | AD39: =ACCESSOIRES!DJ39 -> 0 | AE39: =ACCESSOIRES!DK39 -> 0 | AF39: DISTRIBUTEUR ELASTIQUE
A40: DISTRIBUTEUR GOBELET | B40: =ACCESSOIRES!C40 -> 0 | C40: =ACCESSOIRES!K40 -> 0 | D40: =ACCESSOIRES!L40 -> 0 | E40: =ACCESSOIRES!N40 -> 0 | F40: =ACCESSOIRES!V40 -> 0 | G40: =ACCESSOIRES!W40 -> 0 | H40: =ACCESSOIRES!Z40 -> 0 | I40: =ACCESSOIRES!AH40 -> 0 | J40: =ACCESSOIRES!AI40 -> 0 | K40: =ACCESSOIRES!AK40 -> 225.053 | L40: =ACCESSOIRES!AS40 -> 28.6 | M40: =ACCESSOIRES!AT40 -> 0 | N40: =ACCESSOIRES!AW40 -> 0 | O40: =ACCESSOIRES!BE40 -> 0 | P40: =ACCESSOIRES!BF40 -> 0 | Q40: =ACCESSOIRES!BH40 -> 3293.172 | R40: =ACCESSOIRES!BP40 -> 26 | S40: =ACCESSOIRES!BQ40 -> 0 | T40: =ACCESSOIRES!BT40 -> 0 | U40: =ACCESSOIRES!CB40 -> 0 | V40: =ACCESSOIRES!CC40 -> 0 | W40: =ACCESSOIRES!CE40 -> 0 | X40: =ACCESSOIRES!CM40 -> 0 | Y40: =ACCESSOIRES!CN40 -> 0 | Z40: =ACCESSOIRES!CQ40 -> 0 | AA40: =ACCESSOIRES!CY40 -> 0 | AB40: =ACCESSOIRES!CZ40 -> 0 | AC40: =ACCESSOIRES!DB40 -> 950.1071 | AD40: =ACCESSOIRES!DJ40 -> 22.7 | AE40: =ACCESSOIRES!DK40 -> 0 | AF40: DISTRIBUTEUR GOBELET
A41: DISTRIBUTEUR PAPIER | B41: =ACCESSOIRES!C41 -> 0 | C41: =ACCESSOIRES!K41 -> 0 | D41: =ACCESSOIRES!L41 -> 0 | E41: =ACCESSOIRES!N41 -> 0 | F41: =ACCESSOIRES!V41 -> 0 | G41: =ACCESSOIRES!W41 -> 0 | H41: =ACCESSOIRES!Z41 -> 0 | I41: =ACCESSOIRES!AH41 -> 0 | J41: =ACCESSOIRES!AI41 -> 0 | K41: =ACCESSOIRES!AK41 -> 0 | L41: =ACCESSOIRES!AS41 -> 0 | M41: =ACCESSOIRES!AT41 -> 0 | N41: =ACCESSOIRES!AW41 -> 0 | O41: =ACCESSOIRES!BE41 -> 0 | P41: =ACCESSOIRES!BF41 -> 0 | Q41: =ACCESSOIRES!BH41 -> 5203.176 | R41: =ACCESSOIRES!BP41 -> 51 | S41: =ACCESSOIRES!BQ41 -> 0 | T41: =ACCESSOIRES!BT41 -> 0 | U41: =ACCESSOIRES!CB41 -> 0 | V41: =ACCESSOIRES!CC41 -> 0 | W41: =ACCESSOIRES!CE41 -> 0 | X41: =ACCESSOIRES!CM41 -> 0 | Y41: =ACCESSOIRES!CN41 -> 0 | Z41: =ACCESSOIRES!CQ41 -> 0 | AA41: =ACCESSOIRES!CY41 -> 0 | AB41: =ACCESSOIRES!CZ41 -> 0 | AC41: =ACCESSOIRES!DB41 -> 891.2014 | AD41: =ACCESSOIRES!DJ41 -> 103.2 | AE41: =ACCESSOIRES!DK41 -> 0 | AF41: DISTRIBUTEUR PAPIER
B42: =ACCESSOIRES!C42 -> 0 | C42: =ACCESSOIRES!K42 -> 0 | D42: =ACCESSOIRES!L42 -> 0 | E42: =ACCESSOIRES!N42 -> 0 | F42: =ACCESSOIRES!V42 -> 0 | G42: =ACCESSOIRES!W42 -> 0 | H42: =ACCESSOIRES!Z42 -> 0 | I42: =ACCESSOIRES!AH42 -> 0 | J42: =ACCESSOIRES!AI42 -> 0 | K42: =ACCESSOIRES!AK42 -> 0 | L42: =ACCESSOIRES!AS42 -> 0 | M42: =ACCESSOIRES!AT42 -> 0 | N42: =ACCESSOIRES!AW42 -> 0 | O42: =ACCESSOIRES!BE42 -> 0 | P42: =ACCESSOIRES!BF42 -> 0 | Q42: =ACCESSOIRES!BH42 -> 0 | R42: =ACCESSOIRES!BP42 -> 0 | S42: =ACCESSOIRES!BQ42 -> 0 | T42: =ACCESSOIRES!BT42 -> 0 | U42: =ACCESSOIRES!CB42 -> 0 | V42: =ACCESSOIRES!CC42 -> 0 | W42: =ACCESSOIRES!CE42 -> 0 | X42: =ACCESSOIRES!CM42 -> 0 | Y42: =ACCESSOIRES!CN42 -> 0 | Z42: =ACCESSOIRES!CQ42 -> 0 | AA42: =ACCESSOIRES!CY42 -> 0 | AB42: =ACCESSOIRES!CZ42 -> 0 | AC42: =ACCESSOIRES!DB42 -> 0 | AD42: =ACCESSOIRES!DJ42 -> 0 | AE42: =ACCESSOIRES!DK42 -> 0
A43: DISTRIBUTEUR SAVON | B43: =ACCESSOIRES!C43 -> 0 | C43: =ACCESSOIRES!K43 -> 0 | D43: =ACCESSOIRES!L43 -> 0 | E43: =ACCESSOIRES!N43 -> 0 | F43: =ACCESSOIRES!V43 -> 0 | G43: =ACCESSOIRES!W43 -> 0 | H43: =ACCESSOIRES!Z43 -> 0 | I43: =ACCESSOIRES!AH43 -> 0 | J43: =ACCESSOIRES!AI43 -> 0 | K43: =ACCESSOIRES!AK43 -> 0 | L43: =ACCESSOIRES!AS43 -> 0 | M43: =ACCESSOIRES!AT43 -> 0 | N43: =ACCESSOIRES!AW43 -> 0 | O43: =ACCESSOIRES!BE43 -> 0 | P43: =ACCESSOIRES!BF43 -> 0 | Q43: =ACCESSOIRES!BH43 -> 5207.176 | R43: =ACCESSOIRES!BP43 -> 22 | S43: =ACCESSOIRES!BQ43 -> 0 | T43: =ACCESSOIRES!BT43 -> 0 | U43: =ACCESSOIRES!CB43 -> 0 | V43: =ACCESSOIRES!CC43 -> 0 | W43: =ACCESSOIRES!CE43 -> 0 | X43: =ACCESSOIRES!CM43 -> 0 | Y43: =ACCESSOIRES!CN43 -> 0 | Z43: =ACCESSOIRES!CQ43 -> 0 | AA43: =ACCESSOIRES!CY43 -> 0 | AB43: =ACCESSOIRES!CZ43 -> 0 | AC43: =ACCESSOIRES!DB43 -> 872.3989 | AD43: =ACCESSOIRES!DJ43 -> 32.8 | AE43: =ACCESSOIRES!DK43 -> 0 | AF43: DISTRIBUTEUR SAVON
B44: =ACCESSOIRES!C44 -> 0 | C44: =ACCESSOIRES!K44 -> 0 | D44: =ACCESSOIRES!L44 -> 0 | E44: =ACCESSOIRES!N44 -> 0 | F44: =ACCESSOIRES!V44 -> 0 | G44: =ACCESSOIRES!W44 -> 0 | H44: =ACCESSOIRES!Z44 -> 0 | I44: =ACCESSOIRES!AH44 -> 0 | J44: =ACCESSOIRES!AI44 -> 0 | K44: =ACCESSOIRES!AK44 -> 0 | L44: =ACCESSOIRES!AS44 -> 0 | M44: =ACCESSOIRES!AT44 -> 0 | N44: =ACCESSOIRES!AW44 -> 0 | O44: =ACCESSOIRES!BE44 -> 0 | P44: =ACCESSOIRES!BF44 -> 0 | Q44: =ACCESSOIRES!BH44 -> 4233.013 | R44: =ACCESSOIRES!BP44 -> 109 | S44: =ACCESSOIRES!BQ44 -> 0 | T44: =ACCESSOIRES!BT44 -> 0 | U44: =ACCESSOIRES!CB44 -> 0 | V44: =ACCESSOIRES!CC44 -> 0 | W44: =ACCESSOIRES!CE44 -> 0 | X44: =ACCESSOIRES!CM44 -> 0 | Y44: =ACCESSOIRES!CN44 -> 0 | Z44: =ACCESSOIRES!CQ44 -> 0 | AA44: =ACCESSOIRES!CY44 -> 0 | AB44: =ACCESSOIRES!CZ44 -> 0 | AC44: =ACCESSOIRES!DB44 -> 891.2011 | AD44: =ACCESSOIRES!DJ44 -> 109.7 | AE44: =ACCESSOIRES!DK44 -> 0
A45: ECARTEUR | B45: =ACCESSOIRES!C45 -> 0 | C45: =ACCESSOIRES!K45 -> 0 | D45: =ACCESSOIRES!L45 -> 0 | E45: =ACCESSOIRES!N45 -> 0 | F45: =ACCESSOIRES!V45 -> 0 | G45: =ACCESSOIRES!W45 -> 0 | H45: =ACCESSOIRES!Z45 -> 0 | I45: =ACCESSOIRES!AH45 -> 0 | J45: =ACCESSOIRES!AI45 -> 0 | K45: =ACCESSOIRES!AK45 -> 2211.862 | L45: =ACCESSOIRES!AS45 -> 26 | M45: =ACCESSOIRES!AT45 -> 0 | N45: =ACCESSOIRES!AW45 -> 0 | O45: =ACCESSOIRES!BE45 -> 0 | P45: =ACCESSOIRES!BF45 -> 0 | Q45: =ACCESSOIRES!BH45 -> 0 | R45: =ACCESSOIRES!BP45 -> 0 | S45: =ACCESSOIRES!BQ45 -> 0 | T45: =ACCESSOIRES!BT45 -> 5058W | U45: =ACCESSOIRES!CB45 -> 29 | V45: =ACCESSOIRES!CC45 -> 0 | W45: =ACCESSOIRES!CE45 -> 0 | X45: =ACCESSOIRES!CM45 -> 0 | Y45: =ACCESSOIRES!CN45 -> 0 | Z45: =ACCESSOIRES!CQ45 -> ECM1337 | AA45: =ACCESSOIRES!CY45 -> 34.8036 | AB45: =ACCESSOIRES!CZ45 -> 26.1027 | AC45: =ACCESSOIRES!DB45 -> 0 | AD45: =ACCESSOIRES!DJ45 -> 0 | AE45: =ACCESSOIRES!DK45 -> 0 | AF45: ECARTEUR
B46: =ACCESSOIRES!C46 -> 0 | C46: =ACCESSOIRES!K46 -> 0 | D46: =ACCESSOIRES!L46 -> 0 | E46: =ACCESSOIRES!N46 -> 852.760 | F46: =ACCESSOIRES!V46 -> 12.013333 | G46: =ACCESSOIRES!W46 -> 9.01 | H46: =ACCESSOIRES!Z46 -> 0 | I46: =ACCESSOIRES!AH46 -> 0 | J46: =ACCESSOIRES!AI46 -> 0 | K46: =ACCESSOIRES!AK46 -> 2211.861 | L46: =ACCESSOIRES!AS46 -> 26 | M46: =ACCESSOIRES!AT46 -> 0 | N46: =ACCESSOIRES!AW46 -> 0 | O46: =ACCESSOIRES!BE46 -> 0 | P46: =ACCESSOIRES!BF46 -> 0 | Q46: =ACCESSOIRES!BH46 -> 0 | R46: =ACCESSOIRES!BP46 -> 0 | S46: =ACCESSOIRES!BQ46 -> 0 | T46: =ACCESSOIRES!BT46 -> 5056W | U46: =ACCESSOIRES!CB46 -> 29 | V46: =ACCESSOIRES!CC46 -> 0 | W46: =ACCESSOIRES!CE46 -> SG0.720.0690 | X46: =ACCESSOIRES!CM46 -> 22.6044 | Y46: =ACCESSOIRES!CN46 -> 22.6044 | Z46: =ACCESSOIRES!CQ46 -> ECM1333 | AA46: =ACCESSOIRES!CY46 -> 31.8734 | AB46: =ACCESSOIRES!CZ46 -> 23.90505 | AC46: =ACCESSOIRES!DB46 -> 0 | AD46: =ACCESSOIRES!DJ46 -> 0 | AE46: =ACCESSOIRES!DK46 -> 0
A47: ELASTIQUES | B47: =ACCESSOIRES!C47 -> 0 | C47: =ACCESSOIRES!K47 -> 0 | D47: =ACCESSOIRES!L47 -> 0 | E47: =ACCESSOIRES!N47 -> 000.111S | F47: =ACCESSOIRES!V47 -> 0.009868 | G47: =ACCESSOIRES!W47 -> 0.007401 | H47: =ACCESSOIRES!Z47 -> 1000 | I47: =ACCESSOIRES!AH47 -> 0 | J47: =ACCESSOIRES!AI47 -> 0 | K47: =ACCESSOIRES!AK47 -> 0 | L47: =ACCESSOIRES!AS47 -> 0.696 | M47: =ACCESSOIRES!AT47 -> 0 | N47: =ACCESSOIRES!AW47 -> 0 | O47: =ACCESSOIRES!BE47 -> 0.0145 | P47: =ACCESSOIRES!BF47 -> 0.009425 | Q47: =ACCESSOIRES!BH47 -> 0 | R47: =ACCESSOIRES!BP47 -> 0.496 | S47: =ACCESSOIRES!BQ47 -> 0 | T47: =ACCESSOIRES!BT47 -> 0 | U47: =ACCESSOIRES!CB47 -> 0.38 | V47: =ACCESSOIRES!CC47 -> 0 | W47: =ACCESSOIRES!CE47 -> 0 | X47: =ACCESSOIRES!CM47 -> 0 | Y47: =ACCESSOIRES!CN47 -> 0 | Z47: =ACCESSOIRES!CQ47 -> 0 | AA47: =ACCESSOIRES!CY47 -> 0 | AB47: =ACCESSOIRES!CZ47 -> 0 | AC47: =ACCESSOIRES!DB47 -> 0 | AD47: =ACCESSOIRES!DJ47 -> 0 | AE47: =ACCESSOIRES!DK47 -> 0 | AF47: ELASTIQUES
B48: =ACCESSOIRES!C48 -> 0 | C48: =ACCESSOIRES!K48 -> 0 | D48: =ACCESSOIRES!L48 -> 0 | E48: =ACCESSOIRES!N48 -> 000.127 | F48: =ACCESSOIRES!V48 -> 0.033028 | G48: =ACCESSOIRES!W48 -> 0.024771 | H48: =ACCESSOIRES!Z48 -> 1000 | I48: =ACCESSOIRES!AH48 -> 0 | J48: =ACCESSOIRES!AI48 -> 0 | K48: =ACCESSOIRES!AK48 -> 0 | L48: =ACCESSOIRES!AS48 -> 0 | M48: =ACCESSOIRES!AT48 -> 0 | N48: =ACCESSOIRES!AW48 -> 0 | O48: =ACCESSOIRES!BE48 -> 0 | P48: =ACCESSOIRES!BF48 -> 0 | Q48: =ACCESSOIRES!BH48 -> 0 | R48: =ACCESSOIRES!BP48 -> 0 | S48: =ACCESSOIRES!BQ48 -> 0 | T48: =ACCESSOIRES!BT48 -> 0 | U48: =ACCESSOIRES!CB48 -> 0 | V48: =ACCESSOIRES!CC48 -> 0 | W48: =ACCESSOIRES!CE48 -> 0 | X48: =ACCESSOIRES!CM48 -> 0 | Y48: =ACCESSOIRES!CN48 -> 0 | Z48: =ACCESSOIRES!CQ48 -> 0 | AA48: =ACCESSOIRES!CY48 -> 0 | AB48: =ACCESSOIRES!CZ48 -> 0 | AC48: =ACCESSOIRES!DB48 -> 0 | AD48: =ACCESSOIRES!DJ48 -> 0 | AE48: =ACCESSOIRES!DK48 -> 0
B49: =ACCESSOIRES!C49 -> 0 | C49: =ACCESSOIRES!K49 -> 0 | D49: =ACCESSOIRES!L49 -> 0 | E49: =ACCESSOIRES!N49 -> 000.111LF | F49: =ACCESSOIRES!V49 -> 0.025003333 | G49: =ACCESSOIRES!W49 -> 0.0187525 | H49: =ACCESSOIRES!Z49 -> 1000 | I49: =ACCESSOIRES!AH49 -> 0 | J49: =ACCESSOIRES!AI49 -> 0 | K49: =ACCESSOIRES!AK49 -> 0 | L49: =ACCESSOIRES!AS49 -> 0 | M49: =ACCESSOIRES!AT49 -> 0 | N49: =ACCESSOIRES!AW49 -> 0 | O49: =ACCESSOIRES!BE49 -> 0 | P49: =ACCESSOIRES!BF49 -> 0 | Q49: =ACCESSOIRES!BH49 -> 0 | R49: =ACCESSOIRES!BP49 -> 0 | S49: =ACCESSOIRES!BQ49 -> 0 | T49: =ACCESSOIRES!BT49 -> 0 | U49: =ACCESSOIRES!CB49 -> 0 | V49: =ACCESSOIRES!CC49 -> 0 | W49: =ACCESSOIRES!CE49 -> 0 | X49: =ACCESSOIRES!CM49 -> 0 | Y49: =ACCESSOIRES!CN49 -> 0 | Z49: =ACCESSOIRES!CQ49 -> 0 | AA49: =ACCESSOIRES!CY49 -> 0 | AB49: =ACCESSOIRES!CZ49 -> 0 | AC49: =ACCESSOIRES!DB49 -> 0 | AD49: =ACCESSOIRES!DJ49 -> 0 | AE49: =ACCESSOIRES!DK49 -> 0
A50: FIL ELASTIQUE | B50: =ACCESSOIRES!C50 -> 0 | C50: =ACCESSOIRES!K50 -> 0 | D50: =ACCESSOIRES!L50 -> 0 | E50: =ACCESSOIRES!N50 -> 0 | F50: =ACCESSOIRES!V50 -> 0 | G50: =ACCESSOIRES!W50 -> 0 | H50: =ACCESSOIRES!Z50 -> 0 | I50: =ACCESSOIRES!AH50 -> 0 | J50: =ACCESSOIRES!AI50 -> 0 | K50: =ACCESSOIRES!AK50 -> 0 | L50: =ACCESSOIRES!AS50 -> 0 | M50: =ACCESSOIRES!AT50 -> 0 | N50: =ACCESSOIRES!AW50 -> K6060.06 | O50: =ACCESSOIRES!BE50 -> 2.40375 | P50: =ACCESSOIRES!BF50 -> 1.5624375 | Q50: =ACCESSOIRES!BH50 -> 0 | R50: =ACCESSOIRES!BP50 -> 0 | S50: =ACCESSOIRES!BQ50 -> 0 | T50: =ACCESSOIRES!BT50 -> ETGY030 | U50: =ACCESSOIRES!CB50 -> 0.5 | V50: =ACCESSOIRES!CC50 -> 0 | W50: =ACCESSOIRES!CE50 -> OR0.640.2030 | X50: =ACCESSOIRES!CM50 -> 2.640768 | Y50: =ACCESSOIRES!CN50 -> 2.640768 | Z50: =ACCESSOIRES!CQ50 -> J00389 | AA50: =ACCESSOIRES!CY50 -> 3.3886667 | AB50: =ACCESSOIRES!CZ50 -> 2.5415 | AC50: =ACCESSOIRES!DB50 -> 0 | AD50: =ACCESSOIRES!DJ50 -> 0 | AE50: =ACCESSOIRES!DK50 -> 0 | AF50: FIL ELASTIQUE
B51: =ACCESSOIRES!C51 -> 0 | C51: =ACCESSOIRES!K51 -> 0 | D51: =ACCESSOIRES!L51 -> 0 | E51: =ACCESSOIRES!N51 -> 0 | F51: =ACCESSOIRES!V51 -> 0 | G51: =ACCESSOIRES!W51 -> 0 | H51: =ACCESSOIRES!Z51 -> 0 | I51: =ACCESSOIRES!AH51 -> 0 | J51: =ACCESSOIRES!AI51 -> 0 | K51: =ACCESSOIRES!AK51 -> 0 | L51: =ACCESSOIRES!AS51 -> 0 | M51: =ACCESSOIRES!AT51 -> 0 | N51: =ACCESSOIRES!AW51 -> K6020.06 | O51: =ACCESSOIRES!BE51 -> 2.40375 | P51: =ACCESSOIRES!BF51 -> 1.5624375 | Q51: =ACCESSOIRES!BH51 -> 0 | R51: =ACCESSOIRES!BP51 -> 0 | S51: =ACCESSOIRES!BQ51 -> 0 | T51: =ACCESSOIRES!BT51 -> ETCL030 | U51: =ACCESSOIRES!CB51 -> 0.5 | V51: =ACCESSOIRES!CC51 -> 0 | W51: =ACCESSOIRES!CE51 -> OR0.640.2031 | X51: =ACCESSOIRES!CM51 -> 2.640768 | Y51: =ACCESSOIRES!CN51 -> 2.640768 | Z51: =ACCESSOIRES!CQ51 -> J00388 | AA51: =ACCESSOIRES!CY51 -> 3.3886667 | AB51: =ACCESSOIRES!CZ51 -> 2.5415 | AC51: =ACCESSOIRES!DB51 -> 0 | AD51: =ACCESSOIRES!DJ51 -> 0 | AE51: =ACCESSOIRES!DK51 -> 0
A52: FORSUS | B52: =ACCESSOIRES!C52 -> 885.146 | C52: =ACCESSOIRES!K52 -> 198.87 | D52: =ACCESSOIRES!L52 -> 129.2655 | E52: =ACCESSOIRES!N52 -> 0 | F52: =ACCESSOIRES!V52 -> 0 | G52: =ACCESSOIRES!W52 -> 0 | H52: =ACCESSOIRES!Z52 -> 0 | I52: =ACCESSOIRES!AH52 -> 0 | J52: =ACCESSOIRES!AI52 -> 0 | K52: =ACCESSOIRES!AK52 -> 0 | L52: =ACCESSOIRES!AS52 -> 0 | M52: =ACCESSOIRES!AT52 -> 0 | N52: =ACCESSOIRES!AW52 -> 0 | O52: =ACCESSOIRES!BE52 -> 0 | P52: =ACCESSOIRES!BF52 -> 0 | Q52: =ACCESSOIRES!BH52 -> 0 | R52: =ACCESSOIRES!BP52 -> 0 | S52: =ACCESSOIRES!BQ52 -> 0 | T52: =ACCESSOIRES!BT52 -> 0 | U52: =ACCESSOIRES!CB52 -> 0 | V52: =ACCESSOIRES!CC52 -> 0 | W52: =ACCESSOIRES!CE52 -> 0 | X52: =ACCESSOIRES!CM52 -> 0 | Y52: =ACCESSOIRES!CN52 -> 0 | Z52: =ACCESSOIRES!CQ52 -> 0 | AA52: =ACCESSOIRES!CY52 -> 0 | AB52: =ACCESSOIRES!CZ52 -> 0 | AC52: =ACCESSOIRES!DB52 -> 0 | AD52: =ACCESSOIRES!DJ52 -> 0 | AE52: =ACCESSOIRES!DK52 -> 0 | AF52: FORSUS
A53: FRAISE A COLLE | B53: =ACCESSOIRES!C53 -> 0 | C53: =ACCESSOIRES!K53 -> 0 | D53: =ACCESSOIRES!L53 -> 0 | E53: =ACCESSOIRES!N53 -> 0 | F53: =ACCESSOIRES!V53 -> 0 | G53: =ACCESSOIRES!W53 -> 0 | H53: =ACCESSOIRES!Z53 -> 0 | I53: =ACCESSOIRES!AH53 -> 0 | J53: =ACCESSOIRES!AI53 -> 0 | K53: =ACCESSOIRES!AK53 -> 226.433 | L53: =ACCESSOIRES!AS53 -> 11.2 | M53: =ACCESSOIRES!AT53 -> 0 | N53: =ACCESSOIRES!AW53 -> 0 | O53: =ACCESSOIRES!BE53 -> 10.51 | P53: =ACCESSOIRES!BF53 -> 7.8825 | Q53: =ACCESSOIRES!BH53 -> 5684.008 | R53: =ACCESSOIRES!BP53 -> 8.81 | S53: =ACCESSOIRES!BQ53 -> 0 | T53: =ACCESSOIRES!BT53 -> 0 | U53: =ACCESSOIRES!CB53 -> 0 | V53: =ACCESSOIRES!CC53 -> 0 | W53: =ACCESSOIRES!CE53 -> OR0.741.1171 | X53: =ACCESSOIRES!CM53 -> 0.887432 | Y53: =ACCESSOIRES!CN53 -> 0.887432 | Z53: =ACCESSOIRES!CQ53 -> 0 | AA53: =ACCESSOIRES!CY53 -> 0 | AB53: =ACCESSOIRES!CZ53 -> 0 | AC53: =ACCESSOIRES!DB53 -> 100.5104 | AD53: =ACCESSOIRES!DJ53 -> 2.29 | AE53: =ACCESSOIRES!DK53 -> 0 | AF53: FRAISE A COLLE
B54: =ACCESSOIRES!C54 -> 0 | C54: =ACCESSOIRES!K54 -> 0 | D54: =ACCESSOIRES!L54 -> 0 | E54: =ACCESSOIRES!N54 -> 0 | F54: =ACCESSOIRES!V54 -> 0 | G54: =ACCESSOIRES!W54 -> 0 | H54: =ACCESSOIRES!Z54 -> 0 | I54: =ACCESSOIRES!AH54 -> 0 | J54: =ACCESSOIRES!AI54 -> 0 | K54: =ACCESSOIRES!AK54 -> 0 | L54: =ACCESSOIRES!AS54 -> 0 | M54: =ACCESSOIRES!AT54 -> 0 | N54: =ACCESSOIRES!AW54 -> 0 | O54: =ACCESSOIRES!BE54 -> 0 | P54: =ACCESSOIRES!BF54 -> 0 | Q54: =ACCESSOIRES!BH54 -> 1386.111 | R54: =ACCESSOIRES!BP54 -> 2.05 | S54: =ACCESSOIRES!BQ54 -> 0 | T54: =ACCESSOIRES!BT54 -> 0 | U54: =ACCESSOIRES!CB54 -> 0 | V54: =ACCESSOIRES!CC54 -> 0 | W54: =ACCESSOIRES!CE54 -> 0 | X54: =ACCESSOIRES!CM54 -> 0 | Y54: =ACCESSOIRES!CN54 -> 0 | Z54: =ACCESSOIRES!CQ54 -> 0 | AA54: =ACCESSOIRES!CY54 -> 0 | AB54: =ACCESSOIRES!CZ54 -> 0 | AC54: =ACCESSOIRES!DB54 -> 0 | AD54: =ACCESSOIRES!DJ54 -> 0 | AE54: =ACCESSOIRES!DK54 -> 0
A55: FRAISE A METAUX | B55: =ACCESSOIRES!C55 -> 0 | C55: =ACCESSOIRES!K55 -> 0 | D55: =ACCESSOIRES!L55 -> 0 | E55: =ACCESSOIRES!N55 -> 0 | F55: =ACCESSOIRES!V55 -> 0 | G55: =ACCESSOIRES!W55 -> 0 | H55: =ACCESSOIRES!Z55 -> 0 | I55: =ACCESSOIRES!AH55 -> 0 | J55: =ACCESSOIRES!AI55 -> 0 | K55: =ACCESSOIRES!AK55 -> 226.879 | L55: =ACCESSOIRES!AS55 -> 4.53 | M55: =ACCESSOIRES!AT55 -> 0 | N55: =ACCESSOIRES!AW55 -> 0 | O55: =ACCESSOIRES!BE55 -> 0 | P55: =ACCESSOIRES!BF55 -> 0 | Q55: =ACCESSOIRES!BH55 -> 8276.008 | R55: =ACCESSOIRES!BP55 -> 4.28 | S55: =ACCESSOIRES!BQ55 -> 0 | T55: =ACCESSOIRES!BT55 -> T.2 | U55: =ACCESSOIRES!CB55 -> 5.6 | V55: =ACCESSOIRES!CC55 -> 0 | W55: =ACCESSOIRES!CE55 -> 0 | X55: =ACCESSOIRES!CM55 -> 0 | Y55: =ACCESSOIRES!CN55 -> 0 | Z55: =ACCESSOIRES!CQ55 -> 0 | AA55: =ACCESSOIRES!CY55 -> 0 | AB55: =ACCESSOIRES!CZ55 -> 0 | AC55: =ACCESSOIRES!DB55 -> 880.3960 | AD55: =ACCESSOIRES!DJ55 -> 3.98 | AE55: =ACCESSOIRES!DK55 -> 0 | AF55: FRAISE A METAUX
A56: FRAISE A SURELEVATION | B56: =ACCESSOIRES!C56 -> 0 | C56: =ACCESSOIRES!K56 -> 0 | D56: =ACCESSOIRES!L56 -> 0 | E56: =ACCESSOIRES!N56 -> 0 | F56: =ACCESSOIRES!V56 -> 0 | G56: =ACCESSOIRES!W56 -> 0 | H56: =ACCESSOIRES!Z56 -> 0 | I56: =ACCESSOIRES!AH56 -> 0 | J56: =ACCESSOIRES!AI56 -> 0 | K56: =ACCESSOIRES!AK56 -> 226.728 | L56: =ACCESSOIRES!AS56 -> 2.04 | M56: =ACCESSOIRES!AT56 -> 0 | N56: =ACCESSOIRES!AW56 -> 0 | O56: =ACCESSOIRES!BE56 -> 0 | P56: =ACCESSOIRES!BF56 -> 0 | Q56: =ACCESSOIRES!BH56 -> 7521.111 | R56: =ACCESSOIRES!BP56 -> 2.05 | S56: =ACCESSOIRES!BQ56 -> 0 | T56: =ACCESSOIRES!BT56 -> 0 | U56: =ACCESSOIRES!CB56 -> 0 | V56: =ACCESSOIRES!CC56 -> 0 | W56: =ACCESSOIRES!CE56 -> 0 | X56: =ACCESSOIRES!CM56 -> 0 | Y56: =ACCESSOIRES!CN56 -> 0 | Z56: =ACCESSOIRES!CQ56 -> 0 | AA56: =ACCESSOIRES!CY56 -> 0 | AB56: =ACCESSOIRES!CZ56 -> 0 | AC56: =ACCESSOIRES!DB56 -> 100.4372 | AD56: =ACCESSOIRES!DJ56 -> 2.46 | AE56: =ACCESSOIRES!DK56 -> 0 | AF56: FRAISE A SURELEVATION
A57: FRAISE A STRIPPING | B57: =ACCESSOIRES!C57 -> 0 | C57: =ACCESSOIRES!K57 -> 0 | D57: =ACCESSOIRES!L57 -> 0 | E57: =ACCESSOIRES!N57 -> 0 | F57: =ACCESSOIRES!V57 -> 0 | G57: =ACCESSOIRES!W57 -> 0 | H57: =ACCESSOIRES!Z57 -> 0 | I57: =ACCESSOIRES!AH57 -> 0 | J57: =ACCESSOIRES!AI57 -> 0 | K57: =ACCESSOIRES!AK57 -> 0 | L57: =ACCESSOIRES!AS57 -> 0 | M57: =ACCESSOIRES!AT57 -> 0 | N57: =ACCESSOIRES!AW57 -> 0 | O57: =ACCESSOIRES!BE57 -> 18.81 | P57: =ACCESSOIRES!BF57 -> 14.1075 | Q57: =ACCESSOIRES!BH57 -> 0 | R57: =ACCESSOIRES!BP57 -> 0 | S57: =ACCESSOIRES!BQ57 -> 0 | T57: =ACCESSOIRES!BT57 -> 8859.31.010 | U57: =ACCESSOIRES!CB57 -> 11.4 | V57: =ACCESSOIRES!CC57 -> 0 | W57: =ACCESSOIRES!CE57 -> 0 | X57: =ACCESSOIRES!CM57 -> 0 | Y57: =ACCESSOIRES!CN57 -> 0 | Z57: =ACCESSOIRES!CQ57 -> 0 | AA57: =ACCESSOIRES!CY57 -> 0 | AB57: =ACCESSOIRES!CZ57 -> 0 | AC57: =ACCESSOIRES!DB57 -> 0 | AD57: =ACCESSOIRES!DJ57 -> 0 | AE57: =ACCESSOIRES!DK57 -> 0 | AF57: FRAISE A STRIPPING
A58: FRAISE DIAMANT | B58: =ACCESSOIRES!C58 -> 0 | C58: =ACCESSOIRES!K58 -> 0 | D58: =ACCESSOIRES!L58 -> 0 | E58: =ACCESSOIRES!N58 -> 0 | F58: =ACCESSOIRES!V58 -> 0 | G58: =ACCESSOIRES!W58 -> 0 | H58: =ACCESSOIRES!Z58 -> 0 | I58: =ACCESSOIRES!AH58 -> 0 | J58: =ACCESSOIRES!AI58 -> 0 | K58: =ACCESSOIRES!AK58 -> 2266.118 | L58: =ACCESSOIRES!AS58 -> 10.8 | M58: =ACCESSOIRES!AT58 -> 0 | N58: =ACCESSOIRES!AW58 -> 0 | O58: =ACCESSOIRES!BE58 -> 0 | P58: =ACCESSOIRES!BF58 -> 0 | Q58: =ACCESSOIRES!BH58 -> 3663.191 | R58: =ACCESSOIRES!BP58 -> 1 | S58: =ACCESSOIRES!BQ58 -> 0 | T58: =ACCESSOIRES!BT58 -> 0 | U58: =ACCESSOIRES!CB58 -> 0 | V58: =ACCESSOIRES!CC58 -> 0 | W58: =ACCESSOIRES!CE58 -> 0 | X58: =ACCESSOIRES!CM58 -> 0 | Y58: =ACCESSOIRES!CN58 -> 0 | Z58: =ACCESSOIRES!CQ58 -> 0 | AA58: =ACCESSOIRES!CY58 -> 0 | AB58: =ACCESSOIRES!CZ58 -> 0 | AC58: =ACCESSOIRES!DB58 -> 878.2895 | AD58: =ACCESSOIRES!DJ58 -> 5.1 | AE58: =ACCESSOIRES!DK58 -> 0 | AF58: FRAISE DIAMANT
B59: =ACCESSOIRES!C59 -> 0 | C59: =ACCESSOIRES!K59 -> 0 | D59: =ACCESSOIRES!L59 -> 0 | E59: =ACCESSOIRES!N59 -> 0 | F59: =ACCESSOIRES!V59 -> 0 | G59: =ACCESSOIRES!W59 -> 0 | H59: =ACCESSOIRES!Z59 -> 0 | I59: =ACCESSOIRES!AH59 -> 0 | J59: =ACCESSOIRES!AI59 -> 0 | K59: =ACCESSOIRES!AK59 -> 2266.005 | L59: =ACCESSOIRES!AS59 -> 6.34 | M59: =ACCESSOIRES!AT59 -> 0 | N59: =ACCESSOIRES!AW59 -> 0 | O59: =ACCESSOIRES!BE59 -> 0 | P59: =ACCESSOIRES!BF59 -> 0 | Q59: =ACCESSOIRES!BH59 -> 3834.191 | R59: =ACCESSOIRES!BP59 -> 2.7 | S59: =ACCESSOIRES!BQ59 -> 0 | T59: =ACCESSOIRES!BT59 -> 0 | U59: =ACCESSOIRES!CB59 -> 0 | V59: =ACCESSOIRES!CC59 -> 0 | W59: =ACCESSOIRES!CE59 -> 0 | X59: =ACCESSOIRES!CM59 -> 0 | Y59: =ACCESSOIRES!CN59 -> 0 | Z59: =ACCESSOIRES!CQ59 -> 0 | AA59: =ACCESSOIRES!CY59 -> 0 | AB59: =ACCESSOIRES!CZ59 -> 0 | AC59: =ACCESSOIRES!DB59 -> 878.2733 | AD59: =ACCESSOIRES!DJ59 -> 5.4 | AE59: =ACCESSOIRES!DK59 -> 0
A60: GAINE POUR ARC | B60: =ACCESSOIRES!C60 -> 0 | C60: =ACCESSOIRES!K60 -> 0 | D60: =ACCESSOIRES!L60 -> 0 | E60: =ACCESSOIRES!N60 -> 0 | F60: =ACCESSOIRES!V60 -> 0 | G60: =ACCESSOIRES!W60 -> 0 | H60: =ACCESSOIRES!Z60 -> 0 | I60: =ACCESSOIRES!AH60 -> 0 | J60: =ACCESSOIRES!AI60 -> 0 | K60: =ACCESSOIRES!AK60 -> 0 | L60: =ACCESSOIRES!AS60 -> 0 | M60: =ACCESSOIRES!AT60 -> 0 | N60: =ACCESSOIRES!AW60 -> K6940.07 | O60: =ACCESSOIRES!BE60 -> 3.5866667 | P60: =ACCESSOIRES!BF60 -> 2.3313333 | Q60: =ACCESSOIRES!BH60 -> 7788.172 | R60: =ACCESSOIRES!BP60 -> 1.65 | S60: =ACCESSOIRES!BQ60 -> 0 | T60: =ACCESSOIRES!BT60 -> ASPTC027 | U60: =ACCESSOIRES!CB60 -> 1.8333333 | V60: =ACCESSOIRES!CC60 -> 0 | W60: =ACCESSOIRES!CE60 -> AI0.640.0100 | X60: =ACCESSOIRES!CM60 -> 1.6664267 | Y60: =ACCESSOIRES!CN60 -> 1.6664267 | Z60: =ACCESSOIRES!CQ60 -> 0 | AA60: =ACCESSOIRES!CY60 -> 0 | AB60: =ACCESSOIRES!CZ60 -> 0 | AC60: =ACCESSOIRES!DB60 -> 0 | AD60: =ACCESSOIRES!DJ60 -> 0 | AE60: =ACCESSOIRES!DK60 -> 0 | AF60: GAINE POUR ARC
B61: =ACCESSOIRES!C61 -> 0 | C61: =ACCESSOIRES!K61 -> 0 | D61: =ACCESSOIRES!L61 -> 0 | E61: =ACCESSOIRES!N61 -> 0 | F61: =ACCESSOIRES!V61 -> 0 | G61: =ACCESSOIRES!W61 -> 0 | H61: =ACCESSOIRES!Z61 -> 0 | I61: =ACCESSOIRES!AH61 -> 0 | J61: =ACCESSOIRES!AI61 -> 0 | K61: =ACCESSOIRES!AK61 -> 0 | L61: =ACCESSOIRES!AS61 -> 0 | M61: =ACCESSOIRES!AT61 -> 0 | N61: =ACCESSOIRES!AW61 -> 0 | O61: =ACCESSOIRES!BE61 -> 0 | P61: =ACCESSOIRES!BF61 -> 0 | Q61: =ACCESSOIRES!BH61 -> 7789.172 | R61: =ACCESSOIRES!BP61 -> 1.65 | S61: =ACCESSOIRES!BQ61 -> 0 | T61: =ACCESSOIRES!BT61 -> ASPTG027 | U61: =ACCESSOIRES!CB61 -> 1.8333333 | V61: =ACCESSOIRES!CC61 -> 0 | W61: =ACCESSOIRES!CE61 -> TP0.100.0238 | X61: =ACCESSOIRES!CM61 -> 2.5116 | Y61: =ACCESSOIRES!CN61 -> 2.5116 | Z61: =ACCESSOIRES!CQ61 -> 0 | AA61: =ACCESSOIRES!CY61 -> 0 | AB61: =ACCESSOIRES!CZ61 -> 0 | AC61: =ACCESSOIRES!DB61 -> 0 | AD61: =ACCESSOIRES!DJ61 -> 0 | AE61: =ACCESSOIRES!DK61 -> 0
A62: GANTS | B62: =ACCESSOIRES!C62 -> 0 | C62: =ACCESSOIRES!K62 -> 0 | D62: =ACCESSOIRES!L62 -> 0 | E62: =ACCESSOIRES!N62 -> 0 | F62: =ACCESSOIRES!V62 -> 0 | G62: =ACCESSOIRES!W62 -> 0 | H62: =ACCESSOIRES!Z62 -> 0 | I62: =ACCESSOIRES!AH62 -> 0 | J62: =ACCESSOIRES!AI62 -> 0 | K62: =ACCESSOIRES!AK62 -> 225.432 | L62: =ACCESSOIRES!AS62 -> 0.067 | M62: =ACCESSOIRES!AT62 -> 0 | N62: =ACCESSOIRES!AW62 -> 0 | O62: =ACCESSOIRES!BE62 -> 0 | P62: =ACCESSOIRES!BF62 -> 0 | Q62: =ACCESSOIRES!BH62 -> 3120.122 | R62: =ACCESSOIRES!BP62 -> 0.0635 | S62: =ACCESSOIRES!BQ62 -> 0 | T62: =ACCESSOIRES!BT62 -> 0 | U62: =ACCESSOIRES!CB62 -> 0 | V62: =ACCESSOIRES!CC62 -> 0 | W62: =ACCESSOIRES!CE62 -> 0 | X62: =ACCESSOIRES!CM62 -> 0 | Y62: =ACCESSOIRES!CN62 -> 0 | Z62: =ACCESSOIRES!CQ62 -> 0 | AA62: =ACCESSOIRES!CY62 -> 0 | AB62: =ACCESSOIRES!CZ62 -> 0 | AC62: =ACCESSOIRES!DB62 -> 900.1925 | AD62: =ACCESSOIRES!DJ62 -> 0.0895 | AE62: =ACCESSOIRES!DK62 -> 0 | AF62: GANTS
B63: =ACCESSOIRES!C63 -> 0 | C63: =ACCESSOIRES!K63 -> 0 | D63: =ACCESSOIRES!L63 -> 0 | E63: =ACCESSOIRES!N63 -> 0 | F63: =ACCESSOIRES!V63 -> 0 | G63: =ACCESSOIRES!W63 -> 0 | H63: =ACCESSOIRES!Z63 -> 0 | I63: =ACCESSOIRES!AH63 -> 0 | J63: =ACCESSOIRES!AI63 -> 0 | K63: =ACCESSOIRES!AK63 -> 225.859 | L63: =ACCESSOIRES!AS63 -> 0.069 | M63: =ACCESSOIRES!AT63 -> 0 | N63: =ACCESSOIRES!AW63 -> 0 | O63: =ACCESSOIRES!BE63 -> 0 | P63: =ACCESSOIRES!BF63 -> 0 | Q63: =ACCESSOIRES!BH63 -> 4957.122 | R63: =ACCESSOIRES!BP63 -> 0.079 | S63: =ACCESSOIRES!BQ63 -> 0 | T63: =ACCESSOIRES!BT63 -> 0 | U63: =ACCESSOIRES!CB63 -> 0 | V63: =ACCESSOIRES!CC63 -> 0 | W63: =ACCESSOIRES!CE63 -> 0 | X63: =ACCESSOIRES!CM63 -> 0 | Y63: =ACCESSOIRES!CN63 -> 0 | Z63: =ACCESSOIRES!CQ63 -> 0 | AA63: =ACCESSOIRES!CY63 -> 0 | AB63: =ACCESSOIRES!CZ63 -> 0 | AC63: =ACCESSOIRES!DB63 -> 900.2735 | AD63: =ACCESSOIRES!DJ63 -> 0.081 | AE63: =ACCESSOIRES!DK63 -> 0
A64: GOBELET | B64: =ACCESSOIRES!C64 -> 0 | C64: =ACCESSOIRES!K64 -> 0 | D64: =ACCESSOIRES!L64 -> 0 | E64: =ACCESSOIRES!N64 -> 0 | F64: =ACCESSOIRES!V64 -> 0 | G64: =ACCESSOIRES!W64 -> 0 | H64: =ACCESSOIRES!Z64 -> 0 | I64: =ACCESSOIRES!AH64 -> 0 | J64: =ACCESSOIRES!AI64 -> 0 | K64: =ACCESSOIRES!AK64 -> 225.144 | L64: =ACCESSOIRES!AS64 -> 0.0336 | M64: =ACCESSOIRES!AT64 -> 0 | N64: =ACCESSOIRES!AW64 -> 0 | O64: =ACCESSOIRES!BE64 -> 0 | P64: =ACCESSOIRES!BF64 -> 0 | Q64: =ACCESSOIRES!BH64 -> 1922.003 | R64: =ACCESSOIRES!BP64 -> 0.018466667 | S64: =ACCESSOIRES!BQ64 -> 0 | T64: =ACCESSOIRES!BT64 -> 0 | U64: =ACCESSOIRES!CB64 -> 0 | V64: =ACCESSOIRES!CC64 -> 0 | W64: =ACCESSOIRES!CE64 -> 0 | X64: =ACCESSOIRES!CM64 -> 0 | Y64: =ACCESSOIRES!CN64 -> 0 | Z64: =ACCESSOIRES!CQ64 -> 0 | AA64: =ACCESSOIRES!CY64 -> 0 | AB64: =ACCESSOIRES!CZ64 -> 0 | AC64: =ACCESSOIRES!DB64 -> 900.3862 | AD64: =ACCESSOIRES!DJ64 -> 0.019666667 | AE64: =ACCESSOIRES!DK64 -> 0 | AF64: GOBELET
A65: INTERIEUR TIROIR | B65: =ACCESSOIRES!C65 -> 0 | C65: =ACCESSOIRES!K65 -> 0 | D65: =ACCESSOIRES!L65 -> 0 | E65: =ACCESSOIRES!N65 -> 0 | F65: =ACCESSOIRES!V65 -> 0 | G65: =ACCESSOIRES!W65 -> 0 | H65: =ACCESSOIRES!Z65 -> 0 | I65: =ACCESSOIRES!AH65 -> 0 | J65: =ACCESSOIRES!AI65 -> 0 | K65: =ACCESSOIRES!AK65 -> 0 | L65: =ACCESSOIRES!AS65 -> 0 | M65: =ACCESSOIRES!AT65 -> 0 | N65: =ACCESSOIRES!AW65 -> 0 | O65: =ACCESSOIRES!BE65 -> 0 | P65: =ACCESSOIRES!BF65 -> 0 | Q65: =ACCESSOIRES!BH65 -> 0 | R65: =ACCESSOIRES!BP65 -> 0 | S65: =ACCESSOIRES!BQ65 -> 0 | T65: =ACCESSOIRES!BT65 -> 0 | U65: =ACCESSOIRES!CB65 -> 0 | V65: =ACCESSOIRES!CC65 -> 0 | W65: =ACCESSOIRES!CE65 -> 0 | X65: =ACCESSOIRES!CM65 -> 0 | Y65: =ACCESSOIRES!CN65 -> 0 | Z65: =ACCESSOIRES!CQ65 -> 0 | AA65: =ACCESSOIRES!CY65 -> 0 | AB65: =ACCESSOIRES!CZ65 -> 0 | AC65: =ACCESSOIRES!DB65 -> 0 | AD65: =ACCESSOIRES!DJ65 -> 0 | AE65: =ACCESSOIRES!DK65 -> 0 | AF65: INTERIEUR TIROIR
B66: =ACCESSOIRES!C66 -> 0 | C66: =ACCESSOIRES!K66 -> 0 | D66: =ACCESSOIRES!L66 -> 0 | E66: =ACCESSOIRES!N66 -> 0 | F66: =ACCESSOIRES!V66 -> 0 | G66: =ACCESSOIRES!W66 -> 0 | H66: =ACCESSOIRES!Z66 -> 0 | I66: =ACCESSOIRES!AH66 -> 0 | J66: =ACCESSOIRES!AI66 -> 0 | K66: =ACCESSOIRES!AK66 -> 0 | L66: =ACCESSOIRES!AS66 -> 0 | M66: =ACCESSOIRES!AT66 -> 0 | N66: =ACCESSOIRES!AW66 -> 0 | O66: =ACCESSOIRES!BE66 -> 0 | P66: =ACCESSOIRES!BF66 -> 0 | Q66: =ACCESSOIRES!BH66 -> 0 | R66: =ACCESSOIRES!BP66 -> 0 | S66: =ACCESSOIRES!BQ66 -> 0 | T66: =ACCESSOIRES!BT66 -> 0 | U66: =ACCESSOIRES!CB66 -> 0 | V66: =ACCESSOIRES!CC66 -> 0 | W66: =ACCESSOIRES!CE66 -> 0 | X66: =ACCESSOIRES!CM66 -> 0 | Y66: =ACCESSOIRES!CN66 -> 0 | Z66: =ACCESSOIRES!CQ66 -> 0 | AA66: =ACCESSOIRES!CY66 -> 0 | AB66: =ACCESSOIRES!CZ66 -> 0 | AC66: =ACCESSOIRES!DB66 -> 0 | AD66: =ACCESSOIRES!DJ66 -> 0 | AE66: =ACCESSOIRES!DK66 -> 0
B67: =ACCESSOIRES!C67 -> 0 | C67: =ACCESSOIRES!K67 -> 0 | D67: =ACCESSOIRES!L67 -> 0 | E67: =ACCESSOIRES!N67 -> 0 | F67: =ACCESSOIRES!V67 -> 0 | G67: =ACCESSOIRES!W67 -> 0 | H67: =ACCESSOIRES!Z67 -> 0 | I67: =ACCESSOIRES!AH67 -> 0 | J67: =ACCESSOIRES!AI67 -> 0 | K67: =ACCESSOIRES!AK67 -> 0 | L67: =ACCESSOIRES!AS67 -> 0 | M67: =ACCESSOIRES!AT67 -> 0 | N67: =ACCESSOIRES!AW67 -> 0 | O67: =ACCESSOIRES!BE67 -> 0 | P67: =ACCESSOIRES!BF67 -> 0 | Q67: =ACCESSOIRES!BH67 -> 0 | R67: =ACCESSOIRES!BP67 -> 0 | S67: =ACCESSOIRES!BQ67 -> 0 | T67: =ACCESSOIRES!BT67 -> 0 | U67: =ACCESSOIRES!CB67 -> 0 | V67: =ACCESSOIRES!CC67 -> 0 | W67: =ACCESSOIRES!CE67 -> 0 | X67: =ACCESSOIRES!CM67 -> 0 | Y67: =ACCESSOIRES!CN67 -> 0 | Z67: =ACCESSOIRES!CQ67 -> 0 | AA67: =ACCESSOIRES!CY67 -> 0 | AB67: =ACCESSOIRES!CZ67 -> 0 | AC67: =ACCESSOIRES!DB67 -> 0 | AD67: =ACCESSOIRES!DJ67 -> 0 | AE67: =ACCESSOIRES!DK67 -> 0
B68: =ACCESSOIRES!C68 -> 0 | C68: =ACCESSOIRES!K68 -> 0 | D68: =ACCESSOIRES!L68 -> 0 | E68: =ACCESSOIRES!N68 -> 0 | F68: =ACCESSOIRES!V68 -> 0 | G68: =ACCESSOIRES!W68 -> 0 | H68: =ACCESSOIRES!Z68 -> 0 | I68: =ACCESSOIRES!AH68 -> 0 | J68: =ACCESSOIRES!AI68 -> 0 | K68: =ACCESSOIRES!AK68 -> 0 | L68: =ACCESSOIRES!AS68 -> 0 | M68: =ACCESSOIRES!AT68 -> 0 | N68: =ACCESSOIRES!AW68 -> 0 | O68: =ACCESSOIRES!BE68 -> 0 | P68: =ACCESSOIRES!BF68 -> 0 | Q68: =ACCESSOIRES!BH68 -> 0 | R68: =ACCESSOIRES!BP68 -> 0 | S68: =ACCESSOIRES!BQ68 -> 0 | T68: =ACCESSOIRES!BT68 -> 0 | U68: =ACCESSOIRES!CB68 -> 0 | V68: =ACCESSOIRES!CC68 -> 0 | W68: =ACCESSOIRES!CE68 -> 0 | X68: =ACCESSOIRES!CM68 -> 0 | Y68: =ACCESSOIRES!CN68 -> 0 | Z68: =ACCESSOIRES!CQ68 -> 0 | AA68: =ACCESSOIRES!CY68 -> 0 | AB68: =ACCESSOIRES!CZ68 -> 0 | AC68: =ACCESSOIRES!DB68 -> 0 | AD68: =ACCESSOIRES!DJ68 -> 0 | AE68: =ACCESSOIRES!DK68 -> 0
B69: =ACCESSOIRES!C69 -> 0 | C69: =ACCESSOIRES!K69 -> 0 | D69: =ACCESSOIRES!L69 -> 0 | E69: =ACCESSOIRES!N69 -> 0 | F69: =ACCESSOIRES!V69 -> 0 | G69: =ACCESSOIRES!W69 -> 0 | H69: =ACCESSOIRES!Z69 -> 0 | I69: =ACCESSOIRES!AH69 -> 0 | J69: =ACCESSOIRES!AI69 -> 0 | K69: =ACCESSOIRES!AK69 -> 0 | L69: =ACCESSOIRES!AS69 -> 0 | M69: =ACCESSOIRES!AT69 -> 0 | N69: =ACCESSOIRES!AW69 -> 0 | O69: =ACCESSOIRES!BE69 -> 0 | P69: =ACCESSOIRES!BF69 -> 0 | Q69: =ACCESSOIRES!BH69 -> 0 | R69: =ACCESSOIRES!BP69 -> 0 | S69: =ACCESSOIRES!BQ69 -> 0 | T69: =ACCESSOIRES!BT69 -> 0 | U69: =ACCESSOIRES!CB69 -> 0 | V69: =ACCESSOIRES!CC69 -> 0 | W69: =ACCESSOIRES!CE69 -> 0 | X69: =ACCESSOIRES!CM69 -> 0 | Y69: =ACCESSOIRES!CN69 -> 0 | Z69: =ACCESSOIRES!CQ69 -> 0 | AA69: =ACCESSOIRES!CY69 -> 0 | AB69: =ACCESSOIRES!CZ69 -> 0 | AC69: =ACCESSOIRES!DB69 -> 0 | AD69: =ACCESSOIRES!DJ69 -> 0 | AE69: =ACCESSOIRES!DK69 -> 0
B70: =ACCESSOIRES!C70 -> 0 | C70: =ACCESSOIRES!K70 -> 0 | D70: =ACCESSOIRES!L70 -> 0 | E70: =ACCESSOIRES!N70 -> 0 | F70: =ACCESSOIRES!V70 -> 0 | G70: =ACCESSOIRES!W70 -> 0 | H70: =ACCESSOIRES!Z70 -> 0 | I70: =ACCESSOIRES!AH70 -> 0 | J70: =ACCESSOIRES!AI70 -> 0 | K70: =ACCESSOIRES!AK70 -> 0 | L70: =ACCESSOIRES!AS70 -> 0 | M70: =ACCESSOIRES!AT70 -> 0 | N70: =ACCESSOIRES!AW70 -> 0 | O70: =ACCESSOIRES!BE70 -> 0 | P70: =ACCESSOIRES!BF70 -> 0 | Q70: =ACCESSOIRES!BH70 -> 0 | R70: =ACCESSOIRES!BP70 -> 0 | S70: =ACCESSOIRES!BQ70 -> 0 | T70: =ACCESSOIRES!BT70 -> 0 | U70: =ACCESSOIRES!CB70 -> 0 | V70: =ACCESSOIRES!CC70 -> 0 | W70: =ACCESSOIRES!CE70 -> 0 | X70: =ACCESSOIRES!CM70 -> 0 | Y70: =ACCESSOIRES!CN70 -> 0 | Z70: =ACCESSOIRES!CQ70 -> 0 | AA70: =ACCESSOIRES!CY70 -> 0 | AB70: =ACCESSOIRES!CZ70 -> 0 | AC70: =ACCESSOIRES!DB70 -> 0 | AD70: =ACCESSOIRES!DJ70 -> 0 | AE70: =ACCESSOIRES!DK70 -> 0
A71: KOBAYASHI METAL | B71: =ACCESSOIRES!C71 -> 390.145 | C71: =ACCESSOIRES!K71 -> 0.33 | D71: =ACCESSOIRES!L71 -> 0.165 | E71: =ACCESSOIRES!N71 -> 855.636 | F71: =ACCESSOIRES!V71 -> 0.313 | G71: =ACCESSOIRES!W71 -> 0.23475 | H71: =ACCESSOIRES!Z71 -> 312.1007 | I71: =ACCESSOIRES!AH71 -> 0.7444 | J71: =ACCESSOIRES!AI71 -> 0 | K71: =ACCESSOIRES!AK71 -> 2262.050 | L71: =ACCESSOIRES!AS71 -> 0.11 | M71: =ACCESSOIRES!AT71 -> 0 | N71: =ACCESSOIRES!AW71 -> K4610.36 | O71: =ACCESSOIRES!BE71 -> 0.3742 | P71: =ACCESSOIRES!BF71 -> 0.24323 | Q71: =ACCESSOIRES!BH71 -> 7616.172 | R71: =ACCESSOIRES!BP71 -> 0.22 | S71: =ACCESSOIRES!BQ71 -> 0 | T71: =ACCESSOIRES!BT71 -> SKH014 | U71: =ACCESSOIRES!CB71 -> 0.31 | V71: =ACCESSOIRES!CC71 -> 0 | W71: =ACCESSOIRES!CE71 -> OR0.271.0001 | X71: =ACCESSOIRES!CM71 -> 0.617734 | Y71: =ACCESSOIRES!CN71 -> 0.617734 | Z71: =ACCESSOIRES!CQ71 -> ECM0825 | AA71: =ACCESSOIRES!CY71 -> 0.348036 | AB71: =ACCESSOIRES!CZ71 -> 0.261027 | AC71: =ACCESSOIRES!DB71 -> 0 | AD71: =ACCESSOIRES!DJ71 -> 0 | AE71: =ACCESSOIRES!DK71 -> 0 | AF71: KOBAYASHI METAL
A72: KOBAYASHI TEFLON | B72: =ACCESSOIRES!C72 -> 0 | C72: =ACCESSOIRES!K72 -> 0 | D72: =ACCESSOIRES!L72 -> 0 | E72: =ACCESSOIRES!N72 -> 0 | F72: =ACCESSOIRES!V72 -> 0 | G72: =ACCESSOIRES!W72 -> 0 | H72: =ACCESSOIRES!Z72 -> 312.1011 | I72: =ACCESSOIRES!AH72 -> 1.035 | J72: =ACCESSOIRES!AI72 -> 0 | K72: =ACCESSOIRES!AK72 -> 0 | L72: =ACCESSOIRES!AS72 -> 0 | M72: =ACCESSOIRES!AT72 -> 0 | N72: =ACCESSOIRES!AW72 -> K4680.36 | O72: =ACCESSOIRES!BE72 -> 1.4435 | P72: =ACCESSOIRES!BF72 -> 0.938275 | Q72: =ACCESSOIRES!BH72 -> 0 | R72: =ACCESSOIRES!BP72 -> 0 | S72: =ACCESSOIRES!BQ72 -> 0 | T72: =ACCESSOIRES!BT72 -> 1001.512 | U72: =ACCESSOIRES!CB72 -> 0.96 | V72: =ACCESSOIRES!CC72 -> 0 | W72: =ACCESSOIRES!CE72 -> 0 | X72: =ACCESSOIRES!CM72 -> 0 | Y72: =ACCESSOIRES!CN72 -> 0 | Z72: =ACCESSOIRES!CQ72 -> 0 | AA72: =ACCESSOIRES!CY72 -> 0 | AB72: =ACCESSOIRES!CZ72 -> 0 | AC72: =ACCESSOIRES!DB72 -> 0 | AD72: =ACCESSOIRES!DJ72 -> 0 | AE72: =ACCESSOIRES!DK72 -> 0 | AF72: KOBAYASHI TEFLON
A73: LIGATURES ELASTOMERIQUE | B73: =ACCESSOIRES!C73 -> 0 | C73: =ACCESSOIRES!K73 -> 0 | D73: =ACCESSOIRES!L73 -> 0 | E73: =ACCESSOIRES!N73 -> 0 | F73: =ACCESSOIRES!V73 -> 0 | G73: =ACCESSOIRES!W73 -> 0 | H73: =ACCESSOIRES!Z73 -> 659.0012 | I73: =ACCESSOIRES!AH73 -> 0.04434 | J73: =ACCESSOIRES!AI73 -> 0 | K73: =ACCESSOIRES!AK73 -> 2261.609 | L73: =ACCESSOIRES!AS73 -> 0.013030303 | M73: =ACCESSOIRES!AT73 -> 0 | N73: =ACCESSOIRES!AW73 -> 0 | O73: =ACCESSOIRES!BE73 -> 0 | P73: =ACCESSOIRES!BF73 -> 0 | Q73: =ACCESSOIRES!BH73 -> 0 | R73: =ACCESSOIRES!BP73 -> 0 | S73: =ACCESSOIRES!BQ73 -> 0 | T73: =ACCESSOIRES!BT73 -> TT.5 | U73: =ACCESSOIRES!CB73 -> 0.014903846 | V73: =ACCESSOIRES!CC73 -> 0 | W73: =ACCESSOIRES!CE73 -> OR0640.1240 | X73: =ACCESSOIRES!CM73 -> 0.0791752 | Y73: =ACCESSOIRES!CN73 -> 0.0791752 | Z73: =ACCESSOIRES!CQ73 -> J00221 | AA73: =ACCESSOIRES!CY73 -> 0.034007475 | AB73: =ACCESSOIRES!CZ73 -> 0.025505606 | AC73: =ACCESSOIRES!DB73 -> 0 | AD73: =ACCESSOIRES!DJ73 -> 0 | AE73: =ACCESSOIRES!DK73 -> 0 | AF73: LIGATURES ELASTOMERIQUE
A74: LIGATURE COURTE METAL | B74: =ACCESSOIRES!C74 -> 0 | C74: =ACCESSOIRES!K74 -> 0 | D74: =ACCESSOIRES!L74 -> 0 | E74: =ACCESSOIRES!N74 -> 855.628 | F74: =ACCESSOIRES!V74 -> 0.05758 | G74: =ACCESSOIRES!W74 -> 0.043185 | H74: =ACCESSOIRES!Z74 -> 312.1005 | I74: =ACCESSOIRES!AH74 -> 0.07444 | J74: =ACCESSOIRES!AI74 -> 0 | K74: =ACCESSOIRES!AK74 -> 2262.005 | L74: =ACCESSOIRES!AS74 -> 0.0358 | M74: =ACCESSOIRES!AT74 -> 0 | N74: =ACCESSOIRES!AW74 -> K4430.25 | O74: =ACCESSOIRES!BE74 -> 0.06485 | P74: =ACCESSOIRES!BF74 -> 0.0421525 | Q74: =ACCESSOIRES!BH74 -> 7615.172 | R74: =ACCESSOIRES!BP74 -> 0.0325 | S74: =ACCESSOIRES!BQ74 -> 0 | T74: =ACCESSOIRES!BT74 -> 12022 | U74: =ACCESSOIRES!CB74 -> 0.45 | V74: =ACCESSOIRES!CC74 -> 0 | W74: =ACCESSOIRES!CE74 -> OR0.270.0001 | X74: =ACCESSOIRES!CM74 -> 0.03554512 | Y74: =ACCESSOIRES!CN74 -> 0.03554512 | Z74: =ACCESSOIRES!CQ74 -> ECE0707 | AA74: =ACCESSOIRES!CY74 -> 0.0605176 | AB74: =ACCESSOIRES!CZ74 -> 0.0453882 | AC74: =ACCESSOIRES!DB74 -> 0 | AD74: =ACCESSOIRES!DJ74 -> 0 | AE74: =ACCESSOIRES!DK74 -> 0 | AF74: LIGATURE COURTE METAL
A75: LIGATURE COURTE TEFLON | B75: =ACCESSOIRES!C75 -> 0 | C75: =ACCESSOIRES!K75 -> 0 | D75: =ACCESSOIRES!L75 -> 0 | E75: =ACCESSOIRES!N75 -> 0 | F75: =ACCESSOIRES!V75 -> 0 | G75: =ACCESSOIRES!W75 -> 0 | H75: =ACCESSOIRES!Z75 -> 312.1009 | I75: =ACCESSOIRES!AH75 -> 0.7444 | J75: =ACCESSOIRES!AI75 -> 0 | K75: =ACCESSOIRES!AK75 -> 2261.030 | L75: =ACCESSOIRES!AS75 -> 0.38 | M75: =ACCESSOIRES!AT75 -> 0 | N75: =ACCESSOIRES!AW75 -> K4480.30 | O75: =ACCESSOIRES!BE75 -> 0.6485 | P75: =ACCESSOIRES!BF75 -> 0.421525 | Q75: =ACCESSOIRES!BH75 -> 7618.172 | R75: =ACCESSOIRES!BP75 -> 0.024 | S75: =ACCESSOIRES!BQ75 -> 0 | T75: =ACCESSOIRES!BT75 -> 0975.55 | U75: =ACCESSOIRES!CB75 -> 0.39 | V75: =ACCESSOIRES!CC75 -> 0 | W75: =ACCESSOIRES!CE75 -> 0 | X75: =ACCESSOIRES!CM75 -> 0 | Y75: =ACCESSOIRES!CN75 -> 0 | Z75: =ACCESSOIRES!CQ75 -> 0 | AA75: =ACCESSOIRES!CY75 -> 0 | AB75: =ACCESSOIRES!CZ75 -> 0 | AC75: =ACCESSOIRES!DB75 -> 0 | AD75: =ACCESSOIRES!DJ75 -> 0 | AE75: =ACCESSOIRES!DK75 -> 0 | AF75: LIGATURE COURTE TEFLON
A76: LIGATURE LONGUE METAL | B76: =ACCESSOIRES!C76 -> 0 | C76: =ACCESSOIRES!K76 -> 0 | D76: =ACCESSOIRES!L76 -> 0 | E76: =ACCESSOIRES!N76 -> 855.623 | F76: =ACCESSOIRES!V76 -> 0.0313 | G76: =ACCESSOIRES!W76 -> 0.023475 | H76: =ACCESSOIRES!Z76 -> 312.1002 | I76: =ACCESSOIRES!AH76 -> 0.05527 | J76: =ACCESSOIRES!AI76 -> 0 | K76: =ACCESSOIRES!AK76 -> 2262.002 | L76: =ACCESSOIRES!AS76 -> 0.0179 | M76: =ACCESSOIRES!AT76 -> 0 | N76: =ACCESSOIRES!AW76 -> K4210.30 | O76: =ACCESSOIRES!BE76 -> 0.04678 | P76: =ACCESSOIRES!BF76 -> 0.030407 | Q76: =ACCESSOIRES!BH76 -> 7609.172 | R76: =ACCESSOIRES!BP76 -> 0.0178 | S76: =ACCESSOIRES!BQ76 -> 0 | T76: =ACCESSOIRES!BT76 -> LT010 | U76: =ACCESSOIRES!CB76 -> 0.023 | V76: =ACCESSOIRES!CC76 -> 0 | W76: =ACCESSOIRES!CE76 -> OR0.270.0012 | X76: =ACCESSOIRES!CM76 -> 0.03554512 | Y76: =ACCESSOIRES!CN76 -> 0.03554512 | Z76: =ACCESSOIRES!CQ76 -> E00702 | AA76: =ACCESSOIRES!CY76 -> 0.0444314 | AB76: =ACCESSOIRES!CZ76 -> 0.03332355 | AC76: =ACCESSOIRES!DB76 -> 0 | AD76: =ACCESSOIRES!DJ76 -> 0 | AE76: =ACCESSOIRES!DK76 -> 0 | AF76: LIGATURE LONGUE METAL
A77: LIGATURE LONGUE TEFLON | B77: =ACCESSOIRES!C77 -> 0 | C77: =ACCESSOIRES!K77 -> 0 | D77: =ACCESSOIRES!L77 -> 0 | E77: =ACCESSOIRES!N77 -> 0 | F77: =ACCESSOIRES!V77 -> 0 | G77: =ACCESSOIRES!W77 -> 0 | H77: =ACCESSOIRES!Z77 -> 312.1010 | I77: =ACCESSOIRES!AH77 -> 0.7444 | J77: =ACCESSOIRES!AI77 -> 0 | K77: =ACCESSOIRES!AK77 -> 2261.031 | L77: =ACCESSOIRES!AS77 -> 0.27 | M77: =ACCESSOIRES!AT77 -> 0 | N77: =ACCESSOIRES!AW77 -> K4280.30 | O77: =ACCESSOIRES!BE77 -> 0.5191 | P77: =ACCESSOIRES!BF77 -> 0.337415 | Q77: =ACCESSOIRES!BH77 -> 7601.172 | R77: =ACCESSOIRES!BP77 -> 0.2 | S77: =ACCESSOIRES!BQ77 -> 0 | T77: =ACCESSOIRES!BT77 -> 907.102 | U77: =ACCESSOIRES!CB77 -> 0.32 | V77: =ACCESSOIRES!CC77 -> 0 | W77: =ACCESSOIRES!CE77 -> OR0.272.0012 | X77: =ACCESSOIRES!CM77 -> 0.2878772 | Y77: =ACCESSOIRES!CN77 -> 0.2878772 | Z77: =ACCESSOIRES!CQ77 -> 0 | AA77: =ACCESSOIRES!CY77 -> 0 | AB77: =ACCESSOIRES!CZ77 -> 0 | AC77: =ACCESSOIRES!DB77 -> 0 | AD77: =ACCESSOIRES!DJ77 -> 0 | AE77: =ACCESSOIRES!DK77 -> 0 | AF77: LIGATURE LONGUE TEFLON
A78: LAMPE A POLYMERISER | B78: =ACCESSOIRES!C78 -> 704.450 | C78: =ACCESSOIRES!K78 -> 1800 | D78: =ACCESSOIRES!L78 -> 1260 | E78: =ACCESSOIRES!N78 -> 0 | F78: =ACCESSOIRES!V78 -> 0 | G78: =ACCESSOIRES!W78 -> 0 | H78: =ACCESSOIRES!Z78 -> 0 | I78: =ACCESSOIRES!AH78 -> #DIV/0! | J78: =ACCESSOIRES!AI78 -> #DIV/0! | K78: =ACCESSOIRES!AK78 -> 0 | L78: =ACCESSOIRES!AS78 -> 0 | M78: =ACCESSOIRES!AT78 -> 0 | N78: =ACCESSOIRES!AW78 -> IV-TU.TU7 | O78: =ACCESSOIRES!BE78 -> 869.44 | P78: =ACCESSOIRES!BF78 -> 652.08 | Q78: =ACCESSOIRES!BH78 -> 0 | R78: =ACCESSOIRES!BP78 -> 0 | S78: =ACCESSOIRES!BQ78 -> 0 | T78: =ACCESSOIRES!BT78 -> 0 | U78: =ACCESSOIRES!CB78 -> 0 | V78: =ACCESSOIRES!CC78 -> 0 | W78: =ACCESSOIRES!CE78 -> KE09100770 | X78: =ACCESSOIRES!CM78 -> 1101.6236 | Y78: =ACCESSOIRES!CN78 -> 1101.6236 | Z78: =ACCESSOIRES!CQ78 -> 0 | AA78: =ACCESSOIRES!CY78 -> 0 | AB78: =ACCESSOIRES!CZ78 -> 0 | AC78: =ACCESSOIRES!DB78 -> 0 | AD78: =ACCESSOIRES!DJ78 -> 0 | AE78: =ACCESSOIRES!DK78 -> 0 | AF78: LAMPE A POLYMERISER
A79: MASQUE DELAIRE | B79: =ACCESSOIRES!C79 -> 0 | C79: =ACCESSOIRES!K79 -> 0 | D79: =ACCESSOIRES!L79 -> 0 | E79: =ACCESSOIRES!N79 -> 0 | F79: =ACCESSOIRES!V79 -> 0 | G79: =ACCESSOIRES!W79 -> 0 | H79: =ACCESSOIRES!Z79 -> 0 | I79: =ACCESSOIRES!AH79 -> 0 | J79: =ACCESSOIRES!AI79 -> 0 | K79: =ACCESSOIRES!AK79 -> 2265.035 | L79: =ACCESSOIRES!AS79 -> 69 | M79: =ACCESSOIRES!AT79 -> 0 | N79: =ACCESSOIRES!AW79 -> M0774.01 | O79: =ACCESSOIRES!BE79 -> 51.76 | P79: =ACCESSOIRES!BF79 -> 33.644 | Q79: =ACCESSOIRES!BH79 -> 8289.172 | R79: =ACCESSOIRES!BP79 -> 67 | S79: =ACCESSOIRES!BQ79 -> 0 | T79: =ACCESSOIRES!BT79 -> 05.002 | U79: =ACCESSOIRES!CB79 -> 52 | V79: =ACCESSOIRES!CC79 -> 0 | W79: =ACCESSOIRES!CE79 -> 0 | X79: =ACCESSOIRES!CM79 -> 0 | Y79: =ACCESSOIRES!CN79 -> 0 | Z79: =ACCESSOIRES!CQ79 -> 0 | AA79: =ACCESSOIRES!CY79 -> 0 | AB79: =ACCESSOIRES!CZ79 -> 0 | AC79: =ACCESSOIRES!DB79 -> 0 | AD79: =ACCESSOIRES!DJ79 -> 0 | AE79: =ACCESSOIRES!DK79 -> 0 | AF79: MASQUE DELAIRE
B80: =ACCESSOIRES!C80 -> 0 | C80: =ACCESSOIRES!K80 -> 0 | D80: =ACCESSOIRES!L80 -> 0 | E80: =ACCESSOIRES!N80 -> 0 | F80: =ACCESSOIRES!V80 -> 0 | G80: =ACCESSOIRES!W80 -> 0 | H80: =ACCESSOIRES!Z80 -> 0 | I80: =ACCESSOIRES!AH80 -> 0 | J80: =ACCESSOIRES!AI80 -> 0 | K80: =ACCESSOIRES!AK80 -> 2265.034 | L80: =ACCESSOIRES!AS80 -> 69 | M80: =ACCESSOIRES!AT80 -> 0 | N80: =ACCESSOIRES!AW80 -> M0776.01 | O80: =ACCESSOIRES!BE80 -> 51.76 | P80: =ACCESSOIRES!BF80 -> 33.644 | Q80: =ACCESSOIRES!BH80 -> 8280.172 | R80: =ACCESSOIRES!BP80 -> 67 | S80: =ACCESSOIRES!BQ80 -> 0 | T80: =ACCESSOIRES!BT80 -> 05.001 | U80: =ACCESSOIRES!CB80 -> 52 | V80: =ACCESSOIRES!CC80 -> 0 | W80: =ACCESSOIRES!CE80 -> 0 | X80: =ACCESSOIRES!CM80 -> 0 | Y80: =ACCESSOIRES!CN80 -> 0 | Z80: =ACCESSOIRES!CQ80 -> 0 | AA80: =ACCESSOIRES!CY80 -> 0 | AB80: =ACCESSOIRES!CZ80 -> 0 | AC80: =ACCESSOIRES!DB80 -> 0 | AD80: =ACCESSOIRES!DJ80 -> 0 | AE80: =ACCESSOIRES!DK80 -> 0
B81: =ACCESSOIRES!C81 -> 0 | C81: =ACCESSOIRES!K81 -> 0 | D81: =ACCESSOIRES!L81 -> 0 | E81: =ACCESSOIRES!N81 -> 0 | F81: =ACCESSOIRES!V81 -> 0 | G81: =ACCESSOIRES!W81 -> 0 | H81: =ACCESSOIRES!Z81 -> 0 | I81: =ACCESSOIRES!AH81 -> 0 | J81: =ACCESSOIRES!AI81 -> 0 | K81: =ACCESSOIRES!AK81 -> 2285.001 | L81: =ACCESSOIRES!AS81 -> 55 | M81: =ACCESSOIRES!AT81 -> 0 | N81: =ACCESSOIRES!AW81 -> M0772.01 | O81: =ACCESSOIRES!BE81 -> 0 | P81: =ACCESSOIRES!BF81 -> 0 | Q81: =ACCESSOIRES!BH81 -> 8293.172 | R81: =ACCESSOIRES!BP81 -> 50 | S81: =ACCESSOIRES!BQ81 -> 0 | T81: =ACCESSOIRES!BT81 -> 550.406 | U81: =ACCESSOIRES!CB81 -> 56 | V81: =ACCESSOIRES!CC81 -> 0 | W81: =ACCESSOIRES!CE81 -> OR0.716.0001 | X81: =ACCESSOIRES!CM81 -> 173.94624 | Y81: =ACCESSOIRES!CN81 -> 173.94624 | Z81: =ACCESSOIRES!CQ81 -> 0 | AA81: =ACCESSOIRES!CY81 -> 0 | AB81: =ACCESSOIRES!CZ81 -> 0 | AC81: =ACCESSOIRES!DB81 -> 0 | AD81: =ACCESSOIRES!DJ81 -> 0 | AE81: =ACCESSOIRES!DK81 -> 0
A82: MASQUE PROTECTION PAPIER | B82: =ACCESSOIRES!C82 -> 0 | C82: =ACCESSOIRES!K82 -> 0 | D82: =ACCESSOIRES!L82 -> 0 | E82: =ACCESSOIRES!N82 -> 0 | F82: =ACCESSOIRES!V82 -> 0 | G82: =ACCESSOIRES!W82 -> 0 | H82: =ACCESSOIRES!Z82 -> 0 | I82: =ACCESSOIRES!AH82 -> 0 | J82: =ACCESSOIRES!AI82 -> 0 | K82: =ACCESSOIRES!AK82 -> 225.714 | L82: =ACCESSOIRES!AS82 -> 0.172 | M82: =ACCESSOIRES!AT82 -> 0 | N82: =ACCESSOIRES!AW82 -> 0 | O82: =ACCESSOIRES!BE82 -> 0 | P82: =ACCESSOIRES!BF82 -> 0 | Q82: =ACCESSOIRES!BH82 -> 4907.122 | R82: =ACCESSOIRES!BP82 -> 0.179 | S82: =ACCESSOIRES!BQ82 -> 0 | T82: =ACCESSOIRES!BT82 -> 10407B | U82: =ACCESSOIRES!CB82 -> 0.26 | V82: =ACCESSOIRES!CC82 -> 0 | W82: =ACCESSOIRES!CE82 -> 0 | X82: =ACCESSOIRES!CM82 -> 0 | Y82: =ACCESSOIRES!CN82 -> 0 | Z82: =ACCESSOIRES!CQ82 -> 0 | AA82: =ACCESSOIRES!CY82 -> 0 | AB82: =ACCESSOIRES!CZ82 -> 0 | AC82: =ACCESSOIRES!DB82 -> 900.2782 | AD82: =ACCESSOIRES!DJ82 -> 0.174 | AE82: =ACCESSOIRES!DK82 -> 0 | AF82: MASQUE PROTECTION PAPIER
A83: MICROBRUSH | B83: =ACCESSOIRES!C83 -> 0 | C83: =ACCESSOIRES!K83 -> 0 | D83: =ACCESSOIRES!L83 -> 0 | E83: =ACCESSOIRES!N83 -> 0 | F83: =ACCESSOIRES!V83 -> 0 | G83: =ACCESSOIRES!W83 -> 0 | H83: =ACCESSOIRES!Z83 -> 0 | I83: =ACCESSOIRES!AH83 -> 0 | J83: =ACCESSOIRES!AI83 -> 0 | K83: =ACCESSOIRES!AK83 -> 225.440 | L83: =ACCESSOIRES!AS83 -> 0.12375 | M83: =ACCESSOIRES!AT83 -> 0 | N83: =ACCESSOIRES!AW83 -> 0 | O83: =ACCESSOIRES!BE83 -> 0 | P83: =ACCESSOIRES!BF83 -> 0 | Q83: =ACCESSOIRES!BH83 -> 5422.004 | R83: =ACCESSOIRES!BP83 -> 0.1175 | S83: =ACCESSOIRES!BQ83 -> 0 | T83: =ACCESSOIRES!BT83 -> PR400.KIT | U83: =ACCESSOIRES!CB83 -> 0.1125 | V83: =ACCESSOIRES!CC83 -> 0 | W83: =ACCESSOIRES!CE83 -> 0 | X83: =ACCESSOIRES!CM83 -> 0 | Y83: =ACCESSOIRES!CN83 -> 0 | Z83: =ACCESSOIRES!CQ83 -> 0 | AA83: =ACCESSOIRES!CY83 -> 0 | AB83: =ACCESSOIRES!CZ83 -> 0 | AC83: =ACCESSOIRES!DB83 -> 891.2202 | AD83: =ACCESSOIRES!DJ83 -> 0.108 | AE83: =ACCESSOIRES!DK83 -> 0 | AF83: MICROBRUSH
B84: =ACCESSOIRES!C84 -> 712.092 | C84: =ACCESSOIRES!K84 -> 0.225 | D84: =ACCESSOIRES!L84 -> 0.1575 | E84: =ACCESSOIRES!N84 -> 001.914 | F84: =ACCESSOIRES!V84 -> 0.235675 | G84: =ACCESSOIRES!W84 -> 0.17675625 | H84: =ACCESSOIRES!Z84 -> 0 | I84: =ACCESSOIRES!AH84 -> 0 | J84: =ACCESSOIRES!AI84 -> 0 | K84: =ACCESSOIRES!AK84 -> 225.740 | L84: =ACCESSOIRES!AS84 -> 0.10675 | M84: =ACCESSOIRES!AT84 -> 0 | N84: =ACCESSOIRES!AW84 -> 0 | O84: =ACCESSOIRES!BE84 -> 0 | P84: =ACCESSOIRES!BF84 -> 0 | Q84: =ACCESSOIRES!BH84 -> 5424.004 | R84: =ACCESSOIRES!BP84 -> 0.1125 | S84: =ACCESSOIRES!BQ84 -> 0 | T84: =ACCESSOIRES!BT84 -> MRA400 | U84: =ACCESSOIRES!CB84 -> 0.0825 | V84: =ACCESSOIRES!CC84 -> 0 | W84: =ACCESSOIRES!CE84 -> 0 | X84: =ACCESSOIRES!CM84 -> 0 | Y84: =ACCESSOIRES!CN84 -> 0 | Z84: =ACCESSOIRES!CQ84 -> 0 | AA84: =ACCESSOIRES!CY84 -> 0 | AB84: =ACCESSOIRES!CZ84 -> 0 | AC84: =ACCESSOIRES!DB84 -> 0 | AD84: =ACCESSOIRES!DJ84 -> 0 | AE84: =ACCESSOIRES!DK84 -> 0
A85: MINIMOLD | B85: =ACCESSOIRES!C85 -> 0 | C85: =ACCESSOIRES!K85 -> 0 | D85: =ACCESSOIRES!L85 -> 0 | E85: =ACCESSOIRES!N85 -> 0 | F85: =ACCESSOIRES!V85 -> 0 | G85: =ACCESSOIRES!W85 -> 0 | H85: =ACCESSOIRES!Z85 -> 0 | I85: =ACCESSOIRES!AH85 -> 0 | J85: =ACCESSOIRES!AI85 -> 0 | K85: =ACCESSOIRES!AK85 -> 2265.800 | L85: =ACCESSOIRES!AS85 -> 175 | M85: =ACCESSOIRES!AT85 -> 0 | N85: =ACCESSOIRES!AW85 -> OF.MOLD.800 | O85: =ACCESSOIRES!BE85 -> 224.35 | P85: =ACCESSOIRES!BF85 -> 168.2625 | Q85: =ACCESSOIRES!BH85 -> 9369.172 | R85: =ACCESSOIRES!BP85 -> 180 | S85: =ACCESSOIRES!BQ85 -> 0 | T85: =ACCESSOIRES!BT85 -> 2045 | U85: =ACCESSOIRES!CB85 -> 182 | V85: =ACCESSOIRES!CC85 -> 0 | W85: =ACCESSOIRES!CE85 -> 0 | X85: =ACCESSOIRES!CM85 -> 0 | Y85: =ACCESSOIRES!CN85 -> 0 | Z85: =ACCESSOIRES!CQ85 -> 0 | AA85: =ACCESSOIRES!CY85 -> 0 | AB85: =ACCESSOIRES!CZ85 -> 0 | AC85: =ACCESSOIRES!DB85 -> 0 | AD85: =ACCESSOIRES!DJ85 -> 0 | AE85: =ACCESSOIRES!DK85 -> 0 | AF85: MINIMOLD
B86: =ACCESSOIRES!C86 -> 0 | C86: =ACCESSOIRES!K86 -> 0 | D86: =ACCESSOIRES!L86 -> 0 | E86: =ACCESSOIRES!N86 -> 0 | F86: =ACCESSOIRES!V86 -> 0 | G86: =ACCESSOIRES!W86 -> 0 | H86: =ACCESSOIRES!Z86 -> 0 | I86: =ACCESSOIRES!AH86 -> 0 | J86: =ACCESSOIRES!AI86 -> 0 | K86: =ACCESSOIRES!AK86 -> 0 | L86: =ACCESSOIRES!AS86 -> 0 | M86: =ACCESSOIRES!AT86 -> 0 | N86: =ACCESSOIRES!AW86 -> 0 | O86: =ACCESSOIRES!BE86 -> 0 | P86: =ACCESSOIRES!BF86 -> 0 | Q86: =ACCESSOIRES!BH86 -> 0 | R86: =ACCESSOIRES!BP86 -> 0 | S86: =ACCESSOIRES!BQ86 -> 0 | T86: =ACCESSOIRES!BT86 -> 0 | U86: =ACCESSOIRES!CB86 -> 0 | V86: =ACCESSOIRES!CC86 -> 0 | W86: =ACCESSOIRES!CE86 -> OA0.700.0004 | X86: =ACCESSOIRES!CM86 -> 4.871308 | Y86: =ACCESSOIRES!CN86 -> 4.871308 | Z86: =ACCESSOIRES!CQ86 -> 0 | AA86: =ACCESSOIRES!CY86 -> 0 | AB86: =ACCESSOIRES!CZ86 -> 0 | AC86: =ACCESSOIRES!DB86 -> 0 | AD86: =ACCESSOIRES!DJ86 -> 0 | AE86: =ACCESSOIRES!DK86 -> 0
A87: MIROIRS PHOTO | B87: =ACCESSOIRES!C87 -> 0 | C87: =ACCESSOIRES!K87 -> 0 | D87: =ACCESSOIRES!L87 -> 0 | E87: =ACCESSOIRES!N87 -> 861.095 | F87: =ACCESSOIRES!V87 -> 86.85 | G87: =ACCESSOIRES!W87 -> 65.1375 | H87: =ACCESSOIRES!Z87 -> 0 | I87: =ACCESSOIRES!AH87 -> 0 | J87: =ACCESSOIRES!AI87 -> 0 | K87: =ACCESSOIRES!AK87 -> 2215.582 | L87: =ACCESSOIRES!AS87 -> 62.5 | M87: =ACCESSOIRES!AT87 -> 0 | N87: =ACCESSOIRES!AW87 -> PR.MZP512 | O87: =ACCESSOIRES!BE87 -> 50.83 | P87: =ACCESSOIRES!BF87 -> 38.1225 | Q87: =ACCESSOIRES!BH87 -> 3569.090 | R87: =ACCESSOIRES!BP87 -> 58 | S87: =ACCESSOIRES!BQ87 -> 0 | T87: =ACCESSOIRES!BT87 -> MZP512 | U87: =ACCESSOIRES!CB87 -> 55 | V87: =ACCESSOIRES!CC87 -> 0 | W87: =ACCESSOIRES!CE87 -> EV0.714.0112 | X87: =ACCESSOIRES!CM87 -> 52.09776 | Y87: =ACCESSOIRES!CN87 -> 52.09776 | Z87: =ACCESSOIRES!CQ87 -> ECM0105 | AA87: =ACCESSOIRES!CY87 -> 69.6072 | AB87: =ACCESSOIRES!CZ87 -> 52.2054 | AC87: =ACCESSOIRES!DB87 -> 878.1347 | AD87: =ACCESSOIRES!DJ87 -> 59.8 | AE87: =ACCESSOIRES!DK87 -> 0 | AF87: MIROIRS PHOTO
B88: =ACCESSOIRES!C88 -> 0 | C88: =ACCESSOIRES!K88 -> 0 | D88: =ACCESSOIRES!L88 -> 0 | E88: =ACCESSOIRES!N88 -> 861.094 | F88: =ACCESSOIRES!V88 -> 86.85 | G88: =ACCESSOIRES!W88 -> 65.1375 | H88: =ACCESSOIRES!Z88 -> 0 | I88: =ACCESSOIRES!AH88 -> 0 | J88: =ACCESSOIRES!AI88 -> 0 | K88: =ACCESSOIRES!AK88 -> 2215.583 | L88: =ACCESSOIRES!AS88 -> 62.5 | M88: =ACCESSOIRES!AT88 -> 0 | N88: =ACCESSOIRES!AW88 -> 0 | O88: =ACCESSOIRES!BE88 -> 0 | P88: =ACCESSOIRES!BF88 -> 0 | Q88: =ACCESSOIRES!BH88 -> 8064.002 | R88: =ACCESSOIRES!BP88 -> 58 | S88: =ACCESSOIRES!BQ88 -> 0 | T88: =ACCESSOIRES!BT88 -> MZP522 | U88: =ACCESSOIRES!CB88 -> 55 | V88: =ACCESSOIRES!CC88 -> 0 | W88: =ACCESSOIRES!CE88 -> EV0.714.0111 | X88: =ACCESSOIRES!CM88 -> 52.09776 | Y88: =ACCESSOIRES!CN88 -> 52.09776 | Z88: =ACCESSOIRES!CQ88 -> ECM0106 | AA88: =ACCESSOIRES!CY88 -> 69.6072 | AB88: =ACCESSOIRES!CZ88 -> 52.2054 | AC88: =ACCESSOIRES!DB88 -> 880.6842 | AD88: =ACCESSOIRES!DJ88 -> 59.8 | AE88: =ACCESSOIRES!DK88 -> 0
A89: PATE A POLIR | B89: =ACCESSOIRES!C89 -> 0 | C89: =ACCESSOIRES!K89 -> 0 | D89: =ACCESSOIRES!L89 -> 0 | E89: =ACCESSOIRES!N89 -> 0 | F89: =ACCESSOIRES!V89 -> 0 | G89: =ACCESSOIRES!W89 -> 0 | H89: =ACCESSOIRES!Z89 -> 0 | I89: =ACCESSOIRES!AH89 -> 0 | J89: =ACCESSOIRES!AI89 -> 0 | K89: =ACCESSOIRES!AK89 -> 0 | L89: =ACCESSOIRES!AS89 -> 0 | M89: =ACCESSOIRES!AT89 -> 0 | N89: =ACCESSOIRES!AW89 -> 0 | O89: =ACCESSOIRES!BE89 -> 0 | P89: =ACCESSOIRES!BF89 -> 0 | Q89: =ACCESSOIRES!BH89 -> 2298.191 | R89: =ACCESSOIRES!BP89 -> 86.666667 | S89: =ACCESSOIRES!BQ89 -> 0 | T89: =ACCESSOIRES!BT89 -> 0 | U89: =ACCESSOIRES!CB89 -> 0 | V89: =ACCESSOIRES!CC89 -> 0 | W89: =ACCESSOIRES!CE89 -> DE0.923.0020 | X89: =ACCESSOIRES!CM89 -> 48.30644 | Y89: =ACCESSOIRES!CN89 -> 48.30644 | Z89: =ACCESSOIRES!CQ89 -> 0 | AA89: =ACCESSOIRES!CY89 -> 0 | AB89: =ACCESSOIRES!CZ89 -> 0 | AC89: =ACCESSOIRES!DB89 -> 0 | AD89: =ACCESSOIRES!DJ89 -> 0 | AE89: =ACCESSOIRES!DK89 -> 0 | AF89: PATE A POLIR
A90: PAPIER ARTICULE | B90: =ACCESSOIRES!C90 -> 0 | C90: =ACCESSOIRES!K90 -> 0 | D90: =ACCESSOIRES!L90 -> 0 | E90: =ACCESSOIRES!N90 -> 0 | F90: =ACCESSOIRES!V90 -> 0 | G90: =ACCESSOIRES!W90 -> 0 | H90: =ACCESSOIRES!Z90 -> 0 | I90: =ACCESSOIRES!AH90 -> 0 | J90: =ACCESSOIRES!AI90 -> 0 | K90: =ACCESSOIRES!AK90 -> 2215.404 | L90: =ACCESSOIRES!AS90 -> 0.895 | M90: =ACCESSOIRES!AT90 -> 0 | N90: =ACCESSOIRES!AW90 -> 0 | O90: =ACCESSOIRES!BE90 -> 0 | P90: =ACCESSOIRES!BF90 -> 0 | Q90: =ACCESSOIRES!BH90 -> 0 | R90: =ACCESSOIRES!BP90 -> 0 | S90: =ACCESSOIRES!BQ90 -> 0 | T90: =ACCESSOIRES!BT90 -> 0 | U90: =ACCESSOIRES!CB90 -> 0 | V90: =ACCESSOIRES!CC90 -> 0 | W90: =ACCESSOIRES!CE90 -> 0 | X90: =ACCESSOIRES!CM90 -> 0 | Y90: =ACCESSOIRES!CN90 -> 0 | Z90: =ACCESSOIRES!CQ90 -> 0 | AA90: =ACCESSOIRES!CY90 -> 0 | AB90: =ACCESSOIRES!CZ90 -> 0 | AC90: =ACCESSOIRES!DB90 -> 877.1135 | AD90: =ACCESSOIRES!DJ90 -> 0.366 | AE90: =ACCESSOIRES!DK90 -> 0 | AF90: PAPIER ARTICULE
A91: PASTILLE NETTOYAGE | B91: =ACCESSOIRES!C91 -> 0 | C91: =ACCESSOIRES!K91 -> 0 | D91: =ACCESSOIRES!L91 -> 0 | E91: =ACCESSOIRES!N91 -> 0 | F91: =ACCESSOIRES!V91 -> 0 | G91: =ACCESSOIRES!W91 -> 0 | H91: =ACCESSOIRES!Z91 -> 0 | I91: =ACCESSOIRES!AH91 -> 0 | J91: =ACCESSOIRES!AI91 -> 0 | K91: =ACCESSOIRES!AK91 -> 2279.094 | L91: =ACCESSOIRES!AS91 -> 0.21770833 | M91: =ACCESSOIRES!AT91 -> 0 | N91: =ACCESSOIRES!AW91 -> 0 | O91: =ACCESSOIRES!BE91 -> 0 | P91: =ACCESSOIRES!BF91 -> 0 | Q91: =ACCESSOIRES!BH91 -> 0 | R91: =ACCESSOIRES!BP91 -> 0 | S91: =ACCESSOIRES!BQ91 -> 0 | T91: =ACCESSOIRES!BT91 -> 18159 | U91: =ACCESSOIRES!CB91 -> 0.017708333 | V91: =ACCESSOIRES!CC91 -> 0 | W91: =ACCESSOIRES!CE91 -> 0 | X91: =ACCESSOIRES!CM91 -> 0 | Y91: =ACCESSOIRES!CN91 -> 0 | Z91: =ACCESSOIRES!CQ91 -> 0 | AA91: =ACCESSOIRES!CY91 -> 0 | AB91: =ACCESSOIRES!CZ91 -> 0 | AC91: =ACCESSOIRES!DB91 -> 0 | AD91: =ACCESSOIRES!DJ91 -> 0 | AE91: =ACCESSOIRES!DK91 -> 0 | AF91: PASTILLE NETTOYAGE
A92: MINI-PINCEAUX | B92: =ACCESSOIRES!C92 -> 0 | C92: =ACCESSOIRES!K92 -> 0 | D92: =ACCESSOIRES!L92 -> 0 | E92: =ACCESSOIRES!N92 -> 0 | F92: =ACCESSOIRES!V92 -> 0 | G92: =ACCESSOIRES!W92 -> 0 | H92: =ACCESSOIRES!Z92 -> 0 | I92: =ACCESSOIRES!AH92 -> 0 | J92: =ACCESSOIRES!AI92 -> 0 | K92: =ACCESSOIRES!AK92 -> 225.752 | L92: =ACCESSOIRES!AS92 -> 0.071 | M92: =ACCESSOIRES!AT92 -> 0 | N92: =ACCESSOIRES!AW92 -> 0 | O92: =ACCESSOIRES!BE92 -> 0 | P92: =ACCESSOIRES!BF92 -> 0 | Q92: =ACCESSOIRES!BH92 -> 0 | R92: =ACCESSOIRES!BP92 -> 0 | S92: =ACCESSOIRES!BQ92 -> 0 | T92: =ACCESSOIRES!BT92 -> U1D | U92: =ACCESSOIRES!CB92 -> 0.19 | V92: =ACCESSOIRES!CC92 -> 0 | W92: =ACCESSOIRES!CE92 -> 0 | X92: =ACCESSOIRES!CM92 -> 0 | Y92: =ACCESSOIRES!CN92 -> 0 | Z92: =ACCESSOIRES!CQ92 -> 0 | AA92: =ACCESSOIRES!CY92 -> 0 | AB92: =ACCESSOIRES!CZ92 -> 0 | AC92: =ACCESSOIRES!DB92 -> 900.1157 | AD92: =ACCESSOIRES!DJ92 -> 0.225 | AE92: =ACCESSOIRES!DK92 -> 0 | AF92: MINI-PINCEAUX
B93: =ACCESSOIRES!C93 -> 0 | C93: =ACCESSOIRES!K93 -> 0 | D93: =ACCESSOIRES!L93 -> 0 | E93: =ACCESSOIRES!N93 -> 0 | F93: =ACCESSOIRES!V93 -> 0 | G93: =ACCESSOIRES!W93 -> 0 | H93: =ACCESSOIRES!Z93 -> 0 | I93: =ACCESSOIRES!AH93 -> 0 | J93: =ACCESSOIRES!AI93 -> 0 | K93: =ACCESSOIRES!AK93 -> 0 | L93: =ACCESSOIRES!AS93 -> 0 | M93: =ACCESSOIRES!AT93 -> 0 | N93: =ACCESSOIRES!AW93 -> 0 | O93: =ACCESSOIRES!BE93 -> 0 | P93: =ACCESSOIRES!BF93 -> 0 | Q93: =ACCESSOIRES!BH93 -> 0 | R93: =ACCESSOIRES!BP93 -> 0 | S93: =ACCESSOIRES!BQ93 -> 0 | T93: =ACCESSOIRES!BT93 -> U1R200 | U93: =ACCESSOIRES!CB93 -> 0.165 | V93: =ACCESSOIRES!CC93 -> 0 | W93: =ACCESSOIRES!CE93 -> 0 | X93: =ACCESSOIRES!CM93 -> 0 | Y93: =ACCESSOIRES!CN93 -> 0 | Z93: =ACCESSOIRES!CQ93 -> 0 | AA93: =ACCESSOIRES!CY93 -> 0 | AB93: =ACCESSOIRES!CZ93 -> 0 | AC93: =ACCESSOIRES!DB93 -> 0 | AD93: =ACCESSOIRES!DJ93 -> 0 | AE93: =ACCESSOIRES!DK93 -> 0
A94: PISTOLET CAPSULE | B94: =ACCESSOIRES!C94 -> 712.032 | C94: =ACCESSOIRES!K94 -> 56.24 | D94: =ACCESSOIRES!L94 -> 28.12 | E94: =ACCESSOIRES!N94 -> 0 | F94: =ACCESSOIRES!V94 -> 0 | G94: =ACCESSOIRES!W94 -> 0 | H94: =ACCESSOIRES!Z94 -> 0 | I94: =ACCESSOIRES!AH94 -> 0 | J94: =ACCESSOIRES!AI94 -> 0 | K94: =ACCESSOIRES!AK94 -> 0 | L94: =ACCESSOIRES!AS94 -> 0 | M94: =ACCESSOIRES!AT94 -> 0 | N94: =ACCESSOIRES!AW94 -> 0 | O94: =ACCESSOIRES!BE94 -> 0 | P94: =ACCESSOIRES!BF94 -> 0 | Q94: =ACCESSOIRES!BH94 -> 0 | R94: =ACCESSOIRES!BP94 -> 0 | S94: =ACCESSOIRES!BQ94 -> 0 | T94: =ACCESSOIRES!BT94 -> 0 | U94: =ACCESSOIRES!CB94 -> 0 | V94: =ACCESSOIRES!CC94 -> 0 | W94: =ACCESSOIRES!CE94 -> 0 | X94: =ACCESSOIRES!CM94 -> 0 | Y94: =ACCESSOIRES!CN94 -> 0 | Z94: =ACCESSOIRES!CQ94 -> 0 | AA94: =ACCESSOIRES!CY94 -> 0 | AB94: =ACCESSOIRES!CZ94 -> 0 | AC94: =ACCESSOIRES!DB94 -> 0 | AD94: =ACCESSOIRES!DJ94 -> 0 | AE94: =ACCESSOIRES!DK94 -> 0 | AF94: PISTOLET CAPSULE
A95: PISTOLET CAPSULE UNIDOSE | B95: =ACCESSOIRES!C95 -> 0 | C95: =ACCESSOIRES!K95 -> 0 | D95: =ACCESSOIRES!L95 -> 0 | E95: =ACCESSOIRES!N95 -> 0 | F95: =ACCESSOIRES!V95 -> 0 | G95: =ACCESSOIRES!W95 -> 0 | H95: =ACCESSOIRES!Z95 -> 0 | I95: =ACCESSOIRES!AH95 -> 0 | J95: =ACCESSOIRES!AI95 -> 0 | K95: =ACCESSOIRES!AK95 -> 0 | L95: =ACCESSOIRES!AS95 -> 0 | M95: =ACCESSOIRES!AT95 -> 0 | N95: =ACCESSOIRES!AW95 -> 0 | O95: =ACCESSOIRES!BE95 -> 0 | P95: =ACCESSOIRES!BF95 -> 0 | Q95: =ACCESSOIRES!BH95 -> 0 | R95: =ACCESSOIRES!BP95 -> 0 | S95: =ACCESSOIRES!BQ95 -> 0 | T95: =ACCESSOIRES!BT95 -> 0 | U95: =ACCESSOIRES!CB95 -> 0 | V95: =ACCESSOIRES!CC95 -> 0 | W95: =ACCESSOIRES!CE95 -> OR0.740.0197 | X95: =ACCESSOIRES!CM95 -> 61.594 | Y95: =ACCESSOIRES!CN95 -> 61.594 | Z95: =ACCESSOIRES!CQ95 -> 0 | AA95: =ACCESSOIRES!CY95 -> 0 | AB95: =ACCESSOIRES!CZ95 -> 0 | AC95: =ACCESSOIRES!DB95 -> 0 | AD95: =ACCESSOIRES!DJ95 -> 0 | AE95: =ACCESSOIRES!DK95 -> 0 | AF95: PISTOLET CAPSULE UNIDOSE

Sheet LABO
B1: REF AO | M1: REF FORESTADENT | Y1: REF GACD | AJ1: REF LEONE | AV1: REF MEGA DENTAL | BG1: REF NEW ORTHO | BS1: REF ORMODENT | CD1: REF RMO | CP1: REF SCHEIN
C2: REF | E2: PX TTC | F2: REM | G2: PX REM | H2: Q | I2: TOT TTC | J2: TOT REM | K2: UNITE | L2: UNITE REM | N2: REF | P2: PX TTC | Q2: REM | R2: PX REM | S2: Q | T2: TOT | U2: TOT REM | V2: UNITE | W2: UNITE REM | Z2: REF | AB2: PX TTC | AC2: REM | AD2: PX REM | AE2: Q | AF2: TOT | AG2: TOT REM | AH2: UNITE | AI2: UNITE REM | AK2: REF | AM2: PX TTC | AN2: REM | AO2: PX REM | AP2: Q | AQ2: TOT | AR2: TOT REM | AS2: UNITE | AT2: UNITE REM | AW2: REF | AY2: PX TTC | AZ2: REM | BA2: PX REM | BB2: Q | BC2: TOT | BD2: TOT REM | BE2: UNITE | BF2: UNITE REM | BH2: REF | BJ2: PX TTC | BK2: REM | BL2: PX REM | BM2: Q | BN2: TOT | BO2: TOT REM | BP2: UNITE | BQ2: UNITE REM | BT2: REF | BV2: PX TTC | BW2: REM | BX2: PX REM | BY2: Q | BZ2: TOT TTC | CA2: TOT REM | CB2: UNITE | CC2: UNITE REM | CE2: REF | CG2: PX TTC | CH2: REM | CI2: PX REM | CJ2: Q | CK2: TOT | CL2: TOT REM | CM2: UNITE | CN2: UNITE REM | CQ2: REF | CS2: PX TTC | CT2: REM | CU2: PX REM | CV2: Q | CW2: TOT | CX2: TOT REM | CY2: UNITE | CZ2: UNITE REM
DA4: REF GAC
A5: BOL A PLATRE | X5: BOL A PLATRE | Y5: DENT.O.PLAST/LARGE/600cc | Z5: 221.767 | AA5: 1 | AB5: 3.8 | AE5: 0 | AF5: =AE5*AB5 -> 0 | AG5: =AE5*AD5 -> 0 | AH5: =AB5/AA5 -> 3.8 | AI5: =AD5/AA5 -> 0 | AK5: EV.FD060 | AL5: 1 | AM5: 13.47 | AN5: 0.2 | AO5: =AM5-(AM5*AN5) -> 10.776 | AQ5: =AP5*AM5 -> 0 | AR5: =AP5*AO5 -> 0 | AS5: =AM5/AL5 -> 13.47 | AT5: =AO5/AL5 -> 10.776 | AU5: BOL A PLATRE | AV5: DE HEALTH/LARGE 12cm | AW5: 3695.122 | AX5: 1 | AY5: 2.8 | BB5: 0 | BC5: =BB5*AY5 -> 0 | BD5: =BB5*BA5 -> 0 | BE5: =AY5/AX5 -> 2.8 | BF5: =BA5/AX5 -> 0 | BR5: BOL A PLATRE | BS5: MOYEN | BT5: PG0.100.0871 | BU5: 1 | BV5: 10.9434 | BX5: =BV5-(BV5*BW5) -> 10.9434 | BZ5: =BY5*BV5 -> 0 | CA5: =BY5*BX5 -> 0 | CB5: =BV5/BU5 -> 10.9434 | CC5: =BX5/BU5 -> 10.9434 | CD5: 12cm | CE5: ECM7006 | CF5: 1 | CG5: 6.9368 | CH5: 0.25 | CI5: =CG5*0.75 -> 5.2026 | CJ5: 1 | CK5: =CJ5*CG5 -> 6.9368 | CL5: =CJ5*CI5 -> 5.2026 | CM5: =CG5/CF5 -> 6.9368 | CN5: =CI5/CF5 -> 5.2026 | CO5: BOL A PLATRE | CP5: HS/LARGE 13cm | CQ5: 900.1473 | CR5: 1 | CS5: 4 | CV5: 0 | CW5: =CV5*CS5 -> 0 | CX5: =CV5*CU5 -> 0 | CY5: =CS5/CR5 -> 4 | CZ5: =CU5/CR5 -> 0 | DC5: BOL A PLATRE
A6: BOITE MOULAGE | B6: Q100/6 | C6: EV000-006 | D6: 100 | E6: 166.78 | F6: 0 | G6: 166.78 | I6: =H6*E6 -> 0 | J6: =H6*G6 -> 0 | K6: =E6/D6 -> 1.6678 | L6: =G6/D6 -> 1.6678 | X6: BOITE MOULAGE | AF6: =AB6*AE6 -> 0 | AJ6: COFFRET 2 TIROIRS | AK6: T3360.00 | AL6: 16 | AM6: 189.22 | AN6: 0.35 | AO6: =AM6-(AM6*AN6) -> 122.993 | AQ6: =AP6*AM6 -> 0 | AR6: =AP6*AO6 -> 0 | AS6: =AM6/AL6 -> 11.82625 | AT6: =AO6/AL6 -> 7.6870625 | AU6: BOITE MOULAGE | BC6: =AY6*BB6 -> 0 | BG6: 4 COMPARTIMENT/Q50 | BH6: 0850.4 | BI6: 50 | BJ6: 175 | BN6: =BM6*BJ6 -> 0 | BO6: =BM6*BL6 -> 0 | BP6: =BJ6/BI6 -> 3.5 | BQ6: =BL6/BI6 -> 0 | BR6: BOITE MOULAGE | BS6: 6 COMPARTIMENTS/Q100 | BT6: CH0.710.0100 | BU6: 100 | BV6: 193.04636 | BX6: =BV6-(BV6*BW6) -> 193.04636 | BZ6: =BY6*BV6 -> 0 | CA6: =BY6*BX6 -> 0 | CB6: =BV6/BU6 -> 1.9304636 | CC6: =BX6/BU6 -> 1.9304636 | CD6: STANDARD/Q100 | CE6: ECM0208 | CF6: 100 | CG6: 152.6096 | CH6: 0.25 | CI6: =CG6*0.75 -> 114.4572 | CJ6: 1 | CK6: =CJ6*CG6 -> 152.6096 | CL6: =CJ6*CI6 -> 114.4572 | CM6: =CG6/CF6 -> 1.526096 | CN6: =CI6/CF6 -> 1.144572 | CO6: BOITE MOULAGE | DC6: BOITE MOULAGE
A7: CABINE ASPIRANTE SABLEUSE | X7: CABINE ASPIRANTE SABLEUSE | AF7: =AB7*AE7 -> 0 | AL7: 1 | AM7: 897 | AN7: 0.2 | AO7: =AM7-(AM7*AN7) -> 717.6 | AQ7: =AP7*AM7 -> 0 | AR7: =AP7*AO7 -> 0 | AS7: =AM7/AL7 -> 897 | AT7: =AO7/AL7 -> 717.6 | AU7: CABINE ASPIRANTE SABLEUSE | BC7: =AY7*BB7 -> 0 | BR7: CABINE ASPIRANTE SABLEUSE | BT7: SD0.005.8500 | BU7: 1 | BV7: 718.41328 | BX7: =BV7-(BV7*BW7) -> 718.41328 | BZ7: =BY7*BV7 -> 0 | CA7: =BY7*BX7 -> 0 | CB7: =BV7/BU7 -> 718.41328 | CC7: =BX7/BU7 -> 718.41328 | CO7: CABINE ASPIRANTE SABLEUSE | DB7: 97.222.26 | DC7: CABINE ASPIRANTE SABLEUSE
A8: COUTEAU A CIRE | X8: COUTEAU A CIRE | AF8: =AB8*AE8 -> 0 | AK8: ME.060.320 | AL8: 1 | AM8: 10.32 | AN8: 0.2 | AO8: =AM8-(AM8*AN8) -> 8.256 | AQ8: =AP8*AM8 -> 0 | AR8: =AP8*AO8 -> 0 | AS8: =AM8/AL8 -> 10.32 | AT8: =AO8/AL8 -> 8.256 | AU8: COUTEAU A CIRE | AV8: GRAND BOIS | AW8: 5471.099 | AX8: 1 | AY8: 9 | BB8: 1 | BC8: =BB8*AY8 -> 9 | BD8: =BB8*BA8 -> 0 | BE8: =AY8/AX8 -> 9 | BF8: =BA8/AX8 -> 0 | BR8: COUTEAU A CIRE | BS8: GRAND | BT8: PG0.845.2067 | BU8: 1 | BV8: 11.76864 | BX8: =BV8-(BV8*BW8) -> 11.76864 | BZ8: =BY8*BV8 -> 0 | CA8: =BY8*BX8 -> 0 | CB8: =BV8/BU8 -> 11.76864 | CC8: =BX8/BU8 -> 11.76864 | CO8: COUTEAU A CIRE | DC8: COUTEAU A CIRE
A9: COUTEAU A PLATRE | X9: COUTEAU A PLATRE | Y9: PETIT | Z9: 2211.395 | AA9: 1 | AB9: 9 | AE9: 0 | AF9: =AE9*AB9 -> 0 | AG9: =AE9*AD9 -> 0 | AH9: =AB9/AA9 -> 9 | AI9: =AD9/AA9 -> 0 | AK9: ME.060.030 | AL9: 1 | AM9: 9.03 | AN9: 0.2 | AO9: =AM9-(AM9*AN9) -> 7.224 | AQ9: =AP9*AM9 -> 0 | AR9: =AP9*AO9 -> 0 | AS9: =AM9/AL9 -> 9.03 | AT9: =AO9/AL9 -> 7.224 | AU9: COUTEAU A PLATRE | AV9: MANCHE NOIR PLASTIQUE | AW9: 9696.090 | AX9: 1 | AY9: 8.5 | BB9: 1 | BC9: =BB9*AY9 -> 8.5 | BD9: =BB9*BA9 -> 0 | BE9: =AY9/AX9 -> 8.5 | BF9: =BA9/AX9 -> 0 | BG9: COURT | BH9: MUA.422 | BI9: 1 | BJ9: 4 | BN9: =BM9*BJ9 -> 0 | BO9: =BM9*BL9 -> 0 | BP9: =BJ9/BI9 -> 4 | BQ9: =BL9/BI9 -> 0 | BR9: COUTEAU A PLATRE | BT9: SA0.845.1996 | BU9: 1 | BV9: 11.82844 | BX9: =BV9-(BV9*BW9) -> 11.82844 | BZ9: =BY9*BV9 -> 0 | CA9: =BY9*BX9 -> 0 | CB9: =BV9/BU9 -> 11.82844 | CC9: =BX9/BU9 -> 11.82844 | CE9: I00039 | CF9: 1 | CG9: 16.0862 | CH9: 0.25 | CI9: =CG9*0.75 -> 12.06465 | CJ9: 1 | CK9: =CJ9*CG9 -> 16.0862 | CL9: =CJ9*CI9 -> 12.06465 | CM9: =CG9/CF9 -> 16.0862 | CN9: =CI9/CF9 -> 12.06465 | CO9: COUTEAU A PLATRE | DC9: COUTEAU A PLATRE
A10: DISQUE DECOUPE GOUTTIERE | X10: DISQUE DECOUPE GOUTTIERE | AF10: =AB10*AE10 -> 0 | AU10: DISQUE DECOUPE GOUTTIERE | BC10: =AY10*BB10 -> 0 | BR10: DISQUE DECOUPE GOUTTIERE | BV10: 0 | CO10: DISQUE DECOUPE GOUTTIERE | DB10: 18320 | DC10: DISQUE DECOUPE GOUTTIERE
A11: FIL ACIER LABO | M11: 500g/DUR OU DUR ELASTIQUE | O11: 0.5 | P11: 90 | T11: =S11*P11 -> 0 | U11: =S11*R11 -> 0 | V11: =P11/O11 -> 180 | W11: =R11/O11 -> 0 | X11: FIL ACIER LABO | AF11: =AB11*AE11 -> 0 | AU11: FIL ACIER LABO | BC11: =AY11*BB11 -> 0 | BR11: FIL ACIER LABO | BS11: GRANDE BOBINE/500g/DUR | BT11: LWI.267.0008 | BU11: 0.5 | BV11: 19.17188 | BX11: =BV11-(BV11*BW11) -> 19.17188 | BZ11: =BY11*BV11 -> 0 | CA11: =BY11*BX11 -> 0 | CB11: =BV11/BU11 -> 38.34376 | CC11: =BX11/BU11 -> 38.34376 | CO11: FIL ACIER LABO | DC11: FIL ACIER LABO
A12: FLUX SOUDURE | C12: AA860-010 | D12: 1 | E12: 14.28 | F12: 0.25 | G12: =E12*0.75 -> 10.71 | I12: =H12*E12 -> 0 | J12: =H12*G12 -> 0 | K12: =E12/D12 -> 14.28 | L12: =G12/D12 -> 10.71 | X12: FLUX SOUDURE | AF12: =AB12*AE12 -> 0 | AU12: FLUX SOUDURE | BC12: =AY12*BB12 -> 0 | BR12: FLUX SOUDURE | BS12: ORMOFLUX/50g | BT12: OD0.759.1985 | BU12: 0.05 | BV12: 16.99516 | BX12: =BV12-(BV12*BW12) -> 16.99516 | BZ12: =BY12*BV12 -> 0 | CA12: =BY12*BX12 -> 0 | CB12: =BV12/BU12 -> 339.9032 | CC12: =BX12/BU12 -> 339.9032 | CO12: FLUX SOUDURE | DC12: FLUX SOUDURE
A13: FRAISE A PLATRE | X13: FRAISE A PLATRE | AF13: =AB13*AE13 -> 0 | AU13: FRAISE A PLATRE | BC13: =AY13*BB13 -> 0 | BR13: FRAISE A PLATRE | BS13: DIAM 0,7 | BT13: ID0.194.2237 | BU13: 1 | BV13: 38.06868 | BX13: =BV13-(BV13*BW13) -> 38.06868 | BZ13: =BY13*BV13 -> 0 | CA13: =BY13*BX13 -> 0 | CB13: =BV13/BU13 -> 38.06868 | CC13: =BX13/BU13 -> 38.06868 | CO13: FRAISE A PLATRE | DC13: FRAISE A PLATRE
A14: FRAISE RESINE | X14: FRAISE RESINE | AF14: =AB14*AE14 -> 0 | AU14: FRAISE RESINE | BC14: =AY14*BB14 -> 0 | BR14: FRAISE RESINE | BV14: 0 | CO14: FRAISE RESINE | DB14: 18901 | DC14: FRAISE RESINE
A15: GEL TRIAD | X15: GEL TRIAD | AF15: =AB15*AE15 -> 0 | AU15: GEL TRIAD | BC15: =AY15*BB15 -> 0 | BR15: GEL TRIAD | BV15: 0 | CO15: GEL TRIAD | DA15: BLEU | DB15: 88750 | DC15: GEL TRIAD
A16: ISOLANT PLATRE | X16: ISOLANT PLATRE | AJ16: 1L | AK16: R6320.00 | AM16: 28.8 | AN16: 0.35 | AU16: ISOLANT PLATRE | BR16: ISOLANT PLATRE | BV16: 0 | CD16: 500ml | CE16: ECS3189 | CF16: 0.5 | CG16: 21.1692 | CH16: 0 | CI16: 21.1692 | CJ16: 1 | CK16: =CJ16*CG16 -> 21.1692 | CL16: =CJ16*CI16 -> 21.1692 | CM16: =CG16/CF16 -> 42.3384 | CN16: =CI16/CF16 -> 42.3384 | CO16: ISOLANT PLATRE | DC16: ISOLANT PLATRE
A17: LIQUIDE DE SEPARATION | X17: LIQUIDE DE SEPARATION | AF17: =AB17*AE17 -> 0 | AU17: LIQUIDE DE SEPARATION | BC17: =AY17*BB17 -> 0 | BR17: LIQUIDE DE SEPARATION | BV17: 0 | CO17: LIQUIDE DE SEPARATION | DA17: 3 FLACONS/10ml | DB17: 25.201.35 | DC17: LIQUIDE DE SEPARATION
A18: MEULETTE POLISSAGE | X18: MEULETTE POLISSAGE | AF18: =AB18*AE18 -> 0 | AJ18: LES 6 | AK18: R3427.00 | AM18: 27.95 | AN18: 0.35 | AU18: MEULETTE POLISSAGE | BC18: =AY18*BB18 -> 0 | BR18: MEULETTE POLISSAGE | BV18: 0 | CO18: MEULETTE POLISSAGE | DA18: JEU DE 3 | DB18: IS10H9600 | DC18: MEULETTE POLISSAGE
A19: MEMOSYL | X19: MEMOSYL | AF19: =AB19*AE19 -> 0 | AJ19: 2X50ml | AK19: HE.66004969 | AM19: 54.33 | AN19: 0.05 | AO19: =AM19-(AM19*AN19) -> 51.6135 | AQ19: =AP19*AM19 -> 0 | AR19: =AP19*AO19 -> 0 | AS19: =AM19/AL19 -> #DIV/0! | AT19: =AO19/AL19 -> #DIV/0! | AU19: MEMOSYL | BC19: =AY19*BB19 -> 0 | BR19: MEMOSYL | BV19: 0 | CO19: MEMOSYL | DA19: 1 BOITE/2X50ml | DB19: 66004969/S | DC19: MEMOSYL
A20: OXYDE D'ALUMINIUM | X20: OXYDE D'ALUMINIUM | Y20: ALUMINE DELDENT/50µ/454g | Z20: 228.919 | AA20: 0.454 | AB20: 22.9 | AE20: 1 | AF20: =AE20*AB20 -> 22.9 | AG20: =AE20*AD20 -> 0 | AH20: =AB20/AA20 -> 50.440529 | AI20: =AD20/AA20 -> 0 | AU20: OXYDE D'ALUMINIUM | AV20: DANVILLE/50µ/454g | AW20: 1583.008 | AX20: 0.454 | AY20: 25 | BB20: 1 | BC20: =BB20*AY20 -> 25 | BD20: =BB20*BA20 -> 0 | BE20: =AY20/AX20 -> 55.066079 | BF20: =BA20/AX20 -> 0 | BR20: OXYDE D'ALUMINIUM | BV20: 0 | CO20: OXYDE D'ALUMINIUM | CP20: DANVILLE/50µ/454g | CQ20: 886.9361 | CR20: 0.454 | CS20: 22.9 | CV20: 1 | CW20: =CV20*CS20 -> 22.9 | CX20: =CV20*CU20 -> 0 | CY20: =CS20/CR20 -> 50.440529 | CZ20: =CU20/CR20 -> 0 | DA20: MICROETCHER II/50µ | DB20: 97.222.30 | DC20: OXYDE D'ALUMINIUM
AF21: =AB21*AE21 -> 0 | BC21: =AY21*BB21 -> 0 | BV21: 0 | DA21: MICROETCHER II/90µ | DB21: 97.222.29
A22: PLAQUE THERMO | M22: TRACK A/RIGIDE/0.5MM/Q100/REMISE 20% SI Q3 PANACHABLE | N22: 408.0105 | O22: 100 | P22: 139.15 | Q22: 0.2 | R22: =P22*0.8 -> 111.32 | T22: =S22*P22 -> 0 | U22: =S22*R22 -> 0 | V22: =P22/O22 -> 1.3915 | W22: =R22/O22 -> 1.1132 | X22: PLAQUE THERMO | AF22: =AB22*AE22 -> 0 | AU22: PLAQUE THERMO | BC22: =AY22*BB22 -> 0 | BG22: DURAFORCE/.75mm/Q10 | BH22: DFS030X10S | BI22: 10 | BJ22: 12 | BN22: =BM22*BJ22 -> 0 | BO22: =BM22*BL22 -> 0 | BP22: =BJ22/BI22 -> 1.2 | BQ22: =BL22/BI22 -> 0 | BR22: PLAQUE THERMO | BV22: 0 | CO22: PLAQUE THERMO | CP22: ULTRADENT/SOFT TRAY/BLANCHIMENT/0,9mm/Q25 | CQ22: 892.7095 | CR22: 25 | CS22: 30 | CV22: 1 | CW22: =CV22*CS22 -> 30 | CX22: =CV22*CU22 -> 0 | CY22: =CS22/CR22 -> 1.2 | CZ22: =CU22/CR22 -> 0 | DC22: PLAQUE THERMO
M23: TRACK A/RIGIDE/0.63MM/Q100/REMISE 20% SI Q3 PANACHABLE | N23: 408.0106 | O23: 100 | P23: 145.65 | Q23: 0.2 | R23: =P23*0.8 -> 116.52 | T23: =S23*P23 -> 0 | U23: =S23*R23 -> 0 | V23: =P23/O23 -> 1.4565 | W23: =R23/O23 -> 1.1652 | Y23: SEMI.RIGIDE/0.5mm/Q50 | Z23: 2218.270 | AA23: 50 | AB23: 34.9 | AE23: 1 | AF23: =AE23*AB23 -> 34.9 | AG23: =AE23*AD23 -> 0 | AH23: =AB23/AA23 -> 0.698 | AI23: =AD23/AA23 -> 0 | BC23: =AY23*BB23 -> 0 | BG23: DURAFORCE/1mm/Q10 | BH23: DFS040X10S | BI23: 10 | BJ23: 12 | BN23: =BM23*BJ23 -> 0 | BO23: =BM23*BL23 -> 0 | BP23: =BJ23/BI23 -> 1.2 | BQ23: =BL23/BI23 -> 0 | BV23: 0 | DA23: IDEAL CLEAR/0,50mm/Q(50) | DB23: 10025
M24: TRACK A/RIGIDE/0.8MM/Q100/REMISE 20% SI Q3 PANACHABLE | N24: 408.0108 | O24: 100 | P24: 152.44 | Q24: 0.2 | R24: =P24*0.8 -> 121.952 | T24: =S24*P24 -> 0 | U24: =S24*R24 -> 0 | V24: =P24/O24 -> 1.5244 | W24: =R24/O24 -> 1.21952 | AF24: =AB24*AE24 -> 0 | BC24: =AY24*BB24 -> 0 | BG24: DURACLEAR/1,5mm/Q10 | BH24: DCS060X10S | BI24: 10 | BJ24: 42 | BN24: =BM24*BJ24 -> 0 | BO24: =BM24*BL24 -> 0 | BP24: =BJ24/BI24 -> 4.2 | BQ24: =BL24/BI24 -> 0 | BV24: 0 | DA24: IDEAL CLEAR/0,75mm/Q(50) | DB24: 10030
M25: TRACK A/RIGIDE/1MM/Q100/REMISE 20% SI Q3 PANACHABLE | N25: 408.0110 | O25: 100 | P25: 171.72 | Q25: 0.2 | R25: =P25*0.8 -> 137.376 | T25: =S25*P25 -> 0 | U25: =S25*R25 -> 0 | V25: =P25/O25 -> 1.7172 | W25: =R25/O25 -> 1.37376 | AF25: =AB25*AE25 -> 0 | BC25: =AY25*BB25 -> 0 | BG25: DURACLEAR/2mm/Q10 | BH25: DCS080X10S | BI25: 10 | BJ25: 42 | BN25: =BM25*BJ25 -> 0 | BO25: =BM25*BL25 -> 0 | BP25: =BJ25/BI25 -> 4.2 | BQ25: =BL25/BI25 -> 0 | BS25: ERKOFLEX/1mm/Q10 | BT25: ER0.581.710C | BU25: 10 | BV25: 37.87732 | BX25: =BV25-(BV25*BW25) -> 37.87732 | BZ25: =BY25*BV25 -> 0 | CA25: =BY25*BX25 -> 0 | CB25: =BV25/BU25 -> 3.787732 | CC25: =BX25/BU25 -> 3.787732 | DA25: IDEAL CLEAR/1mm/Q(50) | DB25: 10045
M26: TRACK A/RIGIDE/1.5MM/Q50/REMISE 20% SI Q3 PANACHABLE | N26: 408.0115 | O26: 50 | P26: 121.08 | Q26: 0.2 | R26: =P26*0.8 -> 96.864 | T26: =S26*P26 -> 0 | U26: =S26*R26 -> 0 | V26: =P26/O26 -> 2.4216 | W26: =R26/O26 -> 1.93728 | Y26: RIGIDE/1,5mm/Q25 | Z26: 2218.272 | AA26: 25 | AB26: 104.9 | AE26: 1 | AF26: =AE26*AB26 -> 104.9 | AG26: =AE26*AD26 -> 0 | AH26: =AB26/AA26 -> 4.196 | AI26: =AD26/AA26 -> 0 | BC26: =AY26*BB26 -> 0 | BS26: ERKOFLEX/1,5mm/Q10 | BT26: ER0.581.615C | BU26: 10 | BV26: 97.10324 | BX26: =BV26-(BV26*BW26) -> 97.10324 | BZ26: =BY26*BV26 -> 0 | CA26: =BY26*BX26 -> 0 | CB26: =BV26/BU26 -> 9.710324 | CC26: =BX26/BU26 -> 9.710324 | DA26: IDEAL CLEAR/1,5mm/Q(50) | DB26: 10065
M27: TRACK B/DOUBLE COUCHE/2MM/Q30/REMISE 20% SI Q3 PANACHABLE | N27: 408.0220 | O27: 30 | P27: 162.92 | Q27: 0.2 | R27: =P27*0.8 -> 130.336 | T27: =S27*P27 -> 0 | U27: =S27*R27 -> 0 | V27: =P27/O27 -> 5.4306667 | W27: =R27/O27 -> 4.3445333 | Y27: RIGIDE/2mm/Q25 | Z27: 2218.274 | AA27: 25 | AB27: 125 | AE27: 1 | AF27: =AE27*AB27 -> 125 | AG27: =AE27*AD27 -> 0 | AH27: =AB27/AA27 -> 5 | AI27: =AD27/AA27 -> 0 | BC27: =AY27*BB27 -> 0 | BS27: TRUPLAST/2mm/Q10 | BT27: AI0.601.TC20 | BU27: 10 | BV27: 23.23828 | BX27: =BV27-(BV27*BW27) -> 23.23828 | BZ27: =BY27*BV27 -> 0 | CA27: =BY27*BX27 -> 0 | CB27: =BV27/BU27 -> 2.323828 | CC27: =BX27/BU27 -> 2.323828 | DA27: IDEAL CLEAR/2mm/Q(50) | DB27: 10085
M28: TRACK E/1,5MM/SOFT/Q50/REMISE 20% SI Q3 PANACHABLE | N28: 408.0515 | O28: 50 | P28: 96.34 | Q28: 0.2 | R28: =P28*0.8 -> 77.072 | T28: =S28*P28 -> 0 | U28: =S28*R28 -> 0 | V28: =P28/O28 -> 1.9268 | W28: =R28/O28 -> 1.54144 | AF28: =AB28*AE28 -> 0 | BC28: =AY28*BB28 -> 0 | BS28: COPYPLAST/COLLAGE INDIRECT/0,5mm/Q10 | BT28: SC0.601.3176 | BU28: 10 | BV28: 10.48892 | BX28: =BV28-(BV28*BW28) -> 10.48892 | BZ28: =BY28*BV28 -> 0 | CA28: =BY28*BX28 -> 0 | CB28: =BV28/BU28 -> 1.048892 | CC28: =BX28/BU28 -> 1.048892
M29: TRACK BLEACH/1MM/Q100/REMISE 20% SI Q3 PANACHABLE | N29: 408.0610 | O29: 100 | P29: 195.13 | Q29: 0.2 | R29: =P29*0.8 -> 156.104 | T29: =S29*P29 -> 0 | U29: =S29*R29 -> 0 | V29: =P29/O29 -> 1.9513 | W29: =R29/O29 -> 1.56104 | AF29: =AB29*AE29 -> 0 | BC29: =AY29*BB29 -> 0 | BV29: 0 | DA29: BLANCHIMENT/Q(100) | DB29: 70500
A30: PLATRE | B30: 22,8Kg | C30: EV000-228 | D30: 22.8 | E30: 73.63 | F30: 0.25 | G30: =E30*0.75 -> 55.2225 | I30: =H30*E30 -> 0 | J30: =H30*G30 -> 0 | K30: =E30/D30 -> 3.229386 | L30: =G30/D30 -> 2.4220395 | X30: PLATRE | Y30: SNOW WHITE KERR/4,5kg | Z30: 221.325 | AA30: 4.5 | AB30: 31.6 | AE30: 1 | AF30: =AE30*AB30 -> 31.6 | AG30: =AE30*AD30 -> 0 | AH30: =AB30/AA30 -> 7.0222222 | AI30: =AD30/AA30 -> 0 | AJ30: 25kg | AK30: UL.P9531 | AL30: 25 | AM30: 96.8 | AN30: 0.15 | AO30: =AM30-(AM30*AN30) -> 82.28 | AQ30: =AP30*AM30 -> 0 | AR30: =AP30*AO30 -> 0 | AS30: =AM30/AL30 -> 3.872 | AT30: =AO30/AL30 -> 3.2912 | AU30: PLATRE | AV30: SNOW WHITE KERR/4,5kg | AW30: 3245.088 | AX30: 4.5 | AY30: 28.8 | BB30: 1 | BC30: =BB30*AY30 -> 28.8 | BD30: =BB30*BA30 -> 0 | BE30: =AY30/AX30 -> 6.4 | BF30: =BA30/AX30 -> 0 | BG30: ORTOTYPO/25kg | BH30: TOR425 | BI30: 25 | BJ30: 150 | BN30: =BM30*BJ30 -> 0 | BO30: =BM30*BL30 -> 0 | BP30: =BJ30/BI30 -> 6 | BQ30: =BL30/BI30 -> 0 | BR30: PLATRE | BS30: SNOW WHITE/28kg | BT30: MM0.469.0092 | BU30: 28 | BV30: 166.65064 | BX30: =BV30-(BV30*BW30) -> 166.65064 | BZ30: =BY30*BV30 -> 0 | CA30: =BY30*BX30 -> 0 | CB30: =BV30/BU30 -> 5.9518086 | CC30: =BX30/BU30 -> 5.9518086 | CD30: SNOW WHITE/20kg | CE30: ECM0245 | CF30: 20 | CG30: 132.457 | CH30: 0 | CI30: 132.457 | CJ30: 1 | CK30: =CJ30*CG30 -> 132.457 | CL30: =CJ30*CI30 -> 132.457 | CM30: =CG30/CF30 -> 6.62285 | CN30: =CI30/CF30 -> 6.62285 | CO30: PLATRE | DA30: ORTHODONTIQUE EXTRA BLANC | DB30: ISSOF.SIRIUS | DC30: PLATRE
A31: RESINE AUTO POLYMERISABLE | X31: RESINE AUTO POLYMERISABLE | AF31: =AB31*AE31 -> 0 | AU31: RESINE AUTO POLYMERISABLE | BC31: =AY31*BB31 -> 0 | BR31: RESINE AUTO POLYMERISABLE | BS31: ORTHORESIN/ROSE/500g/250ml | BT31: DE0.434.0023 | BU31: 1 | BV31: 103.83672 | BX31: =BV31-(BV31*BW31) -> 103.83672 | BZ31: =BY31*BV31 -> 0 | CA31: =BY31*BX31 -> 0 | CB31: =BV31/BU31 -> 103.83672 | CC31: =BX31/BU31 -> 103.83672 | CO31: RESINE AUTO POLYMERISABLE | DC31: RESINE AUTO POLYMERISABLE
A32: RESINE PHOTO POLYMERISABLE | X32: RESINE PHOTO POLYMERISABLE | Y32: POUDRE/50g/UNIFAST LC/TEINTE A2 | Z32: 2213.006 | AA32: 0.05 | AB32: 32.3 | AE32: 1 | AF32: =AE32*AB32 -> 32.3 | AG32: =AE32*AD32 -> 0 | AH32: =AB32/AA32 -> 646 | AI32: =AD32/AA32 -> 0 | AU32: RESINE PHOTO POLYMERISABLE | BC32: =AY32*BB32 -> 0 | BR32: RESINE PHOTO POLYMERISABLE | BV32: 0 | CO32: RESINE PHOTO POLYMERISABLE | DC32: RESINE PHOTO POLYMERISABLE
Y33: LIQUIDE/2X15g/UNIFAST LC | Z33: 2212.617 | AA33: 0.03 | AB33: 42.7 | AE33: 1 | AF33: =AE33*AB33 -> 42.7 | AG33: =AE33*AD33 -> 0 | AH33: =AB33/AA33 -> 1423.3333 | AI33: =AD33/AA33 -> 0 | BC33: =AY33*BB33 -> 0 | BS33: TRIAD/PLAQUE/Q24 | BT33: DE0.434.7110 | BU33: 24 | BV33: 164.2108 | BX33: =BV33-(BV33*BW33) -> 164.2108 | BZ33: =BY33*BV33 -> 0 | CA33: =BY33*BX33 -> 0 | CB33: =BV33/BU33 -> 6.8421167 | CC33: =BX33/BU33 -> 6.8421167
A34: ROUE DE POLISSAGE | X34: ROUE DE POLISSAGE | AF34: =AB34*AE34 -> 0 | AU34: ROUE DE POLISSAGE | BC34: =AY34*BB34 -> 0 | BR34: ROUE DE POLISSAGE | BV34: 0 | CO34: ROUE DE POLISSAGE | DA34: JEU DE 4 | DB34: 1898C | DC34: ROUE DE POLISSAGE
A35: SABLEUSE | X35: SABLEUSE | Y35: MINIBLASTER | Z35: 228.100 | AA35: 1 | AB35: 289 | AE35: 0 | AF35: =AE35*AB35 -> 0 | AG35: =AE35*AD35 -> 0 | AH35: =AB35/AA35 -> 289 | AI35: =AD35/AA35 -> 0 | AU35: SABLEUSE | BC35: =AY35*BB35 -> 0 | BR35: SABLEUSE | BS35: MICROETCHER | BT35: SD0.002.2005 | BU35: 1 | BV35: 443.04624 | BX35: =BV35-(BV35*BW35) -> 443.04624 | BZ35: =BY35*BV35 -> 0 | CA35: =BY35*BX35 -> 0 | CB35: =BV35/BU35 -> 443.04624 | CC35: =BX35/BU35 -> 443.04624 | CO35: SABLEUSE | DA35: MICROETCHER | DB35: 97.222.22 | DC35: SABLEUSE
A36: SOUDURE | X36: SOUDURE | AF36: =AB36*AE36 -> 0 | AU36: SOUDURE | BC36: =AY36*BB36 -> 0 | BR36: SOUDURE | BV36: 0 | CO36: SOUDURE | DA36: FLUX/30g | DB36: 97.750.00 | DC36: SOUDURE
AF37: =AB37*AE37 -> 0 | BC37: =AY37*BB37 -> 0 | BV37: 0 | DA37: ARGENT/0,4mm | DB37: 97.150.99
A38: SOUDURE ARGENT | C38: ID013-218 | D38: 1 | E38: 56.91 | F38: 0.25 | G38: =E38*0.75 -> 42.6825 | I38: =H38*E38 -> 0 | J38: =H38*G38 -> 0 | K38: =E38/D38 -> 56.91 | L38: =G38/D38 -> 42.6825 | X38: SOUDURE ARGENT | AF38: =AB38*AE38 -> 0 | AU38: SOUDURE ARGENT | BC38: =AY38*BB38 -> 0 | BR38: SOUDURE ARGENT | BS38: BOBINE .025 | BT38: OR0.759.0025 | BU38: 1 | BV38: 37.80556 | BX38: =BV38-(BV38*BW38) -> 37.80556 | BZ38: =BY38*BV38 -> 0 | CA38: =BY38*BX38 -> 0 | CB38: =BV38/BU38 -> 37.80556 | CC38: =BX38/BU38 -> 37.80556 | CO38: SOUDURE ARGENT | DC38: SOUDURE ARGENT
A39: SPATULE A PLATRE | X39: SPATULE A PLATRE | Y39: R&S/TYPE LICHTENSTEIN | Z39: 221.753 | AA39: 1 | AB39: 15.4 | AE39: 1 | AF39: =AE39*AB39 -> 15.4 | AG39: =AE39*AD39 -> 0 | AH39: =AB39/AA39 -> 15.4 | AI39: =AD39/AA39 -> 0 | AU39: SPATULE A PLATRE | AV39: PRODONT HOLLIGER | AW39: 9764.090 | AX39: 1 | AY39: 12 | BB39: 1 | BC39: =BB39*AY39 -> 12 | BD39: =BB39*BA39 -> 0 | BE39: =AY39/AX39 -> 12 | BF39: =BA39/AX39 -> 0 | BG39: MANCHE BOIS | BH39: MUA.433E | BI39: 1 | BJ39: 4 | BN39: =BM39*BJ39 -> 0 | BO39: =BM39*BL39 -> 0 | BP39: =BJ39/BI39 -> 4 | BQ39: =BL39/BI39 -> 0 | BR39: SPATULE A PLATRE | BS39: INOX | BT39: TE0.847.1916 | BU39: 1 | BV39: 10.14208 | BX39: =BV39-(BV39*BW39) -> 10.14208 | BZ39: =BY39*BV39 -> 0 | CA39: =BY39*BX39 -> 0 | CB39: =BV39/BU39 -> 10.14208 | CC39: =BX39/BU39 -> 10.14208 | CD39: METAL | CE39: ECM7007 | CF39: 1 | CG39: 10.2258 | CH39: 0 | CI39: 10.2258 | CJ39: 1 | CK39: =CJ39*CG39 -> 10.2258 | CL39: =CJ39*CI39 -> 10.2258 | CM39: =CG39/CF39 -> 10.2258 | CN39: =CI39/CF39 -> 10.2258 | CO39: SPATULE A PLATRE | DC39: SPATULE A PLATRE
A40: SPATULE DE ZAHLE | X40: SPATULE DE ZAHLE | AF40: =AB40*AE40 -> 0 | AU40: SPATULE DE ZAHLE | AW40: 2127.099 | AX40: 1 | AY40: 15 | BB40: 1 | BC40: =BB40*AY40 -> 15 | BD40: =BB40*BA40 -> 0 | BE40: =AY40/AX40 -> 15 | BF40: =BA40/AX40 -> 0 | BR40: SPATULE DE ZAHLE | BT40: SA0.847.0197 | BU40: 1 | BV40: 15.0098 | BX40: =BV40-(BV40*BW40) -> 15.0098 | BZ40: =BY40*BV40 -> 0 | CA40: =BY40*BX40 -> 0 | CB40: =BV40/BU40 -> 15.0098 | CC40: =BX40/BU40 -> 15.0098 | CO40: SPATULE DE ZAHLE | DC40: SPATULE DE ZAHLE
A41: TAILLE PLATRE | C41: SP000-108 | D41: 1 | E41: 2997.09 | F41: 0.35 | G41: =E41*0.65 -> 1948.1085 | I41: =H41*E41 -> 0 | J41: =H41*G41 -> 0 | K41: =E41/D41 -> 2997.09 | L41: =G41/D41 -> 1948.1085 | X41: TAILLE PLATRE | AF41: =AB41*AE41 -> 0 | AU41: TAILLE PLATRE | BC41: =AY41*BB41 -> 0 | BR41: TAILLE PLATRE | BT41: SP0.300.0200 | BU41: 1 | BV41: 2467.0012 | BX41: =BV41-(BV41*BW41) -> 2467.0012 | BZ41: =BY41*BV41 -> 0 | CA41: =BY41*BX41 -> 0 | CB41: =BV41/BU41 -> 2467.0012 | CC41: =BX41/BU41 -> 2467.0012 | CO41: TAILLE PLATRE | DC41: TAILLE PLATRE
A42: THERMOFORMEUR | M42: TRACK V | N42: 900.2000 | O42: 1 | P42: 1490 | T42: =S42*P42 -> 0 | U42: =S42*R42 -> 0 | V42: =P42/O42 -> 1490 | W42: =R42/O42 -> 0 | X42: THERMOFORMEUR | Y42: KEYSTONE | Z42: 2216.313 | AA42: 1 | AB42: 499 | AE42: 1 | AF42: =AE42*AB42 -> 499 | AG42: =AE42*AD42 -> 0 | AH42: =AB42/AA42 -> 499 | AI42: =AD42/AA42 -> 0 | AL42: 1 | AM42: 1149.63 | AN42: 0.15 | AO42: =AM42-(AM42*AN42) -> 977.1855 | AQ42: =AP42*AM42 -> 0 | AR42: =AP42*AO42 -> 0 | AS42: =AM42/AL42 -> 1149.63 | AT42: =AO42/AL42 -> 977.1855 | AU42: THERMOFORMEUR | AV42: KEYSTONE | AW42: 5645.002 | AX42: 1 | AY42: 499 | BB42: 1 | BC42: =BB42*AY42 -> 499 | BD42: =BB42*BA42 -> 0 | BE42: =AY42/AX42 -> 499 | BF42: =BA42/AX42 -> 0 | BR42: THERMOFORMEUR | BV42: 0 | CO42: THERMOFORMEUR | DB42: IS25.105.00 | DC42: THERMOFORMEUR
A43: VERNIS ISOLANT | X43: VERNIS ISOLANT | AF43: =AB43*AE43 -> 0 | AU43: VERNIS ISOLANT | BC43: =AY43*BB43 -> 0 | BR43: VERNIS ISOLANT | BS43: 0,5L/BIOPLAST | BT43: SC0.601.3189 | BU43: 0.5 | BV43: 32.3518 | BX43: =BV43-(BV43*BW43) -> 32.3518 | BZ43: =BY43*BV43 -> 0 | CA43: =BY43*BX43 -> 0 | CB43: =BV43/BU43 -> 64.7036 | CC43: =BX43/BU43 -> 64.7036 | CO43: VERNIS ISOLANT | DC43: VERNIS ISOLANT
A44: VIBREUR PLATRE | X44: VIBREUR PLATRE | AF44: =AB44*AE44 -> 0 | AK44: ME.080030 | AL44: 1 | AM44: 349.72 | AN44: 0.15 | AO44: =AM44-(AM44*AN44) -> 297.262 | AQ44: =AP44*AM44 -> 0 | AR44: =AP44*AO44 -> 0 | AS44: =AM44/AL44 -> 349.72 | AT44: =AO44/AL44 -> 297.262 | AU44: VIBREUR PLATRE | BC44: =AY44*BB44 -> 0 | BG44: MOYEN | BH44: 401344 | BI44: 1 | BJ44: 350 | BN44: =BM44*BJ44 -> 0 | BO44: =BM44*BL44 -> 0 | BP44: =BJ44/BI44 -> 350 | BQ44: =BL44/BI44 -> 0 | BR44: VIBREUR PLATRE | BT44: ID0.169.0998 | BU44: 1 | BV44: 621.84824 | BX44: =BV44-(BV44*BW44) -> 621.84824 | BZ44: =BY44*BV44 -> 0 | CA44: =BY44*BX44 -> 0 | CB44: =BV44/BU44 -> 621.84824 | CC44: =BX44/BU44 -> 621.84824 | CD44: MOYEN | CE44: ECM0255 | CF44: 1 | CG44: 263.0602 | CH44: 0.1 | CI44: =CG44*0.9 -> 236.75418 | CJ44: 1 | CK44: =CJ44*CG44 -> 263.0602 | CL44: =CJ44*CI44 -> 236.75418 | CM44: =CG44/CF44 -> 263.0602 | CN44: =CI44/CF44 -> 236.75418 | CO44: VIBREUR PLATRE | CP44: HS/MOYEN | CQ44: 900.3265 | CR44: 1 | CS44: 320 | CV44: 0 | CW44: =CV44*CS44 -> 0 | CX44: =CV44*CU44 -> 0 | CY44: =CS44/CR44 -> 320 | CZ44: =CU44/CR44 -> 0 | DB44: IS25.700.35 | DC44: VIBREUR PLATRE
Y46: TOTAL | AF46: =SUM(AF5:AF45) -> 908.7 | AV46: TOTAL | BC46: =SUM(BC6:BC45) -> 597.3

Sheet LABO $
B1: REF AO | E1: REF FORESTADENT | H1: REF GACD | K1: REF LEONE | N1: REF MEGA DENTAL | Q1: REF NEW ORTHO | T1: REF ORMODENT | W1: REF RMO | Z1: REF SCHEIN
B2: REF | C2: UNITE | D2: UNITE REM | E2: REF | F2: UNITE | G2: UNITE REM | H2: REF | I2: UNITE | J2: UNITE REM | K2: REF | L2: UNITE | M2: UNITE REM | N2: REF | O2: UNITE | P2: UNITE REM | Q2: REF | R2: UNITE | S2: UNITE REM | T2: REF | U2: UNITE | V2: UNITE REM | W2: REF | X2: UNITE | Y2: UNITE REM | Z2: REF | AA2: UNITE | AB2: UNITE REM
A5: BOL A PLATRE | B5: =LABO!C5 -> 0 | C5: =LABO!K5 -> 0 | D5: =LABO!L5 -> 0 | E5: =LABO!N5 -> 0 | F5: =LABO!V5 -> 0 | G5: =LABO!W5 -> 0 | H5: =LABO!Z5 -> 221.767 | I5: =LABO!AH5 -> 3.8 | J5: =LABO!AI5 -> 0 | K5: =LABO!AK5 -> EV.FD060 | L5: =LABO!AS5 -> 13.47 | M5: =LABO!AT5 -> 10.776 | N5: =LABO!AW5 -> 3695.122 | O5: =LABO!BE5 -> 2.8 | P5: =LABO!BF5 -> 0 | Q5: =LABO!BH5 -> 0 | R5: =LABO!BP5 -> 0 | S5: =LABO!BQ5 -> 0 | T5: =LABO!BT5 -> PG0.100.0871 | U5: =LABO!CB5 -> 10.9434 | V5: =LABO!CC5 -> 10.9434 | W5: =LABO!CE5 -> ECM7006 | X5: =LABO!CM5 -> 6.9368 | Y5: =LABO!CN5 -> 5.2026 | Z5: =LABO!CQ5 -> 900.1473 | AA5: =LABO!CY5 -> 4 | AB5: =LABO!CZ5 -> 0 | AC5: BOL A PLATRE
A6: BOITE MOULAGE | B6: =LABO!C6 -> EV000-006 | C6: =LABO!K6 -> 1.6678 | D6: =LABO!L6 -> 1.6678 | E6: =LABO!N6 -> 0 | F6: =LABO!V6 -> 0 | G6: =LABO!W6 -> 0 | H6: =LABO!Z6 -> 0 | I6: =LABO!AH6 -> 0 | J6: =LABO!AI6 -> 0 | K6: =LABO!AK6 -> T3360.00 | L6: =LABO!AS6 -> 11.82625 | M6: =LABO!AT6 -> 7.6870625 | N6: =LABO!AW6 -> 0 | O6: =LABO!BE6 -> 0 | P6: =LABO!BF6 -> 0 | Q6: =LABO!BH6 -> 0850.4 | R6: =LABO!BP6 -> 3.5 | S6: =LABO!BQ6 -> 0 | T6: =LABO!BT6 -> CH0.710.0100 | U6: =LABO!CB6 -> 1.9304636 | V6: =LABO!CC6 -> 1.9304636 | W6: =LABO!CE6 -> ECM0208 | X6: =LABO!CM6 -> 1.526096 | Y6: =LABO!CN6 -> 1.144572 | Z6: =LABO!CQ6 -> 0 | AA6: =LABO!CY6 -> 0 | AB6: =LABO!CZ6 -> 0 | AC6: BOITE MOULAGE
A7: CABINE ASPIRANTE SABLEUSE | B7: =LABO!C7 -> 0 | C7: =LABO!K7 -> 0 | D7: =LABO!L7 -> 0 | E7: =LABO!N7 -> 0 | F7: =LABO!V7 -> 0 | G7: =LABO!W7 -> 0 | H7: =LABO!Z7 -> 0 | I7: =LABO!AH7 -> 0 | J7: =LABO!AI7 -> 0 | K7: =LABO!AK7 -> 0 | L7: =LABO!AS7 -> 897 | M7: =LABO!AT7 -> 717.6 | N7: =LABO!AW7 -> 0 | O7: =LABO!BE7 -> 0 | P7: =LABO!BF7 -> 0 | Q7: =LABO!BH7 -> 0 | R7: =LABO!BP7 -> 0 | S7: =LABO!BQ7 -> 0 | T7: =LABO!BT7 -> SD0.005.8500 | U7: =LABO!CB7 -> 718.41328 | V7: =LABO!CC7 -> 718.41328 | W7: =LABO!CE7 -> 0 | X7: =LABO!CM7 -> 0 | Y7: =LABO!CN7 -> 0 | Z7: =LABO!CQ7 -> 0 | AA7: =LABO!CY7 -> 0 | AB7: =LABO!CZ7 -> 0 | AC7: CABINE ASPIRANTE SABLEUSE
A8: COUTEAU A CIRE | B8: =LABO!C8 -> 0 | C8: =LABO!K8 -> 0 | D8: =LABO!L8 -> 0 | E8: =LABO!N8 -> 0 | F8: =LABO!V8 -> 0 | G8: =LABO!W8 -> 0 | H8: =LABO!Z8 -> 0 | I8: =LABO!AH8 -> 0 | J8: =LABO!AI8 -> 0 | K8: =LABO!AK8 -> ME.060.320 | L8: =LABO!AS8 -> 10.32 | M8: =LABO!AT8 -> 8.256 | N8: =LABO!AW8 -> 5471.099 | O8: =LABO!BE8 -> 9 | P8: =LABO!BF8 -> 0 | Q8: =LABO!BH8 -> 0 | R8: =LABO!BP8 -> 0 | S8: =LABO!BQ8 -> 0 | T8: =LABO!BT8 -> PG0.845.2067 | U8: =LABO!CB8 -> 11.76864 | V8: =LABO!CC8 -> 11.76864 | W8: =LABO!CE8 -> 0 | X8: =LABO!CM8 -> 0 | Y8: =LABO!CN8 -> 0 | Z8: =LABO!CQ8 -> 0 | AA8: =LABO!CY8 -> 0 | AB8: =LABO!CZ8 -> 0 | AC8: COUTEAU A CIRE
A9: COUTEAU A PLATRE | B9: =LABO!C9 -> 0 | C9: =LABO!K9 -> 0 | D9: =LABO!L9 -> 0 | E9: =LABO!N9 -> 0 | F9: =LABO!V9 -> 0 | G9: =LABO!W9 -> 0 | H9: =LABO!Z9 -> 2211.395 | I9: =LABO!AH9 -> 9 | J9: =LABO!AI9 -> 0 | K9: =LABO!AK9 -> ME.060.030 | L9: =LABO!AS9 -> 9.03 | M9: =LABO!AT9 -> 7.224 | N9: =LABO!AW9 -> 9696.090 | O9: =LABO!BE9 -> 8.5 | P9: =LABO!BF9 -> 0 | Q9: =LABO!BH9 -> MUA.422 | R9: =LABO!BP9 -> 4 | S9: =LABO!BQ9 -> 0 | T9: =LABO!BT9 -> SA0.845.1996 | U9: =LABO!CB9 -> 11.82844 | V9: =LABO!CC9 -> 11.82844 | W9: =LABO!CE9 -> I00039 | X9: =LABO!CM9 -> 16.0862 | Y9: =LABO!CN9 -> 12.06465 | Z9: =LABO!CQ9 -> 0 | AA9: =LABO!CY9 -> 0 | AB9: =LABO!CZ9 -> 0 | AC9: COUTEAU A PLATRE
A10: DISQUE DECOUPE GOUTTIERE | B10: =LABO!C10 -> 0 | C10: =LABO!K10 -> 0 | D10: =LABO!L10 -> 0 | E10: =LABO!N10 -> 0 | F10: =LABO!V10 -> 0 | G10: =LABO!W10 -> 0 | H10: =LABO!Z10 -> 0 | I10: =LABO!AH10 -> 0 | J10: =LABO!AI10 -> 0 | K10: =LABO!AK10 -> 0 | L10: =LABO!AS10 -> 0 | M10: =LABO!AT10 -> 0 | N10: =LABO!AW10 -> 0 | O10: =LABO!BE10 -> 0 | P10: =LABO!BF10 -> 0 | Q10: =LABO!BH10 -> 0 | R10: =LABO!BP10 -> 0 | S10: =LABO!BQ10 -> 0 | T10: =LABO!BT10 -> 0 | U10: =LABO!CB10 -> 0 | V10: =LABO!CC10 -> 0 | W10: =LABO!CE10 -> 0 | X10: =LABO!CM10 -> 0 | Y10: =LABO!CN10 -> 0 | Z10: =LABO!CQ10 -> 0 | AA10: =LABO!CY10 -> 0 | AB10: =LABO!CZ10 -> 0 | AC10: DISQUE DECOUPE GOUTTIERE
A11: FIL ACIER LABO | B11: =LABO!C11 -> 0 | C11: =LABO!K11 -> 0 | D11: =LABO!L11 -> 0 | E11: =LABO!N11 -> 0 | F11: =LABO!V11 -> 180 | G11: =LABO!W11 -> 0 | H11: =LABO!Z11 -> 0 | I11: =LABO!AH11 -> 0 | J11: =LABO!AI11 -> 0 | K11: =LABO!AK11 -> 0 | L11: =LABO!AS11 -> 0 | M11: =LABO!AT11 -> 0 | N11: =LABO!AW11 -> 0 | O11: =LABO!BE11 -> 0 | P11: =LABO!BF11 -> 0 | Q11: =LABO!BH11 -> 0 | R11: =LABO!BP11 -> 0 | S11: =LABO!BQ11 -> 0 | T11: =LABO!BT11 -> LWI.267.0008 | U11: =LABO!CB11 -> 38.34376 | V11: =LABO!CC11 -> 38.34376 | W11: =LABO!CE11 -> 0 | X11: =LABO!CM11 -> 0 | Y11: =LABO!CN11 -> 0 | Z11: =LABO!CQ11 -> 0 | AA11: =LABO!CY11 -> 0 | AB11: =LABO!CZ11 -> 0 | AC11: FIL ACIER LABO
A12: FLUX SOUDURE | B12: =LABO!C12 -> AA860-010 | C12: =LABO!K12 -> 14.28 | D12: =LABO!L12 -> 10.71 | E12: =LABO!N12 -> 0 | F12: =LABO!V12 -> 0 | G12: =LABO!W12 -> 0 | H12: =LABO!Z12 -> 0 | I12: =LABO!AH12 -> 0 | J12: =LABO!AI12 -> 0 | K12: =LABO!AK12 -> 0 | L12: =LABO!AS12 -> 0 | M12: =LABO!AT12 -> 0 | N12: =LABO!AW12 -> 0 | O12: =LABO!BE12 -> 0 | P12: =LABO!BF12 -> 0 | Q12: =LABO!BH12 -> 0 | R12: =LABO!BP12 -> 0 | S12: =LABO!BQ12 -> 0 | T12: =LABO!BT12 -> OD0.759.1985 | U12: =LABO!CB12 -> 339.9032 | V12: =LABO!CC12 -> 339.9032 | W12: =LABO!CE12 -> 0 | X12: =LABO!CM12 -> 0 | Y12: =LABO!CN12 -> 0 | Z12: =LABO!CQ12 -> 0 | AA12: =LABO!CY12 -> 0 | AB12: =LABO!CZ12 -> 0 | AC12: FLUX SOUDURE
A13: FRAISE A PLATRE | B13: =LABO!C13 -> 0 | C13: =LABO!K13 -> 0 | D13: =LABO!L13 -> 0 | E13: =LABO!N13 -> 0 | F13: =LABO!V13 -> 0 | G13: =LABO!W13 -> 0 | H13: =LABO!Z13 -> 0 | I13: =LABO!AH13 -> 0 | J13: =LABO!AI13 -> 0 | K13: =LABO!AK13 -> 0 | L13: =LABO!AS13 -> 0 | M13: =LABO!AT13 -> 0 | N13: =LABO!AW13 -> 0 | O13: =LABO!BE13 -> 0 | P13: =LABO!BF13 -> 0 | Q13: =LABO!BH13 -> 0 | R13: =LABO!BP13 -> 0 | S13: =LABO!BQ13 -> 0 | T13: =LABO!BT13 -> ID0.194.2237 | U13: =LABO!CB13 -> 38.06868 | V13: =LABO!CC13 -> 38.06868 | W13: =LABO!CE13 -> 0 | X13: =LABO!CM13 -> 0 | Y13: =LABO!CN13 -> 0 | Z13: =LABO!CQ13 -> 0 | AA13: =LABO!CY13 -> 0 | AB13: =LABO!CZ13 -> 0 | AC13: FRAISE A PLATRE
A14: FRAISE RESINE | B14: =LABO!C14 -> 0 | C14: =LABO!K14 -> 0 | D14: =LABO!L14 -> 0 | E14: =LABO!N14 -> 0 | F14: =LABO!V14 -> 0 | G14: =LABO!W14 -> 0 | H14: =LABO!Z14 -> 0 | I14: =LABO!AH14 -> 0 | J14: =LABO!AI14 -> 0 | K14: =LABO!AK14 -> 0 | L14: =LABO!AS14 -> 0 | M14: =LABO!AT14 -> 0 | N14: =LABO!AW14 -> 0 | O14: =LABO!BE14 -> 0 | P14: =LABO!BF14 -> 0 | Q14: =LABO!BH14 -> 0 | R14: =LABO!BP14 -> 0 | S14: =LABO!BQ14 -> 0 | T14: =LABO!BT14 -> 0 | U14: =LABO!CB14 -> 0 | V14: =LABO!CC14 -> 0 | W14: =LABO!CE14 -> 0 | X14: =LABO!CM14 -> 0 | Y14: =LABO!CN14 -> 0 | Z14: =LABO!CQ14 -> 0 | AA14: =LABO!CY14 -> 0 | AB14: =LABO!CZ14 -> 0 | AC14: FRAISE RESINE
A15: GEL TRIAD | B15: =LABO!C15 -> 0 | C15: =LABO!K15 -> 0 | D15: =LABO!L15 -> 0 | E15: =LABO!N15 -> 0 | F15: =LABO!V15 -> 0 | G15: =LABO!W15 -> 0 | H15: =LABO!Z15 -> 0 | I15: =LABO!AH15 -> 0 | J15: =LABO!AI15 -> 0 | K15: =LABO!AK15 -> 0 | L15: =LABO!AS15 -> 0 | M15: =LABO!AT15 -> 0 | N15: =LABO!AW15 -> 0 | O15: =LABO!BE15 -> 0 | P15: =LABO!BF15 -> 0 | Q15: =LABO!BH15 -> 0 | R15: =LABO!BP15 -> 0 | S15: =LABO!BQ15 -> 0 | T15: =LABO!BT15 -> 0 | U15: =LABO!CB15 -> 0 | V15: =LABO!CC15 -> 0 | W15: =LABO!CE15 -> 0 | X15: =LABO!CM15 -> 0 | Y15: =LABO!CN15 -> 0 | Z15: =LABO!CQ15 -> 0 | AA15: =LABO!CY15 -> 0 | AB15: =LABO!CZ15 -> 0 | AC15: GEL TRIAD
A16: ISOLANT PLATRE | B16: =LABO!C16 -> 0 | C16: =LABO!K16 -> 0 | D16: =LABO!L16 -> 0 | E16: =LABO!N16 -> 0 | F16: =LABO!V16 -> 0 | G16: =LABO!W16 -> 0 | H16: =LABO!Z16 -> 0 | I16: =LABO!AH16 -> 0 | J16: =LABO!AI16 -> 0 | K16: =LABO!AK16 -> R6320.00 | L16: =LABO!AS16 -> 0 | M16: =LABO!AT16 -> 0 | N16: =LABO!AW16 -> 0 | O16: =LABO!BE16 -> 0 | P16: =LABO!BF16 -> 0 | Q16: =LABO!BH16 -> 0 | R16: =LABO!BP16 -> 0 | S16: =LABO!BQ16 -> 0 | T16: =LABO!BT16 -> 0 | U16: =LABO!CB16 -> 0 | V16: =LABO!CC16 -> 0 | W16: =LABO!CE16 -> ECS3189 | X16: =LABO!CM16 -> 42.3384 | Y16: =LABO!CN16 -> 42.3384 | Z16: =LABO!CQ16 -> 0 | AA16: =LABO!CY16 -> 0 | AB16: =LABO!CZ16 -> 0 | AC16: ISOLANT PLATRE
... A20: OXYDE D'ALUMINIUM | B20: =LABO!C20 -> 0 | C20: =LABO!K20 -> 0 | D20: =LABO!L20 -> 0 | E20: =LABO!N20 -> 0 | F20: =LABO!V20 -> 0 | G20: =LABO!W20 -> 0 | H20: =LABO!Z20 -> 228.919 | I20: =LABO!AH20 -> 50.440529 | J20: =LABO!AI20 -> 0 | K20: =LABO!AK20 -> 0 | L20: =LABO!AS20 -> 0 | M20: =LABO!AT20 -> 0 | N20: =LABO!AW20 -> 1583.008 | O20: =LABO!BE20 -> 55.066079 | P20: =LABO!BF20 -> 0 | Q20: =LABO!BH20 -> 0 | R20: =LABO!BP20 -> 0 | S20: =LABO!BQ20 -> 0 | T20: =LABO!BT20 -> 0 | U20: =LABO!CB20 -> 0 | V20: =LABO!CC20 -> 0 | W20: =LABO!CE20 -> 0 | X20: =LABO!CM20 -> 0 | Y20: =LABO!CN20 -> 0 | Z20: =LABO!CQ20 -> 886.9361 | AA20: =LABO!CY20 -> 50.440529 | AB20: =LABO!CZ20 -> 0 | AC20: OXYDE D'ALUMINIUM
B21: =LABO!C21 -> 0 | C21: =LABO!K21 -> 0 | D21: =LABO!L21 -> 0 | E21: =LABO!N21 -> 0 | F21: =LABO!V21 -> 0 | G21: =LABO!W21 -> 0 | H21: =LABO!Z21 -> 0 | I21: =LABO!AH21 -> 0 | J21: =LABO!AI21 -> 0 | K21: =LABO!AK21 -> 0 | L21: =LABO!AS21 -> 0 | M21: =LABO!AT21 -> 0 | N21: =LABO!AW21 -> 0 | O21: =LABO!BE21 -> 0 | P21: =LABO!BF21 -> 0 | Q21: =LABO!BH21 -> 0 | R21: =LABO!BP21 -> 0 | S21: =LABO!BQ21 -> 0 | T21: =LABO!BT21 -> 0 | U21: =LABO!CB21 -> 0 | V21: =LABO!CC21 -> 0 | W21: =LABO!CE21 -> 0 | X21: =LABO!CM21 -> 0 | Y21: =LABO!CN21 -> 0 | Z21: =LABO!CQ21 -> 0 | AA21: =LABO!CY21 -> 0 | AB21: =LABO!CZ21 -> 0
A22: PLAQUE THERMO | B22: =LABO!C22 -> 0 | C22: =LABO!K22 -> 0 | D22: =LABO!L22 -> 0 | E22: =LABO!N22 -> 408.0105 | F22: =LABO!V22 -> 1.3915 | G22: =LABO!W22 -> 1.1132 | H22: =LABO!Z22 -> 0 | I22: =LABO!AH22 -> 0 | J22: =LABO!AI22 -> 0 | K22: =LABO!AK22 -> 0 | L22: =LABO!AS22 -> 0 | M22: =LABO!AT22 -> 0 | N22: =LABO!AW22 -> 0 | O22: =LABO!BE22 -> 0 | P22: =LABO!BF22 -> 0 | Q22: =LABO!BH22 -> DFS030X10S | R22: =LABO!BP22 -> 1.2 | S22: =LABO!BQ22 -> 0 | T22: =LABO!BT22 -> 0 | U22: =LABO!CB22 -> 0 | V22: =LABO!CC22 -> 0 | W22: =LABO!CE22 -> 0 | X22: =LABO!CM22 -> 0 | Y22: =LABO!CN22 -> 0 | Z22: =LABO!CQ22 -> 892.7095 | AA22: =LABO!CY22 -> 1.2 | AB22: =LABO!CZ22 -> 0 | AC22: PLAQUE THERMO
B23: =LABO!C23 -> 0 | C23: =LABO!K23 -> 0 | D23: =LABO!L23 -> 0 | E23: =LABO!N23 -> 408.0106 | F23: =LABO!V23 -> 1.4565 | G23: =LABO!W23 -> 1.1652 | H23: =LABO!Z23 -> 2218.270 | I23: =LABO!AH23 -> 0.698 | J23: =LABO!AI23 -> 0 | K23: =LABO!AK23 -> 0 | L23: =LABO!AS23 -> 0 | M23: =LABO!AT23 -> 0 | N23: =LABO!AW23 -> 0 | O23: =LABO!BE23 -> 0 | P23: =LABO!BF23 -> 0 | Q23: =LABO!BH23 -> DFS040X10S | R23: =LABO!BP23 -> 1.2 | S23: =LABO!BQ23 -> 0 | T23: =LABO!BT23 -> 0 | U23: =LABO!CB23 -> 0 | V23: =LABO!CC23 -> 0 | W23: =LABO!CE23 -> 0 | X23: =LABO!CM23 -> 0 | Y23: =LABO!CN23 -> 0 | Z23: =LABO!CQ23 -> 0 | AA23: =LABO!CY23 -> 0 | AB23: =LABO!CZ23 -> 0
B24: =LABO!C24 -> 0 | C24: =LABO!K24 -> 0 | D24: =LABO!L24 -> 0 | E24: =LABO!N24 -> 408.0108 | F24: =LABO!V24 -> 1.5244 | G24: =LABO!W24 -> 1.21952 | H24: =LABO!Z24 -> 0 | I24: =LABO!AH24 -> 0 | J24: =LABO!AI24 -> 0 | K24: =LABO!AK24 -> 0 | L24: =LABO!AS24 -> 0 | M24: =LABO!AT24 -> 0 | N24: =LABO!AW24 -> 0 | O24: =LABO!BE24 -> 0 | P24: =LABO!BF24 -> 0 | Q24: =LABO!BH24 -> DCS060X10S | R24: =LABO!BP24 -> 4.2 | S24: =LABO!BQ24 -> 0 | T24: =LABO!BT24 -> 0 | U24: =LABO!CB24 -> 0 | V24: =LABO!CC24 -> 0 | W24: =LABO!CE24 -> 0 | X24: =LABO!CM24 -> 0 | Y24: =LABO!CN24 -> 0 | Z24: =LABO!CQ24 -> 0 | AA24: =LABO!CY24 -> 0 | AB24: =LABO!CZ24 -> 0
