Workbook
Name numero: OFFSET(DESCRIPTIF!$A$2,,,COUNTA(DESCRIPTIF!$A:$A))

Sheet DEVIS
D4: TOUET SUR VAR LE | F4: =TODAY() -> 40792
D6: DEVIS N°
D8: NOM PRENOM
D9: ADRESSE
D10: CP VILLE
A16: N° | B16: DESIGNATION | C16: QUANTITE | D16: UNITE | E16: PRIX UNIT | F16: HT | G16: TTC
A18: 1 | B18: =INDEX(DESCRIPTIF!B2:B24,MATCH(A18,DESCRIPTIF!A2:A24,0)) -> TERRASSEMENT
A19: 2 | B19: =INDEX(DESCRIPTIF!B3:B25,MATCH(A19,DESCRIPTIF!A3:A25,0)) -> Réalisation du Terrassement.Réalisation de la plateforme de niveau pour l'implantation de la maison Toutes les terres seront étalées sur place.
B20: =INDEX(DESCRIPTIF!B4:B26,MATCH(A20,DESCRIPTIF!A4:A26,0)) -> #N/A
B21: =INDEX(DESCRIPTIF!B5:B27,MATCH(A21,DESCRIPTIF!A5:A27,0)) -> #N/A
B22: =INDEX(DESCRIPTIF!B6:B28,MATCH(A22,DESCRIPTIF!A6:A28,0)) -> #N/A
B23: =INDEX(DESCRIPTIF!B7:B29,MATCH(A23,DESCRIPTIF!A7:A29,0)) -> #N/A
B24: =INDEX(DESCRIPTIF!B8:B30,MATCH(A24,DESCRIPTIF!A8:A30,0)) -> #N/A
B25: =INDEX(DESCRIPTIF!B9:B31,MATCH(A25,DESCRIPTIF!A9:A31,0)) -> #N/A
B26: =INDEX(DESCRIPTIF!B10:B32,MATCH(A26,DESCRIPTIF!A10:A32,0)) -> #N/A
B27: =INDEX(DESCRIPTIF!B11:B33,MATCH(A27,DESCRIPTIF!A11:A33,0)) -> #N/A
B28: =INDEX(DESCRIPTIF!B12:B34,MATCH(A28,DESCRIPTIF!A12:A34,0)) -> #N/A
B29: =INDEX(DESCRIPTIF!B13:B35,MATCH(A29,DESCRIPTIF!A13:A35,0)) -> #N/A
B30: =INDEX(DESCRIPTIF!B14:B36,MATCH(A30,DESCRIPTIF!A14:A36,0)) -> #N/A
B31: =INDEX(DESCRIPTIF!B15:B37,MATCH(A31,DESCRIPTIF!A15:A37,0)) -> #N/A
... B46: =INDEX(DESCRIPTIF!B30:B52,MATCH(A46,DESCRIPTIF!A30:A52,0)) -> #N/A

Sheet CLIENTS
A1: N° | B1: ANTITE | C1: NOM | D1: PRENOM | E1: ADRESSE | F1: CP | G1: VILLE | H1: TEL | I1: MAIL
A2: 1 | B2: MAIRIE DE | C2: TOUET SUR VAR | E2: PLACE DUCLOMENIL | F2: 6710 | G2: TOUET SUR VAR
A3: 2 | B3: MrMme | C3: VERTEZ | D3: CEDRIC | E3: 105 ROUTE DE SAINT ANTOINE | F3: 6260 | G3: PUGET THENIERS
A4: 3
A5: 4
A6: 5
A7: 6
A8: 7
A9: 8
A10: 9
A11: 10
A12: 11
A13: 12
A14: 13
A15: 14
... A20: 19

Sheet BASE DE DONNEES
A1: N° | B1: NOM | C1: PRENOM | D1: ADRESSE | E1: CP | F1: VILLE | G1: TEL | H1: MAIL
J2: MAIRIE DE
J3: Mr
J4: Mme
J5: MrMme
J6: SCI

Sheet DESCRIPTIF
A1: NUMERO | B1: DESCRIPTIF
A2: 1 | B2: TERRASSEMENT
A3: 2 | B3: Réalisation du Terrassement.Réalisation de la plateforme de niveau pour l'implantation de la maison Toutes les terres seront étalées sur place.
A4: 3 | B4: SOUS SOL
A5: 4 | B5: Réalisation de fouilles en tranchées pour la réalisation des fondations
A6: 5 | B6: Réalisation de fouilles en tranchées pour la réalisation des fondations
A7: 6 | B7: Fourniture et mise en œuvre de béton armé pour la réali- -sation des murs en béton bancher du sous sol
A8: 7 | B8: Fourniture et mise en œuvre de béton armé pour la dalle sur hérison du sous sol
A9: 8 | B9: Fourniture et mise en œuvre de béton armé pour la réalisation d'un escalier (celui-ci restera en béton brut)
A10: 9 | B10: REZ DE JARDIN
A11: 10 | B11: Fourniture et pose d'une dalle poutrelles hourdis polystyrène
A12: 11 | B12: Fourniture et mise en œuvre de béton armé pour la réalisation des murs en béton Bancher
A13: 12 | B13: Fourniture et mise en œuvre de béton armé pour la réalisation d'un escalier (celui-ci restera en béton brut)
... A16: 17 | B16: Fourniture et mise en place des tuiles pour la réalisation de génoises;2 rangs sur les bas de pentes et 1 rang sur les cotés des pignons,
B17: Fourniture et mise en place des tuiles pour la réalisation de génoises;1 seul rang.
A18: 18 | B18: Fourniture et pose d une charpente en fermettes pour le réalisation du toit deux pentes.
A19: 19 | B19: Fourniture et pose de plaques sous tuiles type PST, tirefonées sur chevrons bois
A20: 20 | B20: Fourniture et pose de tuiles rondes neuves type "Sylvacanes".Toutes les tuiles seront collées
A21: 26 | B21: Fourniture et pose d une charpente en pannes sapin traités
A22: 30 | B22: AMENAGEMENT INTERIEUR
A23: 31 | B23: Fourniture et pose d'un faux plafond en BA13 sur ossature metallique et réalisation des bandes à joints
A24: 32 | B24: Fourniture et pose d'une isolation sur le faux plafond type laine de verre EP 200
A25: 33 | B25: Fourniture et pose de carrelage
