Workbook

Sheet Paul
A1: PAUL
B2: A | C2: B | D2: C | E2: D
A3: P1 | B3: 1 | C3: 6 | D3: 0 | E3: 2
A4: P2 | B4: 2 | C4: 4 | D4: 5 | E4: 1
A5: P3 | B5: 3 | C5: 2 | D5: 0 | E5: 7
A6: P4 | B6: 4 | C6: 1 | D6: 1 | E6: 2
A7: P5 | B7: 5 | C7: 2 | D7: 0 | E7: 0
A8: P6 | B8: 6 | C8: 3 | D8: 5 | E8: 3
A10: Total | B10: =SUM(B3:B9) -> 21 | C10: =SUM(C3:C9) -> 18 | D10: =SUM(D3:D9) -> 11 | E10: =SUM(E3:E9) -> 15

Sheet René
A1: RENÉ
B2: A | C2: B | D2: C | E2: D
A3: P1 | B3: 6 | C3: 5 | D3: 0 | E3: 2
A4: P2 | B4: 5 | C4: 3 | D4: 1 | E4: 2
A5: P3 | B5: 4 | C5: 1 | D5: 0 | E5: 1
A6: P4 | B6: 3 | C6: 2 | D6: 1 | E6: 1
A7: P5 | B7: 2 | C7: 4 | D7: 0 | E7: 5
A8: P6 | B8: 1 | C8: 6 | D8: 1 | E8: 2
A10: Total | B10: =SUM(B3:B9) -> 21 | C10: =SUM(C3:C9) -> 21 | D10: =SUM(D3:D9) -> 3 | E10: =SUM(E3:E9) -> 13

Sheet Pierre
A1: PIERRE
B2: A | C2: B | D2: C | E2: D
A3: P1 | B3: 1 | C3: 1 | D3: 0 | E3: 2
A4: P2 | B4: 2 | C4: 2 | D4: 1 | E4: 3
A5: P3 | B5: 3 | C5: 3 | D5: 0 | E5: 4
A6: P4 | B6: 5 | C6: 4 | D6: 1 | E6: 2
A7: P5 | B7: 7 | C7: 5 | D7: 0 | E7: 0
A8: P6 | B8: 2 | C8: 6 | D8: 5 | E8: 2
A10: Total | B10: =SUM(B3:B9) -> 20 | C10: =SUM(C3:C9) -> 21 | D10: =SUM(D3:D9) -> 7 | E10: =SUM(E3:E9) -> 13

Sheet Jacques
A1: JACQUES
B2: A | C2: B | D2: C | E2: D
A3: P1 | B3: 5 | C3: 2 | D3: 0 | E3: 4
A4: P2 | B4: 4 | C4: 4 | D4: 2 | E4: 5
A5: P3 | B5: 3 | C5: 6 | D5: 0 | E5: 4
A6: P4 | B6: 2 | C6: 1 | D6: 5 | E6: 4
A7: P5 | B7: 1 | C7: 3 | D7: 0 | E7: 5
A8: P6 | B8: 0 | C8: 0 | D8: 1 | E8: 2
A10: Total | B10: =SUM(B3:B9) -> 15 | C10: =SUM(C3:C9) -> 16 | D10: =SUM(D3:D9) -> 8 | E10: =SUM(E3:E9) -> 24

Sheet Global
A1: GLOBAL DE TOUS LES ONGLETS
B2: A | C2: B | D2: C | E2: D
A3: P1 | B3: =Paul!B3+René!B3+Pierre!B3+Jacques!B3 -> 13 | C3: =Paul!C3+René!C3+Pierre!C3+Jacques!C3 -> 14 | D3: =Paul!D3+René!D3+Pierre!D3+Jacques!D3 -> 0 | E3: =Paul!E3+René!E3+Pierre!E3+Jacques!E3 -> 10
A4: P2 | B4: =Paul!B4+René!B4+Pierre!B4+Jacques!B4 -> 13 | C4: =Paul!C4+René!C4+Pierre!C4+Jacques!C4 -> 13 | D4: =Paul!D4+René!D4+Pierre!D4+Jacques!D4 -> 9 | E4: =Paul!E4+René!E4+Pierre!E4+Jacques!E4 -> 11
A5: P3 | B5: =Paul!B5+René!B5+Pierre!B5+Jacques!B5 -> 13 | C5: =Paul!C5+René!C5+Pierre!C5+Jacques!C5 -> 12 | D5: =Paul!D5+René!D5+Pierre!D5+Jacques!D5 -> 0 | E5: =Paul!E5+René!E5+Pierre!E5+Jacques!E5 -> 16
A6: P4 | B6: =Paul!B6+René!B6+Pierre!B6+Jacques!B6 -> 14 | C6: =Paul!C6+René!C6+Pierre!C6+Jacques!C6 -> 8 | D6: =Paul!D6+René!D6+Pierre!D6+Jacques!D6 -> 8 | E6: =Paul!E6+René!E6+Pierre!E6+Jacques!E6 -> 9
A7: P5 | B7: =Paul!B7+René!B7+Pierre!B7+Jacques!B7 -> 15 | C7: =Paul!C7+René!C7+Pierre!C7+Jacques!C7 -> 14 | D7: =Paul!D7+René!D7+Pierre!D7+Jacques!D7 -> 0 | E7: =Paul!E7+René!E7+Pierre!E7+Jacques!E7 -> 10
A8: P6 | B8: =Paul!B8+René!B8+Pierre!B8+Jacques!B8 -> 9 | C8: =Paul!C8+René!C8+Pierre!C8+Jacques!C8 -> 15 | D8: =Paul!D8+René!D8+Pierre!D8+Jacques!D8 -> 12 | E8: =Paul!E8+René!E8+Pierre!E8+Jacques!E8 -> 9
A10: Total | B10: =SUM(B3:B9) -> 77 | C10: =SUM(C3:C9) -> 76 | D10: =SUM(D3:D9) -> 29 | E10: =SUM(E3:E9) -> 65
