Workbook

Sheet annexe PVL
A1: RELEVES UNITAIRES DE CONFORME DES LIGNES
A2: REFERENCE DE LA LIGNE | B2: N° SERIE | C2: IDENTIFICATION LIGNE | D2: MARQUAGE PYROTECHNIQUE | E2: ETAT STOCKAGE ET TRANSPORT | F2: ASPECT | G2: FILETAGE VIS CREUSE (M12x1.5 – 6h) | H2: ANGLE DE CINTRAGE | I2: ANGLE ENTRE EMBOUTS (0°) | J2: DIAMETRE SERTISSAGE | K2: DIAMETRE LIGNE SERTISSAGE | L2: LONGUEUR LIGNE | M2: DIAMETRE LIGNE SECTION COURANTE | N2: DISTANCE CORPS / RELAIS | O2: DISTANCE CORPS / PROTEGE RELAIS (17.4±0.1mm) | P2: CONTROLE ETANCHEITE INTERNE | Q2: CONTINUITE ELECTRIQUE | R2: CONTINUITE ELECTRIQUE | S2: CONTINUITE ELECTRIQUE | T2: RX
J3: (Ø11,5±0,1mm) | N3: (17±.0.2mm) | P3: (< 1.10-6 cm3/s) | Q3: Embout / Embout | R3: Embout A / tresse | S3: Embout B / tresse
Q4: (5 mΩ + 10 mΩ/m) | R4: (2,5 mΩ) | S4: (2,5 mΩ)
Q5: ligne | R5: embout | S5: embout
A6: Part number | B6: Serial n° | C6: identification of the line | D6: pyrotechnic identification | E6: Packaging | F6: Visual inspection | G6: Hollow screw thread | H6: Bending angle | I6: angle between tip | J6: Sockets after crimping | K6: Diameter on the sockets | L6: Line length | M6: Diameter of the line | N6: End tips booster dimension | O6: End tips booster protection dimension | P6: Leak test | Q6: Electrical continuity / line | R6: Electrical continuity / Tip | S6: Electrical continuity / tip
C7: (C/NC) | D7: (C/NC) | E7: (C/NC) | F7: (C/NC) | G7: (C/NC) | H7: (C/NC) | I7: (C/NC) | J7: (C/NC) | K7: (C/NC) | L7: (mm) | M7: (C/NC) | N7: (mm) | O7: (C/NC) | P7: (C/NC) | Q7: (mΩ) | R7: (mΩ) | S7: (mΩ) | T7: (C/NC) | W7: longueur ligne
C8: (a) | D8: (b) | E8: (c) | F8: (d) | G8: (e) | H8: (f) | I8: (g) | J8: (h) | K8: (i) | L8: (j) | M8: (k) | N8: (l) | O8: (l) | P8: (m) | Q8: (n) | R8: (n) | S8: (n) | T8: (o) | V8: conductivité | W8: min | X8: max | Y8: nomi | Z8: tolérance
A9: =VLOOKUP(U9,[1]Listing!$A$4:$P$150,2,FALSE) -> CS0601AQ00100 | H9: Extr A. : | K9: Ø13.5 mm max | L9: =CONCATENATE(VLOOKUP(U9,[1]Listing!$A$4:$P$150,4,FALSE),VLOOKUP(U9,[1]Listing!$A$4:$P$150,5,FALSE)) -> 689± 5 mm | M9: Ø11.2 mm max | N9: Extr A. : | Q9: ="≤ "&ROUND(VLOOKUP(U9,'[1]CTRL 2'!$A$6:$X$152,8,FALSE),1)&" mΩ" -> ≤ 11,9 mΩ | R9: ≤ 2.5 mΩ | S9: ≤ 2.5 mΩ | T9: Extr A | U9: 1 | V9: =ROUND(VLOOKUP(U9,'[1]CTRL 2'!$A$6:$X$152,8,FALSE),1) -> 11.9 | W9: =Y9-Z9 -> 684 | X9: =Y9+Z9 -> 694 | Y9: =(VLOOKUP(U9,[1]Listing!$A$4:$P$150,4,FALSE)) -> 689 | Z9: =IF(Y9>12000,"120",IF(Y9>10000,"110",IF(Y9>8000,"90",IF(Y9>5000,"60",IF(Y9>3000,"20",IF(Y9>1500,"10",IF(Y9>1000,"7",IF(Y9>500,"5",IF(Y9>0,"3",)))))))))*1 -> 5
H10: =VLOOKUP(U9,'[1]FAB 2'!$A$6:$W$1000,7,FALSE) -> /
H11: =IF(H10="/","/","") -> /
A12: =VLOOKUP(A9,[1]Données!$L$2:$P$190,3,FALSE) -> LT6_D00D00_00689 | H12: Extr B : | N12: Extr B : | T12: Extr B
H13: =VLOOKUP(U9,'[1]FAB 2'!$A$6:$W$1000,10,FALSE) -> /
H14: =IF(H13="/","/","") -> /
A15: =VLOOKUP(U15,[1]Listing!$A$4:$P$150,2,FALSE) -> CS0601AQ00100 | H15: Extr A. : | K15: Ø13.5 mm max | L15: =CONCATENATE(VLOOKUP(U15,[1]Listing!$A$4:$P$150,4,FALSE),VLOOKUP(U15,[1]Listing!$A$4:$P$150,5,FALSE)) -> 689± 5 mm | M15: Ø11.2 mm max | N15: Extr A. : | Q15: ="≤ "&ROUND(VLOOKUP(U15,'[1]CTRL 2'!$A$6:$X$152,8,FALSE),1)&" mΩ" -> ≤ 11,9 mΩ | R15: ≤ 2.5 mΩ | S15: ≤ 2.5 mΩ | T15: Extr A | U15: 2 | V15: =ROUND(VLOOKUP(U15,'[1]CTRL 2'!$A$6:$X$152,8,FALSE),1) -> 11.9 | W15: =Y15-Z15 -> 684 | X15: =Y15+Z15 -> 694 | Y15: =(VLOOKUP(U15,[1]Listing!$A$4:$P$150,4,FALSE)) -> 689 | Z15: =IF(Y15>12000,"120",IF(Y15>10000,"110",IF(Y15>8000,"90",IF(Y15>5000,"60",IF(Y15>3000,"20",IF(Y15>1500,"10",IF(Y15>1000,"7",IF(Y15>500,"5",IF(Y15>0,"3",)))))))))*1 -> 5
H16: =VLOOKUP(U15,'[1]FAB 2'!$A$6:$W$1000,7,FALSE) -> /
H17: =IF(H16="/","/","") -> /
A18: =VLOOKUP(A15,[1]Données!$L$2:$P$190,3,FALSE) -> LT6_D00D00_00689 | H18: Extr B : | N18: Extr B : | T18: Extr B
H19: =VLOOKUP(U15,'[1]FAB 2'!$A$6:$W$1000,10,FALSE) -> /
H20: =IF(H19="/","/","") -> /
A21: =VLOOKUP(U21,[1]Listing!$A$4:$P$150,2,FALSE) -> CS0601AQ00100 | H21: Extr A. : | K21: Ø13.5 mm max | L21: =CONCATENATE(VLOOKUP(U21,[1]Listing!$A$4:$P$150,4,FALSE),VLOOKUP(U21,[1]Listing!$A$4:$P$150,5,FALSE)) -> 689± 5 mm | M21: Ø11.2 mm max | N21: Extr A. : | Q21: ="≤ "&ROUND(VLOOKUP(U21,'[1]CTRL 2'!$A$6:$X$152,8,FALSE),1)&" mΩ" -> ≤ 11,9 mΩ | R21: ≤ 2.5 mΩ | S21: ≤ 2.5 mΩ | T21: Extr A | U21: 3 | V21: =ROUND(VLOOKUP(U21,'[1]CTRL 2'!$A$6:$X$152,8,FALSE),1) -> 11.9 | W21: =Y21-Z21 -> 684 | X21: =Y21+Z21 -> 694 | Y21: =(VLOOKUP(U21,[1]Listing!$A$4:$P$150,4,FALSE)) -> 689 | Z21: =IF(Y21>12000,"120",IF(Y21>10000,"110",IF(Y21>8000,"90",IF(Y21>5000,"60",IF(Y21>3000,"20",IF(Y21>1500,"10",IF(Y21>1000,"7",IF(Y21>500,"5",IF(Y21>0,"3",)))))))))*1 -> 5
H22: =VLOOKUP(U21,'[1]FAB 2'!$A$6:$W$1000,7,FALSE) -> /
H23: =IF(H22="/","/","") -> /
A24: =VLOOKUP(A21,[1]Données!$L$2:$P$190,3,FALSE) -> LT6_D00D00_00689 | H24: Extr B : | N24: Extr B : | T24: Extr B
H25: =VLOOKUP(U21,'[1]FAB 2'!$A$6:$W$1000,10,FALSE) -> /
H26: =IF(H25="/","/","") -> /
A27: =VLOOKUP(U27,[1]Listing!$A$4:$P$150,2,FALSE) -> CS0601AQ00100 | H27: Extr A. : | K27: Ø13.5 mm max | L27: =CONCATENATE(VLOOKUP(U27,[1]Listing!$A$4:$P$150,4,FALSE),VLOOKUP(U27,[1]Listing!$A$4:$P$150,5,FALSE)) -> 689± 5 mm | M27: Ø11.2 mm max | N27: Extr A. : | Q27: ="≤ "&ROUND(VLOOKUP(U27,'[1]CTRL 2'!$A$6:$X$152,8,FALSE),1)&" mΩ" -> ≤ 11,9 mΩ | R27: ≤ 2.5 mΩ | S27: ≤ 2.5 mΩ | T27: Extr A | U27: 4 | V27: =ROUND(VLOOKUP(U27,'[1]CTRL 2'!$A$6:$X$152,8,FALSE),1) -> 11.9 | W27: =Y27-Z27 -> 684 | X27: =Y27+Z27 -> 694 | Y27: =(VLOOKUP(U27,[1]Listing!$A$4:$P$150,4,FALSE)) -> 689 | Z27: =IF(Y27>12000,"120",IF(Y27>10000,"110",IF(Y27>8000,"90",IF(Y27>5000,"60",IF(Y27>3000,"20",IF(Y27>1500,"10",IF(Y27>1000,"7",IF(Y27>500,"5",IF(Y27>0,"3",)))))))))*1 -> 5
H28: =VLOOKUP(U27,'[1]FAB 2'!$A$6:$W$1000,7,FALSE) -> /
H29: =IF(H28="/","/","") -> /
A30: =VLOOKUP(A27,[1]Données!$L$2:$P$190,3,FALSE) -> LT6_D00D00_00689 | H30: Extr B : | N30: Extr B : | T30: Extr B
H31: =VLOOKUP(U27,'[1]FAB 2'!$A$6:$W$1000,10,FALSE) -> /
H32: =IF(H31="/","/","") -> /
A33: =VLOOKUP(U33,[1]Listing!$A$4:$P$150,2,FALSE) -> CS0601AQ00100 | H33: Extr A. : | K33: Ø13.5 mm max | L33: =CONCATENATE(VLOOKUP(U33,[1]Listing!$A$4:$P$150,4,FALSE),VLOOKUP(U33,[1]Listing!$A$4:$P$150,5,FALSE)) -> 689± 5 mm | M33: Ø11.2 mm max | N33: Extr A. : | Q33: ="≤ "&ROUND(VLOOKUP(U33,'[1]CTRL 2'!$A$6:$X$152,8,FALSE),1)&" mΩ" -> ≤ 11,9 mΩ | R33: ≤ 2.5 mΩ | S33: ≤ 2.5 mΩ | T33: Extr A | U33: 5 | V33: =ROUND(VLOOKUP(U33,'[1]CTRL 2'!$A$6:$X$152,8,FALSE),1) -> 11.9 | W33: =Y33-Z33 -> 684 | X33: =Y33+Z33 -> 694 | Y33: =(VLOOKUP(U33,[1]Listing!$A$4:$P$150,4,FALSE)) -> 689 | Z33: =IF(Y33>12000,"120",IF(Y33>10000,"110",IF(Y33>8000,"90",IF(Y33>5000,"60",IF(Y33>3000,"20",IF(Y33>1500,"10",IF(Y33>1000,"7",IF(Y33>500,"5",IF(Y33>0,"3",)))))))))*1 -> 5
H34: =VLOOKUP(U33,'[1]FAB 2'!$A$6:$W$1000,7,FALSE) -> /
H35: =IF(H34="/","/","") -> /
A36: =VLOOKUP(A33,[1]Données!$L$2:$P$190,3,FALSE) -> LT6_D00D00_00689 | H36: Extr B : | N36: Extr B : | T36: Extr B
H37: =VLOOKUP(U33,'[1]FAB 2'!$A$6:$W$1000,10,FALSE) -> /
H38: =IF(H37="/","/","") -> /
A39: =VLOOKUP(U39,[1]Listing!$A$4:$P$150,2,FALSE) -> CS0601AQ00100 | H39: Extr A. : | K39: Ø13.5 mm max | L39: =CONCATENATE(VLOOKUP(U39,[1]Listing!$A$4:$P$150,4,FALSE),VLOOKUP(U39,[1]Listing!$A$4:$P$150,5,FALSE)) -> 689± 5 mm | M39: Ø11.2 mm max | N39: Extr A. : | Q39: ="≤ "&ROUND(VLOOKUP(U39,'[1]CTRL 2'!$A$6:$X$152,8,FALSE),1)&" mΩ" -> ≤ 11,9 mΩ | R39: ≤ 2.5 mΩ | S39: ≤ 2.5 mΩ | T39: Extr A | U39: 6 | V39: =ROUND(VLOOKUP(U39,'[1]CTRL 2'!$A$6:$X$152,8,FALSE),1) -> 11.9 | W39: =Y39-Z39 -> 684 | X39: =Y39+Z39 -> 694 | Y39: =(VLOOKUP(U39,[1]Listing!$A$4:$P$150,4,FALSE)) -> 689 | Z39: =IF(Y39>12000,"120",IF(Y39>10000,"110",IF(Y39>8000,"90",IF(Y39>5000,"60",IF(Y39>3000,"20",IF(Y39>1500,"10",IF(Y39>1000,"7",IF(Y39>500,"5",IF(Y39>0,"3",)))))))))*1 -> 5
H40: =VLOOKUP(U39,'[1]FAB 2'!$A$6:$W$1000,7,FALSE) -> /
...

Sheet Feuil1
