Workbook

Sheet annexe PVL
A1: RELEVES UNITAIRES DE CONFORME DES LIGNES
A2: REFERENCE DE LA LIGNE | B2: N° SERIE | C2: IDENTIFICATION LIGNE | D2: MARQUAGE PYROTECHNIQUE | E2: ETAT STOCKAGE ET TRANSPORT | F2: ASPECT | G2: FILETAGE VIS CREUSE (M12x1.5 – 6h) | H2: ANGLE DE CINTRAGE | I2: ANGLE ENTRE EMBOUTS (0°) | J2: DIAMETRE SERTISSAGE | K2: DIAMETRE LIGNE SERTISSAGE | L2: LONGUEUR LIGNE | M2: DIAMETRE LIGNE SECTION COURANTE | N2: DISTANCE CORPS / RELAIS | O2: DISTANCE CORPS / PROTEGE RELAIS (17.4±0.1mm) | P2: CONTROLE ETANCHEITE INTERNE | Q2: CONTINUITE ELECTRIQUE | R2: CONTINUITE ELECTRIQUE | S2: CONTINUITE ELECTRIQUE | T2: RX
J3: (Ø11,5±0,1mm) | N3: (17±.0.2mm) | P3: (< 1.10-6 cm3/s) | Q3: Embout / Embout | R3: Embout A / tresse | S3: Embout B / tresse
Q4: (5 mΩ + 10 mΩ/m) | R4: (2,5 mΩ) | S4: (2,5 mΩ)
Q5: ligne | R5: embout | S5: embout
A6: Part number | B6: Serial n° | C6: identification of the line | D6: pyrotechnic identification | E6: Packaging | F6: Visual inspection | G6: Hollow screw thread | H6: Bending angle | I6: angle between tip | J6: Sockets after crimping | K6: Diameter on the sockets | L6: Line length | M6: Diameter of the line | N6: End tips booster dimension | O6: End tips booster protection dimension | P6: Leak test | Q6: Electrical continuity / line | R6: Electrical continuity / Tip | S6: Electrical continuity / tip
C7: (C/NC) | D7: (C/NC) | E7: (C/NC) | F7: (C/NC) | G7: (C/NC) | H7: (C/NC) | I7: (C/NC) | J7: (C/NC) | K7: (C/NC) | L7: (mm) | M7: (C/NC) | N7: (mm) | O7: (C/NC) | P7: (C/NC) | Q7: (mΩ) | R7: (mΩ) | S7: (mΩ) | T7: (C/NC) | W7: longueur ligne
C8: (a) | D8: (b) | E8: (c) | F8: (d) | G8: (e) | H8: (f) | I8: (g) | J8: (h) | K8: (i) | L8: (j) | M8: (k) | N8: (l) | O8: (l) | P8: (m) | Q8: (n) | R8: (n) | S8: (n) | T8: (o) | V8: conductivité | W8: min | X8: max | Y8: nomi | Z8: tolérance
A9: =VLOOKUP(U9,[1]Listing!$A$4:$P$150,2,FALSE) -> CS0601AQ00100 | H9: Extr A. : | K9: Ø13.5 mm max | L9: =CONCATENATE(VLOOKUP(U9,[1]Listing!$A$4:$P$150,4,FALSE),VLOOKUP(U9,[1]Listing!$A$4:$P$150,5,FALSE)) -> 689± 5 mm | M9: Ø11.2 mm max | N9: Extr A. : | Q9: ="≤ "&ROUND(VLOOKUP(U9,'[1]CTRL 2'!$A$6:$X$152,8,FALSE),1)&" mΩ" -> ≤ 11,9 mΩ | R9: ≤ 2.5 mΩ | S9: ≤ 2.5 mΩ | T9: Extr A | U9: 1 | V9: =ROUND(VLOOKUP(U9,'[1]CTRL 2'!$A$6:$X$152,8,FALSE),1) -> 11.9 | W9: =Y9-Z9 -> 684 | X9: =Y9+Z9 -> 694 | Y9: =(VLOOKUP(U9,[1]Listing!$A$4:$P$150,4,FALSE)) -> 689 | Z9: =IF(Y9>12000,"120",IF(Y9>10000,"110",IF(Y9>8000,"90",IF(Y9>5000,"60",IF(Y9>3000,"20",IF(Y9>1500,"10",IF(Y9>1000,"7",IF(Y9>500,"5",IF(Y9>0,"3",)))))))))*1 -> 5
H10: =VLOOKUP(U9,'[1]FAB 2'!$A$6:$W$1000,7,FALSE) -> /
H11: =IF(H10="/","/","") -> /
A12: =VLOOKUP(A9,[1]Données!$L$2:$P$190,3,FALSE) -> LT6_D00D00_00689 | H12: Extr B : | N12: Extr B : | T12: Extr B
H13: =VLOOKUP(U9,'[1]FAB 2'!$A$6:$W$1000,10,FALSE) -> /
H14: =IF(H13="/","/","") -> /
A15: =VLOOKUP(U15,[1]Listing!$A$4:$P$150,2,FALSE) -> CS0601AQ00100 | H15: Extr A. : | K15: Ø13.5 mm max | L15: =CONCATENATE(VLOOKUP(U15,[1]Listing!$A$4:$P$150,4,FALSE),VLOOKUP(U15,[1]Listing!$A$4:$P$150,5,FALSE)) -> 689± 5 mm | M15: Ø11.2 mm max | N15: Extr A. : | Q15: ="≤ "&ROUND(VLOOKUP(U15,'[1]CTRL 2'!$A$6:$X$152,8,FALSE),1)&" mΩ" -> ≤ 11,9 mΩ | R15: ≤ 2.5 mΩ | S15: ≤ 2.5 mΩ | T15: Extr A | U15: 2 | V15: =ROUND(VLOOKUP(U15,'[1]CTRL 2'!$A$6:$X$152,8,FALSE),1) -> 11.9 | W15: =Y15-Z15 -> 684 | X15: =Y15+Z15 -> 694 | Y15: =(VLOOKUP(U15,[1]Listing!$A$4:$P$150,4,FALSE)) -> 689 | Z15: =IF(Y15>12000,"120",IF(Y15>10000,"110",IF(Y15>8000,"90",IF(Y15>5000,"60",IF(Y15>3000,"20",IF(Y15>1500,"10",IF(Y15>1000,"7",IF(Y15>500,"5",IF(Y15>0,"3",)))))))))*1 -> 5
H16: =VLOOKUP(U15,'[1]FAB 2'!$A$6:$W$1000,7,FALSE) -> /
H17: =IF(H16="/","/","") -> /
A18: =VLOOKUP(A15,[1]Données!$L$2:$P$190,3,FALSE) -> LT6_D00D00_00689 | H18: Extr B : | N18: Extr B : | T18: Extr B
H19: =VLOOKUP(U15,'[1]FAB 2'!$A$6:$W$1000,10,FALSE) -> /
H20: =IF(H19="/","/","") -> /
A21: =VLOOKUP(U21,[1]Listing!$A$4:$P$150,2,FALSE) -> CS0601AQ00100 | H21: Extr A. : | K21: Ø13.5 mm max | L21: =CONCATENATE(VLOOKUP(U21,[1]Listing!$A$4:$P$150,4,FALSE),VLOOKUP(U21,[1]Listing!$A$4:$P$150,5,FALSE)) -> 689± 5 mm | M21: Ø11.2 mm max | N21: Extr A. : | Q21: ="≤ "&ROUND(VLOOKUP(U21,'[1]CTRL 2'!$A$6:$X$152,8,FALSE),1)&" mΩ" -> ≤ 11,9 mΩ | R21: ≤ 2.5 mΩ | S21: ≤ 2.5 mΩ | T21: Extr A | U21: 3 | V21: =ROUND(VLOOKUP(U21,'[1]CTRL 2'!$A$6:$X$152,8,FALSE),1) -> 11.9 | W21: =Y21-Z21 -> 684 | X21: =Y21+Z21 -> 694 | Y21: =(VLOOKUP(U21,[1]Listing!$A$4:$P$150,4,FALSE)) -> 689 | Z21: =IF(Y21>12000,"120",IF(Y21>10000,"110",IF(Y21>8000,"90",IF(Y21>5000,"60",IF(Y21>3000,"20",IF(Y21>1500,"10",IF(Y21>1000,"7",IF(Y21>500,"5",IF(Y21>0,"3",)))))))))*1 -> 5
H22: =VLOOKUP(U21,'[1]FAB 2'!$A$6:$W$1000,7,FALSE) -> /
H23: =IF(H22="/","/","") -> /
A24: =VLOOKUP(A21,[1]Données!$L$2:$P$190,3,FALSE) -> LT6_D00D00_00689 | H24: Extr B : | N24: Extr B : | T24: Extr B
H25: =VLOOKUP(U21,'[1]FAB 2'!$A$6:$W$1000,10,FALSE) -> /
H26: =IF(H25="/","/","") -> /
A27: =VLOOKUP(U27,[1]Listing!$A$4:$P$150,2,FALSE) -> CS0601AQ00100 | H27: Extr A. : | K27: Ø13.5 mm max | L27: =CONCATENATE(VLOOKUP(U27,[1]Listing!$A$4:$P$150,4,FALSE),VLOOKUP(U27,[1]Listing!$A$4:$P$150,5,FALSE)) -> 689± 5 mm | M27: Ø11.2 mm max | N27: Extr A. : | Q27: ="≤ "&ROUND(VLOOKUP(U27,'[1]CTRL 2'!$A$6:$X$152,8,FALSE),1)&" mΩ" -> ≤ 11,9 mΩ | R27: ≤ 2.5 mΩ | S27: ≤ 2.5 mΩ | T27: Extr A | U27: 4 | V27: =ROUND(VLOOKUP(U27,'[1]CTRL 2'!$A$6:$X$152,8,FALSE),1) -> 11.9 | W27: =Y27-Z27 -> 684 | X27: =Y27+Z27 -> 694 | Y27: =(VLOOKUP(U27,[1]Listing!$A$4:$P$150,4,FALSE)) -> 689 | Z27: =IF(Y27>12000,"120",IF(Y27>10000,"110",IF(Y27>8000,"90",IF(Y27>5000,"60",IF(Y27>3000,"20",IF(Y27>1500,"10",IF(Y27>1000,"7",IF(Y27>500,"5",IF(Y27>0,"3",)))))))))*1 -> 5
H28: =VLOOKUP(U27,'[1]FAB 2'!$A$6:$W$1000,7,FALSE) -> /
H29: =IF(H28="/","/","") -> /
A30: =VLOOKUP(A27,[1]Données!$L$2:$P$190,3,FALSE) -> LT6_D00D00_00689 | H30: Extr B : | N30: Extr B : | T30: Extr B
H31: =VLOOKUP(U27,'[1]FAB 2'!$A$6:$W$1000,10,FALSE) -> /
H32: =IF(H31="/","/","") -> /
A33: =VLOOKUP(U33,[1]Listing!$A$4:$P$150,2,FALSE) -> CS0601AQ00100 | H33: Extr A. : | K33: Ø13.5 mm max | L33: =CONCATENATE(VLOOKUP(U33,[1]Listing!$A$4:$P$150,4,FALSE),VLOOKUP(U33,[1]Listing!$A$4:$P$150,5,FALSE)) -> 689± 5 mm | M33: Ø11.2 mm max | N33: Extr A. : | Q33: ="≤ "&ROUND(VLOOKUP(U33,'[1]CTRL 2'!$A$6:$X$152,8,FALSE),1)&" mΩ" -> ≤ 11,9 mΩ | R33: ≤ 2.5 mΩ | S33: ≤ 2.5 mΩ | T33: Extr A | U33: 5 | V33: =ROUND(VLOOKUP(U33,'[1]CTRL 2'!$A$6:$X$152,8,FALSE),1) -> 11.9 | W33: =Y33-Z33 -> 684 | X33: =Y33+Z33 -> 694 | Y33: =(VLOOKUP(U33,[1]Listing!$A$4:$P$150,4,FALSE)) -> 689 | Z33: =IF(Y33>12000,"120",IF(Y33>10000,"110",IF(Y33>8000,"90",IF(Y33>5000,"60",IF(Y33>3000,"20",IF(Y33>1500,"10",IF(Y33>1000,"7",IF(Y33>500,"5",IF(Y33>0,"3",)))))))))*1 -> 5
H34: =VLOOKUP(U33,'[1]FAB 2'!$A$6:$W$1000,7,FALSE) -> /
H35: =IF(H34="/","/","") -> /
A36: =VLOOKUP(A33,[1]Données!$L$2:$P$190,3,FALSE) -> LT6_D00D00_00689 | H36: Extr B : | N36: Extr B : | T36: Extr B
H37: =VLOOKUP(U33,'[1]FAB 2'!$A$6:$W$1000,10,FALSE) -> /
H38: =IF(H37="/","/","") -> /
A39: =VLOOKUP(U39,[1]Listing!$A$4:$P$150,2,FALSE) -> CS0601AQ00100 | H39: Extr A. : | K39: Ø13.5 mm max | L39: =CONCATENATE(VLOOKUP(U39,[1]Listing!$A$4:$P$150,4,FALSE),VLOOKUP(U39,[1]Listing!$A$4:$P$150,5,FALSE)) -> 689± 5 mm | M39: Ø11.2 mm max | N39: Extr A. : | Q39: ="≤ "&ROUND(VLOOKUP(U39,'[1]CTRL 2'!$A$6:$X$152,8,FALSE),1)&" mΩ" -> ≤ 11,9 mΩ | R39: ≤ 2.5 mΩ | S39: ≤ 2.5 mΩ | T39: Extr A | U39: 6 | V39: =ROUND(VLOOKUP(U39,'[1]CTRL 2'!$A$6:$X$152,8,FALSE),1) -> 11.9 | W39: =Y39-Z39 -> 684 | X39: =Y39+Z39 -> 694 | Y39: =(VLOOKUP(U39,[1]Listing!$A$4:$P$150,4,FALSE)) -> 689 | Z39: =IF(Y39>12000,"120",IF(Y39>10000,"110",IF(Y39>8000,"90",IF(Y39>5000,"60",IF(Y39>3000,"20",IF(Y39>1500,"10",IF(Y39>1000,"7",IF(Y39>500,"5",IF(Y39>0,"3",)))))))))*1 -> 5
H40: =VLOOKUP(U39,'[1]FAB 2'!$A$6:$W$1000,7,FALSE) -> /
H41: =IF(H40="/","/","") -> /
A42: =VLOOKUP(A39,[1]Données!$L$2:$P$190,3,FALSE) -> LT6_D00D00_00689 | H42: Extr B : | N42: Extr B : | T42: Extr B
H43: =VLOOKUP(U39,'[1]FAB 2'!$A$6:$W$1000,10,FALSE) -> /
H44: =IF(H43="/","/","") -> /
A45: =VLOOKUP(U45,[1]Listing!$A$4:$P$150,2,FALSE) -> CS0601AQ00100 | H45: Extr A. : | K45: Ø13.5 mm max | L45: =CONCATENATE(VLOOKUP(U45,[1]Listing!$A$4:$P$150,4,FALSE),VLOOKUP(U45,[1]Listing!$A$4:$P$150,5,FALSE)) -> 689± 5 mm | M45: Ø11.2 mm max | N45: Extr A. : | Q45: ="≤ "&ROUND(VLOOKUP(U45,'[1]CTRL 2'!$A$6:$X$152,8,FALSE),1)&" mΩ" -> ≤ 11,9 mΩ | R45: ≤ 2.5 mΩ | S45: ≤ 2.5 mΩ | T45: Extr A | U45: 7 | V45: =ROUND(VLOOKUP(U45,'[1]CTRL 2'!$A$6:$X$152,8,FALSE),1) -> 11.9 | W45: =Y45-Z45 -> 684 | X45: =Y45+Z45 -> 694 | Y45: =(VLOOKUP(U45,[1]Listing!$A$4:$P$150,4,FALSE)) -> 689 | Z45: =IF(Y45>12000,"120",IF(Y45>10000,"110",IF(Y45>8000,"90",IF(Y45>5000,"60",IF(Y45>3000,"20",IF(Y45>1500,"10",IF(Y45>1000,"7",IF(Y45>500,"5",IF(Y45>0,"3",)))))))))*1 -> 5
H46: =VLOOKUP(U45,'[1]FAB 2'!$A$6:$W$1000,7,FALSE) -> /
H47: =IF(H46="/","/","") -> /
A48: =VLOOKUP(A45,[1]Données!$L$2:$P$190,3,FALSE) -> LT6_D00D00_00689 | H48: Extr B : | N48: Extr B : | T48: Extr B
H49: =VLOOKUP(U45,'[1]FAB 2'!$A$6:$W$1000,10,FALSE) -> /
H50: =IF(H49="/","/","") -> /
A51: =VLOOKUP(U51,[1]Listing!$A$4:$P$150,2,FALSE) -> CS0601AQ00100 | H51: Extr A. : | K51: Ø13.5 mm max | L51: =CONCATENATE(VLOOKUP(U51,[1]Listing!$A$4:$P$150,4,FALSE),VLOOKUP(U51,[1]Listing!$A$4:$P$150,5,FALSE)) -> 689± 5 mm | M51: Ø11.2 mm max | N51: Extr A. : | Q51: ="≤ "&ROUND(VLOOKUP(U51,'[1]CTRL 2'!$A$6:$X$152,8,FALSE),1)&" mΩ" -> ≤ 11,9 mΩ | R51: ≤ 2.5 mΩ | S51: ≤ 2.5 mΩ | T51: Extr A | U51: 8 | V51: =ROUND(VLOOKUP(U51,'[1]CTRL 2'!$A$6:$X$152,8,FALSE),1) -> 11.9 | W51: =Y51-Z51 -> 684 | X51: =Y51+Z51 -> 694 | Y51: =(VLOOKUP(U51,[1]Listing!$A$4:$P$150,4,FALSE)) -> 689 | Z51: =IF(Y51>12000,"120",IF(Y51>10000,"110",IF(Y51>8000,"90",IF(Y51>5000,"60",IF(Y51>3000,"20",IF(Y51>1500,"10",IF(Y51>1000,"7",IF(Y51>500,"5",IF(Y51>0,"3",)))))))))*1 -> 5
H52: =VLOOKUP(U51,'[1]FAB 2'!$A$6:$W$1000,7,FALSE) -> /
H53: =IF(H52="/","/","") -> /
A54: =VLOOKUP(A51,[1]Données!$L$2:$P$190,3,FALSE) -> LT6_D00D00_00689 | H54: Extr B : | N54: Extr B : | T54: Extr B
H55: =VLOOKUP(U51,'[1]FAB 2'!$A$6:$W$1000,10,FALSE) -> /
H56: =IF(H55="/","/","") -> /
A57: =VLOOKUP(U57,[1]Listing!$A$4:$P$150,2,FALSE) -> CS0601AQ00100 | H57: Extr A. : | K57: Ø13.5 mm max | L57: =CONCATENATE(VLOOKUP(U57,[1]Listing!$A$4:$P$150,4,FALSE),VLOOKUP(U57,[1]Listing!$A$4:$P$150,5,FALSE)) -> 689± 5 mm | M57: Ø11.2 mm max | N57: Extr A. : | Q57: ="≤ "&ROUND(VLOOKUP(U57,'[1]CTRL 2'!$A$6:$X$152,8,FALSE),1)&" mΩ" -> ≤ 11,9 mΩ | R57: ≤ 2.5 mΩ | S57: ≤ 2.5 mΩ | T57: Extr A | U57: 9 | V57: =ROUND(VLOOKUP(U57,'[1]CTRL 2'!$A$6:$X$152,8,FALSE),1) -> 11.9 | W57: =Y57-Z57 -> 684 | X57: =Y57+Z57 -> 694 | Y57: =(VLOOKUP(U57,[1]Listing!$A$4:$P$150,4,FALSE)) -> 689 | Z57: =IF(Y57>12000,"120",IF(Y57>10000,"110",IF(Y57>8000,"90",IF(Y57>5000,"60",IF(Y57>3000,"20",IF(Y57>1500,"10",IF(Y57>1000,"7",IF(Y57>500,"5",IF(Y57>0,"3",)))))))))*1 -> 5
H58: =VLOOKUP(U57,'[1]FAB 2'!$A$6:$W$1000,7,FALSE) -> /
H59: =IF(H58="/","/","") -> /
A60: =VLOOKUP(A57,[1]Données!$L$2:$P$190,3,FALSE) -> LT6_D00D00_00689 | H60: Extr B : | N60: Extr B : | T60: Extr B
H61: =VLOOKUP(U57,'[1]FAB 2'!$A$6:$W$1000,10,FALSE) -> /
H62: =IF(H61="/","/","") -> /
A63: =VLOOKUP(U63,[1]Listing!$A$4:$P$150,2,FALSE) -> CS0601AQ00100 | H63: Extr A. : | K63: Ø13.5 mm max | L63: =CONCATENATE(VLOOKUP(U63,[1]Listing!$A$4:$P$150,4,FALSE),VLOOKUP(U63,[1]Listing!$A$4:$P$150,5,FALSE)) -> 689± 5 mm | M63: Ø11.2 mm max | N63: Extr A. : | Q63: ="≤ "&ROUND(VLOOKUP(U63,'[1]CTRL 2'!$A$6:$X$152,8,FALSE),1)&" mΩ" -> ≤ 11,9 mΩ | R63: ≤ 2.5 mΩ | S63: ≤ 2.5 mΩ | T63: Extr A | U63: 10 | V63: =ROUND(VLOOKUP(U63,'[1]CTRL 2'!$A$6:$X$152,8,FALSE),1) -> 11.9 | W63: =Y63-Z63 -> 684 | X63: =Y63+Z63 -> 694 | Y63: =(VLOOKUP(U63,[1]Listing!$A$4:$P$150,4,FALSE)) -> 689 | Z63: =IF(Y63>12000,"120",IF(Y63>10000,"110",IF(Y63>8000,"90",IF(Y63>5000,"60",IF(Y63>3000,"20",IF(Y63>1500,"10",IF(Y63>1000,"7",IF(Y63>500,"5",IF(Y63>0,"3",)))))))))*1 -> 5
H64: =VLOOKUP(U63,'[1]FAB 2'!$A$6:$W$1000,7,FALSE) -> /
H65: =IF(H64="/","/","") -> /
A66: =VLOOKUP(A63,[1]Données!$L$2:$P$190,3,FALSE) -> LT6_D00D00_00689 | H66: Extr B : | N66: Extr B : | T66: Extr B
H67: =VLOOKUP(U63,'[1]FAB 2'!$A$6:$W$1000,10,FALSE) -> /
H68: =IF(H67="/","/","") -> /
A69: =VLOOKUP(U69,[1]Listing!$A$4:$P$150,2,FALSE) -> CS0601AQ00100 | H69: Extr A. : | K69: Ø13.5 mm max | L69: =CONCATENATE(VLOOKUP(U69,[1]Listing!$A$4:$P$150,4,FALSE),VLOOKUP(U69,[1]Listing!$A$4:$P$150,5,FALSE)) -> 689± 5 mm | M69: Ø11.2 mm max | N69: Extr A. : | Q69: ="≤ "&ROUND(VLOOKUP(U69,'[1]CTRL 2'!$A$6:$X$152,8,FALSE),1)&" mΩ" -> ≤ 11,9 mΩ | R69: ≤ 2.5 mΩ | S69: ≤ 2.5 mΩ | T69: Extr A | U69: 11 | V69: =ROUND(VLOOKUP(U69,'[1]CTRL 2'!$A$6:$X$152,8,FALSE),1) -> 11.9 | W69: =Y69-Z69 -> 684 | X69: =Y69+Z69 -> 694 | Y69: =(VLOOKUP(U69,[1]Listing!$A$4:$P$150,4,FALSE)) -> 689 | Z69: =IF(Y69>12000,"120",IF(Y69>10000,"110",IF(Y69>8000,"90",IF(Y69>5000,"60",IF(Y69>3000,"20",IF(Y69>1500,"10",IF(Y69>1000,"7",IF(Y69>500,"5",IF(Y69>0,"3",)))))))))*1 -> 5
H70: =VLOOKUP(U69,'[1]FAB 2'!$A$6:$W$1000,7,FALSE) -> /
H71: =IF(H70="/","/","") -> /
A72: =VLOOKUP(A69,[1]Données!$L$2:$P$190,3,FALSE) -> LT6_D00D00_00689 | H72: Extr B : | N72: Extr B : | T72: Extr B
H73: =VLOOKUP(U69,'[1]FAB 2'!$A$6:$W$1000,10,FALSE) -> /
H74: =IF(H73="/","/","") -> /
A75: =VLOOKUP(U75,[1]Listing!$A$4:$P$150,2,FALSE) -> CS0601AQ00100 | H75: Extr A. : | K75: Ø13.5 mm max | L75: =CONCATENATE(VLOOKUP(U75,[1]Listing!$A$4:$P$150,4,FALSE),VLOOKUP(U75,[1]Listing!$A$4:$P$150,5,FALSE)) -> 689± 5 mm | M75: Ø11.2 mm max | N75: Extr A. : | Q75: ="≤ "&ROUND(VLOOKUP(U75,'[1]CTRL 2'!$A$6:$X$152,8,FALSE),1)&" mΩ" -> ≤ 11,9 mΩ | R75: ≤ 2.5 mΩ | S75: ≤ 2.5 mΩ | T75: Extr A | U75: 12 | V75: =ROUND(VLOOKUP(U75,'[1]CTRL 2'!$A$6:$X$152,8,FALSE),1) -> 11.9 | W75: =Y75-Z75 -> 684 | X75: =Y75+Z75 -> 694 | Y75: =(VLOOKUP(U75,[1]Listing!$A$4:$P$150,4,FALSE)) -> 689 | Z75: =IF(Y75>12000,"120",IF(Y75>10000,"110",IF(Y75>8000,"90",IF(Y75>5000,"60",IF(Y75>3000,"20",IF(Y75>1500,"10",IF(Y75>1000,"7",IF(Y75>500,"5",IF(Y75>0,"3",)))))))))*1 -> 5
H76: =VLOOKUP(U75,'[1]FAB 2'!$A$6:$W$1000,7,FALSE) -> /
H77: =IF(H76="/","/","") -> /
A78: =VLOOKUP(A75,[1]Données!$L$2:$P$190,3,FALSE) -> LT6_D00D00_00689 | H78: Extr B : | N78: Extr B : | T78: Extr B
H79: =VLOOKUP(U75,'[1]FAB 2'!$A$6:$W$1000,10,FALSE) -> /
H80: =IF(H79="/","/","") -> /
A81: =VLOOKUP(U81,[1]Listing!$A$4:$P$150,2,FALSE) -> CS0601AX00100 | H81: Extr A. : | K81: Ø13.5 mm max | L81: =CONCATENATE(VLOOKUP(U81,[1]Listing!$A$4:$P$150,4,FALSE),VLOOKUP(U81,[1]Listing!$A$4:$P$150,5,FALSE)) -> 355± 3 mm | M81: Ø11.2 mm max | N81: Extr A. : | Q81: ="≤ "&ROUND(VLOOKUP(U81,'[1]CTRL 2'!$A$6:$X$152,8,FALSE),1)&" mΩ" -> ≤ 8,6 mΩ | R81: ≤ 2.5 mΩ | S81: ≤ 2.5 mΩ | T81: Extr A | U81: 13 | V81: =ROUND(VLOOKUP(U81,'[1]CTRL 2'!$A$6:$X$152,8,FALSE),1) -> 8.6 | W81: =Y81-Z81 -> 352 | X81: =Y81+Z81 -> 358 | Y81: =(VLOOKUP(U81,[1]Listing!$A$4:$P$150,4,FALSE)) -> 355 | Z81: =IF(Y81>12000,"120",IF(Y81>10000,"110",IF(Y81>8000,"90",IF(Y81>5000,"60",IF(Y81>3000,"20",IF(Y81>1500,"10",IF(Y81>1000,"7",IF(Y81>500,"5",IF(Y81>0,"3",)))))))))*1 -> 3
H82: =VLOOKUP(U81,'[1]FAB 2'!$A$6:$W$1000,7,FALSE) -> /
H83: =IF(H82="/","/","") -> /
A84: =VLOOKUP(A81,[1]Données!$L$2:$P$190,3,FALSE) -> LT6_D00D00_00355 | H84: Extr B : | N84: Extr B : | T84: Extr B
H85: =VLOOKUP(U81,'[1]FAB 2'!$A$6:$W$1000,10,FALSE) -> /
H86: =IF(H85="/","/","") -> /
A87: =VLOOKUP(U87,[1]Listing!$A$4:$P$150,2,FALSE) -> CS0601AX00100 | H87: Extr A. : | K87: Ø13.5 mm max | L87: =CONCATENATE(VLOOKUP(U87,[1]Listing!$A$4:$P$150,4,FALSE),VLOOKUP(U87,[1]Listing!$A$4:$P$150,5,FALSE)) -> 355± 3 mm | M87: Ø11.2 mm max | N87: Extr A. : | Q87: ="≤ "&ROUND(VLOOKUP(U87,'[1]CTRL 2'!$A$6:$X$152,8,FALSE),1)&" mΩ" -> ≤ 8,6 mΩ | R87: ≤ 2.5 mΩ | S87: ≤ 2.5 mΩ | T87: Extr A | U87: 14 | V87: =ROUND(VLOOKUP(U87,'[1]CTRL 2'!$A$6:$X$152,8,FALSE),1) -> 8.6 | W87: =Y87-Z87 -> 352 | X87: =Y87+Z87 -> 358 | Y87: =(VLOOKUP(U87,[1]Listing!$A$4:$P$150,4,FALSE)) -> 355 | Z87: =IF(Y87>12000,"120",IF(Y87>10000,"110",IF(Y87>8000,"90",IF(Y87>5000,"60",IF(Y87>3000,"20",IF(Y87>1500,"10",IF(Y87>1000,"7",IF(Y87>500,"5",IF(Y87>0,"3",)))))))))*1 -> 3
H88: =VLOOKUP(U87,'[1]FAB 2'!$A$6:$W$1000,7,FALSE) -> /
H89: =IF(H88="/","/","") -> /
A90: =VLOOKUP(A87,[1]Données!$L$2:$P$190,3,FALSE) -> LT6_D00D00_00355 | H90: Extr B : | N90: Extr B : | T90: Extr B
H91: =VLOOKUP(U87,'[1]FAB 2'!$A$6:$W$1000,10,FALSE) -> /
H92: =IF(H91="/","/","") -> /
A93: =VLOOKUP(U93,[1]Listing!$A$4:$P$150,2,FALSE) -> CS0601AX00100 | H93: Extr A. : | K93: Ø13.5 mm max | L93: =CONCATENATE(VLOOKUP(U93,[1]Listing!$A$4:$P$150,4,FALSE),VLOOKUP(U93,[1]Listing!$A$4:$P$150,5,FALSE)) -> 355± 3 mm | M93: Ø11.2 mm max | N93: Extr A. : | Q93: ="≤ "&ROUND(VLOOKUP(U93,'[1]CTRL 2'!$A$6:$X$152,8,FALSE),1)&" mΩ" -> ≤ 8,6 mΩ | R93: ≤ 2.5 mΩ | S93: ≤ 2.5 mΩ | T93: Extr A | U93: 15 | V93: =ROUND(VLOOKUP(U93,'[1]CTRL 2'!$A$6:$X$152,8,FALSE),1) -> 8.6 | W93: =Y93-Z93 -> 352 | X93: =Y93+Z93 -> 358 | Y93: =(VLOOKUP(U93,[1]Listing!$A$4:$P$150,4,FALSE)) -> 355 | Z93: =IF(Y93>12000,"120",IF(Y93>10000,"110",IF(Y93>8000,"90",IF(Y93>5000,"60",IF(Y93>3000,"20",IF(Y93>1500,"10",IF(Y93>1000,"7",IF(Y93>500,"5",IF(Y93>0,"3",)))))))))*1 -> 3
H94: =VLOOKUP(U93,'[1]FAB 2'!$A$6:$W$1000,7,FALSE) -> /
H95: =IF(H94="/","/","") -> /
A96: =VLOOKUP(A93,[1]Données!$L$2:$P$190,3,FALSE) -> LT6_D00D00_00355 | H96: Extr B : | N96: Extr B : | T96: Extr B
H97: =VLOOKUP(U93,'[1]FAB 2'!$A$6:$W$1000,10,FALSE) -> /
H98: =IF(H97="/","/","") -> /
A99: =VLOOKUP(U99,[1]Listing!$A$4:$P$150,2,FALSE) -> CS0601AX00100 | H99: Extr A. : | K99: Ø13.5 mm max | L99: =CONCATENATE(VLOOKUP(U99,[1]Listing!$A$4:$P$150,4,FALSE),VLOOKUP(U99,[1]Listing!$A$4:$P$150,5,FALSE)) -> 355± 3 mm | M99: Ø11.2 mm max | N99: Extr A. : | Q99: ="≤ "&ROUND(VLOOKUP(U99,'[1]CTRL 2'!$A$6:$X$152,8,FALSE),1)&" mΩ" -> ≤ 8,6 mΩ | R99: ≤ 2.5 mΩ | S99: ≤ 2.5 mΩ | T99: Extr A | U99: 16 | V99: =ROUND(VLOOKUP(U99,'[1]CTRL 2'!$A$6:$X$152,8,FALSE),1) -> 8.6 | W99: =Y99-Z99 -> 352 | X99: =Y99+Z99 -> 358 | Y99: =(VLOOKUP(U99,[1]Listing!$A$4:$P$150,4,FALSE)) -> 355 | Z99: =IF(Y99>12000,"120",IF(Y99>10000,"110",IF(Y99>8000,"90",IF(Y99>5000,"60",IF(Y99>3000,"20",IF(Y99>1500,"10",IF(Y99>1000,"7",IF(Y99>500,"5",IF(Y99>0,"3",)))))))))*1 -> 3
H100: =VLOOKUP(U99,'[1]FAB 2'!$A$6:$W$1000,7,FALSE) -> /
...

Sheet Feuil1
