Workbook

Sheet Prestations
D1: Données | F1: Résultats
A2: N° | B2: Désignation | C2: unité | D2: Quantités | E2: Rendement | F2: Jours exigés | G2: Coût Main d'œuvre | H2: Coût Matériel | I2: Cout Gasoil | J2: Cout Fourniture | K2: Coût sous-traitance | L2: Déboursés sec
A3: 1 | B3: Tache 1 | C3: ml | D3: 15000 | E3: 100 | F3: =+D3/E3 -> 150 | G3: =SUMIF(Calcul!A:A,'Paramètres '!$A$4,Calcul!I:I)/E3 -> 5.67 | H3: =SUMIF(Calcul!A:A,'Paramètres '!$A$5,Calcul!I:I)/E3 -> 14.4 | I3: =SUM(Calcul!J:J)/E3 -> 7.2 | J3: =SUMIF(Calcul!A:A,'Paramètres '!$A$6,Calcul!I:I)/E3 -> 80.407857 | K3: =SUMIF(Calcul!A:A,'Paramètres '!$A$7,Calcul!I:I)/E3 -> 15 | L3: =SUM(G3:K3) -> 122.67786

Sheet Ressources
A1: données
A2: N° | B2: Type de ressources | C2: Désignation | D2: unité | E2: cout unitaire | F2: consommation gasoil l/H
A3: 1 | B3: Main d'œuvre | C3: Ouvrier qualifé | D3: h | E3: 20
A4: 2 | B4: Main d'œuvre | C4: Ouvrier ordinaire | D4: h | E4: 18
A5: 3 | B5: Main d'œuvre | C5: Chef d'équipe | D5: h | E5: 25
A6: 4 | B6: Main d'œuvre | C6: Poseur | D6: h | E6: 23
A7: 5 | B7: Main d'œuvre | C7: Pointeur | D7: h | E7: 15
A8: 6 | B8: Matériel | C8: Tractopelle | D8: h | E8: 85 | F8: 5
A9: 7 | B9: Matériel | C9: Autobétonier | D9: h | E9: 75 | F9: 3
A10: 8 | B10: Fourniture | C10: Bordure | D10: ml | E10: 55
A11: 9 | B11: Fourniture | C11: G1 et G2 | D11: m3 | E11: 150
A12: 10 | B12: Fourniture | C12: Eau | D12: m3 | E12: 14
A13: 11 | B13: Fourniture | C13: Sable | D13: m3 | E13: 250
A14: 12 | B14: Fourniture | C14: Ciment | D14: kg | E14: 1.25
A15: 13 | B15: Sous-traitance | C15: Pose bordure | D15: ml | E15: 15

Sheet Paramètres 
A1: Prix gasoil | B1: 10 | C1: DH/L
A2: Poste jour | B2: 9 | C2: H
A4: Main d'œuvre
A5: Matériel
A6: Fourniture
A7: Sous-traitance

Sheet Calcul
A1: N° | B1: =Prestations!A3 -> 1 | F1: Données
A2: Désignation | B2: =Prestations!B3 -> Tache 1 | F2: Résultats
A3: Quantités | B3: =Prestations!D3 -> 15000
A4: Rendement | B4: =Prestations!E3 -> 100
A6: Ressource | B6: N° | C6: désignation | D6: unité | E6: cout unitaire | F6: consommation gasoil l/H | G6: Nombre | H6: Quntité | I6: Total | J6: Total gasoil
A7: =VLOOKUP(B7,Ressources!A:F,2,FALSE) -> Main d'œuvre | B7: =Ressources!A5 -> 3 | C7: =VLOOKUP(B7,Ressources!A:F,3,FALSE) -> Chef d'équipe | D7: =VLOOKUP(B7,Ressources!A:F,4,FALSE) -> h | E7: =VLOOKUP(B7,Ressources!A:F,5,FALSE) -> 25 | F7: =VLOOKUP(B7,Ressources!A:F,6,FALSE) -> 0 | G7: 1 | H7: =G7*'Paramètres '!$B$2 -> 9 | I7: =+H7*G7*E7 -> 225 | J7: =F7*G7*H7*'Paramètres '!$B$1 -> 0
A8: =VLOOKUP(B8,Ressources!A:F,2,FALSE) -> Main d'œuvre | B8: 1 | C8: =VLOOKUP(B8,Ressources!A:F,3,FALSE) -> Ouvrier qualifé | D8: =VLOOKUP(B8,Ressources!A:F,4,FALSE) -> h | E8: =VLOOKUP(B8,Ressources!A:F,5,FALSE) -> 20 | F8: =VLOOKUP(B8,Ressources!A:F,6,FALSE) -> 0 | G8: 1 | H8: =G8*'Paramètres '!$B$2 -> 9 | I8: =+H8*G8*E8 -> 180 | J8: =F8*G8*H8*'Paramètres '!$B$1 -> 0
A9: =VLOOKUP(B9,Ressources!A:F,2,FALSE) -> Main d'œuvre | B9: 2 | C9: =VLOOKUP(B9,Ressources!A:F,3,FALSE) -> Ouvrier ordinaire | D9: =VLOOKUP(B9,Ressources!A:F,4,FALSE) -> h | E9: =VLOOKUP(B9,Ressources!A:F,5,FALSE) -> 18 | F9: =VLOOKUP(B9,Ressources!A:F,6,FALSE) -> 0 | G9: 1 | H9: =G9*'Paramètres '!$B$2 -> 9 | I9: =+H9*G9*E9 -> 162 | J9: =F9*G9*H9*'Paramètres '!$B$1 -> 0
A10: =VLOOKUP(B10,Ressources!A:F,2,FALSE) -> Matériel | B10: 6 | C10: =VLOOKUP(B10,Ressources!A:F,3,FALSE) -> Tractopelle | D10: =VLOOKUP(B10,Ressources!A:F,4,FALSE) -> h | E10: =VLOOKUP(B10,Ressources!A:F,5,FALSE) -> 85 | F10: =VLOOKUP(B10,Ressources!A:F,6,FALSE) -> 5 | G10: 1 | H10: =G10*'Paramètres '!$B$2 -> 9 | I10: =+H10*G10*E10 -> 765 | J10: =F10*G10*H10*'Paramètres '!$B$1 -> 450
A11: =VLOOKUP(B11,Ressources!A:F,2,FALSE) -> Matériel | B11: 7 | C11: =VLOOKUP(B11,Ressources!A:F,3,FALSE) -> Autobétonier | D11: =VLOOKUP(B11,Ressources!A:F,4,FALSE) -> h | E11: =VLOOKUP(B11,Ressources!A:F,5,FALSE) -> 75 | F11: =VLOOKUP(B11,Ressources!A:F,6,FALSE) -> 3 | G11: 1 | H11: =G11*'Paramètres '!$B$2 -> 9 | I11: =+H11*G11*E11 -> 675 | J11: =F11*G11*H11*'Paramètres '!$B$1 -> 270
A12: =VLOOKUP(B12,Ressources!A:F,2,FALSE) -> Fourniture | B12: 8 | C12: =VLOOKUP(B12,Ressources!A:F,3,FALSE) -> Bordure | D12: =VLOOKUP(B12,Ressources!A:F,4,FALSE) -> ml | E12: =VLOOKUP(B12,Ressources!A:F,5,FALSE) -> 55 | F12: =VLOOKUP(B12,Ressources!A:F,6,FALSE) -> 0 | H12: =+B4 -> 100 | I12: =+H12*E12 -> 5500 | J12: =F12*G12*H12*'Paramètres '!$B$1 -> 0
A13: =VLOOKUP(B13,Ressources!A:F,2,FALSE) -> Fourniture | B13: 9 | C13: =VLOOKUP(B13,Ressources!A:F,3,FALSE) -> G1 et G2 | D13: =VLOOKUP(B13,Ressources!A:F,4,FALSE) -> m3 | E13: =VLOOKUP(B13,Ressources!A:F,5,FALSE) -> 150 | F13: =VLOOKUP(B13,Ressources!A:F,6,FALSE) -> 0 | H13: =4/7*0.05*$B$4 -> 2.8571429 | I13: =+H13*E13 -> 428.57143 | J13: =F13*G13*H13*'Paramètres '!$B$1 -> 0
A14: =VLOOKUP(B14,Ressources!A:F,2,FALSE) -> Fourniture | B14: 10 | C14: =VLOOKUP(B14,Ressources!A:F,3,FALSE) -> Eau | D14: =VLOOKUP(B14,Ressources!A:F,4,FALSE) -> m3 | E14: =VLOOKUP(B14,Ressources!A:F,5,FALSE) -> 14 | F14: =VLOOKUP(B14,Ressources!A:F,6,FALSE) -> 0 | H14: =0.2*0.05*$B$4 -> 1 | I14: =+H14*E14 -> 14 | J14: =F14*G14*H14*'Paramètres '!$B$1 -> 0
A15: =VLOOKUP(B15,Ressources!A:F,2,FALSE) -> Fourniture | B15: 11 | C15: =VLOOKUP(B15,Ressources!A:F,3,FALSE) -> Sable | D15: =VLOOKUP(B15,Ressources!A:F,4,FALSE) -> m3 | E15: =VLOOKUP(B15,Ressources!A:F,5,FALSE) -> 250 | F15: =VLOOKUP(B15,Ressources!A:F,6,FALSE) -> 0 | H15: =3/7*0.05*$B$4 -> 2.1428571 | I15: =+H15*E15 -> 535.71429 | J15: =F15*G15*H15*'Paramètres '!$B$1 -> 0
A16: =VLOOKUP(B16,Ressources!A:F,2,FALSE) -> Fourniture | B16: 12 | C16: =VLOOKUP(B16,Ressources!A:F,3,FALSE) -> Ciment | D16: =VLOOKUP(B16,Ressources!A:F,4,FALSE) -> kg | E16: =VLOOKUP(B16,Ressources!A:F,5,FALSE) -> 1.25 | F16: =VLOOKUP(B16,Ressources!A:F,6,FALSE) -> 0 | H16: =250*0.05*$B$4 -> 1250 | I16: =+H16*E16 -> 1562.5 | J16: =F16*G16*H16*'Paramètres '!$B$1 -> 0
A17: =VLOOKUP(B17,Ressources!A:F,2,FALSE) -> Sous-traitance | B17: 13 | C17: =VLOOKUP(B17,Ressources!A:F,3,FALSE) -> Pose bordure | D17: =VLOOKUP(B17,Ressources!A:F,4,FALSE) -> ml | E17: =VLOOKUP(B17,Ressources!A:F,5,FALSE) -> 15 | F17: =VLOOKUP(B17,Ressources!A:F,6,FALSE) -> 0 | H17: =+B4 -> 100 | I17: =+H17*E17 -> 1500 | J17: =F17*G17*H17*'Paramètres '!$B$1 -> 0
