Workbook
Name compta: 'BASE AGENCE'!$A$66:$I$381
Name DateDebut: 'BASE AGENCE'!$B$3
Name DateFin: 'BASE AGENCE'!$D$3

Sheet BASE AGENCE
A1: dossier | B1: AXECOM
A3: période du | B3: 45748 | C3: au | D3: 45777 | G3: Montant Production | H3: =SUMIF(E:E,AND(">=7000000","<=71400000"),F:F) -> 0
A5: Date Ecriture | B5: Date Mensuelle | C5: Date Année | D5: Intitulé | E5: Compte | F5: Solde | G5: Agence | H5: Numéro Pièce Tiers | I5: Journal | J5: CATEGORIE 1 | K5: CATEGORIE 2 | L5: Charge & produit | M5: INDICATEUR | N5: PREV | O5: Segment Visible
A6: 45748 | B6: =A6 -> 45748 | C6: =YEAR(B6) -> 2025 | G6: AGENCE NORD | J6: PRODUCTION | K6: CHIFFRE D'AFFAIRES | L6: CA TRAVAUX | M6: MARGE CHANTIER | N6: 1136690 | O6: =IF(A6="","N",IF(A6="MULTIAGENCE","N","O")) -> O
A7: 45748 | B7: =A7 -> 45748 | C7: =YEAR(B7) -> 2025 | G7: AGENCE NORD | J7: COÜT PRODUCTION | K7: MAIN OEUVRE | L7: PAYE | M7: MARGE CHANTIER | N7: -141826 | O7: =IF(A7="","N",IF(A7="MULTIAGENCE","N","O")) -> O
A8: 45748 | B8: =A8 -> 45748 | C8: =YEAR(B8) -> 2025 | G8: AGENCE NORD | J8: COÜT PRODUCTION | K8: SOUS TRAITANCE | L8: SST | M8: MARGE CHANTIER | N8: -815920 | O8: =IF(A8="","N",IF(A8="MULTIAGENCE","N","O")) -> O
A9: 45748 | B9: =A9 -> 45748 | C9: =YEAR(B9) -> 2025 | G9: AGENCE NORD | J9: STRUCTURE | K9: COUT SALARIES ADM | L9: PAYE | M9: EBE | N9: -19671 | O9: =IF(A9="","N",IF(A9="MULTIAGENCE","N","O")) -> O
A10: 45748 | B10: =A10 -> 45748 | C10: =YEAR(B10) -> 2025 | G10: AGENCE NORD | J10: STRUCTURE | K10: FRAIS AGENCE | L10: DIVERS | M10: EBE | N10: -16146 | O10: =IF(A10="","N",IF(A10="MULTIAGENCE","N","O")) -> O
A11: 45778 | B11: =A11 -> 45778 | C11: =YEAR(B11) -> 2025 | G11: AGENCE NORD | J11: PRODUCTION | K11: CHIFFRE D'AFFAIRES | L11: CA TRAVAUX | M11: MARGE CHANTIER | N11: 1136690 | O11: =IF(A11="","N",IF(A11="MULTIAGENCE","N","O")) -> O
A12: 45778 | B12: =A12 -> 45778 | C12: =YEAR(B12) -> 2025 | G12: AGENCE NORD | J12: COÜT PRODUCTION | K12: MAIN OEUVRE | L12: PAYE | M12: MARGE CHANTIER | N12: -141826 | O12: =IF(A12="","N",IF(A12="MULTIAGENCE","N","O")) -> O
A13: 45778 | B13: =A13 -> 45778 | C13: =YEAR(B13) -> 2025 | G13: AGENCE NORD | J13: COÜT PRODUCTION | K13: SOUS TRAITANCE | L13: SST | M13: MARGE CHANTIER | N13: -815920 | O13: =IF(A13="","N",IF(A13="MULTIAGENCE","N","O")) -> O
A14: 45778 | B14: =A14 -> 45778 | C14: =YEAR(B14) -> 2025 | G14: AGENCE NORD | J14: STRUCTURE | K14: COUT SALARIES ADM | L14: PAYE | M14: EBE | N14: -19671 | O14: =IF(A14="","N",IF(A14="MULTIAGENCE","N","O")) -> O
A15: 45778 | B15: =A15 -> 45778 | C15: =YEAR(B15) -> 2025 | G15: AGENCE NORD | J15: STRUCTURE | K15: FRAIS AGENCE | L15: DIVERS | M15: EBE | N15: -16146 | O15: =IF(A15="","N",IF(A15="MULTIAGENCE","N","O")) -> O
A16: 45809 | B16: =A16 -> 45809 | C16: =YEAR(B16) -> 2025 | G16: AGENCE NORD | J16: PRODUCTION | K16: CHIFFRE D'AFFAIRES | L16: CA TRAVAUX | M16: MARGE CHANTIER | N16: 1136690 | O16: =IF(A16="","N",IF(A16="MULTIAGENCE","N","O")) -> O
A17: 45809 | B17: =A17 -> 45809 | C17: =YEAR(B17) -> 2025 | G17: AGENCE NORD | J17: COÜT PRODUCTION | K17: MAIN OEUVRE | L17: PAYE | M17: MARGE CHANTIER | N17: -141826 | O17: =IF(A17="","N",IF(A17="MULTIAGENCE","N","O")) -> O
... A65: 46082 | B65: =A65 -> 46082 | C65: =YEAR(B65) -> 2026 | G65: AGENCE NORD | J65: STRUCTURE | K65: FRAIS AGENCE | L65: DIVERS | M65: EBE | N65: -16146 | O65: =IF(A65="","N",IF(A65="MULTIAGENCE","N","O")) -> O
A66: Date Ecriture | B66: Date Mensuelle | C66: Date Année | D66: Intitulé | E66: Compte | F66: Solde | G66: Agence | H66: Numéro Pièce Tiers | I66: Journal | J66: CATEGORIE 1 | K66: CATEGORIE 2 | L66: Charge & produit | M66: INDICATEUR | N66: PREV | O66: =IF(A66="","N",IF(A66="MULTIAGENCE","N","O")) -> O
A67: 45748 | B67: 45748 | C67: 2025 | E67: 66100000 | F67: -1010.79 | G67: AGENCE NORD | I67: AB | J67: =IFERROR(VLOOKUP(E67,BDD!A:I,3,FALSE),"") -> FINANCIER | K67: =IFERROR(VLOOKUP(E67,BDD!A:I,4,FALSE),"") -> CHARGES FINANCIERES | L67: =IF(J67="","",IF(IFERROR(VLOOKUP(E67,BDD!A:H,5,FALSE),"")=0,"",VLOOKUP(E67,BDD!A:H,5,FALSE))) -> CHARGES FINANCIERES | M67: =IF(J67="","",IF(IFERROR(VLOOKUP(E67,BDD!A:G,6,FALSE),"")=0,"",VLOOKUP(E67,BDD!A:G,6,FALSE))) -> RESULTAT COURANT | O67: =IF(A67="","N",IF(A67="MULTIAGENCE","N","O")) -> O
A68: 45748 | B68: 45748 | C68: 2025 | E68: 68112000 | F68: -1405.42 | G68: AGENCE NORD | I68: AB | J68: =IFERROR(VLOOKUP(E68,BDD!A:I,3,FALSE),"") -> COÜT PRODUCTION | K68: =IFERROR(VLOOKUP(E68,BDD!A:I,4,FALSE),"") -> AMORTISSEMENTS | L68: =IF(J68="","",IF(IFERROR(VLOOKUP(E68,BDD!A:H,5,FALSE),"")=0,"",VLOOKUP(E68,BDD!A:H,5,FALSE))) -> AMORTISSEMENTS | M68: =IF(J68="","",IF(IFERROR(VLOOKUP(E68,BDD!A:G,6,FALSE),"")=0,"",VLOOKUP(E68,BDD!A:G,6,FALSE))) -> MARGE CHANTIER | O68: =IF(A68="","N",IF(A68="MULTIAGENCE","N","O")) -> O
A69: 45748 | B69: 45748 | C69: 2025 | E69: 61635000 | F69: 135.1 | G69: AGENCE NORD | I69: AB | J69: =IFERROR(VLOOKUP(E69,BDD!A:I,3,FALSE),"") -> COÜT PRODUCTION | K69: =IFERROR(VLOOKUP(E69,BDD!A:I,4,FALSE),"") -> MATERIEL | L69: =IF(J69="","",IF(IFERROR(VLOOKUP(E69,BDD!A:H,5,FALSE),"")=0,"",VLOOKUP(E69,BDD!A:H,5,FALSE))) -> VEHICULE - ASSURANCE | M69: =IF(J69="","",IF(IFERROR(VLOOKUP(E69,BDD!A:G,6,FALSE),"")=0,"",VLOOKUP(E69,BDD!A:G,6,FALSE))) -> MARGE CHANTIER | O69: =IF(A69="","N",IF(A69="MULTIAGENCE","N","O")) -> O
A70: 45748 | B70: 45748 | C70: 2025 | E70: 61622500 | F70: -3308.52 | G70: AGENCE NORD | I70: AB | J70: =IFERROR(VLOOKUP(E70,BDD!A:I,3,FALSE),"") -> COÜT PRODUCTION | K70: =IFERROR(VLOOKUP(E70,BDD!A:I,4,FALSE),"") -> MATERIEL | L70: =IF(J70="","",IF(IFERROR(VLOOKUP(E70,BDD!A:H,5,FALSE),"")=0,"",VLOOKUP(E70,BDD!A:H,5,FALSE))) -> VEHICULE - ASSURANCE | M70: =IF(J70="","",IF(IFERROR(VLOOKUP(E70,BDD!A:G,6,FALSE),"")=0,"",VLOOKUP(E70,BDD!A:G,6,FALSE))) -> MARGE CHANTIER | O70: =IF(A70="","N",IF(A70="MULTIAGENCE","N","O")) -> O
A71: 45748 | B71: 45748 | C71: 2025 | E71: 61621200 | F71: -1472 | G71: AGENCE NORD | I71: AB | J71: =IFERROR(VLOOKUP(E71,BDD!A:I,3,FALSE),"") -> STRUCTURE | K71: =IFERROR(VLOOKUP(E71,BDD!A:I,4,FALSE),"") -> FRAIS GENERAUX | L71: =IF(J71="","",IF(IFERROR(VLOOKUP(E71,BDD!A:H,5,FALSE),"")=0,"",VLOOKUP(E71,BDD!A:H,5,FALSE))) -> ASSURANCE | M71: =IF(J71="","",IF(IFERROR(VLOOKUP(E71,BDD!A:G,6,FALSE),"")=0,"",VLOOKUP(E71,BDD!A:G,6,FALSE))) -> EBE | O71: =IF(A71="","N",IF(A71="MULTIAGENCE","N","O")) -> O
A72: 45748 | B72: 45748 | C72: 2025 | E72: 61410000 | F72: -386.17 | G72: AGENCE NORD | I72: AB | J72: =IFERROR(VLOOKUP(E72,BDD!A:I,3,FALSE),"") -> STRUCTURE | K72: =IFERROR(VLOOKUP(E72,BDD!A:I,4,FALSE),"") -> FRAIS AGENCE | L72: =IF(J72="","",IF(IFERROR(VLOOKUP(E72,BDD!A:H,5,FALSE),"")=0,"",VLOOKUP(E72,BDD!A:H,5,FALSE))) -> LOYER ET CHARGES | M72: =IF(J72="","",IF(IFERROR(VLOOKUP(E72,BDD!A:G,6,FALSE),"")=0,"",VLOOKUP(E72,BDD!A:G,6,FALSE))) -> EBE | O72: =IF(A72="","N",IF(A72="MULTIAGENCE","N","O")) -> O
A73: 45748 | B73: 45748 | C73: 2025 | E73: 63516000 | F73: -577.6 | G73: AGENCE NORD | I73: AB | J73: =IFERROR(VLOOKUP(E73,BDD!A:I,3,FALSE),"") -> STRUCTURE | K73: =IFERROR(VLOOKUP(E73,BDD!A:I,4,FALSE),"") -> FRAIS GENERAUX | L73: =IF(J73="","",IF(IFERROR(VLOOKUP(E73,BDD!A:H,5,FALSE),"")=0,"",VLOOKUP(E73,BDD!A:H,5,FALSE))) -> IMPOTS ET TAXES | M73: =IF(J73="","",IF(IFERROR(VLOOKUP(E73,BDD!A:G,6,FALSE),"")=0,"",VLOOKUP(E73,BDD!A:G,6,FALSE))) -> EBE | O73: =IF(A73="","N",IF(A73="MULTIAGENCE","N","O")) -> O
A74: 45748 | B74: 45748 | C74: 2025 | E74: 61320000 | F74: -3054.21 | G74: AGENCE NORD | I74: AB | J74: =IFERROR(VLOOKUP(E74,BDD!A:I,3,FALSE),"") -> STRUCTURE | K74: =IFERROR(VLOOKUP(E74,BDD!A:I,4,FALSE),"") -> FRAIS AGENCE | L74: =IF(J74="","",IF(IFERROR(VLOOKUP(E74,BDD!A:H,5,FALSE),"")=0,"",VLOOKUP(E74,BDD!A:H,5,FALSE))) -> LOYER ET CHARGES | M74: =IF(J74="","",IF(IFERROR(VLOOKUP(E74,BDD!A:G,6,FALSE),"")=0,"",VLOOKUP(E74,BDD!A:G,6,FALSE))) -> EBE | O74: =IF(A74="","N",IF(A74="MULTIAGENCE","N","O")) -> O
A75: 45748 | B75: 45748 | C75: 2025 | E75: 61566000 | F75: -178.88 | G75: AGENCE NORD | I75: AB | J75: =IFERROR(VLOOKUP(E75,BDD!A:I,3,FALSE),"") -> COÜT PRODUCTION | K75: =IFERROR(VLOOKUP(E75,BDD!A:I,4,FALSE),"") -> MATERIEL | L75: =IF(J75="","",IF(IFERROR(VLOOKUP(E75,BDD!A:H,5,FALSE),"")=0,"",VLOOKUP(E75,BDD!A:H,5,FALSE))) -> MATERIEL - ENTRETIEN | M75: =IF(J75="","",IF(IFERROR(VLOOKUP(E75,BDD!A:G,6,FALSE),"")=0,"",VLOOKUP(E75,BDD!A:G,6,FALSE))) -> MARGE CHANTIER | O75: =IF(A75="","N",IF(A75="MULTIAGENCE","N","O")) -> O
A76: 45748 | B76: 45748 | C76: 2025 | E76: 63710000 | F76: -1662 | G76: AGENCE NORD | I76: AB | J76: =IFERROR(VLOOKUP(E76,BDD!A:I,3,FALSE),"") -> STRUCTURE | K76: =IFERROR(VLOOKUP(E76,BDD!A:I,4,FALSE),"") -> FRAIS GENERAUX | L76: =IF(J76="","",IF(IFERROR(VLOOKUP(E76,BDD!A:H,5,FALSE),"")=0,"",VLOOKUP(E76,BDD!A:H,5,FALSE))) -> IMPOTS ET TAXES | M76: =IF(J76="","",IF(IFERROR(VLOOKUP(E76,BDD!A:G,6,FALSE),"")=0,"",VLOOKUP(E76,BDD!A:G,6,FALSE))) -> EBE | O76: =IF(A76="","N",IF(A76="MULTIAGENCE","N","O")) -> O
A77: 45748 | B77: 45748 | C77: 2025 | E77: 61621300 | F77: -1219 | G77: AGENCE NORD | I77: AB | J77: =IFERROR(VLOOKUP(E77,BDD!A:I,3,FALSE),"") -> STRUCTURE | K77: =IFERROR(VLOOKUP(E77,BDD!A:I,4,FALSE),"") -> FRAIS GENERAUX | L77: =IF(J77="","",IF(IFERROR(VLOOKUP(E77,BDD!A:H,5,FALSE),"")=0,"",VLOOKUP(E77,BDD!A:H,5,FALSE))) -> ASSURANCE | M77: =IF(J77="","",IF(IFERROR(VLOOKUP(E77,BDD!A:G,6,FALSE),"")=0,"",VLOOKUP(E77,BDD!A:G,6,FALSE))) -> EBE | O77: =IF(A77="","N",IF(A77="MULTIAGENCE","N","O")) -> O
A78: 45748 | B78: 45748 | C78: 2025 | E78: 66163000 | F78: -269.73 | G78: AGENCE NORD | I78: SG | J78: =IFERROR(VLOOKUP(E78,BDD!A:I,3,FALSE),"") -> FINANCIER | K78: =IFERROR(VLOOKUP(E78,BDD!A:I,4,FALSE),"") -> CHARGES FINANCIERES | L78: =IF(J78="","",IF(IFERROR(VLOOKUP(E78,BDD!A:H,5,FALSE),"")=0,"",VLOOKUP(E78,BDD!A:H,5,FALSE))) -> CHARGES FINANCIERES | M78: =IF(J78="","",IF(IFERROR(VLOOKUP(E78,BDD!A:G,6,FALSE),"")=0,"",VLOOKUP(E78,BDD!A:G,6,FALSE))) -> RESULTAT COURANT | O78: =IF(A78="","N",IF(A78="MULTIAGENCE","N","O")) -> O
... A381: 45777 | B381: 45748 | C381: 2025 | E381: 64502099 | F381: -7098.75 | G381: AGENCE NORD | I381: PAY | J381: =IFERROR(VLOOKUP(E381,BDD!A:I,3,FALSE),"") -> STRUCTURE | K381: =IFERROR(VLOOKUP(E381,BDD!A:I,4,FALSE),"") -> COUT SALARIES ADM | L381: =IF(J381="","",IF(IFERROR(VLOOKUP(E381,BDD!A:H,5,FALSE),"")=0,"",VLOOKUP(E381,BDD!A:H,5,FALSE))) -> PAYE | M381: =IF(J381="","",IF(IFERROR(VLOOKUP(E381,BDD!A:G,6,FALSE),"")=0,"",VLOOKUP(E381,BDD!A:G,6,FALSE))) -> EBE | O381: =IF(A381="","N",IF(A381="MULTIAGENCE","N","O")) -> O

Sheet BDD
A1: Compte | B1: Désignation | C1: NIVEAU 1 | D1: NIVEAU 2 | E1: NIVEAU 3 | F1: INDICATEUR | G1: INDICATEUR2 | H1: CHARGE ET PRODUITS | I1: NATURES | J1: MARGE COMMERCIALE | K1: PRODUCTION DE L'EXERCICE | L1: VALEUR AJOUTEE | M1: EBE | N1: RESULTAT EXPLOITATION | O1: RESULTAT COURANT | P1: RESULTAT AVANT IMPOT | Q1: RESULTAT
A2: 60210000 | B2: Matières consommables | C2: COÜT PRODUCTION | D2: ACHATS | E2: FOURNITURE | F2: MARGE CHANTIER | G2: % MARGE CHANTIER | H2: CHARGE | I2: ACHATS STOCKES | J2: MARGE COMMERCIALE | L2: VALEUR AJOUTEE | M2: EBE | N2: RESULTAT EXPLOITATION | O2: RESULTAT COURANT | Q2: RESULTAT
A3: 60220000 | B3: Fournitures consommables | C3: COÜT PRODUCTION | D3: ACHATS | E3: FOURNITURE | F3: MARGE CHANTIER | G3: % MARGE CHANTIER | H3: CHARGE | I3: ACHATS STOCKES | J3: MARGE COMMERCIALE | L3: VALEUR AJOUTEE | M3: EBE | N3: RESULTAT EXPLOITATION | O3: RESULTAT COURANT | Q3: RESULTAT | T3: 1 - MARGE COMMERCIALE
A4: 60221000 | B4: Fournitures consommables intracommunaut | C4: COÜT PRODUCTION | D4: ACHATS | E4: FOURNITURE | F4: MARGE CHANTIER | G4: % MARGE CHANTIER | H4: CHARGE | I4: ACHATS STOCKES | J4: MARGE COMMERCIALE | L4: VALEUR AJOUTEE | M4: EBE | N4: RESULTAT EXPLOITATION | O4: RESULTAT COURANT | Q4: RESULTAT
A5: 60320000 | B5: Variation des stocks autres approvision. | C5: COÜT PRODUCTION | D5: ACHATS | E5: VARIATION STOCK | F5: MARGE CHANTIER | G5: % MARGE CHANTIER | H5: CHARGE | I5: ACHATS STOCKES | J5: MARGE COMMERCIALE | L5: VALEUR AJOUTEE | M5: EBE | N5: RESULTAT EXPLOITATION | O5: RESULTAT COURANT | Q5: RESULTAT | T5: 2 - PRODUCTION DE L'EXERCICE
A6: 60400000 | B6: Achats d'études et prestations de serv. | C6: COÜT PRODUCTION | D6: MAIN OEUVRE | E6: ETUDE | F6: MARGE CHANTIER | G6: % MARGE CHANTIER | H6: CHARGE | I6: SERVICES EXTERIEURS | L6: VALEUR AJOUTEE | M6: EBE | N6: RESULTAT EXPLOITATION | O6: RESULTAT COURANT | Q6: RESULTAT
A7: 60404000 | B7: Achat d'études CEE | C7: COÜT PRODUCTION | D7: MAIN OEUVRE | E7: ETUDE | F7: MARGE CHANTIER | G7: % MARGE CHANTIER | H7: CHARGE | I7: SERVICES EXTERIEURS | L7: VALEUR AJOUTEE | M7: EBE | N7: RESULTAT EXPLOITATION | O7: RESULTAT COURANT | Q7: RESULTAT | T7: 3 - VALEUR AJOUTEE (1+2 - SERVICES EXTERIEURS)
A8: 60405000 | B8: Achats d'études hors CEE | C8: COÜT PRODUCTION | D8: MAIN OEUVRE | E8: ETUDE | F8: MARGE CHANTIER | G8: % MARGE CHANTIER | H8: CHARGE | I8: SERVICES EXTERIEURS | L8: VALEUR AJOUTEE | M8: EBE | N8: RESULTAT EXPLOITATION | O8: RESULTAT COURANT | Q8: RESULTAT
A9: 60409000 | B9: Achats d'études Non Taxable | C9: COÜT PRODUCTION | D9: MAIN OEUVRE | E9: ETUDE | F9: MARGE CHANTIER | G9: % MARGE CHANTIER | H9: CHARGE | I9: SERVICES EXTERIEURS | L9: VALEUR AJOUTEE | M9: EBE | N9: RESULTAT EXPLOITATION | O9: RESULTAT COURANT | Q9: RESULTAT | T9: 4 - EBE (3+ subv - impot - charges personnel)
A10: 60611000 | B10: Electricité Montataire | C10: STRUCTURE | D10: FRAIS AGENCE | E10: LOYER ET CHARGES | F10: EBE | G10: % EBE | H10: CHARGE | I10: SERVICES EXTERIEURS | L10: VALEUR AJOUTEE | M10: EBE | N10: RESULTAT EXPLOITATION | O10: RESULTAT COURANT | Q10: RESULTAT
A11: 60611100 | B11: Electricité Canisy | C11: STRUCTURE | D11: FRAIS AGENCE | E11: LOYER ET CHARGES | F11: EBE | G11: % EBE | H11: CHARGE | I11: SERVICES EXTERIEURS | L11: VALEUR AJOUTEE | M11: EBE | N11: RESULTAT EXPLOITATION | O11: RESULTAT COURANT | Q11: RESULTAT | T11: 5 - RESULTAT EXPLOITATION (4+ rep prov expl + transfert ch + autres pro - autres char - DAP)
A12: 60611200 | B12: Electricité Chalon en champagne | C12: STRUCTURE | D12: FRAIS AGENCE | E12: LOYER ET CHARGES | F12: EBE | G12: % EBE | H12: CHARGE | I12: SERVICES EXTERIEURS | L12: VALEUR AJOUTEE | M12: EBE | N12: RESULTAT EXPLOITATION | O12: RESULTAT COURANT | Q12: RESULTAT
A13: 60611300 | B13: Electricité Bourgogne | C13: STRUCTURE | D13: FRAIS AGENCE | E13: LOYER ET CHARGES | F13: EBE | G13: % EBE | H13: CHARGE | I13: SERVICES EXTERIEURS | L13: VALEUR AJOUTEE | M13: EBE | N13: RESULTAT EXPLOITATION | O13: RESULTAT COURANT | Q13: RESULTAT | T13: 6 - RCAI (5 + pdt fin - ch fin)
A14: 60611400 | B14: Electricité Cassel | C14: STRUCTURE | D14: FRAIS AGENCE | E14: LOYER ET CHARGES | F14: EBE | G14: % EBE | H14: CHARGE | I14: SERVICES EXTERIEURS | L14: VALEUR AJOUTEE | M14: EBE | N14: RESULTAT EXPLOITATION | O14: RESULTAT COURANT | Q14: RESULTAT
A15: 60611500 | B15: Electricité Chalon en champagne | C15: STRUCTURE | D15: FRAIS AGENCE | E15: LOYER ET CHARGES | F15: EBE | G15: % EBE | H15: CHARGE | I15: SERVICES EXTERIEURS | L15: VALEUR AJOUTEE | M15: EBE | N15: RESULTAT EXPLOITATION | O15: RESULTAT COURANT | Q15: RESULTAT
A16: 60611600 | B16: Electricité Fretin | C16: STRUCTURE | D16: FRAIS AGENCE | E16: LOYER ET CHARGES | F16: EBE | G16: % EBE | H16: CHARGE | I16: SERVICES EXTERIEURS | L16: VALEUR AJOUTEE | M16: EBE | N16: RESULTAT EXPLOITATION | O16: RESULTAT COURANT | Q16: RESULTAT
A17: 60611700 | B17: Electricité Mery | C17: STRUCTURE | D17: FRAIS AGENCE | E17: LOYER ET CHARGES | F17: EBE | G17: % EBE | H17: CHARGE | I17: SERVICES EXTERIEURS | L17: VALEUR AJOUTEE | M17: EBE | N17: RESULTAT EXPLOITATION | O17: RESULTAT COURANT | Q17: RESULTAT
A18: 60612000 | B18: Eaux Montataire | C18: STRUCTURE | D18: FRAIS AGENCE | E18: LOYER ET CHARGES | F18: EBE | G18: % EBE | H18: CHARGE | I18: SERVICES EXTERIEURS | L18: VALEUR AJOUTEE | M18: EBE | N18: RESULTAT EXPLOITATION | O18: RESULTAT COURANT | Q18: RESULTAT | T18: 7 - RST EXCEP : (pdt Exc - Ch Excp)
A19: 60612100 | B19: Eaux Dangy | C19: STRUCTURE | D19: FRAIS AGENCE | E19: LOYER ET CHARGES | F19: EBE | G19: % EBE | H19: CHARGE | I19: SERVICES EXTERIEURS | L19: VALEUR AJOUTEE | M19: EBE | N19: RESULTAT EXPLOITATION | O19: RESULTAT COURANT | Q19: RESULTAT
A20: 60612200 | B20: Eaux Chalon en Champagne | C20: STRUCTURE | D20: FRAIS AGENCE | E20: LOYER ET CHARGES | F20: EBE | G20: % EBE | H20: CHARGE | I20: SERVICES EXTERIEURS | L20: VALEUR AJOUTEE | M20: EBE | N20: RESULTAT EXPLOITATION | O20: RESULTAT COURANT | Q20: RESULTAT | T20: 8 RST (6+7 - IS - Participation)
A21: 60612300 | B21: Eaux Bourgogne | C21: STRUCTURE | D21: FRAIS AGENCE | E21: LOYER ET CHARGES | F21: EBE | G21: % EBE | H21: CHARGE | I21: SERVICES EXTERIEURS | L21: VALEUR AJOUTEE | M21: EBE | N21: RESULTAT EXPLOITATION | O21: RESULTAT COURANT | Q21: RESULTAT | T21: 8 RST (6+7 - IS - Participation)
A22: 60612400 | B22: Eaux Bresles | C22: STRUCTURE | D22: FRAIS AGENCE | E22: LOYER ET CHARGES | F22: EBE | G22: % EBE | H22: CHARGE | I22: SERVICES EXTERIEURS | L22: VALEUR AJOUTEE | M22: EBE | N22: RESULTAT EXPLOITATION | O22: RESULTAT COURANT | Q22: RESULTAT | T22: 8 RST (6+7 - IS - Participation)
A23: 60613000 | B23: Gaz Montataire | C23: STRUCTURE | D23: FRAIS AGENCE | E23: LOYER ET CHARGES | F23: EBE | G23: % EBE | H23: CHARGE | I23: SERVICES EXTERIEURS | L23: VALEUR AJOUTEE | M23: EBE | N23: RESULTAT EXPLOITATION | O23: RESULTAT COURANT | Q23: RESULTAT
A24: 60614000 | B24: Carburant - GO véhicule Utilitaire | C24: COÜT PRODUCTION | D24: MATERIEL | E24: VEHICULE -CARBURANT | F24: MARGE CHANTIER | G24: % MARGE CHANTIER | H24: CHARGE | I24: SERVICES EXTERIEURS | L24: VALEUR AJOUTEE | M24: EBE | N24: RESULTAT EXPLOITATION | O24: RESULTAT COURANT | Q24: RESULTAT
A25: 60615000 | B25: Carburant - Véhicule Tourisme | C25: COÜT PRODUCTION | D25: MATERIEL | E25: VEHICULE -CARBURANT | F25: MARGE CHANTIER | G25: % MARGE CHANTIER | H25: CHARGE | I25: SERVICES EXTERIEURS | L25: VALEUR AJOUTEE | M25: EBE | N25: RESULTAT EXPLOITATION | O25: RESULTAT COURANT | Q25: RESULTAT
A26: 60630000 | B26: Fournitures d'entretien et de petit équ. | C26: COÜT PRODUCTION | D26: MATERIEL | E26: MATEIREL -PETIT OUTILLAGE | F26: MARGE CHANTIER | G26: % MARGE CHANTIER | H26: CHARGE | I26: SERVICES EXTERIEURS | L26: VALEUR AJOUTEE | M26: EBE | N26: RESULTAT EXPLOITATION | O26: RESULTAT COURANT | Q26: RESULTAT
A27: 60631000 | B27: Vêtements de travail | C27: COÜT PRODUCTION | D27: MATERIEL | E27: MATEIREL -PETIT OUTILLAGE | F27: MARGE CHANTIER | G27: % MARGE CHANTIER | H27: CHARGE | I27: SERVICES EXTERIEURS | L27: VALEUR AJOUTEE | M27: EBE | N27: RESULTAT EXPLOITATION | O27: RESULTAT COURANT | Q27: RESULTAT
A28: 60632000 | B28: Achat petit équipement hors CEE | C28: COÜT PRODUCTION | D28: MATERIEL | E28: MATEIREL -PETIT OUTILLAGE | F28: MARGE CHANTIER | G28: % MARGE CHANTIER | H28: CHARGE | I28: SERVICES EXTERIEURS | L28: VALEUR AJOUTEE | M28: EBE | N28: RESULTAT EXPLOITATION | O28: RESULTAT COURANT | Q28: RESULTAT
A29: 60640000 | B29: Fournitures administratives | C29: STRUCTURE | D29: FRAIS AGENCE | E29: FOURNITURE BUREAU | F29: EBE | G29: % EBE | H29: CHARGE | I29: SERVICES EXTERIEURS | L29: VALEUR AJOUTEE | M29: EBE | N29: RESULTAT EXPLOITATION | O29: RESULTAT COURANT | Q29: RESULTAT
A30: 60800000 | B30: Frais accessoire d'achat | C30: COÜT PRODUCTION | D30: ACHATS | E30: FOURNITURE | F30: MARGE CHANTIER | G30: % MARGE CHANTIER | H30: CHARGE | I30: SERVICES EXTERIEURS | L30: VALEUR AJOUTEE | M30: EBE | N30: RESULTAT EXPLOITATION | O30: RESULTAT COURANT | Q30: RESULTAT
A31: 61000000 | B31: Services extérieurs | C31: COÜT PRODUCTION | D31: SOUS TRAITANCE | E31: SST | F31: MARGE CHANTIER | G31: % MARGE CHANTIER | H31: CHARGE | I31: SERVICES EXTERIEURS | L31: VALEUR AJOUTEE | M31: EBE | N31: RESULTAT EXPLOITATION | O31: RESULTAT COURANT | Q31: RESULTAT
A32: 61100000 | B32: Sous-traitance générale | C32: COÜT PRODUCTION | D32: SOUS TRAITANCE | E32: SST | F32: MARGE CHANTIER | G32: % MARGE CHANTIER | H32: CHARGE | I32: SERVICES EXTERIEURS | L32: VALEUR AJOUTEE | M32: EBE | N32: RESULTAT EXPLOITATION | O32: RESULTAT COURANT | Q32: RESULTAT
A33: 61101000 | B33: FNP Sous-traitance | C33: COÜT PRODUCTION | D33: SOUS TRAITANCE | E33: SST | F33: MARGE CHANTIER | G33: % MARGE CHANTIER | H33: CHARGE | I33: SERVICES EXTERIEURS | L33: VALEUR AJOUTEE | M33: EBE | N33: RESULTAT EXPLOITATION | O33: RESULTAT COURANT | Q33: RESULTAT
A34: 61102000 | B34: Sous-traitance générale intracommunautai | C34: COÜT PRODUCTION | D34: SOUS TRAITANCE | E34: SST | F34: MARGE CHANTIER | G34: % MARGE CHANTIER | H34: CHARGE | I34: SERVICES EXTERIEURS | L34: VALEUR AJOUTEE | M34: EBE | N34: RESULTAT EXPLOITATION | O34: RESULTAT COURANT | Q34: RESULTAT
... A153: 62518000 | B153: Frais déplacement divers | C153: STRUCTURE | D153: FRAIS AGENCE | E153: FRAIS DE DEPLACEMENT | F153: EBE | G153: % EBE | H153: CHARGE | I153: SERVICES EXTERIEURS | L153: VALEUR AJOUTEE | M153: EBE | N153: RESULTAT EXPLOITATION | O153: RESULTAT COURANT | Q153: RESULTAT
A154: 62520000 | B154: Frais déplacement | C154: COÜT PRODUCTION | D154: MAIN OEUVRE | E154: PAYE | F154: MARGE CHANTIER | G154: % MARGE CHANTIER | H154: CHARGE | I154: CHARGES DE PERSONNEL | M154: EBE | N154: RESULTAT EXPLOITATION | O154: RESULTAT COURANT | Q154: RESULTAT
A155: 62550000 | B155: Frais de déménagement | C155: STRUCTURE | D155: FRAIS AGENCE | E155: FRAIS DE DEPLACEMENT | F155: EBE | G155: % EBE | H155: CHARGE | I155: SERVICES EXTERIEURS | L155: VALEUR AJOUTEE | M155: EBE | N155: RESULTAT EXPLOITATION | O155: RESULTAT COURANT | Q155: RESULTAT
A156: 62570000 | B156: Réceptions | C156: STRUCTURE | D156: FRAIS AGENCE | E156: FRAIS DE DEPLACEMENT | F156: EBE | G156: % EBE | H156: CHARGE | I156: SERVICES EXTERIEURS | L156: VALEUR AJOUTEE | M156: EBE | N156: RESULTAT EXPLOITATION | O156: RESULTAT COURANT | Q156: RESULTAT
A157: 62571000 | B157: Réceptions non soumis à tva | C157: STRUCTURE | D157: FRAIS AGENCE | E157: FRAIS DE DEPLACEMENT | F157: EBE | G157: % EBE | H157: CHARGE | I157: SERVICES EXTERIEURS | L157: VALEUR AJOUTEE | M157: EBE | N157: RESULTAT EXPLOITATION | O157: RESULTAT COURANT | Q157: RESULTAT
A158: 62610000 | B158: Frais postaux | C158: STRUCTURE | D158: FRAIS AGENCE | E158: DIVERS | F158: EBE | G158: % EBE | H158: CHARGE | I158: SERVICES EXTERIEURS | L158: VALEUR AJOUTEE | M158: EBE | N158: RESULTAT EXPLOITATION | O158: RESULTAT COURANT | Q158: RESULTAT
...

Sheet CR AGENCE 
A1: COMPARATIF REALISATIONS - PREVISIONS PAR AGENCE
A3: ="Période du "&TEXT(DateDebut,"jj/mm/aaaa")&" au "&TEXT(DateFin,"jj/mm/aaaa") -> Période du 01/04/2025 au 30/04/2025
B9: Étiquettes de colonnes
B10: AGENCE NORD | E10: Total Réalisé | F10: Total prévsions | G10: Total Ecarts
A11: Étiquettes de lignes | B11: Réalisé | C11: prévsions | D11: Ecarts
A12: MARGE CHANTIER
A13: PRODUCTION
A14: CHIFFRE D'AFFAIRES | B14: 1038737.1 | C14: 16265283 | D14: -15226546 | E14: 1038737.1 | F14: 16265283 | G14: -15226546
A15: Total PRODUCTION | B15: 1038737.1 | C15: 16265283 | D15: -15226546 | E15: 1038737.1 | F15: 16265283 | G15: -15226546
A16: COÜT PRODUCTION
A17: ACHATS | B17: -8911.42 | C17: 0 | D17: -8911.42 | E17: -8911.42 | F17: 0 | G17: -8911.42
A18: MATERIEL | B18: -33546.83 | C18: 0 | D18: -33546.83 | E18: -33546.83 | F18: 0 | G18: -33546.83
A19: SOUS TRAITANCE
A20: SST
A21: O | B21: -634175.49 | C21: -11846145 | D21: 11211970 | E21: -634175.49 | F21: -11846145 | G21: 11211970
A22: Total SST | B22: -634175.49 | C22: -11846145 | D22: 11211970 | E22: -634175.49 | F22: -11846145 | G22: 11211970
A23: Total SOUS TRAITANCE | B23: -634175.49 | C23: -11846145 | D23: 11211970 | E23: -634175.49 | F23: -11846145 | G23: 11211970
A24: MAIN OEUVRE
A25: PAYE
A26: O | B26: -96526.11 | C26: -1701912 | D26: 1605385.9 | E26: -96526.11 | F26: -1701912 | G26: 1605385.9
A27: Total PAYE | B27: -96526.11 | C27: -1701912 | D27: 1605385.9 | E27: -96526.11 | F27: -1701912 | G27: 1605385.9
A28: Total MAIN OEUVRE | B28: -96526.11 | C28: -1701912 | D28: 1605385.9 | E28: -96526.11 | F28: -1701912 | G28: 1605385.9
A29: AMORTISSEMENTS | B29: -1405.42 | C29: 0 | D29: -1405.42 | E29: -1405.42 | F29: 0 | G29: -1405.42
A30: Total COÜT PRODUCTION | B30: -774565.27 | C30: -13548057 | D30: 12773492 | E30: -774565.27 | F30: -13548057 | G30: 12773492
A31: MARGE CHANTIER | B31: 264171.79 | C31: 2717226 | D31: -2453054.2 | E31: 264171.79 | F31: 2717226 | G31: -2453054.2
A32: EBE
A33: STRUCTURE
A34: FRAIS AGENCE | B34: -7890.27 | C34: -193752 | D34: 185861.73 | E34: -7890.27 | F34: -193752 | G34: 185861.73
A35: FRAIS GENERAUX | B35: -5105.47 | C35: 0 | D35: -5105.47 | E35: -5105.47 | F35: 0 | G35: -5105.47
A36: COUT SALARIES ADM | B36: -25781.75 | C36: -236052 | D36: 210270.25 | E36: -25781.75 | F36: -236052 | G36: 210270.25
A37: Total STRUCTURE | B37: -38777.49 | C37: -429804 | D37: 391026.51 | E37: -38777.49 | F37: -429804 | G37: 391026.51
A38: EBE | B38: 225394.3 | C38: 2287422 | D38: -2062027.7 | E38: 225394.3 | F38: 2287422 | G38: -2062027.7
A39: RESULTAT COURANT
A40: FINANCIER | B40: -1449.45 | C40: 0 | D40: -1449.45 | E40: -1449.45 | F40: 0 | G40: -1449.45
A41: RESULTAT COURANT | B41: 223944.85 | C41: 2287422 | D41: -2063477.2 | E41: 223944.85 | F41: 2287422 | G41: -2063477.2
A42: RESULTAT AVANT IMPOT
A43: EXCEPTIONNEL | B43: 707.5 | C43: 0 | D43: 707.5 | E43: 707.5 | F43: 0 | G43: 707.5
A44: RESULTAT AVANT IMPOT | B44: 224652.35 | C44: 2287422 | D44: -2062769.7 | E44: 224652.35 | F44: 2287422 | G44: -2062769.7
A45: Total général
