Workbook

Sheet Comparabilité
A1: Analyse | B1: Min | C1: Max
A2: ACBIL | B2: =_xlfn.MINIFS('CV Analytiques_20250605 (8)'!K:K,Comparabilité!A:A,Comparabilité!A2) -> 0.4235
A3: ACCP | B3: =_xlfn.MINIFS('CV Analytiques_20250605 (8)'!K:K,Comparabilité!A:A,Comparabilité!A3) -> 1.0395
A4: ACE | B4: =_xlfn.MINIFS('CV Analytiques_20250605 (8)'!K:K,Comparabilité!A:A,Comparabilité!A4) -> 2.4325
A5: ACHBCI | B5: =_xlfn.MINIFS('CV Analytiques_20250605 (8)'!K:K,Comparabilité!A:A,Comparabilité!A5) -> 0.4
A6: ACHBCMI | B6: =_xlfn.MINIFS('CV Analytiques_20250605 (8)'!K:K,Comparabilité!A:A,Comparabilité!A6) -> 0.4
A7: ACHBS | B7: =_xlfn.MINIFS('CV Analytiques_20250605 (8)'!K:K,Comparabilité!A:A,Comparabilité!A7) -> 2.35
A8: AFP | B8: =_xlfn.MINIFS('CV Analytiques_20250605 (8)'!K:K,Comparabilité!A:A,Comparabilité!A8) -> 2.35
A9: AGHBSI | B9: =_xlfn.MINIFS('CV Analytiques_20250605 (8)'!K:K,Comparabilité!A:A,Comparabilité!A9) -> 0.1095
A10: ALAT | B10: =_xlfn.MINIFS('CV Analytiques_20250605 (8)'!K:K,Comparabilité!A:A,Comparabilité!A10) -> 0.1095
A11: ALB | B11: =_xlfn.MINIFS('CV Analytiques_20250605 (8)'!K:K,Comparabilité!A:A,Comparabilité!A11) -> 0.1095
A12: ALBD | B12: =_xlfn.MINIFS('CV Analytiques_20250605 (8)'!K:K,Comparabilité!A:A,Comparabilité!A12) -> 0.8515
A13: APOA | B13: =_xlfn.MINIFS('CV Analytiques_20250605 (8)'!K:K,Comparabilité!A:A,Comparabilité!A13) -> 0.8515
... A117: VITD | B117: =_xlfn.MINIFS('CV Analytiques_20250605 (8)'!K:K,Comparabilité!A:A,Comparabilité!A117) -> 2.16

Sheet CV Analytiques_20250605 (8)
A1: Période de traitement | B1: Lot | C1: Unité | D1: Analyse | E1: Instrument | F1: Niveau | G1: Moyenne | H1: Ecart type | I1: CV % | J1: Moyenne attendue | K1: Ecart Type attendu | L1: CV % attendu | M1: RCV | N1: Nombre de valeurs | O1: Valeurs écartées
A2: 5/1/2025-5/31/2025 | C2: µmol/L | D2: ACBIL | E2: 0053 - AA-ALLC112 | F2: TPS_LEVEL1 | G2: 12.022 | H2: 0.1606 | I2: 1.34 | J2: 12.1 | K2: 0.4235 | L2: 3.5 | M2: 0.38 | N2: 36 | O2: 0
A3: 5/1/2025-5/31/2025 | C3: µmol/L | D3: ACBIL | E3: 0053 - AA-ALLC112 | F3: TPS_LEVEL2 | G3: 29.356 | H3: 0.4115 | I3: 1.4 | J3: 29.7 | K3: 1.0395 | L3: 3.5 | M3: 0.4 | N3: 39 | O3: 0
A4: 5/1/2025-5/31/2025 | C4: µmol/L | D4: ACBIL | E4: 0053 - AA-ALLC112 | F4: TPS_LEVEL3 | G4: 68.802 | H4: 0.8553 | I4: 1.24 | J4: 69.5 | K4: 2.4325 | L4: 3.5 | M4: 0.36 | N4: 42 | O4: 0
A5: 5/1/2025-5/31/2025 | C5: U/mL | D5: ACCP | E5: 0059 - AA-ALLI102 | F5: ANTI-CCP_LEVEL1 | G5: 0.018 | H5: 0.0815 | I5: 455.1 | J5: 0.8 | K5: 0.4 | L5: 50 | M5: 9.1 | N5: 67 | O5: 0
A6: 5/1/2025-5/31/2025 | C6: U/mL | D6: ACCP | E6: 0063 - AA-ALLI111 | F6: ANTI-CCP_LEVEL1 | G6: 0.156 | H6: 0.2844 | I6: 182.3 | J6: 0.8 | K6: 0.4 | L6: 50 | M6: 3.65 | N6: 75 | O6: 0
A7: 5/1/2025-5/31/2025 | C7: U/mL | D7: ACCP | E7: 0059 - AA-ALLI102 | F7: ANTI-CCP_LEVEL2 | G7: 22.815 | H7: 0.8581 | I7: 3.76 | J7: 23.5 | K7: 2.35 | L7: 10 | M7: 0.38 | N7: 66 | O7: 0
A8: 5/1/2025-5/31/2025 | C8: U/mL | D8: ACCP | E8: 0063 - AA-ALLI111 | F8: ANTI-CCP_LEVEL2 | G8: 23.022 | H8: 0.8243 | I8: 3.58 | J8: 23.5 | K8: 2.35 | L8: 10 | M8: 0.36 | N8: 74 | O8: 0
A9: 5/1/2025-5/31/2025 | C9: µg/L | D9: ACE | E9: 0058 - AA-ALLI101 | F9: TPIA_LEVEL1 | G9: 1.653 | H9: 0.109 | I9: 6.6 | J9: 1.71 | K9: 0.1095 | L9: 6.4 | M9: 1.03 | N9: 35 | O9: 0
A10: 5/1/2025-5/31/2025 | C10: µg/L | D10: ACE | E10: 0061 - AA-ALLI81- | F10: TPIA_LEVEL1 | G10: 1.687 | H10: 0.1114 | I10: 6.6 | J10: 1.71 | K10: 0.1095 | L10: 6.4 | M10: 1.03 | N10: 31 | O10: 1
A11: 5/1/2025-5/31/2025 | C11: µg/L | D11: ACE | E11: 0064 - AA-ALLI71- | F11: TPIA_LEVEL1 | G11: 1.584 | H11: 0.0985 | I11: 6.21 | J11: 1.71 | K11: 0.1095 | L11: 6.4 | M11: 0.97 | N11: 33 | O11: 0
A12: 5/1/2025-5/31/2025 | C12: µg/L | D12: ACE | E12: 0058 - AA-ALLI101 | F12: TPIA_LEVEL2 | G12: 12.831 | H12: 0.388 | I12: 3.02 | J12: 13.3 | K12: 0.8515 | L12: 6.4 | M12: 0.47 | N12: 31 | O12: 0
A13: 5/1/2025-5/31/2025 | C13: µg/L | D13: ACE | E13: 0061 - AA-ALLI81- | F13: TPIA_LEVEL2 | G13: 13.041 | H13: 0.4296 | I13: 3.29 | J13: 13.3 | K13: 0.8515 | L13: 6.4 | M13: 0.51 | N13: 30 | O13: 2
... A17: 5/1/2025-5/31/2025 | C17: µg/L | D17: ACE | E17: 0064 - AA-ALLI71- | F17: TPIA_LEVEL3 | G17: 42.963 | H17: 2.2938 | I17: 5.34 | J17: 45.4 | K17: 2.9052 | L17: 6.4 | M17: 0.83 | N17: 38 | O17: 0
A18: 5/1/2025-5/31/2025 | D18: ACHBCI | E18: 0060 - AA-ALLI103 | F18: ANTI-HBC_LEVEL1 | G18: 0.181 | H18: 0.013 | I18: 7.17 | J18: 0.4 | K18: 0.2 | L18: 50 | M18: 0.14 | N18: 61 | O18: 0
A19: 5/1/2025-5/31/2025 | D19: ACHBCI | E19: 0066 - AA-ALLI121 | F19: ANTI-HBC_LEVEL1 | G19: 0.183 | H19: 0.038 | I19: 20.76 | J19: 0.4 | K19: 0.2 | L19: 50 | M19: 0.42 | N19: 58 | O19: 0
A20: 5/1/2025-5/31/2025 | D20: ACHBCI | E20: 0069 - AA-ALLI51- | F20: ANTI-HBC_LEVEL1 | G20: 0.187 | H20: 0.0292 | I20: 15.6 | J20: 0.4 | K20: 0.2 | L20: 50 | M20: 0.31 | N20: 58 | O20: 0
A21: 5/1/2025-5/31/2025 | D21: ACHBCI | E21: 0073 - AA-ALLI114 | F21: ANTI-HBC_LEVEL1 | G21: 0.176 | H21: 0.0123 | I21: 6.96 | J21: 0.4 | K21: 0.2 | L21: 50 | M21: 0.14 | N21: 45 | O21: 0
A22: 5/1/2025-5/31/2025 | D22: ACHBCI | E22: 0060 - AA-ALLI103 | F22: ANTI-HBC_LEVEL2 | G22: 2.321 | H22: 0.0855 | I22: 3.68 | J22: 2.4 | K22: 0.24 | L22: 10 | M22: 0.37 | N22: 61 | O22: 0
A23: 5/1/2025-5/31/2025 | D23: ACHBCI | E23: 0066 - AA-ALLI121 | F23: ANTI-HBC_LEVEL2 | G23: 2.418 | H23: 0.1038 | I23: 4.29 | J23: 2.4 | K23: 0.24 | L23: 10 | M23: 0.43 | N23: 59 | O23: 0
A24: 5/1/2025-5/31/2025 | D24: ACHBCI | E24: 0069 - AA-ALLI51- | F24: ANTI-HBC_LEVEL2 | G24: 2.36 | H24: 0.082 | I24: 3.47 | J24: 2.4 | K24: 0.24 | L24: 10 | M24: 0.35 | N24: 58 | O24: 0
A25: 5/1/2025-5/31/2025 | D25: ACHBCI | E25: 0073 - AA-ALLI114 | F25: ANTI-HBC_LEVEL2 | G25: 2.465 | H25: 0.08 | I25: 3.25 | J25: 2.4 | K25: 0.24 | L25: 10 | M25: 0.32 | N25: 44 | O25: 0
A26: 5/1/2025-5/31/2025 | D26: ACHBCMI | E26: 0060 - AA-ALLI103 | F26: ANTI-HBC M_LEVEL1 | G26: 0.069 | H26: 0.0065 | I26: 9.49 | J26: 0.125 | K26: 0.0625 | L26: 50 | M26: 0.19 | N26: 55 | O26: 0
A27: 5/1/2025-5/31/2025 | D27: ACHBCMI | E27: 0069 - AA-ALLI51- | F27: ANTI-HBC M_LEVEL1 | G27: 0.073 | H27: 0.0069 | I27: 9.41 | J27: 0.125 | K27: 0.0625 | L27: 50 | M27: 0.19 | N27: 57 | O27: 0
A28: 5/1/2025-5/31/2025 | D28: ACHBCMI | E28: 0060 - AA-ALLI103 | F28: ANTI-HBC M_LEVEL2 | G28: 3.259 | H28: 0.184 | I28: 5.65 | J28: 3.5 | K28: 0.42 | L28: 12 | M28: 0.47 | N28: 55 | O28: 0
A29: 5/1/2025-5/31/2025 | D29: ACHBCMI | E29: 0069 - AA-ALLI51- | F29: ANTI-HBC M_LEVEL2 | G29: 3.217 | H29: 0.1658 | I29: 5.15 | J29: 3.5 | K29: 0.42 | L29: 12 | M29: 0.43 | N29: 57 | O29: 0
A30: 5/1/2025-5/31/2025 | C30: UI/L | D30: ACHBS | E30: 0060 - AA-ALLI103 | F30: ANTI-HBS_LEVEL1 | G30: 0.003 | H30: 0.0163 | I30: 507.44 | J30: 1 | K30: 0.5 | L30: 50 | M30: 10.15 | N30: 59 | O30: 0
A31: 5/1/2025-5/31/2025 | C31: UI/L | D31: ACHBS | E31: 0066 - AA-ALLI121 | F31: ANTI-HBS_LEVEL1 | G31: 0.013 | H31: 0.0352 | I31: 276.54 | J31: 1 | K31: 0.5 | L31: 50 | M31: 5.53 | N31: 55 | O31: 0
A32: 5/1/2025-5/31/2025 | C32: UI/L | D32: ACHBS | E32: 0069 - AA-ALLI51- | F32: ANTI-HBS_LEVEL1 | G32: 0.006 | H32: 0.0221 | I32: 400.53 | J32: 1 | K32: 0.5 | L32: 50 | M32: 8.01 | N32: 58 | O32: 0
A33: 5/1/2025-5/31/2025 | C33: UI/L | D33: ACHBS | E33: 0073 - AA-ALLI114 | F33: ANTI-HBS_LEVEL1 | G33: 0.016 | H33: 0.0429 | I33: 264.58 | J33: 1 | K33: 0.5 | L33: 50 | M33: 5.29 | N33: 45 | O33: 0
A34: 5/1/2025-5/31/2025 | C34: UI/L | D34: ACHBS | E34: 0060 - AA-ALLI103 | F34: ANTI-HBS_LEVEL2 | G34: 15.79 | H34: 0.6657 | I34: 4.22 | J34: 15 | K34: 1.5 | L34: 10 | M34: 0.42 | N34: 59 | O34: 0
A35: 5/1/2025-5/31/2025 | C35: UI/L | D35: ACHBS | E35: 0066 - AA-ALLI121 | F35: ANTI-HBS_LEVEL2 | G35: 15.96 | H35: 0.6872 | I35: 4.31 | J35: 15 | K35: 1.5 | L35: 10 | M35: 0.43 | N35: 55 | O35: 0
A36: 5/1/2025-5/31/2025 | C36: UI/L | D36: ACHBS | E36: 0069 - AA-ALLI51- | F36: ANTI-HBS_LEVEL2 | G36: 15.487 | H36: 0.6017 | I36: 3.88 | J36: 15 | K36: 1.5 | L36: 10 | M36: 0.39 | N36: 58 | O36: 0
A37: 5/1/2025-5/31/2025 | C37: UI/L | D37: ACHBS | E37: 0073 - AA-ALLI114 | F37: ANTI-HBS_LEVEL2 | G37: 16.413 | H37: 0.6833 | I37: 4.16 | J37: 15 | K37: 1.5 | L37: 10 | M37: 0.42 | N37: 44 | O37: 1
A38: 5/1/2025-5/31/2025 | C38: kUI/L | D38: AFP | E38: 0058 - AA-ALLI101 | F38: TPIA_LEVEL1 | G38: 4.922 | H38: 0.1711 | I38: 3.48 | J38: 4.73 | K38: 0.2886 | L38: 6.1 | M38: 0.57 | N38: 42 | O38: 0
A39: 5/1/2025-5/31/2025 | C39: kUI/L | D39: AFP | E39: 0061 - AA-ALLI81- | F39: TPIA_LEVEL1 | G39: 4.832 | H39: 0.1765 | I39: 3.65 | J39: 4.73 | K39: 0.2886 | L39: 6.1 | M39: 0.6 | N39: 35 | O39: 1
A40: 5/1/2025-5/31/2025 | C40: kUI/L | D40: AFP | E40: 0064 - AA-ALLI71- | F40: TPIA_LEVEL1 | G40: 4.693 | H40: 0.2632 | I40: 5.61 | J40: 4.73 | K40: 0.2886 | L40: 6.1 | M40: 0.92 | N40: 32 | O40: 0
A41: 5/1/2025-5/31/2025 | C41: kUI/L | D41: AFP | E41: 0058 - AA-ALLI101 | F41: TPIA_LEVEL2 | G41: 61.088 | H41: 1.4651 | I41: 2.4 | J41: 61.6 | K41: 3.7571 | L41: 6.1 | M41: 0.39 | N41: 40 | O41: 0
... A46: 5/1/2025-5/31/2025 | C46: kUI/L | D46: AFP | E46: 0064 - AA-ALLI71- | F46: TPIA_LEVEL3 | G46: 144.505 | H46: 5.7592 | I46: 3.99 | J46: 149 | K46: 9.089 | L46: 6.1 | M46: 0.65 | N46: 43 | O46: 0
A47: 5/1/2025-5/31/2025 | D47: AGHBSI | E47: 0060 - AA-ALLI103 | F47: HBSAG_LEVEL1 | G47: 0.283 | H47: 0.0472 | I47: 16.66 | J47: 0.425 | K47: 0.2125 | L47: 50 | M47: 0.33 | N47: 56 | O47: 0
A48: 5/1/2025-5/31/2025 | D48: AGHBSI | E48: 0066 - AA-ALLI121 | F48: HBSAG_LEVEL1 | G48: 0.292 | H48: 0.0529 | I48: 18.1 | J48: 0.425 | K48: 0.2125 | L48: 50 | M48: 0.36 | N48: 55 | O48: 0
A49: 5/1/2025-5/31/2025 | D49: AGHBSI | E49: 0069 - AA-ALLI51- | F49: HBSAG_LEVEL1 | G49: 0.33 | H49: 0.0654 | I49: 19.84 | J49: 0.425 | K49: 0.2125 | L49: 50 | M49: 0.4 | N49: 61 | O49: 0
A50: 5/1/2025-5/31/2025 | D50: AGHBSI | E50: 0073 - AA-ALLI114 | F50: HBSAG_LEVEL1 | G50: 0.297 | H50: 0.0557 | I50: 18.74 | J50: 0.425 | K50: 0.2125 | L50: 50 | M50: 0.37 | N50: 44 | O50: 0
A51: 5/1/2025-5/31/2025 | D51: AGHBSI | E51: 0060 - AA-ALLI103 | F51: HBSAG_LEVEL2 | G51: 3.468 | H51: 0.1363 | I51: 3.93 | J51: 3.75 | K51: 0.375 | L51: 10 | M51: 0.39 | N51: 56 | O51: 0
A52: 5/1/2025-5/31/2025 | D52: AGHBSI | E52: 0066 - AA-ALLI121 | F52: HBSAG_LEVEL2 | G52: 3.468 | H52: 0.1214 | I52: 3.5 | J52: 3.75 | K52: 0.375 | L52: 10 | M52: 0.35 | N52: 54 | O52: 0
A53: 5/1/2025-5/31/2025 | D53: AGHBSI | E53: 0069 - AA-ALLI51- | F53: HBSAG_LEVEL2 | G53: 3.509 | H53: 0.162 | I53: 4.62 | J53: 3.75 | K53: 0.375 | L53: 10 | M53: 0.46 | N53: 61 | O53: 0
A54: 5/1/2025-5/31/2025 | D54: AGHBSI | E54: 0073 - AA-ALLI114 | F54: HBSAG_LEVEL2 | G54: 3.425 | H54: 0.1437 | I54: 4.2 | J54: 3.75 | K54: 0.375 | L54: 10 | M54: 0.42 | N54: 44 | O54: 0
A55: 5/1/2025-5/31/2025 | C55: U/L | D55: ALAT | E55: 0049 - AA-ALLC121 | F55: TPS_LEVEL1 | G55: 20.641 | H55: 1.0292 | I55: 4.99 | J55: 21 | K55: 1.68 | L55: 8 | M55: 0.62 | N55: 64 | O55: 0
A56: 5/1/2025-5/31/2025 | C56: U/L | D56: ALAT | E56: 0050 - AA-ALLC51- | F56: TPS_LEVEL1 | G56: 20.682 | H56: 0.8069 | I56: 3.9 | J56: 21 | K56: 1.68 | L56: 8 | M56: 0.49 | N56: 66 | O56: 0
A57: 5/1/2025-5/31/2025 | C57: U/L | D57: ALAT | E57: 0051 - AA-ALLC52- | F57: TPS_LEVEL1 | G57: 21.109 | H57: 1.1834 | I57: 5.61 | J57: 21 | K57: 1.68 | L57: 8 | M57: 0.7 | N57: 64 | O57: 0
A58: 5/1/2025-5/31/2025 | C58: U/L | D58: ALAT | E58: 0052 - AA-ALLC111 | F58: TPS_LEVEL1 | G58: 20.938 | H58: 1.0191 | I58: 4.87 | J58: 21 | K58: 1.68 | L58: 8 | M58: 0.61 | N58: 48 | O58: 0
A59: 5/1/2025-5/31/2025 | C59: U/L | D59: ALAT | E59: 0053 - AA-ALLC112 | F59: TPS_LEVEL1 | G59: 21.125 | H59: 1.5929 | I59: 7.54 | J59: 21 | K59: 1.68 | L59: 8 | M59: 0.94 | N59: 48 | O59: 0
A60: 5/1/2025-5/31/2025 | C60: U/L | D60: ALAT | E60: 0054 - AA-ALLC10- | F60: TPS_LEVEL1 | G60: 20.56 | H60: 1.2149 | I60: 5.91 | J60: 21 | K60: 1.68 | L60: 8 | M60: 0.74 | N60: 50 | O60: 0
A61: 5/1/2025-5/31/2025 | C61: U/L | D61: ALAT | E61: 0055 - AA-ALLC91- | F61: TPS_LEVEL1 | G61: 20.625 | H61: 1.4342 | I61: 6.95 | J61: 21 | K61: 1.68 | L61: 8 | M61: 0.87 | N61: 56 | O61: 0
A62: 5/1/2025-5/31/2025 | C62: U/L | D62: ALAT | E62: 0056 - AA-ALLC92- | F62: TPS_LEVEL1 | G62: 19.923 | H62: 1.169 | I62: 5.87 | J62: 21 | K62: 1.68 | L62: 8 | M62: 0.73 | N62: 52 | O62: 0
A63: 5/1/2025-5/31/2025 | C63: U/L | D63: ALAT | E63: 0057 - AA-ALLC93- | F63: TPS_LEVEL1 | G63: 20.7 | H63: 1.5152 | I63: 7.32 | J63: 21 | K63: 1.68 | L63: 8 | M63: 0.91 | N63: 50 | O63: 0
A64: 5/1/2025-5/31/2025 | C64: U/L | D64: ALAT | E64: 0072 - AA-ALLC74- | F64: TPS_LEVEL1 | G64: 22.278 | H64: 1.1616 | I64: 5.21 | J64: 21 | K64: 1.68 | L64: 8 | M64: 0.65 | N64: 36 | O64: 0
A65: 5/1/2025-5/31/2025 | C65: U/L | D65: ALAT | E65: 0049 - AA-ALLC121 | F65: TPS_LEVEL2 | G65: 96.226 | H65: 1.2469 | I65: 1.3 | J65: 96.6 | K65: 4.6855 | L65: 4.85 | M65: 0.27 | N65: 62 | O65: 0
A66: 5/1/2025-5/31/2025 | C66: U/L | D66: ALAT | E66: 0050 - AA-ALLC51- | F66: TPS_LEVEL2 | G66: 96.5 | H66: 0.9384 | I66: 0.97 | J66: 96.6 | K66: 4.6855 | L66: 4.85 | M66: 0.2 | N66: 68 | O66: 0
... A372: 5/1/2025-5/31/2025 | C372: U/mL | D372: CMVG | E372: 0067 - AA-ALLI131 | F372: CMV IGG_LEVEL2 | G372: 27.709 | H372: 1.1173 | I372: 4.03 | J372: 29 | K372: 2.9 | L372: 10 | M372: 0.4 | N372: 56 | O372: 0
A373: 5/1/2025-5/31/2025 | D373: CMVMI | E373: 0059 - AA-ALLI102 | F373: CMV IGM_LEVEL1 | G373: 0.18 | H373: 0.0386 | I373: 21.5 | J373: 0.24 | K373: 0.12 | L373: 50 | M373: 0.43 | N373: 49 | O373: 1
A374: 5/1/2025-5/31/2025 | D374: CMVMI | E374: 0062 - AA-ALLI82- | F374: CMV IGM_LEVEL1 | G374: 0.194 | H374: 0.0414 | I374: 21.36 | J374: 0.24 | K374: 0.12 | L374: 50 | M374: 0.43 | N374: 55 | O374: 0
A375: 5/1/2025-5/31/2025 | D375: CMVMI | E375: 0067 - AA-ALLI131 | F375: CMV IGM_LEVEL1 | G375: 0.205 | H375: 0.0086 | I375: 4.2 | J375: 0.2 | K375: 0.05 | L375: 25 | M375: 0.17 | N375: 30 | O375: 0
A376: 5/1/2025-5/31/2025 | D376: CMVMI | E376: 0067 - AA-ALLI131 | F376: CMV IGM_LEVEL1 | G376: 0.199 | H376: 0.0616 | I376: 30.98 | J376: 0.24 | K376: 0.12 | L376: 50 | M376: 0.62 | N376: 25 | O376: 0
A377: 5/1/2025-5/31/2025 | D377: CMVMI | E377: 0059 - AA-ALLI102 | F377: CMV IGM_LEVEL2 | G377: 2.265 | H377: 0.0976 | I377: 4.31 | J377: 2.3 | K377: 0.23 | L377: 10 | M377: 0.43 | N377: 49 | O377: 0
A378: 5/1/2025-5/31/2025 | D378: CMVMI | E378: 0062 - AA-ALLI82- | F378: CMV IGM_LEVEL2 | G378: 2.377 | H378: 0.0845 | I378: 3.56 | J378: 2.3 | K378: 0.23 | L378: 10 | M378: 0.36 | N378: 55 | O378: 0
A379: 5/1/2025-5/31/2025 | D379: CMVMI | E379: 0067 - AA-ALLI131 | F379: CMV IGM_LEVEL2 | G379: 2.359 | H379: 0.1098 | I379: 4.65 | J379: 2.3 | K379: 0.23 | L379: 10 | M379: 0.47 | N379: 53 | O379: 0
A380: 5/1/2025-5/31/2025 | C380: nmol/L | D380: COR | E380: 0060 - AA-ALLI103 | F380: TPIA_LEVEL1 | G380: 125.65 | H380: 3.6598 | I380: 2.91 | J380: 127 | K380: 9.652 | L380: 7.6 | M380: 0.38 | N380: 42 | O380: 0
A381: 5/1/2025-5/31/2025 | C381: nmol/L | D381: COR | E381: 0061 - AA-ALLI81- | F381: TPIA_LEVEL1 | G381: 131.395 | H381: 8.0294 | I381: 6.11 | J381: 127 | K381: 9.652 | L381: 7.6 | M381: 0.8 | N381: 40 | O381: 0
A382: 5/1/2025-5/31/2025 | C382: nmol/L | D382: COR | E382: 0067 - AA-ALLI131 | F382: TPIA_LEVEL1 | G382: 132.2 | H382: 4.2058 | I382: 3.18 | J382: 127 | K382: 9.652 | L382: 7.6 | M382: 0.42 | N382: 37 | O382: 0
A383: 5/1/2025-5/31/2025 | C383: nmol/L | D383: COR | E383: 0060 - AA-ALLI103 | F383: TPIA_LEVEL2 | G383: 373.654 | H383: 9.2281 | I383: 2.47 | J383: 376 | K383: 28.576 | L383: 7.6 | M383: 0.32 | N383: 41 | O383: 0
A384: 5/1/2025-5/31/2025 | C384: nmol/L | D384: COR | E384: 0061 - AA-ALLI81- | F384: TPIA_LEVEL2 | G384: 382.158 | H384: 9.0104 | I384: 2.36 | J384: 376 | K384: 28.576 | L384: 7.6 | M384: 0.31 | N384: 38 | O384: 4
A385: 5/1/2025-5/31/2025 | C385: nmol/L | D385: COR | E385: 0067 - AA-ALLI131 | F385: TPIA_LEVEL2 | G385: 395.079 | H385: 13.6816 | I385: 3.46 | J385: 376 | K385: 28.576 | L385: 7.6 | M385: 0.46 | N385: 39 | O385: 0
A386: 5/1/2025-5/31/2025 | C386: nmol/L | D386: COR | E386: 0060 - AA-ALLI103 | F386: TPIA_LEVEL3 | G386: 875.495 | H386: 19.4922 | I386: 2.23 | J386: 899 | K386: 68.324 | L386: 7.6 | M386: 0.29 | N386: 44 | O386: 0
A387: 5/1/2025-5/31/2025 | C387: nmol/L | D387: COR | E387: 0061 - AA-ALLI81- | F387: TPIA_LEVEL3 | G387: 899.269 | H387: 43.217 | I387: 4.81 | J387: 899 | K387: 68.324 | L387: 7.6 | M387: 0.63 | N387: 42 | O387: 6
A388: 5/1/2025-5/31/2025 | C388: nmol/L | D388: COR | E388: 0067 - AA-ALLI131 | F388: TPIA_LEVEL3 | G388: 916.128 | H388: 35.2126 | I388: 3.84 | J388: 899 | K388: 68.324 | L388: 7.6 | M388: 0.51 | N388: 46 | O388: 0
A389: 5/1/2025-5/31/2025 | C389: Ua/mL | D389: COVIGI | E389: 0066 - AA-ALLI121 | F389: COVID19NEG_LEVEL1 | G389: 4.86 | H389: 1.0347 | I389: 21.29 | J389: 3.8 | K389: 1.9 | L389: 50 | M389: 0.43 | N389: 62 | O389: 0
A390: 5/1/2025-5/31/2025 | C390: Ua/mL | D390: COVIGI | E390: 0066 - AA-ALLI121 | F390: COVID19POS_LEVEL2 | G390: 6574.964 | H390: 512.6897 | I390: 7.8 | J390: 6792 | K390: 1018.8 | L390: 15 | M390: 0.52 | N390: 61 | O390: 0
A391: 5/1/2025-5/31/2025 | C391: µmol/L | D391: CR | E391: 0049 - AA-ALLC121 | F391: TPS_LEVEL1 | G391: 65.492 | H391: 0.7687 | I391: 1.17 | J391: 66.2 | K391: 1.986 | L391: 3 | M391: 0.39 | N391: 52 | O391: 0
... A502: 5/1/2025-5/31/2025 | C502: pmol/L | D502: E2 | E502: 0065 - AA-ALLI72- | F502: TPIA_LEVEL3 | G502: 1455.745 | H502: 58.2892 | I502: 4 | J502: 1390 | K502: 83.4 | L502: 6 | M502: 0.67 | N502: 47 | O502: 0
A503: 5/1/2025-5/31/2025 | D503: EBNAI | E503: 0060 - AA-ALLI103 | F503: EBV EBNA-1_LEVEL1 | G503: 0.013 | H503: 0.0056 | I503: 41.79 | J503: 0.245 | K503: 0.1225 | L503: 50 | M503: 0.84 | N503: 71 | O503: 0
A504: 5/1/2025-5/31/2025 | D504: EBNAI | E504: 0069 - AA-ALLI51- | F504: EBV EBNA-1_LEVEL1 | G504: 0.01 | H504: 0 | I504: 0 | J504: 0.245 | K504: 0.1225 | L504: 50 | M504: 0 | N504: 60 | O504: 0
A505: 5/1/2025-5/31/2025 | D505: EBNAI | E505: 0060 - AA-ALLI103 | F505: EBV EBNA-1_LEVEL2 | G505: 2.806 | H505: 0.0642 | I505: 2.29 | J505: 2.73 | K505: 0.273 | L505: 10 | M505: 0.23 | N505: 71 | O505: 0
A506: 5/1/2025-5/31/2025 | D506: EBNAI | E506: 0069 - AA-ALLI51- | F506: EBV EBNA-1_LEVEL2 | G506: 2.871 | H506: 0.071 | I506: 2.47 | J506: 2.73 | K506: 0.273 | L506: 10 | M506: 0.25 | N506: 60 | O506: 0
A507: 5/1/2025-5/31/2025 | C507: µmol/L | D507: FER | E507: 0051 - AA-ALLC52- | F507: TPS_LEVEL1 | G507: 17.558 | H507: 0.1651 | I507: 0.94 | J507: 17.5 | K507: 0.7 | L507: 4 | M507: 0.24 | N507: 43 | O507: 0
A508: 5/1/2025-5/31/2025 | C508: µmol/L | D508: FER | E508: 0053 - AA-ALLC112 | F508: TPS_LEVEL1 | G508: 17.518 | H508: 0.166 | I508: 0.95 | J508: 17.5 | K508: 0.7 | L508: 4 | M508: 0.24 | N508: 34 | O508: 0
A509: 5/1/2025-5/31/2025 | C509: µmol/L | D509: FER | E509: 0054 - AA-ALLC10- | F509: TPS_LEVEL1 | G509: 17.534 | H509: 0.1878 | I509: 1.07 | J509: 17.5 | K509: 0.7 | L509: 4 | M509: 0.27 | N509: 35 | O509: 0
A510: 5/1/2025-5/31/2025 | C510: µmol/L | D510: FER | E510: 0057 - AA-ALLC93- | F510: TPS_LEVEL1 | G510: 17.508 | H510: 0.1783 | I510: 1.02 | J510: 17.5 | K510: 0.7 | L510: 4 | M510: 0.25 | N510: 39 | O510: 0
A511: 5/1/2025-5/31/2025 | C511: µmol/L | D511: FER | E511: 0051 - AA-ALLC52- | F511: TPS_LEVEL2 | G511: 27.966 | H511: 0.1744 | I511: 0.62 | J511: 27.6 | K511: 0.69 | L511: 2.5 | M511: 0.25 | N511: 38 | O511: 0
A512: 5/1/2025-5/31/2025 | C512: µmol/L | D512: FER | E512: 0053 - AA-ALLC112 | F512: TPS_LEVEL2 | G512: 27.836 | H512: 0.1495 | I512: 0.54 | J512: 27.6 | K512: 0.69 | L512: 2.5 | M512: 0.21 | N512: 39 | O512: 0
A513: 5/1/2025-5/31/2025 | C513: µmol/L | D513: FER | E513: 0054 - AA-ALLC10- | F513: TPS_LEVEL2 | G513: 27.674 | H513: 0.2077 | I513: 0.75 | J513: 27.6 | K513: 0.69 | L513: 2.5 | M513: 0.3 | N513: 35 | O513: 0
A514: 5/1/2025-5/31/2025 | C514: µmol/L | D514: FER | E514: 0057 - AA-ALLC93- | F514: TPS_LEVEL2 | G514: 27.566 | H514: 0.1346 | I514: 0.49 | J514: 27.6 | K514: 0.69 | L514: 2.5 | M514: 0.2 | N514: 44 | O514: 0
A515: 5/1/2025-5/31/2025 | C515: µmol/L | D515: FER | E515: 0051 - AA-ALLC52- | F515: TPS_LEVEL3 | G515: 37.529 | H515: 0.2052 | I515: 0.55 | J515: 37.4 | K515: 0.748 | L515: 2 | M515: 0.27 | N515: 45 | O515: 0
A516: 5/1/2025-5/31/2025 | C516: µmol/L | D516: FER | E516: 0053 - AA-ALLC112 | F516: TPS_LEVEL3 | G516: 37.436 | H516: 0.1614 | I516: 0.43 | J516: 37.4 | K516: 0.748 | L516: 2 | M516: 0.22 | N516: 39 | O516: 0
A517: 5/1/2025-5/31/2025 | C517: µmol/L | D517: FER | E517: 0054 - AA-ALLC10- | F517: TPS_LEVEL3 | G517: 37.342 | H517: 0.175 | I517: 0.47 | J517: 37.4 | K517: 0.748 | L517: 2 | M517: 0.23 | N517: 38 | O517: 0
A518: 5/1/2025-5/31/2025 | C518: µmol/L | D518: FER | E518: 0057 - AA-ALLC93- | F518: TPS_LEVEL3 | G518: 37.516 | H518: 0.3733 | I518: 1 | J518: 37.4 | K518: 0.748 | L518: 2 | M518: 0.5 | N518: 51 | O518: 0
... A654: 5/1/2025-5/31/2025 | C654: g/L | D654: HAPTO | E654: 0056 - AA-ALLC92- | F654: TPS_LEVEL3 | G654: 1.472 | H654: 0.0219 | I654: 1.49 | J654: 1.5 | K654: 0.03 | L654: 2 | M654: 0.74 | N654: 54 | O654: 2
A655: 5/1/2025-5/31/2025 | D655: HAVGI | E655: 0060 - AA-ALLI103 | F655: HAVAB IGG_LEVEL1 | G655: 0.126 | H655: 0.0265 | I655: 20.98 | J655: 0.28 | K655: 0.14 | L655: 50 | M655: 0.42 | N655: 68 | O655: 0
A656: 5/1/2025-5/31/2025 | D656: HAVGI | E656: 0064 - AA-ALLI71- | F656: HAVAB IGG_LEVEL1 | G656: 0.093 | H656: 0.0331 | I656: 35.66 | J656: 0.28 | K656: 0.14 | L656: 50 | M656: 0.71 | N656: 58 | O656: 0
A657: 5/1/2025-5/31/2025 | D657: HAVGI | E657: 0060 - AA-ALLI103 | F657: HAVAB IGG_LEVEL2 | G657: 2.263 | H657: 0.181 | I657: 8 | J657: 2.43 | K657: 0.243 | L657: 10 | M657: 0.8 | N657: 69 | O657: 0
...

Sheet Feuil4
