Workbook

Sheet Comparabilité
A1: Analyse | B1: Min | C1: Max
A2: ACBIL | B2: =_xlfn.MINIFS('CV Analytiques_20250605 (8)'!K:K,Comparabilité!A:A,Comparabilité!A2) -> 0.4235
A3: ACCP | B3: =_xlfn.MINIFS('CV Analytiques_20250605 (8)'!K:K,Comparabilité!A:A,Comparabilité!A3) -> 1.0395
A4: ACE | B4: =_xlfn.MINIFS('CV Analytiques_20250605 (8)'!K:K,Comparabilité!A:A,Comparabilité!A4) -> 2.4325
A5: ACHBCI | B5: =_xlfn.MINIFS('CV Analytiques_20250605 (8)'!K:K,Comparabilité!A:A,Comparabilité!A5) -> 0.4
A6: ACHBCMI | B6: =_xlfn.MINIFS('CV Analytiques_20250605 (8)'!K:K,Comparabilité!A:A,Comparabilité!A6) -> 0.4
A7: ACHBS | B7: =_xlfn.MINIFS('CV Analytiques_20250605 (8)'!K:K,Comparabilité!A:A,Comparabilité!A7) -> 2.35
A8: AFP | B8: =_xlfn.MINIFS('CV Analytiques_20250605 (8)'!K:K,Comparabilité!A:A,Comparabilité!A8) -> 2.35
A9: AGHBSI | B9: =_xlfn.MINIFS('CV Analytiques_20250605 (8)'!K:K,Comparabilité!A:A,Comparabilité!A9) -> 0.1095
A10: ALAT | B10: =_xlfn.MINIFS('CV Analytiques_20250605 (8)'!K:K,Comparabilité!A:A,Comparabilité!A10) -> 0.1095
A11: ALB | B11: =_xlfn.MINIFS('CV Analytiques_20250605 (8)'!K:K,Comparabilité!A:A,Comparabilité!A11) -> 0.1095
A12: ALBD | B12: =_xlfn.MINIFS('CV Analytiques_20250605 (8)'!K:K,Comparabilité!A:A,Comparabilité!A12) -> 0.8515
A13: APOA | B13: =_xlfn.MINIFS('CV Analytiques_20250605 (8)'!K:K,Comparabilité!A:A,Comparabilité!A13) -> 0.8515
... A117: VITD | B117: =_xlfn.MINIFS('CV Analytiques_20250605 (8)'!K:K,Comparabilité!A:A,Comparabilité!A117) -> 2.16

Sheet CV Analytiques_20250605 (8)
A1: Période de traitement | B1: Lot | C1: Unité | D1: Analyse | E1: Instrument | F1: Niveau | G1: Moyenne | H1: Ecart type | I1: CV % | J1: Moyenne attendue | K1: Ecart Type attendu | L1: CV % attendu | M1: RCV | N1: Nombre de valeurs | O1: Valeurs écartées
A2: 5/1/2025-5/31/2025 | C2: µmol/L | D2: ACBIL | E2: 0053 - AA-ALLC112 | F2: TPS_LEVEL1 | G2: 12.022 | H2: 0.1606 | I2: 1.34 | J2: 12.1 | K2: 0.4235 | L2: 3.5 | M2: 0.38 | N2: 36 | O2: 0
A3: 5/1/2025-5/31/2025 | C3: µmol/L | D3: ACBIL | E3: 0053 - AA-ALLC112 | F3: TPS_LEVEL2 | G3: 29.356 | H3: 0.4115 | I3: 1.4 | J3: 29.7 | K3: 1.0395 | L3: 3.5 | M3: 0.4 | N3: 39 | O3: 0
A4: 5/1/2025-5/31/2025 | C4: µmol/L | D4: ACBIL | E4: 0053 - AA-ALLC112 | F4: TPS_LEVEL3 | G4: 68.802 | H4: 0.8553 | I4: 1.24 | J4: 69.5 | K4: 2.4325 | L4: 3.5 | M4: 0.36 | N4: 42 | O4: 0
A5: 5/1/2025-5/31/2025 | C5: U/mL | D5: ACCP | E5: 0059 - AA-ALLI102 | F5: ANTI-CCP_LEVEL1 | G5: 0.018 | H5: 0.0815 | I5: 455.1 | J5: 0.8 | K5: 0.4 | L5: 50 | M5: 9.1 | N5: 67 | O5: 0
A6: 5/1/2025-5/31/2025 | C6: U/mL | D6: ACCP | E6: 0063 - AA-ALLI111 | F6: ANTI-CCP_LEVEL1 | G6: 0.156 | H6: 0.2844 | I6: 182.3 | J6: 0.8 | K6: 0.4 | L6: 50 | M6: 3.65 | N6: 75 | O6: 0
A7: 5/1/2025-5/31/2025 | C7: U/mL | D7: ACCP | E7: 0059 - AA-ALLI102 | F7: ANTI-CCP_LEVEL2 | G7: 22.815 | H7: 0.8581 | I7: 3.76 | J7: 23.5 | K7: 2.35 | L7: 10 | M7: 0.38 | N7: 66 | O7: 0
A8: 5/1/2025-5/31/2025 | C8: U/mL | D8: ACCP | E8: 0063 - AA-ALLI111 | F8: ANTI-CCP_LEVEL2 | G8: 23.022 | H8: 0.8243 | I8: 3.58 | J8: 23.5 | K8: 2.35 | L8: 10 | M8: 0.36 | N8: 74 | O8: 0
A9: 5/1/2025-5/31/2025 | C9: µg/L | D9: ACE | E9: 0058 - AA-ALLI101 | F9: TPIA_LEVEL1 | G9: 1.653 | H9: 0.109 | I9: 6.6 | J9: 1.71 | K9: 0.1095 | L9: 6.4 | M9: 1.03 | N9: 35 | O9: 0
A10: 5/1/2025-5/31/2025 | C10: µg/L | D10: ACE | E10: 0061 - AA-ALLI81- | F10: TPIA_LEVEL1 | G10: 1.687 | H10: 0.1114 | I10: 6.6 | J10: 1.71 | K10: 0.1095 | L10: 6.4 | M10: 1.03 | N10: 31 | O10: 1
A11: 5/1/2025-5/31/2025 | C11: µg/L | D11: ACE | E11: 0064 - AA-ALLI71- | F11: TPIA_LEVEL1 | G11: 1.584 | H11: 0.0985 | I11: 6.21 | J11: 1.71 | K11: 0.1095 | L11: 6.4 | M11: 0.97 | N11: 33 | O11: 0
A12: 5/1/2025-5/31/2025 | C12: µg/L | D12: ACE | E12: 0058 - AA-ALLI101 | F12: TPIA_LEVEL2 | G12: 12.831 | H12: 0.388 | I12: 3.02 | J12: 13.3 | K12: 0.8515 | L12: 6.4 | M12: 0.47 | N12: 31 | O12: 0
A13: 5/1/2025-5/31/2025 | C13: µg/L | D13: ACE | E13: 0061 - AA-ALLI81- | F13: TPIA_LEVEL2 | G13: 13.041 | H13: 0.4296 | I13: 3.29 | J13: 13.3 | K13: 0.8515 | L13: 6.4 | M13: 0.51 | N13: 30 | O13: 2
... A17: 5/1/2025-5/31/2025 | C17: µg/L | D17: ACE | E17: 0064 - AA-ALLI71- | F17: TPIA_LEVEL3 | G17: 42.963 | H17: 2.2938 | I17: 5.34 | J17: 45.4 | K17: 2.9052 | L17: 6.4 | M17: 0.83 | N17: 38 | O17: 0
A18: 5/1/2025-5/31/2025 | D18: ACHBCI | E18: 0060 - AA-ALLI103 | F18: ANTI-HBC_LEVEL1 | G18: 0.181 | H18: 0.013 | I18: 7.17 | J18: 0.4 | K18: 0.2 | L18: 50 | M18: 0.14 | N18: 61 | O18: 0
A19: 5/1/2025-5/31/2025 | D19: ACHBCI | E19: 0066 - AA-ALLI121 | F19: ANTI-HBC_LEVEL1 | G19: 0.183 | H19: 0.038 | I19: 20.76 | J19: 0.4 | K19: 0.2 | L19: 50 | M19: 0.42 | N19: 58 | O19: 0
A20: 5/1/2025-5/31/2025 | D20: ACHBCI | E20: 0069 - AA-ALLI51- | F20: ANTI-HBC_LEVEL1 | G20: 0.187 | H20: 0.0292 | I20: 15.6 | J20: 0.4 | K20: 0.2 | L20: 50 | M20: 0.31 | N20: 58 | O20: 0
A21: 5/1/2025-5/31/2025 | D21: ACHBCI | E21: 0073 - AA-ALLI114 | F21: ANTI-HBC_LEVEL1 | G21: 0.176 | H21: 0.0123 | I21: 6.96 | J21: 0.4 | K21: 0.2 | L21: 50 | M21: 0.14 | N21: 45 | O21: 0
A22: 5/1/2025-5/31/2025 | D22: ACHBCI | E22: 0060 - AA-ALLI103 | F22: ANTI-HBC_LEVEL2 | G22: 2.321 | H22: 0.0855 | I22: 3.68 | J22: 2.4 | K22: 0.24 | L22: 10 | M22: 0.37 | N22: 61 | O22: 0
A23: 5/1/2025-5/31/2025 | D23: ACHBCI | E23: 0066 - AA-ALLI121 | F23: ANTI-HBC_LEVEL2 | G23: 2.418 | H23: 0.1038 | I23: 4.29 | J23: 2.4 | K23: 0.24 | L23: 10 | M23: 0.43 | N23: 59 | O23: 0
A24: 5/1/2025-5/31/2025 | D24: ACHBCI | E24: 0069 - AA-ALLI51- | F24: ANTI-HBC_LEVEL2 | G24: 2.36 | H24: 0.082 | I24: 3.47 | J24: 2.4 | K24: 0.24 | L24: 10 | M24: 0.35 | N24: 58 | O24: 0
A25: 5/1/2025-5/31/2025 | D25: ACHBCI | E25: 0073 - AA-ALLI114 | F25: ANTI-HBC_LEVEL2 | G25: 2.465 | H25: 0.08 | I25: 3.25 | J25: 2.4 | K25: 0.24 | L25: 10 | M25: 0.32 | N25: 44 | O25: 0
A26: 5/1/2025-5/31/2025 | D26: ACHBCMI | E26: 0060 - AA-ALLI103 | F26: ANTI-HBC M_LEVEL1 | G26: 0.069 | H26: 0.0065 | I26: 9.49 | J26: 0.125 | K26: 0.0625 | L26: 50 | M26: 0.19 | N26: 55 | O26: 0
A27: 5/1/2025-5/31/2025 | D27: ACHBCMI | E27: 0069 - AA-ALLI51- | F27: ANTI-HBC M_LEVEL1 | G27: 0.073 | H27: 0.0069 | I27: 9.41 | J27: 0.125 | K27: 0.0625 | L27: 50 | M27: 0.19 | N27: 57 | O27: 0
A28: 5/1/2025-5/31/2025 | D28: ACHBCMI | E28: 0060 - AA-ALLI103 | F28: ANTI-HBC M_LEVEL2 | G28: 3.259 | H28: 0.184 | I28: 5.65 | J28: 3.5 | K28: 0.42 | L28: 12 | M28: 0.47 | N28: 55 | O28: 0
A29: 5/1/2025-5/31/2025 | D29: ACHBCMI | E29: 0069 - AA-ALLI51- | F29: ANTI-HBC M_LEVEL2 | G29: 3.217 | H29: 0.1658 | I29: 5.15 | J29: 3.5 | K29: 0.42 | L29: 12 | M29: 0.43 | N29: 57 | O29: 0
A30: 5/1/2025-5/31/2025 | C30: UI/L | D30: ACHBS | E30: 0060 - AA-ALLI103 | F30: ANTI-HBS_LEVEL1 | G30: 0.003 | H30: 0.0163 | I30: 507.44 | J30: 1 | K30: 0.5 | L30: 50 | M30: 10.15 | N30: 59 | O30: 0
A31: 5/1/2025-5/31/2025 | C31: UI/L | D31: ACHBS | E31: 0066 - AA-ALLI121 | F31: ANTI-HBS_LEVEL1 | G31: 0.013 | H31: 0.0352 | I31: 276.54 | J31: 1 | K31: 0.5 | L31: 50 | M31: 5.53 | N31: 55 | O31: 0
A32: 5/1/2025-5/31/2025 | C32: UI/L | D32: ACHBS | E32: 0069 - AA-ALLI51- | F32: ANTI-HBS_LEVEL1 | G32: 0.006 | H32: 0.0221 | I32: 400.53 | J32: 1 | K32: 0.5 | L32: 50 | M32: 8.01 | N32: 58 | O32: 0
A33: 5/1/2025-5/31/2025 | C33: UI/L | D33: ACHBS | E33: 0073 - AA-ALLI114 | F33: ANTI-HBS_LEVEL1 | G33: 0.016 | H33: 0.0429 | I33: 264.58 | J33: 1 | K33: 0.5 | L33: 50 | M33: 5.29 | N33: 45 | O33: 0
A34: 5/1/2025-5/31/2025 | C34: UI/L | D34: ACHBS | E34: 0060 - AA-ALLI103 | F34: ANTI-HBS_LEVEL2 | G34: 15.79 | H34: 0.6657 | I34: 4.22 | J34: 15 | K34: 1.5 | L34: 10 | M34: 0.42 | N34: 59 | O34: 0
A35: 5/1/2025-5/31/2025 | C35: UI/L | D35: ACHBS | E35: 0066 - AA-ALLI121 | F35: ANTI-HBS_LEVEL2 | G35: 15.96 | H35: 0.6872 | I35: 4.31 | J35: 15 | K35: 1.5 | L35: 10 | M35: 0.43 | N35: 55 | O35: 0
A36: 5/1/2025-5/31/2025 | C36: UI/L | D36: ACHBS | E36: 0069 - AA-ALLI51- | F36: ANTI-HBS_LEVEL2 | G36: 15.487 | H36: 0.6017 | I36: 3.88 | J36: 15 | K36: 1.5 | L36: 10 | M36: 0.39 | N36: 58 | O36: 0
A37: 5/1/2025-5/31/2025 | C37: UI/L | D37: ACHBS | E37: 0073 - AA-ALLI114 | F37: ANTI-HBS_LEVEL2 | G37: 16.413 | H37: 0.6833 | I37: 4.16 | J37: 15 | K37: 1.5 | L37: 10 | M37: 0.42 | N37: 44 | O37: 1
A38: 5/1/2025-5/31/2025 | C38: kUI/L | D38: AFP | E38: 0058 - AA-ALLI101 | F38: TPIA_LEVEL1 | G38: 4.922 | H38: 0.1711 | I38: 3.48 | J38: 4.73 | K38: 0.2886 | L38: 6.1 | M38: 0.57 | N38: 42 | O38: 0
A39: 5/1/2025-5/31/2025 | C39: kUI/L | D39: AFP | E39: 0061 - AA-ALLI81- | F39: TPIA_LEVEL1 | G39: 4.832 | H39: 0.1765 | I39: 3.65 | J39: 4.73 | K39: 0.2886 | L39: 6.1 | M39: 0.6 | N39: 35 | O39: 1
A40: 5/1/2025-5/31/2025 | C40: kUI/L | D40: AFP | E40: 0064 - AA-ALLI71- | F40: TPIA_LEVEL1 | G40: 4.693 | H40: 0.2632 | I40: 5.61 | J40: 4.73 | K40: 0.2886 | L40: 6.1 | M40: 0.92 | N40: 32 | O40: 0
A41: 5/1/2025-5/31/2025 | C41: kUI/L | D41: AFP | E41: 0058 - AA-ALLI101 | F41: TPIA_LEVEL2 | G41: 61.088 | H41: 1.4651 | I41: 2.4 | J41: 61.6 | K41: 3.7571 | L41: 6.1 | M41: 0.39 | N41: 40 | O41: 0
... A46: 5/1/2025-5/31/2025 | C46: kUI/L | D46: AFP | E46: 0064 - AA-ALLI71- | F46: TPIA_LEVEL3 | G46: 144.505 | H46: 5.7592 | I46: 3.99 | J46: 149 | K46: 9.089 | L46: 6.1 | M46: 0.65 | N46: 43 | O46: 0
A47: 5/1/2025-5/31/2025 | D47: AGHBSI | E47: 0060 - AA-ALLI103 | F47: HBSAG_LEVEL1 | G47: 0.283 | H47: 0.0472 | I47: 16.66 | J47: 0.425 | K47: 0.2125 | L47: 50 | M47: 0.33 | N47: 56 | O47: 0
...

Sheet Feuil4
