Workbook
Name Code: [1]Liste!$A$2:$A$430
Name d: [2]Consommation!$B$3:$E$5
Name DTA_Notes: '[1]Notes DTA'!$A$7:$J$436
Name DTAP: '[1]DTA Mérite'!$A$7:$N$436
Name Exa: #REF!
Name Exa: #REF!
Name exam: #REF!
Name exam: #REF!
Name IAS3_2017_2018: [3]Etudiants!$A$2:$L$42
Name List_Session1: [3]calcul!$A$4:$A$30
Name List_Session2: [3]calcul!$A$37:$A$39
Name Liste: [1]Liste!$A$1:$G$430
Name Mat_IAS3: [3]Matières!$B$2:$G$33
Name Produits: [4]BD!$A$3:$D$13
Name RecapA: #REF!
Name RecapA: #REF!
Name Resultats_IAS3_session1: [3]calcul!$A$1:$AP$30
Name Resultats_IAS3_session2: [3]calcul!$A$34:$AQ$39
Name Tarifs: [5]Consommation!$B$3:$E$5
Name Taux_revente: [4]BD!$E$1
Name toto: CULTURE!#REF!
Name toto: CULTURE!#REF!

Sheet Identification
B3: Etudiant
B5: Classe : | C5: AS1 | E5: Année | F5: 2022/2023
B8: Nom :
B10: Prénoms :
B13: Pensez à sauvegarder régulièrement votre travail !!!

Sheet Exercice1Q1
H19: Présenter ci-dessus, le programme linéaire à résoudre

Sheet Exercice1Q2a
C2: Yaourt type A | D2: Yaourt type B | E2: Quantité utilisée | F2: Quantité maximum
B3: Fraise
B4: Lait
B5: Sucre
B7: Profit unitaire
B9: Production optimale
D11: Profit optimal
G15: Présenter ci-dessus, le programme linéaire à résoudre

Sheet Exercice1Q2b

Sheet Exercice_2
C6: Temps sommeil (en heures) | D6: [5, 7[ | E6: [7, 9[ | F6: [9, 11[ | G6: [11, 15[
B7: Age (en années) | C7: Centre Y Centre X | D7: =(MID(D$6,2,1)+MID(D$6,5,1))/2 -> 6 | E7: =(MID(E$6,2,1)+MID(E$6,5,1))/2 -> 8 | F7: =(MID(F$6,2,1)+MID(F$6,5,2))/2 -> 10 | G7: =(MID(G$6,2,2)+MID(G$6,6,2))/2 -> 13
B8: [1, 3[ | C8: =(MID(B8,2,1)+MID(B8,5,1))/2 -> 2 | D8: 0 | E8: 0 | F8: 2 | G8: 50 | H8: =SUM($D8:$G8) -> 52
B9: [3, 11[ | C9: =(MID(B9,2,1)+MID(B9,5,2))/2 -> 7 | D9: 0 | E9: 3 | F9: 12 | G9: 35 | H9: =SUM($D9:$G9) -> 50 | J9: r | K9: {=MMULT(MMULT(D7:G7-C42,TRANSPOSE(D8:G12)),C8:C12-C27)/H13} -> -32.888992 | M9: a | N9: b
B10: [11, 19[ | C10: =(MID(B10,2,2)+MID(B10,6,2))/2 -> 15 | D10: 2 | E10: 4 | F10: 30 | G10: 17 | H10: =SUM($D10:$G10) -> 53 | J10: Covariance | K10: =(K9)/(C29*C44) -> -0.83906849 | M10: =K9/C28 -> -0.14568737
B11: [19, 31[ | C11: =(MID(B11,2,2)+MID(B11,6,2))/2 -> 25 | D11: 2 | E11: 21 | F11: 22 | G11: 3 | H11: =SUM($D11:$G11) -> 48 | J11: R2 | K11: =(K10)^2 -> 0.70403593
B12: [31, 59[ | C12: =(MID(B12,2,2)+MID(B12,6,2))/2 -> 45 | D12: 36 | E12: 8 | F12: 3 | G12: 0 | H12: =SUM($D12:$G12) -> 47
D13: =SUM(D$8:D$12) -> 40 | E13: =SUM(E$8:E$12) -> 36 | F13: =SUM(F$8:F$12) -> 69 | G13: =SUM(G$8:G$12) -> 105 | H13: =SUM(H8:H12) -> 250
C17: Temps sommeil (en heures) | D17: [5, 7[ | E17: [7, 9[ | F17: [9, 11[ | G17: [11, 15[
B18: Age (en années) | C18: Centre Y Centre X | D18: =(MID(D$6,2,1)+MID(D$6,5,1))/2 -> 6 | E18: =(MID(E$6,2,1)+MID(E$6,5,1))/2 -> 8 | F18: =(MID(F$6,2,1)+MID(F$6,5,2))/2 -> 10 | G18: =(MID(G$6,2,2)+MID(G$6,6,2))/2 -> 13
B19: [1, 3[ | C19: =(MID(B19,2,1)+MID(B19,5,1))/2 -> 2 | D19: {=D8:H13/H8:H13%} -> 0 | E19: 0 | F19: 3.8461538 | G19: 96.153846 | H19: 100
B20: [3, 11[ | C20: =(MID(B20,2,1)+MID(B20,5,2))/2 -> 7 | D20: 0 | E20: 6 | F20: 24 | G20: 70 | H20: 100
B21: [11, 19[ | C21: =(MID(B21,2,2)+MID(B21,6,2))/2 -> 15 | D21: 3.7735849 | E21: 7.5471698 | F21: 56.603774 | G21: 32.075472 | H21: 100
B22: [19, 31[ | C22: =(MID(B22,2,2)+MID(B22,6,2))/2 -> 25 | D22: 4.1666667 | E22: 43.75 | F22: 45.833333 | G22: 6.25 | H22: 100
B23: [31, 59[ | C23: =(MID(B23,2,2)+MID(B23,6,2))/2 -> 45 | D23: 76.595745 | E23: 17.021277 | F23: 6.3829787 | G23: 0 | H23: 100
D24: 16 | E24: 14.4 | F24: 27.6 | G24: 42 | H24: 100
B27: Moyenne | C27: =SUMPRODUCT(C8:C12,H8:H12)/H13 -> 18.256
B28: Variance | C28: {=SUMPRODUCT(H8:H12,C8:C12-C27,C8:C12-C27)/H13} -> 225.75046
B29: Ecart-type | C29: =SQRT(C28) -> 15.024995
C31: Temps sommeil (en heures) | D31: [5, 7[ | E31: [7, 9[ | F31: [9, 11[ | G31: [11, 15[
B32: Age (en années) | C32: Centre Y Centre X | D32: =(MID(D$6,2,1)+MID(D$6,5,1))/2 -> 6 | E32: =(MID(E$6,2,1)+MID(E$6,5,1))/2 -> 8 | F32: =(MID(F$6,2,1)+MID(F$6,5,2))/2 -> 10 | G32: =(MID(G$6,2,2)+MID(G$6,6,2))/2 -> 13
B33: [1, 3[ | C33: =(MID(B33,2,1)+MID(B33,5,1))/2 -> 2 | D33: {=D8:H13/D13:H13%} -> 0 | E33: 0 | F33: 2.8985507 | G33: 47.619048 | H33: 20.8
B34: [3, 11[ | C34: =(MID(B34,2,1)+MID(B34,5,2))/2 -> 7 | D34: 0 | E34: 8.3333333 | F34: 17.391304 | G34: 33.333333 | H34: 20
B35: [11, 19[ | C35: =(MID(B35,2,2)+MID(B35,6,2))/2 -> 15 | D35: 5 | E35: 11.111111 | F35: 43.478261 | G35: 16.190476 | H35: 21.2
B36: [19, 31[ | C36: =(MID(B36,2,2)+MID(B36,6,2))/2 -> 25 | D36: 5 | E36: 58.333333 | F36: 31.884058 | G36: 2.8571429 | H36: 19.2
B37: [31, 59[ | C37: =(MID(B37,2,2)+MID(B37,6,2))/2 -> 45 | D37: 90 | E37: 22.222222 | F37: 4.3478261 | G37: 0 | H37: 18.8
D38: 100 | E38: 100 | F38: 100 | G38: 100 | H38: 100
B42: Moyenne | C42: {=SUMPRODUCT(D7:G7,D13:G13)/H13} -> 10.332
B43: Variance | C43: {=SUMPRODUCT(D13:G13,D7:G7-C42,D7:G7-C42)/H13} -> 6.805776
B44: Ecart-type | C44: =SQRT(C43) -> 2.6087882
C46: Temps sommeil (en heures) | D46: [5, 7[ | E46: [7, 9[ | F46: [9, 11[ | G46: [11, 15[
B47: Age (en années) | C47: Centre Y Centre X | D47: =(MID(D$6,2,1)+MID(D$6,5,1))/2 -> 6 | E47: =(MID(E$6,2,1)+MID(E$6,5,1))/2 -> 8 | F47: =(MID(F$6,2,1)+MID(F$6,5,2))/2 -> 10 | G47: =(MID(G$6,2,2)+MID(G$6,6,2))/2 -> 13
B48: [1, 3[ | C48: =(MID(B48,2,1)+MID(B48,5,1))/2 -> 2 | D48: {=D8:H13/H13%} -> 0 | E48: 0 | F48: 0.8 | G48: 20 | H48: 20.8
B49: [3, 11[ | C49: =(MID(B49,2,1)+MID(B49,5,2))/2 -> 7 | D49: 0 | E49: 1.2 | F49: 4.8 | G49: 14 | H49: 20
B50: [11, 19[ | C50: =(MID(B50,2,2)+MID(B50,6,2))/2 -> 15 | D50: 0.8 | E50: 1.6 | F50: 12 | G50: 6.8 | H50: 21.2
B51: [19, 31[ | C51: =(MID(B51,2,2)+MID(B51,6,2))/2 -> 25 | D51: 0.8 | E51: 8.4 | F51: 8.8 | G51: 1.2 | H51: 19.2
B52: [31, 59[ | C52: =(MID(B52,2,2)+MID(B52,6,2))/2 -> 45 | D52: 14.4 | E52: 3.2 | F52: 1.2 | G52: 0 | H52: 18.8
D53: 16 | E53: 14.4 | F53: 27.6 | G53: 42 | H53: 100

Sheet FAMILLE
A1: NoFamille | B1: NomChef | C1: NbPièces | D1: Propriétaire | E1: NoVillage | G1: NoVillage | H1: NomVillage | I1: Département
A2: 1 | B2: Njikam | C2: 3 | D2: TRUE | E2: 1 | G2: 1 | H2: Ngomedzap | I2: 1
A3: 2 | B3: Moussango | C3: 5 | D3: FALSE | E3: 1 | G3: 2 | H3: Meyonmessala | I3: 1
A4: 3 | B4: Mampassi | C4: 7 | D4: FALSE | E4: 1 | G4: 3 | H4: Mokolo | I4: 2
A5: 4 | B5: Simo | C5: 5 | D5: FALSE | E5: 1 | G5: 4 | H5: Akala-Awae | I5: 7
A6: 5 | B6: Mbomiko | C6: 3 | D6: TRUE | E6: 1 | G6: 5 | H6: Baloum | I6: 5
A7: 6 | B7: Epang | C7: 4 | D7: FALSE | E7: 1 | G7: 6 | H7: Bamendjou | I7: 5
A8: 7 | B8: Njipseu | C8: 4 | D8: FALSE | E8: 1 | G8: 7 | H8: Bamoungoum | I8: 15
A9: 8 | B9: Sibeuwou | C9: 6 | D9: TRUE | E9: 1 | G9: 8 | H9: Bangwoua | I9: 17
A10: 9 | B10: Nanfosso | C10: 4 | D10: FALSE | E10: 1 | G10: 9 | H10: Bansoa | I10: 15
A11: 10 | B11: Njonga | C11: 5 | D11: FALSE | E11: 1 | G11: 10 | H11: Biteng | I11: 12
A12: 11 | B12: Onambélé | C12: 4 | D12: TRUE | E12: 1 | G12: 11 | H12: Eseka | I12: 12
A13: 12 | B13: Tchientcheu | C13: 4 | D13: FALSE | E13: 1 | G13: 12 | H13: Metet | I13: 13
... A23: 22 | B23: Bikoro | C23: 6 | D23: FALSE | E23: 2 | G23: 22 | H23: Omvan | I23: 12
A24: 23 | B24: Epang | C24: 4 | D24: TRUE | E24: 2
A25: 24 | B25: Fouda | C25: 4 | D25: TRUE | E25: 2
A26: 25 | B26: Ntolo | C26: 4 | D26: FALSE | E26: 3
A27: 26 | B27: Ngandziana | C27: 4 | D27: FALSE | E27: 3
A28: 27 | B28: Tankeu | C28: 5 | D28: TRUE | E28: 3
A29: 28 | B29: Kassaimon | C29: 6 | D29: TRUE | E29: 3
A30: 29 | B30: Elom | C30: 3 | D30: TRUE | E30: 3
A31: 30 | B31: Kenne | C31: 4 | D31: TRUE | E31: 3
A32: 31 | B32: Obama | C32: 4 | D32: FALSE | E32: 3
A33: 32 | B33: Manga | C33: 5 | D33: TRUE | E33: 3
A34: 33 | B34: Ndong | C34: 5 | D34: FALSE | E34: 3
A35: 34 | B35: Mabélé | C35: 3 | D35: FALSE | E35: 3
... A328: 329 | B328: Pankreo | C328: 5 | D328: TRUE | E328: 12

Sheet ELEVAGE
A1: NoFamille | B1: NoElevage | C1: QtéElevée | E1: NoElevage | F1: NomElevage | G1: CatégorieElevage
A2: 1 | B2: 2 | C2: 3 | E2: 1 | F2: bœuf | G2: bovin
A3: 1 | B3: 3 | C3: 1 | E3: 2 | F3: veau | G3: bovin
A4: 1 | B4: 7 | C4: 4 | E4: 3 | F4: poulet | G4: volaille
A5: 3 | B5: 1 | C5: 1 | E5: 4 | F5: dindon | G5: volaille
A6: 3 | B6: 3 | C6: 11 | E6: 5 | F6: chèvre | G6: caprin
A7: 3 | B7: 5 | C7: 1 | E7: 6 | F7: porc | G7: porcin
A8: 3 | B8: 6 | C8: 1 | E8: 7 | F8: mouton | G8: ovin
A9: 3 | B9: 7 | C9: 4
A10: 8 | B10: 2 | C10: 3
A11: 8 | B11: 5 | C11: 8
A12: 8 | B12: 6 | C12: 8
A13: 15 | B13: 3 | C13: 2
A14: 15 | B14: 5 | C14: 4
A15: 15 | B15: 6 | C15: 4
A16: 15 | B16: 7 | C16: 3
A17: 21 | B17: 3 | C17: 3
A18: 21 | B18: 5 | C18: 5
A19: 21 | B19: 6 | C19: 5
A20: 21 | B20: 7 | C20: 5
... A23: 24 | B23: 5 | C23: 8
A24: 24 | B24: 6 | C24: 8 | H24: `
A25: 24 | B25: 7 | C25: 10
A26: 28 | B26: 3 | C26: 2
A27: 28 | B27: 5 | C27: 2
A28: 28 | B28: 6 | C28: 2
A29: 28 | B29: 7 | C29: 2
A30: 30 | B30: 2 | C30: 4
A31: 30 | B31: 3 | C31: 10
A32: 30 | B32: 5 | C32: 5
A33: 30 | B33: 6 | C33: 5
A34: 30 | B34: 7 | C34: 11
A35: 32 | B35: 2 | C35: 15
A36: 32 | B36: 3 | C36: 1
... A548: 329 | B548: 2 | C548: 29

Sheet CULTURE
A1: NoParcelle | B1: Superficie | C1: Etat | D1: NoCulture | E1: QtéSémée | F1: QtéRécoltée | G1: NoFamille | I1: NoCulture | J1: NomCulture | K1: CatégorieCulture
A2: 45876 | B2: 11 | C2: Cultivée | D2: 1 | E2: 5.87 | F2: 19.42 | G2: 1 | I2: 1 | J2: blé | K2: céréale
A3: 46010 | B3: 20 | C3: Cultivée | D3: 6 | E3: 11.76 | F3: 37.09 | G3: 1 | I3: 2 | J3: maïs | K3: céréale
A4: 46100 | B4: 10 | C4: Cultivée | D4: 5 | E4: 5.85 | F4: 17.17 | G4: 1 | I4: 3 | J4: colza | K4: légume vert
A5: 46274 | B5: 3 | C5: Cultivée | D5: 5 | E5: 1.68 | F5: 3.96 | G5: 1 | I5: 4 | J5: betterave | K5: autre
A6: 46354 | B6: 6 | C6: Cultivée | D6: 5 | E6: 3.5 | F6: 8 | G6: 1 | I6: 5 | J6: carotte | K6: autre
A7: 46502 | B7: 3 | C7: Cultivée | D7: 1 | E7: 1.79 | F7: 2.24 | G7: 1 | I7: 6 | J7: choux | K7: légume vert
A8: 46535 | B8: 108 | C8: Cultivée | D8: 1 | E8: 10.78 | F8: 26.54 | G8: 1
A9: 46571 | B9: 26 | C9: Cultivée | D9: 3 | E9: 5.33 | F9: 15.37 | G9: 1
A10: 46631 | B10: 12 | C10: Cultivée | D10: 1 | E10: 16.9 | F10: 37.02 | G10: 1
A11: 46750 | B11: 20 | C11: Cultivée | D11: 5 | E11: 15.97 | F11: 54.65 | G11: 2
A12: 46817 | B12: 10 | C12: Cultivée | D12: 2 | E12: 5.21 | F12: 8.87 | G12: 2
A13: 46840 | B13: 2 | C13: Cultivée | D13: 6 | E13: 11.39 | F13: 34.1 | G13: 2
A14: 46862 | B14: 12 | C14: Cultivée | D14: 1 | E14: 5.88 | F14: 7.61 | G14: 2
A15: 47022 | B15: 29 | C15: Cultivée | D15: 6 | E15: 5.84 | F15: 20.19 | G15: 3
A16: 47211 | B16: 31 | C16: Cultivée | D16: 6 | E16: 2.98 | F16: 9.88 | G16: 3
A17: 47274 | B17: 9 | C17: Cultivée | D17: 4 | E17: 6.07 | F17: 9.23 | G17: 3
A18: 47346 | B18: 21 | C18: Cultivée | D18: 5 | E18: 15 | F18: 45.35 | G18: 3
A19: 47407 | B19: 66 | C19: Cultivée | D19: 3 | E19: 17.71 | F19: 41.09 | G19: 3
... A40: 49510 | B40: 45 | C40: Cultivée | D40: 2 | E40: 0.53 | F40: 1.46 | G40: 8
A41: 49573 | B41: 60 | C41: Jachère | G41: 8
A42: 49758 | B42: 125 | C42: Jachère | G42: 8
A43: 49911 | B43: 5 | C43: Jachère | G43: 8
A44: 50035 | B44: 19 | C44: Cultivée | D44: 5 | E44: 1.18 | F44: 2.75 | G44: 8
A45: 50132 | B45: 58 | C45: Cultivée | D45: 1 | E45: 8.05 | F45: 19.68 | G45: 8
A46: 50250 | B46: 107 | C46: Cultivée | D46: 6 | E46: 9.56 | F46: 16.37 | G46: 8
A47: 50350 | B47: 57 | C47: Cultivée | D47: 6 | E47: 5.17 | F47: 12.58 | G47: 8
A48: 50542 | B48: 123 | C48: Jachère | G48: 9
A49: 50577 | B49: 121 | C49: Jachère | G49: 9
A50: 50627 | B50: 43 | C50: Jachère | G50: 9
A51: 50744 | B51: 43 | C51: Jachère | G51: 9
A52: 50897 | B52: 20 | C52: Jachère | G52: 9
A53: 51040 | B53: 4 | C53: Jachère | G53: 10
A54: 51097 | B54: 5 | C54: Jachère | G54: 10
A55: 51227 | B55: 124 | C55: Cultivée | D55: 3 | E55: 4.13 | F55: 5.62 | G55: 10
A56: 51362 | B56: 127 | C56: Jachère | G56: 10
A57: 51519 | B57: 48 | C57: Cultivée | D57: 2 | E57: 9.84 | F57: 21.14 | G57: 10
A58: 51637 | B58: 66 | C58: Jachère | G58: 10
A59: 51784 | B59: 125 | C59: Cultivée | D59: 4 | E59: 9.92 | F59: 29.45 | G59: 10
A60: 51889 | B60: 4 | C60: Cultivée | D60: 5 | E60: 17.23 | F60: 68.13 | G60: 10
A61: 51944 | B61: 20 | C61: Jachère | G61: 11
A62: 52143 | B62: 6 | C62: Cultivée | D62: 5 | E62: 21.85 | F62: 53.43 | G62: 11
A63: 52275 | B63: 1 | C63: Cultivée | D63: 1 | E63: 19.12 | F63: 56.52 | G63: 11
A64: 52299 | B64: 2 | C64: Jachère | G64: 11
A65: 52480 | B65: 37 | C65: Jachère | G65: 11
A66: 52565 | B66: 2 | C66: Cultivée | D66: 2 | E66: 13.85 | F66: 42.9 | G66: 11
A67: 52594 | B67: 35 | C67: Jachère | G67: 11
A68: 52665 | B68: 81 | C68: Cultivée | D68: 3 | E68: 6.55 | F68: 14.71 | G68: 11
A69: 52776 | B69: 11 | C69: Cultivée | D69: 6 | E69: 11.93 | F69: 12.58 | G69: 12
A70: 52792 | B70: 2 | C70: Jachère | G70: 12
A71: 52974 | B71: 1 | C71: Jachère | G71: 12
A72: 53086 | B72: 20 | C72: Cultivée | D72: 5 | E72: 18.95 | F72: 25.82 | G72: 12
A73: 53176 | B73: 58 | C73: Cultivée | D73: 6 | E73: 6.22 | F73: 21.35 | G73: 12
A74: 53246 | B74: 3 | C74: Cultivée | D74: 5 | E74: 4.83 | F74: 9.15 | G74: 12
A75: 53274 | B75: 30 | C75: Jachère | G75: 12
A76: 53321 | B76: 71 | C76: Jachère | G76: 12
A77: 53493 | B77: 1 | C77: Jachère | G77: 13
A78: 53637 | B78: 9 | C78: Jachère | G78: 13
A79: 53823 | B79: 67 | C79: Cultivée | D79: 5 | E79: 39.53 | F79: 88.24 | G79: 13
A80: 53863 | B80: 38 | C80: Jachère | G80: 13
A81: 54062 | B81: 3 | C81: Jachère | G81: 14
A82: 54236 | B82: 2 | C82: Cultivée | D82: 2 | E82: 17.56 | F82: 39.05 | G82: 14
A83: 54254 | B83: 128 | C83: Jachère | G83: 14
A84: 54329 | B84: 112 | C84: Jachère | G84: 14
A85: 54409 | B85: 15 | C85: Cultivée | D85: 1 | E85: 69.69 | F85: 214.69 | G85: 15
A86: 54463 | B86: 16 | C86: Cultivée | D86: 4 | E86: 16.05 | F86: 35.28 | G86: 15
A87: 54617 | B87: 10 | C87: Jachère | G87: 15
A88: 54707 | B88: 9 | C88: Jachère | G88: 15
A89: 54786 | B89: 5 | C89: Jachère | G89: 15
A90: 54830 | B90: 8 | C90: Jachère | G90: 15
A91: 55026 | B91: 2 | C91: Jachère | G91: 15
A92: 55082 | B92: 82 | C92: Jachère | G92: 15
A93: 55152 | B93: 27 | C93: Jachère | G93: 16
A94: 55175 | B94: 71 | C94: Jachère | G94: 16
A95: 55283 | B95: 7 | C95: Cultivée | D95: 4 | E95: 21.95 | F95: 36.87 | G95: 17
A96: 55330 | B96: 12 | C96: Cultivée | D96: 4 | E96: 55.52 | F96: 114.1 | G96: 17
A97: 55510 | B97: 23 | C97: Jachère | G97: 17
A98: 55541 | B98: 57 | C98: Jachère | G98: 17
A99: 55618 | B99: 107 | C99: Jachère | G99: 17
A100: 55640 | B100: 7 | C100: Cultivée | D100: 5 | E100: 2.76 | F100: 4.38 | G100: 18
A101: 55729 | B101: 3 | C101: Jachère | G101: 18
A102: 55780 | B102: 18 | C102: Cultivée | D102: 4 | E102: 3.53 | F102: 10.53 | G102: 18
A103: 55885 | B103: 101 | C103: Jachère | G103: 18
A104: 55907 | B104: 110 | C104: Cultivée | D104: 3 | E104: 9.25 | F104: 26.58 | G104: 18
A105: 56095 | B105: 3 | C105: Jachère | G105: 19
A106: 56202 | B106: 18 | C106: Cultivée | D106: 4 | E106: 3.57 | F106: 12.49 | G106: 19
A107: 56221 | B107: 31 | C107: Cultivée | D107: 6 | E107: 3.34 | F107: 10.06 | G107: 19
A108: 56265 | B108: 95 | C108: Cultivée | D108: 6 | E108: 5.09 | F108: 8.69 | G108: 19
A109: 56389 | B109: 42 | C109: Cultivée | D109: 5 | E109: 23.59 | F109: 41.8 | G109: 19
A110: 56476 | B110: 23 | C110: Cultivée | D110: 6 | E110: 21.94 | F110: 50.06 | G110: 20
A111: 56632 | B111: 43 | C111: Cultivée | D111: 2 | E111: 1.77 | F111: 3.15 | G111: 20
A112: 56785 | B112: 32 | C112: Cultivée | D112: 5 | E112: 1.13 | F112: 3.6 | G112: 21
A113: 56950 | B113: 19 | C113: Cultivée | D113: 6 | E113: 3.8 | F113: 8.52 | G113: 21
A114: 57085 | B114: 27 | C114: Cultivée | D114: 2 | E114: 7.05 | F114: 8.47 | G114: 21
A115: 57265 | B115: 25 | C115: Cultivée | D115: 3 | E115: 6.71 | F115: 13.38 | G115: 21
A116: 57337 | B116: 110 | C116: Cultivée | D116: 4 | E116: 4.18 | F116: 9.75 | G116: 21
A117: 57534 | B117: 114 | C117: Cultivée | D117: 3 | E117: 4.26 | F117: 14.78 | G117: 21
... A123: 58074 | B123: 21 | C123: Cultivée | D123: 1 | E123: 18.54 | F123: 38.69 | G123: 23
A124: 58143 | B124: 8 | C124: Jachère | G124: 23
A125: 58212 | B125: 32 | C125: Cultivée | D125: 5 | E125: 8.34 | F125: 15.06 | G125: 23
...

Sheet Maquette
B2: Information relative à une famille enquêtée
B4: N° Famille | C4: 9
B6: Nom | C6: =IF(COUNTIF(FAMILLE!$A$1:$A$328,C4)=1,VLOOKUP(C4,FAMILLE!$A$1:$E$328,2,0),"cette famille n'existe pas") -> Nanfosso
B8: Propriétaire | C8: =IF(VLOOKUP(Maquette!C4,FAMILLE!$A$1:$E$328,4,0),"Oui","Non") -> Non | H8: "Oui", si la famille est propriétaire de son logement, "Non" sinon
B10: Village | C10: =VLOOKUP(VLOOKUP(Maquette!C4,FAMILLE!$A$1:$E$328,5,0),FAMILLE!$G$1:$I$23,2,0) -> Ngomedzap | H10: On veut avoir ici, le nom du village (et non le numéro)
B12: Département | C12: =VLOOKUP(VLOOKUP(C4,FAMILLE!$A$1:$E$328,5,0),FAMILLE!$G$1:$I$23,3,0) -> 1
F13: Elevage | J13: Culture
B15: Parcelle | C15: Nombre | D15: Superficie totale | F15: N° | G15: Nom Elévage | H15: Quantité | J15: N° | K15: Culture | L15: Surface semée | M15: QtéSémée | N15: QtéRécoltée | O15: Rendement
B16: Cultivée | C16: =COUNTIFS(CULTURE!$C$2:$C$984,Maquette!B16,CULTURE!$G$2:$G$984,Maquette!$C$4) -> 0 | D16: =SUMIFS(CULTURE!$B$2:$B$984,CULTURE!$C$2:$C$984,Maquette!B16,CULTURE!$G$2:$G$984,Maquette!$C$4) -> 0 | F16: 1 | G16: =VLOOKUP(F16,ELEVAGE!$E$1:$G$8,2,0) -> bœuf | H16: =SUMIFS(ELEVAGE!$C$2:$C$548,ELEVAGE!$B$2:$B$548,F16,ELEVAGE!$A$2:$A$548,$C$4) -> 0 | J16: 1 | K16: =VLOOKUP(J16,CULTURE!$I$1:$K$7,2,0) -> blé | L16: =SUMIFS(CULTURE!$B$2:$B$984,CULTURE!$D$2:$D$984,Maquette!J16,CULTURE!$G$2:$G$984,Maquette!$C$4) -> 0 | M16: =SUMIFS(CULTURE!$E$2:$E$984,CULTURE!$G$2:$G$984,Maquette!$C$4,CULTURE!$D$2:$D$984,Maquette!J16) -> 0 | N16: =SUMIFS(CULTURE!$F$2:$F$984,CULTURE!$G$2:$G$984,Maquette!$C$4,CULTURE!$D$2:$D$984,Maquette!J16) -> 0 | O16: =IF(L16<>0,M16/L16,0) -> 0
B17: Jachère | C17: =COUNTIFS(CULTURE!$C$2:$C$984,Maquette!B17,CULTURE!$G$2:$G$984,Maquette!$C$4) -> 5 | D17: =SUMIFS(CULTURE!$B$2:$B$984,CULTURE!$C$2:$C$984,Maquette!B17,CULTURE!$G$2:$G$984,Maquette!$C$4) -> 350 | F17: 2 | G17: =VLOOKUP(F17,ELEVAGE!$E$1:$G$8,2,0) -> veau | H17: =SUMIFS(ELEVAGE!$C$2:$C$548,ELEVAGE!$B$2:$B$548,F17,ELEVAGE!$A$2:$A$548,$C$4) -> 0 | J17: 2 | K17: =VLOOKUP(J17,CULTURE!$I$1:$K$7,2,0) -> maïs | L17: =SUMIFS(CULTURE!$B$2:$B$984,CULTURE!$D$2:$D$984,Maquette!J17,CULTURE!$G$2:$G$984,Maquette!$C$4) -> 0 | M17: =SUMIFS(CULTURE!$E$2:$E$984,CULTURE!$G$2:$G$984,Maquette!$C$4,CULTURE!$D$2:$D$984,Maquette!J17) -> 0 | N17: =SUMIFS(CULTURE!$F$2:$F$984,CULTURE!$G$2:$G$984,Maquette!$C$4,CULTURE!$D$2:$D$984,Maquette!J17) -> 0 | O17: =IF(L17<>0,M17/L17,0) -> 0
B18: Total | C18: =SUM(C16:C17) -> 5 | D18: =SUM(D16:D17) -> 350 | F18: 3 | G18: =VLOOKUP(F18,ELEVAGE!$E$1:$G$8,2,0) -> poulet | H18: =SUMIFS(ELEVAGE!$C$2:$C$548,ELEVAGE!$B$2:$B$548,F18,ELEVAGE!$A$2:$A$548,$C$4) -> 0 | J18: 3 | K18: =VLOOKUP(J18,CULTURE!$I$1:$K$7,2,0) -> colza | L18: =SUMIFS(CULTURE!$B$2:$B$984,CULTURE!$D$2:$D$984,Maquette!J18,CULTURE!$G$2:$G$984,Maquette!$C$4) -> 0 | M18: =SUMIFS(CULTURE!$E$2:$E$984,CULTURE!$G$2:$G$984,Maquette!$C$4,CULTURE!$D$2:$D$984,Maquette!J18) -> 0 | N18: =SUMIFS(CULTURE!$F$2:$F$984,CULTURE!$G$2:$G$984,Maquette!$C$4,CULTURE!$D$2:$D$984,Maquette!J18) -> 0 | O18: =IF(L18<>0,M18/L18,0) -> 0
F19: 4 | G19: =VLOOKUP(F19,ELEVAGE!$E$1:$G$8,2,0) -> dindon | H19: =SUMIFS(ELEVAGE!$C$2:$C$548,ELEVAGE!$B$2:$B$548,F19,ELEVAGE!$A$2:$A$548,$C$4) -> 0 | J19: 4 | K19: =VLOOKUP(J19,CULTURE!$I$1:$K$7,2,0) -> betterave | L19: =SUMIFS(CULTURE!$B$2:$B$984,CULTURE!$D$2:$D$984,Maquette!J19,CULTURE!$G$2:$G$984,Maquette!$C$4) -> 0 | M19: =SUMIFS(CULTURE!$E$2:$E$984,CULTURE!$G$2:$G$984,Maquette!$C$4,CULTURE!$D$2:$D$984,Maquette!J19) -> 0 | N19: =SUMIFS(CULTURE!$F$2:$F$984,CULTURE!$G$2:$G$984,Maquette!$C$4,CULTURE!$D$2:$D$984,Maquette!J19) -> 0 | O19: =IF(L19<>0,M19/L19,0) -> 0
F20: 5 | G20: =VLOOKUP(F20,ELEVAGE!$E$1:$G$8,2,0) -> chèvre | H20: =SUMIFS(ELEVAGE!$C$2:$C$548,ELEVAGE!$B$2:$B$548,F20,ELEVAGE!$A$2:$A$548,$C$4) -> 0 | J20: 5 | K20: =VLOOKUP(J20,CULTURE!$I$1:$K$7,2,0) -> carotte | L20: =SUMIFS(CULTURE!$B$2:$B$984,CULTURE!$D$2:$D$984,Maquette!J20,CULTURE!$G$2:$G$984,Maquette!$C$4) -> 0 | M20: =SUMIFS(CULTURE!$E$2:$E$984,CULTURE!$G$2:$G$984,Maquette!$C$4,CULTURE!$D$2:$D$984,Maquette!J20) -> 0 | N20: =SUMIFS(CULTURE!$F$2:$F$984,CULTURE!$G$2:$G$984,Maquette!$C$4,CULTURE!$D$2:$D$984,Maquette!J20) -> 0 | O20: =IF(L20<>0,M20/L20,0) -> 0
F21: 6 | G21: =VLOOKUP(F21,ELEVAGE!$E$1:$G$8,2,0) -> porc | H21: =SUMIFS(ELEVAGE!$C$2:$C$548,ELEVAGE!$B$2:$B$548,F21,ELEVAGE!$A$2:$A$548,$C$4) -> 0 | J21: 6 | K21: =VLOOKUP(J21,CULTURE!$I$1:$K$7,2,0) -> choux | L21: =SUMIFS(CULTURE!$B$2:$B$984,CULTURE!$D$2:$D$984,Maquette!J21,CULTURE!$G$2:$G$984,Maquette!$C$4) -> 0 | M21: =SUMIFS(CULTURE!$E$2:$E$984,CULTURE!$G$2:$G$984,Maquette!$C$4,CULTURE!$D$2:$D$984,Maquette!J21) -> 0 | N21: =SUMIFS(CULTURE!$F$2:$F$984,CULTURE!$G$2:$G$984,Maquette!$C$4,CULTURE!$D$2:$D$984,Maquette!J21) -> 0 | O21: =IF(L21<>0,M21/L21,0) -> 0
F22: 7 | G22: =VLOOKUP(F22,ELEVAGE!$E$1:$G$8,2,0) -> mouton | H22: =SUMIFS(ELEVAGE!$C$2:$C$548,ELEVAGE!$B$2:$B$548,F22,ELEVAGE!$A$2:$A$548,$C$4) -> 0 | J22: Ensemble | L22: =SUM(L16:L21) -> 0 | M22: =SUM(M16:M21) -> 0 | N22: =SUM(N16:N21) -> 0
F23: Total | H23: =SUM(H16:H22) -> 0
B27: La seule information à saisir ici, c'est le numéro de la famille. Toutes les autres doivent être determinées à l'aide des formules appropriées !

Sheet 3Q3
A6: NoFamille | B6: NomChef | C6: NbPièces | D6: Propriétaire | E6: NoVillage
A7: 1 | B7: Njikam | C7: 3 | D7: TRUE | E7: 1
A8: 2 | B8: Moussango | C8: 5 | D8: FALSE | E8: 1
A9: 3 | B9: Mampassi | C9: 7 | D9: FALSE | E9: 1
A10: 4 | B10: Simo | C10: 5 | D10: FALSE | E10: 1
A11: 5 | B11: Mbomiko | C11: 3 | D11: TRUE | E11: 1
A12: 6 | B12: Epang | C12: 4 | D12: FALSE | E12: 1
A13: 7 | B13: Njipseu | C13: 4 | D13: FALSE | E13: 1
A14: 8 | B14: Sibeuwou | C14: 6 | D14: TRUE | E14: 1
A15: 9 | B15: Nanfosso | C15: 4 | D15: FALSE | E15: 1
A16: 10 | B16: Njonga | C16: 5 | D16: FALSE | E16: 1
A17: 11 | B17: Onambélé | C17: 4 | D17: TRUE | E17: 1
A18: 12 | B18: Tchientcheu | C18: 4 | D18: FALSE | E18: 1
... A333: 329 | B333: Pankreo | C333: 5 | D333: TRUE | E333: 12

Sheet A

Sheet B

Sheet Feuil1
A2: NoFamille | B2: NomChef | C2: NbPièces | D2: Propriétaire | E2: NoVillage
A3: 200 | B3: Mouchard | C3: 6 | D3: TRUE | E3: 16
