Workbook

Sheet DONNÉES
A1: test
A4: groupe
A5: gerard
A6: patrick
A7: jean
A8: anissa
A9: Laetitia
A10: Momo
A11: Yves
A12: Alexandre
A14: JOURS FÉRIÉS
A15: ANNÉE | B15: 2027
A16: Fériés fixes | B16: Dates
A17: Jour de l'an | B17: =DATE($B$15,1,1) -> 46388 | C17: =DATE($B$15,1,1) -> 46388
A18: Lundi de Pâques | B18: =$B$29+1 -> 46475 | C18: =$B$29+1 -> 46475
A19: Fête du travail | B19: =DATE($B$15,5,1) -> 46508 | C19: =DATE($B$15,5,1) -> 46508
A20: Liberation 1945 | B20: =DATE($B$15,5,8) -> 46515 | C20: =DATE($B$15,5,8) -> 46515
A21: Ascension | B21: =$B$29+39 -> 46513 | C21: =$B$29+39 -> 46513
A22: Fête nationale | B22: =DATE($B$15,7,14) -> 46582 | C22: =DATE($B$15,7,14) -> 46582
A23: Lundi de Pentecôte | B23: =$B$29+50 -> 46524 | C23: =$B$29+50 -> 46524
A24: Assomption | B24: =DATE($B$15,8,15) -> 46614 | C24: =DATE($B$15,8,15) -> 46614
A25: Toussaint | B25: =DATE($B$15,11,1) -> 46692 | C25: =DATE($B$15,11,1) -> 46692
A26: Armistice 1918 | B26: =DATE($B$15,11,11) -> 46702 | C26: =DATE($B$15,11,11) -> 46702
A27: Noël | B27: =DATE($B$15,12,25) -> 46746 | C27: =DATE($B$15,12,25) -> 46746
A28: Fériés variables | B28: Dates
A29: Pâques | B29: =FLOOR(DAY(MINUTE(B15/38)/2+56)&"/5/"&B15,7)-34 -> 46474
A30: Lundi de Pâques | B30: =$B$29+1 -> 46475
A31: Ascension | B31: =$B$29+39 -> 46513
A32: Pentecôte | B32: =B29+49 -> 46523
A33: Lundi de Pentecôte | B33: =$B$29+50 -> 46524

Sheet forum
A1: test
A3: 46508
B5: DATE NUMERIQUE | C5: NB.SI.ENS
A6: =TEXT(B6,"jjj jj") -> sam. 01 | B6: =DATE(YEAR(A3),MONTH(A3),1) -> 46508 | C6: =COUNTIFS(DONNÉES!$B$17:$B$27,B6)=1 -> TRUE
A7: =TEXT(B7,"jjj jj") -> dim. 02 | B7: =B6+1 -> 46509 | C7: =COUNTIFS(DONNÉES!$B$17:$B$27,B7)=1 -> FALSE
A8: =TEXT(B8,"jjj jj") -> lun. 03 | B8: =B7+1 -> 46510 | C8: =COUNTIFS(DONNÉES!$B$17:$B$27,B8)=1 -> FALSE
A9: =TEXT(B9,"jjj jj") -> mar. 04 | B9: =B8+1 -> 46511 | C9: =COUNTIFS(DONNÉES!$B$17:$B$27,B9)=1 -> FALSE
A10: =TEXT(B10,"jjj jj") -> mer. 05 | B10: =B9+1 -> 46512 | C10: =COUNTIFS(DONNÉES!$B$17:$B$27,B10)=1 -> FALSE
A11: =TEXT(B11,"jjj jj") -> jeu. 06 | B11: =B10+1 -> 46513 | C11: =COUNTIFS(DONNÉES!$B$17:$B$27,B11)=1 -> TRUE
A12: =TEXT(B12,"jjj jj") -> ven. 07 | B12: =B11+1 -> 46514 | C12: =COUNTIFS(DONNÉES!$B$17:$B$27,B12)=1 -> FALSE
A13: =TEXT(B13,"jjj jj") -> sam. 08 | B13: =B12+1 -> 46515 | C13: =COUNTIFS(DONNÉES!$B$17:$B$27,B13)=1 -> TRUE
A14: =TEXT(B14,"jjj jj") -> dim. 09 | B14: =B13+1 -> 46516 | C14: =COUNTIFS(DONNÉES!$B$17:$B$27,B14)=1 -> FALSE
A15: =TEXT(B15,"jjj jj") -> lun. 10 | B15: =B14+1 -> 46517 | C15: =COUNTIFS(DONNÉES!$B$17:$B$27,B15)=1 -> FALSE
A16: =TEXT(B16,"jjj jj") -> mar. 11 | B16: =B15+1 -> 46518 | C16: =COUNTIFS(DONNÉES!$B$17:$B$27,B16)=1 -> FALSE
A17: =TEXT(B17,"jjj jj") -> mer. 12 | B17: =B16+1 -> 46519 | C17: =COUNTIFS(DONNÉES!$B$17:$B$27,B17)=1 -> FALSE
A18: =TEXT(B18,"jjj jj") -> jeu. 13 | B18: =B17+1 -> 46520 | C18: =COUNTIFS(DONNÉES!$B$17:$B$27,B18)=1 -> FALSE
... A36: =TEXT(B36,"jjj jj") -> lun. 31 | B36: =B35+1 -> 46538 | C36: =COUNTIFS(DONNÉES!$B$17:$B$27,B36)=1 -> FALSE
