Workbook

Sheet Cool'emprunt
B3: COOL'EMPRUNT V21.2
B10: LOGICIEL AUTOMATISE DE
B11: BUSINESS PLAN FINANCIER
B15: (CONCOUR BANCAIRE)

Sheet Guide_d'utilisation
A1: GUIDE D'UTILISATION
A7: 1- RENSEIGNER SOIGNESEMENT LA BASE D'INFORMATION
A9: 2-MODIFIER la partie ETUDE et STRATEGIE et l'adapter à notre entreprise
A11: 3-MODIFIER les informations à l'ouverture et l'adapter à notre entreprise
A13: 4-MODIFIER les feuilles de couleur blue et l'adapter à notre entreprise
A15: 5-imprimer les differentes parties et ranger selon le sommaire

Sheet BASE_INFORMATION
A1: BASE D'INFORMATION | F1: COOL'EMPRUNT V21.2
A3: NOM DE L'ENTREPRISE | C3: MBC
A4: CONTACT
A5: ADDRESSE
A6: N°DE COMPTE BANCAIRE | F6: LOGICIEL AUTOMATISE DE
A7: MONTANT DE L'EMPRUNT : | C7: 10000000 | M7: 0 | S7: 0 | T7: 0
A8: TAUX D'INTERET (annuel) : | C8: 0.08
A9: DUREE (mois) : | C9: 24 | F9: BUSINESS PLAN FINANCIER
A10: ANNEES à renseigner | F10: (CONCOUR BANCAIRE)
A11: ANNEE actuelle ( N ) | D11: 2025
A12: ANNEES PREVISIONNELLES
A13: N+1 | B13: N+2 | C13: N+3 | D13: N+4 | E13: N+5
A14: 2026 | B14: 2027 | C14: 2028 | D14: 2029 | E14: 2030

Sheet TABL-AMORT-EMPR_-5ans
A1: TABLEAU D'AMORTISSEMENT DE L'EMPRUNT
C2: Periode en mois : | D2: =BASE_INFORMATION!C9 -> 24 | E2: Taux d'intérèt : | F2: =BASE_INFORMATION!C8 -> 0.08
A3: Année | B3: Mois | C3: Emprunt en debut période | D3: Amortissement | E3: Intérèt | F3: Mensualité
A4: TOTAL | C4: =BASE_INFORMATION!C7:E7 -> 10000000 | D4: - | E4: - | F4: -
A5: =+'TABl-Amort-Annuel-Emprt'!A6 -> 2026 | B5: Janvier | C5: =+C4 -> 10000000 | D5: =$C$4/$D$2 -> 416666.67 | E5: =+C5*$F$2/12 -> 66666.667 | F5: =+D5+E5 -> 483333.33
B6: Fevrier | C6: =C5-D5 -> 9583333.3 | D6: =$C$4/$D$2 -> 416666.67 | E6: =+C6*$F$2/12 -> 63888.889 | F6: =+D6+E6 -> 480555.56
B7: Mars | C7: =C6-D6 -> 9166666.7 | D7: =$C$4/$D$2 -> 416666.67 | E7: =+C7*$F$2/12 -> 61111.111 | F7: =+D7+E7 -> 477777.78
B8: Avril | C8: =C7-D7 -> 8750000 | D8: =$C$4/$D$2 -> 416666.67 | E8: =+C8*$F$2/12 -> 58333.333 | F8: =+D8+E8 -> 475000
B9: Mai | C9: =C8-D8 -> 8333333.3 | D9: =$C$4/$D$2 -> 416666.67 | E9: =+C9*$F$2/12 -> 55555.556 | F9: =+D9+E9 -> 472222.22
B10: Juin | C10: =C9-D9 -> 7916666.7 | D10: =$C$4/$D$2 -> 416666.67 | E10: =+C10*$F$2/12 -> 52777.778 | F10: =+D10+E10 -> 469444.44
B11: Juillet | C11: =C10-D10 -> 7500000 | D11: =$C$4/$D$2 -> 416666.67 | E11: =+C11*$F$2/12 -> 50000 | F11: =+D11+E11 -> 466666.67
B12: Aout | C12: =C11-D11 -> 7083333.3 | D12: =$C$4/$D$2 -> 416666.67 | E12: =+C12*$F$2/12 -> 47222.222 | F12: =+D12+E12 -> 463888.89
B13: Septembre | C13: =C12-D12 -> 6666666.7 | D13: =$C$4/$D$2 -> 416666.67 | E13: =+C13*$F$2/12 -> 44444.444 | F13: =+D13+E13 -> 461111.11
B14: Octobre | C14: =C13-D13 -> 6250000 | D14: =$C$4/$D$2 -> 416666.67 | E14: =+C14*$F$2/12 -> 41666.667 | F14: =+D14+E14 -> 458333.33
B15: Novembre | C15: =C14-D14 -> 5833333.3 | D15: =$C$4/$D$2 -> 416666.67 | E15: =+C15*$F$2/12 -> 38888.889 | F15: =+D15+E15 -> 455555.56
B16: Decembre | C16: =C15-D15 -> 5416666.7 | D16: =$C$4/$D$2 -> 416666.67 | E16: =+C16*$F$2/12 -> 36111.111 | F16: =+D16+E16 -> 452777.78
A17: TOTAL | C17: =+C16 -> 5416666.7 | D17: =SUM(D5:D16) -> 5000000 | E17: =SUM(E5:E16) -> 616666.67 | F17: =SUM(F4:F16) -> 5616666.7
A18: =+'TABl-Amort-Annuel-Emprt'!A7 -> 2027 | B18: Janvier | C18: =C16-D16 -> 5000000 | D18: =$C$4/$D$2 -> 416666.67 | E18: =+C18*$F$2/12 -> 33333.333 | F18: =+D18+E18 -> 450000
B19: Fevrier | C19: =+C18-D18 -> 4583333.3 | D19: =$C$4/$D$2 -> 416666.67 | E19: =+C19*$F$2/12 -> 30555.556 | F19: =+D19+E19 -> 447222.22
B20: Mars | C20: =+C19-D19 -> 4166666.7 | D20: =$C$4/$D$2 -> 416666.67 | E20: =+C20*$F$2/12 -> 27777.778 | F20: =+D20+E20 -> 444444.44
B21: Avril | C21: =+C20-D20 -> 3750000 | D21: =$C$4/$D$2 -> 416666.67 | E21: =+C21*$F$2/12 -> 25000 | F21: =+D21+E21 -> 441666.67
B22: Mai | C22: =+C21-D21 -> 3333333.3 | D22: =$C$4/$D$2 -> 416666.67 | E22: =+C22*$F$2/12 -> 22222.222 | F22: =+D22+E22 -> 438888.89
B23: Juin | C23: =+C22-D22 -> 2916666.7 | D23: =$C$4/$D$2 -> 416666.67 | E23: =+C23*$F$2/12 -> 19444.444 | F23: =+D23+E23 -> 436111.11
B24: Juillet | C24: =+C23-D23 -> 2500000 | D24: =$C$4/$D$2 -> 416666.67 | E24: =+C24*$F$2/12 -> 16666.667 | F24: =+D24+E24 -> 433333.33
B25: Aout | C25: =+C24-D24 -> 2083333.3 | D25: =$C$4/$D$2 -> 416666.67 | E25: =+C25*$F$2/12 -> 13888.889 | F25: =+D25+E25 -> 430555.56
B26: Septembre | C26: =+C25-D25 -> 1666666.7 | D26: =$C$4/$D$2 -> 416666.67 | E26: =+C26*$F$2/12 -> 11111.111 | F26: =+D26+E26 -> 427777.78
B27: Octobre | C27: =+C26-D26 -> 1250000 | D27: =$C$4/$D$2 -> 416666.67 | E27: =+C27*$F$2/12 -> 8333.3333 | F27: =+D27+E27 -> 425000
B28: Novembre | C28: =+C27-D27 -> 833333.33 | D28: =$C$4/$D$2 -> 416666.67 | E28: =+C28*$F$2/12 -> 5555.5556 | F28: =+D28+E28 -> 422222.22
B29: Decembre | C29: =+C28-D28 -> 416666.67 | D29: =$C$4/$D$2 -> 416666.67 | E29: =+C29*$F$2/12 -> 2777.7778 | F29: =+D29+E29 -> 419444.44
A30: TOTAL | C30: =+C29 -> 416666.67 | D30: =SUM(D18:D29) -> 5000000 | E30: =SUM(E18:E29) -> 216666.67 | F30: =+D30+E30 -> 5216666.7
A31: =+'TABl-Amort-Annuel-Emprt'!A8 -> 2028 | B31: Janvier | C31: =C29-D29 -> -8.1490725e-10 | D31: =$C$4/$D$2 -> 416666.67 | E31: =+C31*$F$2/12 -> -5.432715e-12 | F31: =+D31+E31 -> 416666.67
B32: Fevrier | C32: =+C31-D31 -> -416666.67 | D32: =$C$4/$D$2 -> 416666.67 | E32: =+C32*$F$2/12 -> -2777.7778 | F32: =+D32+E32 -> 413888.89
B33: Mars | C33: =+C32-D32 -> -833333.33 | D33: =$C$4/$D$2 -> 416666.67 | E33: =+C33*$F$2/12 -> -5555.5556 | F33: =+D33+E33 -> 411111.11
B34: Avril | C34: =+C33-D33 -> -1250000 | D34: =$C$4/$D$2 -> 416666.67 | E34: =+C34*$F$2/12 -> -8333.3333 | F34: =+D34+E34 -> 408333.33
B35: Mai | C35: =+C34-D34 -> -1666666.7 | D35: =$C$4/$D$2 -> 416666.67 | E35: =+C35*$F$2/12 -> -11111.111 | F35: =+D35+E35 -> 405555.56
B36: Juin | C36: =+C35-D35 -> -2083333.3 | D36: =$C$4/$D$2 -> 416666.67 | E36: =+C36*$F$2/12 -> -13888.889 | F36: =+D36+E36 -> 402777.78
B37: Juillet | C37: =+C36-D36 -> -2500000 | D37: =$C$4/$D$2 -> 416666.67 | E37: =+C37*$F$2/12 -> -16666.667 | F37: =+D37+E37 -> 400000
B38: Aout | C38: =+C37-D37 -> -2916666.7 | D38: =$C$4/$D$2 -> 416666.67 | E38: =+C38*$F$2/12 -> -19444.444 | F38: =+D38+E38 -> 397222.22
B39: Septembre | C39: =+C38-D38 -> -3333333.3 | D39: =$C$4/$D$2 -> 416666.67 | E39: =+C39*$F$2/12 -> -22222.222 | F39: =+D39+E39 -> 394444.44
B40: Octobre | C40: =+C39-D39 -> -3750000 | D40: =$C$4/$D$2 -> 416666.67 | E40: =+C40*$F$2/12 -> -25000 | F40: =+D40+E40 -> 391666.67
...

Sheet TABl-Amort-Annuel-Emprt
A2: 1-TABLEAU D'AMORTISSEMENT ANNUEL DE L'EMPRUNT
D3: Taux d'intérèt(an) : | E3: =BASE_INFORMATION!C8 -> 0.08
A5: ANNEES | B5: Emprunt en debut de période | C5: Amortissement | D5: Intérèt | E5: ANNUITE
A6: =+BASE_INFORMATION!A14 -> 2026 | B6: =+'TABL-AMORT-EMPR_-5ans'!C4 -> 10000000 | C6: =+'TABL-AMORT-EMPR_-5ans'!D17 -> 5000000 | D6: =+'TABL-AMORT-EMPR_-5ans'!E17 -> 616666.67 | E6: =+C6+D6 -> 5616666.7
A7: =+BASE_INFORMATION!B14 -> 2027 | B7: =+'TABL-AMORT-EMPR_-5ans'!C18 -> 5000000 | C7: =+'TABL-AMORT-EMPR_-5ans'!D30 -> 5000000 | D7: =+'TABL-AMORT-EMPR_-5ans'!E30 -> 216666.67 | E7: =+C7+D7 -> 5216666.7
A8: =+BASE_INFORMATION!C14 -> 2028 | B8: =+'TABL-AMORT-EMPR_-5ans'!C31 -> -8.1490725e-10 | C8: =+'TABL-AMORT-EMPR_-5ans'!D43 -> 5000000 | D8: =+'TABL-AMORT-EMPR_-5ans'!E43 -> -183333.33 | E8: =+C8+D8 -> 4816666.7
A9: =+BASE_INFORMATION!D14 -> 2029 | B9: =+'TABL-AMORT-EMPR_-5ans'!C44 -> -5000000 | C9: =+'TABL-AMORT-EMPR_-5ans'!D56 -> 5000000 | D9: =+'TABL-AMORT-EMPR_-5ans'!E56 -> -583333.33 | E9: =+C9+D9 -> 4416666.7
A10: =+BASE_INFORMATION!E14 -> 2030 | B10: =+'TABL-AMORT-EMPR_-5ans'!C57 -> -10000000 | C10: =+'TABL-AMORT-EMPR_-5ans'!D69 -> 5000000 | D10: =+'TABL-AMORT-EMPR_-5ans'!E69 -> -983333.33 | E10: =+C10+D10 -> 4016666.7
A11: TOTAL | C11: =SUM(C6:C10) -> 25000000 | D11: =SUM(D6:D10) -> -916666.67 | E11: =SUM(E6:E10) -> 24083333

Sheet PARTIE_etude et strategie
A8: =BASE_INFORMATION!C3 -> MBC
A10: DOSSIER DE CONCOURS BANCAIRE
A26: Par MBC
A27: (+221) 775152872
A35: SOMMAIRE
A37: Demande de prêt
A38: I-PRESENTATION
A39: 1-Présentation du Promoteur
A40: 2-Présentation de l’entreprise
A41: II-EXPLOITATION N
A42: 1-Chiffre d’affaire
A43: 2-Charges d’exploitation
A44: 3-Compte d’exploitation
... A422: proposant 15% de réduction sur verres et montures aux destinanatires du mailing

Sheet Cout total Projet
C1: 3- ÉTUDE FINANCIÈRE DU PROJET
D3: 3-1 -COÛT TOTAL ESTIMATIF DU PROJET
A5: LES INVESTISSEMENTS
A7: Libellés | F7: Quantité | H7: Prix Unitaire (FCFA) | J7: Prix Total (FCFA) | K7: Apport personnel | M7: Montant sollicité
A8: Frais de création et autres frais d'enregistrement | F8: 1 | H8: 50000 | J8: =F8*H8 -> 50000 | M8: =J8-K8 -> 50000
A9: Caution pour le local (3 mois) | F9: 3 | H9: 150000 | J9: =F9*H9 -> 450000 | M9: =J9-K9 -> 450000
A10: Travaux et aménagement | F10: 1 | H10: 1500000 | J10: =F10*H10 -> 1500000 | M10: =J10-K10 -> 1500000
A11: Mobiliers de bureau | F11: 1 | H11: 1000000 | J11: =F11*H11 -> 1000000 | M11: =J11-K11 -> 1000000
A12: Meuble de rangement | F12: 2 | H12: 100000 | J12: =F12*H12 -> 200000 | M12: =J12-K12 -> 200000
A13: Ordinateurs de bureau | F13: 2 | H13: 150000 | J13: =F13*H13 -> 300000 | M13: =J13-K13 -> 300000
A14: Imprimante/Photocopieuse/Scanneur | F14: 2 | H14: 135000 | J14: =F14*H14 -> 270000 | M14: =J14-K14 -> 270000
A15: Routeur WIFI | F15: 1 | H15: 25000 | J15: =F15*H15 -> 25000 | M15: =J15-K15 -> 25000
A16: Groupe électrogène 5 KVA | J16: =F16*H16 -> 0 | M16: =J16-K16 -> 0
A17: Tableau à marqueur | F17: 1 | H17: 25000 | J17: =F17*H17 -> 25000 | M17: =J17-K17 -> 25000
A18: Onduleur | F18: 2 | H18: 30000 | J18: =F18*H18 -> 60000 | M18: =J18-K18 -> 60000
A19: Téléphones Smartphones | F19: 2 | H19: 75000 | J19: =F19*H19 -> 150000 | M19: =J19-K19 -> 150000
A20: Vidéoprojecteur | F20: 1 | H20: 75000 | J20: =F20*H20 -> 75000 | M20: =J20-K20 -> 75000
A21: Cachets | F21: 2 | H21: 10000 | J21: =F21*H21 -> 20000 | M21: =J21-K21 -> 20000
A22: Boite à outils du Technicien informaticien | J22: =F22*H22 -> 0 | M22: =J22-K22 -> 0
J23: =F23*H23 -> 0 | M23: =J23-K23 -> 0
A24: Total INVESTISSEMENTS | F24: xxx | H24: xxx | J24: =SUM(J8:J23) -> 4125000 | K24: =SUM(K8:L23) -> 0 | M24: =SUM(M8:N23) -> 4125000
A26: NB: Les immobilisations seront amorties de façon linéaire sur 5 ans
A28: LES BESOINS EN FONDS DE ROULEMENT (BFR)
A30: Libellés | F30: Quantité | H30: Prix Unitaire (FCFA) | J30: Prix Total (FCFA) | K30: Apport personnel | M30: Montant sollicité
A31: Rames de papiers | F31: 10 | H31: 2500 | J31: =F31*H31 -> 25000 | M31: =J31-K31 -> 25000
A32: Cartouches d'encre | F32: 10 | H32: 15000 | J32: =F32*H32 -> 150000 | M32: =J32-K32 -> 150000
A33: Petits outillages de bureau | F33: 1 | H33: 100000 | J33: =F33*H33 -> 100000 | M33: =J33-K33 -> 100000
A34: Besoin en frais de gestion (30 jrs de fonctionnement) | F34: 1 | H34: 100000 | J34: =F34*H34 -> 100000 | M34: =J34-K34 -> 100000
J35: =F35*H35 -> 0 | M35: =J35-K35 -> 0
A36: Total BFR | F36: xxx | H36: xxx | J36: =SUM(J31:J35) -> 375000 | K36: =SUM(K31:L35) -> 0 | M36: =SUM(M31:N35) -> 375000
A38: TOTAL GENERAL | J38: =J24+J36 -> 4500000 | K38: =K24+K36 -> 0 | M38: =M24+M36 -> 4500000
B40: COÛT TOTAL ESTIMATIF DU PROJET = | H40: INVESTISSEMENTS + | K40: BFR | L40: =J24+J36 -> 4500000

Sheet Amorts_5ans_immobilisations
B1: 3-3 - PLAN D'AMORTISSEMENT DES IMMOBILISATIONS
A4: Plan d'amortissement sur 5 ans
A5: Désignations | D5: 0 | F5: =+BASE_INFORMATION!A14 -> 2026 | H5: =+BASE_INFORMATION!B14 -> 2027 | I5: =+BASE_INFORMATION!C14 -> 2028 | J5: =+BASE_INFORMATION!D14 -> 2029 | K5: =+BASE_INFORMATION!E14 -> 2030
A6: =+'Cout total Projet'!A8 -> Frais de création et autres frais d'enregistrement | D6: =+'Cout total Projet'!J8 -> 50000 | F6: =D6/5 -> 10000 | H6: =F6/5 -> 2000 | I6: =G6/5 -> 0 | J6: =H6/5 -> 400 | K6: =I6/5 -> 0
A7: =+'Cout total Projet'!A9 -> Caution pour le local (3 mois) | D7: =+'Cout total Projet'!J9 -> 450000 | F7: =D7/5 -> 90000 | H7: =F7/5 -> 18000 | I7: =G7/5 -> 0 | J7: =H7/5 -> 3600 | K7: =I7/5 -> 0
A8: =+'Cout total Projet'!A10 -> Travaux et aménagement | D8: =+'Cout total Projet'!J10 -> 1500000 | F8: =D8/5 -> 300000 | H8: =F8/5 -> 60000 | I8: =G8/5 -> 0 | J8: =H8/5 -> 12000 | K8: =I8/5 -> 0
A9: =+'Cout total Projet'!A11 -> Mobiliers de bureau | D9: =+'Cout total Projet'!J11 -> 1000000 | F9: =D9/5 -> 200000 | H9: =F9/5 -> 40000 | I9: =G9/5 -> 0 | J9: =H9/5 -> 8000 | K9: =I9/5 -> 0
A10: =+'Cout total Projet'!A12 -> Meuble de rangement | D10: =+'Cout total Projet'!J12 -> 200000 | F10: =D10/5 -> 40000 | H10: =F10/5 -> 8000 | I10: =G10/5 -> 0 | J10: =H10/5 -> 1600 | K10: =I10/5 -> 0
A11: =+'Cout total Projet'!A13 -> Ordinateurs de bureau | D11: =+'Cout total Projet'!J13 -> 300000 | F11: =D11/5 -> 60000 | H11: =F11/5 -> 12000 | I11: =G11/5 -> 0 | J11: =H11/5 -> 2400 | K11: =I11/5 -> 0
A12: =+'Cout total Projet'!A14 -> Imprimante/Photocopieuse/Scanneur | D12: =+'Cout total Projet'!J14 -> 270000 | F12: =D12/5 -> 54000 | H12: =F12/5 -> 10800 | I12: =G12/5 -> 0 | J12: =H12/5 -> 2160 | K12: =I12/5 -> 0
A13: =+'Cout total Projet'!A15 -> Routeur WIFI | D13: =+'Cout total Projet'!J15 -> 25000 | F13: =D13/5 -> 5000 | H13: =F13/5 -> 1000 | I13: =G13/5 -> 0 | J13: =H13/5 -> 200 | K13: =I13/5 -> 0
A14: =+'Cout total Projet'!A16 -> Groupe électrogène 5 KVA | D14: =+'Cout total Projet'!J16 -> 0 | F14: =D14/5 -> 0 | H14: =F14/5 -> 0 | I14: =G14/5 -> 0 | J14: =H14/5 -> 0 | K14: =I14/5 -> 0
A15: =+'Cout total Projet'!A17 -> Tableau à marqueur | D15: =+'Cout total Projet'!J17 -> 25000 | F15: =D15/5 -> 5000 | H15: =F15/5 -> 1000 | I15: =G15/5 -> 0 | J15: =H15/5 -> 200 | K15: =I15/5 -> 0
A16: =+'Cout total Projet'!A18 -> Onduleur | D16: =+'Cout total Projet'!J18 -> 60000 | F16: =D16/5 -> 12000 | H16: =F16/5 -> 2400 | I16: =G16/5 -> 0 | J16: =H16/5 -> 480 | K16: =I16/5 -> 0
A17: =+'Cout total Projet'!A19 -> Téléphones Smartphones | D17: =+'Cout total Projet'!J19 -> 150000 | F17: =D17/5 -> 30000 | H17: =F17/5 -> 6000 | I17: =G17/5 -> 0 | J17: =H17/5 -> 1200 | K17: =I17/5 -> 0
... A20: =+'Cout total Projet'!A22 -> Boite à outils du Technicien informaticien | D20: =+'Cout total Projet'!J22 -> 0 | F20: =D20/5 -> 0 | H20: =F20/5 -> 0 | I20: =G20/5 -> 0 | J20: =H20/5 -> 0 | K20: =I20/5 -> 0
A21: Total Général | D21: =SUM(D6:E20) -> 4125000 | F21: =SUM(F6:G20) -> 825000 | H21: =SUM(H6:I20) -> 165000 | J21: =SUM(J6:K20) -> 33000

Sheet Page de garde_Exploitation
A19: EXPLOITATION | B19: =+BASE_INFORMATION!D11 -> 2025

Sheet Page de garde_Chiffre_d'affaire
A18: CHIFFRE D'AFFAIRE | B18: =+'Page de garde_Exploitation'!B19 -> 2025

Sheet Chifre d'affaire-mens_anné_N
B3: 1-CHIFFRE D'AFFAIRE
G5: Periode : | I5: =+BASE_INFORMATION!D11 -> 2025
A7: LIBELLE | B7: JANVIER | C7: FEVRIER | D7: MARS | E7: AVRIL | F7: MAI | G7: JUIN | H7: JUILLET | I7: AOUT | J7: SEPTEMBRE | K7: OCTOBRE | L7: NOVEMBRE | M7: DECEMBRE | N7: TOTAL 2
A8: Activité principal du chiffre d'affaire | B8: 2000000 | C8: =+B8*1.15 -> 2300000 | D8: =+C8*1.15 -> 2645000 | E8: =+D8*1.15 -> 3041750 | F8: =+E8*1.15 -> 3498012.5 | G8: =+F8*1.15 -> 4022714.4 | H8: =+G8*1.15 -> 4626121.5 | I8: =+H8*1.15 -> 5320039.8 | J8: =+I8*1.15 -> 6118045.7 | ... M8: =+L8*1.15 -> 9304782.8 | N8: =SUM(B8:M8) -> 58003335
A9: Activité secondaire du chiffre d'affaire | B9: 1000000 | C9: =+B9*1.15 -> 1150000 | D9: =+C9*1.15 -> 1322500 | E9: =+D9*1.15 -> 1520875 | F9: =+E9*1.15 -> 1749006.2 | G9: =+F9*1.15 -> 2011357.2 | H9: =+G9*1.15 -> 2313060.8 | I9: =+H9*1.15 -> 2660019.9 | J9: =+I9*1.15 -> 3059022.9 | ... M9: =+L9*1.15 -> 4652391.4 | N9: =SUM(B9:M9) -> 29001667
A10: Activité 3 du chiffre d'affaire | B10: 500000 | C10: =+B10*1.15 -> 575000 | D10: =+C10*1.15 -> 661250 | E10: =+D10*1.15 -> 760437.5 | F10: =+E10*1.15 -> 874503.12 | G10: =+F10*1.15 -> 1005678.6 | H10: =+G10*1.15 -> 1156530.4 | I10: =+H10*1.15 -> 1330009.9 | J10: =+I10*1.15 -> 1529511.4 | ... M10: =+L10*1.15 -> 2326195.7 | N10: =SUM(B10:M10) -> 14500834
A11: TOTAUX | B11: =SUM(B8:B10) -> 3500000 | C11: =SUM(C8:C10) -> 4025000 | D11: =SUM(D8:D10) -> 4628750 | E11: =SUM(E8:E10) -> 5323062.5 | F11: =SUM(F8:F10) -> 6121521.9 | G11: =SUM(G8:G10) -> 7039750.2 | H11: =SUM(H8:H10) -> 8095712.7 | I11: =SUM(I8:I10) -> 9310069.6 | ... M11: =SUM(M8:M10) -> 16283370 | N11: =SUM(B11:M11) -> 1.0150584e+08

Sheet page de garde Charge_d'expl
A18: CHARGE D'EXLOITATION | C18: =+BASE_INFORMATION!D11 -> 2025

Sheet Charge d'exploit_anné N
C2: 1-CHARGES D'EXPLOITATION
G4: Periode :
A6: LIBELLE | B6: JANVIER | C6: FEVRIER | D6: MARS | E6: AVRIL | F6: MAI | G6: JUIN | H6: JUILLET | I6: AOUT | J6: SEPTEMBRE | K6: OCTOBRE | L6: NOVEMBRE | M6: DECEMBRE | N6: TOTAL
A7: ACHATS
A8: Achats de materiels | B8: 50000 | C8: =+B8*1.15 -> 57500 | D8: =+C8*1.15 -> 66125 | E8: =+D8*1.15 -> 76043.75 | F8: =+E8*1.15 -> 87450.312 | G8: =+F8*1.15 -> 100567.86 | H8: =+G8*1.15 -> 115653.04 | I8: =+H8*1.15 -> 133000.99 | J8: =+I8*1.15 -> 152951.14 | ... M8: =+L8*1.15 -> 232619.57 | N8: =SUM(B8:M8) -> 1450083.4 | O8: 235000
A9: Achat de fourniture de bureau | B9: 15000 | C9: =+B9*1.15 -> 17250 | D9: =+C9*1.15 -> 19837.5 | E9: =+D9*1.15 -> 22813.125 | F9: =+E9*1.15 -> 26235.094 | G9: =+F9*1.15 -> 30170.358 | H9: =+G9*1.15 -> 34695.911 | I9: =+H9*1.15 -> 39900.298 | J9: =+I9*1.15 -> 45885.343 | ... M9: =+L9*1.15 -> 69785.871 | N9: =SUM(B9:M9) -> 435025.01 | O9: 70000
A10: Consommation en Eau | B10: 10000 | C10: =+B10*1.15 -> 11500 | D10: =+C10*1.15 -> 13225 | E10: =+D10*1.15 -> 15208.75 | F10: =+E10*1.15 -> 17490.062 | G10: =+F10*1.15 -> 20113.572 | H10: =+G10*1.15 -> 23130.608 | I10: =+H10*1.15 -> 26600.199 | J10: =+I10*1.15 -> 30590.229 | ... M10: =+L10*1.15 -> 46523.914 | N10: =SUM(B10:M10) -> 290016.67 | O10: 47000
A11: Consommation en Electricité | B11: 20000 | C11: =+B11*1.15 -> 23000 | D11: =+C11*1.15 -> 26450 | E11: =+D11*1.15 -> 30417.5 | F11: =+E11*1.15 -> 34980.125 | G11: =+F11*1.15 -> 40227.144 | H11: =+G11*1.15 -> 46261.215 | I11: =+H11*1.15 -> 53200.398 | J11: =+I11*1.15 -> 61180.457 | ... M11: =+L11*1.15 -> 93047.828 | N11: =SUM(B11:M11) -> 580033.35 | O11: 94000
A12: Produits d'entretien | B12: 5000 | C12: =+B12*1.15 -> 5750 | D12: =+C12*1.15 -> 6612.5 | E12: =+D12*1.15 -> 7604.375 | F12: =+E12*1.15 -> 8745.0312 | G12: =+F12*1.15 -> 10056.786 | H12: =+G12*1.15 -> 11565.304 | I12: =+H12*1.15 -> 13300.099 | J12: =+I12*1.15 -> 15295.114 | ... M12: =+L12*1.15 -> 23261.957 | N12: =SUM(B12:M12) -> 145008.34 | O12: 24000
A13: Carburant | B13: 15000 | C13: =+B13*1.15 -> 17250 | D13: =+C13*1.15 -> 19837.5 | E13: =+D13*1.15 -> 22813.125 | F13: =+E13*1.15 -> 26235.094 | G13: =+F13*1.15 -> 30170.358 | H13: =+G13*1.15 -> 34695.911 | I13: =+H13*1.15 -> 39900.298 | J13: =+I13*1.15 -> 45885.343 | ... M13: =+L13*1.15 -> 69785.871 | N13: =SUM(B13:M13) -> 435025.01 | O13: 70000
A14: TOTAL ACHATS | B14: =SUM(B8:B13) -> 115000 | C14: =SUM(C8:C13) -> 132250 | D14: =SUM(D8:D13) -> 152087.5 | E14: =SUM(E8:E13) -> 174900.62 | F14: =SUM(F8:F13) -> 201135.72 | G14: =SUM(G8:G13) -> 231306.08 | H14: =SUM(H8:H13) -> 266001.99 | I14: =SUM(I8:I13) -> 305902.29 | ... M14: =SUM(M8:M13) -> 535025.01 | N14: =SUM(B14:M14) -> 3335191.7
A15: CHARGES EXTERNES
A16: Loyer | B16: 125000 | C16: =+B16*1.15 -> 143750 | D16: =+C16*1.15 -> 165312.5 | E16: =+D16*1.15 -> 190109.37 | F16: =+E16*1.15 -> 218625.78 | G16: =+F16*1.15 -> 251419.65 | H16: =+G16*1.15 -> 289132.6 | I16: =+H16*1.15 -> 332502.49 | J16: =+I16*1.15 -> 382377.86 | ... M16: =+L16*1.15 -> 581548.92 | N16: =SUM(B16:M16) -> 3625208.4 | O16: 582000
A17: Frais de télécommunication | B17: 25000 | C17: =+B17*1.15 -> 28750 | D17: =+C17*1.15 -> 33062.5 | E17: =+D17*1.15 -> 38021.875 | F17: =+E17*1.15 -> 43725.156 | G17: =+F17*1.15 -> 50283.93 | H17: =+G17*1.15 -> 57826.519 | I17: =+H17*1.15 -> 66500.497 | J17: =+I17*1.15 -> 76475.572 | ... M17: =+L17*1.15 -> 116309.78 | N17: =SUM(B17:M17) -> 725041.68 | O17: 117000
A18: Voyages et Déplacements | B18: 45000 | C18: =+B18*1.15 -> 51750 | D18: =+C18*1.15 -> 59512.5 | E18: =+D18*1.15 -> 68439.375 | F18: =+E18*1.15 -> 78705.281 | G18: =+F18*1.15 -> 90511.073 | H18: =+G18*1.15 -> 104087.73 | I18: =+H18*1.15 -> 119700.89 | J18: =+I18*1.15 -> 137656.03 | ... M18: =+L18*1.15 -> 209357.61 | N18: =SUM(B18:M18) -> 1305075 | O18: 210000
A19: Pétits materiels et outillages | B19: 15000 | C19: =+B19*1.15 -> 17250 | D19: =+C19*1.15 -> 19837.5 | E19: =+D19*1.15 -> 22813.125 | F19: =+E19*1.15 -> 26235.094 | G19: =+F19*1.15 -> 30170.358 | H19: =+G19*1.15 -> 34695.911 | I19: =+H19*1.15 -> 39900.298 | J19: =+I19*1.15 -> 45885.343 | ... M19: =+L19*1.15 -> 69785.871 | N19: =SUM(B19:M19) -> 435025.01 | O19: 70000
A20: TOTAL CHARGES EXTERNES | B20: =SUM(B16:B19) -> 210000 | C20: =SUM(C16:C19) -> 241500 | D20: =SUM(D16:D19) -> 277725 | E20: =SUM(E16:E19) -> 319383.75 | F20: =SUM(F16:F19) -> 367291.31 | G20: =SUM(G16:G19) -> 422385.01 | H20: =SUM(H16:H19) -> 485742.76 | I20: =SUM(I16:I19) -> 558604.17 | ... M20: =SUM(M16:M19) -> 977002.19 | N20: =SUM(B20:M20) -> 6090350.1
A21: SALAIRES ET CHARGES
A22: Rémunération de personnel | B22: 400000 | C22: =+B22*1.15 -> 460000 | D22: =+C22*1.15 -> 529000 | E22: =+D22*1.15 -> 608350 | F22: =+E22*1.15 -> 699602.5 | G22: =+F22*1.15 -> 804542.87 | H22: =+G22*1.15 -> 925224.31 | I22: =+H22*1.15 -> 1064008 | J22: =+I22*1.15 -> 1223609.1 | ... M22: =+L22*1.15 -> 1860956.6 | N22: =SUM(B22:M22) -> 11600667 | O22: 1970000
A23: Transport de personnel | B23: 15000 | C23: =+B23*1.15 -> 17250 | D23: =+C23*1.15 -> 19837.5 | E23: =+D23*1.15 -> 22813.125 | F23: =+E23*1.15 -> 26235.094 | G23: =+F23*1.15 -> 30170.358 | H23: =+G23*1.15 -> 34695.911 | I23: =+H23*1.15 -> 39900.298 | J23: =+I23*1.15 -> 45885.343 | ... M23: =+L23*1.15 -> 69785.871 | N23: =SUM(B23:M23) -> 435025.01 | O23: 70000
A24: Charges sociales | B24: 25000 | C24: =+B24*1.15 -> 28750 | D24: =+C24*1.15 -> 33062.5 | E24: =+D24*1.15 -> 38021.875 | F24: =+E24*1.15 -> 43725.156 | G24: =+F24*1.15 -> 50283.93 | H24: =+G24*1.15 -> 57826.519 | I24: =+H24*1.15 -> 66500.497 | J24: =+I24*1.15 -> 76475.572 | ... M24: =+L24*1.15 -> 116309.78 | N24: =SUM(B24:M24) -> 725041.68 | O24: 117000
A25: TOTAL SALAIRES ET CHARGES | B25: =SUM(B22:B24) -> 440000 | C25: =SUM(C22:C24) -> 506000 | D25: =SUM(D22:D24) -> 581900 | E25: =SUM(E22:E24) -> 669185 | F25: =SUM(F22:F24) -> 769562.75 | G25: =SUM(G22:G24) -> 884997.16 | H25: =SUM(H22:H24) -> 1017746.7 | I25: =SUM(I22:I24) -> 1170408.7 | ... M25: =SUM(M22:M24) -> 2047052.2 | N25: =SUM(B25:M25) -> 12760734
A26: IMPOTS ET TAXES | N26: =SUM(B26:M26) -> 0
A27: Taxe sur les salaires | B27: 20000 | C27: =+B27*1.15 -> 23000 | D27: =+C27*1.15 -> 26450 | E27: =+D27*1.15 -> 30417.5 | F27: =+E27*1.15 -> 34980.125 | G27: =+F27*1.15 -> 40227.144 | H27: =+G27*1.15 -> 46261.215 | I27: =+H27*1.15 -> 53200.398 | J27: =+I27*1.15 -> 61180.457 | ... M27: =+L27*1.15 -> 93047.828 | N27: =SUM(B27:M27) -> 580033.35 | O27: 94000
A28: Autres taxes | B28: 15000 | C28: =+B28*1.15 -> 17250 | D28: =+C28*1.15 -> 19837.5 | E28: =+D28*1.15 -> 22813.125 | F28: =+E28*1.15 -> 26235.094 | G28: =+F28*1.15 -> 30170.358 | H28: =+G28*1.15 -> 34695.911 | I28: =+H28*1.15 -> 39900.298 | J28: =+I28*1.15 -> 45885.343 | ... M28: =+L28*1.15 -> 69785.871 | N28: =SUM(B28:M28) -> 435025.01 | O28: 70000
A29: TOTAL IMPOTS ET TAXES | B29: =SUM(B27:B28) -> 35000 | C29: =SUM(C27:C28) -> 40250 | D29: =SUM(D27:D28) -> 46287.5 | E29: =SUM(E27:E28) -> 53230.625 | F29: =SUM(F27:F28) -> 61215.219 | G29: =SUM(G27:G28) -> 70397.502 | H29: =SUM(H27:H28) -> 80957.127 | I29: =SUM(I27:I28) -> 93100.696 | ... M29: =SUM(M27:M28) -> 162833.7 | N29: =SUM(B29:M29) -> 1015058.4
A30: TOTAL DES CHARGES D'EXPLOITATION | B30: =+B29+B25+B20+B14 -> 800000 | C30: =+C29+C25+C20+C14 -> 920000 | D30: =+D29+D25+D20+D14 -> 1058000 | E30: =+E29+E25+E20+E14 -> 1216700 | F30: =+F29+F25+F20+F14 -> 1399205 | G30: =+G29+G25+G20+G14 -> 1609085.7 | H30: =H29+H25+H20+H14 -> 1850448.6 | I30: =I29+I25+I20+I14 -> 2128015.9 | J30: =J29+J25+J20+J14 -> 2447218.3 | K30: =K29+K25+K20+K14 -> 2814301 | L30: =L29+L25+L20+L14 -> 3236446.2 | M30: =M29+M25+M20+M14 -> 3721913.1 | N30: =SUM(B30:M30) -> 23201334

Sheet page de garde_Compte_d'expl
A18: COMPTE D'EXPLOITATION | D18: =+BASE_INFORMATION!D11 -> 2025

Sheet Compte-d'exploitat-anné_N
C2: 1-COMPTE D'EXPLOITATION
G3: Periode :
A5: LIBELLE | B5: JANVIER | C5: FEVRIER | D5: MARS | E5: AVRIL | F5: MAI | G5: JUIN | H5: JUILLET | I5: AOUT | J5: SEPTEMBRE | K5: OCTOBRE | L5: NOVEMBRE | M5: DECEMBRE | N5: TOTAL
A6: CHIFFRE D'AFFAIRE
A7: Chiffre d'affaire | B7: =+'Chifre d''affaire-mens_anné_N'!B8 -> 2000000 | C7: =+'Chifre d''affaire-mens_anné_N'!C8 -> 2300000 | D7: =+'Chifre d''affaire-mens_anné_N'!D8 -> 2645000 | E7: =+'Chifre d''affaire-mens_anné_N'!E8 -> 3041750 | F7: =+'Chifre d''affaire-mens_anné_N'!F8 -> 3498012.5 | G7: =+'Chifre d''affaire-mens_anné_N'!G8 -> 4022714.4 | H7: =+'Chifre d''affaire-mens_anné_N'!H8 -> 4626121.5 | I7: =+'Chifre d''affaire-mens_anné_N'!I8 -> 5320039.8 | ... M7: =+'Chifre d''affaire-mens_anné_N'!M8 -> 9304782.8 | N7: =SUM(B7:M7) -> 58003335
N8: =SUM(B8:M8) -> 0
A9: CHIFFRE D'AFFAIRE | B9: =+B7 -> 2000000 | C9: =+C7 -> 2300000 | D9: =+D7 -> 2645000 | E9: =+E7 -> 3041750 | F9: =+F7 -> 3498012.5 | G9: =+G7 -> 4022714.4 | H9: =+H7 -> 4626121.5 | I9: =+I7 -> 5320039.8 | ... M9: =+M7 -> 9304782.8 | N9: =SUM(B9:M9) -> 58003335
A10: CHARGES D'EXPLOITATION
A11: Achat marchandise | B11: =+'Charge d''exploit_anné N'!B14 -> 115000 | C11: =+'Charge d''exploit_anné N'!C14 -> 132250 | D11: =+'Charge d''exploit_anné N'!D14 -> 152087.5 | E11: =+'Charge d''exploit_anné N'!E14 -> 174900.62 | F11: =+'Charge d''exploit_anné N'!F14 -> 201135.72 | G11: =+'Charge d''exploit_anné N'!G14 -> 231306.08 | H11: =+'Charge d''exploit_anné N'!H14 -> 266001.99 | I11: =+'Charge d''exploit_anné N'!I14 -> 305902.29 | ... M11: =+'Charge d''exploit_anné N'!M14 -> 535025.01 | N11: =SUM(B11:M11) -> 3335191.7
A12: Charges externes | B12: =+'Charge d''exploit_anné N'!B20 -> 210000 | C12: =+'Charge d''exploit_anné N'!C20 -> 241500 | D12: =+'Charge d''exploit_anné N'!D20 -> 277725 | E12: =+'Charge d''exploit_anné N'!E20 -> 319383.75 | F12: =+'Charge d''exploit_anné N'!F20 -> 367291.31 | G12: =+'Charge d''exploit_anné N'!G20 -> 422385.01 | H12: =+'Charge d''exploit_anné N'!H20 -> 485742.76 | I12: =+'Charge d''exploit_anné N'!I20 -> 558604.17 | ... M12: =+'Charge d''exploit_anné N'!M20 -> 977002.19 | N12: =SUM(B12:M12) -> 6090350.1
A13: Salaires et charges | B13: =+'Charge d''exploit_anné N'!B25 -> 440000 | C13: =+'Charge d''exploit_anné N'!C25 -> 506000 | D13: =+'Charge d''exploit_anné N'!D25 -> 581900 | E13: =+'Charge d''exploit_anné N'!E25 -> 669185 | F13: =+'Charge d''exploit_anné N'!F25 -> 769562.75 | G13: =+'Charge d''exploit_anné N'!G25 -> 884997.16 | H13: =+'Charge d''exploit_anné N'!H25 -> 1017746.7 | I13: =+'Charge d''exploit_anné N'!I25 -> 1170408.7 | ... M13: =+'Charge d''exploit_anné N'!M25 -> 2047052.2 | N13: =SUM(B13:M13) -> 12760734
A14: Impots et charges | B14: =+'Charge d''exploit_anné N'!B29 -> 35000 | C14: =+'Charge d''exploit_anné N'!C29 -> 40250 | D14: =+'Charge d''exploit_anné N'!D29 -> 46287.5 | E14: =+'Charge d''exploit_anné N'!E29 -> 53230.625 | F14: =+'Charge d''exploit_anné N'!F29 -> 61215.219 | G14: =+'Charge d''exploit_anné N'!G29 -> 70397.502 | H14: =+'Charge d''exploit_anné N'!H29 -> 80957.127 | I14: =+'Charge d''exploit_anné N'!I29 -> 93100.696 | ... M14: =+'Charge d''exploit_anné N'!M29 -> 162833.7 | N14: =SUM(B14:M14) -> 1015058.4
A15: TOTAL CHARGES | B15: =SUM(B11:B14) -> 800000 | C15: =SUM(C11:C14) -> 920000 | D15: =SUM(D11:D14) -> 1058000 | E15: =SUM(E11:E14) -> 1216700 | F15: =SUM(F11:F14) -> 1399205 | G15: =SUM(G11:G14) -> 1609085.7 | H15: =+SUM(H11:H14) -> 1850448.6 | I15: =+SUM(I11:I14) -> 2128015.9 | J15: =+SUM(J11:J14) -> 2447218.3 | K15: =+SUM(K11:K14) -> 2814301 | L15: =+SUM(L11:L14) -> 3236446.2 | M15: =+SUM(M11:M14) -> 3721913.1 | N15: =SUM(B15:M15) -> 23201334
A16: RESULTAT | B16: =B9-B15 -> 1200000 | C16: =C9-C15 -> 1380000 | D16: =D9-D15 -> 1587000 | E16: =E9-E15 -> 1825050 | F16: =F9-F15 -> 2098807.5 | G16: =G9-G15 -> 2413628.6 | H16: =H9-H15 -> 2775672.9 | I16: =I9-I15 -> 3192023.9 | ... M16: =M9-M15 -> 5582869.7 | N16: =SUM(B16:M16) -> 34802001
A17: TRESORERIE NET | B17: =B16 -> 1200000 | C17: =C16+B17 -> 2580000 | D17: =D16+C17 -> 4167000 | E17: =E16+D17 -> 5992050 | F17: =F16+E17 -> 8090857.5 | G17: =G16+F17 -> 10504486 | H17: =H16+G17 -> 13280159 | I17: =I16+H17 -> 16472183 | J17: =J16+I17 -> 20143010 | ... M17: =M16+L17 -> 34802001 | N17: =SUM(B17:M17) -> 1.7081534e+08

Sheet page de garde_Prevision_d'expl
A19: PREVISION D'EXPLOITATION
A20: =+CA_annuel_PREVISL!B6 -> 2026 | B20: =+CA_annuel_PREVISL!F6 -> 2030

Sheet Avant_propos_Previs
A13: AVANT PROPOS SUR LES PREVISIONS
A15: Tous ces previsions ci-après sont réalisés avec
A16: le financement souhaité.

Sheet Detail_Chiffr d'affair-Previsl
D3: 1-1-CHIFFRE D'AFFAIRE
G5: Periode : | H5: =+BASE_INFORMATION!A14 -> 2026
A7: LIBELLE | B7: JANVIER | C7: FEVRIER | D7: MARS | E7: AVRIL | F7: MAI | G7: JUIN | H7: JUILLET | I7: AOUT | J7: SEPTEMBRE | K7: OCTOBRE | L7: NOVEMBRE | M7: DECEMBRE | N7: TOTAL
A8: Activité principal du chiffre d'affaire | B8: 2043000 | C8: =+B8*1.15 -> 2349450 | D8: =+C8*1.15 -> 2701867.5 | E8: =+D8*1.15 -> 3107147.6 | F8: =+E8*1.15 -> 3573219.8 | G8: =+F8*1.15 -> 4109202.7 | H8: =+G8*1.15 -> 4725583.1 | I8: =+H8*1.15 -> 5434420.6 | J8: =+I8*1.15 -> 6249583.7 | ... M8: =+L8*1.15 -> 9504835.6 | N8: =SUM(B8:M8) -> 59250406
A9: Activité secondaire du chiffre d'affaire | B9: 1075000 | C9: =+B9*1.15 -> 1236250 | D9: =+C9*1.15 -> 1421687.5 | E9: =+D9*1.15 -> 1634940.6 | F9: =+E9*1.15 -> 1880181.7 | G9: =+F9*1.15 -> 2162209 | H9: =+G9*1.15 -> 2486540.3 | I9: =+H9*1.15 -> 2859521.4 | J9: =+I9*1.15 -> 3288449.6 | ... M9: =+L9*1.15 -> 5001320.8 | N9: =SUM(B9:M9) -> 31176792
A10: Activité 3 du chiffre d'affaire | B10: 538000 | C10: =+B10*1.15 -> 618700 | D10: =+C10*1.15 -> 711505 | E10: =+D10*1.15 -> 818230.75 | F10: =+E10*1.15 -> 940965.36 | G10: =+F10*1.15 -> 1082110.2 | H10: =+G10*1.15 -> 1244426.7 | I10: =+H10*1.15 -> 1431090.7 | J10: =+I10*1.15 -> 1645754.3 | ... M10: =+L10*1.15 -> 2502986.6 | N10: =SUM(B10:M10) -> 15602897
A11: TOTAUX | B11: =SUM(B8:B10) -> 3656000 | C11: =SUM(C8:C10) -> 4204400 | D11: =SUM(D8:D10) -> 4835060 | E11: =SUM(E8:E10) -> 5560319 | F11: =SUM(F8:F10) -> 6394366.8 | G11: =SUM(G8:G10) -> 7353521.9 | H11: =SUM(H8:H10) -> 8456550.2 | I11: =SUM(I8:I10) -> 9725032.7 | ... M11: =SUM(M8:M10) -> 17009143 | N11: =SUM(B11:M11) -> 1.060301e+08
D14: 1-2-CHIFFRE D'AFFAIRE
G16: Periode : | H16: =+BASE_INFORMATION!B14 -> 2027
A18: LIBELLE | B18: JANVIER | C18: FEVRIER | D18: MARS | E18: AVRIL | F18: MAI | G18: JUIN | H18: JUILLET | I18: AOUT | J18: SEPTEMBRE | K18: OCTOBRE | L18: NOVEMBRE | M18: DECEMBRE | N18: TOTAL
A19: Activité principal du chiffre d'affaire | B19: 9500000 | C19: =+B19*1.15 -> 10925000 | D19: =+C19*1.15 -> 12563750 | E19: =+D19*1.15 -> 14448312 | F19: =+E19*1.15 -> 16615559 | G19: =+F19*1.15 -> 19107893 | H19: =+G19*1.15 -> 21974077 | I19: =+H19*1.15 -> 25270189 | J19: =+I19*1.15 -> 29060717 | ... M19: =+L19*1.15 -> 44197718 | N19: =SUM(B19:M19) -> 2.7551584e+08
A20: Activité secondaire du chiffre d'affaire | B20: 5000000 | C20: =+B20*1.15 -> 5750000 | D20: =+C20*1.15 -> 6612500 | E20: =+D20*1.15 -> 7604375 | F20: =+E20*1.15 -> 8745031.2 | G20: =+F20*1.15 -> 10056786 | H20: =+G20*1.15 -> 11565304 | I20: =+H20*1.15 -> 13300099 | J20: =+I20*1.15 -> 15295114 | ... M20: =+L20*1.15 -> 23261957 | N20: =SUM(B20:M20) -> 1.4500834e+08
A21: Activité 3 du chiffre d'affaire | B21: 2500000 | C21: =+B21*1.15 -> 2875000 | D21: =+C21*1.15 -> 3306250 | E21: =+D21*1.15 -> 3802187.5 | F21: =+E21*1.15 -> 4372515.6 | G21: =+F21*1.15 -> 5028393 | H21: =+G21*1.15 -> 5782651.9 | I21: =+H21*1.15 -> 6650049.7 | J21: =+I21*1.15 -> 7647557.2 | ... M21: =+L21*1.15 -> 11630978 | N21: =SUM(B21:M21) -> 72504168
A22: TOTAUX | B22: =SUM(B19:B21) -> 17000000 | C22: =SUM(C19:C21) -> 19550000 | D22: =SUM(D19:D21) -> 22482500 | E22: =SUM(E19:E21) -> 25854875 | F22: =SUM(F19:F21) -> 29733106 | G22: =SUM(G19:G21) -> 34193072 | H22: =SUM(H19:H21) -> 39322033 | I22: =SUM(I19:I21) -> 45220338 | ... M22: =SUM(M19:M21) -> 79090654 | N22: =SUM(B22:M22) -> 4.9302835e+08
D26: 1-3-CHIFFRE D'AFFAIRE
G28: Periode : | H28: =+BASE_INFORMATION!C14 -> 2028
A30: LIBELLE | B30: JANVIER | C30: FEVRIER | D30: MARS | E30: AVRIL | F30: MAI | G30: JUIN | H30: JUILLET | I30: AOUT | J30: SEPTEMBRE | K30: OCTOBRE | L30: NOVEMBRE | M30: DECEMBRE | N30: TOTAL
A31: Activité principal du chiffre d'affaire | B31: 45000000 | C31: =+B31*1.15 -> 51750000 | D31: =+C31*1.15 -> 59512500 | E31: =+D31*1.15 -> 68439375 | F31: =+E31*1.15 -> 78705281 | G31: =+F31*1.15 -> 90511073 | H31: =+G31*1.15 -> 1.0408773e+08 | I31: =+H31*1.15 -> 1.1970089e+08 | J31: =+I31*1.15 -> 1.3765603e+08 | ... M31: =+L31*1.15 -> 2.0935761e+08 | N31: =SUM(B31:M31) -> 1.305075e+09
A32: Activité secondaire du chiffre d'affaire | B32: 25000000 | C32: =+B32*1.15 -> 28750000 | D32: =+C32*1.15 -> 33062500 | E32: =+D32*1.15 -> 38021875 | F32: =+E32*1.15 -> 43725156 | G32: =+F32*1.15 -> 50283930 | H32: =+G32*1.15 -> 57826519 | I32: =+H32*1.15 -> 66500497 | J32: =+I32*1.15 -> 76475572 | ... M32: =+L32*1.15 -> 1.1630978e+08 | N32: =SUM(B32:M32) -> 7.2504168e+08
A33: Activité 3 du chiffre d'affaire | B33: 12000000 | C33: =+B33*1.15 -> 13800000 | D33: =+C33*1.15 -> 15870000 | E33: =+D33*1.15 -> 18250500 | F33: =+E33*1.15 -> 20988075 | G33: =+F33*1.15 -> 24136286 | H33: =+G33*1.15 -> 27756729 | I33: =+H33*1.15 -> 31920239 | J33: =+I33*1.15 -> 36708274 | ... M33: =+L33*1.15 -> 55828697 | N33: =SUM(B33:M33) -> 3.4802001e+08
A34: TOTAUX | B34: =SUM(B31:B33) -> 82000000 | C34: =SUM(C31:C33) -> 94300000 | D34: =SUM(D31:D33) -> 1.08445e+08 | E34: =SUM(E31:E33) -> 1.2471175e+08 | F34: =SUM(F31:F33) -> 1.4341851e+08 | G34: =SUM(G31:G33) -> 1.6493129e+08 | H34: =SUM(H31:H33) -> 1.8967098e+08 | I34: =SUM(I31:I33) -> 2.1812163e+08 | ... M34: =SUM(M31:M33) -> 3.8149609e+08 | N34: =SUM(B34:M34) -> 2.3781367e+09
D38: 1-4-CHIFFRE D'AFFAIRE
G40: Periode : | H40: =+BASE_INFORMATION!D14 -> 2029
A42: LIBELLE | B42: JANVIER | C42: FEVRIER | D42: MARS | E42: AVRIL | F42: MAI | G42: JUIN | H42: JUILLET | I42: AOUT | J42: SEPTEMBRE | K42: OCTOBRE | L42: NOVEMBRE | M42: DECEMBRE | N42: TOTAL
A43: Activité principal du chiffre d'affaire | B43: 210000000 | C43: =+B43*1.15 -> 2.415e+08 | D43: =+C43*1.15 -> 2.77725e+08 | E43: =+D43*1.15 -> 3.1938375e+08 | F43: =+E43*1.15 -> 3.6729131e+08 | G43: =+F43*1.15 -> 4.2238501e+08 | H43: =+G43*1.15 -> 4.8574276e+08 | I43: =+H43*1.15 -> 5.5860417e+08 | J43: =+I43*1.15 -> 6.423948e+08 | ... M43: =+L43*1.15 -> 9.7700219e+08 | N43: =SUM(B43:M43) -> 6.0903501e+09
A44: Activité secondaire du chiffre d'affaire | B44: 117000000 | C44: =+B44*1.15 -> 134550000 | D44: =+C44*1.15 -> 154732500 | E44: =+D44*1.15 -> 177942375 | F44: =+E44*1.15 -> 2.0463373e+08 | G44: =+F44*1.15 -> 2.3532879e+08 | H44: =+G44*1.15 -> 2.7062811e+08 | I44: =+H44*1.15 -> 3.1122233e+08 | J44: =+I44*1.15 -> 3.5790567e+08 | ... M44: =+L44*1.15 -> 5.4432979e+08 | N44: =SUM(B44:M44) -> 3.3931951e+09
A45: Activité 3 du chiffre d'affaire | B45: 56000000 | C45: =+B45*1.15 -> 64400000 | D45: =+C45*1.15 -> 74060000 | E45: =+D45*1.15 -> 85169000 | F45: =+E45*1.15 -> 97944350 | G45: =+F45*1.15 -> 1.12636e+08 | H45: =+G45*1.15 -> 1.295314e+08 | I45: =+H45*1.15 -> 1.4896111e+08 | J45: =+I45*1.15 -> 1.7130528e+08 | ... M45: =+L45*1.15 -> 2.6053392e+08 | N45: =SUM(B45:M45) -> 1.6240934e+09
A46: TOTAUX | B46: =SUM(B43:B45) -> 383000000 | C46: =SUM(C43:C45) -> 440450000 | D46: =SUM(D43:D45) -> 5.065175e+08 | E46: =SUM(E43:E45) -> 5.8249512e+08 | F46: =SUM(F43:F45) -> 6.6986939e+08 | G46: =SUM(G43:G45) -> 7.703498e+08 | H46: =SUM(H43:H45) -> 8.8590227e+08 | I46: =SUM(I43:I45) -> 1.0187876e+09 | ... M46: =SUM(M43:M45) -> 1.7818659e+09 | N46: =SUM(B46:M46) -> 1.1107639e+10
D50: 1-5-CHIFFRE D'AFFAIRE
G52: Periode : | H52: =+BASE_INFORMATION!E14 -> 2030
A54: LIBELLE | B54: JANVIER | C54: FEVRIER | D54: MARS | E54: AVRIL | F54: MAI | G54: JUIN | H54: JUILLET | I54: AOUT | J54: SEPTEMBRE | K54: OCTOBRE | L54: NOVEMBRE | M54: DECEMBRE | N54: TOTAL
A55: Activité principal du chiffre d'affaire | B55: 978000000 | C55: =+B55*1.15 -> 1124700000 | D55: =+C55*1.15 -> 1293405000 | E55: =+D55*1.15 -> 1487415750 | F55: =+E55*1.15 -> 1.7105281e+09 | G55: =+F55*1.15 -> 1.9671073e+09 | H55: =+G55*1.15 -> 2.2621734e+09 | I55: =+H55*1.15 -> 2.6014994e+09 | J55: =+I55*1.15 -> 2.9917244e+09 | ... M55: =+L55*1.15 -> 4.5500388e+09 | N55: =SUM(B55:M55) -> 2.8363631e+10
A56: Activité secondaire du chiffre d'affaire | B56: 545000000 | C56: =+B56*1.15 -> 626750000 | D56: =+C56*1.15 -> 720762500 | E56: =+D56*1.15 -> 8.2887687e+08 | F56: =+E56*1.15 -> 9.5320841e+08 | G56: =+F56*1.15 -> 1.0961897e+09 | H56: =+G56*1.15 -> 1.2606181e+09 | I56: =+H56*1.15 -> 1.4497108e+09 | J56: =+I56*1.15 -> 1.6671675e+09 | ... M56: =+L56*1.15 -> 2.5355533e+09 | N56: =SUM(B56:M56) -> 1.5805909e+10
A57: Activité 3 du chiffre d'affaire | B57: 261000000 | C57: =+B57*1.15 -> 300150000 | D57: =+C57*1.15 -> 345172500 | E57: =+D57*1.15 -> 3.9694837e+08 | F57: =+E57*1.15 -> 4.5649063e+08 | G57: =+F57*1.15 -> 5.2496423e+08 | H57: =+G57*1.15 -> 6.0370886e+08 | I57: =+H57*1.15 -> 6.9426519e+08 | J57: =+I57*1.15 -> 7.9840497e+08 | ... M57: =+L57*1.15 -> 1.2142742e+09 | N57: =SUM(B57:M57) -> 7.5694352e+09
A58: TOTAUX | B58: =SUM(B55:B57) -> 1784000000 | C58: =SUM(C55:C57) -> 2051600000 | D58: =SUM(D55:D57) -> 2359340000 | E58: =SUM(E55:E57) -> 2713241000 | F58: =SUM(F55:F57) -> 3.1202271e+09 | G58: =SUM(G55:G57) -> 3.5882612e+09 | H58: =SUM(H55:H57) -> 4.1265004e+09 | I58: =SUM(I55:I57) -> 4.7454755e+09 | ... M58: =SUM(M55:M57) -> 8.2998663e+09 | N58: =SUM(B58:M58) -> 5.1738975e+10

Sheet Detail charge d'exploit_previsl
C2: 1-1-CHARGES D'EXPLOITATION
G4: Periode : | H4: =+BASE_INFORMATION!A14 -> 2026
A6: LIBELLE | B6: JANVIER | C6: FEVRIER | D6: MARS | E6: AVRIL | F6: MAI | G6: JUIN | H6: JUILLET | I6: AOUT | J6: SEPTEMBRE | K6: OCTOBRE | L6: NOVEMBRE | M6: DECEMBRE | N6: TOTAUX
A7: ACHATS
A8: Achats de ,,, | B8: 235000 | C8: =+B8*1.15 -> 270250 | D8: =+C8*1.15 -> 310787.5 | E8: =+D8*1.15 -> 357405.62 | F8: =+E8*1.15 -> 411016.47 | G8: =+F8*1.15 -> 472668.94 | H8: =+G8*1.15 -> 543569.28 | I8: =+H8*1.15 -> 625104.67 | J8: =+I8*1.15 -> 718870.37 | ... M8: =+L8*1.15 -> 1093312 | N8: =+SUM(B8:M8) -> 6815391.8 | O8: 1010000
A9: Achat de fourniture de bureau | B9: 70000 | C9: =+B9*1.15 -> 80500 | D9: =+C9*1.15 -> 92575 | E9: =+D9*1.15 -> 106461.25 | F9: =+E9*1.15 -> 122430.44 | G9: =+F9*1.15 -> 140795 | H9: =+G9*1.15 -> 161914.25 | I9: =+H9*1.15 -> 186201.39 | J9: =+I9*1.15 -> 214131.6 | ... M9: =+L9*1.15 -> 325667.4 | N9: =+SUM(B9:M9) -> 2030116.7 | O9: 326000
A10: Consommation en Eau | B10: 47000 | C10: =+B10*1.15 -> 54050 | D10: =+C10*1.15 -> 62157.5 | E10: =+D10*1.15 -> 71481.125 | F10: =+E10*1.15 -> 82203.294 | G10: =+F10*1.15 -> 94533.788 | H10: =+G10*1.15 -> 108713.86 | I10: =+H10*1.15 -> 125020.93 | J10: =+I10*1.15 -> 143774.07 | ... M10: =+L10*1.15 -> 218662.4 | N10: =+SUM(B10:M10) -> 1363078.4 | O10: 219000
A11: Consommation en Electricité | B11: 94000 | C11: =+B11*1.15 -> 108100 | D11: =+C11*1.15 -> 124315 | E11: =+D11*1.15 -> 142962.25 | F11: =+E11*1.15 -> 164406.59 | G11: =+F11*1.15 -> 189067.58 | H11: =+G11*1.15 -> 217427.71 | I11: =+H11*1.15 -> 250041.87 | J11: =+I11*1.15 -> 287548.15 | ... M11: =+L11*1.15 -> 437324.79 | N11: =+SUM(B11:M11) -> 2726156.7 | O11: 438000
A12: Produits d'entretien | B12: 24000 | C12: =+B12*1.15 -> 27600 | D12: =+C12*1.15 -> 31740 | E12: =+D12*1.15 -> 36501 | F12: =+E12*1.15 -> 41976.15 | G12: =+F12*1.15 -> 48272.572 | H12: =+G12*1.15 -> 55513.458 | I12: =+H12*1.15 -> 63840.477 | J12: =+I12*1.15 -> 73416.549 | ... M12: =+L12*1.15 -> 111657.39 | N12: =+SUM(B12:M12) -> 696040.02 | O12: 112000
A13: Carburant | B13: 70000 | C13: =+B13*1.15 -> 80500 | D13: =+C13*1.15 -> 92575 | E13: =+D13*1.15 -> 106461.25 | F13: =+E13*1.15 -> 122430.44 | G13: =+F13*1.15 -> 140795 | H13: =+G13*1.15 -> 161914.25 | I13: =+H13*1.15 -> 186201.39 | J13: =+I13*1.15 -> 214131.6 | ... M13: =+L13*1.15 -> 325667.4 | N13: =+SUM(B13:M13) -> 2030116.7 | O13: 326000
A14: TOTAL ACHATS | B14: =SUM(B8:B13) -> 540000 | C14: =SUM(C8:C13) -> 621000 | D14: =SUM(D8:D13) -> 714150 | E14: =SUM(E8:E13) -> 821272.5 | F14: =SUM(F8:F13) -> 944463.37 | G14: =SUM(G8:G13) -> 1086132.9 | H14: =SUM(H8:H13) -> 1249052.8 | I14: =SUM(I8:I13) -> 1436410.7 | ... M14: =SUM(M8:M13) -> 2512291.4 | N14: =+SUM(B14:M14) -> 15660900
A15: CHARGES EXTERNES
A16: Loyer | B16: 582000 | C16: =+B16*1.15 -> 669300 | D16: =+C16*1.15 -> 769695 | E16: =+D16*1.15 -> 885149.25 | F16: =+E16*1.15 -> 1017921.6 | G16: =+F16*1.15 -> 1170609.9 | H16: =+G16*1.15 -> 1346201.4 | I16: =+H16*1.15 -> 1548131.6 | J16: =+I16*1.15 -> 1780351.3 | ... M16: =+L16*1.15 -> 2707691.8 | N16: =+SUM(B16:M16) -> 16878970 | O16: 2708000
A17: Frais de télécommunication | B17: 117000 | C17: =+B17*1.15 -> 134550 | D17: =+C17*1.15 -> 154732.5 | E17: =+D17*1.15 -> 177942.38 | F17: =+E17*1.15 -> 204633.73 | G17: =+F17*1.15 -> 235328.79 | H17: =+G17*1.15 -> 270628.11 | I17: =+H17*1.15 -> 311222.33 | J17: =+I17*1.15 -> 357905.67 | ... M17: =+L17*1.15 -> 544329.79 | N17: =+SUM(B17:M17) -> 3393195.1 | O17: 545000
A18: Voyages et Déplacements | B18: 210000 | C18: =+B18*1.15 -> 241500 | D18: =+C18*1.15 -> 277725 | E18: =+D18*1.15 -> 319383.75 | F18: =+E18*1.15 -> 367291.31 | G18: =+F18*1.15 -> 422385.01 | H18: =+G18*1.15 -> 485742.76 | I18: =+H18*1.15 -> 558604.17 | J18: =+I18*1.15 -> 642394.8 | ... M18: =+L18*1.15 -> 977002.19 | N18: =+SUM(B18:M18) -> 6090350.1 | O18: 978000
A19: Pétits materiels et outillages | B19: 70000 | C19: =+B19*1.15 -> 80500 | D19: =+C19*1.15 -> 92575 | E19: =+D19*1.15 -> 106461.25 | F19: =+E19*1.15 -> 122430.44 | G19: =+F19*1.15 -> 140795 | H19: =+G19*1.15 -> 161914.25 | I19: =+H19*1.15 -> 186201.39 | J19: =+I19*1.15 -> 214131.6 | ... M19: =+L19*1.15 -> 325667.4 | N19: =+SUM(B19:M19) -> 2030116.7 | O19: 326000
A20: TOTAL CHARGES EXTERNES | B20: =SUM(B16:B19) -> 979000 | C20: =SUM(C16:C19) -> 1125850 | D20: =SUM(D16:D19) -> 1294727.5 | E20: =SUM(E16:E19) -> 1488936.6 | F20: =SUM(F16:F19) -> 1712277.1 | G20: =SUM(G16:G19) -> 1969118.7 | H20: =SUM(H16:H19) -> 2264486.5 | I20: =SUM(I16:I19) -> 2604159.5 | ... M20: =SUM(M16:M19) -> 4554691.2 | N20: =+SUM(B20:M20) -> 28392632
A21: SALAIRES ET CHARGES
A22: Rémunération de personnel | B22: 1970000 | C22: =+B22*1.15 -> 2265500 | D22: =+C22*1.15 -> 2605325 | E22: =+D22*1.15 -> 2996123.8 | F22: =+E22*1.15 -> 3445542.3 | G22: =+F22*1.15 -> 3962373.7 | H22: =+G22*1.15 -> 4556729.7 | I22: =+H22*1.15 -> 5240239.2 | J22: =+I22*1.15 -> 6026275 | ... M22: =+L22*1.15 -> 9165211.1 | N22: =+SUM(B22:M22) -> 57133285 | O22: 9166000
A23: Transport de personnel | B23: 70000 | C23: =+B23*1.15 -> 80500 | D23: =+C23*1.15 -> 92575 | E23: =+D23*1.15 -> 106461.25 | F23: =+E23*1.15 -> 122430.44 | G23: =+F23*1.15 -> 140795 | H23: =+G23*1.15 -> 161914.25 | I23: =+H23*1.15 -> 186201.39 | J23: =+I23*1.15 -> 214131.6 | ... M23: =+L23*1.15 -> 325667.4 | N23: =+SUM(B23:M23) -> 2030116.7 | O23: 326000
A24: Charges sociales | B24: 117000 | C24: =+B24*1.15 -> 134550 | D24: =+C24*1.15 -> 154732.5 | E24: =+D24*1.15 -> 177942.38 | F24: =+E24*1.15 -> 204633.73 | G24: =+F24*1.15 -> 235328.79 | H24: =+G24*1.15 -> 270628.11 | I24: =+H24*1.15 -> 311222.33 | J24: =+I24*1.15 -> 357905.67 | ... M24: =+L24*1.15 -> 544329.79 | N24: =+SUM(B24:M24) -> 3393195.1 | O24: 545000
A25: TOTAL SALAIRES ET CHARGES | B25: =SUM(B22:B24) -> 2157000 | C25: =SUM(C22:C24) -> 2480550 | D25: =SUM(D22:D24) -> 2852632.5 | E25: =SUM(E22:E24) -> 3280527.4 | F25: =SUM(F22:F24) -> 3772606.5 | G25: =SUM(G22:G24) -> 4338497.5 | H25: =SUM(H22:H24) -> 4989272.1 | I25: =SUM(I22:I24) -> 5737662.9 | ... M25: =SUM(M22:M24) -> 10035208 | N25: =+SUM(B25:M25) -> 62556597
A26: IMPOTS ET TAXES
A27: Taxe sur les salaires | B27: 94000 | C27: =+B27*1.15 -> 108100 | D27: =+C27*1.15 -> 124315 | E27: =+D27*1.15 -> 142962.25 | F27: =+E27*1.15 -> 164406.59 | G27: =+F27*1.15 -> 189067.58 | H27: =+G27*1.15 -> 217427.71 | I27: =+H27*1.15 -> 250041.87 | J27: =+I27*1.15 -> 287548.15 | ... M27: =+L27*1.15 -> 437324.79 | N27: =+SUM(B27:M27) -> 2726156.7 | O27: 438000
A28: Autres taxes | B28: 70000 | C28: =+B28*1.15 -> 80500 | D28: =+C28*1.15 -> 92575 | E28: =+D28*1.15 -> 106461.25 | F28: =+E28*1.15 -> 122430.44 | G28: =+F28*1.15 -> 140795 | H28: =+G28*1.15 -> 161914.25 | I28: =+H28*1.15 -> 186201.39 | J28: =+I28*1.15 -> 214131.6 | ... M28: =+L28*1.15 -> 325667.4 | N28: =+SUM(B28:M28) -> 2030116.7 | O28: 326000
A29: TOTAL IMPOTS ET TAXES | B29: =SUM(B27:B28) -> 164000 | C29: =SUM(C27:C28) -> 188600 | D29: =SUM(D27:D28) -> 216890 | E29: =SUM(E27:E28) -> 249423.5 | F29: =SUM(F27:F28) -> 286837.02 | G29: =SUM(G27:G28) -> 329862.58 | H29: =SUM(H27:H28) -> 379341.97 | I29: =SUM(I27:I28) -> 436243.26 | ... M29: =SUM(M27:M28) -> 762992.19 | N29: =+SUM(B29:M29) -> 4756273.4
A30: TOTAL CHARGES D'EXPLOITATIONS | B30: =+B29+B25+B20+B14 -> 3840000 | C30: =+C29+C25+C20+C14 -> 4416000 | D30: =+D29+D25+D20+D14 -> 5078400 | E30: =+E29+E25+E20+E14 -> 5840160 | F30: =+F29+F25+F20+F14 -> 6716184 | G30: =+G29+G25+G20+G14 -> 7723611.6 | H30: =H29+H25+H20+H14 -> 8882153.3 | I30: =I29+I25+I20+I14 -> 10214476 | J30: =J29+J25+J20+J14 -> 11746648 | K30: =K29+K25+K20+K14 -> 13508645 | L30: =L29+L25+L20+L14 -> 15534942 | M30: =M29+M25+M20+M14 -> 17865183 | N30: =+SUM(B30:M30) -> 1.113664e+08
C33: 1-2-CHARGES D'EXPLOITATION
G35: Periode : | H35: =+BASE_INFORMATION!B14 -> 2027
A37: =+A6 -> LIBELLE | B37: =+B6 -> JANVIER | C37: =+C6 -> FEVRIER | D37: =+D6 -> MARS | E37: =+E6 -> AVRIL | F37: =+F6 -> MAI | G37: =+G6 -> JUIN | H37: =+H6 -> JUILLET | ... M37: =+M6 -> DECEMBRE | N37: TOTAL
A38: =+A7 -> ACHATS
A39: =+A8 -> Achats de ,,, | B39: =+M8 -> 1093312 | C39: =+B39*1.15 -> 1257308.8 | D39: =+C39*1.15 -> 1445905.1 | E39: =+D39*1.15 -> 1662790.9 | F39: =+E39*1.15 -> 1912209.5 | G39: =+F39*1.15 -> 2199040.9 | H39: =+G39*1.15 -> 2528897 | I39: =+H39*1.15 -> 2908231.6 | J39: =+I39*1.15 -> 3344466.3 | ... M39: =+L39*1.15 -> 5086515.2 | N39: =+SUM(B39:M39) -> 31707870
A40: =+A9 -> Achat de fourniture de bureau | B40: =+M9 -> 325667.4 | C40: =+B40*1.15 -> 374517.51 | D40: =+C40*1.15 -> 430695.13 | E40: =+D40*1.15 -> 495299.4 | F40: =+E40*1.15 -> 569594.31 | G40: =+F40*1.15 -> 655033.46 | H40: =+G40*1.15 -> 753288.48 | I40: =+H40*1.15 -> 866281.75 | J40: =+I40*1.15 -> 996224.02 | ... M40: =+L40*1.15 -> 1515132.2 | N40: =+SUM(B40:M40) -> 9444897.5
A41: =+A10 -> Consommation en Eau | B41: =+M10 -> 218662.4 | C41: =+B41*1.15 -> 251461.75 | D41: =+C41*1.15 -> 289181.02 | E41: =+D41*1.15 -> 332558.17 | F41: =+E41*1.15 -> 382441.9 | G41: =+F41*1.15 -> 439808.18 | H41: =+G41*1.15 -> 505779.41 | I41: =+H41*1.15 -> 581646.32 | J41: =+I41*1.15 -> 668893.27 | ... M41: =+L41*1.15 -> 1017303 | N41: =+SUM(B41:M41) -> 6341574.1
A42: =+A11 -> Consommation en Electricité | B42: =+M11 -> 437324.79 | C42: =+B42*1.15 -> 502923.51 | D42: =+C42*1.15 -> 578362.04 | E42: =+D42*1.15 -> 665116.34 | F42: =+E42*1.15 -> 764883.79 | G42: =+F42*1.15 -> 879616.36 | H42: =+G42*1.15 -> 1011558.8 | I42: =+H42*1.15 -> 1163292.6 | J42: =+I42*1.15 -> 1337786.5 | ... M42: =+L42*1.15 -> 2034606.1 | N42: =+SUM(B42:M42) -> 12683148
A43: =+A12 -> Produits d'entretien | B43: =+M12 -> 111657.39 | C43: =+B43*1.15 -> 128406 | D43: =+C43*1.15 -> 147666.9 | E43: =+D43*1.15 -> 169816.94 | F43: =+E43*1.15 -> 195289.48 | G43: =+F43*1.15 -> 224582.9 | H43: =+G43*1.15 -> 258270.34 | I43: =+H43*1.15 -> 297010.89 | J43: =+I43*1.15 -> 341562.52 | ... M43: =+L43*1.15 -> 519473.9 | N43: =+SUM(B43:M43) -> 3238250.6
A44: =+A13 -> Carburant | B44: =+M13 -> 325667.4 | C44: =+B44*1.15 -> 374517.51 | D44: =+C44*1.15 -> 430695.13 | E44: =+D44*1.15 -> 495299.4 | F44: =+E44*1.15 -> 569594.31 | G44: =+F44*1.15 -> 655033.46 | H44: =+G44*1.15 -> 753288.48 | I44: =+H44*1.15 -> 866281.75 | J44: =+I44*1.15 -> 996224.02 | ... M44: =+L44*1.15 -> 1515132.2 | N44: =+SUM(B44:M44) -> 9444897.5
A45: =+A14 -> TOTAL ACHATS | B45: =SUM(B39:B44) -> 2512291.4 | C45: =SUM(C39:C44) -> 2889135.1 | D45: =SUM(D39:D44) -> 3322505.3 | E45: =SUM(E39:E44) -> 3820881.1 | F45: =SUM(F39:F44) -> 4394013.3 | G45: =SUM(G39:G44) -> 5053115.3 | H45: =SUM(H39:H44) -> 5811082.6 | I45: =SUM(I39:I44) -> 6682744.9 | ... M45: =SUM(M39:M44) -> 11688163 | N45: =+SUM(B45:M45) -> 72860638
A46: =+A15 -> CHARGES EXTERNES
A47: =+A16 -> Loyer | B47: =+M16 -> 2707691.8 | C47: =+B47*1.15 -> 3113845.6 | D47: =+C47*1.15 -> 3580922.4 | E47: =+D47*1.15 -> 4118060.8 | F47: =+E47*1.15 -> 4735769.9 | G47: =+F47*1.15 -> 5446135.3 | H47: =+G47*1.15 -> 6263055.7 | I47: =+H47*1.15 -> 7202514 | J47: =+I47*1.15 -> 8282891.1 | ... M47: =+L47*1.15 -> 12597242 | N47: =+SUM(B47:M47) -> 78527577
...

Sheet CA_annuel_PREVISL
A2: 1-CHIFFRE D'AFFAIRE PREVISIONNEL
A6: LIBELLE | B6: =BASE_INFORMATION!A14 -> 2026 | C6: =BASE_INFORMATION!B14 -> 2027 | D6: =BASE_INFORMATION!C14 -> 2028 | E6: =BASE_INFORMATION!D14 -> 2029 | F6: =BASE_INFORMATION!E14 -> 2030 | G6: TOTAL
A7: =+'Chifre d''affaire-mens_anné_N'!A8 -> Activité principal du chiffre d'affaire | B7: =+'Detail_Chiffr d''affair-Previsl'!N8 -> 59250406 | C7: =+'Detail_Chiffr d''affair-Previsl'!N19 -> 2.7551584e+08 | D7: =+'Detail_Chiffr d''affair-Previsl'!N31 -> 1.305075e+09 | E7: =+'Detail_Chiffr d''affair-Previsl'!N43 -> 6.0903501e+09 | F7: =+'Detail_Chiffr d''affair-Previsl'!N55 -> 2.8363631e+10 | G7: =SUM(B7:F7) -> 3.6093822e+10
A8: =+'Chifre d''affaire-mens_anné_N'!A9 -> Activité secondaire du chiffre d'affaire | B8: =+'Detail_Chiffr d''affair-Previsl'!N9 -> 31176792 | C8: =+'Detail_Chiffr d''affair-Previsl'!N20 -> 1.4500834e+08 | D8: =+'Detail_Chiffr d''affair-Previsl'!N32 -> 7.2504168e+08 | E8: =+'Detail_Chiffr d''affair-Previsl'!N44 -> 3.3931951e+09 | F8: =+'Detail_Chiffr d''affair-Previsl'!N56 -> 1.5805909e+10 | G8: =SUM(B8:F8) -> 2.0100331e+10
A9: =+'Chifre d''affaire-mens_anné_N'!A10 -> Activité 3 du chiffre d'affaire | B9: =+'Detail_Chiffr d''affair-Previsl'!N10 -> 15602897 | C9: =+'Detail_Chiffr d''affair-Previsl'!N21 -> 72504168 | D9: =+'Detail_Chiffr d''affair-Previsl'!N33 -> 3.4802001e+08 | E9: =+'Detail_Chiffr d''affair-Previsl'!N45 -> 1.6240934e+09 | F9: =+'Detail_Chiffr d''affair-Previsl'!N57 -> 7.5694352e+09 | G9: =SUM(B9:F9) -> 9.6296556e+09
A10: TOTAUX | B10: =+SUM(B7:B9) -> 1.060301e+08 | C10: =+SUM(C7:C9) -> 4.9302835e+08 | D10: =+SUM(D7:D9) -> 2.3781367e+09 | E10: =+SUM(E7:E9) -> 1.1107639e+10 | F10: =+SUM(F7:F9) -> 5.1738975e+10 | G10: =+SUM(G7:G9) -> 6.5823808e+10

Sheet Feuil5

Sheet Charg-annuel_EXPL-PREVSL
A1: 2-CHARGES D'EXPLOITATION PREVISIONNEL
A3: LIBELLE | B3: =BASE_INFORMATION!A14 -> 2026 | C3: =BASE_INFORMATION!B14 -> 2027 | D3: =BASE_INFORMATION!C14 -> 2028 | E3: =BASE_INFORMATION!D14 -> 2029 | F3: =BASE_INFORMATION!E14 -> 2030 | G3: TOTAL
A4: =+'Detail charge d''exploit_previsl'!A7 -> #REF!
A5: =+'Detail charge d''exploit_previsl'!A8 -> Achats de ,,, | B5: =+'Detail charge d''exploit_previsl'!N8 -> 6815391.8 | C5: =+'Detail charge d''exploit_previsl'!N39 -> 31707870 | D5: =+'Detail charge d''exploit_previsl'!N70 -> 1.4751742e+08 | E5: =+'Detail charge d''exploit_previsl'!N101 -> 6.8630879e+08 | F5: =+'Detail charge d''exploit_previsl'!N132 -> 3.1929771e+09 | G5: =SUM(B5:F5) -> 4.0653266e+09
A6: =+'Detail charge d''exploit_previsl'!A9 -> Achat de fourniture de bureau | B6: =+'Detail charge d''exploit_previsl'!N9 -> 2030116.7 | C6: =+'Detail charge d''exploit_previsl'!N40 -> 9444897.5 | D6: =+'Detail charge d''exploit_previsl'!N71 -> 43941360 | E6: =+'Detail charge d''exploit_previsl'!N102 -> 2.0443241e+08 | F6: =+'Detail charge d''exploit_previsl'!N133 -> 9.5109956e+08 | G6: =SUM(B6:F6) -> 1.2109483e+09
A7: =+'Detail charge d''exploit_previsl'!A10 -> Consommation en Eau | B7: =+'Detail charge d''exploit_previsl'!N10 -> 1363078.4 | C7: =+'Detail charge d''exploit_previsl'!N41 -> 6341574.1 | D7: =+'Detail charge d''exploit_previsl'!N72 -> 29503485 | E7: =+'Detail charge d''exploit_previsl'!N103 -> 1.3726176e+08 | F7: =+'Detail charge d''exploit_previsl'!N134 -> 6.3859542e+08 | G7: =SUM(B7:F7) -> 8.1306532e+08
A8: =+'Detail charge d''exploit_previsl'!A11 -> Consommation en Electricité | B8: =+'Detail charge d''exploit_previsl'!N11 -> 2726156.7 | C8: =+'Detail charge d''exploit_previsl'!N42 -> 12683148 | D8: =+'Detail charge d''exploit_previsl'!N73 -> 59006969 | E8: =+'Detail charge d''exploit_previsl'!N104 -> 2.7452352e+08 | F8: =+'Detail charge d''exploit_previsl'!N135 -> 1.2771908e+09 | G8: =SUM(B8:F8) -> 1.6261306e+09
A9: =+'Detail charge d''exploit_previsl'!A12 -> Produits d'entretien | B9: =+'Detail charge d''exploit_previsl'!N12 -> 696040.02 | C9: =+'Detail charge d''exploit_previsl'!N43 -> 3238250.6 | D9: =+'Detail charge d''exploit_previsl'!N74 -> 15065609 | E9: =+'Detail charge d''exploit_previsl'!N105 -> 70091110 | F9: =+'Detail charge d''exploit_previsl'!N136 -> 3.2609128e+08 | G9: =SUM(B9:F9) -> 4.1518229e+08
A10: =+'Detail charge d''exploit_previsl'!A13 -> Carburant | B10: =+'Detail charge d''exploit_previsl'!N13 -> 2030116.7 | C10: =+'Detail charge d''exploit_previsl'!N44 -> 9444897.5 | D10: =+'Detail charge d''exploit_previsl'!N75 -> 43941360 | E10: =+'Detail charge d''exploit_previsl'!N106 -> 2.0443241e+08 | F10: =+'Detail charge d''exploit_previsl'!N137 -> 9.5109956e+08 | G10: =SUM(B10:F10) -> 1.2109483e+09
A11: =+'Detail charge d''exploit_previsl'!A14 -> TOTAL ACHATS | B11: =+'Detail charge d''exploit_previsl'!N14 -> 15660900 | C11: =+'Detail charge d''exploit_previsl'!N45 -> 72860638 | D11: =+'Detail charge d''exploit_previsl'!N76 -> 3.3897621e+08 | E11: =+'Detail charge d''exploit_previsl'!N107 -> 1.57705e+09 | F11: =+'Detail charge d''exploit_previsl'!N138 -> 7.3370538e+09 | G11: =SUM(B11:F11) -> 9.3416015e+09
A12: =+'Detail charge d''exploit_previsl'!A15:M15 -> CHARGES EXTERNES
A13: =+'Detail charge d''exploit_previsl'!A16 -> Loyer | B13: =+'Detail charge d''exploit_previsl'!N16 -> 16878970 | C13: =+'Detail charge d''exploit_previsl'!N47 -> 78527577 | D13: =+'Detail charge d''exploit_previsl'!N78 -> 3.6534102e+08 | E13: =+'Detail charge d''exploit_previsl'!N109 -> 1.6997094e+09 | F13: =+'Detail charge d''exploit_previsl'!N140 -> 7.9077135e+09 | G13: =SUM(B13:F13) -> 1.0068171e+10
A14: =+'Detail charge d''exploit_previsl'!A17 -> Frais de télécommunication | B14: =+'Detail charge d''exploit_previsl'!N17 -> 3393195.1 | C14: =+'Detail charge d''exploit_previsl'!N48 -> 15786472 | D14: =+'Detail charge d''exploit_previsl'!N79 -> 73444845 | E14: =+'Detail charge d''exploit_previsl'!N110 -> 3.4169416e+08 | F14: =+'Detail charge d''exploit_previsl'!N141 -> 1.589695e+09 | G14: =SUM(B14:F14) -> 2.0240137e+09
A15: =+'Detail charge d''exploit_previsl'!A18 -> Voyages et Déplacements | B15: =+'Detail charge d''exploit_previsl'!N18 -> 6090350.1 | C15: =+'Detail charge d''exploit_previsl'!N49 -> 28334693 | D15: =+'Detail charge d''exploit_previsl'!N80 -> 1.3182408e+08 | E15: =+'Detail charge d''exploit_previsl'!N111 -> 6.1329722e+08 | F15: =+'Detail charge d''exploit_previsl'!N142 -> 2.8532987e+09 | G15: =SUM(B15:F15) -> 3.632845e+09
A16: =+'Detail charge d''exploit_previsl'!A19 -> Pétits materiels et outillages | B16: =+'Detail charge d''exploit_previsl'!N19 -> 2030116.7 | C16: =+'Detail charge d''exploit_previsl'!N50 -> 9444897.5 | D16: =+'Detail charge d''exploit_previsl'!N81 -> 43941360 | E16: =+'Detail charge d''exploit_previsl'!N112 -> 2.0443241e+08 | F16: =+'Detail charge d''exploit_previsl'!N143 -> 9.5109956e+08 | G16: =SUM(B16:F16) -> 1.2109483e+09
A17: =+'Detail charge d''exploit_previsl'!A20 -> TOTAL CHARGES EXTERNES | B17: =+'Detail charge d''exploit_previsl'!N20 -> 28392632 | C17: =+'Detail charge d''exploit_previsl'!N51 -> 1.3209364e+08 | D17: =+'Detail charge d''exploit_previsl'!N82 -> 6.1455131e+08 | E17: =+'Detail charge d''exploit_previsl'!N113 -> 2.8591332e+09 | F17: =+'Detail charge d''exploit_previsl'!N144 -> 1.3301807e+10 | G17: =SUM(B17:F17) -> 1.6935978e+10
A18: =+'Detail charge d''exploit_previsl'!A21:M21 -> SALAIRES ET CHARGES
A19: =+'Detail charge d''exploit_previsl'!A22 -> Rémunération de personnel | B19: =+'Detail charge d''exploit_previsl'!N22 -> 57133285 | C19: =+'Detail charge d''exploit_previsl'!N53 -> 2.658064e+08 | D19: =+'Detail charge d''exploit_previsl'!N84 -> 1.2366354e+09 | E19: =+'Detail charge d''exploit_previsl'!N115 -> 5.753312e+09 | F19: =+'Detail charge d''exploit_previsl'!N146 -> 2.6766659e+10 | G19: =SUM(B19:F19) -> 3.4079546e+10
A20: =+'Detail charge d''exploit_previsl'!A23 -> Transport de personnel | B20: =+'Detail charge d''exploit_previsl'!N23 -> 2030116.7 | C20: =+'Detail charge d''exploit_previsl'!N54 -> 9444897.5 | D20: =+'Detail charge d''exploit_previsl'!N85 -> 43941360 | E20: =+'Detail charge d''exploit_previsl'!N116 -> 2.0443241e+08 | F20: =+'Detail charge d''exploit_previsl'!N147 -> 9.5109956e+08 | G20: =SUM(B20:F20) -> 1.2109483e+09
A21: =+'Detail charge d''exploit_previsl'!A24 -> Charges sociales | B21: =+'Detail charge d''exploit_previsl'!N24 -> 3393195.1 | C21: =+'Detail charge d''exploit_previsl'!N55 -> 15786472 | D21: =+'Detail charge d''exploit_previsl'!N86 -> 73444845 | E21: =+'Detail charge d''exploit_previsl'!N117 -> 3.4169416e+08 | F21: =+'Detail charge d''exploit_previsl'!N148 -> 1.589695e+09 | G21: =SUM(B21:F21) -> 2.0240137e+09
A22: =+'Detail charge d''exploit_previsl'!A25 -> TOTAL SALAIRES ET CHARGES | B22: =+'Detail charge d''exploit_previsl'!N25 -> 62556597 | C22: =+'Detail charge d''exploit_previsl'!N56 -> 2.9103777e+08 | D22: =+'Detail charge d''exploit_previsl'!N87 -> 1.3540216e+09 | E22: =+'Detail charge d''exploit_previsl'!N118 -> 6.2994386e+09 | F22: =+'Detail charge d''exploit_previsl'!N149 -> 2.9307454e+10 | G22: =SUM(B22:F22) -> 3.7314508e+10
A23: =+'Detail charge d''exploit_previsl'!A26:M26 -> IMPOTS ET TAXES
A24: =+'Detail charge d''exploit_previsl'!A27 -> Taxe sur les salaires | B24: =+'Detail charge d''exploit_previsl'!N27 -> 2726156.7 | C24: =+'Detail charge d''exploit_previsl'!N58 -> 12683148 | D24: =+'Detail charge d''exploit_previsl'!N89 -> 59006969 | E24: =+'Detail charge d''exploit_previsl'!N120 -> 2.7452352e+08 | F24: =+'Detail charge d''exploit_previsl'!N151 -> 1.2771908e+09 | G24: =SUM(B24:F24) -> 1.6261306e+09
A25: =+'Detail charge d''exploit_previsl'!A28 -> Autres taxes | B25: =+'Detail charge d''exploit_previsl'!N28 -> 2030116.7 | C25: =+'Detail charge d''exploit_previsl'!N59 -> 9444897.5 | D25: =+'Detail charge d''exploit_previsl'!N90 -> 43941360 | E25: =+'Detail charge d''exploit_previsl'!N121 -> 2.0443241e+08 | F25: =+'Detail charge d''exploit_previsl'!N152 -> 9.5109956e+08 | G25: =SUM(B25:F25) -> 1.2109483e+09
A26: =+'Detail charge d''exploit_previsl'!A29 -> TOTAL IMPOTS ET TAXES | B26: =+'Detail charge d''exploit_previsl'!N29 -> 4756273.4 | C26: =+'Detail charge d''exploit_previsl'!N60 -> 22128046 | D26: =+'Detail charge d''exploit_previsl'!N91 -> 1.0294833e+08 | E26: =+'Detail charge d''exploit_previsl'!N122 -> 4.7895592e+08 | F26: =+'Detail charge d''exploit_previsl'!N153 -> 2.2282904e+09 | G26: =SUM(B26:F26) -> 2.837079e+09
A27: =+'Detail charge d''exploit_previsl'!A30 -> TOTAL CHARGES D'EXPLOITATIONS | B27: =+'Detail charge d''exploit_previsl'!N30 -> 1.113664e+08 | C27: =+'Detail charge d''exploit_previsl'!N61 -> 5.1812009e+08 | D27: =+'Detail charge d''exploit_previsl'!N92 -> 2.4104975e+09 | E27: =+'Detail charge d''exploit_previsl'!N123 -> 1.1214578e+10 | F27: =+'Detail charge d''exploit_previsl'!N154 -> 5.2174605e+10 | G27: =+G26+G22+G17+G11 -> 6.6429166e+10

Sheet Compte-annuel_EXPL-PREVSL
A2: 3- COMPTE D'EXPLOITATION
A5: LIBELLE | B5: ='Charg-annuel_EXPL-PREVSL'!B3 -> 2026 | C5: ='Charg-annuel_EXPL-PREVSL'!C3 -> 2027 | D5: ='Charg-annuel_EXPL-PREVSL'!D3 -> 2028 | E5: ='Charg-annuel_EXPL-PREVSL'!E3 -> 2029 | F5: ='Charg-annuel_EXPL-PREVSL'!F3 -> 2030 | G5: TOTAL
A6: CHIFFRE D'AFFAIRE
