Workbook

Sheet MATRICE
B1: LIBELLE | C1: TIERS converti 1 | D1: TIERS converti 2 | E1: TIERS converti 3 | F1: Tiers | G1: Categories | H1: Sous Categorie
A2: 1 | B2: tg('gBC | C2: tg('g | D2: B | E2: C | F2: TIERS A | G2: vygf | H2: Frba
A3: 2 | B3: rg'tgEFR | C3: rg'tg | D3: E | E3: FR | F3: TIERS B | G3: giu | H3: ite
A4: 3 | B4: rrAB | C4: rr | D4: A | E4: B | F4: TIERS C | G4: D Ba | H4: Transompte
A5: 4 | B5: DBBAN | C5: tg('g | D5: B | E5: C
A6: 5 | B6: AVIEVIR | C6: AVI | D6: E | E6: VIR | F6: TIERS C | G6: Rnu | H6: Rachmé
A7: 6 | B7: tt(ADIREj | C7: tt( | D7: A | E7: DIREj | F7: TIERS D | G7: Rnu | H7: Rachmé
A8: 7 | B8: SEP+B8:F208Agrrtt | C8: SEP+B8:F208A | D8: g | E8: rrtt | F8: TIgRS B | G8: C Assu | H8: itat prinal
A9: 8 | B9: SEP+B8:F208AE | C9: SEP+B8:F208A | D9: E | F9: TIERS C | G9: J Honnres | H9: Cabt comle
A10: 9 | B10: SEP+B8:F208AAAU | C10: tg('g | D10: B | E10: C
A11: 15 | B11: AVIEVIR | C11: AVI | D11: E | E11: VIR | F11: 20200 | G11: 677 | H11: 456
A12: 16 | B12: ETC… | C12: ETC… | D12: 1 | E12: ETC… | F12: 20201 | G12: 678 | H12: 457
A13: 17 | B13: ETC… | C13: ETC… | D13: 2 | F13: 20202 | G13: 679 | H13: 458
A14: 18 | B14: ETC… | C14: ETC… | D14: 3 | E14: ETC… | F14: 20203 | G14: 680 | H14: 459
A15: 19 | B15: ETC… | C15: ETC… | E15: 4 | F15: 20204 | G15: 681 | H15: 460
A16: 20 | B16: ETC… | C16: ETC… | D16: 5 | E16: ETC… | F16: 20205 | G16: 682 | H16: 461
A17: 21 | B17: ETC… | C17: ETC… | D17: 6 | E17: ETC… | F17: 20206 | G17: 683 | H17: 462
A18: 22 | B18: ETC… | C18: 7 | E18: ETC… | F18: 20207 | G18: 684 | H18: 463
A19: 23 | B19: ETC… | C19: ETC… | D19: 8 | E19: ETC… | F19: 20208 | G19: 685 | H19: 464
A20: 24 | B20: ETC… | C20: ETC… | D20: 9 | E20: ETC… | F20: 20209 | G20: 686 | H20: 465
A21: 25 | B21: ETC… | C21: ETC… | E21: 10 | F21: 20210 | G21: 687 | H21: 466
A22: 26 | B22: ETC… | C22: 11 | E22: ETC… | F22: 20211 | G22: 688 | H22: 467
D23: 12 | F23: 20212 | G23: 689 | H23: 468
D24: 13 | F24: 20213 | G24: 690 | H24: 469
E25: 14 | F25: 20214 | G25: 691 | H25: 470
D26: 15 | F26: 20215 | G26: 692 | H26: 471

Sheet TELECHARGEMENT
A1: Libellé | B1: TIERS converti 1 | C1: TIERS converti 2 | D1: TIERS converti 3 | E1: Debit | F1: Crédit € | G1: Solde progressif | H1: Tiers | I1: Categories | J1: Sous Categorie
A2: tg('gBC | B2: tg('g | C2: B | D2: C | E2: -136 | H2: {=INDEX(MATRICE!F:F,SUMPRODUCT(MAX(COUNTIF(B2:D2,MATRICE!E:E)*ROW($1:$10))))} -> #N/A | I2: {=INDEX(MATRICE!G:G,SUMPRODUCT(MAX(COUNTIF(B1:D2,MATRICE!F:F)*ROW($1:$10))))} -> #N/A | J2: {=INDEX(MATRICE!H:H,SUMPRODUCT(MAX(COUNTIF(C1:E2,MATRICE!G:G)*ROW($1:$10))))} -> #N/A
A3: rg'tgEFR | B3: rg'tg | C3: E | D3: FR | F3: 18.85 | H3: {=INDEX(MATRICE!F:F,SUMPRODUCT(MAX(COUNTIF(#REF!,MATRICE!E:E)*ROW($1:$10))))} -> #REF! | I3: {=INDEX(MATRICE!G:G,SUMPRODUCT(MAX(COUNTIF(B2:D3,MATRICE!F:F)*ROW($1:$10))))} -> #N/A | J3: {=INDEX(MATRICE!H:H,SUMPRODUCT(MAX(COUNTIF(C2:E3,MATRICE!G:G)*ROW($1:$10))))} -> #N/A
A4: rrAB | B4: rr | C4: A | D4: B | E4: -699.1 | H4: {=INDEX(MATRICE!F:F,SUMPRODUCT(MAX(COUNTIF(#REF!,MATRICE!E:E)*ROW($1:$10))))} -> #REF! | I4: {=INDEX(MATRICE!G:G,SUMPRODUCT(MAX(COUNTIF(B3:D4,MATRICE!F:F)*ROW($1:$10))))} -> #N/A | J4: {=INDEX(MATRICE!H:H,SUMPRODUCT(MAX(COUNTIF(C3:E4,MATRICE!G:G)*ROW($1:$10))))} -> #N/A
A5: DBBAN | B5: tg('g | C5: B | D5: C | E5: -194.58 | H5: {=INDEX(MATRICE!F:F,SUMPRODUCT(MAX(COUNTIF(#REF!,MATRICE!E:E)*ROW($1:$10))))} -> #REF! | I5: {=INDEX(MATRICE!G:G,SUMPRODUCT(MAX(COUNTIF(B4:D5,MATRICE!F:F)*ROW($1:$10))))} -> #N/A | J5: {=INDEX(MATRICE!H:H,SUMPRODUCT(MAX(COUNTIF(C4:E5,MATRICE!G:G)*ROW($1:$10))))} -> #N/A
A6: AVIEVIR | B6: AVI | C6: E | D6: VIR | F6: 1400 | H6: {=INDEX(MATRICE!F:F,SUMPRODUCT(MAX(COUNTIF(#REF!,MATRICE!E:E)*ROW($1:$10))))} -> #REF! | I6: {=INDEX(MATRICE!G:G,SUMPRODUCT(MAX(COUNTIF(B5:D6,MATRICE!F:F)*ROW($1:$10))))} -> #N/A | J6: {=INDEX(MATRICE!H:H,SUMPRODUCT(MAX(COUNTIF(C5:E6,MATRICE!G:G)*ROW($1:$10))))} -> #N/A
A7: tt(ADIREj | B7: tt( | C7: A | D7: DIREj | E7: -125 | H7: {=INDEX(MATRICE!F:F,SUMPRODUCT(MAX(COUNTIF(#REF!,MATRICE!E:E)*ROW($1:$10))))} -> #REF! | I7: {=INDEX(MATRICE!G:G,SUMPRODUCT(MAX(COUNTIF(B6:D7,MATRICE!F:F)*ROW($1:$10))))} -> #N/A | J7: {=INDEX(MATRICE!H:H,SUMPRODUCT(MAX(COUNTIF(C6:E7,MATRICE!G:G)*ROW($1:$10))))} -> #N/A
A8: SEP+B8:F208Agrrtt | B8: SEP+B8:F208A | C8: g | D8: rrtt | E8: -95 | H8: {=INDEX(MATRICE!F:F,SUMPRODUCT(MAX(COUNTIF(#REF!,MATRICE!E:E)*ROW($1:$10))))} -> #REF! | I8: {=INDEX(MATRICE!G:G,SUMPRODUCT(MAX(COUNTIF(B7:D8,MATRICE!F:F)*ROW($1:$10))))} -> #N/A | J8: {=INDEX(MATRICE!H:H,SUMPRODUCT(MAX(COUNTIF(C7:E8,MATRICE!G:G)*ROW($1:$10))))} -> #N/A
A9: SEP+B8:F208AE | B9: SEP+B8:F208A | C9: E | E9: -42.75 | H9: {=INDEX(MATRICE!F:F,SUMPRODUCT(MAX(COUNTIF(#REF!,MATRICE!E:E)*ROW($1:$10))))} -> #REF! | I9: {=INDEX(MATRICE!G:G,SUMPRODUCT(MAX(COUNTIF(B8:D9,MATRICE!F:F)*ROW($1:$10))))} -> #N/A | J9: {=INDEX(MATRICE!H:H,SUMPRODUCT(MAX(COUNTIF(C8:E9,MATRICE!G:G)*ROW($1:$10))))} -> #N/A
A10: SEP+B8:F208AAAU | B10: tg('g | C10: B | D10: C | E10: -241.5 | H10: {=INDEX(MATRICE!F:F,SUMPRODUCT(MAX(COUNTIF(#REF!,MATRICE!E:E)*ROW($1:$10))))} -> #REF! | I10: {=INDEX(MATRICE!G:G,SUMPRODUCT(MAX(COUNTIF(B9:D10,MATRICE!F:F)*ROW($1:$10))))} -> #N/A | J10: {=INDEX(MATRICE!H:H,SUMPRODUCT(MAX(COUNTIF(C9:E10,MATRICE!G:G)*ROW($1:$10))))} -> #N/A
A11: tg('gBC | B11: tg('g | C11: B | D11: C | H11: {=INDEX(MATRICE!F:F,SUMPRODUCT(MAX(COUNTIF(#REF!,MATRICE!E:E)*ROW($1:$10))))} -> #REF! | I11: {=INDEX(MATRICE!G:G,SUMPRODUCT(MAX(COUNTIF(B10:D11,MATRICE!F:F)*ROW($1:$10))))} -> #N/A | J11: {=INDEX(MATRICE!H:H,SUMPRODUCT(MAX(COUNTIF(C10:E11,MATRICE!G:G)*ROW($1:$10))))} -> #N/A
A12: AVIEVIR | B12: AVI | C12: E | D12: VIR | H12: {=INDEX(MATRICE!F:F,SUMPRODUCT(MAX(COUNTIF(#REF!,MATRICE!E:E)*ROW($1:$10))))} -> #REF! | I12: {=INDEX(MATRICE!G:G,SUMPRODUCT(MAX(COUNTIF(B11:D12,MATRICE!F:F)*ROW($1:$10))))} -> #N/A | J12: {=INDEX(MATRICE!H:H,SUMPRODUCT(MAX(COUNTIF(C11:E12,MATRICE!G:G)*ROW($1:$10))))} -> #N/A
A13: ETC…1ETC… | B13: ETC… | C13: 1 | D13: ETC… | H13: {=INDEX(MATRICE!F:F,SUMPRODUCT(MAX(COUNTIF(#REF!,MATRICE!E:E)*ROW($1:$10))))} -> #REF! | I13: {=INDEX(MATRICE!G:G,SUMPRODUCT(MAX(COUNTIF(B12:D13,MATRICE!F:F)*ROW($1:$10))))} -> #N/A | J13: {=INDEX(MATRICE!H:H,SUMPRODUCT(MAX(COUNTIF(C12:E13,MATRICE!G:G)*ROW($1:$10))))} -> #N/A
A14: ETC…2 | B14: ETC… | C14: 2 | H14: {=INDEX(MATRICE!F:F,SUMPRODUCT(MAX(COUNTIF(#REF!,MATRICE!E:E)*ROW($1:$10))))} -> #REF! | I14: {=INDEX(MATRICE!G:G,SUMPRODUCT(MAX(COUNTIF(B13:D14,MATRICE!F:F)*ROW($1:$10))))} -> #N/A | J14: {=INDEX(MATRICE!H:H,SUMPRODUCT(MAX(COUNTIF(C13:E14,MATRICE!G:G)*ROW($1:$10))))} -> #N/A
A15: ETC…3ETC… | B15: ETC… | C15: 3 | D15: ETC… | H15: {=INDEX(MATRICE!F:F,SUMPRODUCT(MAX(COUNTIF(#REF!,MATRICE!E:E)*ROW($1:$10))))} -> #REF! | I15: {=INDEX(MATRICE!G:G,SUMPRODUCT(MAX(COUNTIF(B14:D15,MATRICE!F:F)*ROW($1:$10))))} -> #N/A | J15: {=INDEX(MATRICE!H:H,SUMPRODUCT(MAX(COUNTIF(C14:E15,MATRICE!G:G)*ROW($1:$10))))} -> #N/A
A16: ETC…4 | B16: ETC… | D16: 4 | H16: {=INDEX(MATRICE!F:F,SUMPRODUCT(MAX(COUNTIF(#REF!,MATRICE!E:E)*ROW($1:$10))))} -> #REF! | I16: {=INDEX(MATRICE!G:G,SUMPRODUCT(MAX(COUNTIF(B15:D16,MATRICE!F:F)*ROW($1:$10))))} -> #N/A | J16: {=INDEX(MATRICE!H:H,SUMPRODUCT(MAX(COUNTIF(C15:E16,MATRICE!G:G)*ROW($1:$10))))} -> #N/A
A17: ETC…5ETC… | B17: ETC… | C17: 5 | D17: ETC… | H17: {=INDEX(MATRICE!F:F,SUMPRODUCT(MAX(COUNTIF(#REF!,MATRICE!E:E)*ROW($1:$10))))} -> #REF! | I17: {=INDEX(MATRICE!G:G,SUMPRODUCT(MAX(COUNTIF(B16:D17,MATRICE!F:F)*ROW($1:$10))))} -> #N/A | J17: {=INDEX(MATRICE!H:H,SUMPRODUCT(MAX(COUNTIF(C16:E17,MATRICE!G:G)*ROW($1:$10))))} -> #N/A
A18: ETC…6ETC… | B18: ETC… | C18: 6 | D18: ETC… | H18: {=INDEX(MATRICE!F:F,SUMPRODUCT(MAX(COUNTIF(#REF!,MATRICE!E:E)*ROW($1:$10))))} -> #REF! | I18: {=INDEX(MATRICE!G:G,SUMPRODUCT(MAX(COUNTIF(B17:D18,MATRICE!F:F)*ROW($1:$10))))} -> #N/A | J18: {=INDEX(MATRICE!H:H,SUMPRODUCT(MAX(COUNTIF(C17:E18,MATRICE!G:G)*ROW($1:$10))))} -> #N/A
A19: 7ETC… | B19: 7 | D19: ETC… | H19: {=INDEX(MATRICE!F:F,SUMPRODUCT(MAX(COUNTIF(#REF!,MATRICE!E:E)*ROW($1:$10))))} -> #REF! | I19: {=INDEX(MATRICE!G:G,SUMPRODUCT(MAX(COUNTIF(B18:D19,MATRICE!F:F)*ROW($1:$10))))} -> #N/A | J19: {=INDEX(MATRICE!H:H,SUMPRODUCT(MAX(COUNTIF(C18:E19,MATRICE!G:G)*ROW($1:$10))))} -> #N/A
A20: ETC…8ETC… | B20: ETC… | C20: 8 | D20: ETC… | H20: {=INDEX(MATRICE!F:F,SUMPRODUCT(MAX(COUNTIF(#REF!,MATRICE!E:E)*ROW($1:$10))))} -> #REF! | I20: {=INDEX(MATRICE!G:G,SUMPRODUCT(MAX(COUNTIF(B19:D20,MATRICE!F:F)*ROW($1:$10))))} -> #N/A | J20: {=INDEX(MATRICE!H:H,SUMPRODUCT(MAX(COUNTIF(C19:E20,MATRICE!G:G)*ROW($1:$10))))} -> #N/A
A21: ETC…9ETC… | B21: ETC… | C21: 9 | D21: ETC… | H21: {=INDEX(MATRICE!F:F,SUMPRODUCT(MAX(COUNTIF(#REF!,MATRICE!E:E)*ROW($1:$10))))} -> #REF! | I21: {=INDEX(MATRICE!G:G,SUMPRODUCT(MAX(COUNTIF(B20:D21,MATRICE!F:F)*ROW($1:$10))))} -> #N/A | J21: {=INDEX(MATRICE!H:H,SUMPRODUCT(MAX(COUNTIF(C20:E21,MATRICE!G:G)*ROW($1:$10))))} -> #N/A
A22: ETC…10 | B22: ETC… | D22: 10 | H22: {=INDEX(MATRICE!F:F,SUMPRODUCT(MAX(COUNTIF(#REF!,MATRICE!E:E)*ROW($1:$10))))} -> #REF! | I22: {=INDEX(MATRICE!G:G,SUMPRODUCT(MAX(COUNTIF(B21:D22,MATRICE!F:F)*ROW($1:$10))))} -> #N/A | J22: {=INDEX(MATRICE!H:H,SUMPRODUCT(MAX(COUNTIF(C21:E22,MATRICE!G:G)*ROW($1:$10))))} -> #N/A
A23: 11ETC… | B23: 11 | D23: ETC… | H23: {=INDEX(MATRICE!F:F,SUMPRODUCT(MAX(COUNTIF(#REF!,MATRICE!E:E)*ROW($1:$10))))} -> #REF! | I23: {=INDEX(MATRICE!G:G,SUMPRODUCT(MAX(COUNTIF(B22:D23,MATRICE!F:F)*ROW($1:$10))))} -> #N/A | J23: {=INDEX(MATRICE!H:H,SUMPRODUCT(MAX(COUNTIF(C22:E23,MATRICE!G:G)*ROW($1:$10))))} -> #N/A
A24: 12 | C24: 12 | H24: {=INDEX(MATRICE!F:F,SUMPRODUCT(MAX(COUNTIF(#REF!,MATRICE!E:E)*ROW($1:$10))))} -> #REF! | I24: {=INDEX(MATRICE!G:G,SUMPRODUCT(MAX(COUNTIF(B23:D24,MATRICE!F:F)*ROW($1:$10))))} -> #N/A | J24: {=INDEX(MATRICE!H:H,SUMPRODUCT(MAX(COUNTIF(C23:E24,MATRICE!G:G)*ROW($1:$10))))} -> #N/A
A25: 13 | C25: 13 | H25: {=INDEX(MATRICE!F:F,SUMPRODUCT(MAX(COUNTIF(#REF!,MATRICE!E:E)*ROW($1:$10))))} -> #REF! | I25: {=INDEX(MATRICE!G:G,SUMPRODUCT(MAX(COUNTIF(B24:D25,MATRICE!F:F)*ROW($1:$10))))} -> #N/A | J25: {=INDEX(MATRICE!H:H,SUMPRODUCT(MAX(COUNTIF(C24:E25,MATRICE!G:G)*ROW($1:$10))))} -> #N/A
A26: 14 | D26: 14 | H26: {=INDEX(MATRICE!F:F,SUMPRODUCT(MAX(COUNTIF(#REF!,MATRICE!E:E)*ROW($1:$10))))} -> #REF! | I26: {=INDEX(MATRICE!G:G,SUMPRODUCT(MAX(COUNTIF(B25:D26,MATRICE!F:F)*ROW($1:$10))))} -> #N/A | J26: {=INDEX(MATRICE!H:H,SUMPRODUCT(MAX(COUNTIF(C25:E26,MATRICE!G:G)*ROW($1:$10))))} -> #N/A
A27: 15 | C27: 15 | H27: {=INDEX(MATRICE!F:F,SUMPRODUCT(MAX(COUNTIF(#REF!,MATRICE!E:E)*ROW($1:$10))))} -> #REF! | I27: {=INDEX(MATRICE!G:G,SUMPRODUCT(MAX(COUNTIF(B26:D27,MATRICE!F:F)*ROW($1:$10))))} -> #N/A | J27: {=INDEX(MATRICE!H:H,SUMPRODUCT(MAX(COUNTIF(C26:E27,MATRICE!G:G)*ROW($1:$10))))} -> #N/A
