Workbook

Sheet MATRICE
B1: LIBELLE | C1: TIERS converti 1 | D1: TIERS converti 2 | E1: TIERS converti 3 | F1: Tiers | G1: Categories | H1: Sous Categorie
A2: 1 | B2: tg('gBC | C2: tg('g | D2: B | E2: C | F2: TIERS A | G2: vygf | H2: Frba
A3: 2 | B3: rg'tgEFR | C3: rg'tg | D3: E | E3: FR | F3: TIERS B | G3: giu | H3: ite
A4: 3 | B4: rrAB | C4: rr | D4: A | E4: B | F4: TIERS C | G4: D Ba | H4: Transompte
A5: 4 | B5: DBBAN | C5: tg('g | D5: B | E5: C
A6: 5 | B6: AVIEVIR | C6: AVI | D6: E | E6: VIR | F6: TIERS C | G6: Rnu | H6: Rachmé
A7: 6 | B7: tt(ADIREj | C7: tt( | D7: A | E7: DIREj | F7: TIERS D | G7: Rnu | H7: Rachmé
A8: 7 | B8: SEP+B8:F208Agrrtt | C8: SEP+B8:F208A | D8: g | E8: rrtt | F8: TIgRS B | G8: C Assu | H8: itat prinal
A9: 8 | B9: SEP+B8:F208AE | C9: SEP+B8:F208A | D9: E | F9: TIERS C | G9: J Honnres | H9: Cabt comle
A10: 9 | B10: SEP+B8:F208AAAU | C10: tg('g | D10: B | E10: C
A11: 15 | B11: AVIEVIR | C11: AVI | D11: E | E11: VIR | F11: ETC… | G11: ETC… | H11: ETC…
A12: 16 | B12: ETC… | C12: ETC… | D12: ETC… | E12: ETC… | F12: ETC… | G12: ETC… | H12: ETC…
A13: 17 | B13: ETC… | C13: ETC… | D13: ETC… | E13: ETC… | F13: ETC… | G13: ETC… | H13: ETC…
A14: 18 | B14: ETC… | C14: ETC… | D14: ETC… | E14: ETC… | F14: ETC… | G14: ETC… | H14: ETC…
A15: 19 | B15: ETC… | C15: ETC… | D15: ETC… | E15: ETC… | F15: ETC… | G15: ETC… | H15: ETC…
A16: 20 | B16: ETC… | C16: ETC… | D16: ETC… | E16: ETC… | F16: ETC… | G16: ETC… | H16: ETC…
A17: 21 | B17: ETC… | C17: ETC… | D17: ETC… | E17: ETC… | F17: ETC… | G17: ETC… | H17: ETC…
A18: 22 | B18: ETC… | C18: ETC… | D18: ETC… | E18: ETC… | F18: ETC… | G18: ETC… | H18: ETC…
A19: 23 | B19: ETC… | C19: ETC… | D19: ETC… | E19: ETC… | F19: ETC… | G19: ETC… | H19: ETC…
A20: 24 | B20: ETC… | C20: ETC… | D20: ETC… | E20: ETC… | F20: ETC… | G20: ETC… | H20: ETC…
A21: 25 | B21: ETC… | C21: ETC… | D21: ETC… | E21: ETC… | F21: ETC… | G21: ETC… | H21: ETC…
A22: 26 | B22: ETC… | C22: ETC… | D22: ETC… | E22: ETC… | F22: ETC… | G22: ETC… | H22: ETC…

Sheet TELECHARGEMENT
A1: Libellé | B1: TIERS converti 1 | C1: TIERS converti 2 | D1: TIERS converti 3 | E1: Debit | F1: Crédit € | G1: Solde progressif | H1: Tiers | I1: Categories | J1: Sous Categorie | K1: Solde formule | L1: Total sorties du mois | M1: Total rentrees du mois | N1: Solde fin du mois | O1: Solde verif
A2: tg('gBC | B2: tg('g | C2: B | D2: C | E2: -136 | I2: {=INDEX(MATRICE!G2:G11,SUMPRODUCT(MAX(COUNTIF(TELECHARGEMENT!C2:E22,MATRICE!F2:F11)*ROW($1:$13))))} -> #N/A | K2: {=INDEX([1]Feuil2!$F$2:$F$14,SUMPRODUCT(MAX(COUNTIF(#REF!,[1]Feuil2!#REF!)*ROW($1:$13))))} -> #REF! | L2: =#REF! -> #REF! | M2: =#REF! -> #REF! | O2: 2591.45
A3: rg'tgEFR | B3: rg'tg | C3: E | D3: FR | F3: 18.85 | I3: {=INDEX(MATRICE!G3:G12,SUMPRODUCT(MAX(COUNTIF(TELECHARGEMENT!B3:D3,MATRICE!F3:F12)*ROW($1:$13))))} -> #N/A | K3: =#REF!+#REF!+K2 -> #REF! | L3: =#REF!+L2 -> #REF! | M3: =#REF!+M2 -> #REF!
A4: rrAB | B4: rr | C4: A | D4: B | E4: -699.1 | I4: {=INDEX(MATRICE!G4:G13,SUMPRODUCT(MAX(COUNTIF(TELECHARGEMENT!B4:D4,MATRICE!F4:F13)*ROW($1:$13))))} -> #N/A | K4: =#REF!+#REF!+K3 -> #REF! | L4: =#REF!+L3 -> #REF! | M4: =#REF!+M3 -> #REF!
A5: DBBAN | B5: tg('g | C5: B | D5: C | E5: -194.58 | I5: {=INDEX(MATRICE!G5:G14,SUMPRODUCT(MAX(COUNTIF(TELECHARGEMENT!B5:D5,MATRICE!F5:F14)*ROW($1:$13))))} -> #N/A | K5: =#REF!+#REF!+K4 -> #REF! | L5: =#REF!+L4 -> #REF! | M5: =#REF!+M4 -> #REF!
A6: AVIEVIR | B6: AVI | C6: E | D6: VIR | F6: 1400 | I6: {=INDEX(MATRICE!G6:G15,SUMPRODUCT(MAX(COUNTIF(TELECHARGEMENT!B6:D6,MATRICE!F6:F15)*ROW($1:$13))))} -> #N/A | K6: =#REF!+#REF!+K5 -> #REF! | L6: =#REF!+L5 -> #REF! | M6: =#REF!+M5 -> #REF!
A7: tt(ADIREj | B7: tt( | C7: A | D7: DIREj | E7: -125 | I7: {=INDEX(MATRICE!G7:G16,SUMPRODUCT(MAX(COUNTIF(TELECHARGEMENT!B7:D7,MATRICE!F7:F16)*ROW($1:$13))))} -> #N/A | K7: =#REF!+#REF!+K6 -> #REF! | L7: =#REF!+L6 -> #REF! | M7: =#REF!+M6 -> #REF!
A8: SEP+B8:F208Agrrtt | B8: SEP+B8:F208A | C8: g | D8: rrtt | E8: -95 | I8: {=INDEX(MATRICE!G8:G17,SUMPRODUCT(MAX(COUNTIF(TELECHARGEMENT!B8:D8,MATRICE!F8:F17)*ROW($1:$13))))} -> #N/A | K8: =#REF!+#REF!+K7 -> #REF! | L8: =#REF!+L7 -> #REF! | M8: =#REF!+M7 -> #REF!
A9: SEP+B8:F208AE | B9: SEP+B8:F208A | C9: E | E9: -42.75 | I9: {=INDEX(MATRICE!G9:G18,SUMPRODUCT(MAX(COUNTIF(TELECHARGEMENT!B9:D9,MATRICE!F9:F18)*ROW($1:$13))))} -> #N/A | K9: =#REF!+#REF!+K8 -> #REF! | L9: =#REF!+L8 -> #REF! | M9: =#REF!+M8 -> #REF!
A10: SEP+B8:F208AAAU | B10: tg('g | C10: B | D10: C | E10: -241.5 | I10: {=INDEX(MATRICE!G10:G19,SUMPRODUCT(MAX(COUNTIF(TELECHARGEMENT!B10:D10,MATRICE!F10:F19)*ROW($1:$13))))} -> #N/A | K10: =#REF!+#REF!+K9 -> #REF! | L10: =#REF!+L9 -> #REF! | M10: =#REF!+M9 -> #REF!
A11: ETC… | K11: =#REF!+#REF!+K10 -> #REF! | L11: =#REF!+L10 -> #REF! | M11: =#REF!+M10 -> #REF!
A12: ETC… | K12: =#REF!+#REF!+K11 -> #REF! | L12: =#REF!+L11 -> #REF! | M12: =#REF!+M11 -> #REF!
A13: ETC… | K13: =#REF!+#REF!+K12 -> #REF! | L13: =#REF!+L12 -> #REF! | M13: =#REF!+M12 -> #REF!
A14: ETC… | K14: =#REF!+#REF!+K13 -> #REF! | L14: =#REF!+L13 -> #REF! | M14: =#REF!+M13 -> #REF!
A15: ETC… | K15: =#REF!+#REF!+K14 -> #REF! | L15: =#REF!+L14 -> #REF! | M15: =#REF!+M14 -> #REF!
