Workbook
Name AAA: 'Listes poules triées'!$1:$1048576
Name DUEL: #REF!
Name FFF: #REF!

Sheet Qualifications
A1: D L+A1:D46 | B1: LANDEDA | C1: 159
A2: L R | B2: GUILERS | C2: 158
A3: B A | B3: GUILERS | C3: 157
A4: G M | B4: GUILERS | C4: 154
A5: A G | B5: LANDIVISIAU | C5: 151
A6: L V | B6: LANDEDA | C6: 149
A7: L M | B7: PLOGASTEL ST GERMAIN | C7: 148
A8: L L | B8: ST POL DE LEON | C8: 146
A9: L S | B9: CROZON | C9: 143
A10: A W | B10: ST RENAN | C10: 139
A11: G M | B11: GUILERS | C11: 139
A12: M R | B12: LANDIVISIAU | C12: 138
... A55: M N | B55: PLOGASTEL ST GERMAIN | C55: 53

Sheet Listes poules triées
A1: D L | B1: DINAN | C1: 177 | D1: 1
A2: L R | B2: GUILERS | C2: 167 | D2: 1
A3: A G | B3: CESSON SEVIGNE | C3: 167 | D3: 1
A4: G M | B4: LANDEDA | C4: 166 | D4: 1
A5: L M | B5: GUILERS | C5: 167 | D5: 2
A6: L L | B6: LANDEDA | C6: 160 | D6: 2
A7: L S | B7: LANDIVISIAU | C7: 160 | D7: 2
A8: B A | B8: DINAN | C8: 159 | D8: 2
A9: L V | B9: GUILERS | C9: 166 | D9: 3
A10: A W | B10: ST POL DE LEON | C10: 157 | D10: 3
A11: M R | B11: TINTENIAC | C11: 157 | D11: 3
A12: D S | B12: LANNION | C12: 153 | D12: 3
... A55: L K | B55: PLOUGASNOU | C55: 87 | D55: 14
D56: 14

Sheet Liste des clubs
A1: {=_xlfn.UNIQUE('Listes poules triées'!B1:B63)} -> DINAN
A2: GUILERS
A3: CESSON SEVIGNE
A4: LANDEDA
A5: LANDIVISIAU
A6: ST POL DE LEON
A7: TINTENIAC
A8: LANNION
A9: RENNES CIE
A10: PLOGASTEL ST GERMAIN
A11: PAIMPOL
A12: PLOUGASNOU
A13: ST QUAY PORTRIEUX
... A15: ST RENAN
A16: 0

Sheet Poules
A1: Nombre de poules (16 max) | E1: 14 | I1: Mots de passe vérouillage (ATTENTION DANGER) : Poussins
C4: POULE | H4: 1
D6: DEMI-FINALE 1 | I6: FINALE OR
C7: A | D7: ='Listes poules triées'!A1 -> D L | E7: ='Listes poules triées'!B1 -> DINAN | F7: 4 | H7: A | I7: {=_xlfn.IFS(F7>F8,D7,F7<F8,D8,F7=F8," ")} -> D L | J7: {=_xlfn.IFS(F7>F8,E7,F7<F8,E8,F7=F8," ")} -> DINAN | K7: 4
C8: B | D8: ='Listes poules triées'!A4 -> G M | E8: ='Listes poules triées'!B4 -> LANDEDA | F8: 0 | H8: B | I8: {=_xlfn.IFS(F11>F12,D11,F11<F12,D12,F11=F12," ")} -> A G | J8: {=_xlfn.IFS(F11>F12,E11,F11<F12,E12,F11=F12," ")} -> CESSON SEVIGNE | K8: 0
D10: DEMI-FINALE 2 | I10: FINALE BRONZE
C11: C | D11: ='Listes poules triées'!A2 -> L R | E11: ='Listes poules triées'!B2 -> GUILERS | F11: 1 | H11: C | I11: {=_xlfn.IFS(F7>F8,D8,F7<F8,D7,F7=F8," ")} -> G M | J11: {=_xlfn.IFS(F7>F8,E8,F7<F8,E7,F7=F8," ")} -> LANDEDA | K11: 3
C12: D | D12: ='Listes poules triées'!A3 -> A G | E12: ='Listes poules triées'!B3 -> CESSON SEVIGNE | F12: 3 | H12: D | I12: {=_xlfn.IFS(F11>F12,D12,F11<F12,D11,F11=F12," ")} -> L R | J12: {=_xlfn.IFS(F11>F12,E12,F11<F12,E11,F11=F12," ")} -> GUILERS | K12: 1
D14: CLASSEMENT FINAL POULE 1 | F14: Points Equipe
C15: 1 | D15: {=_xlfn.IFS(K7>K8,I7,K7<K8,I8,K7=K8,"")} -> D L | E15: {=_xlfn.IFS(K7>K8,J7,K7<K8,J8,K7=K8,"")} -> DINAN | F15: =E1-H4+5 -> 18
C16: 2 | D16: {=_xlfn.IFS(K7<K8,I7,K7>K8,I8,K7=K8,"")} -> A G | E16: {=_xlfn.IFS(K7<K8,J7,K7>K8,J8,K7=K8,"")} -> CESSON SEVIGNE | F16: =E1-H4+3 -> 16
C17: 3 | D17: {=_xlfn.IFS(K11>K12,I11,K11<K12,I12,K11=K12,"")} -> G M | E17: {=_xlfn.IFS(K11>K12,J11,K11<K12,J12,K11=K12,"")} -> LANDEDA | F17: =E1-H4+2 -> 15
C18: 4 | D18: {=_xlfn.IFS(K11<K12,I11,K11>K12,I12,K11=K12,"")} -> L R | E18: {=_xlfn.IFS(K11<K12,J11,K11>K12,J12,K11=K12,"")} -> GUILERS | F18: =E1-H4+1 -> 14
C22: POULE | H22: 2
D24: DEMI-FINALE 1 | I24: FINALE OR
C25: A | D25: ='Listes poules triées'!A5 -> L M | E25: ='Listes poules triées'!B5 -> GUILERS | F25: 4 | H25: A | I25: {=_xlfn.IFS(F25>F26,D25,F25<F26,D26,F25=F26," ")} -> L M | J25: {=_xlfn.IFS(F25>F26,E25,F25<F26,E26,F25=F26," ")} -> GUILERS | K25: 4
C26: B | D26: ='Listes poules triées'!A8 -> B A | E26: ='Listes poules triées'!B8 -> DINAN | F26: 0 | H26: B | I26: {=_xlfn.IFS(F29>F30,D29,F29<F30,D30,F29=F30," ")} -> L S | J26: {=_xlfn.IFS(F29>F30,E29,F29<F30,E30,F29=F30," ")} -> LANDIVISIAU | K26: 0
D28: DEMI-FINALE 2 | I28: FINALE BRONZE
C29: C | D29: ='Listes poules triées'!A6 -> L L | E29: ='Listes poules triées'!B6 -> LANDEDA | F29: 2 | H29: C | I29: {=_xlfn.IFS(F25>F26,D26,F25<F26,D25,F25=F26," ")} -> B A | J29: {=_xlfn.IFS(F25>F26,E26,F25<F26,E25,F25=F26," ")} -> DINAN | K29: 3
C30: D | D30: ='Listes poules triées'!A7 -> L S | E30: ='Listes poules triées'!B7 -> LANDIVISIAU | F30: 3 | H30: D | I30: {=_xlfn.IFS(F29>F30,D30,F29<F30,D29,F29=F30," ")} -> L L | J30: {=_xlfn.IFS(F29>F30,E30,F29<F30,E29,F29=F30," ")} -> LANDEDA | K30: 2
D32: CLASSEMENT FINAL POULE 2 | F32: Points Equipe
C33: 1 | D33: {=_xlfn.IFS(K25>K26,I25,K25<K26,I26,K25=K26,"")} -> L M | E33: {=_xlfn.IFS(K25>K26,J25,K25<K26,J26,K25=K26,"")} -> GUILERS | F33: =E1-H22+5 -> 17
C34: 2 | D34: {=_xlfn.IFS(K25<K26,I25,K25>K26,I26,K25=K26,"")} -> L S | E34: {=_xlfn.IFS(K25<K26,J25,K25>K26,J26,K25=K26,"")} -> LANDIVISIAU | F34: =E1-H22+3 -> 15
C35: 3 | D35: {=_xlfn.IFS(K29>K30,I29,K29<K30,I30,K29=K30,"")} -> B A | E35: {=_xlfn.IFS(K29>K30,J29,K29<K30,J30,K29=K30,"")} -> DINAN | F35: =E1-H22+2 -> 14
C36: 4 | D36: {=_xlfn.IFS(K29<K30,I29,K29>K30,I30,K29=K30,"")} -> L L | E36: {=_xlfn.IFS(K29<K30,J29,K29>K30,J30,K29=K30,"")} -> LANDEDA | F36: =E1-H22+1 -> 13
C40: POULE | H40: 3
D42: DEMI-FINALE 1 | I42: FINALE OR
C43: A | D43: ='Listes poules triées'!A9 -> L V | E43: ='Listes poules triées'!B9 -> GUILERS | F43: 0 | H43: A | I43: {=_xlfn.IFS(F43>F44,D43,F43<F44,D44,F43=F44," ")} -> D S | J43: {=_xlfn.IFS(F43>F44,E43,F43<F44,E44,F43=F44," ")} -> LANNION | K43: 3
C44: B | D44: ='Listes poules triées'!A12 -> D S | E44: ='Listes poules triées'!B12 -> LANNION | F44: 4 | H44: B | I44: {=_xlfn.IFS(F47>F48,D47,F47<F48,D48,F47=F48," ")} -> A W | J44: {=_xlfn.IFS(F47>F48,E47,F47<F48,E48,F47=F48," ")} -> ST POL DE LEON | K44: 1
D46: DEMI-FINALE 2 | I46: FINALE BRONZE
C47: C | D47: ='Listes poules triées'!A10 -> A W | E47: ='Listes poules triées'!B10 -> ST POL DE LEON | F47: 3 | H47: C | I47: {=_xlfn.IFS(F43<F44,D43,F43>F44,D44,F43=F44," ")} -> L V | J47: {=_xlfn.IFS(F43<F44,E43,F43>F44,E44,F43=F44," ")} -> GUILERS | K47: 2
C48: D | D48: ='Listes poules triées'!A11 -> M R | E48: ='Listes poules triées'!B11 -> TINTENIAC | F48: 2 | H48: D | I48: {=_xlfn.IFS(F47>F48,D48,F47<F48,D47,F47=F48," ")} -> M R | J48: {=_xlfn.IFS(F47>F48,E48,F47<F48,E47,F47=F48," ")} -> TINTENIAC | K48: 3
D50: CLASSEMENT FINAL POULE 3 | F50: Points Equipe
C51: 1 | D51: {=_xlfn.IFS(K43>K44,I43,K43<K44,I44,K43=K44,"")} -> D S | E51: {=_xlfn.IFS(K43>K44,J43,K43<K44,J44,K43=K44,"")} -> LANNION | F51: =E1-H40+5 -> 16
C52: 2 | D52: {=_xlfn.IFS(K43<K44,I43,K43>K44,I44,K43=K44,"")} -> A W | E52: {=_xlfn.IFS(K43<K44,J43,K43>K44,J44,K43=K44,"")} -> ST POL DE LEON | F52: =E1-H40+3 -> 14
C53: 3 | D53: {=_xlfn.IFS(K47>K48,I47,K47<K48,I48,K47=K48,"")} -> M R | E53: {=_xlfn.IFS(K47>K48,J47,K47<K48,J48,K47=K48,"")} -> TINTENIAC | F53: =E1-H40+2 -> 13
C54: 4 | D54: {=_xlfn.IFS(K47<K48,I47,K47>K48,I48,K47=K48,"")} -> L V | E54: {=_xlfn.IFS(K47<K48,J47,K47>K48,J48,K47=K48,"")} -> GUILERS | F54: =E1-H40+1 -> 12
C58: POULE | H58: 4
D60: DEMI-FINALE 1 | I60: FINALE OR
C61: A | D61: ='Listes poules triées'!A13 -> G M | E61: ='Listes poules triées'!B13 -> GUILERS | F61: 0 | H61: A | I61: {=_xlfn.IFS(F61>F62,D61,F61<F62,D62,F61=F62," ")} -> B K | J61: {=_xlfn.IFS(F61>F62,E61,F61<F62,E62,F61=F62," ")} -> ST POL DE LEON | K61: 3
...

Sheet Résultat club
A1: Clubs | B1: P1 | F1: P2 | J1: P3 | N1: P4 | R1: P5 | V1: P6 | Z1: P7 | AD1: P8 | AH1: P9 | AL1: P10 | AP1: P11 | AT1: P12 | AX1: P13 | BB1: P14 | BF1: P15 | BJ1: P16 | BN1: Somme des 3 meilleurs scores | BO1: Clubs | BP1: Nombre d'archers du club
A2: ='Liste des clubs'!A1 -> DINAN | B2: {=IF($A2=0,"",_xlfn.IFNA(_xlfn.IFS(Poules!$E$15='Résultat club'!$A2,Poules!$F$15)," "))} -> 18 | C2: {=IF($A2=0,"",_xlfn.IFNA(_xlfn.IFS(Poules!$E$16='Résultat club'!$A2,Poules!$F$16)," "))} | D2: {=IF($A2=0,"",_xlfn.IFNA(_xlfn.IFS(Poules!$E$17='Résultat club'!$A2,Poules!$F$17)," "))} | E2: {=IF($A2=0,"",_xlfn.IFNA(_xlfn.IFS(Poules!$E$18='Résultat club'!$A2,Poules!$F$18)," "))} | F2: {=IF($A2=0,"",_xlfn.IFNA(_xlfn.IFS(Poules!$E$33='Résultat club'!$A2,Poules!$F$33)," "))} | G2: {=IF($A2=0,"",_xlfn.IFNA(_xlfn.IFS(Poules!$E$34='Résultat club'!$A2,Poules!$F$34)," "))} | H2: {=IF($A2=0,"",_xlfn.IFNA(_xlfn.IFS(Poules!$E$35='Résultat club'!$A2,Poules!$F$35)," "))} -> 14 | I2: {=IF($A2=0,"",_xlfn.IFNA(_xlfn.IFS(Poules!$E$36='Résultat club'!$A2,Poules!$F$36)," "))} | J2: {=IF(A2=0,"",_xlfn.IFNA(_xlfn.IFS(Poules!$E$51='Résultat club'!$A2,Poules!$F$51)," "))} | K2: {=IF(A2=0,"",_xlfn.IFNA(_xlfn.IFS(Poules!$E$52='Résultat club'!$A2,Poules!$F$52)," "))} | L2: {=IF(A2=0,"",_xlfn.IFNA(_xlfn.IFS(Poules!$E$53='Résultat club'!$A2,Poules!$F$53)," "))} | M2: {=IF(A2=0,"",_xlfn.IFNA(_xlfn.IFS(Poules!$E$54='Résultat club'!$A2,Poules!$F$54)," "))} | N2: {=IF(A2=0,"",_xlfn.IFNA(_xlfn.IFS(Poules!$E$69='Résultat club'!$A2,Poules!$F$69)," "))} | O2: {=IF(A2=0,"",_xlfn.IFNA(_xlfn.IFS(Poules!$E$70='Résultat club'!$A2,Poules!$F$70)," "))} | P2: {=IF(A2=0,"",_xlfn.IFNA(_xlfn.IFS(Poules!$E$71='Résultat club'!$A2,Poules!$F$71)," "))} | Q2: {=IF(A2=0,"",_xlfn.IFNA(_xlfn.IFS(Poules!$E$72='Résultat club'!$A2,Poules!$F$72)," "))} | R2: {=IF(A2=0,"",_xlfn.IFNA(_xlfn.IFS(Poules!$E$87='Résultat club'!$A2,Poules!$F$87)," "))} | S2: {=IF(A2=0,"",_xlfn.IFNA(_xlfn.IFS(Poules!$E$88='Résultat club'!$A2,Poules!$F$88)," "))} | T2: {=IF(A2=0,"",_xlfn.IFNA(_xlfn.IFS(Poules!$E$89='Résultat club'!$A2,Poules!$F$89)," "))} | U2: {=IF(A2=0,"",_xlfn.IFNA(_xlfn.IFS(Poules!$E$90='Résultat club'!$A2,Poules!$F$90)," "))} -> 10 | V2: {=IF(A2=0,"",_xlfn.IFNA(_xlfn.IFS(Poules!$E$105='Résultat club'!$A2,Poules!$F$105),""))} | W2: {=IF(A2=0,"",_xlfn.IFNA(_xlfn.IFS(Poules!$E$106='Résultat club'!$A2,Poules!$F$106),""))} -> 11 | X2: {=IF(A2=0,"",_xlfn.IFNA(_xlfn.IFS(Poules!$E$107='Résultat club'!$A2,Poules!$F$107),""))} | Y2: {=IF(A2=0,"",_xlfn.IFNA(_xlfn.IFS(Poules!$E$108='Résultat club'!$A2,Poules!$F$108),""))} | Z2: {=IF(A2=0,"",_xlfn.IFNA(_xlfn.IFS(Poules!$E$123='Résultat club'!$A2,Poules!$F$123),""))} | AA2: {=IF(A2=0,"",_xlfn.IFNA(_xlfn.IFS(Poules!$E$124='Résultat club'!$A2,Poules!$F$124),""))} | AB2: {=IF(A2=0,"",_xlfn.IFNA(_xlfn.IFS(Poules!$E$125='Résultat club'!$A2,Poules!$F$125),""))} | AC2: {=IF(A2=0,"",_xlfn.IFNA(_xlfn.IFS(Poules!$E$126='Résultat club'!$A2,Poules!$F$126),""))} | AD2: {=IF(A2=0,"",_xlfn.IFNA(_xlfn.IFS(Poules!$E$141='Résultat club'!$A2,Poules!$F$141),""))} | AE2: {=IF(A2=0,"",_xlfn.IFNA(_xlfn.IFS(Poules!$E$142='Résultat club'!$A2,Poules!$F$142),""))} | AF2: {=IF(A2=0,"",_xlfn.IFNA(_xlfn.IFS(Poules!$E$143='Résultat club'!$A2,Poules!$F$143),""))} | AG2: {=IF(A2=0,"",_xlfn.IFNA(_xlfn.IFS(Poules!$E$144='Résultat club'!$A2,Poules!$F$144),""))} | AH2: {=IF(A2=0,"",_xlfn.IFNA(_xlfn.IFS(Poules!$E$159='Résultat club'!$A2,Poules!$F$159),""))} | AI2: {=IF(A2=0,"",_xlfn.IFNA(_xlfn.IFS(Poules!$E$160='Résultat club'!$A2,Poules!$F$160),""))} | AJ2: {=IF(A2=0,"",_xlfn.IFNA(_xlfn.IFS(Poules!$E$161='Résultat club'!$A2,Poules!$F$161),""))} | AK2: {=IF(A2=0,"",_xlfn.IFNA(_xlfn.IFS(Poules!$E$162='Résultat club'!$A2,Poules!$F$162),""))} | AL2: {=IF(A2=0,"",_xlfn.IFNA(_xlfn.IFS(Poules!$E$177='Résultat club'!$A2,Poules!$F$177),""))} | AM2: {=IF(A2=0,"",_xlfn.IFNA(_xlfn.IFS(Poules!$E$178='Résultat club'!$A2,Poules!$F$178),""))} | AN2: {=IF(A2=0,"",_xlfn.IFNA(_xlfn.IFS(Poules!$E$179='Résultat club'!$A2,Poules!$F$179),""))} | AO2: {=IF(A2=0,"",_xlfn.IFNA(_xlfn.IFS(Poules!$E$180='Résultat club'!$A2,Poules!$F$180),""))} | AP2: {=IF(A2=0,"",_xlfn.IFNA(_xlfn.IFS(Poules!$E$195='Résultat club'!$A2,Poules!$F$195),""))} | AQ2: {=IF(A2=0,"",_xlfn.IFNA(_xlfn.IFS(Poules!$E$196='Résultat club'!$A2,Poules!$F$196),""))} | AR2: {=IF(A2=0,"",_xlfn.IFNA(_xlfn.IFS(Poules!$E$197='Résultat club'!$A2,Poules!$F$197),""))} | AS2: {=IF(A2=0,"",_xlfn.IFNA(_xlfn.IFS(Poules!$E$198='Résultat club'!$A2,Poules!$F$198),""))} | AT2: {=IF(A2=0,"",_xlfn.IFNA(_xlfn.IFS(Poules!$E$213='Résultat club'!$A2,Poules!$F$213),""))} | AU2: {=IF(A2=0,"",_xlfn.IFNA(_xlfn.IFS(Poules!$E$214='Résultat club'!$A2,Poules!$F$214),""))} | AV2: {=IF(A2=0,"",_xlfn.IFNA(_xlfn.IFS(Poules!$E$215='Résultat club'!$A2,Poules!$F$215),""))} | AW2: {=IF(A2=0,"",_xlfn.IFNA(_xlfn.IFS(Poules!$E$216='Résultat club'!$A2,Poules!$F$216),""))} | AX2: {=IF(A2=0,"",_xlfn.IFNA(_xlfn.IFS(Poules!$E$231='Résultat club'!$A2,Poules!$F$231),""))} | AY2: {=IF(A2=0,"",_xlfn.IFNA(_xlfn.IFS(Poules!$E$232='Résultat club'!$A2,Poules!$F$232),""))} | AZ2: {=IF(A2=0,"",_xlfn.IFNA(_xlfn.IFS(Poules!$E$233='Résultat club'!$A2,Poules!$F$233),""))} | BA2: {=IF(A2=0,"",_xlfn.IFNA(_xlfn.IFS(Poules!$E$234='Résultat club'!$A2,Poules!$F$234),""))} | BB2: {=IF(A2=0,"",_xlfn.IFNA(_xlfn.IFS(Poules!$E$249='Résultat club'!$A2,Poules!$F$249),""))} | BC2: {=IF(A2=0,"",_xlfn.IFNA(_xlfn.IFS(Poules!$E$250='Résultat club'!$A2,Poules!$F$250),""))} | BD2: {=IF(A2=0,"",_xlfn.IFNA(_xlfn.IFS(Poules!$E$251='Résultat club'!$A2,Poules!$F$251),""))} | BE2: {=IF(A2=0,"",_xlfn.IFNA(_xlfn.IFS(Poules!$E$252='Résultat club'!$A2,Poules!$F$252),""))} | BF2: {=IF(A2=0,"",_xlfn.IFNA(_xlfn.IFS(Poules!$E$267='Résultat club'!$A2,Poules!$F$267),""))} | BG2: {=IF(A2=0,"",_xlfn.IFNA(_xlfn.IFS(Poules!$E$268='Résultat club'!$A2,Poules!$F$268),""))} | BH2: {=IF($A2=0,"",_xlfn.IFNA(_xlfn.IFS(Poules!$E$269='Résultat club'!$A2,Poules!$F$269),""))} | BI2: {=IF($A2=0,"",_xlfn.IFNA(_xlfn.IFS(Poules!$E$270='Résultat club'!$A2,Poules!$F$270),""))} | BJ2: {=IF($A2=0,"",_xlfn.IFNA(_xlfn.IFS(Poules!$E$285='Résultat club'!$A2,Poules!$F$285),""))} | BK2: {=IF($A2=0,"",_xlfn.IFNA(_xlfn.IFS(Poules!$E$286='Résultat club'!$A2,Poules!$F$286),""))} | BL2: {=IF($A2=0,"",_xlfn.IFNA(_xlfn.IFS(Poules!$E$287='Résultat club'!$A2,Poules!$F$287),""))} | BM2: {=IF($A2=0,"",_xlfn.IFNA(_xlfn.IFS(Poules!$E$288='Résultat club'!$A2,Poules!$F$288),""))} | BN2: =IF(BP2>2,AVERAGE(LARGE(B2:BJ2,1)+LARGE(B2:BJ2,2)+LARGE(B2:BJ2,3)),0) -> 43 | BO2: =A2 -> DINAN | BP2: =COUNTIF('Listes poules triées'!$A$1:$B$60,$A2) -> 4
A3: ='Liste des clubs'!A2 -> GUILERS | B3: {=IF(A3=0,"",_xlfn.IFNA(_xlfn.IFS(Poules!$E$15='Résultat club'!$A3,Poules!$F$15)," "))} | C3: {=IF(A3=0,"",_xlfn.IFNA(_xlfn.IFS(Poules!$E$16='Résultat club'!$A3,Poules!$F$16)," "))} | D3: {=IF(A3=0,"",_xlfn.IFNA(_xlfn.IFS(Poules!$E$17='Résultat club'!$A3,Poules!$F$17)," "))} | E3: {=IF(A3=0,"",_xlfn.IFNA(_xlfn.IFS(Poules!$E$18='Résultat club'!$A3,Poules!$F$18)," "))} -> 14 | F3: {=IF(A3=0,"",_xlfn.IFNA(_xlfn.IFS(Poules!$E$33='Résultat club'!$A3,Poules!$F$33)," "))} -> 17 | G3: {=IF(A3=0,"",_xlfn.IFNA(_xlfn.IFS(Poules!$E$34='Résultat club'!$A3,Poules!$F$34)," "))} | H3: {=IF(A3=0,"",_xlfn.IFNA(_xlfn.IFS(Poules!$E$35='Résultat club'!$A3,Poules!$F$35)," "))} | I3: {=IF(A3=0,"",_xlfn.IFNA(_xlfn.IFS(Poules!$E$36='Résultat club'!$A3,Poules!$F$36)," "))} | J3: {=IF(A3=0,"",_xlfn.IFNA(_xlfn.IFS(Poules!$E$51='Résultat club'!$A3,Poules!$F$51)," "))} | K3: {=IF(A3=0,"",_xlfn.IFNA(_xlfn.IFS(Poules!$E$52='Résultat club'!$A3,Poules!$F$52)," "))} | L3: {=IF(A3=0,"",_xlfn.IFNA(_xlfn.IFS(Poules!$E$53='Résultat club'!$A3,Poules!$F$53)," "))} | M3: {=IF(A3=0,"",_xlfn.IFNA(_xlfn.IFS(Poules!$E$54='Résultat club'!$A3,Poules!$F$54)," "))} -> 12 | N3: {=IF(A3=0,"",_xlfn.IFNA(_xlfn.IFS(Poules!$E$69='Résultat club'!$A3,Poules!$F$69)," "))} | O3: {=IF(A3=0,"",_xlfn.IFNA(_xlfn.IFS(Poules!$E$70='Résultat club'!$A3,Poules!$F$70)," "))} | P3: {=IF(A3=0,"",_xlfn.IFNA(_xlfn.IFS(Poules!$E$71='Résultat club'!$A3,Poules!$F$71)," "))} -> 12 | Q3: {=IF(A3=0,"",_xlfn.IFNA(_xlfn.IFS(Poules!$E$72='Résultat club'!$A3,Poules!$F$72)," "))} | R3: {=IF(A3=0,"",_xlfn.IFNA(_xlfn.IFS(Poules!$E$87='Résultat club'!$A3,Poules!$F$87)," "))} | S3: {=IF(A3=0,"",_xlfn.IFNA(_xlfn.IFS(Poules!$E$88='Résultat club'!$A3,Poules!$F$88)," "))} | T3: {=IF(A3=0,"",_xlfn.IFNA(_xlfn.IFS(Poules!$E$89='Résultat club'!$A3,Poules!$F$89)," "))} | U3: {=IF(A3=0,"",_xlfn.IFNA(_xlfn.IFS(Poules!$E$90='Résultat club'!$A3,Poules!$F$90)," "))} | V3: {=IF(A3=0,"",_xlfn.IFNA(_xlfn.IFS(Poules!$E$105='Résultat club'!$A3,Poules!$F$105),""))} | W3: {=IF(A3=0,"",_xlfn.IFNA(_xlfn.IFS(Poules!$E$106='Résultat club'!$A3,Poules!$F$106),""))} | X3: {=IF(A3=0,"",_xlfn.IFNA(_xlfn.IFS(Poules!$E$107='Résultat club'!$A3,Poules!$F$107),""))} | Y3: {=IF(A3=0,"",_xlfn.IFNA(_xlfn.IFS(Poules!$E$108='Résultat club'!$A3,Poules!$F$108),""))} -> 9 | Z3: {=IF(A3=0,"",_xlfn.IFNA(_xlfn.IFS(Poules!$E$123='Résultat club'!$A3,Poules!$F$123),""))} | AA3: {=IF(A3=0,"",_xlfn.IFNA(_xlfn.IFS(Poules!$E$124='Résultat club'!$A3,Poules!$F$124),""))} | AB3: {=IF(A3=0,"",_xlfn.IFNA(_xlfn.IFS(Poules!$E$125='Résultat club'!$A3,Poules!$F$125),""))} | AC3: {=IF(A3=0,"",_xlfn.IFNA(_xlfn.IFS(Poules!$E$126='Résultat club'!$A3,Poules!$F$126),""))} | AD3: {=IF(A3=0,"",_xlfn.IFNA(_xlfn.IFS(Poules!$E$141='Résultat club'!$A3,Poules!$F$141),""))} | AE3: {=IF(A3=0,"",_xlfn.IFNA(_xlfn.IFS(Poules!$E$142='Résultat club'!$A3,Poules!$F$142),""))} | AF3: {=IF(A3=0,"",_xlfn.IFNA(_xlfn.IFS(Poules!$E$143='Résultat club'!$A3,Poules!$F$143),""))} | AG3: {=IF(A3=0,"",_xlfn.IFNA(_xlfn.IFS(Poules!$E$144='Résultat club'!$A3,Poules!$F$144),""))} | AH3: {=IF(A3=0,"",_xlfn.IFNA(_xlfn.IFS(Poules!$E$159='Résultat club'!$A3,Poules!$F$159),""))} | AI3: {=IF(A3=0,"",_xlfn.IFNA(_xlfn.IFS(Poules!$E$160='Résultat club'!$A3,Poules!$F$160),""))} | AJ3: {=IF(A3=0,"",_xlfn.IFNA(_xlfn.IFS(Poules!$E$161='Résultat club'!$A3,Poules!$F$161),""))} | AK3: {=IF(A3=0,"",_xlfn.IFNA(_xlfn.IFS(Poules!$E$162='Résultat club'!$A3,Poules!$F$162),""))} | AL3: {=IF(A3=0,"",_xlfn.IFNA(_xlfn.IFS(Poules!$E$177='Résultat club'!$A3,Poules!$F$177),""))} | AM3: {=IF(A3=0,"",_xlfn.IFNA(_xlfn.IFS(Poules!$E$178='Résultat club'!$A3,Poules!$F$178),""))} | AN3: {=IF(A3=0,"",_xlfn.IFNA(_xlfn.IFS(Poules!$E$179='Résultat club'!$A3,Poules!$F$179),""))} | AO3: {=IF(A3=0,"",_xlfn.IFNA(_xlfn.IFS(Poules!$E$180='Résultat club'!$A3,Poules!$F$180),""))} | AP3: {=IF(A3=0,"",_xlfn.IFNA(_xlfn.IFS(Poules!$E$195='Résultat club'!$A3,Poules!$F$195),""))} | AQ3: {=IF(A3=0,"",_xlfn.IFNA(_xlfn.IFS(Poules!$E$196='Résultat club'!$A3,Poules!$F$196),""))} | AR3: {=IF(A3=0,"",_xlfn.IFNA(_xlfn.IFS(Poules!$E$197='Résultat club'!$A3,Poules!$F$197),""))} | AS3: {=IF(A3=0,"",_xlfn.IFNA(_xlfn.IFS(Poules!$E$198='Résultat club'!$A3,Poules!$F$198),""))} | AT3: {=IF(A3=0,"",_xlfn.IFNA(_xlfn.IFS(Poules!$E$213='Résultat club'!$A3,Poules!$F$213),""))} | AU3: {=IF(A3=0,"",_xlfn.IFNA(_xlfn.IFS(Poules!$E$214='Résultat club'!$A3,Poules!$F$214),""))} | AV3: {=IF(A3=0,"",_xlfn.IFNA(_xlfn.IFS(Poules!$E$215='Résultat club'!$A3,Poules!$F$215),""))} | AW3: {=IF(A3=0,"",_xlfn.IFNA(_xlfn.IFS(Poules!$E$216='Résultat club'!$A3,Poules!$F$216),""))} | AX3: {=IF(A3=0,"",_xlfn.IFNA(_xlfn.IFS(Poules!$E$231='Résultat club'!$A3,Poules!$F$231),""))} | AY3: {=IF(A3=0,"",_xlfn.IFNA(_xlfn.IFS(Poules!$E$232='Résultat club'!$A3,Poules!$F$232),""))} | AZ3: {=IF(A3=0,"",_xlfn.IFNA(_xlfn.IFS(Poules!$E$233='Résultat club'!$A3,Poules!$F$233),""))} | BA3: {=IF(A3=0,"",_xlfn.IFNA(_xlfn.IFS(Poules!$E$234='Résultat club'!$A3,Poules!$F$234),""))} | BB3: {=IF(A3=0,"",_xlfn.IFNA(_xlfn.IFS(Poules!$E$249='Résultat club'!$A3,Poules!$F$249),""))} | BC3: {=IF(A3=0,"",_xlfn.IFNA(_xlfn.IFS(Poules!$E$250='Résultat club'!$A3,Poules!$F$250),""))} | BD3: {=IF(A3=0,"",_xlfn.IFNA(_xlfn.IFS(Poules!$E$251='Résultat club'!$A3,Poules!$F$251),""))} | BE3: {=IF(A3=0,"",_xlfn.IFNA(_xlfn.IFS(Poules!$E$252='Résultat club'!$A3,Poules!$F$252),""))} | BF3: {=IF(A3=0,"",_xlfn.IFNA(_xlfn.IFS(Poules!$E$267='Résultat club'!$A3,Poules!$F$267),""))} | BG3: {=IF(A3=0,"",_xlfn.IFNA(_xlfn.IFS(Poules!$E$268='Résultat club'!$A3,Poules!$F$268),""))} | BH3: {=IF($A3=0,"",_xlfn.IFNA(_xlfn.IFS(Poules!$E$269='Résultat club'!$A3,Poules!$F$269),""))} | BI3: {=IF($A3=0,"",_xlfn.IFNA(_xlfn.IFS(Poules!$E$270='Résultat club'!$A3,Poules!$F$270),""))} | BJ3: {=IF($A3=0,"",_xlfn.IFNA(_xlfn.IFS(Poules!$E$285='Résultat club'!$A3,Poules!$F$285),""))} | BK3: {=IF($A3=0,"",_xlfn.IFNA(_xlfn.IFS(Poules!$E$286='Résultat club'!$A3,Poules!$F$286),""))} | BL3: {=IF($A3=0,"",_xlfn.IFNA(_xlfn.IFS(Poules!$E$287='Résultat club'!$A3,Poules!$F$287),""))} | BM3: {=IF($A3=0,"",_xlfn.IFNA(_xlfn.IFS(Poules!$E$288='Résultat club'!$A3,Poules!$F$288),""))} | BN3: =IF(BP3>2,AVERAGE(LARGE(B3:BJ3,1)+LARGE(B3:BJ3,2)+LARGE(B3:BJ3,3)),0) -> 43 | BO3: =A3 -> GUILERS | BP3: =COUNTIF('Listes poules triées'!$A$1:$B$60,$A3) -> 5
A4: ='Liste des clubs'!A3 -> CESSON SEVIGNE | B4: {=IF(A4=0,"",_xlfn.IFNA(_xlfn.IFS(Poules!$E$15='Résultat club'!$A4,Poules!$F$15)," "))} | C4: {=IF(A4=0,"",_xlfn.IFNA(_xlfn.IFS(Poules!$E$16='Résultat club'!$A4,Poules!$F$16)," "))} -> 16 | D4: {=IF(A4=0,"",_xlfn.IFNA(_xlfn.IFS(Poules!$E$17='Résultat club'!$A4,Poules!$F$17)," "))} | E4: {=IF(A4=0,"",_xlfn.IFNA(_xlfn.IFS(Poules!$E$18='Résultat club'!$A4,Poules!$F$18)," "))} | F4: {=IF(A4=0,"",_xlfn.IFNA(_xlfn.IFS(Poules!$E$33='Résultat club'!$A4,Poules!$F$33)," "))} | G4: {=IF(A4=0,"",_xlfn.IFNA(_xlfn.IFS(Poules!$E$34='Résultat club'!$A4,Poules!$F$34)," "))} | H4: {=IF(A4=0,"",_xlfn.IFNA(_xlfn.IFS(Poules!$E$35='Résultat club'!$A4,Poules!$F$35)," "))} | I4: {=IF(A4=0,"",_xlfn.IFNA(_xlfn.IFS(Poules!$E$36='Résultat club'!$A4,Poules!$F$36)," "))} | J4: {=IF(A4=0,"",_xlfn.IFNA(_xlfn.IFS(Poules!$E$51='Résultat club'!$A4,Poules!$F$51)," "))} | K4: {=IF(A4=0,"",_xlfn.IFNA(_xlfn.IFS(Poules!$E$52='Résultat club'!$A4,Poules!$F$52)," "))} | L4: {=IF(A4=0,"",_xlfn.IFNA(_xlfn.IFS(Poules!$E$53='Résultat club'!$A4,Poules!$F$53)," "))} | M4: {=IF(A4=0,"",_xlfn.IFNA(_xlfn.IFS(Poules!$E$54='Résultat club'!$A4,Poules!$F$54)," "))} | N4: {=IF(A4=0,"",_xlfn.IFNA(_xlfn.IFS(Poules!$E$69='Résultat club'!$A4,Poules!$F$69)," "))} | O4: {=IF(A4=0,"",_xlfn.IFNA(_xlfn.IFS(Poules!$E$70='Résultat club'!$A4,Poules!$F$70)," "))} | P4: {=IF(A4=0,"",_xlfn.IFNA(_xlfn.IFS(Poules!$E$71='Résultat club'!$A4,Poules!$F$71)," "))} | Q4: {=IF(A4=0,"",_xlfn.IFNA(_xlfn.IFS(Poules!$E$72='Résultat club'!$A4,Poules!$F$72)," "))} | R4: {=IF(A4=0,"",_xlfn.IFNA(_xlfn.IFS(Poules!$E$87='Résultat club'!$A4,Poules!$F$87)," "))} | S4: {=IF(A4=0,"",_xlfn.IFNA(_xlfn.IFS(Poules!$E$88='Résultat club'!$A4,Poules!$F$88)," "))} | T4: {=IF(A4=0,"",_xlfn.IFNA(_xlfn.IFS(Poules!$E$89='Résultat club'!$A4,Poules!$F$89)," "))} | U4: {=IF(A4=0,"",_xlfn.IFNA(_xlfn.IFS(Poules!$E$90='Résultat club'!$A4,Poules!$F$90)," "))} | V4: {=IF(A4=0,"",_xlfn.IFNA(_xlfn.IFS(Poules!$E$105='Résultat club'!$A4,Poules!$F$105),""))} | W4: {=IF(A4=0,"",_xlfn.IFNA(_xlfn.IFS(Poules!$E$106='Résultat club'!$A4,Poules!$F$106),""))} | X4: {=IF(A4=0,"",_xlfn.IFNA(_xlfn.IFS(Poules!$E$107='Résultat club'!$A4,Poules!$F$107),""))} | Y4: {=IF(A4=0,"",_xlfn.IFNA(_xlfn.IFS(Poules!$E$108='Résultat club'!$A4,Poules!$F$108),""))} | Z4: {=IF(A4=0,"",_xlfn.IFNA(_xlfn.IFS(Poules!$E$123='Résultat club'!$A4,Poules!$F$123),""))} | AA4: {=IF(A4=0,"",_xlfn.IFNA(_xlfn.IFS(Poules!$E$124='Résultat club'!$A4,Poules!$F$124),""))} | AB4: {=IF(A4=0,"",_xlfn.IFNA(_xlfn.IFS(Poules!$E$125='Résultat club'!$A4,Poules!$F$125),""))} | AC4: {=IF(A4=0,"",_xlfn.IFNA(_xlfn.IFS(Poules!$E$126='Résultat club'!$A4,Poules!$F$126),""))} | AD4: {=IF(A4=0,"",_xlfn.IFNA(_xlfn.IFS(Poules!$E$141='Résultat club'!$A4,Poules!$F$141),""))} | AE4: {=IF(A4=0,"",_xlfn.IFNA(_xlfn.IFS(Poules!$E$142='Résultat club'!$A4,Poules!$F$142),""))} | AF4: {=IF(A4=0,"",_xlfn.IFNA(_xlfn.IFS(Poules!$E$143='Résultat club'!$A4,Poules!$F$143),""))} | AG4: {=IF(A4=0,"",_xlfn.IFNA(_xlfn.IFS(Poules!$E$144='Résultat club'!$A4,Poules!$F$144),""))} | AH4: {=IF(A4=0,"",_xlfn.IFNA(_xlfn.IFS(Poules!$E$159='Résultat club'!$A4,Poules!$F$159),""))} | AI4: {=IF(A4=0,"",_xlfn.IFNA(_xlfn.IFS(Poules!$E$160='Résultat club'!$A4,Poules!$F$160),""))} | AJ4: {=IF(A4=0,"",_xlfn.IFNA(_xlfn.IFS(Poules!$E$161='Résultat club'!$A4,Poules!$F$161),""))} | AK4: {=IF(A4=0,"",_xlfn.IFNA(_xlfn.IFS(Poules!$E$162='Résultat club'!$A4,Poules!$F$162),""))} | AL4: {=IF(A4=0,"",_xlfn.IFNA(_xlfn.IFS(Poules!$E$177='Résultat club'!$A4,Poules!$F$177),""))} | AM4: {=IF(A4=0,"",_xlfn.IFNA(_xlfn.IFS(Poules!$E$178='Résultat club'!$A4,Poules!$F$178),""))} | AN4: {=IF(A4=0,"",_xlfn.IFNA(_xlfn.IFS(Poules!$E$179='Résultat club'!$A4,Poules!$F$179),""))} | AO4: {=IF(A4=0,"",_xlfn.IFNA(_xlfn.IFS(Poules!$E$180='Résultat club'!$A4,Poules!$F$180),""))} | AP4: {=IF(A4=0,"",_xlfn.IFNA(_xlfn.IFS(Poules!$E$195='Résultat club'!$A4,Poules!$F$195),""))} | AQ4: {=IF(A4=0,"",_xlfn.IFNA(_xlfn.IFS(Poules!$E$196='Résultat club'!$A4,Poules!$F$196),""))} | AR4: {=IF(A4=0,"",_xlfn.IFNA(_xlfn.IFS(Poules!$E$197='Résultat club'!$A4,Poules!$F$197),""))} | AS4: {=IF(A4=0,"",_xlfn.IFNA(_xlfn.IFS(Poules!$E$198='Résultat club'!$A4,Poules!$F$198),""))} | AT4: {=IF(A4=0,"",_xlfn.IFNA(_xlfn.IFS(Poules!$E$213='Résultat club'!$A4,Poules!$F$213),""))} | AU4: {=IF(A4=0,"",_xlfn.IFNA(_xlfn.IFS(Poules!$E$214='Résultat club'!$A4,Poules!$F$214),""))} | AV4: {=IF(A4=0,"",_xlfn.IFNA(_xlfn.IFS(Poules!$E$215='Résultat club'!$A4,Poules!$F$215),""))} | AW4: {=IF(A4=0,"",_xlfn.IFNA(_xlfn.IFS(Poules!$E$216='Résultat club'!$A4,Poules!$F$216),""))} | AX4: {=IF(A4=0,"",_xlfn.IFNA(_xlfn.IFS(Poules!$E$231='Résultat club'!$A4,Poules!$F$231),""))} | AY4: {=IF(A4=0,"",_xlfn.IFNA(_xlfn.IFS(Poules!$E$232='Résultat club'!$A4,Poules!$F$232),""))} | AZ4: {=IF(A4=0,"",_xlfn.IFNA(_xlfn.IFS(Poules!$E$233='Résultat club'!$A4,Poules!$F$233),""))} | BA4: {=IF(A4=0,"",_xlfn.IFNA(_xlfn.IFS(Poules!$E$234='Résultat club'!$A4,Poules!$F$234),""))} | BB4: {=IF(A4=0,"",_xlfn.IFNA(_xlfn.IFS(Poules!$E$249='Résultat club'!$A4,Poules!$F$249),""))} | BC4: {=IF(A4=0,"",_xlfn.IFNA(_xlfn.IFS(Poules!$E$250='Résultat club'!$A4,Poules!$F$250),""))} | BD4: {=IF(A4=0,"",_xlfn.IFNA(_xlfn.IFS(Poules!$E$251='Résultat club'!$A4,Poules!$F$251),""))} | BE4: {=IF(A4=0,"",_xlfn.IFNA(_xlfn.IFS(Poules!$E$252='Résultat club'!$A4,Poules!$F$252),""))} | BF4: {=IF(A4=0,"",_xlfn.IFNA(_xlfn.IFS(Poules!$E$267='Résultat club'!$A4,Poules!$F$267),""))} | BG4: {=IF(A4=0,"",_xlfn.IFNA(_xlfn.IFS(Poules!$E$268='Résultat club'!$A4,Poules!$F$268),""))} | BH4: {=IF($A4=0,"",_xlfn.IFNA(_xlfn.IFS(Poules!$E$269='Résultat club'!$A4,Poules!$F$269),""))} | BI4: {=IF($A4=0,"",_xlfn.IFNA(_xlfn.IFS(Poules!$E$270='Résultat club'!$A4,Poules!$F$270),""))} | BJ4: {=IF($A4=0,"",_xlfn.IFNA(_xlfn.IFS(Poules!$E$285='Résultat club'!$A4,Poules!$F$285),""))} | BK4: {=IF($A4=0,"",_xlfn.IFNA(_xlfn.IFS(Poules!$E$286='Résultat club'!$A4,Poules!$F$286),""))} | BL4: {=IF($A4=0,"",_xlfn.IFNA(_xlfn.IFS(Poules!$E$287='Résultat club'!$A4,Poules!$F$287),""))} | BM4: {=IF($A4=0,"",_xlfn.IFNA(_xlfn.IFS(Poules!$E$288='Résultat club'!$A4,Poules!$F$288),""))} | BN4: =IF(BP4>2,AVERAGE(LARGE(B4:BJ4,1)+LARGE(B4:BJ4,2)+LARGE(B4:BJ4,3)),0) -> 0 | BO4: =A4 -> CESSON SEVIGNE | BP4: =COUNTIF('Listes poules triées'!$A$1:$B$60,$A4) -> 1
A5: ='Liste des clubs'!A4 -> LANDEDA | B5: {=IF(A5=0,"",_xlfn.IFNA(_xlfn.IFS(Poules!$E$15='Résultat club'!$A5,Poules!$F$15)," "))} | C5: {=IF(A5=0,"",_xlfn.IFNA(_xlfn.IFS(Poules!$E$16='Résultat club'!$A5,Poules!$F$16)," "))} | D5: {=IF(A5=0,"",_xlfn.IFNA(_xlfn.IFS(Poules!$E$17='Résultat club'!$A5,Poules!$F$17)," "))} -> 15 | E5: {=IF(A5=0,"",_xlfn.IFNA(_xlfn.IFS(Poules!$E$18='Résultat club'!$A5,Poules!$F$18)," "))} | F5: {=IF(A5=0,"",_xlfn.IFNA(_xlfn.IFS(Poules!$E$33='Résultat club'!$A5,Poules!$F$33)," "))} | G5: {=IF(A5=0,"",_xlfn.IFNA(_xlfn.IFS(Poules!$E$34='Résultat club'!$A5,Poules!$F$34)," "))} | H5: {=IF(A5=0,"",_xlfn.IFNA(_xlfn.IFS(Poules!$E$35='Résultat club'!$A5,Poules!$F$35)," "))} | I5: {=IF(A5=0,"",_xlfn.IFNA(_xlfn.IFS(Poules!$E$36='Résultat club'!$A5,Poules!$F$36)," "))} -> 13 | J5: {=IF(A5=0,"",_xlfn.IFNA(_xlfn.IFS(Poules!$E$51='Résultat club'!$A5,Poules!$F$51)," "))} | K5: {=IF(A5=0,"",_xlfn.IFNA(_xlfn.IFS(Poules!$E$52='Résultat club'!$A5,Poules!$F$52)," "))} | L5: {=IF(A5=0,"",_xlfn.IFNA(_xlfn.IFS(Poules!$E$53='Résultat club'!$A5,Poules!$F$53)," "))} | M5: {=IF(A5=0,"",_xlfn.IFNA(_xlfn.IFS(Poules!$E$54='Résultat club'!$A5,Poules!$F$54)," "))} | N5: {=IF(A5=0,"",_xlfn.IFNA(_xlfn.IFS(Poules!$E$69='Résultat club'!$A5,Poules!$F$69)," "))} | O5: {=IF(A5=0,"",_xlfn.IFNA(_xlfn.IFS(Poules!$E$70='Résultat club'!$A5,Poules!$F$70)," "))} | P5: {=IF(A5=0,"",_xlfn.IFNA(_xlfn.IFS(Poules!$E$71='Résultat club'!$A5,Poules!$F$71)," "))} | Q5: {=IF(A5=0,"",_xlfn.IFNA(_xlfn.IFS(Poules!$E$72='Résultat club'!$A5,Poules!$F$72)," "))} | R5: {=IF(A5=0,"",_xlfn.IFNA(_xlfn.IFS(Poules!$E$87='Résultat club'!$A5,Poules!$F$87)," "))} | S5: {=IF(A5=0,"",_xlfn.IFNA(_xlfn.IFS(Poules!$E$88='Résultat club'!$A5,Poules!$F$88)," "))} | T5: {=IF(A5=0,"",_xlfn.IFNA(_xlfn.IFS(Poules!$E$89='Résultat club'!$A5,Poules!$F$89)," "))} | U5: {=IF(A5=0,"",_xlfn.IFNA(_xlfn.IFS(Poules!$E$90='Résultat club'!$A5,Poules!$F$90)," "))} | V5: {=IF(A5=0,"",_xlfn.IFNA(_xlfn.IFS(Poules!$E$105='Résultat club'!$A5,Poules!$F$105),""))} | W5: {=IF(A5=0,"",_xlfn.IFNA(_xlfn.IFS(Poules!$E$106='Résultat club'!$A5,Poules!$F$106),""))} | X5: {=IF(A5=0,"",_xlfn.IFNA(_xlfn.IFS(Poules!$E$107='Résultat club'!$A5,Poules!$F$107),""))} | Y5: {=IF(A5=0,"",_xlfn.IFNA(_xlfn.IFS(Poules!$E$108='Résultat club'!$A5,Poules!$F$108),""))} | Z5: {=IF(A5=0,"",_xlfn.IFNA(_xlfn.IFS(Poules!$E$123='Résultat club'!$A5,Poules!$F$123),""))} | AA5: {=IF(A5=0,"",_xlfn.IFNA(_xlfn.IFS(Poules!$E$124='Résultat club'!$A5,Poules!$F$124),""))} | AB5: {=IF(A5=0,"",_xlfn.IFNA(_xlfn.IFS(Poules!$E$125='Résultat club'!$A5,Poules!$F$125),""))} | AC5: {=IF(A5=0,"",_xlfn.IFNA(_xlfn.IFS(Poules!$E$126='Résultat club'!$A5,Poules!$F$126),""))} | AD5: {=IF(A5=0,"",_xlfn.IFNA(_xlfn.IFS(Poules!$E$141='Résultat club'!$A5,Poules!$F$141),""))} | AE5: {=IF(A5=0,"",_xlfn.IFNA(_xlfn.IFS(Poules!$E$142='Résultat club'!$A5,Poules!$F$142),""))} | AF5: {=IF(A5=0,"",_xlfn.IFNA(_xlfn.IFS(Poules!$E$143='Résultat club'!$A5,Poules!$F$143),""))} | AG5: {=IF(A5=0,"",_xlfn.IFNA(_xlfn.IFS(Poules!$E$144='Résultat club'!$A5,Poules!$F$144),""))} | AH5: {=IF(A5=0,"",_xlfn.IFNA(_xlfn.IFS(Poules!$E$159='Résultat club'!$A5,Poules!$F$159),""))} | AI5: {=IF(A5=0,"",_xlfn.IFNA(_xlfn.IFS(Poules!$E$160='Résultat club'!$A5,Poules!$F$160),""))} | AJ5: {=IF(A5=0,"",_xlfn.IFNA(_xlfn.IFS(Poules!$E$161='Résultat club'!$A5,Poules!$F$161),""))} | AK5: {=IF(A5=0,"",_xlfn.IFNA(_xlfn.IFS(Poules!$E$162='Résultat club'!$A5,Poules!$F$162),""))} | AL5: {=IF(A5=0,"",_xlfn.IFNA(_xlfn.IFS(Poules!$E$177='Résultat club'!$A5,Poules!$F$177),""))} | AM5: {=IF(A5=0,"",_xlfn.IFNA(_xlfn.IFS(Poules!$E$178='Résultat club'!$A5,Poules!$F$178),""))} | AN5: {=IF(A5=0,"",_xlfn.IFNA(_xlfn.IFS(Poules!$E$179='Résultat club'!$A5,Poules!$F$179),""))} | AO5: {=IF(A5=0,"",_xlfn.IFNA(_xlfn.IFS(Poules!$E$180='Résultat club'!$A5,Poules!$F$180),""))} | AP5: {=IF(A5=0,"",_xlfn.IFNA(_xlfn.IFS(Poules!$E$195='Résultat club'!$A5,Poules!$F$195),""))} | AQ5: {=IF(A5=0,"",_xlfn.IFNA(_xlfn.IFS(Poules!$E$196='Résultat club'!$A5,Poules!$F$196),""))} | AR5: {=IF(A5=0,"",_xlfn.IFNA(_xlfn.IFS(Poules!$E$197='Résultat club'!$A5,Poules!$F$197),""))} | AS5: {=IF(A5=0,"",_xlfn.IFNA(_xlfn.IFS(Poules!$E$198='Résultat club'!$A5,Poules!$F$198),""))} | AT5: {=IF(A5=0,"",_xlfn.IFNA(_xlfn.IFS(Poules!$E$213='Résultat club'!$A5,Poules!$F$213),""))} | AU5: {=IF(A5=0,"",_xlfn.IFNA(_xlfn.IFS(Poules!$E$214='Résultat club'!$A5,Poules!$F$214),""))} | AV5: {=IF(A5=0,"",_xlfn.IFNA(_xlfn.IFS(Poules!$E$215='Résultat club'!$A5,Poules!$F$215),""))} | AW5: {=IF(A5=0,"",_xlfn.IFNA(_xlfn.IFS(Poules!$E$216='Résultat club'!$A5,Poules!$F$216),""))} | AX5: {=IF(A5=0,"",_xlfn.IFNA(_xlfn.IFS(Poules!$E$231='Résultat club'!$A5,Poules!$F$231),""))} | AY5: {=IF(A5=0,"",_xlfn.IFNA(_xlfn.IFS(Poules!$E$232='Résultat club'!$A5,Poules!$F$232),""))} | AZ5: {=IF(A5=0,"",_xlfn.IFNA(_xlfn.IFS(Poules!$E$233='Résultat club'!$A5,Poules!$F$233),""))} -> 3 | BA5: {=IF(A5=0,"",_xlfn.IFNA(_xlfn.IFS(Poules!$E$234='Résultat club'!$A5,Poules!$F$234),""))} | BB5: {=IF(A5=0,"",_xlfn.IFNA(_xlfn.IFS(Poules!$E$249='Résultat club'!$A5,Poules!$F$249),""))} | BC5: {=IF(A5=0,"",_xlfn.IFNA(_xlfn.IFS(Poules!$E$250='Résultat club'!$A5,Poules!$F$250),""))} | BD5: {=IF(A5=0,"",_xlfn.IFNA(_xlfn.IFS(Poules!$E$251='Résultat club'!$A5,Poules!$F$251),""))} | BE5: {=IF(A5=0,"",_xlfn.IFNA(_xlfn.IFS(Poules!$E$252='Résultat club'!$A5,Poules!$F$252),""))} | BF5: {=IF(A5=0,"",_xlfn.IFNA(_xlfn.IFS(Poules!$E$267='Résultat club'!$A5,Poules!$F$267),""))} | BG5: {=IF(A5=0,"",_xlfn.IFNA(_xlfn.IFS(Poules!$E$268='Résultat club'!$A5,Poules!$F$268),""))} | BH5: {=IF($A5=0,"",_xlfn.IFNA(_xlfn.IFS(Poules!$E$269='Résultat club'!$A5,Poules!$F$269),""))} | BI5: {=IF($A5=0,"",_xlfn.IFNA(_xlfn.IFS(Poules!$E$270='Résultat club'!$A5,Poules!$F$270),""))} | BJ5: {=IF($A5=0,"",_xlfn.IFNA(_xlfn.IFS(Poules!$E$285='Résultat club'!$A5,Poules!$F$285),""))} | BK5: {=IF($A5=0,"",_xlfn.IFNA(_xlfn.IFS(Poules!$E$286='Résultat club'!$A5,Poules!$F$286),""))} | BL5: {=IF($A5=0,"",_xlfn.IFNA(_xlfn.IFS(Poules!$E$287='Résultat club'!$A5,Poules!$F$287),""))} | BM5: {=IF($A5=0,"",_xlfn.IFNA(_xlfn.IFS(Poules!$E$288='Résultat club'!$A5,Poules!$F$288),""))} | BN5: =IF(BP5>2,AVERAGE(LARGE(B5:BJ5,1)+LARGE(B5:BJ5,2)+LARGE(B5:BJ5,3)),0) -> 31 | BO5: =A5 -> LANDEDA | BP5: =COUNTIF('Listes poules triées'!$A$1:$B$60,$A5) -> 3
A6: ='Liste des clubs'!A5 -> LANDIVISIAU | B6: {=IF(A6=0,"",_xlfn.IFNA(_xlfn.IFS(Poules!$E$15='Résultat club'!$A6,Poules!$F$15)," "))} | C6: {=IF(A6=0,"",_xlfn.IFNA(_xlfn.IFS(Poules!$E$16='Résultat club'!$A6,Poules!$F$16)," "))} | D6: {=IF(A6=0,"",_xlfn.IFNA(_xlfn.IFS(Poules!$E$17='Résultat club'!$A6,Poules!$F$17)," "))} | E6: {=IF(A6=0,"",_xlfn.IFNA(_xlfn.IFS(Poules!$E$18='Résultat club'!$A6,Poules!$F$18)," "))} | F6: {=IF(A6=0,"",_xlfn.IFNA(_xlfn.IFS(Poules!$E$33='Résultat club'!$A6,Poules!$F$33)," "))} | G6: {=IF(A6=0,"",_xlfn.IFNA(_xlfn.IFS(Poules!$E$34='Résultat club'!$A6,Poules!$F$34)," "))} -> 15 | H6: {=IF(A6=0,"",_xlfn.IFNA(_xlfn.IFS(Poules!$E$35='Résultat club'!$A6,Poules!$F$35)," "))} | I6: {=IF(A6=0,"",_xlfn.IFNA(_xlfn.IFS(Poules!$E$36='Résultat club'!$A6,Poules!$F$36)," "))} | J6: {=IF(A6=0,"",_xlfn.IFNA(_xlfn.IFS(Poules!$E$51='Résultat club'!$A6,Poules!$F$51)," "))} | K6: {=IF(A6=0,"",_xlfn.IFNA(_xlfn.IFS(Poules!$E$52='Résultat club'!$A6,Poules!$F$52)," "))} | L6: {=IF(A6=0,"",_xlfn.IFNA(_xlfn.IFS(Poules!$E$53='Résultat club'!$A6,Poules!$F$53)," "))} | M6: {=IF(A6=0,"",_xlfn.IFNA(_xlfn.IFS(Poules!$E$54='Résultat club'!$A6,Poules!$F$54)," "))} | N6: {=IF(A6=0,"",_xlfn.IFNA(_xlfn.IFS(Poules!$E$69='Résultat club'!$A6,Poules!$F$69)," "))} | O6: {=IF(A6=0,"",_xlfn.IFNA(_xlfn.IFS(Poules!$E$70='Résultat club'!$A6,Poules!$F$70)," "))} | P6: {=IF(A6=0,"",_xlfn.IFNA(_xlfn.IFS(Poules!$E$71='Résultat club'!$A6,Poules!$F$71)," "))} | Q6: {=IF(A6=0,"",_xlfn.IFNA(_xlfn.IFS(Poules!$E$72='Résultat club'!$A6,Poules!$F$72)," "))} | R6: {=IF(A6=0,"",_xlfn.IFNA(_xlfn.IFS(Poules!$E$87='Résultat club'!$A6,Poules!$F$87)," "))} -> 14 | S6: {=IF(A6=0,"",_xlfn.IFNA(_xlfn.IFS(Poules!$E$88='Résultat club'!$A6,Poules!$F$88)," "))} | T6: {=IF(A6=0,"",_xlfn.IFNA(_xlfn.IFS(Poules!$E$89='Résultat club'!$A6,Poules!$F$89)," "))} | U6: {=IF(A6=0,"",_xlfn.IFNA(_xlfn.IFS(Poules!$E$90='Résultat club'!$A6,Poules!$F$90)," "))} | V6: {=IF(A6=0,"",_xlfn.IFNA(_xlfn.IFS(Poules!$E$105='Résultat club'!$A6,Poules!$F$105),""))} | W6: {=IF(A6=0,"",_xlfn.IFNA(_xlfn.IFS(Poules!$E$106='Résultat club'!$A6,Poules!$F$106),""))} | X6: {=IF(A6=0,"",_xlfn.IFNA(_xlfn.IFS(Poules!$E$107='Résultat club'!$A6,Poules!$F$107),""))} | Y6: {=IF(A6=0,"",_xlfn.IFNA(_xlfn.IFS(Poules!$E$108='Résultat club'!$A6,Poules!$F$108),""))} | Z6: {=IF(A6=0,"",_xlfn.IFNA(_xlfn.IFS(Poules!$E$123='Résultat club'!$A6,Poules!$F$123),""))} | AA6: {=IF(A6=0,"",_xlfn.IFNA(_xlfn.IFS(Poules!$E$124='Résultat club'!$A6,Poules!$F$124),""))} | AB6: {=IF(A6=0,"",_xlfn.IFNA(_xlfn.IFS(Poules!$E$125='Résultat club'!$A6,Poules!$F$125),""))} | AC6: {=IF(A6=0,"",_xlfn.IFNA(_xlfn.IFS(Poules!$E$126='Résultat club'!$A6,Poules!$F$126),""))} | AD6: {=IF(A6=0,"",_xlfn.IFNA(_xlfn.IFS(Poules!$E$141='Résultat club'!$A6,Poules!$F$141),""))} -> 11 | AE6: {=IF(A6=0,"",_xlfn.IFNA(_xlfn.IFS(Poules!$E$142='Résultat club'!$A6,Poules!$F$142),""))} | AF6: {=IF(A6=0,"",_xlfn.IFNA(_xlfn.IFS(Poules!$E$143='Résultat club'!$A6,Poules!$F$143),""))} | AG6: {=IF(A6=0,"",_xlfn.IFNA(_xlfn.IFS(Poules!$E$144='Résultat club'!$A6,Poules!$F$144),""))} | AH6: {=IF(A6=0,"",_xlfn.IFNA(_xlfn.IFS(Poules!$E$159='Résultat club'!$A6,Poules!$F$159),""))} | AI6: {=IF(A6=0,"",_xlfn.IFNA(_xlfn.IFS(Poules!$E$160='Résultat club'!$A6,Poules!$F$160),""))} -> 8 | AJ6: {=IF(A6=0,"",_xlfn.IFNA(_xlfn.IFS(Poules!$E$161='Résultat club'!$A6,Poules!$F$161),""))} | AK6: {=IF(A6=0,"",_xlfn.IFNA(_xlfn.IFS(Poules!$E$162='Résultat club'!$A6,Poules!$F$162),""))} | AL6: {=IF(A6=0,"",_xlfn.IFNA(_xlfn.IFS(Poules!$E$177='Résultat club'!$A6,Poules!$F$177),""))} | AM6: {=IF(A6=0,"",_xlfn.IFNA(_xlfn.IFS(Poules!$E$178='Résultat club'!$A6,Poules!$F$178),""))} | AN6: {=IF(A6=0,"",_xlfn.IFNA(_xlfn.IFS(Poules!$E$179='Résultat club'!$A6,Poules!$F$179),""))} | AO6: {=IF(A6=0,"",_xlfn.IFNA(_xlfn.IFS(Poules!$E$180='Résultat club'!$A6,Poules!$F$180),""))} | AP6: {=IF(A6=0,"",_xlfn.IFNA(_xlfn.IFS(Poules!$E$195='Résultat club'!$A6,Poules!$F$195),""))} | AQ6: {=IF(A6=0,"",_xlfn.IFNA(_xlfn.IFS(Poules!$E$196='Résultat club'!$A6,Poules!$F$196),""))} | AR6: {=IF(A6=0,"",_xlfn.IFNA(_xlfn.IFS(Poules!$E$197='Résultat club'!$A6,Poules!$F$197),""))} | AS6: {=IF(A6=0,"",_xlfn.IFNA(_xlfn.IFS(Poules!$E$198='Résultat club'!$A6,Poules!$F$198),""))} | AT6: {=IF(A6=0,"",_xlfn.IFNA(_xlfn.IFS(Poules!$E$213='Résultat club'!$A6,Poules!$F$213),""))} | AU6: {=IF(A6=0,"",_xlfn.IFNA(_xlfn.IFS(Poules!$E$214='Résultat club'!$A6,Poules!$F$214),""))} | AV6: {=IF(A6=0,"",_xlfn.IFNA(_xlfn.IFS(Poules!$E$215='Résultat club'!$A6,Poules!$F$215),""))} | AW6: {=IF(A6=0,"",_xlfn.IFNA(_xlfn.IFS(Poules!$E$216='Résultat club'!$A6,Poules!$F$216),""))} | AX6: {=IF(A6=0,"",_xlfn.IFNA(_xlfn.IFS(Poules!$E$231='Résultat club'!$A6,Poules!$F$231),""))} | AY6: {=IF(A6=0,"",_xlfn.IFNA(_xlfn.IFS(Poules!$E$232='Résultat club'!$A6,Poules!$F$232),""))} | AZ6: {=IF(A6=0,"",_xlfn.IFNA(_xlfn.IFS(Poules!$E$233='Résultat club'!$A6,Poules!$F$233),""))} | BA6: {=IF(A6=0,"",_xlfn.IFNA(_xlfn.IFS(Poules!$E$234='Résultat club'!$A6,Poules!$F$234),""))} | BB6: {=IF(A6=0,"",_xlfn.IFNA(_xlfn.IFS(Poules!$E$249='Résultat club'!$A6,Poules!$F$249),""))} | BC6: {=IF(A6=0,"",_xlfn.IFNA(_xlfn.IFS(Poules!$E$250='Résultat club'!$A6,Poules!$F$250),""))} | BD6: {=IF(A6=0,"",_xlfn.IFNA(_xlfn.IFS(Poules!$E$251='Résultat club'!$A6,Poules!$F$251),""))} | BE6: {=IF(A6=0,"",_xlfn.IFNA(_xlfn.IFS(Poules!$E$252='Résultat club'!$A6,Poules!$F$252),""))} | BF6: {=IF(A6=0,"",_xlfn.IFNA(_xlfn.IFS(Poules!$E$267='Résultat club'!$A6,Poules!$F$267),""))} | BG6: {=IF(A6=0,"",_xlfn.IFNA(_xlfn.IFS(Poules!$E$268='Résultat club'!$A6,Poules!$F$268),""))} | BH6: {=IF($A6=0,"",_xlfn.IFNA(_xlfn.IFS(Poules!$E$269='Résultat club'!$A6,Poules!$F$269),""))} | BI6: {=IF($A6=0,"",_xlfn.IFNA(_xlfn.IFS(Poules!$E$270='Résultat club'!$A6,Poules!$F$270),""))} | BJ6: {=IF($A6=0,"",_xlfn.IFNA(_xlfn.IFS(Poules!$E$285='Résultat club'!$A6,Poules!$F$285),""))} | BK6: {=IF($A6=0,"",_xlfn.IFNA(_xlfn.IFS(Poules!$E$286='Résultat club'!$A6,Poules!$F$286),""))} | BL6: {=IF($A6=0,"",_xlfn.IFNA(_xlfn.IFS(Poules!$E$287='Résultat club'!$A6,Poules!$F$287),""))} | BM6: {=IF($A6=0,"",_xlfn.IFNA(_xlfn.IFS(Poules!$E$288='Résultat club'!$A6,Poules!$F$288),""))} | BN6: =IF(BP6>2,AVERAGE(LARGE(B6:BJ6,1)+LARGE(B6:BJ6,2)+LARGE(B6:BJ6,3)),0) -> 40 | BO6: =A6 -> LANDIVISIAU | BP6: =COUNTIF('Listes poules triées'!$A$1:$B$60,$A6) -> 4
A7: ='Liste des clubs'!A6 -> ST POL DE LEON | B7: {=IF(A7=0,"",_xlfn.IFNA(_xlfn.IFS(Poules!$E$15='Résultat club'!$A7,Poules!$F$15)," "))} | C7: {=IF(A7=0,"",_xlfn.IFNA(_xlfn.IFS(Poules!$E$16='Résultat club'!$A7,Poules!$F$16)," "))} | D7: {=IF(A7=0,"",_xlfn.IFNA(_xlfn.IFS(Poules!$E$17='Résultat club'!$A7,Poules!$F$17)," "))} | E7: {=IF(A7=0,"",_xlfn.IFNA(_xlfn.IFS(Poules!$E$18='Résultat club'!$A7,Poules!$F$18)," "))} | F7: {=IF(A7=0,"",_xlfn.IFNA(_xlfn.IFS(Poules!$E$33='Résultat club'!$A7,Poules!$F$33)," "))} | G7: {=IF(A7=0,"",_xlfn.IFNA(_xlfn.IFS(Poules!$E$34='Résultat club'!$A7,Poules!$F$34)," "))} | H7: {=IF(A7=0,"",_xlfn.IFNA(_xlfn.IFS(Poules!$E$35='Résultat club'!$A7,Poules!$F$35)," "))} | I7: {=IF(A7=0,"",_xlfn.IFNA(_xlfn.IFS(Poules!$E$36='Résultat club'!$A7,Poules!$F$36)," "))} | J7: {=IF(A7=0,"",_xlfn.IFNA(_xlfn.IFS(Poules!$E$51='Résultat club'!$A7,Poules!$F$51)," "))} | K7: {=IF(A7=0,"",_xlfn.IFNA(_xlfn.IFS(Poules!$E$52='Résultat club'!$A7,Poules!$F$52)," "))} -> 14 | L7: {=IF(A7=0,"",_xlfn.IFNA(_xlfn.IFS(Poules!$E$53='Résultat club'!$A7,Poules!$F$53)," "))} | M7: {=IF(A7=0,"",_xlfn.IFNA(_xlfn.IFS(Poules!$E$54='Résultat club'!$A7,Poules!$F$54)," "))} | N7: {=IF(A7=0,"",_xlfn.IFNA(_xlfn.IFS(Poules!$E$69='Résultat club'!$A7,Poules!$F$69)," "))} -> 15 | O7: {=IF(A7=0,"",_xlfn.IFNA(_xlfn.IFS(Poules!$E$70='Résultat club'!$A7,Poules!$F$70)," "))} | P7: {=IF(A7=0,"",_xlfn.IFNA(_xlfn.IFS(Poules!$E$71='Résultat club'!$A7,Poules!$F$71)," "))} | Q7: {=IF(A7=0,"",_xlfn.IFNA(_xlfn.IFS(Poules!$E$72='Résultat club'!$A7,Poules!$F$72)," "))} | R7: {=IF(A7=0,"",_xlfn.IFNA(_xlfn.IFS(Poules!$E$87='Résultat club'!$A7,Poules!$F$87)," "))} | S7: {=IF(A7=0,"",_xlfn.IFNA(_xlfn.IFS(Poules!$E$88='Résultat club'!$A7,Poules!$F$88)," "))} | T7: {=IF(A7=0,"",_xlfn.IFNA(_xlfn.IFS(Poules!$E$89='Résultat club'!$A7,Poules!$F$89)," "))} | U7: {=IF(A7=0,"",_xlfn.IFNA(_xlfn.IFS(Poules!$E$90='Résultat club'!$A7,Poules!$F$90)," "))} | V7: {=IF(A7=0,"",_xlfn.IFNA(_xlfn.IFS(Poules!$E$105='Résultat club'!$A7,Poules!$F$105),""))} | W7: {=IF(A7=0,"",_xlfn.IFNA(_xlfn.IFS(Poules!$E$106='Résultat club'!$A7,Poules!$F$106),""))} | X7: {=IF(A7=0,"",_xlfn.IFNA(_xlfn.IFS(Poules!$E$107='Résultat club'!$A7,Poules!$F$107),""))} | Y7: {=IF(A7=0,"",_xlfn.IFNA(_xlfn.IFS(Poules!$E$108='Résultat club'!$A7,Poules!$F$108),""))} | Z7: {=IF(A7=0,"",_xlfn.IFNA(_xlfn.IFS(Poules!$E$123='Résultat club'!$A7,Poules!$F$123),""))} | AA7: {=IF(A7=0,"",_xlfn.IFNA(_xlfn.IFS(Poules!$E$124='Résultat club'!$A7,Poules!$F$124),""))} | AB7: {=IF(A7=0,"",_xlfn.IFNA(_xlfn.IFS(Poules!$E$125='Résultat club'!$A7,Poules!$F$125),""))} | AC7: {=IF(A7=0,"",_xlfn.IFNA(_xlfn.IFS(Poules!$E$126='Résultat club'!$A7,Poules!$F$126),""))} | AD7: {=IF(A7=0,"",_xlfn.IFNA(_xlfn.IFS(Poules!$E$141='Résultat club'!$A7,Poules!$F$141),""))} | AE7: {=IF(A7=0,"",_xlfn.IFNA(_xlfn.IFS(Poules!$E$142='Résultat club'!$A7,Poules!$F$142),""))} | AF7: {=IF(A7=0,"",_xlfn.IFNA(_xlfn.IFS(Poules!$E$143='Résultat club'!$A7,Poules!$F$143),""))} | AG7: {=IF(A7=0,"",_xlfn.IFNA(_xlfn.IFS(Poules!$E$144='Résultat club'!$A7,Poules!$F$144),""))} -> 7 | AH7: {=IF(A7=0,"",_xlfn.IFNA(_xlfn.IFS(Poules!$E$159='Résultat club'!$A7,Poules!$F$159),""))} | AI7: {=IF(A7=0,"",_xlfn.IFNA(_xlfn.IFS(Poules!$E$160='Résultat club'!$A7,Poules!$F$160),""))} | AJ7: {=IF(A7=0,"",_xlfn.IFNA(_xlfn.IFS(Poules!$E$161='Résultat club'!$A7,Poules!$F$161),""))} | AK7: {=IF(A7=0,"",_xlfn.IFNA(_xlfn.IFS(Poules!$E$162='Résultat club'!$A7,Poules!$F$162),""))} | AL7: {=IF(A7=0,"",_xlfn.IFNA(_xlfn.IFS(Poules!$E$177='Résultat club'!$A7,Poules!$F$177),""))} | AM7: {=IF(A7=0,"",_xlfn.IFNA(_xlfn.IFS(Poules!$E$178='Résultat club'!$A7,Poules!$F$178),""))} | AN7: {=IF(A7=0,"",_xlfn.IFNA(_xlfn.IFS(Poules!$E$179='Résultat club'!$A7,Poules!$F$179),""))} | AO7: {=IF(A7=0,"",_xlfn.IFNA(_xlfn.IFS(Poules!$E$180='Résultat club'!$A7,Poules!$F$180),""))} | AP7: {=IF(A7=0,"",_xlfn.IFNA(_xlfn.IFS(Poules!$E$195='Résultat club'!$A7,Poules!$F$195),""))} | AQ7: {=IF(A7=0,"",_xlfn.IFNA(_xlfn.IFS(Poules!$E$196='Résultat club'!$A7,Poules!$F$196),""))} | AR7: {=IF(A7=0,"",_xlfn.IFNA(_xlfn.IFS(Poules!$E$197='Résultat club'!$A7,Poules!$F$197),""))} | AS7: {=IF(A7=0,"",_xlfn.IFNA(_xlfn.IFS(Poules!$E$198='Résultat club'!$A7,Poules!$F$198),""))} | AT7: {=IF(A7=0,"",_xlfn.IFNA(_xlfn.IFS(Poules!$E$213='Résultat club'!$A7,Poules!$F$213),""))} | AU7: {=IF(A7=0,"",_xlfn.IFNA(_xlfn.IFS(Poules!$E$214='Résultat club'!$A7,Poules!$F$214),""))} -> 5 | AV7: {=IF(A7=0,"",_xlfn.IFNA(_xlfn.IFS(Poules!$E$215='Résultat club'!$A7,Poules!$F$215),""))} | AW7: {=IF(A7=0,"",_xlfn.IFNA(_xlfn.IFS(Poules!$E$216='Résultat club'!$A7,Poules!$F$216),""))} | AX7: {=IF(A7=0,"",_xlfn.IFNA(_xlfn.IFS(Poules!$E$231='Résultat club'!$A7,Poules!$F$231),""))} | AY7: {=IF(A7=0,"",_xlfn.IFNA(_xlfn.IFS(Poules!$E$232='Résultat club'!$A7,Poules!$F$232),""))} | AZ7: {=IF(A7=0,"",_xlfn.IFNA(_xlfn.IFS(Poules!$E$233='Résultat club'!$A7,Poules!$F$233),""))} | BA7: {=IF(A7=0,"",_xlfn.IFNA(_xlfn.IFS(Poules!$E$234='Résultat club'!$A7,Poules!$F$234),""))} | BB7: {=IF(A7=0,"",_xlfn.IFNA(_xlfn.IFS(Poules!$E$249='Résultat club'!$A7,Poules!$F$249),""))} | BC7: {=IF(A7=0,"",_xlfn.IFNA(_xlfn.IFS(Poules!$E$250='Résultat club'!$A7,Poules!$F$250),""))} -> 3 | BD7: {=IF(A7=0,"",_xlfn.IFNA(_xlfn.IFS(Poules!$E$251='Résultat club'!$A7,Poules!$F$251),""))} | BE7: {=IF(A7=0,"",_xlfn.IFNA(_xlfn.IFS(Poules!$E$252='Résultat club'!$A7,Poules!$F$252),""))} | BF7: {=IF(A7=0,"",_xlfn.IFNA(_xlfn.IFS(Poules!$E$267='Résultat club'!$A7,Poules!$F$267),""))} | BG7: {=IF(A7=0,"",_xlfn.IFNA(_xlfn.IFS(Poules!$E$268='Résultat club'!$A7,Poules!$F$268),""))} | BH7: {=IF($A7=0,"",_xlfn.IFNA(_xlfn.IFS(Poules!$E$269='Résultat club'!$A7,Poules!$F$269),""))} | BI7: {=IF($A7=0,"",_xlfn.IFNA(_xlfn.IFS(Poules!$E$270='Résultat club'!$A7,Poules!$F$270),""))} | BJ7: {=IF($A7=0,"",_xlfn.IFNA(_xlfn.IFS(Poules!$E$285='Résultat club'!$A7,Poules!$F$285),""))} | BK7: {=IF($A7=0,"",_xlfn.IFNA(_xlfn.IFS(Poules!$E$286='Résultat club'!$A7,Poules!$F$286),""))} | BL7: {=IF($A7=0,"",_xlfn.IFNA(_xlfn.IFS(Poules!$E$287='Résultat club'!$A7,Poules!$F$287),""))} | BM7: {=IF($A7=0,"",_xlfn.IFNA(_xlfn.IFS(Poules!$E$288='Résultat club'!$A7,Poules!$F$288),""))} | BN7: =IF(BP7>2,AVERAGE(LARGE(B7:BJ7,1)+LARGE(B7:BJ7,2)+LARGE(B7:BJ7,3)),0) -> 36 | BO7: =A7 -> ST POL DE LEON | BP7: =COUNTIF('Listes poules triées'!$A$1:$B$60,$A7) -> 5
A8: ='Liste des clubs'!A7 -> TINTENIAC | B8: {=IF(A8=0,"",_xlfn.IFNA(_xlfn.IFS(Poules!$E$15='Résultat club'!$A8,Poules!$F$15)," "))} | C8: {=IF(A8=0,"",_xlfn.IFNA(_xlfn.IFS(Poules!$E$16='Résultat club'!$A8,Poules!$F$16)," "))} | D8: {=IF(A8=0,"",_xlfn.IFNA(_xlfn.IFS(Poules!$E$17='Résultat club'!$A8,Poules!$F$17)," "))} | E8: {=IF(A8=0,"",_xlfn.IFNA(_xlfn.IFS(Poules!$E$18='Résultat club'!$A8,Poules!$F$18)," "))} | F8: {=IF(A8=0,"",_xlfn.IFNA(_xlfn.IFS(Poules!$E$33='Résultat club'!$A8,Poules!$F$33)," "))} | G8: {=IF(A8=0,"",_xlfn.IFNA(_xlfn.IFS(Poules!$E$34='Résultat club'!$A8,Poules!$F$34)," "))} | H8: {=IF(A8=0,"",_xlfn.IFNA(_xlfn.IFS(Poules!$E$35='Résultat club'!$A8,Poules!$F$35)," "))} | I8: {=IF(A8=0,"",_xlfn.IFNA(_xlfn.IFS(Poules!$E$36='Résultat club'!$A8,Poules!$F$36)," "))} | J8: {=IF(A8=0,"",_xlfn.IFNA(_xlfn.IFS(Poules!$E$51='Résultat club'!$A8,Poules!$F$51)," "))} | K8: {=IF(A8=0,"",_xlfn.IFNA(_xlfn.IFS(Poules!$E$52='Résultat club'!$A8,Poules!$F$52)," "))} | L8: {=IF(A8=0,"",_xlfn.IFNA(_xlfn.IFS(Poules!$E$53='Résultat club'!$A8,Poules!$F$53)," "))} -> 13 | M8: {=IF(A8=0,"",_xlfn.IFNA(_xlfn.IFS(Poules!$E$54='Résultat club'!$A8,Poules!$F$54)," "))} | N8: {=IF(A8=0,"",_xlfn.IFNA(_xlfn.IFS(Poules!$E$69='Résultat club'!$A8,Poules!$F$69)," "))} | O8: {=IF(A8=0,"",_xlfn.IFNA(_xlfn.IFS(Poules!$E$70='Résultat club'!$A8,Poules!$F$70)," "))} | P8: {=IF(A8=0,"",_xlfn.IFNA(_xlfn.IFS(Poules!$E$71='Résultat club'!$A8,Poules!$F$71)," "))} | Q8: {=IF(A8=0,"",_xlfn.IFNA(_xlfn.IFS(Poules!$E$72='Résultat club'!$A8,Poules!$F$72)," "))} | R8: {=IF(A8=0,"",_xlfn.IFNA(_xlfn.IFS(Poules!$E$87='Résultat club'!$A8,Poules!$F$87)," "))} | S8: {=IF(A8=0,"",_xlfn.IFNA(_xlfn.IFS(Poules!$E$88='Résultat club'!$A8,Poules!$F$88)," "))} | T8: {=IF(A8=0,"",_xlfn.IFNA(_xlfn.IFS(Poules!$E$89='Résultat club'!$A8,Poules!$F$89)," "))} | U8: {=IF(A8=0,"",_xlfn.IFNA(_xlfn.IFS(Poules!$E$90='Résultat club'!$A8,Poules!$F$90)," "))} | V8: {=IF(A8=0,"",_xlfn.IFNA(_xlfn.IFS(Poules!$E$105='Résultat club'!$A8,Poules!$F$105),""))} | W8: {=IF(A8=0,"",_xlfn.IFNA(_xlfn.IFS(Poules!$E$106='Résultat club'!$A8,Poules!$F$106),""))} | X8: {=IF(A8=0,"",_xlfn.IFNA(_xlfn.IFS(Poules!$E$107='Résultat club'!$A8,Poules!$F$107),""))} | Y8: {=IF(A8=0,"",_xlfn.IFNA(_xlfn.IFS(Poules!$E$108='Résultat club'!$A8,Poules!$F$108),""))} | Z8: {=IF(A8=0,"",_xlfn.IFNA(_xlfn.IFS(Poules!$E$123='Résultat club'!$A8,Poules!$F$123),""))} | AA8: {=IF(A8=0,"",_xlfn.IFNA(_xlfn.IFS(Poules!$E$124='Résultat club'!$A8,Poules!$F$124),""))} | AB8: {=IF(A8=0,"",_xlfn.IFNA(_xlfn.IFS(Poules!$E$125='Résultat club'!$A8,Poules!$F$125),""))} | AC8: {=IF(A8=0,"",_xlfn.IFNA(_xlfn.IFS(Poules!$E$126='Résultat club'!$A8,Poules!$F$126),""))} | AD8: {=IF(A8=0,"",_xlfn.IFNA(_xlfn.IFS(Poules!$E$141='Résultat club'!$A8,Poules!$F$141),""))} | AE8: {=IF(A8=0,"",_xlfn.IFNA(_xlfn.IFS(Poules!$E$142='Résultat club'!$A8,Poules!$F$142),""))} | AF8: {=IF(A8=0,"",_xlfn.IFNA(_xlfn.IFS(Poules!$E$143='Résultat club'!$A8,Poules!$F$143),""))} | AG8: {=IF(A8=0,"",_xlfn.IFNA(_xlfn.IFS(Poules!$E$144='Résultat club'!$A8,Poules!$F$144),""))} | AH8: {=IF(A8=0,"",_xlfn.IFNA(_xlfn.IFS(Poules!$E$159='Résultat club'!$A8,Poules!$F$159),""))} | AI8: {=IF(A8=0,"",_xlfn.IFNA(_xlfn.IFS(Poules!$E$160='Résultat club'!$A8,Poules!$F$160),""))} | AJ8: {=IF(A8=0,"",_xlfn.IFNA(_xlfn.IFS(Poules!$E$161='Résultat club'!$A8,Poules!$F$161),""))} -> 7 | AK8: {=IF(A8=0,"",_xlfn.IFNA(_xlfn.IFS(Poules!$E$162='Résultat club'!$A8,Poules!$F$162),""))} | AL8: {=IF(A8=0,"",_xlfn.IFNA(_xlfn.IFS(Poules!$E$177='Résultat club'!$A8,Poules!$F$177),""))} | AM8: {=IF(A8=0,"",_xlfn.IFNA(_xlfn.IFS(Poules!$E$178='Résultat club'!$A8,Poules!$F$178),""))} | AN8: {=IF(A8=0,"",_xlfn.IFNA(_xlfn.IFS(Poules!$E$179='Résultat club'!$A8,Poules!$F$179),""))} -> 6 | AO8: {=IF(A8=0,"",_xlfn.IFNA(_xlfn.IFS(Poules!$E$180='Résultat club'!$A8,Poules!$F$180),""))} | AP8: {=IF(A8=0,"",_xlfn.IFNA(_xlfn.IFS(Poules!$E$195='Résultat club'!$A8,Poules!$F$195),""))} | AQ8: {=IF(A8=0,"",_xlfn.IFNA(_xlfn.IFS(Poules!$E$196='Résultat club'!$A8,Poules!$F$196),""))} | AR8: {=IF(A8=0,"",_xlfn.IFNA(_xlfn.IFS(Poules!$E$197='Résultat club'!$A8,Poules!$F$197),""))} | AS8: {=IF(A8=0,"",_xlfn.IFNA(_xlfn.IFS(Poules!$E$198='Résultat club'!$A8,Poules!$F$198),""))} | AT8: {=IF(A8=0,"",_xlfn.IFNA(_xlfn.IFS(Poules!$E$213='Résultat club'!$A8,Poules!$F$213),""))} | AU8: {=IF(A8=0,"",_xlfn.IFNA(_xlfn.IFS(Poules!$E$214='Résultat club'!$A8,Poules!$F$214),""))} | AV8: {=IF(A8=0,"",_xlfn.IFNA(_xlfn.IFS(Poules!$E$215='Résultat club'!$A8,Poules!$F$215),""))} | AW8: {=IF(A8=0,"",_xlfn.IFNA(_xlfn.IFS(Poules!$E$216='Résultat club'!$A8,Poules!$F$216),""))} | AX8: {=IF(A8=0,"",_xlfn.IFNA(_xlfn.IFS(Poules!$E$231='Résultat club'!$A8,Poules!$F$231),""))} | AY8: {=IF(A8=0,"",_xlfn.IFNA(_xlfn.IFS(Poules!$E$232='Résultat club'!$A8,Poules!$F$232),""))} | AZ8: {=IF(A8=0,"",_xlfn.IFNA(_xlfn.IFS(Poules!$E$233='Résultat club'!$A8,Poules!$F$233),""))} | BA8: {=IF(A8=0,"",_xlfn.IFNA(_xlfn.IFS(Poules!$E$234='Résultat club'!$A8,Poules!$F$234),""))} | BB8: {=IF(A8=0,"",_xlfn.IFNA(_xlfn.IFS(Poules!$E$249='Résultat club'!$A8,Poules!$F$249),""))} -> 5 | BC8: {=IF(A8=0,"",_xlfn.IFNA(_xlfn.IFS(Poules!$E$250='Résultat club'!$A8,Poules!$F$250),""))} | BD8: {=IF(A8=0,"",_xlfn.IFNA(_xlfn.IFS(Poules!$E$251='Résultat club'!$A8,Poules!$F$251),""))} | BE8: {=IF(A8=0,"",_xlfn.IFNA(_xlfn.IFS(Poules!$E$252='Résultat club'!$A8,Poules!$F$252),""))} | BF8: {=IF(A8=0,"",_xlfn.IFNA(_xlfn.IFS(Poules!$E$267='Résultat club'!$A8,Poules!$F$267),""))} | BG8: {=IF(A8=0,"",_xlfn.IFNA(_xlfn.IFS(Poules!$E$268='Résultat club'!$A8,Poules!$F$268),""))} | BH8: {=IF($A8=0,"",_xlfn.IFNA(_xlfn.IFS(Poules!$E$269='Résultat club'!$A8,Poules!$F$269),""))} | BI8: {=IF($A8=0,"",_xlfn.IFNA(_xlfn.IFS(Poules!$E$270='Résultat club'!$A8,Poules!$F$270),""))} | BJ8: {=IF($A8=0,"",_xlfn.IFNA(_xlfn.IFS(Poules!$E$285='Résultat club'!$A8,Poules!$F$285),""))} | BK8: {=IF($A8=0,"",_xlfn.IFNA(_xlfn.IFS(Poules!$E$286='Résultat club'!$A8,Poules!$F$286),""))} | BL8: {=IF($A8=0,"",_xlfn.IFNA(_xlfn.IFS(Poules!$E$287='Résultat club'!$A8,Poules!$F$287),""))} | BM8: {=IF($A8=0,"",_xlfn.IFNA(_xlfn.IFS(Poules!$E$288='Résultat club'!$A8,Poules!$F$288),""))} | BN8: =IF(BP8>2,AVERAGE(LARGE(B8:BJ8,1)+LARGE(B8:BJ8,2)+LARGE(B8:BJ8,3)),0) -> 26 | BO8: =A8 -> TINTENIAC | BP8: =COUNTIF('Listes poules triées'!$A$1:$B$60,$A8) -> 4
A9: ='Liste des clubs'!A8 -> LANNION | B9: {=IF(A9=0,"",_xlfn.IFNA(_xlfn.IFS(Poules!$E$15='Résultat club'!$A9,Poules!$F$15)," "))} | C9: {=IF(A9=0,"",_xlfn.IFNA(_xlfn.IFS(Poules!$E$16='Résultat club'!$A9,Poules!$F$16)," "))} | D9: {=IF(A9=0,"",_xlfn.IFNA(_xlfn.IFS(Poules!$E$17='Résultat club'!$A9,Poules!$F$17)," "))} | E9: {=IF(A9=0,"",_xlfn.IFNA(_xlfn.IFS(Poules!$E$18='Résultat club'!$A9,Poules!$F$18)," "))} | F9: {=IF(A9=0,"",_xlfn.IFNA(_xlfn.IFS(Poules!$E$33='Résultat club'!$A9,Poules!$F$33)," "))} | G9: {=IF(A9=0,"",_xlfn.IFNA(_xlfn.IFS(Poules!$E$34='Résultat club'!$A9,Poules!$F$34)," "))} | H9: {=IF(A9=0,"",_xlfn.IFNA(_xlfn.IFS(Poules!$E$35='Résultat club'!$A9,Poules!$F$35)," "))} | I9: {=IF(A9=0,"",_xlfn.IFNA(_xlfn.IFS(Poules!$E$36='Résultat club'!$A9,Poules!$F$36)," "))} | J9: {=IF(A9=0,"",_xlfn.IFNA(_xlfn.IFS(Poules!$E$51='Résultat club'!$A9,Poules!$F$51)," "))} -> 16 | K9: {=IF(A9=0,"",_xlfn.IFNA(_xlfn.IFS(Poules!$E$52='Résultat club'!$A9,Poules!$F$52)," "))} | L9: {=IF(A9=0,"",_xlfn.IFNA(_xlfn.IFS(Poules!$E$53='Résultat club'!$A9,Poules!$F$53)," "))} | M9: {=IF(A9=0,"",_xlfn.IFNA(_xlfn.IFS(Poules!$E$54='Résultat club'!$A9,Poules!$F$54)," "))} | N9: {=IF(A9=0,"",_xlfn.IFNA(_xlfn.IFS(Poules!$E$69='Résultat club'!$A9,Poules!$F$69)," "))} | O9: {=IF(A9=0,"",_xlfn.IFNA(_xlfn.IFS(Poules!$E$70='Résultat club'!$A9,Poules!$F$70)," "))} | P9: {=IF(A9=0,"",_xlfn.IFNA(_xlfn.IFS(Poules!$E$71='Résultat club'!$A9,Poules!$F$71)," "))} | Q9: {=IF(A9=0,"",_xlfn.IFNA(_xlfn.IFS(Poules!$E$72='Résultat club'!$A9,Poules!$F$72)," "))} | R9: {=IF(A9=0,"",_xlfn.IFNA(_xlfn.IFS(Poules!$E$87='Résultat club'!$A9,Poules!$F$87)," "))} | S9: {=IF(A9=0,"",_xlfn.IFNA(_xlfn.IFS(Poules!$E$88='Résultat club'!$A9,Poules!$F$88)," "))} | T9: {=IF(A9=0,"",_xlfn.IFNA(_xlfn.IFS(Poules!$E$89='Résultat club'!$A9,Poules!$F$89)," "))} | U9: {=IF(A9=0,"",_xlfn.IFNA(_xlfn.IFS(Poules!$E$90='Résultat club'!$A9,Poules!$F$90)," "))} | V9: {=IF(A9=0,"",_xlfn.IFNA(_xlfn.IFS(Poules!$E$105='Résultat club'!$A9,Poules!$F$105),""))} | W9: {=IF(A9=0,"",_xlfn.IFNA(_xlfn.IFS(Poules!$E$106='Résultat club'!$A9,Poules!$F$106),""))} | X9: {=IF(A9=0,"",_xlfn.IFNA(_xlfn.IFS(Poules!$E$107='Résultat club'!$A9,Poules!$F$107),""))} -> 10 | Y9: {=IF(A9=0,"",_xlfn.IFNA(_xlfn.IFS(Poules!$E$108='Résultat club'!$A9,Poules!$F$108),""))} | Z9: {=IF(A9=0,"",_xlfn.IFNA(_xlfn.IFS(Poules!$E$123='Résultat club'!$A9,Poules!$F$123),""))} | AA9: {=IF(A9=0,"",_xlfn.IFNA(_xlfn.IFS(Poules!$E$124='Résultat club'!$A9,Poules!$F$124),""))} -> 10 | AB9: {=IF(A9=0,"",_xlfn.IFNA(_xlfn.IFS(Poules!$E$125='Résultat club'!$A9,Poules!$F$125),""))} | AC9: {=IF(A9=0,"",_xlfn.IFNA(_xlfn.IFS(Poules!$E$126='Résultat club'!$A9,Poules!$F$126),""))} | AD9: {=IF(A9=0,"",_xlfn.IFNA(_xlfn.IFS(Poules!$E$141='Résultat club'!$A9,Poules!$F$141),""))} | AE9: {=IF(A9=0,"",_xlfn.IFNA(_xlfn.IFS(Poules!$E$142='Résultat club'!$A9,Poules!$F$142),""))} | AF9: {=IF(A9=0,"",_xlfn.IFNA(_xlfn.IFS(Poules!$E$143='Résultat club'!$A9,Poules!$F$143),""))} | AG9: {=IF(A9=0,"",_xlfn.IFNA(_xlfn.IFS(Poules!$E$144='Résultat club'!$A9,Poules!$F$144),""))} | AH9: {=IF(A9=0,"",_xlfn.IFNA(_xlfn.IFS(Poules!$E$159='Résultat club'!$A9,Poules!$F$159),""))} | AI9: {=IF(A9=0,"",_xlfn.IFNA(_xlfn.IFS(Poules!$E$160='Résultat club'!$A9,Poules!$F$160),""))} | AJ9: {=IF(A9=0,"",_xlfn.IFNA(_xlfn.IFS(Poules!$E$161='Résultat club'!$A9,Poules!$F$161),""))} | AK9: {=IF(A9=0,"",_xlfn.IFNA(_xlfn.IFS(Poules!$E$162='Résultat club'!$A9,Poules!$F$162),""))} | AL9: {=IF(A9=0,"",_xlfn.IFNA(_xlfn.IFS(Poules!$E$177='Résultat club'!$A9,Poules!$F$177),""))} | AM9: {=IF(A9=0,"",_xlfn.IFNA(_xlfn.IFS(Poules!$E$178='Résultat club'!$A9,Poules!$F$178),""))} | AN9: {=IF(A9=0,"",_xlfn.IFNA(_xlfn.IFS(Poules!$E$179='Résultat club'!$A9,Poules!$F$179),""))} | AO9: {=IF(A9=0,"",_xlfn.IFNA(_xlfn.IFS(Poules!$E$180='Résultat club'!$A9,Poules!$F$180),""))} | AP9: {=IF(A9=0,"",_xlfn.IFNA(_xlfn.IFS(Poules!$E$195='Résultat club'!$A9,Poules!$F$195),""))} | AQ9: {=IF(A9=0,"",_xlfn.IFNA(_xlfn.IFS(Poules!$E$196='Résultat club'!$A9,Poules!$F$196),""))} | AR9: {=IF(A9=0,"",_xlfn.IFNA(_xlfn.IFS(Poules!$E$197='Résultat club'!$A9,Poules!$F$197),""))} | AS9: {=IF(A9=0,"",_xlfn.IFNA(_xlfn.IFS(Poules!$E$198='Résultat club'!$A9,Poules!$F$198),""))} | AT9: {=IF(A9=0,"",_xlfn.IFNA(_xlfn.IFS(Poules!$E$213='Résultat club'!$A9,Poules!$F$213),""))} | AU9: {=IF(A9=0,"",_xlfn.IFNA(_xlfn.IFS(Poules!$E$214='Résultat club'!$A9,Poules!$F$214),""))} | AV9: {=IF(A9=0,"",_xlfn.IFNA(_xlfn.IFS(Poules!$E$215='Résultat club'!$A9,Poules!$F$215),""))} | AW9: {=IF(A9=0,"",_xlfn.IFNA(_xlfn.IFS(Poules!$E$216='Résultat club'!$A9,Poules!$F$216),""))} | AX9: {=IF(A9=0,"",_xlfn.IFNA(_xlfn.IFS(Poules!$E$231='Résultat club'!$A9,Poules!$F$231),""))} | AY9: {=IF(A9=0,"",_xlfn.IFNA(_xlfn.IFS(Poules!$E$232='Résultat club'!$A9,Poules!$F$232),""))} | AZ9: {=IF(A9=0,"",_xlfn.IFNA(_xlfn.IFS(Poules!$E$233='Résultat club'!$A9,Poules!$F$233),""))} | BA9: {=IF(A9=0,"",_xlfn.IFNA(_xlfn.IFS(Poules!$E$234='Résultat club'!$A9,Poules!$F$234),""))} | BB9: {=IF(A9=0,"",_xlfn.IFNA(_xlfn.IFS(Poules!$E$249='Résultat club'!$A9,Poules!$F$249),""))} | BC9: {=IF(A9=0,"",_xlfn.IFNA(_xlfn.IFS(Poules!$E$250='Résultat club'!$A9,Poules!$F$250),""))} | BD9: {=IF(A9=0,"",_xlfn.IFNA(_xlfn.IFS(Poules!$E$251='Résultat club'!$A9,Poules!$F$251),""))} | BE9: {=IF(A9=0,"",_xlfn.IFNA(_xlfn.IFS(Poules!$E$252='Résultat club'!$A9,Poules!$F$252),""))} | BF9: {=IF(A9=0,"",_xlfn.IFNA(_xlfn.IFS(Poules!$E$267='Résultat club'!$A9,Poules!$F$267),""))} | BG9: {=IF(A9=0,"",_xlfn.IFNA(_xlfn.IFS(Poules!$E$268='Résultat club'!$A9,Poules!$F$268),""))} | BH9: {=IF($A9=0,"",_xlfn.IFNA(_xlfn.IFS(Poules!$E$269='Résultat club'!$A9,Poules!$F$269),""))} | BI9: {=IF($A9=0,"",_xlfn.IFNA(_xlfn.IFS(Poules!$E$270='Résultat club'!$A9,Poules!$F$270),""))} | BJ9: {=IF($A9=0,"",_xlfn.IFNA(_xlfn.IFS(Poules!$E$285='Résultat club'!$A9,Poules!$F$285),""))} | BK9: {=IF($A9=0,"",_xlfn.IFNA(_xlfn.IFS(Poules!$E$286='Résultat club'!$A9,Poules!$F$286),""))} | BL9: {=IF($A9=0,"",_xlfn.IFNA(_xlfn.IFS(Poules!$E$287='Résultat club'!$A9,Poules!$F$287),""))} | BM9: {=IF($A9=0,"",_xlfn.IFNA(_xlfn.IFS(Poules!$E$288='Résultat club'!$A9,Poules!$F$288),""))} | BN9: =IF(BP9>2,AVERAGE(LARGE(B9:BJ9,1)+LARGE(B9:BJ9,2)+LARGE(B9:BJ9,3)),0) -> 36 | BO9: =A9 -> LANNION | BP9: =COUNTIF('Listes poules triées'!$A$1:$B$60,$A9) -> 3
