Workbook
Name AAA: 'Listes poules triées'!$1:$1048576
Name DUEL: #REF!
Name FFF: #REF!

Sheet Qualifications
A1: D L+A1:D46 | B1: LANDEDA | C1: 159
A2: L R | B2: GUILERS | C2: 158
A3: B A | B3: GUILERS | C3: 157
A4: G M | B4: GUILERS | C4: 154
A5: A G | B5: LANDIVISIAU | C5: 151
A6: L V | B6: LANDEDA | C6: 149
A7: L M | B7: PLOGASTEL ST GERMAIN | C7: 148
A8: L L | B8: ST POL DE LEON | C8: 146
A9: L S | B9: CROZON | C9: 143
A10: A W | B10: ST RENAN | C10: 139
A11: G M | B11: GUILERS | C11: 139
A12: M R | B12: LANDIVISIAU | C12: 138
... A55: M N | B55: PLOGASTEL ST GERMAIN | C55: 53

Sheet Listes poules triées
A1: D L | B1: DINAN | C1: 177 | D1: 1
A2: L R | B2: GUILERS | C2: 167 | D2: 1
A3: A G | B3: CESSON SEVIGNE | C3: 167 | D3: 1
A4: G M | B4: LANDEDA | C4: 166 | D4: 1
A5: L M | B5: GUILERS | C5: 167 | D5: 2
A6: L L | B6: LANDEDA | C6: 160 | D6: 2
A7: L S | B7: LANDIVISIAU | C7: 160 | D7: 2
A8: B A | B8: DINAN | C8: 159 | D8: 2
A9: L V | B9: GUILERS | C9: 166 | D9: 3
A10: A W | B10: ST POL DE LEON | C10: 157 | D10: 3
A11: M R | B11: TINTENIAC | C11: 157 | D11: 3
A12: D S | B12: LANNION | C12: 153 | D12: 3
... A55: L K | B55: PLOUGASNOU | C55: 87 | D55: 14
D56: 14

Sheet Liste des clubs
A1: {=_xlfn.UNIQUE('Listes poules triées'!B1:B63)} -> DINAN
A2: GUILERS
A3: CESSON SEVIGNE
A4: LANDEDA
A5: LANDIVISIAU
A6: ST POL DE LEON
A7: TINTENIAC
A8: LANNION
A9: RENNES CIE
A10: PLOGASTEL ST GERMAIN
A11: PAIMPOL
A12: PLOUGASNOU
A13: ST QUAY PORTRIEUX
... A15: ST RENAN
A16: 0

Sheet Poules
A1: Nombre de poules (16 max) | E1: 14 | I1: Mots de passe vérouillage (ATTENTION DANGER) : Poussins
C4: POULE | H4: 1
D6: DEMI-FINALE 1 | I6: FINALE OR
C7: A | D7: ='Listes poules triées'!A1 -> D L | E7: ='Listes poules triées'!B1 -> DINAN | F7: 4 | H7: A | I7: {=_xlfn.IFS(F7>F8,D7,F7<F8,D8,F7=F8," ")} -> D L | J7: {=_xlfn.IFS(F7>F8,E7,F7<F8,E8,F7=F8," ")} -> DINAN | K7: 4
C8: B | D8: ='Listes poules triées'!A4 -> G M | E8: ='Listes poules triées'!B4 -> LANDEDA | F8: 0 | H8: B | I8: {=_xlfn.IFS(F11>F12,D11,F11<F12,D12,F11=F12," ")} -> A G | J8: {=_xlfn.IFS(F11>F12,E11,F11<F12,E12,F11=F12," ")} -> CESSON SEVIGNE | K8: 0
D10: DEMI-FINALE 2 | I10: FINALE BRONZE
C11: C | D11: ='Listes poules triées'!A2 -> L R | E11: ='Listes poules triées'!B2 -> GUILERS | F11: 1 | H11: C | I11: {=_xlfn.IFS(F7>F8,D8,F7<F8,D7,F7=F8," ")} -> G M | J11: {=_xlfn.IFS(F7>F8,E8,F7<F8,E7,F7=F8," ")} -> LANDEDA | K11: 3
C12: D | D12: ='Listes poules triées'!A3 -> A G | E12: ='Listes poules triées'!B3 -> CESSON SEVIGNE | F12: 3 | H12: D | I12: {=_xlfn.IFS(F11>F12,D12,F11<F12,D11,F11=F12," ")} -> L R | J12: {=_xlfn.IFS(F11>F12,E12,F11<F12,E11,F11=F12," ")} -> GUILERS | K12: 1
D14: CLASSEMENT FINAL POULE 1 | F14: Points Equipe
C15: 1 | D15: {=_xlfn.IFS(K7>K8,I7,K7<K8,I8,K7=K8,"")} -> D L | E15: {=_xlfn.IFS(K7>K8,J7,K7<K8,J8,K7=K8,"")} -> DINAN | F15: =E1-H4+5 -> 18
C16: 2 | D16: {=_xlfn.IFS(K7<K8,I7,K7>K8,I8,K7=K8,"")} -> A G | E16: {=_xlfn.IFS(K7<K8,J7,K7>K8,J8,K7=K8,"")} -> CESSON SEVIGNE | F16: =E1-H4+3 -> 16
C17: 3 | D17: {=_xlfn.IFS(K11>K12,I11,K11<K12,I12,K11=K12,"")} -> G M | E17: {=_xlfn.IFS(K11>K12,J11,K11<K12,J12,K11=K12,"")} -> LANDEDA | F17: =E1-H4+2 -> 15
C18: 4 | D18: {=_xlfn.IFS(K11<K12,I11,K11>K12,I12,K11=K12,"")} -> L R | E18: {=_xlfn.IFS(K11<K12,J11,K11>K12,J12,K11=K12,"")} -> GUILERS | F18: =E1-H4+1 -> 14
C22: POULE | H22: 2
D24: DEMI-FINALE 1 | I24: FINALE OR
C25: A | D25: ='Listes poules triées'!A5 -> L M | E25: ='Listes poules triées'!B5 -> GUILERS | F25: 4 | H25: A | I25: {=_xlfn.IFS(F25>F26,D25,F25<F26,D26,F25=F26," ")} -> L M | J25: {=_xlfn.IFS(F25>F26,E25,F25<F26,E26,F25=F26," ")} -> GUILERS | K25: 4
C26: B | D26: ='Listes poules triées'!A8 -> B A | E26: ='Listes poules triées'!B8 -> DINAN | F26: 0 | H26: B | I26: {=_xlfn.IFS(F29>F30,D29,F29<F30,D30,F29=F30," ")} -> L S | J26: {=_xlfn.IFS(F29>F30,E29,F29<F30,E30,F29=F30," ")} -> LANDIVISIAU | K26: 0
D28: DEMI-FINALE 2 | I28: FINALE BRONZE
C29: C | D29: ='Listes poules triées'!A6 -> L L | E29: ='Listes poules triées'!B6 -> LANDEDA | F29: 2 | H29: C | I29: {=_xlfn.IFS(F25>F26,D26,F25<F26,D25,F25=F26," ")} -> B A | J29: {=_xlfn.IFS(F25>F26,E26,F25<F26,E25,F25=F26," ")} -> DINAN | K29: 3
C30: D | D30: ='Listes poules triées'!A7 -> L S | E30: ='Listes poules triées'!B7 -> LANDIVISIAU | F30: 3 | H30: D | I30: {=_xlfn.IFS(F29>F30,D30,F29<F30,D29,F29=F30," ")} -> L L | J30: {=_xlfn.IFS(F29>F30,E30,F29<F30,E29,F29=F30," ")} -> LANDEDA | K30: 2
D32: CLASSEMENT FINAL POULE 2 | F32: Points Equipe
C33: 1 | D33: {=_xlfn.IFS(K25>K26,I25,K25<K26,I26,K25=K26,"")} -> L M | E33: {=_xlfn.IFS(K25>K26,J25,K25<K26,J26,K25=K26,"")} -> GUILERS | F33: =E1-H22+5 -> 17
C34: 2 | D34: {=_xlfn.IFS(K25<K26,I25,K25>K26,I26,K25=K26,"")} -> L S | E34: {=_xlfn.IFS(K25<K26,J25,K25>K26,J26,K25=K26,"")} -> LANDIVISIAU | F34: =E1-H22+3 -> 15
C35: 3 | D35: {=_xlfn.IFS(K29>K30,I29,K29<K30,I30,K29=K30,"")} -> B A | E35: {=_xlfn.IFS(K29>K30,J29,K29<K30,J30,K29=K30,"")} -> DINAN | F35: =E1-H22+2 -> 14
C36: 4 | D36: {=_xlfn.IFS(K29<K30,I29,K29>K30,I30,K29=K30,"")} -> L L | E36: {=_xlfn.IFS(K29<K30,J29,K29>K30,J30,K29=K30,"")} -> LANDEDA | F36: =E1-H22+1 -> 13
C40: POULE | H40: 3
D42: DEMI-FINALE 1 | I42: FINALE OR
C43: A | D43: ='Listes poules triées'!A9 -> L V | E43: ='Listes poules triées'!B9 -> GUILERS | F43: 0 | H43: A | I43: {=_xlfn.IFS(F43>F44,D43,F43<F44,D44,F43=F44," ")} -> D S | J43: {=_xlfn.IFS(F43>F44,E43,F43<F44,E44,F43=F44," ")} -> LANNION | K43: 3
C44: B | D44: ='Listes poules triées'!A12 -> D S | E44: ='Listes poules triées'!B12 -> LANNION | F44: 4 | H44: B | I44: {=_xlfn.IFS(F47>F48,D47,F47<F48,D48,F47=F48," ")} -> A W | J44: {=_xlfn.IFS(F47>F48,E47,F47<F48,E48,F47=F48," ")} -> ST POL DE LEON | K44: 1
D46: DEMI-FINALE 2 | I46: FINALE BRONZE
C47: C | D47: ='Listes poules triées'!A10 -> A W | E47: ='Listes poules triées'!B10 -> ST POL DE LEON | F47: 3 | H47: C | I47: {=_xlfn.IFS(F43<F44,D43,F43>F44,D44,F43=F44," ")} -> L V | J47: {=_xlfn.IFS(F43<F44,E43,F43>F44,E44,F43=F44," ")} -> GUILERS | K47: 2
C48: D | D48: ='Listes poules triées'!A11 -> M R | E48: ='Listes poules triées'!B11 -> TINTENIAC | F48: 2 | H48: D | I48: {=_xlfn.IFS(F47>F48,D48,F47<F48,D47,F47=F48," ")} -> M R | J48: {=_xlfn.IFS(F47>F48,E48,F47<F48,E47,F47=F48," ")} -> TINTENIAC | K48: 3
D50: CLASSEMENT FINAL POULE 3 | F50: Points Equipe
C51: 1 | D51: {=_xlfn.IFS(K43>K44,I43,K43<K44,I44,K43=K44,"")} -> D S | E51: {=_xlfn.IFS(K43>K44,J43,K43<K44,J44,K43=K44,"")} -> LANNION | F51: =E1-H40+5 -> 16
C52: 2 | D52: {=_xlfn.IFS(K43<K44,I43,K43>K44,I44,K43=K44,"")} -> A W | E52: {=_xlfn.IFS(K43<K44,J43,K43>K44,J44,K43=K44,"")} -> ST POL DE LEON | F52: =E1-H40+3 -> 14
C53: 3 | D53: {=_xlfn.IFS(K47>K48,I47,K47<K48,I48,K47=K48,"")} -> M R | E53: {=_xlfn.IFS(K47>K48,J47,K47<K48,J48,K47=K48,"")} -> TINTENIAC | F53: =E1-H40+2 -> 13
C54: 4 | D54: {=_xlfn.IFS(K47<K48,I47,K47>K48,I48,K47=K48,"")} -> L V | E54: {=_xlfn.IFS(K47<K48,J47,K47>K48,J48,K47=K48,"")} -> GUILERS | F54: =E1-H40+1 -> 12
C58: POULE | H58: 4
D60: DEMI-FINALE 1 | I60: FINALE OR
C61: A | D61: ='Listes poules triées'!A13 -> G M | E61: ='Listes poules triées'!B13 -> GUILERS | F61: 0 | H61: A | I61: {=_xlfn.IFS(F61>F62,D61,F61<F62,D62,F61=F62," ")} -> B K | J61: {=_xlfn.IFS(F61>F62,E61,F61<F62,E62,F61=F62," ")} -> ST POL DE LEON | K61: 3
C62: B | D62: ='Listes poules triées'!A16 -> B K | E62: ='Listes poules triées'!B16 -> ST POL DE LEON | F62: 4 | H62: B | I62: {=_xlfn.IFS(F65>F66,D65,F65<F66,D66,F65=F66," ")} -> L E | J62: {=_xlfn.IFS(F65>F66,E65,F65<F66,E66,F65=F66," ")} -> RENNES CIE | K62: 1
D64: DEMI-FINALE 2 | I64: FINALE BRONZE
C65: C | D65: ='Listes poules triées'!A14 -> L E | E65: ='Listes poules triées'!B14 -> RENNES CIE | F65: 3 | H65: C | I65: {=_xlfn.IFS(F61>F62,D62,F61<F62,D61,F61=F62," ")} -> G M | J65: {=_xlfn.IFS(F61>F62,E62,F61<F62,E61,F61=F62," ")} -> GUILERS | K65: 4
C66: D | D66: ='Listes poules triées'!A15 -> G M | E66: ='Listes poules triées'!B15 -> PLOGASTEL ST GERMAIN | F66: 2 | H66: D | I66: {=_xlfn.IFS(F65>F66,D66,F65<F66,D65,F65=F66," ")} -> G M | J66: {=_xlfn.IFS(F65>F66,E66,F65<F66,E65,F65=F66," ")} -> PLOGASTEL ST GERMAIN | K66: 0
D68: CLASSEMENT FINAL POULE 4 | F68: Points Equipe
C69: 1 | D69: {=_xlfn.IFS(K61>K62,I61,K61<K62,I62,K61=K62,"")} -> B K | E69: {=_xlfn.IFS(K61>K62,J61,K61<K62,J62,K61=K62,"")} -> ST POL DE LEON | F69: =E1-H58+5 -> 15
C70: 2 | D70: {=_xlfn.IFS(K61<K62,I61,K61>K62,I62,K61=K62,"")} -> L E | E70: {=_xlfn.IFS(K61<K62,J61,K61>K62,J62,K61=K62,"")} -> RENNES CIE | F70: =E1-H58+3 -> 13
C71: 3 | D71: {=_xlfn.IFS(K65>K66,I65,K65<K66,I66,K65=K66,"")} -> G M | E71: {=_xlfn.IFS(K65>K66,J65,K65<K66,J66,K65=K66,"")} -> GUILERS | F71: =E1-H58+2 -> 12
C72: 4 | D72: {=_xlfn.IFS(K65<K66,I65,K65>K66,I66,K65=K66,"")} -> G M | E72: {=_xlfn.IFS(K65<K66,J65,K65>K66,J66,K65=K66,"")} -> PLOGASTEL ST GERMAIN | F72: =E1-H58+1 -> 11
C76: POULE | H76: 5
D78: DEMI-FINALE 1 | I78: FINALE OR
C79: A | D79: ='Listes poules triées'!A17 -> G E | E79: ='Listes poules triées'!B17 -> PAIMPOL | F79: 2 | H79: A | I79: {=_xlfn.IFS(F79>F80,D79,F79<F80,D80,F79=F80," ")} -> A T | J79: {=_xlfn.IFS(F79>F80,E79,F79<F80,E80,F79=F80," ")} -> PLOUGASNOU | K79: 0
C80: B | D80: ='Listes poules triées'!A20 -> A T | E80: ='Listes poules triées'!B20 -> PLOUGASNOU | F80: 3 | H80: B | I80: {=_xlfn.IFS(F83>F84,D83,F83<F84,D84,F83=F84," ")} -> P S | J80: {=_xlfn.IFS(F83>F84,E83,F83<F84,E84,F83=F84," ")} -> LANDIVISIAU | K80: 4
D82: DEMI-FINALE 2 | I82: FINALE BRONZE
C83: C | D83: ='Listes poules triées'!A18 -> P S | E83: ='Listes poules triées'!B18 -> LANDIVISIAU | F83: 3 | H83: C | I83: {=_xlfn.IFS(F79>F80,D80,F79<F80,D79,F79=F80," ")} -> G E | J83: {=_xlfn.IFS(F79>F80,E80,F79<F80,E79,F79=F80," ")} -> PAIMPOL | K83: 3
C84: D | D84: ='Listes poules triées'!A19 -> J F | E84: ='Listes poules triées'!B19 -> DINAN | F84: 2 | H84: D | I84: {=_xlfn.IFS(F83>F84,D84,F83<F84,D83,F83=F84," ")} -> J F | J84: {=_xlfn.IFS(F83>F84,E84,F83<F84,E83,F83=F84," ")} -> DINAN | K84: 2
D86: CLASSEMENT FINAL POULE 5
C87: 1 | D87: {=_xlfn.IFS(K79>K80,I79,K79<K80,I80,K79=K80,"")} -> P S | E87: {=_xlfn.IFS(K79>K80,J79,K79<K80,J80,K79=K80,"")} -> LANDIVISIAU | F87: =E1-H76+5 -> 14
C88: 2 | D88: {=_xlfn.IFS(K79<K80,I79,K79>K80,I80,K79=K80,"")} -> A T | E88: {=_xlfn.IFS(K79<K80,J79,K79>K80,J80,K79=K80,"")} -> PLOUGASNOU | F88: =E1-H76+3 -> 12
C89: 3 | D89: {=_xlfn.IFS(K83>K84,I83,K83<K84,I84,K83=K84,"")} -> G E | E89: {=_xlfn.IFS(K83>K84,J83,K83<K84,J84,K83=K84,"")} -> PAIMPOL | F89: =E1-H76+2 -> 11
C90: 4 | D90: {=_xlfn.IFS(K83<K84,I83,K83>K84,I84,K83=K84,"")} -> J F | E90: {=_xlfn.IFS(K83<K84,J83,K83>K84,J84,K83=K84,"")} -> DINAN | F90: =E1-H76+1 -> 10
C94: POULE | H94: 6
D96: DEMI-FINALE 1 | I96: FINALE OR
C97: A | D97: ='Listes poules triées'!A21 -> L E | E97: ='Listes poules triées'!B21 -> GUILERS | F97: 2 | H97: A | I97: {=_xlfn.IFS(F97>F98,D97,F97<F98,D98,F97=F98," ")} -> H M | J97: {=_xlfn.IFS(F97>F98,E97,F97<F98,E98,F97=F98," ")} -> ST QUAY PORTRIEUX | K97: 4
C98: B | D98: ='Listes poules triées'!A24 -> H M | E98: ='Listes poules triées'!B24 -> ST QUAY PORTRIEUX | F98: 3 | H98: B | I98: {=_xlfn.IFS(F101>F102,D101,F101<F102,D102,F101=F102," ")} -> B M | J98: {=_xlfn.IFS(F101>F102,E101,F101<F102,E102,F101=F102," ")} -> DINAN | K98: 0
D100: DEMI-FINALE 2 | I100: FINALE BRONZE
C101: C | D101: ='Listes poules triées'!A22 -> B M | E101: ='Listes poules triées'!B22 -> DINAN | F101: 4 | H101: C | I101: {=_xlfn.IFS(F97>F98,D98,F97<F98,D97,F97=F98," ")} -> L E | J101: {=_xlfn.IFS(F97>F98,E98,F97<F98,E97,F97=F98," ")} -> GUILERS | K101: 0
C102: D | D102: ='Listes poules triées'!A23 -> D M | E102: ='Listes poules triées'!B23 -> LANNION | F102: 0 | H102: D | I102: {=_xlfn.IFS(F101>F102,D102,F101<F102,D101,F101=F102," ")} -> D M | J102: {=_xlfn.IFS(F101>F102,E102,F101<F102,E101,F101=F102," ")} -> LANNION | K102: 4
D104: CLASSEMENT FINAL POULE 6 | F104: Points Equipe
C105: 1 | D105: {=_xlfn.IFS(K97>K98,I97,K97<K98,I98,K97=K98,"")} -> H M | E105: {=_xlfn.IFS(K97>K98,J97,K97<K98,J98,K97=K98,"")} -> ST QUAY PORTRIEUX | F105: =E1-H94+5 -> 13
C106: 2 | D106: {=_xlfn.IFS(K97<K98,I97,K97>K98,I98,K97=K98,"")} -> B M | E106: {=_xlfn.IFS(K97<K98,J97,K97>K98,J98,K97=K98,"")} -> DINAN | F106: =E1-H94+3 -> 11
C107: 3 | D107: {=_xlfn.IFS(K101>K102,I101,K101<K102,I102,K101=K102,"")} -> D M | E107: {=_xlfn.IFS(K101>K102,J101,K101<K102,J102,K101=K102,"")} -> LANNION | F107: =E1-H94+2 -> 10
C108: 4 | D108: {=_xlfn.IFS(K101<K102,I101,K101>K102,I102,K101=K102,"")} -> L E | E108: {=_xlfn.IFS(K101<K102,J101,K101>K102,J102,K101=K102,"")} -> GUILERS | F108: =E1-H94+1 -> 9
C112: POULE | H112: 7
D114: DEMI-FINALE 1 | I114: FINALE OR
C115: A | D115: ='Listes poules triées'!A25 -> T C | E115: ='Listes poules triées'!B25 -> PLOUGASNOU | F115: 2 | H115: A | I115: {=_xlfn.IFS(F115>F116,D115,F115<F116,D116,F115=F116," ")} -> P L | J115: {=_xlfn.IFS(F115>F116,E115,F115<F116,E116,F115=F116," ")} -> LANNION | K115: 1
C116: B | D116: ='Listes poules triées'!A28 -> P L | E116: ='Listes poules triées'!B28 -> LANNION | F116: 3 | H116: B | I116: {=_xlfn.IFS(F119>F120,D119,F119<F120,D120,F119=F120," ")} -> R L | J116: {=_xlfn.IFS(F119>F120,E119,F119<F120,E120,F119=F120," ")} -> PLOGASTEL ST GERMAIN | K116: 3
D118: DEMI-FINALE 2 | I118: FINALE BRONZE
C119: C | D119: ='Listes poules triées'!A26 -> R L | E119: ='Listes poules triées'!B26 -> PLOGASTEL ST GERMAIN | F119: 4 | H119: C | I119: {=_xlfn.IFS(F115>F116,D116,F115<F116,D115,F115=F116," ")} -> T C | J119: {=_xlfn.IFS(F115>F116,E116,F115<F116,E115,F115=F116," ")} -> PLOUGASNOU | K119: 1
C120: D | D120: ='Listes poules triées'!A27 -> H E | E120: ='Listes poules triées'!B27 -> RENNES CIE | F120: 0 | H120: D | I120: {=_xlfn.IFS(F119>F120,D120,F119<F120,D119,F119=F120," ")} -> H E | J120: {=_xlfn.IFS(F119>F120,E120,F119<F120,E119,F119=F120," ")} -> RENNES CIE | K120: 3
D122: CLASSEMENT FINAL POULE 7 | F122: Points Equipe
C123: 1 | D123: {=_xlfn.IFS(K115>K116,I115,K115<K116,I116,K115=K116,"")} -> R L | E123: {=_xlfn.IFS(K115>K116,J115,K115<K116,J116,K115=K116,"")} -> PLOGASTEL ST GERMAIN | F123: =E1-H112+5 -> 12
C124: 2 | D124: {=_xlfn.IFS(K115<K116,I115,K115>K116,I116,K115=K116,"")} -> P L | E124: {=_xlfn.IFS(K115<K116,J115,K115>K116,J116,K115=K116,"")} -> LANNION | F124: =E1-H112+3 -> 10
C125: 3 | D125: {=_xlfn.IFS(K119>K120,I119,K119<K120,I120,K119=K120,"")} -> H E | E125: {=_xlfn.IFS(K119>K120,J119,K119<K120,J120,K119=K120,"")} -> RENNES CIE | F125: =E1-H112+2 -> 9
C126: 4 | D126: {=_xlfn.IFS(K119<K120,I119,K119>K120,I120,K119=K120,"")} -> T C | E126: {=_xlfn.IFS(K119<K120,J119,K119>K120,J120,K119=K120,"")} -> PLOUGASNOU | F126: =E1-H112+1 -> 8
C130: POULE | H130: 8
D132: DEMI-FINALE 1 | I132: FINALE OR
C133: A | D133: ='Listes poules triées'!A29 -> M D | E133: ='Listes poules triées'!B29 -> ST POL DE LEON | F133: 1 | H133: A | I133: {=_xlfn.IFS(F133>F134,D133,F133<F134,D134,F133=F134," ")} -> L L | J133: {=_xlfn.IFS(F133>F134,E133,F133<F134,E134,F133=F134," ")} -> GUICHEN | K133: 0
C134: B | D134: ='Listes poules triées'!A32 -> L L | E134: ='Listes poules triées'!B32 -> GUICHEN | F134: 3 | H134: B | I134: {=_xlfn.IFS(F137>F138,D137,F137<F138,D138,F137=F138," ")} -> V P | J134: {=_xlfn.IFS(F137>F138,E137,F137<F138,E138,F137=F138," ")} -> LANDIVISIAU | K134: 4
D136: DEMI-FINALE 2 | I136: FINALE BRONZE
C137: C | D137: ='Listes poules triées'!A30 -> V P | E137: ='Listes poules triées'!B30 -> LANDIVISIAU | F137: 4 | H137: C | I137: {=_xlfn.IFS(F133>F134,D134,F133<F134,D133,F133=F134," ")} -> M D | J137: {=_xlfn.IFS(F133>F134,E134,F133<F134,E133,F133=F134," ")} -> ST POL DE LEON | K137: 2
C138: D | D138: ='Listes poules triées'!A31 -> B V | E138: ='Listes poules triées'!B31 -> PLOUGASNOU | F138: 0 | H138: D | I138: {=_xlfn.IFS(F137>F138,D138,F137<F138,D137,F137=F138," ")} -> B V | J138: {=_xlfn.IFS(F137>F138,E138,F137<F138,E137,F137=F138," ")} -> PLOUGASNOU | K138: 3
D140: CLASSEMENT FINAL POULE 8 | F140: Points Equipe
C141: 1 | D141: {=_xlfn.IFS(K133>K134,I133,K133<K134,I134,K133=K134,"")} -> V P | E141: {=_xlfn.IFS(K133>K134,J133,K133<K134,J134,K133=K134,"")} -> LANDIVISIAU | F141: =E1-H130+5 -> 11
C142: 2 | D142: {=_xlfn.IFS(K133<K134,I133,K133>K134,I134,K133=K134,"")} -> L L | E142: {=_xlfn.IFS(K133<K134,J133,K133>K134,J134,K133=K134,"")} -> GUICHEN | F142: =E1-H130+3 -> 9
C143: 3 | D143: {=_xlfn.IFS(K137>K138,I137,K137<K138,I138,K137=K138,"")} -> B V | E143: {=_xlfn.IFS(K137>K138,J137,K137<K138,J138,K137=K138,"")} -> PLOUGASNOU | F143: =E1-H130+2 -> 8
C144: 4 | D144: {=_xlfn.IFS(K137<K138,I137,K137>K138,I138,K137=K138,"")} -> M D | E144: {=_xlfn.IFS(K137<K138,J137,K137>K138,J138,K137=K138,"")} -> ST POL DE LEON | F144: =E1-H130+1 -> 7
C148: POULE | H148: 9
D150: DEMI-FINALE 1 | I150: FINALE OR
C151: A | D151: ='Listes poules triées'!A33 -> H E | E151: ='Listes poules triées'!B33 -> LANDIVISIAU | F151: 3 | H151: A | I151: {=_xlfn.IFS(F151>F152,D151,F151<F152,D152,F151=F152," ")} -> H E | J151: {=_xlfn.IFS(F151>F152,E151,F151<F152,E152,F151=F152," ")} -> LANDIVISIAU | K151: 0
...

Sheet Résultat club
A1: Clubs | B1: P1 | F1: P2 | J1: P3 | N1: P4 | R1: P5 | V1: P6 | Z1: P7 | AD1: P8 | AH1: P9 | AL1: P10 | AP1: P11 | AT1: P12 | AX1: P13 | BB1: P14 | BF1: P15 | BJ1: P16 | BN1: Somme des 3 meilleurs scores | BO1: Clubs | BP1: Nombre d'archers du club
A2: ='Liste des clubs'!A1 -> DINAN | B2: {=IF($A2=0,"",_xlfn.IFNA(_xlfn.IFS(Poules!$E$15='Résultat club'!$A2,Poules!$F$15)," "))} -> 18 | C2: {=IF($A2=0,"",_xlfn.IFNA(_xlfn.IFS(Poules!$E$16='Résultat club'!$A2,Poules!$F$16)," "))} | D2: {=IF($A2=0,"",_xlfn.IFNA(_xlfn.IFS(Poules!$E$17='Résultat club'!$A2,Poules!$F$17)," "))} | E2: {=IF($A2=0,"",_xlfn.IFNA(_xlfn.IFS(Poules!$E$18='Résultat club'!$A2,Poules!$F$18)," "))} | F2: {=IF($A2=0,"",_xlfn.IFNA(_xlfn.IFS(Poules!$E$33='Résultat club'!$A2,Poules!$F$33)," "))} | G2: {=IF($A2=0,"",_xlfn.IFNA(_xlfn.IFS(Poules!$E$34='Résultat club'!$A2,Poules!$F$34)," "))} | H2: {=IF($A2=0,"",_xlfn.IFNA(_xlfn.IFS(Poules!$E$35='Résultat club'!$A2,Poules!$F$35)," "))} -> 14 | I2: {=IF($A2=0,"",_xlfn.IFNA(_xlfn.IFS(Poules!$E$36='Résultat club'!$A2,Poules!$F$36)," "))} | J2: {=IF(A2=0,"",_xlfn.IFNA(_xlfn.IFS(Poules!$E$51='Résultat club'!$A2,Poules!$F$51)," "))} | K2: {=IF(A2=0,"",_xlfn.IFNA(_xlfn.IFS(Poules!$E$52='Résultat club'!$A2,Poules!$F$52)," "))} | L2: {=IF(A2=0,"",_xlfn.IFNA(_xlfn.IFS(Poules!$E$53='Résultat club'!$A2,Poules!$F$53)," "))} | M2: {=IF(A2=0,"",_xlfn.IFNA(_xlfn.IFS(Poules!$E$54='Résultat club'!$A2,Poules!$F$54)," "))} | N2: {=IF(A2=0,"",_xlfn.IFNA(_xlfn.IFS(Poules!$E$69='Résultat club'!$A2,Poules!$F$69)," "))} | O2: {=IF(A2=0,"",_xlfn.IFNA(_xlfn.IFS(Poules!$E$70='Résultat club'!$A2,Poules!$F$70)," "))} | P2: {=IF(A2=0,"",_xlfn.IFNA(_xlfn.IFS(Poules!$E$71='Résultat club'!$A2,Poules!$F$71)," "))} | Q2: {=IF(A2=0,"",_xlfn.IFNA(_xlfn.IFS(Poules!$E$72='Résultat club'!$A2,Poules!$F$72)," "))} | R2: {=IF(A2=0,"",_xlfn.IFNA(_xlfn.IFS(Poules!$E$87='Résultat club'!$A2,Poules!$F$87)," "))} | S2: {=IF(A2=0,"",_xlfn.IFNA(_xlfn.IFS(Poules!$E$88='Résultat club'!$A2,Poules!$F$88)," "))} | T2: {=IF(A2=0,"",_xlfn.IFNA(_xlfn.IFS(Poules!$E$89='Résultat club'!$A2,Poules!$F$89)," "))} | U2: {=IF(A2=0,"",_xlfn.IFNA(_xlfn.IFS(Poules!$E$90='Résultat club'!$A2,Poules!$F$90)," "))} -> 10 | V2: {=IF(A2=0,"",_xlfn.IFNA(_xlfn.IFS(Poules!$E$105='Résultat club'!$A2,Poules!$F$105),""))} | W2: {=IF(A2=0,"",_xlfn.IFNA(_xlfn.IFS(Poules!$E$106='Résultat club'!$A2,Poules!$F$106),""))} -> 11 | X2: {=IF(A2=0,"",_xlfn.IFNA(_xlfn.IFS(Poules!$E$107='Résultat club'!$A2,Poules!$F$107),""))} | Y2: {=IF(A2=0,"",_xlfn.IFNA(_xlfn.IFS(Poules!$E$108='Résultat club'!$A2,Poules!$F$108),""))} | Z2: {=IF(A2=0,"",_xlfn.IFNA(_xlfn.IFS(Poules!$E$123='Résultat club'!$A2,Poules!$F$123),""))} | AA2: {=IF(A2=0,"",_xlfn.IFNA(_xlfn.IFS(Poules!$E$124='Résultat club'!$A2,Poules!$F$124),""))} | AB2: {=IF(A2=0,"",_xlfn.IFNA(_xlfn.IFS(Poules!$E$125='Résultat club'!$A2,Poules!$F$125),""))} | AC2: {=IF(A2=0,"",_xlfn.IFNA(_xlfn.IFS(Poules!$E$126='Résultat club'!$A2,Poules!$F$126),""))} | AD2: {=IF(A2=0,"",_xlfn.IFNA(_xlfn.IFS(Poules!$E$141='Résultat club'!$A2,Poules!$F$141),""))} | AE2: {=IF(A2=0,"",_xlfn.IFNA(_xlfn.IFS(Poules!$E$142='Résultat club'!$A2,Poules!$F$142),""))} | AF2: {=IF(A2=0,"",_xlfn.IFNA(_xlfn.IFS(Poules!$E$143='Résultat club'!$A2,Poules!$F$143),""))} | AG2: {=IF(A2=0,"",_xlfn.IFNA(_xlfn.IFS(Poules!$E$144='Résultat club'!$A2,Poules!$F$144),""))} | AH2: {=IF(A2=0,"",_xlfn.IFNA(_xlfn.IFS(Poules!$E$159='Résultat club'!$A2,Poules!$F$159),""))} | AI2: {=IF(A2=0,"",_xlfn.IFNA(_xlfn.IFS(Poules!$E$160='Résultat club'!$A2,Poules!$F$160),""))} | AJ2: {=IF(A2=0,"",_xlfn.IFNA(_xlfn.IFS(Poules!$E$161='Résultat club'!$A2,Poules!$F$161),""))} | AK2: {=IF(A2=0,"",_xlfn.IFNA(_xlfn.IFS(Poules!$E$162='Résultat club'!$A2,Poules!$F$162),""))} | AL2: {=IF(A2=0,"",_xlfn.IFNA(_xlfn.IFS(Poules!$E$177='Résultat club'!$A2,Poules!$F$177),""))} | AM2: {=IF(A2=0,"",_xlfn.IFNA(_xlfn.IFS(Poules!$E$178='Résultat club'!$A2,Poules!$F$178),""))} | AN2: {=IF(A2=0,"",_xlfn.IFNA(_xlfn.IFS(Poules!$E$179='Résultat club'!$A2,Poules!$F$179),""))} | AO2: {=IF(A2=0,"",_xlfn.IFNA(_xlfn.IFS(Poules!$E$180='Résultat club'!$A2,Poules!$F$180),""))} | AP2: {=IF(A2=0,"",_xlfn.IFNA(_xlfn.IFS(Poules!$E$195='Résultat club'!$A2,Poules!$F$195),""))} | AQ2: {=IF(A2=0,"",_xlfn.IFNA(_xlfn.IFS(Poules!$E$196='Résultat club'!$A2,Poules!$F$196),""))} | AR2: {=IF(A2=0,"",_xlfn.IFNA(_xlfn.IFS(Poules!$E$197='Résultat club'!$A2,Poules!$F$197),""))} | AS2: {=IF(A2=0,"",_xlfn.IFNA(_xlfn.IFS(Poules!$E$198='Résultat club'!$A2,Poules!$F$198),""))} | AT2: {=IF(A2=0,"",_xlfn.IFNA(_xlfn.IFS(Poules!$E$213='Résultat club'!$A2,Poules!$F$213),""))} | AU2: {=IF(A2=0,"",_xlfn.IFNA(_xlfn.IFS(Poules!$E$214='Résultat club'!$A2,Poules!$F$214),""))} | AV2: {=IF(A2=0,"",_xlfn.IFNA(_xlfn.IFS(Poules!$E$215='Résultat club'!$A2,Poules!$F$215),""))} | AW2: {=IF(A2=0,"",_xlfn.IFNA(_xlfn.IFS(Poules!$E$216='Résultat club'!$A2,Poules!$F$216),""))} | AX2: {=IF(A2=0,"",_xlfn.IFNA(_xlfn.IFS(Poules!$E$231='Résultat club'!$A2,Poules!$F$231),""))} | AY2: {=IF(A2=0,"",_xlfn.IFNA(_xlfn.IFS(Poules!$E$232='Résultat club'!$A2,Poules!$F$232),""))} | AZ2: {=IF(A2=0,"",_xlfn.IFNA(_xlfn.IFS(Poules!$E$233='Résultat club'!$A2,Poules!$F$233),""))} | BA2: {=IF(A2=0,"",_xlfn.IFNA(_xlfn.IFS(Poules!$E$234='Résultat club'!$A2,Poules!$F$234),""))} | BB2: {=IF(A2=0,"",_xlfn.IFNA(_xlfn.IFS(Poules!$E$249='Résultat club'!$A2,Poules!$F$249),""))} | BC2: {=IF(A2=0,"",_xlfn.IFNA(_xlfn.IFS(Poules!$E$250='Résultat club'!$A2,Poules!$F$250),""))} | BD2: {=IF(A2=0,"",_xlfn.IFNA(_xlfn.IFS(Poules!$E$251='Résultat club'!$A2,Poules!$F$251),""))} | BE2: {=IF(A2=0,"",_xlfn.IFNA(_xlfn.IFS(Poules!$E$252='Résultat club'!$A2,Poules!$F$252),""))} | BF2: {=IF(A2=0,"",_xlfn.IFNA(_xlfn.IFS(Poules!$E$267='Résultat club'!$A2,Poules!$F$267),""))} | BG2: {=IF(A2=0,"",_xlfn.IFNA(_xlfn.IFS(Poules!$E$268='Résultat club'!$A2,Poules!$F$268),""))} | BH2: {=IF($A2=0,"",_xlfn.IFNA(_xlfn.IFS(Poules!$E$269='Résultat club'!$A2,Poules!$F$269),""))} | BI2: {=IF($A2=0,"",_xlfn.IFNA(_xlfn.IFS(Poules!$E$270='Résultat club'!$A2,Poules!$F$270),""))} | BJ2: {=IF($A2=0,"",_xlfn.IFNA(_xlfn.IFS(Poules!$E$285='Résultat club'!$A2,Poules!$F$285),""))} | BK2: {=IF($A2=0,"",_xlfn.IFNA(_xlfn.IFS(Poules!$E$286='Résultat club'!$A2,Poules!$F$286),""))} | BL2: {=IF($A2=0,"",_xlfn.IFNA(_xlfn.IFS(Poules!$E$287='Résultat club'!$A2,Poules!$F$287),""))} | BM2: {=IF($A2=0,"",_xlfn.IFNA(_xlfn.IFS(Poules!$E$288='Résultat club'!$A2,Poules!$F$288),""))} | BN2: =IF(BP2>2,AVERAGE(LARGE(B2:BJ2,1)+LARGE(B2:BJ2,2)+LARGE(B2:BJ2,3)),0) -> 43 | BO2: =A2 -> DINAN | BP2: =COUNTIF('Listes poules triées'!$A$1:$B$60,$A2) -> 4
A3: ='Liste des clubs'!A2 -> GUILERS | B3: {=IF(A3=0,"",_xlfn.IFNA(_xlfn.IFS(Poules!$E$15='Résultat club'!$A3,Poules!$F$15)," "))} | C3: {=IF(A3=0,"",_xlfn.IFNA(_xlfn.IFS(Poules!$E$16='Résultat club'!$A3,Poules!$F$16)," "))} | D3: {=IF(A3=0,"",_xlfn.IFNA(_xlfn.IFS(Poules!$E$17='Résultat club'!$A3,Poules!$F$17)," "))} | E3: {=IF(A3=0,"",_xlfn.IFNA(_xlfn.IFS(Poules!$E$18='Résultat club'!$A3,Poules!$F$18)," "))} -> 14 | F3: {=IF(A3=0,"",_xlfn.IFNA(_xlfn.IFS(Poules!$E$33='Résultat club'!$A3,Poules!$F$33)," "))} -> 17 | G3: {=IF(A3=0,"",_xlfn.IFNA(_xlfn.IFS(Poules!$E$34='Résultat club'!$A3,Poules!$F$34)," "))} | H3: {=IF(A3=0,"",_xlfn.IFNA(_xlfn.IFS(Poules!$E$35='Résultat club'!$A3,Poules!$F$35)," "))} | I3: {=IF(A3=0,"",_xlfn.IFNA(_xlfn.IFS(Poules!$E$36='Résultat club'!$A3,Poules!$F$36)," "))} | J3: {=IF(A3=0,"",_xlfn.IFNA(_xlfn.IFS(Poules!$E$51='Résultat club'!$A3,Poules!$F$51)," "))} | K3: {=IF(A3=0,"",_xlfn.IFNA(_xlfn.IFS(Poules!$E$52='Résultat club'!$A3,Poules!$F$52)," "))} | L3: {=IF(A3=0,"",_xlfn.IFNA(_xlfn.IFS(Poules!$E$53='Résultat club'!$A3,Poules!$F$53)," "))} | M3: {=IF(A3=0,"",_xlfn.IFNA(_xlfn.IFS(Poules!$E$54='Résultat club'!$A3,Poules!$F$54)," "))} -> 12 | N3: {=IF(A3=0,"",_xlfn.IFNA(_xlfn.IFS(Poules!$E$69='Résultat club'!$A3,Poules!$F$69)," "))} | O3: {=IF(A3=0,"",_xlfn.IFNA(_xlfn.IFS(Poules!$E$70='Résultat club'!$A3,Poules!$F$70)," "))} | P3: {=IF(A3=0,"",_xlfn.IFNA(_xlfn.IFS(Poules!$E$71='Résultat club'!$A3,Poules!$F$71)," "))} -> 12 | Q3: {=IF(A3=0,"",_xlfn.IFNA(_xlfn.IFS(Poules!$E$72='Résultat club'!$A3,Poules!$F$72)," "))} | R3: {=IF(A3=0,"",_xlfn.IFNA(_xlfn.IFS(Poules!$E$87='Résultat club'!$A3,Poules!$F$87)," "))} | S3: {=IF(A3=0,"",_xlfn.IFNA(_xlfn.IFS(Poules!$E$88='Résultat club'!$A3,Poules!$F$88)," "))} | T3: {=IF(A3=0,"",_xlfn.IFNA(_xlfn.IFS(Poules!$E$89='Résultat club'!$A3,Poules!$F$89)," "))} | U3: {=IF(A3=0,"",_xlfn.IFNA(_xlfn.IFS(Poules!$E$90='Résultat club'!$A3,Poules!$F$90)," "))} | V3: {=IF(A3=0,"",_xlfn.IFNA(_xlfn.IFS(Poules!$E$105='Résultat club'!$A3,Poules!$F$105),""))} | W3: {=IF(A3=0,"",_xlfn.IFNA(_xlfn.IFS(Poules!$E$106='Résultat club'!$A3,Poules!$F$106),""))} | X3: {=IF(A3=0,"",_xlfn.IFNA(_xlfn.IFS(Poules!$E$107='Résultat club'!$A3,Poules!$F$107),""))} | Y3: {=IF(A3=0,"",_xlfn.IFNA(_xlfn.IFS(Poules!$E$108='Résultat club'!$A3,Poules!$F$108),""))} -> 9 | Z3: {=IF(A3=0,"",_xlfn.IFNA(_xlfn.IFS(Poules!$E$123='Résultat club'!$A3,Poules!$F$123),""))} | AA3: {=IF(A3=0,"",_xlfn.IFNA(_xlfn.IFS(Poules!$E$124='Résultat club'!$A3,Poules!$F$124),""))} | AB3: {=IF(A3=0,"",_xlfn.IFNA(_xlfn.IFS(Poules!$E$125='Résultat club'!$A3,Poules!$F$125),""))} | AC3: {=IF(A3=0,"",_xlfn.IFNA(_xlfn.IFS(Poules!$E$126='Résultat club'!$A3,Poules!$F$126),""))} | AD3: {=IF(A3=0,"",_xlfn.IFNA(_xlfn.IFS(Poules!$E$141='Résultat club'!$A3,Poules!$F$141),""))} | AE3: {=IF(A3=0,"",_xlfn.IFNA(_xlfn.IFS(Poules!$E$142='Résultat club'!$A3,Poules!$F$142),""))} | AF3: {=IF(A3=0,"",_xlfn.IFNA(_xlfn.IFS(Poules!$E$143='Résultat club'!$A3,Poules!$F$143),""))} | AG3: {=IF(A3=0,"",_xlfn.IFNA(_xlfn.IFS(Poules!$E$144='Résultat club'!$A3,Poules!$F$144),""))} | AH3: {=IF(A3=0,"",_xlfn.IFNA(_xlfn.IFS(Poules!$E$159='Résultat club'!$A3,Poules!$F$159),""))} | AI3: {=IF(A3=0,"",_xlfn.IFNA(_xlfn.IFS(Poules!$E$160='Résultat club'!$A3,Poules!$F$160),""))} | AJ3: {=IF(A3=0,"",_xlfn.IFNA(_xlfn.IFS(Poules!$E$161='Résultat club'!$A3,Poules!$F$161),""))} | AK3: {=IF(A3=0,"",_xlfn.IFNA(_xlfn.IFS(Poules!$E$162='Résultat club'!$A3,Poules!$F$162),""))} | AL3: {=IF(A3=0,"",_xlfn.IFNA(_xlfn.IFS(Poules!$E$177='Résultat club'!$A3,Poules!$F$177),""))} | AM3: {=IF(A3=0,"",_xlfn.IFNA(_xlfn.IFS(Poules!$E$178='Résultat club'!$A3,Poules!$F$178),""))} | AN3: {=IF(A3=0,"",_xlfn.IFNA(_xlfn.IFS(Poules!$E$179='Résultat club'!$A3,Poules!$F$179),""))} | AO3: {=IF(A3=0,"",_xlfn.IFNA(_xlfn.IFS(Poules!$E$180='Résultat club'!$A3,Poules!$F$180),""))} | AP3: {=IF(A3=0,"",_xlfn.IFNA(_xlfn.IFS(Poules!$E$195='Résultat club'!$A3,Poules!$F$195),""))} | AQ3: {=IF(A3=0,"",_xlfn.IFNA(_xlfn.IFS(Poules!$E$196='Résultat club'!$A3,Poules!$F$196),""))} | AR3: {=IF(A3=0,"",_xlfn.IFNA(_xlfn.IFS(Poules!$E$197='Résultat club'!$A3,Poules!$F$197),""))} | AS3: {=IF(A3=0,"",_xlfn.IFNA(_xlfn.IFS(Poules!$E$198='Résultat club'!$A3,Poules!$F$198),""))} | AT3: {=IF(A3=0,"",_xlfn.IFNA(_xlfn.IFS(Poules!$E$213='Résultat club'!$A3,Poules!$F$213),""))} | AU3: {=IF(A3=0,"",_xlfn.IFNA(_xlfn.IFS(Poules!$E$214='Résultat club'!$A3,Poules!$F$214),""))} | AV3: {=IF(A3=0,"",_xlfn.IFNA(_xlfn.IFS(Poules!$E$215='Résultat club'!$A3,Poules!$F$215),""))} | AW3: {=IF(A3=0,"",_xlfn.IFNA(_xlfn.IFS(Poules!$E$216='Résultat club'!$A3,Poules!$F$216),""))} | AX3: {=IF(A3=0,"",_xlfn.IFNA(_xlfn.IFS(Poules!$E$231='Résultat club'!$A3,Poules!$F$231),""))} | AY3: {=IF(A3=0,"",_xlfn.IFNA(_xlfn.IFS(Poules!$E$232='Résultat club'!$A3,Poules!$F$232),""))} | AZ3: {=IF(A3=0,"",_xlfn.IFNA(_xlfn.IFS(Poules!$E$233='Résultat club'!$A3,Poules!$F$233),""))} | BA3: {=IF(A3=0,"",_xlfn.IFNA(_xlfn.IFS(Poules!$E$234='Résultat club'!$A3,Poules!$F$234),""))} | BB3: {=IF(A3=0,"",_xlfn.IFNA(_xlfn.IFS(Poules!$E$249='Résultat club'!$A3,Poules!$F$249),""))} | BC3: {=IF(A3=0,"",_xlfn.IFNA(_xlfn.IFS(Poules!$E$250='Résultat club'!$A3,Poules!$F$250),""))} | BD3: {=IF(A3=0,"",_xlfn.IFNA(_xlfn.IFS(Poules!$E$251='Résultat club'!$A3,Poules!$F$251),""))} | BE3: {=IF(A3=0,"",_xlfn.IFNA(_xlfn.IFS(Poules!$E$252='Résultat club'!$A3,Poules!$F$252),""))} | BF3: {=IF(A3=0,"",_xlfn.IFNA(_xlfn.IFS(Poules!$E$267='Résultat club'!$A3,Poules!$F$267),""))} | BG3: {=IF(A3=0,"",_xlfn.IFNA(_xlfn.IFS(Poules!$E$268='Résultat club'!$A3,Poules!$F$268),""))} | BH3: {=IF($A3=0,"",_xlfn.IFNA(_xlfn.IFS(Poules!$E$269='Résultat club'!$A3,Poules!$F$269),""))} | BI3: {=IF($A3=0,"",_xlfn.IFNA(_xlfn.IFS(Poules!$E$270='Résultat club'!$A3,Poules!$F$270),""))} | BJ3: {=IF($A3=0,"",_xlfn.IFNA(_xlfn.IFS(Poules!$E$285='Résultat club'!$A3,Poules!$F$285),""))} | BK3: {=IF($A3=0,"",_xlfn.IFNA(_xlfn.IFS(Poules!$E$286='Résultat club'!$A3,Poules!$F$286),""))} | BL3: {=IF($A3=0,"",_xlfn.IFNA(_xlfn.IFS(Poules!$E$287='Résultat club'!$A3,Poules!$F$287),""))} | BM3: {=IF($A3=0,"",_xlfn.IFNA(_xlfn.IFS(Poules!$E$288='Résultat club'!$A3,Poules!$F$288),""))} | BN3: =IF(BP3>2,AVERAGE(LARGE(B3:BJ3,1)+LARGE(B3:BJ3,2)+LARGE(B3:BJ3,3)),0) -> 43 | BO3: =A3 -> GUILERS | BP3: =COUNTIF('Listes poules triées'!$A$1:$B$60,$A3) -> 5
A4: ='Liste des clubs'!A3 -> CESSON SEVIGNE | B4: {=IF(A4=0,"",_xlfn.IFNA(_xlfn.IFS(Poules!$E$15='Résultat club'!$A4,Poules!$F$15)," "))} | C4: {=IF(A4=0,"",_xlfn.IFNA(_xlfn.IFS(Poules!$E$16='Résultat club'!$A4,Poules!$F$16)," "))} -> 16 | D4: {=IF(A4=0,"",_xlfn.IFNA(_xlfn.IFS(Poules!$E$17='Résultat club'!$A4,Poules!$F$17)," "))} | E4: {=IF(A4=0,"",_xlfn.IFNA(_xlfn.IFS(Poules!$E$18='Résultat club'!$A4,Poules!$F$18)," "))} | F4: {=IF(A4=0,"",_xlfn.IFNA(_xlfn.IFS(Poules!$E$33='Résultat club'!$A4,Poules!$F$33)," "))} | G4: {=IF(A4=0,"",_xlfn.IFNA(_xlfn.IFS(Poules!$E$34='Résultat club'!$A4,Poules!$F$34)," "))} | H4: {=IF(A4=0,"",_xlfn.IFNA(_xlfn.IFS(Poules!$E$35='Résultat club'!$A4,Poules!$F$35)," "))} | I4: {=IF(A4=0,"",_xlfn.IFNA(_xlfn.IFS(Poules!$E$36='Résultat club'!$A4,Poules!$F$36)," "))} | J4: {=IF(A4=0,"",_xlfn.IFNA(_xlfn.IFS(Poules!$E$51='Résultat club'!$A4,Poules!$F$51)," "))} | K4: {=IF(A4=0,"",_xlfn.IFNA(_xlfn.IFS(Poules!$E$52='Résultat club'!$A4,Poules!$F$52)," "))} | L4: {=IF(A4=0,"",_xlfn.IFNA(_xlfn.IFS(Poules!$E$53='Résultat club'!$A4,Poules!$F$53)," "))} | M4: {=IF(A4=0,"",_xlfn.IFNA(_xlfn.IFS(Poules!$E$54='Résultat club'!$A4,Poules!$F$54)," "))} | N4: {=IF(A4=0,"",_xlfn.IFNA(_xlfn.IFS(Poules!$E$69='Résultat club'!$A4,Poules!$F$69)," "))} | O4: {=IF(A4=0,"",_xlfn.IFNA(_xlfn.IFS(Poules!$E$70='Résultat club'!$A4,Poules!$F$70)," "))} | P4: {=IF(A4=0,"",_xlfn.IFNA(_xlfn.IFS(Poules!$E$71='Résultat club'!$A4,Poules!$F$71)," "))} | Q4: {=IF(A4=0,"",_xlfn.IFNA(_xlfn.IFS(Poules!$E$72='Résultat club'!$A4,Poules!$F$72)," "))} | R4: {=IF(A4=0,"",_xlfn.IFNA(_xlfn.IFS(Poules!$E$87='Résultat club'!$A4,Poules!$F$87)," "))} | S4: {=IF(A4=0,"",_xlfn.IFNA(_xlfn.IFS(Poules!$E$88='Résultat club'!$A4,Poules!$F$88)," "))} | T4: {=IF(A4=0,"",_xlfn.IFNA(_xlfn.IFS(Poules!$E$89='Résultat club'!$A4,Poules!$F$89)," "))} | U4: {=IF(A4=0,"",_xlfn.IFNA(_xlfn.IFS(Poules!$E$90='Résultat club'!$A4,Poules!$F$90)," "))} | V4: {=IF(A4=0,"",_xlfn.IFNA(_xlfn.IFS(Poules!$E$105='Résultat club'!$A4,Poules!$F$105),""))} | W4: {=IF(A4=0,"",_xlfn.IFNA(_xlfn.IFS(Poules!$E$106='Résultat club'!$A4,Poules!$F$106),""))} | X4: {=IF(A4=0,"",_xlfn.IFNA(_xlfn.IFS(Poules!$E$107='Résultat club'!$A4,Poules!$F$107),""))} | Y4: {=IF(A4=0,"",_xlfn.IFNA(_xlfn.IFS(Poules!$E$108='Résultat club'!$A4,Poules!$F$108),""))} | Z4: {=IF(A4=0,"",_xlfn.IFNA(_xlfn.IFS(Poules!$E$123='Résultat club'!$A4,Poules!$F$123),""))} | AA4: {=IF(A4=0,"",_xlfn.IFNA(_xlfn.IFS(Poules!$E$124='Résultat club'!$A4,Poules!$F$124),""))} | AB4: {=IF(A4=0,"",_xlfn.IFNA(_xlfn.IFS(Poules!$E$125='Résultat club'!$A4,Poules!$F$125),""))} | AC4: {=IF(A4=0,"",_xlfn.IFNA(_xlfn.IFS(Poules!$E$126='Résultat club'!$A4,Poules!$F$126),""))} | AD4: {=IF(A4=0,"",_xlfn.IFNA(_xlfn.IFS(Poules!$E$141='Résultat club'!$A4,Poules!$F$141),""))} | AE4: {=IF(A4=0,"",_xlfn.IFNA(_xlfn.IFS(Poules!$E$142='Résultat club'!$A4,Poules!$F$142),""))} | AF4: {=IF(A4=0,"",_xlfn.IFNA(_xlfn.IFS(Poules!$E$143='Résultat club'!$A4,Poules!$F$143),""))} | AG4: {=IF(A4=0,"",_xlfn.IFNA(_xlfn.IFS(Poules!$E$144='Résultat club'!$A4,Poules!$F$144),""))} | AH4: {=IF(A4=0,"",_xlfn.IFNA(_xlfn.IFS(Poules!$E$159='Résultat club'!$A4,Poules!$F$159),""))} | AI4: {=IF(A4=0,"",_xlfn.IFNA(_xlfn.IFS(Poules!$E$160='Résultat club'!$A4,Poules!$F$160),""))} | AJ4: {=IF(A4=0,"",_xlfn.IFNA(_xlfn.IFS(Poules!$E$161='Résultat club'!$A4,Poules!$F$161),""))} | AK4: {=IF(A4=0,"",_xlfn.IFNA(_xlfn.IFS(Poules!$E$162='Résultat club'!$A4,Poules!$F$162),""))} | AL4: {=IF(A4=0,"",_xlfn.IFNA(_xlfn.IFS(Poules!$E$177='Résultat club'!$A4,Poules!$F$177),""))} | AM4: {=IF(A4=0,"",_xlfn.IFNA(_xlfn.IFS(Poules!$E$178='Résultat club'!$A4,Poules!$F$178),""))} | AN4: {=IF(A4=0,"",_xlfn.IFNA(_xlfn.IFS(Poules!$E$179='Résultat club'!$A4,Poules!$F$179),""))} | AO4: {=IF(A4=0,"",_xlfn.IFNA(_xlfn.IFS(Poules!$E$180='Résultat club'!$A4,Poules!$F$180),""))} | AP4: {=IF(A4=0,"",_xlfn.IFNA(_xlfn.IFS(Poules!$E$195='Résultat club'!$A4,Poules!$F$195),""))} | AQ4: {=IF(A4=0,"",_xlfn.IFNA(_xlfn.IFS(Poules!$E$196='Résultat club'!$A4,Poules!$F$196),""))} | AR4: {=IF(A4=0,"",_xlfn.IFNA(_xlfn.IFS(Poules!$E$197='Résultat club'!$A4,Poules!$F$197),""))} | AS4: {=IF(A4=0,"",_xlfn.IFNA(_xlfn.IFS(Poules!$E$198='Résultat club'!$A4,Poules!$F$198),""))} | AT4: {=IF(A4=0,"",_xlfn.IFNA(_xlfn.IFS(Poules!$E$213='Résultat club'!$A4,Poules!$F$213),""))} | AU4: {=IF(A4=0,"",_xlfn.IFNA(_xlfn.IFS(Poules!$E$214='Résultat club'!$A4,Poules!$F$214),""))} | AV4: {=IF(A4=0,"",_xlfn.IFNA(_xlfn.IFS(Poules!$E$215='Résultat club'!$A4,Poules!$F$215),""))} | AW4: {=IF(A4=0,"",_xlfn.IFNA(_xlfn.IFS(Poules!$E$216='Résultat club'!$A4,Poules!$F$216),""))} | AX4: {=IF(A4=0,"",_xlfn.IFNA(_xlfn.IFS(Poules!$E$231='Résultat club'!$A4,Poules!$F$231),""))} | AY4: {=IF(A4=0,"",_xlfn.IFNA(_xlfn.IFS(Poules!$E$232='Résultat club'!$A4,Poules!$F$232),""))} | AZ4: {=IF(A4=0,"",_xlfn.IFNA(_xlfn.IFS(Poules!$E$233='Résultat club'!$A4,Poules!$F$233),""))} | BA4: {=IF(A4=0,"",_xlfn.IFNA(_xlfn.IFS(Poules!$E$234='Résultat club'!$A4,Poules!$F$234),""))} | BB4: {=IF(A4=0,"",_xlfn.IFNA(_xlfn.IFS(Poules!$E$249='Résultat club'!$A4,Poules!$F$249),""))} | BC4: {=IF(A4=0,"",_xlfn.IFNA(_xlfn.IFS(Poules!$E$250='Résultat club'!$A4,Poules!$F$250),""))} | BD4: {=IF(A4=0,"",_xlfn.IFNA(_xlfn.IFS(Poules!$E$251='Résultat club'!$A4,Poules!$F$251),""))} | BE4: {=IF(A4=0,"",_xlfn.IFNA(_xlfn.IFS(Poules!$E$252='Résultat club'!$A4,Poules!$F$252),""))} | BF4: {=IF(A4=0,"",_xlfn.IFNA(_xlfn.IFS(Poules!$E$267='Résultat club'!$A4,Poules!$F$267),""))} | BG4: {=IF(A4=0,"",_xlfn.IFNA(_xlfn.IFS(Poules!$E$268='Résultat club'!$A4,Poules!$F$268),""))} | BH4: {=IF($A4=0,"",_xlfn.IFNA(_xlfn.IFS(Poules!$E$269='Résultat club'!$A4,Poules!$F$269),""))} | BI4: {=IF($A4=0,"",_xlfn.IFNA(_xlfn.IFS(Poules!$E$270='Résultat club'!$A4,Poules!$F$270),""))} | BJ4: {=IF($A4=0,"",_xlfn.IFNA(_xlfn.IFS(Poules!$E$285='Résultat club'!$A4,Poules!$F$285),""))} | BK4: {=IF($A4=0,"",_xlfn.IFNA(_xlfn.IFS(Poules!$E$286='Résultat club'!$A4,Poules!$F$286),""))} | BL4: {=IF($A4=0,"",_xlfn.IFNA(_xlfn.IFS(Poules!$E$287='Résultat club'!$A4,Poules!$F$287),""))} | BM4: {=IF($A4=0,"",_xlfn.IFNA(_xlfn.IFS(Poules!$E$288='Résultat club'!$A4,Poules!$F$288),""))} | BN4: =IF(BP4>2,AVERAGE(LARGE(B4:BJ4,1)+LARGE(B4:BJ4,2)+LARGE(B4:BJ4,3)),0) -> 0 | BO4: =A4 -> CESSON SEVIGNE | BP4: =COUNTIF('Listes poules triées'!$A$1:$B$60,$A4) -> 1
A5: ='Liste des clubs'!A4 -> LANDEDA | B5: {=IF(A5=0,"",_xlfn.IFNA(_xlfn.IFS(Poules!$E$15='Résultat club'!$A5,Poules!$F$15)," "))} | C5: {=IF(A5=0,"",_xlfn.IFNA(_xlfn.IFS(Poules!$E$16='Résultat club'!$A5,Poules!$F$16)," "))} | D5: {=IF(A5=0,"",_xlfn.IFNA(_xlfn.IFS(Poules!$E$17='Résultat club'!$A5,Poules!$F$17)," "))} -> 15 | E5: {=IF(A5=0,"",_xlfn.IFNA(_xlfn.IFS(Poules!$E$18='Résultat club'!$A5,Poules!$F$18)," "))} | F5: {=IF(A5=0,"",_xlfn.IFNA(_xlfn.IFS(Poules!$E$33='Résultat club'!$A5,Poules!$F$33)," "))} | G5: {=IF(A5=0,"",_xlfn.IFNA(_xlfn.IFS(Poules!$E$34='Résultat club'!$A5,Poules!$F$34)," "))} | H5: {=IF(A5=0,"",_xlfn.IFNA(_xlfn.IFS(Poules!$E$35='Résultat club'!$A5,Poules!$F$35)," "))} | I5: {=IF(A5=0,"",_xlfn.IFNA(_xlfn.IFS(Poules!$E$36='Résultat club'!$A5,Poules!$F$36)," "))} -> 13 | J5: {=IF(A5=0,"",_xlfn.IFNA(_xlfn.IFS(Poules!$E$51='Résultat club'!$A5,Poules!$F$51)," "))} | K5: {=IF(A5=0,"",_xlfn.IFNA(_xlfn.IFS(Poules!$E$52='Résultat club'!$A5,Poules!$F$52)," "))} | L5: {=IF(A5=0,"",_xlfn.IFNA(_xlfn.IFS(Poules!$E$53='Résultat club'!$A5,Poules!$F$53)," "))} | M5: {=IF(A5=0,"",_xlfn.IFNA(_xlfn.IFS(Poules!$E$54='Résultat club'!$A5,Poules!$F$54)," "))} | N5: {=IF(A5=0,"",_xlfn.IFNA(_xlfn.IFS(Poules!$E$69='Résultat club'!$A5,Poules!$F$69)," "))} | O5: {=IF(A5=0,"",_xlfn.IFNA(_xlfn.IFS(Poules!$E$70='Résultat club'!$A5,Poules!$F$70)," "))} | P5: {=IF(A5=0,"",_xlfn.IFNA(_xlfn.IFS(Poules!$E$71='Résultat club'!$A5,Poules!$F$71)," "))} | Q5: {=IF(A5=0,"",_xlfn.IFNA(_xlfn.IFS(Poules!$E$72='Résultat club'!$A5,Poules!$F$72)," "))} | R5: {=IF(A5=0,"",_xlfn.IFNA(_xlfn.IFS(Poules!$E$87='Résultat club'!$A5,Poules!$F$87)," "))} | S5: {=IF(A5=0,"",_xlfn.IFNA(_xlfn.IFS(Poules!$E$88='Résultat club'!$A5,Poules!$F$88)," "))} | T5: {=IF(A5=0,"",_xlfn.IFNA(_xlfn.IFS(Poules!$E$89='Résultat club'!$A5,Poules!$F$89)," "))} | U5: {=IF(A5=0,"",_xlfn.IFNA(_xlfn.IFS(Poules!$E$90='Résultat club'!$A5,Poules!$F$90)," "))} | V5: {=IF(A5=0,"",_xlfn.IFNA(_xlfn.IFS(Poules!$E$105='Résultat club'!$A5,Poules!$F$105),""))} | W5: {=IF(A5=0,"",_xlfn.IFNA(_xlfn.IFS(Poules!$E$106='Résultat club'!$A5,Poules!$F$106),""))} | X5: {=IF(A5=0,"",_xlfn.IFNA(_xlfn.IFS(Poules!$E$107='Résultat club'!$A5,Poules!$F$107),""))} | Y5: {=IF(A5=0,"",_xlfn.IFNA(_xlfn.IFS(Poules!$E$108='Résultat club'!$A5,Poules!$F$108),""))} | Z5: {=IF(A5=0,"",_xlfn.IFNA(_xlfn.IFS(Poules!$E$123='Résultat club'!$A5,Poules!$F$123),""))} | AA5: {=IF(A5=0,"",_xlfn.IFNA(_xlfn.IFS(Poules!$E$124='Résultat club'!$A5,Poules!$F$124),""))} | AB5: {=IF(A5=0,"",_xlfn.IFNA(_xlfn.IFS(Poules!$E$125='Résultat club'!$A5,Poules!$F$125),""))} | AC5: {=IF(A5=0,"",_xlfn.IFNA(_xlfn.IFS(Poules!$E$126='Résultat club'!$A5,Poules!$F$126),""))} | AD5: {=IF(A5=0,"",_xlfn.IFNA(_xlfn.IFS(Poules!$E$141='Résultat club'!$A5,Poules!$F$141),""))} | AE5: {=IF(A5=0,"",_xlfn.IFNA(_xlfn.IFS(Poules!$E$142='Résultat club'!$A5,Poules!$F$142),""))} | AF5: {=IF(A5=0,"",_xlfn.IFNA(_xlfn.IFS(Poules!$E$143='Résultat club'!$A5,Poules!$F$143),""))} | AG5: {=IF(A5=0,"",_xlfn.IFNA(_xlfn.IFS(Poules!$E$144='Résultat club'!$A5,Poules!$F$144),""))} | AH5: {=IF(A5=0,"",_xlfn.IFNA(_xlfn.IFS(Poules!$E$159='Résultat club'!$A5,Poules!$F$159),""))} | AI5: {=IF(A5=0,"",_xlfn.IFNA(_xlfn.IFS(Poules!$E$160='Résultat club'!$A5,Poules!$F$160),""))} | AJ5: {=IF(A5=0,"",_xlfn.IFNA(_xlfn.IFS(Poules!$E$161='Résultat club'!$A5,Poules!$F$161),""))} | AK5: {=IF(A5=0,"",_xlfn.IFNA(_xlfn.IFS(Poules!$E$162='Résultat club'!$A5,Poules!$F$162),""))} | AL5: {=IF(A5=0,"",_xlfn.IFNA(_xlfn.IFS(Poules!$E$177='Résultat club'!$A5,Poules!$F$177),""))} | AM5: {=IF(A5=0,"",_xlfn.IFNA(_xlfn.IFS(Poules!$E$178='Résultat club'!$A5,Poules!$F$178),""))} | AN5: {=IF(A5=0,"",_xlfn.IFNA(_xlfn.IFS(Poules!$E$179='Résultat club'!$A5,Poules!$F$179),""))} | AO5: {=IF(A5=0,"",_xlfn.IFNA(_xlfn.IFS(Poules!$E$180='Résultat club'!$A5,Poules!$F$180),""))} | AP5: {=IF(A5=0,"",_xlfn.IFNA(_xlfn.IFS(Poules!$E$195='Résultat club'!$A5,Poules!$F$195),""))} | AQ5: {=IF(A5=0,"",_xlfn.IFNA(_xlfn.IFS(Poules!$E$196='Résultat club'!$A5,Poules!$F$196),""))} | AR5: {=IF(A5=0,"",_xlfn.IFNA(_xlfn.IFS(Poules!$E$197='Résultat club'!$A5,Poules!$F$197),""))} | AS5: {=IF(A5=0,"",_xlfn.IFNA(_xlfn.IFS(Poules!$E$198='Résultat club'!$A5,Poules!$F$198),""))} | AT5: {=IF(A5=0,"",_xlfn.IFNA(_xlfn.IFS(Poules!$E$213='Résultat club'!$A5,Poules!$F$213),""))} | AU5: {=IF(A5=0,"",_xlfn.IFNA(_xlfn.IFS(Poules!$E$214='Résultat club'!$A5,Poules!$F$214),""))} | AV5: {=IF(A5=0,"",_xlfn.IFNA(_xlfn.IFS(Poules!$E$215='Résultat club'!$A5,Poules!$F$215),""))} | AW5: {=IF(A5=0,"",_xlfn.IFNA(_xlfn.IFS(Poules!$E$216='Résultat club'!$A5,Poules!$F$216),""))} | AX5: {=IF(A5=0,"",_xlfn.IFNA(_xlfn.IFS(Poules!$E$231='Résultat club'!$A5,Poules!$F$231),""))} | AY5: {=IF(A5=0,"",_xlfn.IFNA(_xlfn.IFS(Poules!$E$232='Résultat club'!$A5,Poules!$F$232),""))} | AZ5: {=IF(A5=0,"",_xlfn.IFNA(_xlfn.IFS(Poules!$E$233='Résultat club'!$A5,Poules!$F$233),""))} -> 3 | BA5: {=IF(A5=0,"",_xlfn.IFNA(_xlfn.IFS(Poules!$E$234='Résultat club'!$A5,Poules!$F$234),""))} | BB5: {=IF(A5=0,"",_xlfn.IFNA(_xlfn.IFS(Poules!$E$249='Résultat club'!$A5,Poules!$F$249),""))} | BC5: {=IF(A5=0,"",_xlfn.IFNA(_xlfn.IFS(Poules!$E$250='Résultat club'!$A5,Poules!$F$250),""))} | BD5: {=IF(A5=0,"",_xlfn.IFNA(_xlfn.IFS(Poules!$E$251='Résultat club'!$A5,Poules!$F$251),""))} | BE5: {=IF(A5=0,"",_xlfn.IFNA(_xlfn.IFS(Poules!$E$252='Résultat club'!$A5,Poules!$F$252),""))} | BF5: {=IF(A5=0,"",_xlfn.IFNA(_xlfn.IFS(Poules!$E$267='Résultat club'!$A5,Poules!$F$267),""))} | BG5: {=IF(A5=0,"",_xlfn.IFNA(_xlfn.IFS(Poules!$E$268='Résultat club'!$A5,Poules!$F$268),""))} | BH5: {=IF($A5=0,"",_xlfn.IFNA(_xlfn.IFS(Poules!$E$269='Résultat club'!$A5,Poules!$F$269),""))} | BI5: {=IF($A5=0,"",_xlfn.IFNA(_xlfn.IFS(Poules!$E$270='Résultat club'!$A5,Poules!$F$270),""))} | BJ5: {=IF($A5=0,"",_xlfn.IFNA(_xlfn.IFS(Poules!$E$285='Résultat club'!$A5,Poules!$F$285),""))} | BK5: {=IF($A5=0,"",_xlfn.IFNA(_xlfn.IFS(Poules!$E$286='Résultat club'!$A5,Poules!$F$286),""))} | BL5: {=IF($A5=0,"",_xlfn.IFNA(_xlfn.IFS(Poules!$E$287='Résultat club'!$A5,Poules!$F$287),""))} | BM5: {=IF($A5=0,"",_xlfn.IFNA(_xlfn.IFS(Poules!$E$288='Résultat club'!$A5,Poules!$F$288),""))} | BN5: =IF(BP5>2,AVERAGE(LARGE(B5:BJ5,1)+LARGE(B5:BJ5,2)+LARGE(B5:BJ5,3)),0) -> 31 | BO5: =A5 -> LANDEDA | BP5: =COUNTIF('Listes poules triées'!$A$1:$B$60,$A5) -> 3
A6: ='Liste des clubs'!A5 -> LANDIVISIAU | B6: {=IF(A6=0,"",_xlfn.IFNA(_xlfn.IFS(Poules!$E$15='Résultat club'!$A6,Poules!$F$15)," "))} | C6: {=IF(A6=0,"",_xlfn.IFNA(_xlfn.IFS(Poules!$E$16='Résultat club'!$A6,Poules!$F$16)," "))} | D6: {=IF(A6=0,"",_xlfn.IFNA(_xlfn.IFS(Poules!$E$17='Résultat club'!$A6,Poules!$F$17)," "))} | E6: {=IF(A6=0,"",_xlfn.IFNA(_xlfn.IFS(Poules!$E$18='Résultat club'!$A6,Poules!$F$18)," "))} | F6: {=IF(A6=0,"",_xlfn.IFNA(_xlfn.IFS(Poules!$E$33='Résultat club'!$A6,Poules!$F$33)," "))} | G6: {=IF(A6=0,"",_xlfn.IFNA(_xlfn.IFS(Poules!$E$34='Résultat club'!$A6,Poules!$F$34)," "))} -> 15 | H6: {=IF(A6=0,"",_xlfn.IFNA(_xlfn.IFS(Poules!$E$35='Résultat club'!$A6,Poules!$F$35)," "))} | I6: {=IF(A6=0,"",_xlfn.IFNA(_xlfn.IFS(Poules!$E$36='Résultat club'!$A6,Poules!$F$36)," "))} | J6: {=IF(A6=0,"",_xlfn.IFNA(_xlfn.IFS(Poules!$E$51='Résultat club'!$A6,Poules!$F$51)," "))} | K6: {=IF(A6=0,"",_xlfn.IFNA(_xlfn.IFS(Poules!$E$52='Résultat club'!$A6,Poules!$F$52)," "))} | L6: {=IF(A6=0,"",_xlfn.IFNA(_xlfn.IFS(Poules!$E$53='Résultat club'!$A6,Poules!$F$53)," "))} | M6: {=IF(A6=0,"",_xlfn.IFNA(_xlfn.IFS(Poules!$E$54='Résultat club'!$A6,Poules!$F$54)," "))} | N6: {=IF(A6=0,"",_xlfn.IFNA(_xlfn.IFS(Poules!$E$69='Résultat club'!$A6,Poules!$F$69)," "))} | O6: {=IF(A6=0,"",_xlfn.IFNA(_xlfn.IFS(Poules!$E$70='Résultat club'!$A6,Poules!$F$70)," "))} | P6: {=IF(A6=0,"",_xlfn.IFNA(_xlfn.IFS(Poules!$E$71='Résultat club'!$A6,Poules!$F$71)," "))} | Q6: {=IF(A6=0,"",_xlfn.IFNA(_xlfn.IFS(Poules!$E$72='Résultat club'!$A6,Poules!$F$72)," "))} | R6: {=IF(A6=0,"",_xlfn.IFNA(_xlfn.IFS(Poules!$E$87='Résultat club'!$A6,Poules!$F$87)," "))} -> 14 | S6: {=IF(A6=0,"",_xlfn.IFNA(_xlfn.IFS(Poules!$E$88='Résultat club'!$A6,Poules!$F$88)," "))} | T6: {=IF(A6=0,"",_xlfn.IFNA(_xlfn.IFS(Poules!$E$89='Résultat club'!$A6,Poules!$F$89)," "))} | U6: {=IF(A6=0,"",_xlfn.IFNA(_xlfn.IFS(Poules!$E$90='Résultat club'!$A6,Poules!$F$90)," "))} | V6: {=IF(A6=0,"",_xlfn.IFNA(_xlfn.IFS(Poules!$E$105='Résultat club'!$A6,Poules!$F$105),""))} | W6: {=IF(A6=0,"",_xlfn.IFNA(_xlfn.IFS(Poules!$E$106='Résultat club'!$A6,Poules!$F$106),""))} | X6: {=IF(A6=0,"",_xlfn.IFNA(_xlfn.IFS(Poules!$E$107='Résultat club'!$A6,Poules!$F$107),""))} | Y6: {=IF(A6=0,"",_xlfn.IFNA(_xlfn.IFS(Poules!$E$108='Résultat club'!$A6,Poules!$F$108),""))} | Z6: {=IF(A6=0,"",_xlfn.IFNA(_xlfn.IFS(Poules!$E$123='Résultat club'!$A6,Poules!$F$123),""))} | AA6: {=IF(A6=0,"",_xlfn.IFNA(_xlfn.IFS(Poules!$E$124='Résultat club'!$A6,Poules!$F$124),""))} | AB6: {=IF(A6=0,"",_xlfn.IFNA(_xlfn.IFS(Poules!$E$125='Résultat club'!$A6,Poules!$F$125),""))} | AC6: {=IF(A6=0,"",_xlfn.IFNA(_xlfn.IFS(Poules!$E$126='Résultat club'!$A6,Poules!$F$126),""))} | AD6: {=IF(A6=0,"",_xlfn.IFNA(_xlfn.IFS(Poules!$E$141='Résultat club'!$A6,Poules!$F$141),""))} -> 11 | AE6: {=IF(A6=0,"",_xlfn.IFNA(_xlfn.IFS(Poules!$E$142='Résultat club'!$A6,Poules!$F$142),""))} | AF6: {=IF(A6=0,"",_xlfn.IFNA(_xlfn.IFS(Poules!$E$143='Résultat club'!$A6,Poules!$F$143),""))} | AG6: {=IF(A6=0,"",_xlfn.IFNA(_xlfn.IFS(Poules!$E$144='Résultat club'!$A6,Poules!$F$144),""))} | AH6: {=IF(A6=0,"",_xlfn.IFNA(_xlfn.IFS(Poules!$E$159='Résultat club'!$A6,Poules!$F$159),""))} | AI6: {=IF(A6=0,"",_xlfn.IFNA(_xlfn.IFS(Poules!$E$160='Résultat club'!$A6,Poules!$F$160),""))} -> 8 | AJ6: {=IF(A6=0,"",_xlfn.IFNA(_xlfn.IFS(Poules!$E$161='Résultat club'!$A6,Poules!$F$161),""))} | AK6: {=IF(A6=0,"",_xlfn.IFNA(_xlfn.IFS(Poules!$E$162='Résultat club'!$A6,Poules!$F$162),""))} | AL6: {=IF(A6=0,"",_xlfn.IFNA(_xlfn.IFS(Poules!$E$177='Résultat club'!$A6,Poules!$F$177),""))} | AM6: {=IF(A6=0,"",_xlfn.IFNA(_xlfn.IFS(Poules!$E$178='Résultat club'!$A6,Poules!$F$178),""))} | AN6: {=IF(A6=0,"",_xlfn.IFNA(_xlfn.IFS(Poules!$E$179='Résultat club'!$A6,Poules!$F$179),""))} | AO6: {=IF(A6=0,"",_xlfn.IFNA(_xlfn.IFS(Poules!$E$180='Résultat club'!$A6,Poules!$F$180),""))} | AP6: {=IF(A6=0,"",_xlfn.IFNA(_xlfn.IFS(Poules!$E$195='Résultat club'!$A6,Poules!$F$195),""))} | AQ6: {=IF(A6=0,"",_xlfn.IFNA(_xlfn.IFS(Poules!$E$196='Résultat club'!$A6,Poules!$F$196),""))} | AR6: {=IF(A6=0,"",_xlfn.IFNA(_xlfn.IFS(Poules!$E$197='Résultat club'!$A6,Poules!$F$197),""))} | AS6: {=IF(A6=0,"",_xlfn.IFNA(_xlfn.IFS(Poules!$E$198='Résultat club'!$A6,Poules!$F$198),""))} | AT6: {=IF(A6=0,"",_xlfn.IFNA(_xlfn.IFS(Poules!$E$213='Résultat club'!$A6,Poules!$F$213),""))} | AU6: {=IF(A6=0,"",_xlfn.IFNA(_xlfn.IFS(Poules!$E$214='Résultat club'!$A6,Poules!$F$214),""))} | AV6: {=IF(A6=0,"",_xlfn.IFNA(_xlfn.IFS(Poules!$E$215='Résultat club'!$A6,Poules!$F$215),""))} | AW6: {=IF(A6=0,"",_xlfn.IFNA(_xlfn.IFS(Poules!$E$216='Résultat club'!$A6,Poules!$F$216),""))} | AX6: {=IF(A6=0,"",_xlfn.IFNA(_xlfn.IFS(Poules!$E$231='Résultat club'!$A6,Poules!$F$231),""))} | AY6: {=IF(A6=0,"",_xlfn.IFNA(_xlfn.IFS(Poules!$E$232='Résultat club'!$A6,Poules!$F$232),""))} | AZ6: {=IF(A6=0,"",_xlfn.IFNA(_xlfn.IFS(Poules!$E$233='Résultat club'!$A6,Poules!$F$233),""))} | BA6: {=IF(A6=0,"",_xlfn.IFNA(_xlfn.IFS(Poules!$E$234='Résultat club'!$A6,Poules!$F$234),""))} | BB6: {=IF(A6=0,"",_xlfn.IFNA(_xlfn.IFS(Poules!$E$249='Résultat club'!$A6,Poules!$F$249),""))} | BC6: {=IF(A6=0,"",_xlfn.IFNA(_xlfn.IFS(Poules!$E$250='Résultat club'!$A6,Poules!$F$250),""))} | BD6: {=IF(A6=0,"",_xlfn.IFNA(_xlfn.IFS(Poules!$E$251='Résultat club'!$A6,Poules!$F$251),""))} | BE6: {=IF(A6=0,"",_xlfn.IFNA(_xlfn.IFS(Poules!$E$252='Résultat club'!$A6,Poules!$F$252),""))} | BF6: {=IF(A6=0,"",_xlfn.IFNA(_xlfn.IFS(Poules!$E$267='Résultat club'!$A6,Poules!$F$267),""))} | BG6: {=IF(A6=0,"",_xlfn.IFNA(_xlfn.IFS(Poules!$E$268='Résultat club'!$A6,Poules!$F$268),""))} | BH6: {=IF($A6=0,"",_xlfn.IFNA(_xlfn.IFS(Poules!$E$269='Résultat club'!$A6,Poules!$F$269),""))} | BI6: {=IF($A6=0,"",_xlfn.IFNA(_xlfn.IFS(Poules!$E$270='Résultat club'!$A6,Poules!$F$270),""))} | BJ6: {=IF($A6=0,"",_xlfn.IFNA(_xlfn.IFS(Poules!$E$285='Résultat club'!$A6,Poules!$F$285),""))} | BK6: {=IF($A6=0,"",_xlfn.IFNA(_xlfn.IFS(Poules!$E$286='Résultat club'!$A6,Poules!$F$286),""))} | BL6: {=IF($A6=0,"",_xlfn.IFNA(_xlfn.IFS(Poules!$E$287='Résultat club'!$A6,Poules!$F$287),""))} | BM6: {=IF($A6=0,"",_xlfn.IFNA(_xlfn.IFS(Poules!$E$288='Résultat club'!$A6,Poules!$F$288),""))} | BN6: =IF(BP6>2,AVERAGE(LARGE(B6:BJ6,1)+LARGE(B6:BJ6,2)+LARGE(B6:BJ6,3)),0) -> 40 | BO6: =A6 -> LANDIVISIAU | BP6: =COUNTIF('Listes poules triées'!$A$1:$B$60,$A6) -> 4
A7: ='Liste des clubs'!A6 -> ST POL DE LEON | B7: {=IF(A7=0,"",_xlfn.IFNA(_xlfn.IFS(Poules!$E$15='Résultat club'!$A7,Poules!$F$15)," "))} | C7: {=IF(A7=0,"",_xlfn.IFNA(_xlfn.IFS(Poules!$E$16='Résultat club'!$A7,Poules!$F$16)," "))} | D7: {=IF(A7=0,"",_xlfn.IFNA(_xlfn.IFS(Poules!$E$17='Résultat club'!$A7,Poules!$F$17)," "))} | E7: {=IF(A7=0,"",_xlfn.IFNA(_xlfn.IFS(Poules!$E$18='Résultat club'!$A7,Poules!$F$18)," "))} | F7: {=IF(A7=0,"",_xlfn.IFNA(_xlfn.IFS(Poules!$E$33='Résultat club'!$A7,Poules!$F$33)," "))} | G7: {=IF(A7=0,"",_xlfn.IFNA(_xlfn.IFS(Poules!$E$34='Résultat club'!$A7,Poules!$F$34)," "))} | H7: {=IF(A7=0,"",_xlfn.IFNA(_xlfn.IFS(Poules!$E$35='Résultat club'!$A7,Poules!$F$35)," "))} | I7: {=IF(A7=0,"",_xlfn.IFNA(_xlfn.IFS(Poules!$E$36='Résultat club'!$A7,Poules!$F$36)," "))} | J7: {=IF(A7=0,"",_xlfn.IFNA(_xlfn.IFS(Poules!$E$51='Résultat club'!$A7,Poules!$F$51)," "))} | K7: {=IF(A7=0,"",_xlfn.IFNA(_xlfn.IFS(Poules!$E$52='Résultat club'!$A7,Poules!$F$52)," "))} -> 14 | L7: {=IF(A7=0,"",_xlfn.IFNA(_xlfn.IFS(Poules!$E$53='Résultat club'!$A7,Poules!$F$53)," "))} | M7: {=IF(A7=0,"",_xlfn.IFNA(_xlfn.IFS(Poules!$E$54='Résultat club'!$A7,Poules!$F$54)," "))} | N7: {=IF(A7=0,"",_xlfn.IFNA(_xlfn.IFS(Poules!$E$69='Résultat club'!$A7,Poules!$F$69)," "))} -> 15 | O7: {=IF(A7=0,"",_xlfn.IFNA(_xlfn.IFS(Poules!$E$70='Résultat club'!$A7,Poules!$F$70)," "))} | P7: {=IF(A7=0,"",_xlfn.IFNA(_xlfn.IFS(Poules!$E$71='Résultat club'!$A7,Poules!$F$71)," "))} | Q7: {=IF(A7=0,"",_xlfn.IFNA(_xlfn.IFS(Poules!$E$72='Résultat club'!$A7,Poules!$F$72)," "))} | R7: {=IF(A7=0,"",_xlfn.IFNA(_xlfn.IFS(Poules!$E$87='Résultat club'!$A7,Poules!$F$87)," "))} | S7: {=IF(A7=0,"",_xlfn.IFNA(_xlfn.IFS(Poules!$E$88='Résultat club'!$A7,Poules!$F$88)," "))} | T7: {=IF(A7=0,"",_xlfn.IFNA(_xlfn.IFS(Poules!$E$89='Résultat club'!$A7,Poules!$F$89)," "))} | U7: {=IF(A7=0,"",_xlfn.IFNA(_xlfn.IFS(Poules!$E$90='Résultat club'!$A7,Poules!$F$90)," "))} | V7: {=IF(A7=0,"",_xlfn.IFNA(_xlfn.IFS(Poules!$E$105='Résultat club'!$A7,Poules!$F$105),""))} | W7: {=IF(A7=0,"",_xlfn.IFNA(_xlfn.IFS(Poules!$E$106='Résultat club'!$A7,Poules!$F$106),""))} | X7: {=IF(A7=0,"",_xlfn.IFNA(_xlfn.IFS(Poules!$E$107='Résultat club'!$A7,Poules!$F$107),""))} | Y7: {=IF(A7=0,"",_xlfn.IFNA(_xlfn.IFS(Poules!$E$108='Résultat club'!$A7,Poules!$F$108),""))} | Z7: {=IF(A7=0,"",_xlfn.IFNA(_xlfn.IFS(Poules!$E$123='Résultat club'!$A7,Poules!$F$123),""))} | AA7: {=IF(A7=0,"",_xlfn.IFNA(_xlfn.IFS(Poules!$E$124='Résultat club'!$A7,Poules!$F$124),""))} | AB7: {=IF(A7=0,"",_xlfn.IFNA(_xlfn.IFS(Poules!$E$125='Résultat club'!$A7,Poules!$F$125),""))} | AC7: {=IF(A7=0,"",_xlfn.IFNA(_xlfn.IFS(Poules!$E$126='Résultat club'!$A7,Poules!$F$126),""))} | AD7: {=IF(A7=0,"",_xlfn.IFNA(_xlfn.IFS(Poules!$E$141='Résultat club'!$A7,Poules!$F$141),""))} | AE7: {=IF(A7=0,"",_xlfn.IFNA(_xlfn.IFS(Poules!$E$142='Résultat club'!$A7,Poules!$F$142),""))} | AF7: {=IF(A7=0,"",_xlfn.IFNA(_xlfn.IFS(Poules!$E$143='Résultat club'!$A7,Poules!$F$143),""))} | AG7: {=IF(A7=0,"",_xlfn.IFNA(_xlfn.IFS(Poules!$E$144='Résultat club'!$A7,Poules!$F$144),""))} -> 7 | AH7: {=IF(A7=0,"",_xlfn.IFNA(_xlfn.IFS(Poules!$E$159='Résultat club'!$A7,Poules!$F$159),""))} | AI7: {=IF(A7=0,"",_xlfn.IFNA(_xlfn.IFS(Poules!$E$160='Résultat club'!$A7,Poules!$F$160),""))} | AJ7: {=IF(A7=0,"",_xlfn.IFNA(_xlfn.IFS(Poules!$E$161='Résultat club'!$A7,Poules!$F$161),""))} | AK7: {=IF(A7=0,"",_xlfn.IFNA(_xlfn.IFS(Poules!$E$162='Résultat club'!$A7,Poules!$F$162),""))} | AL7: {=IF(A7=0,"",_xlfn.IFNA(_xlfn.IFS(Poules!$E$177='Résultat club'!$A7,Poules!$F$177),""))} | AM7: {=IF(A7=0,"",_xlfn.IFNA(_xlfn.IFS(Poules!$E$178='Résultat club'!$A7,Poules!$F$178),""))} | AN7: {=IF(A7=0,"",_xlfn.IFNA(_xlfn.IFS(Poules!$E$179='Résultat club'!$A7,Poules!$F$179),""))} | AO7: {=IF(A7=0,"",_xlfn.IFNA(_xlfn.IFS(Poules!$E$180='Résultat club'!$A7,Poules!$F$180),""))} | AP7: {=IF(A7=0,"",_xlfn.IFNA(_xlfn.IFS(Poules!$E$195='Résultat club'!$A7,Poules!$F$195),""))} | AQ7: {=IF(A7=0,"",_xlfn.IFNA(_xlfn.IFS(Poules!$E$196='Résultat club'!$A7,Poules!$F$196),""))} | AR7: {=IF(A7=0,"",_xlfn.IFNA(_xlfn.IFS(Poules!$E$197='Résultat club'!$A7,Poules!$F$197),""))} | AS7: {=IF(A7=0,"",_xlfn.IFNA(_xlfn.IFS(Poules!$E$198='Résultat club'!$A7,Poules!$F$198),""))} | AT7: {=IF(A7=0,"",_xlfn.IFNA(_xlfn.IFS(Poules!$E$213='Résultat club'!$A7,Poules!$F$213),""))} | AU7: {=IF(A7=0,"",_xlfn.IFNA(_xlfn.IFS(Poules!$E$214='Résultat club'!$A7,Poules!$F$214),""))} -> 5 | AV7: {=IF(A7=0,"",_xlfn.IFNA(_xlfn.IFS(Poules!$E$215='Résultat club'!$A7,Poules!$F$215),""))} | AW7: {=IF(A7=0,"",_xlfn.IFNA(_xlfn.IFS(Poules!$E$216='Résultat club'!$A7,Poules!$F$216),""))} | AX7: {=IF(A7=0,"",_xlfn.IFNA(_xlfn.IFS(Poules!$E$231='Résultat club'!$A7,Poules!$F$231),""))} | AY7: {=IF(A7=0,"",_xlfn.IFNA(_xlfn.IFS(Poules!$E$232='Résultat club'!$A7,Poules!$F$232),""))} | AZ7: {=IF(A7=0,"",_xlfn.IFNA(_xlfn.IFS(Poules!$E$233='Résultat club'!$A7,Poules!$F$233),""))} | BA7: {=IF(A7=0,"",_xlfn.IFNA(_xlfn.IFS(Poules!$E$234='Résultat club'!$A7,Poules!$F$234),""))} | BB7: {=IF(A7=0,"",_xlfn.IFNA(_xlfn.IFS(Poules!$E$249='Résultat club'!$A7,Poules!$F$249),""))} | BC7: {=IF(A7=0,"",_xlfn.IFNA(_xlfn.IFS(Poules!$E$250='Résultat club'!$A7,Poules!$F$250),""))} -> 3 | BD7: {=IF(A7=0,"",_xlfn.IFNA(_xlfn.IFS(Poules!$E$251='Résultat club'!$A7,Poules!$F$251),""))} | BE7: {=IF(A7=0,"",_xlfn.IFNA(_xlfn.IFS(Poules!$E$252='Résultat club'!$A7,Poules!$F$252),""))} | BF7: {=IF(A7=0,"",_xlfn.IFNA(_xlfn.IFS(Poules!$E$267='Résultat club'!$A7,Poules!$F$267),""))} | BG7: {=IF(A7=0,"",_xlfn.IFNA(_xlfn.IFS(Poules!$E$268='Résultat club'!$A7,Poules!$F$268),""))} | BH7: {=IF($A7=0,"",_xlfn.IFNA(_xlfn.IFS(Poules!$E$269='Résultat club'!$A7,Poules!$F$269),""))} | BI7: {=IF($A7=0,"",_xlfn.IFNA(_xlfn.IFS(Poules!$E$270='Résultat club'!$A7,Poules!$F$270),""))} | BJ7: {=IF($A7=0,"",_xlfn.IFNA(_xlfn.IFS(Poules!$E$285='Résultat club'!$A7,Poules!$F$285),""))} | BK7: {=IF($A7=0,"",_xlfn.IFNA(_xlfn.IFS(Poules!$E$286='Résultat club'!$A7,Poules!$F$286),""))} | BL7: {=IF($A7=0,"",_xlfn.IFNA(_xlfn.IFS(Poules!$E$287='Résultat club'!$A7,Poules!$F$287),""))} | BM7: {=IF($A7=0,"",_xlfn.IFNA(_xlfn.IFS(Poules!$E$288='Résultat club'!$A7,Poules!$F$288),""))} | BN7: =IF(BP7>2,AVERAGE(LARGE(B7:BJ7,1)+LARGE(B7:BJ7,2)+LARGE(B7:BJ7,3)),0) -> 36 | BO7: =A7 -> ST POL DE LEON | BP7: =COUNTIF('Listes poules triées'!$A$1:$B$60,$A7) -> 5
A8: ='Liste des clubs'!A7 -> TINTENIAC | B8: {=IF(A8=0,"",_xlfn.IFNA(_xlfn.IFS(Poules!$E$15='Résultat club'!$A8,Poules!$F$15)," "))} | C8: {=IF(A8=0,"",_xlfn.IFNA(_xlfn.IFS(Poules!$E$16='Résultat club'!$A8,Poules!$F$16)," "))} | D8: {=IF(A8=0,"",_xlfn.IFNA(_xlfn.IFS(Poules!$E$17='Résultat club'!$A8,Poules!$F$17)," "))} | E8: {=IF(A8=0,"",_xlfn.IFNA(_xlfn.IFS(Poules!$E$18='Résultat club'!$A8,Poules!$F$18)," "))} | F8: {=IF(A8=0,"",_xlfn.IFNA(_xlfn.IFS(Poules!$E$33='Résultat club'!$A8,Poules!$F$33)," "))} | G8: {=IF(A8=0,"",_xlfn.IFNA(_xlfn.IFS(Poules!$E$34='Résultat club'!$A8,Poules!$F$34)," "))} | H8: {=IF(A8=0,"",_xlfn.IFNA(_xlfn.IFS(Poules!$E$35='Résultat club'!$A8,Poules!$F$35)," "))} | I8: {=IF(A8=0,"",_xlfn.IFNA(_xlfn.IFS(Poules!$E$36='Résultat club'!$A8,Poules!$F$36)," "))} | J8: {=IF(A8=0,"",_xlfn.IFNA(_xlfn.IFS(Poules!$E$51='Résultat club'!$A8,Poules!$F$51)," "))} | K8: {=IF(A8=0,"",_xlfn.IFNA(_xlfn.IFS(Poules!$E$52='Résultat club'!$A8,Poules!$F$52)," "))} | L8: {=IF(A8=0,"",_xlfn.IFNA(_xlfn.IFS(Poules!$E$53='Résultat club'!$A8,Poules!$F$53)," "))} -> 13 | M8: {=IF(A8=0,"",_xlfn.IFNA(_xlfn.IFS(Poules!$E$54='Résultat club'!$A8,Poules!$F$54)," "))} | N8: {=IF(A8=0,"",_xlfn.IFNA(_xlfn.IFS(Poules!$E$69='Résultat club'!$A8,Poules!$F$69)," "))} | O8: {=IF(A8=0,"",_xlfn.IFNA(_xlfn.IFS(Poules!$E$70='Résultat club'!$A8,Poules!$F$70)," "))} | P8: {=IF(A8=0,"",_xlfn.IFNA(_xlfn.IFS(Poules!$E$71='Résultat club'!$A8,Poules!$F$71)," "))} | Q8: {=IF(A8=0,"",_xlfn.IFNA(_xlfn.IFS(Poules!$E$72='Résultat club'!$A8,Poules!$F$72)," "))} | R8: {=IF(A8=0,"",_xlfn.IFNA(_xlfn.IFS(Poules!$E$87='Résultat club'!$A8,Poules!$F$87)," "))} | S8: {=IF(A8=0,"",_xlfn.IFNA(_xlfn.IFS(Poules!$E$88='Résultat club'!$A8,Poules!$F$88)," "))} | T8: {=IF(A8=0,"",_xlfn.IFNA(_xlfn.IFS(Poules!$E$89='Résultat club'!$A8,Poules!$F$89)," "))} | U8: {=IF(A8=0,"",_xlfn.IFNA(_xlfn.IFS(Poules!$E$90='Résultat club'!$A8,Poules!$F$90)," "))} | V8: {=IF(A8=0,"",_xlfn.IFNA(_xlfn.IFS(Poules!$E$105='Résultat club'!$A8,Poules!$F$105),""))} | W8: {=IF(A8=0,"",_xlfn.IFNA(_xlfn.IFS(Poules!$E$106='Résultat club'!$A8,Poules!$F$106),""))} | X8: {=IF(A8=0,"",_xlfn.IFNA(_xlfn.IFS(Poules!$E$107='Résultat club'!$A8,Poules!$F$107),""))} | Y8: {=IF(A8=0,"",_xlfn.IFNA(_xlfn.IFS(Poules!$E$108='Résultat club'!$A8,Poules!$F$108),""))} | Z8: {=IF(A8=0,"",_xlfn.IFNA(_xlfn.IFS(Poules!$E$123='Résultat club'!$A8,Poules!$F$123),""))} | AA8: {=IF(A8=0,"",_xlfn.IFNA(_xlfn.IFS(Poules!$E$124='Résultat club'!$A8,Poules!$F$124),""))} | AB8: {=IF(A8=0,"",_xlfn.IFNA(_xlfn.IFS(Poules!$E$125='Résultat club'!$A8,Poules!$F$125),""))} | AC8: {=IF(A8=0,"",_xlfn.IFNA(_xlfn.IFS(Poules!$E$126='Résultat club'!$A8,Poules!$F$126),""))} | AD8: {=IF(A8=0,"",_xlfn.IFNA(_xlfn.IFS(Poules!$E$141='Résultat club'!$A8,Poules!$F$141),""))} | AE8: {=IF(A8=0,"",_xlfn.IFNA(_xlfn.IFS(Poules!$E$142='Résultat club'!$A8,Poules!$F$142),""))} | AF8: {=IF(A8=0,"",_xlfn.IFNA(_xlfn.IFS(Poules!$E$143='Résultat club'!$A8,Poules!$F$143),""))} | AG8: {=IF(A8=0,"",_xlfn.IFNA(_xlfn.IFS(Poules!$E$144='Résultat club'!$A8,Poules!$F$144),""))} | AH8: {=IF(A8=0,"",_xlfn.IFNA(_xlfn.IFS(Poules!$E$159='Résultat club'!$A8,Poules!$F$159),""))} | AI8: {=IF(A8=0,"",_xlfn.IFNA(_xlfn.IFS(Poules!$E$160='Résultat club'!$A8,Poules!$F$160),""))} | AJ8: {=IF(A8=0,"",_xlfn.IFNA(_xlfn.IFS(Poules!$E$161='Résultat club'!$A8,Poules!$F$161),""))} -> 7 | AK8: {=IF(A8=0,"",_xlfn.IFNA(_xlfn.IFS(Poules!$E$162='Résultat club'!$A8,Poules!$F$162),""))} | AL8: {=IF(A8=0,"",_xlfn.IFNA(_xlfn.IFS(Poules!$E$177='Résultat club'!$A8,Poules!$F$177),""))} | AM8: {=IF(A8=0,"",_xlfn.IFNA(_xlfn.IFS(Poules!$E$178='Résultat club'!$A8,Poules!$F$178),""))} | AN8: {=IF(A8=0,"",_xlfn.IFNA(_xlfn.IFS(Poules!$E$179='Résultat club'!$A8,Poules!$F$179),""))} -> 6 | AO8: {=IF(A8=0,"",_xlfn.IFNA(_xlfn.IFS(Poules!$E$180='Résultat club'!$A8,Poules!$F$180),""))} | AP8: {=IF(A8=0,"",_xlfn.IFNA(_xlfn.IFS(Poules!$E$195='Résultat club'!$A8,Poules!$F$195),""))} | AQ8: {=IF(A8=0,"",_xlfn.IFNA(_xlfn.IFS(Poules!$E$196='Résultat club'!$A8,Poules!$F$196),""))} | AR8: {=IF(A8=0,"",_xlfn.IFNA(_xlfn.IFS(Poules!$E$197='Résultat club'!$A8,Poules!$F$197),""))} | AS8: {=IF(A8=0,"",_xlfn.IFNA(_xlfn.IFS(Poules!$E$198='Résultat club'!$A8,Poules!$F$198),""))} | AT8: {=IF(A8=0,"",_xlfn.IFNA(_xlfn.IFS(Poules!$E$213='Résultat club'!$A8,Poules!$F$213),""))} | AU8: {=IF(A8=0,"",_xlfn.IFNA(_xlfn.IFS(Poules!$E$214='Résultat club'!$A8,Poules!$F$214),""))} | AV8: {=IF(A8=0,"",_xlfn.IFNA(_xlfn.IFS(Poules!$E$215='Résultat club'!$A8,Poules!$F$215),""))} | AW8: {=IF(A8=0,"",_xlfn.IFNA(_xlfn.IFS(Poules!$E$216='Résultat club'!$A8,Poules!$F$216),""))} | AX8: {=IF(A8=0,"",_xlfn.IFNA(_xlfn.IFS(Poules!$E$231='Résultat club'!$A8,Poules!$F$231),""))} | AY8: {=IF(A8=0,"",_xlfn.IFNA(_xlfn.IFS(Poules!$E$232='Résultat club'!$A8,Poules!$F$232),""))} | AZ8: {=IF(A8=0,"",_xlfn.IFNA(_xlfn.IFS(Poules!$E$233='Résultat club'!$A8,Poules!$F$233),""))} | BA8: {=IF(A8=0,"",_xlfn.IFNA(_xlfn.IFS(Poules!$E$234='Résultat club'!$A8,Poules!$F$234),""))} | BB8: {=IF(A8=0,"",_xlfn.IFNA(_xlfn.IFS(Poules!$E$249='Résultat club'!$A8,Poules!$F$249),""))} -> 5 | BC8: {=IF(A8=0,"",_xlfn.IFNA(_xlfn.IFS(Poules!$E$250='Résultat club'!$A8,Poules!$F$250),""))} | BD8: {=IF(A8=0,"",_xlfn.IFNA(_xlfn.IFS(Poules!$E$251='Résultat club'!$A8,Poules!$F$251),""))} | BE8: {=IF(A8=0,"",_xlfn.IFNA(_xlfn.IFS(Poules!$E$252='Résultat club'!$A8,Poules!$F$252),""))} | BF8: {=IF(A8=0,"",_xlfn.IFNA(_xlfn.IFS(Poules!$E$267='Résultat club'!$A8,Poules!$F$267),""))} | BG8: {=IF(A8=0,"",_xlfn.IFNA(_xlfn.IFS(Poules!$E$268='Résultat club'!$A8,Poules!$F$268),""))} | BH8: {=IF($A8=0,"",_xlfn.IFNA(_xlfn.IFS(Poules!$E$269='Résultat club'!$A8,Poules!$F$269),""))} | BI8: {=IF($A8=0,"",_xlfn.IFNA(_xlfn.IFS(Poules!$E$270='Résultat club'!$A8,Poules!$F$270),""))} | BJ8: {=IF($A8=0,"",_xlfn.IFNA(_xlfn.IFS(Poules!$E$285='Résultat club'!$A8,Poules!$F$285),""))} | BK8: {=IF($A8=0,"",_xlfn.IFNA(_xlfn.IFS(Poules!$E$286='Résultat club'!$A8,Poules!$F$286),""))} | BL8: {=IF($A8=0,"",_xlfn.IFNA(_xlfn.IFS(Poules!$E$287='Résultat club'!$A8,Poules!$F$287),""))} | BM8: {=IF($A8=0,"",_xlfn.IFNA(_xlfn.IFS(Poules!$E$288='Résultat club'!$A8,Poules!$F$288),""))} | BN8: =IF(BP8>2,AVERAGE(LARGE(B8:BJ8,1)+LARGE(B8:BJ8,2)+LARGE(B8:BJ8,3)),0) -> 26 | BO8: =A8 -> TINTENIAC | BP8: =COUNTIF('Listes poules triées'!$A$1:$B$60,$A8) -> 4
A9: ='Liste des clubs'!A8 -> LANNION | B9: {=IF(A9=0,"",_xlfn.IFNA(_xlfn.IFS(Poules!$E$15='Résultat club'!$A9,Poules!$F$15)," "))} | C9: {=IF(A9=0,"",_xlfn.IFNA(_xlfn.IFS(Poules!$E$16='Résultat club'!$A9,Poules!$F$16)," "))} | D9: {=IF(A9=0,"",_xlfn.IFNA(_xlfn.IFS(Poules!$E$17='Résultat club'!$A9,Poules!$F$17)," "))} | E9: {=IF(A9=0,"",_xlfn.IFNA(_xlfn.IFS(Poules!$E$18='Résultat club'!$A9,Poules!$F$18)," "))} | F9: {=IF(A9=0,"",_xlfn.IFNA(_xlfn.IFS(Poules!$E$33='Résultat club'!$A9,Poules!$F$33)," "))} | G9: {=IF(A9=0,"",_xlfn.IFNA(_xlfn.IFS(Poules!$E$34='Résultat club'!$A9,Poules!$F$34)," "))} | H9: {=IF(A9=0,"",_xlfn.IFNA(_xlfn.IFS(Poules!$E$35='Résultat club'!$A9,Poules!$F$35)," "))} | I9: {=IF(A9=0,"",_xlfn.IFNA(_xlfn.IFS(Poules!$E$36='Résultat club'!$A9,Poules!$F$36)," "))} | J9: {=IF(A9=0,"",_xlfn.IFNA(_xlfn.IFS(Poules!$E$51='Résultat club'!$A9,Poules!$F$51)," "))} -> 16 | K9: {=IF(A9=0,"",_xlfn.IFNA(_xlfn.IFS(Poules!$E$52='Résultat club'!$A9,Poules!$F$52)," "))} | L9: {=IF(A9=0,"",_xlfn.IFNA(_xlfn.IFS(Poules!$E$53='Résultat club'!$A9,Poules!$F$53)," "))} | M9: {=IF(A9=0,"",_xlfn.IFNA(_xlfn.IFS(Poules!$E$54='Résultat club'!$A9,Poules!$F$54)," "))} | N9: {=IF(A9=0,"",_xlfn.IFNA(_xlfn.IFS(Poules!$E$69='Résultat club'!$A9,Poules!$F$69)," "))} | O9: {=IF(A9=0,"",_xlfn.IFNA(_xlfn.IFS(Poules!$E$70='Résultat club'!$A9,Poules!$F$70)," "))} | P9: {=IF(A9=0,"",_xlfn.IFNA(_xlfn.IFS(Poules!$E$71='Résultat club'!$A9,Poules!$F$71)," "))} | Q9: {=IF(A9=0,"",_xlfn.IFNA(_xlfn.IFS(Poules!$E$72='Résultat club'!$A9,Poules!$F$72)," "))} | R9: {=IF(A9=0,"",_xlfn.IFNA(_xlfn.IFS(Poules!$E$87='Résultat club'!$A9,Poules!$F$87)," "))} | S9: {=IF(A9=0,"",_xlfn.IFNA(_xlfn.IFS(Poules!$E$88='Résultat club'!$A9,Poules!$F$88)," "))} | T9: {=IF(A9=0,"",_xlfn.IFNA(_xlfn.IFS(Poules!$E$89='Résultat club'!$A9,Poules!$F$89)," "))} | U9: {=IF(A9=0,"",_xlfn.IFNA(_xlfn.IFS(Poules!$E$90='Résultat club'!$A9,Poules!$F$90)," "))} | V9: {=IF(A9=0,"",_xlfn.IFNA(_xlfn.IFS(Poules!$E$105='Résultat club'!$A9,Poules!$F$105),""))} | W9: {=IF(A9=0,"",_xlfn.IFNA(_xlfn.IFS(Poules!$E$106='Résultat club'!$A9,Poules!$F$106),""))} | X9: {=IF(A9=0,"",_xlfn.IFNA(_xlfn.IFS(Poules!$E$107='Résultat club'!$A9,Poules!$F$107),""))} -> 10 | Y9: {=IF(A9=0,"",_xlfn.IFNA(_xlfn.IFS(Poules!$E$108='Résultat club'!$A9,Poules!$F$108),""))} | Z9: {=IF(A9=0,"",_xlfn.IFNA(_xlfn.IFS(Poules!$E$123='Résultat club'!$A9,Poules!$F$123),""))} | AA9: {=IF(A9=0,"",_xlfn.IFNA(_xlfn.IFS(Poules!$E$124='Résultat club'!$A9,Poules!$F$124),""))} -> 10 | AB9: {=IF(A9=0,"",_xlfn.IFNA(_xlfn.IFS(Poules!$E$125='Résultat club'!$A9,Poules!$F$125),""))} | AC9: {=IF(A9=0,"",_xlfn.IFNA(_xlfn.IFS(Poules!$E$126='Résultat club'!$A9,Poules!$F$126),""))} | AD9: {=IF(A9=0,"",_xlfn.IFNA(_xlfn.IFS(Poules!$E$141='Résultat club'!$A9,Poules!$F$141),""))} | AE9: {=IF(A9=0,"",_xlfn.IFNA(_xlfn.IFS(Poules!$E$142='Résultat club'!$A9,Poules!$F$142),""))} | AF9: {=IF(A9=0,"",_xlfn.IFNA(_xlfn.IFS(Poules!$E$143='Résultat club'!$A9,Poules!$F$143),""))} | AG9: {=IF(A9=0,"",_xlfn.IFNA(_xlfn.IFS(Poules!$E$144='Résultat club'!$A9,Poules!$F$144),""))} | AH9: {=IF(A9=0,"",_xlfn.IFNA(_xlfn.IFS(Poules!$E$159='Résultat club'!$A9,Poules!$F$159),""))} | AI9: {=IF(A9=0,"",_xlfn.IFNA(_xlfn.IFS(Poules!$E$160='Résultat club'!$A9,Poules!$F$160),""))} | AJ9: {=IF(A9=0,"",_xlfn.IFNA(_xlfn.IFS(Poules!$E$161='Résultat club'!$A9,Poules!$F$161),""))} | AK9: {=IF(A9=0,"",_xlfn.IFNA(_xlfn.IFS(Poules!$E$162='Résultat club'!$A9,Poules!$F$162),""))} | AL9: {=IF(A9=0,"",_xlfn.IFNA(_xlfn.IFS(Poules!$E$177='Résultat club'!$A9,Poules!$F$177),""))} | AM9: {=IF(A9=0,"",_xlfn.IFNA(_xlfn.IFS(Poules!$E$178='Résultat club'!$A9,Poules!$F$178),""))} | AN9: {=IF(A9=0,"",_xlfn.IFNA(_xlfn.IFS(Poules!$E$179='Résultat club'!$A9,Poules!$F$179),""))} | AO9: {=IF(A9=0,"",_xlfn.IFNA(_xlfn.IFS(Poules!$E$180='Résultat club'!$A9,Poules!$F$180),""))} | AP9: {=IF(A9=0,"",_xlfn.IFNA(_xlfn.IFS(Poules!$E$195='Résultat club'!$A9,Poules!$F$195),""))} | AQ9: {=IF(A9=0,"",_xlfn.IFNA(_xlfn.IFS(Poules!$E$196='Résultat club'!$A9,Poules!$F$196),""))} | AR9: {=IF(A9=0,"",_xlfn.IFNA(_xlfn.IFS(Poules!$E$197='Résultat club'!$A9,Poules!$F$197),""))} | AS9: {=IF(A9=0,"",_xlfn.IFNA(_xlfn.IFS(Poules!$E$198='Résultat club'!$A9,Poules!$F$198),""))} | AT9: {=IF(A9=0,"",_xlfn.IFNA(_xlfn.IFS(Poules!$E$213='Résultat club'!$A9,Poules!$F$213),""))} | AU9: {=IF(A9=0,"",_xlfn.IFNA(_xlfn.IFS(Poules!$E$214='Résultat club'!$A9,Poules!$F$214),""))} | AV9: {=IF(A9=0,"",_xlfn.IFNA(_xlfn.IFS(Poules!$E$215='Résultat club'!$A9,Poules!$F$215),""))} | AW9: {=IF(A9=0,"",_xlfn.IFNA(_xlfn.IFS(Poules!$E$216='Résultat club'!$A9,Poules!$F$216),""))} | AX9: {=IF(A9=0,"",_xlfn.IFNA(_xlfn.IFS(Poules!$E$231='Résultat club'!$A9,Poules!$F$231),""))} | AY9: {=IF(A9=0,"",_xlfn.IFNA(_xlfn.IFS(Poules!$E$232='Résultat club'!$A9,Poules!$F$232),""))} | AZ9: {=IF(A9=0,"",_xlfn.IFNA(_xlfn.IFS(Poules!$E$233='Résultat club'!$A9,Poules!$F$233),""))} | BA9: {=IF(A9=0,"",_xlfn.IFNA(_xlfn.IFS(Poules!$E$234='Résultat club'!$A9,Poules!$F$234),""))} | BB9: {=IF(A9=0,"",_xlfn.IFNA(_xlfn.IFS(Poules!$E$249='Résultat club'!$A9,Poules!$F$249),""))} | BC9: {=IF(A9=0,"",_xlfn.IFNA(_xlfn.IFS(Poules!$E$250='Résultat club'!$A9,Poules!$F$250),""))} | BD9: {=IF(A9=0,"",_xlfn.IFNA(_xlfn.IFS(Poules!$E$251='Résultat club'!$A9,Poules!$F$251),""))} | BE9: {=IF(A9=0,"",_xlfn.IFNA(_xlfn.IFS(Poules!$E$252='Résultat club'!$A9,Poules!$F$252),""))} | BF9: {=IF(A9=0,"",_xlfn.IFNA(_xlfn.IFS(Poules!$E$267='Résultat club'!$A9,Poules!$F$267),""))} | BG9: {=IF(A9=0,"",_xlfn.IFNA(_xlfn.IFS(Poules!$E$268='Résultat club'!$A9,Poules!$F$268),""))} | BH9: {=IF($A9=0,"",_xlfn.IFNA(_xlfn.IFS(Poules!$E$269='Résultat club'!$A9,Poules!$F$269),""))} | BI9: {=IF($A9=0,"",_xlfn.IFNA(_xlfn.IFS(Poules!$E$270='Résultat club'!$A9,Poules!$F$270),""))} | BJ9: {=IF($A9=0,"",_xlfn.IFNA(_xlfn.IFS(Poules!$E$285='Résultat club'!$A9,Poules!$F$285),""))} | BK9: {=IF($A9=0,"",_xlfn.IFNA(_xlfn.IFS(Poules!$E$286='Résultat club'!$A9,Poules!$F$286),""))} | BL9: {=IF($A9=0,"",_xlfn.IFNA(_xlfn.IFS(Poules!$E$287='Résultat club'!$A9,Poules!$F$287),""))} | BM9: {=IF($A9=0,"",_xlfn.IFNA(_xlfn.IFS(Poules!$E$288='Résultat club'!$A9,Poules!$F$288),""))} | BN9: =IF(BP9>2,AVERAGE(LARGE(B9:BJ9,1)+LARGE(B9:BJ9,2)+LARGE(B9:BJ9,3)),0) -> 36 | BO9: =A9 -> LANNION | BP9: =COUNTIF('Listes poules triées'!$A$1:$B$60,$A9) -> 3
A10: ='Liste des clubs'!A9 -> RENNES CIE | B10: {=IF(A10=0,"",_xlfn.IFNA(_xlfn.IFS(Poules!$E$15='Résultat club'!$A10,Poules!$F$15)," "))} | C10: {=IF(A10=0,"",_xlfn.IFNA(_xlfn.IFS(Poules!$E$16='Résultat club'!$A10,Poules!$F$16)," "))} | D10: {=IF(A10=0,"",_xlfn.IFNA(_xlfn.IFS(Poules!$E$17='Résultat club'!$A10,Poules!$F$17)," "))} | E10: {=IF(A10=0,"",_xlfn.IFNA(_xlfn.IFS(Poules!$E$18='Résultat club'!$A10,Poules!$F$18)," "))} | F10: {=IF(A10=0,"",_xlfn.IFNA(_xlfn.IFS(Poules!$E$33='Résultat club'!$A10,Poules!$F$33)," "))} | G10: {=IF(A10=0,"",_xlfn.IFNA(_xlfn.IFS(Poules!$E$34='Résultat club'!$A10,Poules!$F$34)," "))} | H10: {=IF(A10=0,"",_xlfn.IFNA(_xlfn.IFS(Poules!$E$35='Résultat club'!$A10,Poules!$F$35)," "))} | I10: {=IF(A10=0,"",_xlfn.IFNA(_xlfn.IFS(Poules!$E$36='Résultat club'!$A10,Poules!$F$36)," "))} | J10: {=IF(A10=0,"",_xlfn.IFNA(_xlfn.IFS(Poules!$E$51='Résultat club'!$A10,Poules!$F$51)," "))} | K10: {=IF(A10=0,"",_xlfn.IFNA(_xlfn.IFS(Poules!$E$52='Résultat club'!$A10,Poules!$F$52)," "))} | L10: {=IF(A10=0,"",_xlfn.IFNA(_xlfn.IFS(Poules!$E$53='Résultat club'!$A10,Poules!$F$53)," "))} | M10: {=IF(A10=0,"",_xlfn.IFNA(_xlfn.IFS(Poules!$E$54='Résultat club'!$A10,Poules!$F$54)," "))} | N10: {=IF(A10=0,"",_xlfn.IFNA(_xlfn.IFS(Poules!$E$69='Résultat club'!$A10,Poules!$F$69)," "))} | O10: {=IF(A10=0,"",_xlfn.IFNA(_xlfn.IFS(Poules!$E$70='Résultat club'!$A10,Poules!$F$70)," "))} -> 13 | P10: {=IF(A10=0,"",_xlfn.IFNA(_xlfn.IFS(Poules!$E$71='Résultat club'!$A10,Poules!$F$71)," "))} | Q10: {=IF(A10=0,"",_xlfn.IFNA(_xlfn.IFS(Poules!$E$72='Résultat club'!$A10,Poules!$F$72)," "))} | R10: {=IF(A10=0,"",_xlfn.IFNA(_xlfn.IFS(Poules!$E$87='Résultat club'!$A10,Poules!$F$87)," "))} | S10: {=IF(A10=0,"",_xlfn.IFNA(_xlfn.IFS(Poules!$E$88='Résultat club'!$A10,Poules!$F$88)," "))} | T10: {=IF(A10=0,"",_xlfn.IFNA(_xlfn.IFS(Poules!$E$89='Résultat club'!$A10,Poules!$F$89)," "))} | U10: {=IF(A10=0,"",_xlfn.IFNA(_xlfn.IFS(Poules!$E$90='Résultat club'!$A10,Poules!$F$90)," "))} | V10: {=IF(A10=0,"",_xlfn.IFNA(_xlfn.IFS(Poules!$E$105='Résultat club'!$A10,Poules!$F$105),""))} | W10: {=IF(A10=0,"",_xlfn.IFNA(_xlfn.IFS(Poules!$E$106='Résultat club'!$A10,Poules!$F$106),""))} | X10: {=IF(A10=0,"",_xlfn.IFNA(_xlfn.IFS(Poules!$E$107='Résultat club'!$A10,Poules!$F$107),""))} | Y10: {=IF(A10=0,"",_xlfn.IFNA(_xlfn.IFS(Poules!$E$108='Résultat club'!$A10,Poules!$F$108),""))} | Z10: {=IF(A10=0,"",_xlfn.IFNA(_xlfn.IFS(Poules!$E$123='Résultat club'!$A10,Poules!$F$123),""))} | AA10: {=IF(A10=0,"",_xlfn.IFNA(_xlfn.IFS(Poules!$E$124='Résultat club'!$A10,Poules!$F$124),""))} | AB10: {=IF(A10=0,"",_xlfn.IFNA(_xlfn.IFS(Poules!$E$125='Résultat club'!$A10,Poules!$F$125),""))} -> 9 | AC10: {=IF(A10=0,"",_xlfn.IFNA(_xlfn.IFS(Poules!$E$126='Résultat club'!$A10,Poules!$F$126),""))} | AD10: {=IF(A10=0,"",_xlfn.IFNA(_xlfn.IFS(Poules!$E$141='Résultat club'!$A10,Poules!$F$141),""))} | AE10: {=IF(A10=0,"",_xlfn.IFNA(_xlfn.IFS(Poules!$E$142='Résultat club'!$A10,Poules!$F$142),""))} | AF10: {=IF(A10=0,"",_xlfn.IFNA(_xlfn.IFS(Poules!$E$143='Résultat club'!$A10,Poules!$F$143),""))} | AG10: {=IF(A10=0,"",_xlfn.IFNA(_xlfn.IFS(Poules!$E$144='Résultat club'!$A10,Poules!$F$144),""))} | AH10: {=IF(A10=0,"",_xlfn.IFNA(_xlfn.IFS(Poules!$E$159='Résultat club'!$A10,Poules!$F$159),""))} | AI10: {=IF(A10=0,"",_xlfn.IFNA(_xlfn.IFS(Poules!$E$160='Résultat club'!$A10,Poules!$F$160),""))} | AJ10: {=IF(A10=0,"",_xlfn.IFNA(_xlfn.IFS(Poules!$E$161='Résultat club'!$A10,Poules!$F$161),""))} | AK10: {=IF(A10=0,"",_xlfn.IFNA(_xlfn.IFS(Poules!$E$162='Résultat club'!$A10,Poules!$F$162),""))} | AL10: {=IF(A10=0,"",_xlfn.IFNA(_xlfn.IFS(Poules!$E$177='Résultat club'!$A10,Poules!$F$177),""))} | AM10: {=IF(A10=0,"",_xlfn.IFNA(_xlfn.IFS(Poules!$E$178='Résultat club'!$A10,Poules!$F$178),""))} | AN10: {=IF(A10=0,"",_xlfn.IFNA(_xlfn.IFS(Poules!$E$179='Résultat club'!$A10,Poules!$F$179),""))} | AO10: {=IF(A10=0,"",_xlfn.IFNA(_xlfn.IFS(Poules!$E$180='Résultat club'!$A10,Poules!$F$180),""))} | AP10: {=IF(A10=0,"",_xlfn.IFNA(_xlfn.IFS(Poules!$E$195='Résultat club'!$A10,Poules!$F$195),""))} | AQ10: {=IF(A10=0,"",_xlfn.IFNA(_xlfn.IFS(Poules!$E$196='Résultat club'!$A10,Poules!$F$196),""))} | AR10: {=IF(A10=0,"",_xlfn.IFNA(_xlfn.IFS(Poules!$E$197='Résultat club'!$A10,Poules!$F$197),""))} | AS10: {=IF(A10=0,"",_xlfn.IFNA(_xlfn.IFS(Poules!$E$198='Résultat club'!$A10,Poules!$F$198),""))} | AT10: {=IF(A10=0,"",_xlfn.IFNA(_xlfn.IFS(Poules!$E$213='Résultat club'!$A10,Poules!$F$213),""))} | AU10: {=IF(A10=0,"",_xlfn.IFNA(_xlfn.IFS(Poules!$E$214='Résultat club'!$A10,Poules!$F$214),""))} | AV10: {=IF(A10=0,"",_xlfn.IFNA(_xlfn.IFS(Poules!$E$215='Résultat club'!$A10,Poules!$F$215),""))} | AW10: {=IF(A10=0,"",_xlfn.IFNA(_xlfn.IFS(Poules!$E$216='Résultat club'!$A10,Poules!$F$216),""))} | AX10: {=IF(A10=0,"",_xlfn.IFNA(_xlfn.IFS(Poules!$E$231='Résultat club'!$A10,Poules!$F$231),""))} | AY10: {=IF(A10=0,"",_xlfn.IFNA(_xlfn.IFS(Poules!$E$232='Résultat club'!$A10,Poules!$F$232),""))} | AZ10: {=IF(A10=0,"",_xlfn.IFNA(_xlfn.IFS(Poules!$E$233='Résultat club'!$A10,Poules!$F$233),""))} | BA10: {=IF(A10=0,"",_xlfn.IFNA(_xlfn.IFS(Poules!$E$234='Résultat club'!$A10,Poules!$F$234),""))} | BB10: {=IF(A10=0,"",_xlfn.IFNA(_xlfn.IFS(Poules!$E$249='Résultat club'!$A10,Poules!$F$249),""))} | BC10: {=IF(A10=0,"",_xlfn.IFNA(_xlfn.IFS(Poules!$E$250='Résultat club'!$A10,Poules!$F$250),""))} | BD10: {=IF(A10=0,"",_xlfn.IFNA(_xlfn.IFS(Poules!$E$251='Résultat club'!$A10,Poules!$F$251),""))} | BE10: {=IF(A10=0,"",_xlfn.IFNA(_xlfn.IFS(Poules!$E$252='Résultat club'!$A10,Poules!$F$252),""))} | BF10: {=IF(A10=0,"",_xlfn.IFNA(_xlfn.IFS(Poules!$E$267='Résultat club'!$A10,Poules!$F$267),""))} | BG10: {=IF(A10=0,"",_xlfn.IFNA(_xlfn.IFS(Poules!$E$268='Résultat club'!$A10,Poules!$F$268),""))} | BH10: {=IF($A10=0,"",_xlfn.IFNA(_xlfn.IFS(Poules!$E$269='Résultat club'!$A10,Poules!$F$269),""))} | BI10: {=IF($A10=0,"",_xlfn.IFNA(_xlfn.IFS(Poules!$E$270='Résultat club'!$A10,Poules!$F$270),""))} | BJ10: {=IF($A10=0,"",_xlfn.IFNA(_xlfn.IFS(Poules!$E$285='Résultat club'!$A10,Poules!$F$285),""))} | BK10: {=IF($A10=0,"",_xlfn.IFNA(_xlfn.IFS(Poules!$E$286='Résultat club'!$A10,Poules!$F$286),""))} | BL10: {=IF($A10=0,"",_xlfn.IFNA(_xlfn.IFS(Poules!$E$287='Résultat club'!$A10,Poules!$F$287),""))} | BM10: {=IF($A10=0,"",_xlfn.IFNA(_xlfn.IFS(Poules!$E$288='Résultat club'!$A10,Poules!$F$288),""))} | BN10: =IF(BP10>2,AVERAGE(LARGE(B10:BJ10,1)+LARGE(B10:BJ10,2)+LARGE(B10:BJ10,3)),0) -> 0 | BO10: =A10 -> RENNES CIE | BP10: =COUNTIF('Listes poules triées'!$A$1:$B$60,$A10) -> 2
A11: ='Liste des clubs'!A10 -> PLOGASTEL ST GERMAIN | B11: {=IF(A11=0,"",_xlfn.IFNA(_xlfn.IFS(Poules!$E$15='Résultat club'!$A11,Poules!$F$15)," "))} | C11: {=IF(A11=0,"",_xlfn.IFNA(_xlfn.IFS(Poules!$E$16='Résultat club'!$A11,Poules!$F$16)," "))} | D11: {=IF(A11=0,"",_xlfn.IFNA(_xlfn.IFS(Poules!$E$17='Résultat club'!$A11,Poules!$F$17)," "))} | E11: {=IF(A11=0,"",_xlfn.IFNA(_xlfn.IFS(Poules!$E$18='Résultat club'!$A11,Poules!$F$18)," "))} | F11: {=IF(A11=0,"",_xlfn.IFNA(_xlfn.IFS(Poules!$E$33='Résultat club'!$A11,Poules!$F$33)," "))} | G11: {=IF(A11=0,"",_xlfn.IFNA(_xlfn.IFS(Poules!$E$34='Résultat club'!$A11,Poules!$F$34)," "))} | H11: {=IF(A11=0,"",_xlfn.IFNA(_xlfn.IFS(Poules!$E$35='Résultat club'!$A11,Poules!$F$35)," "))} | I11: {=IF(A11=0,"",_xlfn.IFNA(_xlfn.IFS(Poules!$E$36='Résultat club'!$A11,Poules!$F$36)," "))} | J11: {=IF(A11=0,"",_xlfn.IFNA(_xlfn.IFS(Poules!$E$51='Résultat club'!$A11,Poules!$F$51)," "))} | K11: {=IF(A11=0,"",_xlfn.IFNA(_xlfn.IFS(Poules!$E$52='Résultat club'!$A11,Poules!$F$52)," "))} | L11: {=IF(A11=0,"",_xlfn.IFNA(_xlfn.IFS(Poules!$E$53='Résultat club'!$A11,Poules!$F$53)," "))} | M11: {=IF(A11=0,"",_xlfn.IFNA(_xlfn.IFS(Poules!$E$54='Résultat club'!$A11,Poules!$F$54)," "))} | N11: {=IF(A11=0,"",_xlfn.IFNA(_xlfn.IFS(Poules!$E$69='Résultat club'!$A11,Poules!$F$69)," "))} | O11: {=IF(A11=0,"",_xlfn.IFNA(_xlfn.IFS(Poules!$E$70='Résultat club'!$A11,Poules!$F$70)," "))} | P11: {=IF(A11=0,"",_xlfn.IFNA(_xlfn.IFS(Poules!$E$71='Résultat club'!$A11,Poules!$F$71)," "))} | Q11: {=IF(A11=0,"",_xlfn.IFNA(_xlfn.IFS(Poules!$E$72='Résultat club'!$A11,Poules!$F$72)," "))} -> 11 | R11: {=IF(A11=0,"",_xlfn.IFNA(_xlfn.IFS(Poules!$E$87='Résultat club'!$A11,Poules!$F$87)," "))} | S11: {=IF(A11=0,"",_xlfn.IFNA(_xlfn.IFS(Poules!$E$88='Résultat club'!$A11,Poules!$F$88)," "))} | T11: {=IF(A11=0,"",_xlfn.IFNA(_xlfn.IFS(Poules!$E$89='Résultat club'!$A11,Poules!$F$89)," "))} | U11: {=IF(A11=0,"",_xlfn.IFNA(_xlfn.IFS(Poules!$E$90='Résultat club'!$A11,Poules!$F$90)," "))} | V11: {=IF(A11=0,"",_xlfn.IFNA(_xlfn.IFS(Poules!$E$105='Résultat club'!$A11,Poules!$F$105),""))} | W11: {=IF(A11=0,"",_xlfn.IFNA(_xlfn.IFS(Poules!$E$106='Résultat club'!$A11,Poules!$F$106),""))} | X11: {=IF(A11=0,"",_xlfn.IFNA(_xlfn.IFS(Poules!$E$107='Résultat club'!$A11,Poules!$F$107),""))} | Y11: {=IF(A11=0,"",_xlfn.IFNA(_xlfn.IFS(Poules!$E$108='Résultat club'!$A11,Poules!$F$108),""))} | Z11: {=IF(A11=0,"",_xlfn.IFNA(_xlfn.IFS(Poules!$E$123='Résultat club'!$A11,Poules!$F$123),""))} -> 12 | AA11: {=IF(A11=0,"",_xlfn.IFNA(_xlfn.IFS(Poules!$E$124='Résultat club'!$A11,Poules!$F$124),""))} | AB11: {=IF(A11=0,"",_xlfn.IFNA(_xlfn.IFS(Poules!$E$125='Résultat club'!$A11,Poules!$F$125),""))} | AC11: {=IF(A11=0,"",_xlfn.IFNA(_xlfn.IFS(Poules!$E$126='Résultat club'!$A11,Poules!$F$126),""))} | AD11: {=IF(A11=0,"",_xlfn.IFNA(_xlfn.IFS(Poules!$E$141='Résultat club'!$A11,Poules!$F$141),""))} | AE11: {=IF(A11=0,"",_xlfn.IFNA(_xlfn.IFS(Poules!$E$142='Résultat club'!$A11,Poules!$F$142),""))} | AF11: {=IF(A11=0,"",_xlfn.IFNA(_xlfn.IFS(Poules!$E$143='Résultat club'!$A11,Poules!$F$143),""))} | AG11: {=IF(A11=0,"",_xlfn.IFNA(_xlfn.IFS(Poules!$E$144='Résultat club'!$A11,Poules!$F$144),""))} | AH11: {=IF(A11=0,"",_xlfn.IFNA(_xlfn.IFS(Poules!$E$159='Résultat club'!$A11,Poules!$F$159),""))} | AI11: {=IF(A11=0,"",_xlfn.IFNA(_xlfn.IFS(Poules!$E$160='Résultat club'!$A11,Poules!$F$160),""))} | AJ11: {=IF(A11=0,"",_xlfn.IFNA(_xlfn.IFS(Poules!$E$161='Résultat club'!$A11,Poules!$F$161),""))} | AK11: {=IF(A11=0,"",_xlfn.IFNA(_xlfn.IFS(Poules!$E$162='Résultat club'!$A11,Poules!$F$162),""))} | AL11: {=IF(A11=0,"",_xlfn.IFNA(_xlfn.IFS(Poules!$E$177='Résultat club'!$A11,Poules!$F$177),""))} | AM11: {=IF(A11=0,"",_xlfn.IFNA(_xlfn.IFS(Poules!$E$178='Résultat club'!$A11,Poules!$F$178),""))} | AN11: {=IF(A11=0,"",_xlfn.IFNA(_xlfn.IFS(Poules!$E$179='Résultat club'!$A11,Poules!$F$179),""))} | AO11: {=IF(A11=0,"",_xlfn.IFNA(_xlfn.IFS(Poules!$E$180='Résultat club'!$A11,Poules!$F$180),""))} -> 5 | AP11: {=IF(A11=0,"",_xlfn.IFNA(_xlfn.IFS(Poules!$E$195='Résultat club'!$A11,Poules!$F$195),""))} | AQ11: {=IF(A11=0,"",_xlfn.IFNA(_xlfn.IFS(Poules!$E$196='Résultat club'!$A11,Poules!$F$196),""))} | AR11: {=IF(A11=0,"",_xlfn.IFNA(_xlfn.IFS(Poules!$E$197='Résultat club'!$A11,Poules!$F$197),""))} | AS11: {=IF(A11=0,"",_xlfn.IFNA(_xlfn.IFS(Poules!$E$198='Résultat club'!$A11,Poules!$F$198),""))} -> 4 | AT11: {=IF(A11=0,"",_xlfn.IFNA(_xlfn.IFS(Poules!$E$213='Résultat club'!$A11,Poules!$F$213),""))} | AU11: {=IF(A11=0,"",_xlfn.IFNA(_xlfn.IFS(Poules!$E$214='Résultat club'!$A11,Poules!$F$214),""))} | AV11: {=IF(A11=0,"",_xlfn.IFNA(_xlfn.IFS(Poules!$E$215='Résultat club'!$A11,Poules!$F$215),""))} | AW11: {=IF(A11=0,"",_xlfn.IFNA(_xlfn.IFS(Poules!$E$216='Résultat club'!$A11,Poules!$F$216),""))} | AX11: {=IF(A11=0,"",_xlfn.IFNA(_xlfn.IFS(Poules!$E$231='Résultat club'!$A11,Poules!$F$231),""))} | AY11: {=IF(A11=0,"",_xlfn.IFNA(_xlfn.IFS(Poules!$E$232='Résultat club'!$A11,Poules!$F$232),""))} -> 4 | AZ11: {=IF(A11=0,"",_xlfn.IFNA(_xlfn.IFS(Poules!$E$233='Résultat club'!$A11,Poules!$F$233),""))} | BA11: {=IF(A11=0,"",_xlfn.IFNA(_xlfn.IFS(Poules!$E$234='Résultat club'!$A11,Poules!$F$234),""))} | BB11: {=IF(A11=0,"",_xlfn.IFNA(_xlfn.IFS(Poules!$E$249='Résultat club'!$A11,Poules!$F$249),""))} | BC11: {=IF(A11=0,"",_xlfn.IFNA(_xlfn.IFS(Poules!$E$250='Résultat club'!$A11,Poules!$F$250),""))} | BD11: {=IF(A11=0,"",_xlfn.IFNA(_xlfn.IFS(Poules!$E$251='Résultat club'!$A11,Poules!$F$251),""))} | BE11: {=IF(A11=0,"",_xlfn.IFNA(_xlfn.IFS(Poules!$E$252='Résultat club'!$A11,Poules!$F$252),""))} | BF11: {=IF(A11=0,"",_xlfn.IFNA(_xlfn.IFS(Poules!$E$267='Résultat club'!$A11,Poules!$F$267),""))} | BG11: {=IF(A11=0,"",_xlfn.IFNA(_xlfn.IFS(Poules!$E$268='Résultat club'!$A11,Poules!$F$268),""))} | BH11: {=IF($A11=0,"",_xlfn.IFNA(_xlfn.IFS(Poules!$E$269='Résultat club'!$A11,Poules!$F$269),""))} | BI11: {=IF($A11=0,"",_xlfn.IFNA(_xlfn.IFS(Poules!$E$270='Résultat club'!$A11,Poules!$F$270),""))} | BJ11: {=IF($A11=0,"",_xlfn.IFNA(_xlfn.IFS(Poules!$E$285='Résultat club'!$A11,Poules!$F$285),""))} | BK11: {=IF($A11=0,"",_xlfn.IFNA(_xlfn.IFS(Poules!$E$286='Résultat club'!$A11,Poules!$F$286),""))} | BL11: {=IF($A11=0,"",_xlfn.IFNA(_xlfn.IFS(Poules!$E$287='Résultat club'!$A11,Poules!$F$287),""))} | BM11: {=IF($A11=0,"",_xlfn.IFNA(_xlfn.IFS(Poules!$E$288='Résultat club'!$A11,Poules!$F$288),""))} | BN11: =IF(BP11>2,AVERAGE(LARGE(B11:BJ11,1)+LARGE(B11:BJ11,2)+LARGE(B11:BJ11,3)),0) -> 28 | BO11: =A11 -> PLOGASTEL ST GERMAIN | BP11: =COUNTIF('Listes poules triées'!$A$1:$B$60,$A11) -> 5
A12: ='Liste des clubs'!A11 -> PAIMPOL | B12: {=IF(A12=0,"",_xlfn.IFNA(_xlfn.IFS(Poules!$E$15='Résultat club'!$A12,Poules!$F$15)," "))} | C12: {=IF(A12=0,"",_xlfn.IFNA(_xlfn.IFS(Poules!$E$16='Résultat club'!$A12,Poules!$F$16)," "))} | D12: {=IF(A12=0,"",_xlfn.IFNA(_xlfn.IFS(Poules!$E$17='Résultat club'!$A12,Poules!$F$17)," "))} | E12: {=IF(A12=0,"",_xlfn.IFNA(_xlfn.IFS(Poules!$E$18='Résultat club'!$A12,Poules!$F$18)," "))} | F12: {=IF(A12=0,"",_xlfn.IFNA(_xlfn.IFS(Poules!$E$33='Résultat club'!$A12,Poules!$F$33)," "))} | G12: {=IF(A12=0,"",_xlfn.IFNA(_xlfn.IFS(Poules!$E$34='Résultat club'!$A12,Poules!$F$34)," "))} | H12: {=IF(A12=0,"",_xlfn.IFNA(_xlfn.IFS(Poules!$E$35='Résultat club'!$A12,Poules!$F$35)," "))} | I12: {=IF(A12=0,"",_xlfn.IFNA(_xlfn.IFS(Poules!$E$36='Résultat club'!$A12,Poules!$F$36)," "))} | J12: {=IF(A12=0,"",_xlfn.IFNA(_xlfn.IFS(Poules!$E$51='Résultat club'!$A12,Poules!$F$51)," "))} | K12: {=IF(A12=0,"",_xlfn.IFNA(_xlfn.IFS(Poules!$E$52='Résultat club'!$A12,Poules!$F$52)," "))} | L12: {=IF(A12=0,"",_xlfn.IFNA(_xlfn.IFS(Poules!$E$53='Résultat club'!$A12,Poules!$F$53)," "))} | M12: {=IF(A12=0,"",_xlfn.IFNA(_xlfn.IFS(Poules!$E$54='Résultat club'!$A12,Poules!$F$54)," "))} | N12: {=IF(A12=0,"",_xlfn.IFNA(_xlfn.IFS(Poules!$E$69='Résultat club'!$A12,Poules!$F$69)," "))} | O12: {=IF(A12=0,"",_xlfn.IFNA(_xlfn.IFS(Poules!$E$70='Résultat club'!$A12,Poules!$F$70)," "))} | P12: {=IF(A12=0,"",_xlfn.IFNA(_xlfn.IFS(Poules!$E$71='Résultat club'!$A12,Poules!$F$71)," "))} | Q12: {=IF(A12=0,"",_xlfn.IFNA(_xlfn.IFS(Poules!$E$72='Résultat club'!$A12,Poules!$F$72)," "))} | R12: {=IF(A12=0,"",_xlfn.IFNA(_xlfn.IFS(Poules!$E$87='Résultat club'!$A12,Poules!$F$87)," "))} | S12: {=IF(A12=0,"",_xlfn.IFNA(_xlfn.IFS(Poules!$E$88='Résultat club'!$A12,Poules!$F$88)," "))} | T12: {=IF(A12=0,"",_xlfn.IFNA(_xlfn.IFS(Poules!$E$89='Résultat club'!$A12,Poules!$F$89)," "))} -> 11 | U12: {=IF(A12=0,"",_xlfn.IFNA(_xlfn.IFS(Poules!$E$90='Résultat club'!$A12,Poules!$F$90)," "))} | V12: {=IF(A12=0,"",_xlfn.IFNA(_xlfn.IFS(Poules!$E$105='Résultat club'!$A12,Poules!$F$105),""))} | W12: {=IF(A12=0,"",_xlfn.IFNA(_xlfn.IFS(Poules!$E$106='Résultat club'!$A12,Poules!$F$106),""))} | X12: {=IF(A12=0,"",_xlfn.IFNA(_xlfn.IFS(Poules!$E$107='Résultat club'!$A12,Poules!$F$107),""))} | Y12: {=IF(A12=0,"",_xlfn.IFNA(_xlfn.IFS(Poules!$E$108='Résultat club'!$A12,Poules!$F$108),""))} | Z12: {=IF(A12=0,"",_xlfn.IFNA(_xlfn.IFS(Poules!$E$123='Résultat club'!$A12,Poules!$F$123),""))} | AA12: {=IF(A12=0,"",_xlfn.IFNA(_xlfn.IFS(Poules!$E$124='Résultat club'!$A12,Poules!$F$124),""))} | AB12: {=IF(A12=0,"",_xlfn.IFNA(_xlfn.IFS(Poules!$E$125='Résultat club'!$A12,Poules!$F$125),""))} | AC12: {=IF(A12=0,"",_xlfn.IFNA(_xlfn.IFS(Poules!$E$126='Résultat club'!$A12,Poules!$F$126),""))} | AD12: {=IF(A12=0,"",_xlfn.IFNA(_xlfn.IFS(Poules!$E$141='Résultat club'!$A12,Poules!$F$141),""))} | AE12: {=IF(A12=0,"",_xlfn.IFNA(_xlfn.IFS(Poules!$E$142='Résultat club'!$A12,Poules!$F$142),""))} | AF12: {=IF(A12=0,"",_xlfn.IFNA(_xlfn.IFS(Poules!$E$143='Résultat club'!$A12,Poules!$F$143),""))} | AG12: {=IF(A12=0,"",_xlfn.IFNA(_xlfn.IFS(Poules!$E$144='Résultat club'!$A12,Poules!$F$144),""))} | AH12: {=IF(A12=0,"",_xlfn.IFNA(_xlfn.IFS(Poules!$E$159='Résultat club'!$A12,Poules!$F$159),""))} | AI12: {=IF(A12=0,"",_xlfn.IFNA(_xlfn.IFS(Poules!$E$160='Résultat club'!$A12,Poules!$F$160),""))} | AJ12: {=IF(A12=0,"",_xlfn.IFNA(_xlfn.IFS(Poules!$E$161='Résultat club'!$A12,Poules!$F$161),""))} | AK12: {=IF(A12=0,"",_xlfn.IFNA(_xlfn.IFS(Poules!$E$162='Résultat club'!$A12,Poules!$F$162),""))} -> 6 | AL12: {=IF(A12=0,"",_xlfn.IFNA(_xlfn.IFS(Poules!$E$177='Résultat club'!$A12,Poules!$F$177),""))} | AM12: {=IF(A12=0,"",_xlfn.IFNA(_xlfn.IFS(Poules!$E$178='Résultat club'!$A12,Poules!$F$178),""))} | AN12: {=IF(A12=0,"",_xlfn.IFNA(_xlfn.IFS(Poules!$E$179='Résultat club'!$A12,Poules!$F$179),""))} | AO12: {=IF(A12=0,"",_xlfn.IFNA(_xlfn.IFS(Poules!$E$180='Résultat club'!$A12,Poules!$F$180),""))} | AP12: {=IF(A12=0,"",_xlfn.IFNA(_xlfn.IFS(Poules!$E$195='Résultat club'!$A12,Poules!$F$195),""))} | AQ12: {=IF(A12=0,"",_xlfn.IFNA(_xlfn.IFS(Poules!$E$196='Résultat club'!$A12,Poules!$F$196),""))} | AR12: {=IF(A12=0,"",_xlfn.IFNA(_xlfn.IFS(Poules!$E$197='Résultat club'!$A12,Poules!$F$197),""))} -> 5 | AS12: {=IF(A12=0,"",_xlfn.IFNA(_xlfn.IFS(Poules!$E$198='Résultat club'!$A12,Poules!$F$198),""))} | AT12: {=IF(A12=0,"",_xlfn.IFNA(_xlfn.IFS(Poules!$E$213='Résultat club'!$A12,Poules!$F$213),""))} | AU12: {=IF(A12=0,"",_xlfn.IFNA(_xlfn.IFS(Poules!$E$214='Résultat club'!$A12,Poules!$F$214),""))} | AV12: {=IF(A12=0,"",_xlfn.IFNA(_xlfn.IFS(Poules!$E$215='Résultat club'!$A12,Poules!$F$215),""))} -> 4 | AW12: {=IF(A12=0,"",_xlfn.IFNA(_xlfn.IFS(Poules!$E$216='Résultat club'!$A12,Poules!$F$216),""))} | AX12: {=IF(A12=0,"",_xlfn.IFNA(_xlfn.IFS(Poules!$E$231='Résultat club'!$A12,Poules!$F$231),""))} | AY12: {=IF(A12=0,"",_xlfn.IFNA(_xlfn.IFS(Poules!$E$232='Résultat club'!$A12,Poules!$F$232),""))} | AZ12: {=IF(A12=0,"",_xlfn.IFNA(_xlfn.IFS(Poules!$E$233='Résultat club'!$A12,Poules!$F$233),""))} | BA12: {=IF(A12=0,"",_xlfn.IFNA(_xlfn.IFS(Poules!$E$234='Résultat club'!$A12,Poules!$F$234),""))} -> 2 | BB12: {=IF(A12=0,"",_xlfn.IFNA(_xlfn.IFS(Poules!$E$249='Résultat club'!$A12,Poules!$F$249),""))} | BC12: {=IF(A12=0,"",_xlfn.IFNA(_xlfn.IFS(Poules!$E$250='Résultat club'!$A12,Poules!$F$250),""))} | BD12: {=IF(A12=0,"",_xlfn.IFNA(_xlfn.IFS(Poules!$E$251='Résultat club'!$A12,Poules!$F$251),""))} | BE12: {=IF(A12=0,"",_xlfn.IFNA(_xlfn.IFS(Poules!$E$252='Résultat club'!$A12,Poules!$F$252),""))} | BF12: {=IF(A12=0,"",_xlfn.IFNA(_xlfn.IFS(Poules!$E$267='Résultat club'!$A12,Poules!$F$267),""))} | BG12: {=IF(A12=0,"",_xlfn.IFNA(_xlfn.IFS(Poules!$E$268='Résultat club'!$A12,Poules!$F$268),""))} | BH12: {=IF($A12=0,"",_xlfn.IFNA(_xlfn.IFS(Poules!$E$269='Résultat club'!$A12,Poules!$F$269),""))} | BI12: {=IF($A12=0,"",_xlfn.IFNA(_xlfn.IFS(Poules!$E$270='Résultat club'!$A12,Poules!$F$270),""))} | BJ12: {=IF($A12=0,"",_xlfn.IFNA(_xlfn.IFS(Poules!$E$285='Résultat club'!$A12,Poules!$F$285),""))} | BK12: {=IF($A12=0,"",_xlfn.IFNA(_xlfn.IFS(Poules!$E$286='Résultat club'!$A12,Poules!$F$286),""))} | BL12: {=IF($A12=0,"",_xlfn.IFNA(_xlfn.IFS(Poules!$E$287='Résultat club'!$A12,Poules!$F$287),""))} | BM12: {=IF($A12=0,"",_xlfn.IFNA(_xlfn.IFS(Poules!$E$288='Résultat club'!$A12,Poules!$F$288),""))} | BN12: =IF(BP12>2,AVERAGE(LARGE(B12:BJ12,1)+LARGE(B12:BJ12,2)+LARGE(B12:BJ12,3)),0) -> 22 | BO12: =A12 -> PAIMPOL | BP12: =COUNTIF('Listes poules triées'!$A$1:$B$60,$A12) -> 5
A13: ='Liste des clubs'!A12 -> PLOUGASNOU | B13: {=IF(A13=0,"",_xlfn.IFNA(_xlfn.IFS(Poules!$E$15='Résultat club'!$A13,Poules!$F$15)," "))} | C13: {=IF(A13=0,"",_xlfn.IFNA(_xlfn.IFS(Poules!$E$16='Résultat club'!$A13,Poules!$F$16)," "))} | D13: {=IF(A13=0,"",_xlfn.IFNA(_xlfn.IFS(Poules!$E$17='Résultat club'!$A13,Poules!$F$17)," "))} | E13: {=IF(A13=0,"",_xlfn.IFNA(_xlfn.IFS(Poules!$E$18='Résultat club'!$A13,Poules!$F$18)," "))} | F13: {=IF(A13=0,"",_xlfn.IFNA(_xlfn.IFS(Poules!$E$33='Résultat club'!$A13,Poules!$F$33)," "))} | G13: {=IF(A13=0,"",_xlfn.IFNA(_xlfn.IFS(Poules!$E$34='Résultat club'!$A13,Poules!$F$34)," "))} | H13: {=IF(A13=0,"",_xlfn.IFNA(_xlfn.IFS(Poules!$E$35='Résultat club'!$A13,Poules!$F$35)," "))} | I13: {=IF(A13=0,"",_xlfn.IFNA(_xlfn.IFS(Poules!$E$36='Résultat club'!$A13,Poules!$F$36)," "))} | J13: {=IF(A13=0,"",_xlfn.IFNA(_xlfn.IFS(Poules!$E$51='Résultat club'!$A13,Poules!$F$51)," "))} | K13: {=IF(A13=0,"",_xlfn.IFNA(_xlfn.IFS(Poules!$E$52='Résultat club'!$A13,Poules!$F$52)," "))} | L13: {=IF(A13=0,"",_xlfn.IFNA(_xlfn.IFS(Poules!$E$53='Résultat club'!$A13,Poules!$F$53)," "))} | M13: {=IF(A13=0,"",_xlfn.IFNA(_xlfn.IFS(Poules!$E$54='Résultat club'!$A13,Poules!$F$54)," "))} | N13: {=IF(A13=0,"",_xlfn.IFNA(_xlfn.IFS(Poules!$E$69='Résultat club'!$A13,Poules!$F$69)," "))} | O13: {=IF(A13=0,"",_xlfn.IFNA(_xlfn.IFS(Poules!$E$70='Résultat club'!$A13,Poules!$F$70)," "))} | P13: {=IF(A13=0,"",_xlfn.IFNA(_xlfn.IFS(Poules!$E$71='Résultat club'!$A13,Poules!$F$71)," "))} | Q13: {=IF(A13=0,"",_xlfn.IFNA(_xlfn.IFS(Poules!$E$72='Résultat club'!$A13,Poules!$F$72)," "))} | R13: {=IF(A13=0,"",_xlfn.IFNA(_xlfn.IFS(Poules!$E$87='Résultat club'!$A13,Poules!$F$87)," "))} | S13: {=IF(A13=0,"",_xlfn.IFNA(_xlfn.IFS(Poules!$E$88='Résultat club'!$A13,Poules!$F$88)," "))} -> 12 | T13: {=IF(A13=0,"",_xlfn.IFNA(_xlfn.IFS(Poules!$E$89='Résultat club'!$A13,Poules!$F$89)," "))} | U13: {=IF(A13=0,"",_xlfn.IFNA(_xlfn.IFS(Poules!$E$90='Résultat club'!$A13,Poules!$F$90)," "))} | V13: {=IF(A13=0,"",_xlfn.IFNA(_xlfn.IFS(Poules!$E$105='Résultat club'!$A13,Poules!$F$105),""))} | W13: {=IF(A13=0,"",_xlfn.IFNA(_xlfn.IFS(Poules!$E$106='Résultat club'!$A13,Poules!$F$106),""))} | X13: {=IF(A13=0,"",_xlfn.IFNA(_xlfn.IFS(Poules!$E$107='Résultat club'!$A13,Poules!$F$107),""))} | Y13: {=IF(A13=0,"",_xlfn.IFNA(_xlfn.IFS(Poules!$E$108='Résultat club'!$A13,Poules!$F$108),""))} | Z13: {=IF(A13=0,"",_xlfn.IFNA(_xlfn.IFS(Poules!$E$123='Résultat club'!$A13,Poules!$F$123),""))} | AA13: {=IF(A13=0,"",_xlfn.IFNA(_xlfn.IFS(Poules!$E$124='Résultat club'!$A13,Poules!$F$124),""))} | AB13: {=IF(A13=0,"",_xlfn.IFNA(_xlfn.IFS(Poules!$E$125='Résultat club'!$A13,Poules!$F$125),""))} | AC13: {=IF(A13=0,"",_xlfn.IFNA(_xlfn.IFS(Poules!$E$126='Résultat club'!$A13,Poules!$F$126),""))} -> 8 | AD13: {=IF(A13=0,"",_xlfn.IFNA(_xlfn.IFS(Poules!$E$141='Résultat club'!$A13,Poules!$F$141),""))} | AE13: {=IF(A13=0,"",_xlfn.IFNA(_xlfn.IFS(Poules!$E$142='Résultat club'!$A13,Poules!$F$142),""))} | AF13: {=IF(A13=0,"",_xlfn.IFNA(_xlfn.IFS(Poules!$E$143='Résultat club'!$A13,Poules!$F$143),""))} -> 8 | AG13: {=IF(A13=0,"",_xlfn.IFNA(_xlfn.IFS(Poules!$E$144='Résultat club'!$A13,Poules!$F$144),""))} | AH13: {=IF(A13=0,"",_xlfn.IFNA(_xlfn.IFS(Poules!$E$159='Résultat club'!$A13,Poules!$F$159),""))} | AI13: {=IF(A13=0,"",_xlfn.IFNA(_xlfn.IFS(Poules!$E$160='Résultat club'!$A13,Poules!$F$160),""))} | AJ13: {=IF(A13=0,"",_xlfn.IFNA(_xlfn.IFS(Poules!$E$161='Résultat club'!$A13,Poules!$F$161),""))} | AK13: {=IF(A13=0,"",_xlfn.IFNA(_xlfn.IFS(Poules!$E$162='Résultat club'!$A13,Poules!$F$162),""))} | AL13: {=IF(A13=0,"",_xlfn.IFNA(_xlfn.IFS(Poules!$E$177='Résultat club'!$A13,Poules!$F$177),""))} | AM13: {=IF(A13=0,"",_xlfn.IFNA(_xlfn.IFS(Poules!$E$178='Résultat club'!$A13,Poules!$F$178),""))} | AN13: {=IF(A13=0,"",_xlfn.IFNA(_xlfn.IFS(Poules!$E$179='Résultat club'!$A13,Poules!$F$179),""))} | AO13: {=IF(A13=0,"",_xlfn.IFNA(_xlfn.IFS(Poules!$E$180='Résultat club'!$A13,Poules!$F$180),""))} | AP13: {=IF(A13=0,"",_xlfn.IFNA(_xlfn.IFS(Poules!$E$195='Résultat club'!$A13,Poules!$F$195),""))} | AQ13: {=IF(A13=0,"",_xlfn.IFNA(_xlfn.IFS(Poules!$E$196='Résultat club'!$A13,Poules!$F$196),""))} | AR13: {=IF(A13=0,"",_xlfn.IFNA(_xlfn.IFS(Poules!$E$197='Résultat club'!$A13,Poules!$F$197),""))} | AS13: {=IF(A13=0,"",_xlfn.IFNA(_xlfn.IFS(Poules!$E$198='Résultat club'!$A13,Poules!$F$198),""))} | AT13: {=IF(A13=0,"",_xlfn.IFNA(_xlfn.IFS(Poules!$E$213='Résultat club'!$A13,Poules!$F$213),""))} | AU13: {=IF(A13=0,"",_xlfn.IFNA(_xlfn.IFS(Poules!$E$214='Résultat club'!$A13,Poules!$F$214),""))} | AV13: {=IF(A13=0,"",_xlfn.IFNA(_xlfn.IFS(Poules!$E$215='Résultat club'!$A13,Poules!$F$215),""))} | AW13: {=IF(A13=0,"",_xlfn.IFNA(_xlfn.IFS(Poules!$E$216='Résultat club'!$A13,Poules!$F$216),""))} | AX13: {=IF(A13=0,"",_xlfn.IFNA(_xlfn.IFS(Poules!$E$231='Résultat club'!$A13,Poules!$F$231),""))} | AY13: {=IF(A13=0,"",_xlfn.IFNA(_xlfn.IFS(Poules!$E$232='Résultat club'!$A13,Poules!$F$232),""))} | AZ13: {=IF(A13=0,"",_xlfn.IFNA(_xlfn.IFS(Poules!$E$233='Résultat club'!$A13,Poules!$F$233),""))} | BA13: {=IF(A13=0,"",_xlfn.IFNA(_xlfn.IFS(Poules!$E$234='Résultat club'!$A13,Poules!$F$234),""))} | BB13: {=IF(A13=0,"",_xlfn.IFNA(_xlfn.IFS(Poules!$E$249='Résultat club'!$A13,Poules!$F$249),""))} | BC13: {=IF(A13=0,"",_xlfn.IFNA(_xlfn.IFS(Poules!$E$250='Résultat club'!$A13,Poules!$F$250),""))} | BD13: {=IF(A13=0,"",_xlfn.IFNA(_xlfn.IFS(Poules!$E$251='Résultat club'!$A13,Poules!$F$251),""))} -> 2 | BE13: {=IF(A13=0,"",_xlfn.IFNA(_xlfn.IFS(Poules!$E$252='Résultat club'!$A13,Poules!$F$252),""))} | BF13: {=IF(A13=0,"",_xlfn.IFNA(_xlfn.IFS(Poules!$E$267='Résultat club'!$A13,Poules!$F$267),""))} | BG13: {=IF(A13=0,"",_xlfn.IFNA(_xlfn.IFS(Poules!$E$268='Résultat club'!$A13,Poules!$F$268),""))} | BH13: {=IF($A13=0,"",_xlfn.IFNA(_xlfn.IFS(Poules!$E$269='Résultat club'!$A13,Poules!$F$269),""))} | BI13: {=IF($A13=0,"",_xlfn.IFNA(_xlfn.IFS(Poules!$E$270='Résultat club'!$A13,Poules!$F$270),""))} | BJ13: {=IF($A13=0,"",_xlfn.IFNA(_xlfn.IFS(Poules!$E$285='Résultat club'!$A13,Poules!$F$285),""))} | BK13: {=IF($A13=0,"",_xlfn.IFNA(_xlfn.IFS(Poules!$E$286='Résultat club'!$A13,Poules!$F$286),""))} | BL13: {=IF($A13=0,"",_xlfn.IFNA(_xlfn.IFS(Poules!$E$287='Résultat club'!$A13,Poules!$F$287),""))} | BM13: {=IF($A13=0,"",_xlfn.IFNA(_xlfn.IFS(Poules!$E$288='Résultat club'!$A13,Poules!$F$288),""))} | BN13: =IF(BP13>2,AVERAGE(LARGE(B13:BJ13,1)+LARGE(B13:BJ13,2)+LARGE(B13:BJ13,3)),0) -> 28 | BO13: =A13 -> PLOUGASNOU | BP13: =COUNTIF('Listes poules triées'!$A$1:$B$60,$A13) -> 4
A14: ='Liste des clubs'!A13 -> ST QUAY PORTRIEUX | B14: {=IF(A14=0,"",_xlfn.IFNA(_xlfn.IFS(Poules!$E$15='Résultat club'!$A14,Poules!$F$15)," "))} | C14: {=IF(A14=0,"",_xlfn.IFNA(_xlfn.IFS(Poules!$E$16='Résultat club'!$A14,Poules!$F$16)," "))} | D14: {=IF(A14=0,"",_xlfn.IFNA(_xlfn.IFS(Poules!$E$17='Résultat club'!$A14,Poules!$F$17)," "))} | E14: {=IF(A14=0,"",_xlfn.IFNA(_xlfn.IFS(Poules!$E$18='Résultat club'!$A14,Poules!$F$18)," "))} | F14: {=IF(A14=0,"",_xlfn.IFNA(_xlfn.IFS(Poules!$E$33='Résultat club'!$A14,Poules!$F$33)," "))} | G14: {=IF(A14=0,"",_xlfn.IFNA(_xlfn.IFS(Poules!$E$34='Résultat club'!$A14,Poules!$F$34)," "))} | H14: {=IF(A14=0,"",_xlfn.IFNA(_xlfn.IFS(Poules!$E$35='Résultat club'!$A14,Poules!$F$35)," "))} | I14: {=IF(A14=0,"",_xlfn.IFNA(_xlfn.IFS(Poules!$E$36='Résultat club'!$A14,Poules!$F$36)," "))} | J14: {=IF(A14=0,"",_xlfn.IFNA(_xlfn.IFS(Poules!$E$51='Résultat club'!$A14,Poules!$F$51)," "))} | K14: {=IF(A14=0,"",_xlfn.IFNA(_xlfn.IFS(Poules!$E$52='Résultat club'!$A14,Poules!$F$52)," "))} | L14: {=IF(A14=0,"",_xlfn.IFNA(_xlfn.IFS(Poules!$E$53='Résultat club'!$A14,Poules!$F$53)," "))} | M14: {=IF(A14=0,"",_xlfn.IFNA(_xlfn.IFS(Poules!$E$54='Résultat club'!$A14,Poules!$F$54)," "))} | N14: {=IF(A14=0,"",_xlfn.IFNA(_xlfn.IFS(Poules!$E$69='Résultat club'!$A14,Poules!$F$69)," "))} | O14: {=IF(A14=0,"",_xlfn.IFNA(_xlfn.IFS(Poules!$E$70='Résultat club'!$A14,Poules!$F$70)," "))} | P14: {=IF(A14=0,"",_xlfn.IFNA(_xlfn.IFS(Poules!$E$71='Résultat club'!$A14,Poules!$F$71)," "))} | Q14: {=IF(A14=0,"",_xlfn.IFNA(_xlfn.IFS(Poules!$E$72='Résultat club'!$A14,Poules!$F$72)," "))} | R14: {=IF(A14=0,"",_xlfn.IFNA(_xlfn.IFS(Poules!$E$87='Résultat club'!$A14,Poules!$F$87)," "))} | S14: {=IF(A14=0,"",_xlfn.IFNA(_xlfn.IFS(Poules!$E$88='Résultat club'!$A14,Poules!$F$88)," "))} | T14: {=IF(A14=0,"",_xlfn.IFNA(_xlfn.IFS(Poules!$E$89='Résultat club'!$A14,Poules!$F$89)," "))} | U14: {=IF(A14=0,"",_xlfn.IFNA(_xlfn.IFS(Poules!$E$90='Résultat club'!$A14,Poules!$F$90)," "))} | V14: {=IF(A14=0,"",_xlfn.IFNA(_xlfn.IFS(Poules!$E$105='Résultat club'!$A14,Poules!$F$105),""))} -> 13 | W14: {=IF(A14=0,"",_xlfn.IFNA(_xlfn.IFS(Poules!$E$106='Résultat club'!$A14,Poules!$F$106),""))} | X14: {=IF(A14=0,"",_xlfn.IFNA(_xlfn.IFS(Poules!$E$107='Résultat club'!$A14,Poules!$F$107),""))} | Y14: {=IF(A14=0,"",_xlfn.IFNA(_xlfn.IFS(Poules!$E$108='Résultat club'!$A14,Poules!$F$108),""))} | Z14: {=IF(A14=0,"",_xlfn.IFNA(_xlfn.IFS(Poules!$E$123='Résultat club'!$A14,Poules!$F$123),""))} | AA14: {=IF(A14=0,"",_xlfn.IFNA(_xlfn.IFS(Poules!$E$124='Résultat club'!$A14,Poules!$F$124),""))} | AB14: {=IF(A14=0,"",_xlfn.IFNA(_xlfn.IFS(Poules!$E$125='Résultat club'!$A14,Poules!$F$125),""))} | AC14: {=IF(A14=0,"",_xlfn.IFNA(_xlfn.IFS(Poules!$E$126='Résultat club'!$A14,Poules!$F$126),""))} | AD14: {=IF(A14=0,"",_xlfn.IFNA(_xlfn.IFS(Poules!$E$141='Résultat club'!$A14,Poules!$F$141),""))} | AE14: {=IF(A14=0,"",_xlfn.IFNA(_xlfn.IFS(Poules!$E$142='Résultat club'!$A14,Poules!$F$142),""))} | AF14: {=IF(A14=0,"",_xlfn.IFNA(_xlfn.IFS(Poules!$E$143='Résultat club'!$A14,Poules!$F$143),""))} | AG14: {=IF(A14=0,"",_xlfn.IFNA(_xlfn.IFS(Poules!$E$144='Résultat club'!$A14,Poules!$F$144),""))} | AH14: {=IF(A14=0,"",_xlfn.IFNA(_xlfn.IFS(Poules!$E$159='Résultat club'!$A14,Poules!$F$159),""))} -> 10 | AI14: {=IF(A14=0,"",_xlfn.IFNA(_xlfn.IFS(Poules!$E$160='Résultat club'!$A14,Poules!$F$160),""))} | AJ14: {=IF(A14=0,"",_xlfn.IFNA(_xlfn.IFS(Poules!$E$161='Résultat club'!$A14,Poules!$F$161),""))} | AK14: {=IF(A14=0,"",_xlfn.IFNA(_xlfn.IFS(Poules!$E$162='Résultat club'!$A14,Poules!$F$162),""))} | AL14: {=IF(A14=0,"",_xlfn.IFNA(_xlfn.IFS(Poules!$E$177='Résultat club'!$A14,Poules!$F$177),""))} | AM14: {=IF(A14=0,"",_xlfn.IFNA(_xlfn.IFS(Poules!$E$178='Résultat club'!$A14,Poules!$F$178),""))} | AN14: {=IF(A14=0,"",_xlfn.IFNA(_xlfn.IFS(Poules!$E$179='Résultat club'!$A14,Poules!$F$179),""))} | AO14: {=IF(A14=0,"",_xlfn.IFNA(_xlfn.IFS(Poules!$E$180='Résultat club'!$A14,Poules!$F$180),""))} | AP14: {=IF(A14=0,"",_xlfn.IFNA(_xlfn.IFS(Poules!$E$195='Résultat club'!$A14,Poules!$F$195),""))} | AQ14: {=IF(A14=0,"",_xlfn.IFNA(_xlfn.IFS(Poules!$E$196='Résultat club'!$A14,Poules!$F$196),""))} | AR14: {=IF(A14=0,"",_xlfn.IFNA(_xlfn.IFS(Poules!$E$197='Résultat club'!$A14,Poules!$F$197),""))} | AS14: {=IF(A14=0,"",_xlfn.IFNA(_xlfn.IFS(Poules!$E$198='Résultat club'!$A14,Poules!$F$198),""))} | AT14: {=IF(A14=0,"",_xlfn.IFNA(_xlfn.IFS(Poules!$E$213='Résultat club'!$A14,Poules!$F$213),""))} | AU14: {=IF(A14=0,"",_xlfn.IFNA(_xlfn.IFS(Poules!$E$214='Résultat club'!$A14,Poules!$F$214),""))} | AV14: {=IF(A14=0,"",_xlfn.IFNA(_xlfn.IFS(Poules!$E$215='Résultat club'!$A14,Poules!$F$215),""))} | AW14: {=IF(A14=0,"",_xlfn.IFNA(_xlfn.IFS(Poules!$E$216='Résultat club'!$A14,Poules!$F$216),""))} | AX14: {=IF(A14=0,"",_xlfn.IFNA(_xlfn.IFS(Poules!$E$231='Résultat club'!$A14,Poules!$F$231),""))} | AY14: {=IF(A14=0,"",_xlfn.IFNA(_xlfn.IFS(Poules!$E$232='Résultat club'!$A14,Poules!$F$232),""))} | AZ14: {=IF(A14=0,"",_xlfn.IFNA(_xlfn.IFS(Poules!$E$233='Résultat club'!$A14,Poules!$F$233),""))} | BA14: {=IF(A14=0,"",_xlfn.IFNA(_xlfn.IFS(Poules!$E$234='Résultat club'!$A14,Poules!$F$234),""))} | BB14: {=IF(A14=0,"",_xlfn.IFNA(_xlfn.IFS(Poules!$E$249='Résultat club'!$A14,Poules!$F$249),""))} | BC14: {=IF(A14=0,"",_xlfn.IFNA(_xlfn.IFS(Poules!$E$250='Résultat club'!$A14,Poules!$F$250),""))} | BD14: {=IF(A14=0,"",_xlfn.IFNA(_xlfn.IFS(Poules!$E$251='Résultat club'!$A14,Poules!$F$251),""))} | BE14: {=IF(A14=0,"",_xlfn.IFNA(_xlfn.IFS(Poules!$E$252='Résultat club'!$A14,Poules!$F$252),""))} | BF14: {=IF(A14=0,"",_xlfn.IFNA(_xlfn.IFS(Poules!$E$267='Résultat club'!$A14,Poules!$F$267),""))} | BG14: {=IF(A14=0,"",_xlfn.IFNA(_xlfn.IFS(Poules!$E$268='Résultat club'!$A14,Poules!$F$268),""))} | BH14: {=IF($A14=0,"",_xlfn.IFNA(_xlfn.IFS(Poules!$E$269='Résultat club'!$A14,Poules!$F$269),""))} | BI14: {=IF($A14=0,"",_xlfn.IFNA(_xlfn.IFS(Poules!$E$270='Résultat club'!$A14,Poules!$F$270),""))} | BJ14: {=IF($A14=0,"",_xlfn.IFNA(_xlfn.IFS(Poules!$E$285='Résultat club'!$A14,Poules!$F$285),""))} | BK14: {=IF($A14=0,"",_xlfn.IFNA(_xlfn.IFS(Poules!$E$286='Résultat club'!$A14,Poules!$F$286),""))} | BL14: {=IF($A14=0,"",_xlfn.IFNA(_xlfn.IFS(Poules!$E$287='Résultat club'!$A14,Poules!$F$287),""))} | BM14: {=IF($A14=0,"",_xlfn.IFNA(_xlfn.IFS(Poules!$E$288='Résultat club'!$A14,Poules!$F$288),""))} | BN14: =IF(BP14>2,AVERAGE(LARGE(B14:BJ14,1)+LARGE(B14:BJ14,2)+LARGE(B14:BJ14,3)),0) -> 0 | BO14: =A14 -> ST QUAY PORTRIEUX | BP14: =COUNTIF('Listes poules triées'!$A$1:$B$60,$A14) -> 2
... A16: ='Liste des clubs'!A15 -> ST RENAN | B16: {=IF(A16=0,"",_xlfn.IFNA(_xlfn.IFS(Poules!$E$15='Résultat club'!$A16,Poules!$F$15)," "))} | C16: {=IF(A16=0,"",_xlfn.IFNA(_xlfn.IFS(Poules!$E$16='Résultat club'!$A16,Poules!$F$16)," "))} | D16: {=IF(A16=0,"",_xlfn.IFNA(_xlfn.IFS(Poules!$E$17='Résultat club'!$A16,Poules!$F$17)," "))} | E16: {=IF(A16=0,"",_xlfn.IFNA(_xlfn.IFS(Poules!$E$18='Résultat club'!$A16,Poules!$F$18)," "))} | F16: {=IF(A16=0,"",_xlfn.IFNA(_xlfn.IFS(Poules!$E$33='Résultat club'!$A16,Poules!$F$33)," "))} | G16: {=IF(A16=0,"",_xlfn.IFNA(_xlfn.IFS(Poules!$E$34='Résultat club'!$A16,Poules!$F$34)," "))} | H16: {=IF(A16=0,"",_xlfn.IFNA(_xlfn.IFS(Poules!$E$35='Résultat club'!$A16,Poules!$F$35)," "))} | I16: {=IF(A16=0,"",_xlfn.IFNA(_xlfn.IFS(Poules!$E$36='Résultat club'!$A16,Poules!$F$36)," "))} | J16: {=IF(A16=0,"",_xlfn.IFNA(_xlfn.IFS(Poules!$E$51='Résultat club'!$A16,Poules!$F$51)," "))} | K16: {=IF(A16=0,"",_xlfn.IFNA(_xlfn.IFS(Poules!$E$52='Résultat club'!$A16,Poules!$F$52)," "))} | L16: {=IF(A16=0,"",_xlfn.IFNA(_xlfn.IFS(Poules!$E$53='Résultat club'!$A16,Poules!$F$53)," "))} | M16: {=IF(A16=0,"",_xlfn.IFNA(_xlfn.IFS(Poules!$E$54='Résultat club'!$A16,Poules!$F$54)," "))} | N16: {=IF(A16=0,"",_xlfn.IFNA(_xlfn.IFS(Poules!$E$69='Résultat club'!$A16,Poules!$F$69)," "))} | O16: {=IF(A16=0,"",_xlfn.IFNA(_xlfn.IFS(Poules!$E$70='Résultat club'!$A16,Poules!$F$70)," "))} | P16: {=IF(A16=0,"",_xlfn.IFNA(_xlfn.IFS(Poules!$E$71='Résultat club'!$A16,Poules!$F$71)," "))} | Q16: {=IF(A16=0,"",_xlfn.IFNA(_xlfn.IFS(Poules!$E$72='Résultat club'!$A16,Poules!$F$72)," "))} | R16: {=IF(A16=0,"",_xlfn.IFNA(_xlfn.IFS(Poules!$E$87='Résultat club'!$A16,Poules!$F$87)," "))} | S16: {=IF(A16=0,"",_xlfn.IFNA(_xlfn.IFS(Poules!$E$88='Résultat club'!$A16,Poules!$F$88)," "))} | T16: {=IF(A16=0,"",_xlfn.IFNA(_xlfn.IFS(Poules!$E$89='Résultat club'!$A16,Poules!$F$89)," "))} | U16: {=IF(A16=0,"",_xlfn.IFNA(_xlfn.IFS(Poules!$E$90='Résultat club'!$A16,Poules!$F$90)," "))} | V16: {=IF(A16=0,"",_xlfn.IFNA(_xlfn.IFS(Poules!$E$105='Résultat club'!$A16,Poules!$F$105),""))} | W16: {=IF(A16=0,"",_xlfn.IFNA(_xlfn.IFS(Poules!$E$106='Résultat club'!$A16,Poules!$F$106),""))} | X16: {=IF(A16=0,"",_xlfn.IFNA(_xlfn.IFS(Poules!$E$107='Résultat club'!$A16,Poules!$F$107),""))} | Y16: {=IF(A16=0,"",_xlfn.IFNA(_xlfn.IFS(Poules!$E$108='Résultat club'!$A16,Poules!$F$108),""))} | Z16: {=IF(A16=0,"",_xlfn.IFNA(_xlfn.IFS(Poules!$E$123='Résultat club'!$A16,Poules!$F$123),""))} | AA16: {=IF(A16=0,"",_xlfn.IFNA(_xlfn.IFS(Poules!$E$124='Résultat club'!$A16,Poules!$F$124),""))} | AB16: {=IF(A16=0,"",_xlfn.IFNA(_xlfn.IFS(Poules!$E$125='Résultat club'!$A16,Poules!$F$125),""))} | AC16: {=IF(A16=0,"",_xlfn.IFNA(_xlfn.IFS(Poules!$E$126='Résultat club'!$A16,Poules!$F$126),""))} | AD16: {=IF(A16=0,"",_xlfn.IFNA(_xlfn.IFS(Poules!$E$141='Résultat club'!$A16,Poules!$F$141),""))} | AE16: {=IF(A16=0,"",_xlfn.IFNA(_xlfn.IFS(Poules!$E$142='Résultat club'!$A16,Poules!$F$142),""))} | AF16: {=IF(A16=0,"",_xlfn.IFNA(_xlfn.IFS(Poules!$E$143='Résultat club'!$A16,Poules!$F$143),""))} | AG16: {=IF(A16=0,"",_xlfn.IFNA(_xlfn.IFS(Poules!$E$144='Résultat club'!$A16,Poules!$F$144),""))} | AH16: {=IF(A16=0,"",_xlfn.IFNA(_xlfn.IFS(Poules!$E$159='Résultat club'!$A16,Poules!$F$159),""))} | AI16: {=IF(A16=0,"",_xlfn.IFNA(_xlfn.IFS(Poules!$E$160='Résultat club'!$A16,Poules!$F$160),""))} | AJ16: {=IF(A16=0,"",_xlfn.IFNA(_xlfn.IFS(Poules!$E$161='Résultat club'!$A16,Poules!$F$161),""))} | AK16: {=IF(A16=0,"",_xlfn.IFNA(_xlfn.IFS(Poules!$E$162='Résultat club'!$A16,Poules!$F$162),""))} | AL16: {=IF(A16=0,"",_xlfn.IFNA(_xlfn.IFS(Poules!$E$177='Résultat club'!$A16,Poules!$F$177),""))} -> 9 | AM16: {=IF(A16=0,"",_xlfn.IFNA(_xlfn.IFS(Poules!$E$178='Résultat club'!$A16,Poules!$F$178),""))} | AN16: {=IF(A16=0,"",_xlfn.IFNA(_xlfn.IFS(Poules!$E$179='Résultat club'!$A16,Poules!$F$179),""))} | AO16: {=IF(A16=0,"",_xlfn.IFNA(_xlfn.IFS(Poules!$E$180='Résultat club'!$A16,Poules!$F$180),""))} | AP16: {=IF(A16=0,"",_xlfn.IFNA(_xlfn.IFS(Poules!$E$195='Résultat club'!$A16,Poules!$F$195),""))} -> 8 | AQ16: {=IF(A16=0,"",_xlfn.IFNA(_xlfn.IFS(Poules!$E$196='Résultat club'!$A16,Poules!$F$196),""))} | AR16: {=IF(A16=0,"",_xlfn.IFNA(_xlfn.IFS(Poules!$E$197='Résultat club'!$A16,Poules!$F$197),""))} | AS16: {=IF(A16=0,"",_xlfn.IFNA(_xlfn.IFS(Poules!$E$198='Résultat club'!$A16,Poules!$F$198),""))} | AT16: {=IF(A16=0,"",_xlfn.IFNA(_xlfn.IFS(Poules!$E$213='Résultat club'!$A16,Poules!$F$213),""))} -> 7 | AU16: {=IF(A16=0,"",_xlfn.IFNA(_xlfn.IFS(Poules!$E$214='Résultat club'!$A16,Poules!$F$214),""))} | AV16: {=IF(A16=0,"",_xlfn.IFNA(_xlfn.IFS(Poules!$E$215='Résultat club'!$A16,Poules!$F$215),""))} | AW16: {=IF(A16=0,"",_xlfn.IFNA(_xlfn.IFS(Poules!$E$216='Résultat club'!$A16,Poules!$F$216),""))} | AX16: {=IF(A16=0,"",_xlfn.IFNA(_xlfn.IFS(Poules!$E$231='Résultat club'!$A16,Poules!$F$231),""))} -> 6 | AY16: {=IF(A16=0,"",_xlfn.IFNA(_xlfn.IFS(Poules!$E$232='Résultat club'!$A16,Poules!$F$232),""))} | AZ16: {=IF(A16=0,"",_xlfn.IFNA(_xlfn.IFS(Poules!$E$233='Résultat club'!$A16,Poules!$F$233),""))} | BA16: {=IF(A16=0,"",_xlfn.IFNA(_xlfn.IFS(Poules!$E$234='Résultat club'!$A16,Poules!$F$234),""))} | BB16: {=IF(A16=0,"",_xlfn.IFNA(_xlfn.IFS(Poules!$E$249='Résultat club'!$A16,Poules!$F$249),""))} | BC16: {=IF(A16=0,"",_xlfn.IFNA(_xlfn.IFS(Poules!$E$250='Résultat club'!$A16,Poules!$F$250),""))} | BD16: {=IF(A16=0,"",_xlfn.IFNA(_xlfn.IFS(Poules!$E$251='Résultat club'!$A16,Poules!$F$251),""))} | BE16: {=IF(A16=0,"",_xlfn.IFNA(_xlfn.IFS(Poules!$E$252='Résultat club'!$A16,Poules!$F$252),""))} | BF16: {=IF(A16=0,"",_xlfn.IFNA(_xlfn.IFS(Poules!$E$267='Résultat club'!$A16,Poules!$F$267),""))} | BG16: {=IF(A16=0,"",_xlfn.IFNA(_xlfn.IFS(Poules!$E$268='Résultat club'!$A16,Poules!$F$268),""))} | BH16: {=IF($A16=0,"",_xlfn.IFNA(_xlfn.IFS(Poules!$E$269='Résultat club'!$A16,Poules!$F$269),""))} | BI16: {=IF($A16=0,"",_xlfn.IFNA(_xlfn.IFS(Poules!$E$270='Résultat club'!$A16,Poules!$F$270),""))} | BJ16: {=IF($A16=0,"",_xlfn.IFNA(_xlfn.IFS(Poules!$E$285='Résultat club'!$A16,Poules!$F$285),""))} | BK16: {=IF($A16=0,"",_xlfn.IFNA(_xlfn.IFS(Poules!$E$286='Résultat club'!$A16,Poules!$F$286),""))} | BL16: {=IF($A16=0,"",_xlfn.IFNA(_xlfn.IFS(Poules!$E$287='Résultat club'!$A16,Poules!$F$287),""))} | BM16: {=IF($A16=0,"",_xlfn.IFNA(_xlfn.IFS(Poules!$E$288='Résultat club'!$A16,Poules!$F$288),""))} | BN16: =IF(BP16>2,AVERAGE(LARGE(B16:BJ16,1)+LARGE(B16:BJ16,2)+LARGE(B16:BJ16,3)),0) -> 24 | BO16: =A16 -> ST RENAN | BP16: =COUNTIF('Listes poules triées'!$A$1:$B$60,$A16) -> 4
B17: {=IF(A17=0,"",_xlfn.IFNA(_xlfn.IFS(Poules!$E$15='Résultat club'!$A17,Poules!$F$15)," "))} | C17: {=IF(A17=0,"",_xlfn.IFNA(_xlfn.IFS(Poules!$E$16='Résultat club'!$A17,Poules!$F$16)," "))} | D17: {=IF(A17=0,"",_xlfn.IFNA(_xlfn.IFS(Poules!$E$17='Résultat club'!$A17,Poules!$F$17)," "))} | E17: {=IF(A17=0,"",_xlfn.IFNA(_xlfn.IFS(Poules!$E$18='Résultat club'!$A17,Poules!$F$18)," "))} | F17: {=IF(A17=0,"",_xlfn.IFNA(_xlfn.IFS(Poules!$E$33='Résultat club'!$A17,Poules!$F$33)," "))} | G17: {=IF(A17=0,"",_xlfn.IFNA(_xlfn.IFS(Poules!$E$34='Résultat club'!$A17,Poules!$F$34)," "))} | H17: {=IF(A17=0,"",_xlfn.IFNA(_xlfn.IFS(Poules!$E$35='Résultat club'!$A17,Poules!$F$35)," "))} | I17: {=IF(A17=0,"",_xlfn.IFNA(_xlfn.IFS(Poules!$E$36='Résultat club'!$A17,Poules!$F$36)," "))} | J17: {=IF(A17=0,"",_xlfn.IFNA(_xlfn.IFS(Poules!$E$51='Résultat club'!$A17,Poules!$F$51)," "))} | K17: {=IF(A17=0,"",_xlfn.IFNA(_xlfn.IFS(Poules!$E$52='Résultat club'!$A17,Poules!$F$52)," "))} | L17: {=IF(A17=0,"",_xlfn.IFNA(_xlfn.IFS(Poules!$E$53='Résultat club'!$A17,Poules!$F$53)," "))} | M17: {=IF(A17=0,"",_xlfn.IFNA(_xlfn.IFS(Poules!$E$54='Résultat club'!$A17,Poules!$F$54)," "))} | N17: {=IF(A17=0,"",_xlfn.IFNA(_xlfn.IFS(Poules!$E$69='Résultat club'!$A17,Poules!$F$69)," "))} | O17: {=IF(A17=0,"",_xlfn.IFNA(_xlfn.IFS(Poules!$E$70='Résultat club'!$A17,Poules!$F$70)," "))} | P17: {=IF(A17=0,"",_xlfn.IFNA(_xlfn.IFS(Poules!$E$71='Résultat club'!$A17,Poules!$F$71)," "))} | Q17: {=IF(A17=0,"",_xlfn.IFNA(_xlfn.IFS(Poules!$E$72='Résultat club'!$A17,Poules!$F$72)," "))} | R17: {=IF(A17=0,"",_xlfn.IFNA(_xlfn.IFS(Poules!$E$87='Résultat club'!$A17,Poules!$F$87)," "))} | S17: {=IF(A17=0,"",_xlfn.IFNA(_xlfn.IFS(Poules!$E$88='Résultat club'!$A17,Poules!$F$88)," "))} | T17: {=IF(A17=0,"",_xlfn.IFNA(_xlfn.IFS(Poules!$E$89='Résultat club'!$A17,Poules!$F$89)," "))} | U17: {=IF(A17=0,"",_xlfn.IFNA(_xlfn.IFS(Poules!$E$90='Résultat club'!$A17,Poules!$F$90)," "))} | V17: {=IF(A17=0,"",_xlfn.IFNA(_xlfn.IFS(Poules!$E$105='Résultat club'!$A17,Poules!$F$105),""))} | W17: {=IF(A17=0,"",_xlfn.IFNA(_xlfn.IFS(Poules!$E$106='Résultat club'!$A17,Poules!$F$106),""))} | X17: {=IF(A17=0,"",_xlfn.IFNA(_xlfn.IFS(Poules!$E$107='Résultat club'!$A17,Poules!$F$107),""))} | Y17: {=IF(A17=0,"",_xlfn.IFNA(_xlfn.IFS(Poules!$E$108='Résultat club'!$A17,Poules!$F$108),""))} | Z17: {=IF(A17=0,"",_xlfn.IFNA(_xlfn.IFS(Poules!$E$123='Résultat club'!$A17,Poules!$F$123),""))} | AA17: {=IF(A17=0,"",_xlfn.IFNA(_xlfn.IFS(Poules!$E$124='Résultat club'!$A17,Poules!$F$124),""))} | AB17: {=IF(A17=0,"",_xlfn.IFNA(_xlfn.IFS(Poules!$E$125='Résultat club'!$A17,Poules!$F$125),""))} | AC17: {=IF(A17=0,"",_xlfn.IFNA(_xlfn.IFS(Poules!$E$126='Résultat club'!$A17,Poules!$F$126),""))} | AD17: {=IF(A17=0,"",_xlfn.IFNA(_xlfn.IFS(Poules!$E$141='Résultat club'!$A17,Poules!$F$141),""))} | AE17: {=IF(A17=0,"",_xlfn.IFNA(_xlfn.IFS(Poules!$E$142='Résultat club'!$A17,Poules!$F$142),""))} | AF17: {=IF(A17=0,"",_xlfn.IFNA(_xlfn.IFS(Poules!$E$143='Résultat club'!$A17,Poules!$F$143),""))} | AG17: {=IF(A17=0,"",_xlfn.IFNA(_xlfn.IFS(Poules!$E$144='Résultat club'!$A17,Poules!$F$144),""))} | AH17: {=IF(A17=0,"",_xlfn.IFNA(_xlfn.IFS(Poules!$E$159='Résultat club'!$A17,Poules!$F$159),""))} | AI17: {=IF(A17=0,"",_xlfn.IFNA(_xlfn.IFS(Poules!$E$160='Résultat club'!$A17,Poules!$F$160),""))} | AJ17: {=IF(A17=0,"",_xlfn.IFNA(_xlfn.IFS(Poules!$E$161='Résultat club'!$A17,Poules!$F$161),""))} | AK17: {=IF(A17=0,"",_xlfn.IFNA(_xlfn.IFS(Poules!$E$162='Résultat club'!$A17,Poules!$F$162),""))} | AL17: {=IF(A17=0,"",_xlfn.IFNA(_xlfn.IFS(Poules!$E$177='Résultat club'!$A17,Poules!$F$177),""))} | AM17: {=IF(A17=0,"",_xlfn.IFNA(_xlfn.IFS(Poules!$E$178='Résultat club'!$A17,Poules!$F$178),""))} | AN17: {=IF(A17=0,"",_xlfn.IFNA(_xlfn.IFS(Poules!$E$179='Résultat club'!$A17,Poules!$F$179),""))} | AO17: {=IF(A17=0,"",_xlfn.IFNA(_xlfn.IFS(Poules!$E$180='Résultat club'!$A17,Poules!$F$180),""))} | AP17: {=IF(A17=0,"",_xlfn.IFNA(_xlfn.IFS(Poules!$E$195='Résultat club'!$A17,Poules!$F$195),""))} | AQ17: {=IF(A17=0,"",_xlfn.IFNA(_xlfn.IFS(Poules!$E$196='Résultat club'!$A17,Poules!$F$196),""))} | AR17: {=IF(A17=0,"",_xlfn.IFNA(_xlfn.IFS(Poules!$E$197='Résultat club'!$A17,Poules!$F$197),""))} | AS17: {=IF(A17=0,"",_xlfn.IFNA(_xlfn.IFS(Poules!$E$198='Résultat club'!$A17,Poules!$F$198),""))} | AT17: {=IF(A17=0,"",_xlfn.IFNA(_xlfn.IFS(Poules!$E$213='Résultat club'!$A17,Poules!$F$213),""))} | AU17: {=IF(A17=0,"",_xlfn.IFNA(_xlfn.IFS(Poules!$E$214='Résultat club'!$A17,Poules!$F$214),""))} | AV17: {=IF(A17=0,"",_xlfn.IFNA(_xlfn.IFS(Poules!$E$215='Résultat club'!$A17,Poules!$F$215),""))} | AW17: {=IF(A17=0,"",_xlfn.IFNA(_xlfn.IFS(Poules!$E$216='Résultat club'!$A17,Poules!$F$216),""))} | AX17: {=IF(A17=0,"",_xlfn.IFNA(_xlfn.IFS(Poules!$E$231='Résultat club'!$A17,Poules!$F$231),""))} | AY17: {=IF(A17=0,"",_xlfn.IFNA(_xlfn.IFS(Poules!$E$232='Résultat club'!$A17,Poules!$F$232),""))} | AZ17: {=IF(A17=0,"",_xlfn.IFNA(_xlfn.IFS(Poules!$E$233='Résultat club'!$A17,Poules!$F$233),""))} | BA17: {=IF(A17=0,"",_xlfn.IFNA(_xlfn.IFS(Poules!$E$234='Résultat club'!$A17,Poules!$F$234),""))} | BB17: {=IF(A17=0,"",_xlfn.IFNA(_xlfn.IFS(Poules!$E$249='Résultat club'!$A17,Poules!$F$249),""))} | BC17: {=IF(A17=0,"",_xlfn.IFNA(_xlfn.IFS(Poules!$E$250='Résultat club'!$A17,Poules!$F$250),""))} | BD17: {=IF(A17=0,"",_xlfn.IFNA(_xlfn.IFS(Poules!$E$251='Résultat club'!$A17,Poules!$F$251),""))} | BE17: {=IF(A17=0,"",_xlfn.IFNA(_xlfn.IFS(Poules!$E$252='Résultat club'!$A17,Poules!$F$252),""))} | BF17: {=IF(A17=0,"",_xlfn.IFNA(_xlfn.IFS(Poules!$E$267='Résultat club'!$A17,Poules!$F$267),""))} | BG17: {=IF(A17=0,"",_xlfn.IFNA(_xlfn.IFS(Poules!$E$268='Résultat club'!$A17,Poules!$F$268),""))} | BH17: {=IF($A17=0,"",_xlfn.IFNA(_xlfn.IFS(Poules!$E$269='Résultat club'!$A17,Poules!$F$269),""))} | BI17: {=IF($A17=0,"",_xlfn.IFNA(_xlfn.IFS(Poules!$E$270='Résultat club'!$A17,Poules!$F$270),""))} | BJ17: {=IF($A17=0,"",_xlfn.IFNA(_xlfn.IFS(Poules!$E$285='Résultat club'!$A17,Poules!$F$285),""))} | BK17: {=IF($A17=0,"",_xlfn.IFNA(_xlfn.IFS(Poules!$E$286='Résultat club'!$A17,Poules!$F$286),""))} | BL17: {=IF($A17=0,"",_xlfn.IFNA(_xlfn.IFS(Poules!$E$287='Résultat club'!$A17,Poules!$F$287),""))} | BM17: {=IF($A17=0,"",_xlfn.IFNA(_xlfn.IFS(Poules!$E$288='Résultat club'!$A17,Poules!$F$288),""))} | BO17: =A17 -> 0 | BP17: =COUNTIF('Listes poules triées'!$A$1:$B$60,$A17) -> 0
B18: {=IF(A18=0,"",_xlfn.IFNA(_xlfn.IFS(Poules!$E$15='Résultat club'!$A18,Poules!$F$15)," "))} | C18: {=IF(A18=0,"",_xlfn.IFNA(_xlfn.IFS(Poules!$E$16='Résultat club'!$A18,Poules!$F$16)," "))} | D18: {=IF(A18=0,"",_xlfn.IFNA(_xlfn.IFS(Poules!$E$17='Résultat club'!$A18,Poules!$F$17)," "))} | E18: {=IF(A18=0,"",_xlfn.IFNA(_xlfn.IFS(Poules!$E$18='Résultat club'!$A18,Poules!$F$18)," "))} | F18: {=IF(A18=0,"",_xlfn.IFNA(_xlfn.IFS(Poules!$E$33='Résultat club'!$A18,Poules!$F$33)," "))} | G18: {=IF(A18=0,"",_xlfn.IFNA(_xlfn.IFS(Poules!$E$34='Résultat club'!$A18,Poules!$F$34)," "))} | H18: {=IF(A18=0,"",_xlfn.IFNA(_xlfn.IFS(Poules!$E$35='Résultat club'!$A18,Poules!$F$35)," "))} | I18: {=IF(A18=0,"",_xlfn.IFNA(_xlfn.IFS(Poules!$E$36='Résultat club'!$A18,Poules!$F$36)," "))} | J18: {=IF(A18=0,"",_xlfn.IFNA(_xlfn.IFS(Poules!$E$51='Résultat club'!$A18,Poules!$F$51)," "))} | K18: {=IF(A18=0,"",_xlfn.IFNA(_xlfn.IFS(Poules!$E$52='Résultat club'!$A18,Poules!$F$52)," "))} | L18: {=IF(A18=0,"",_xlfn.IFNA(_xlfn.IFS(Poules!$E$53='Résultat club'!$A18,Poules!$F$53)," "))} | M18: {=IF(A18=0,"",_xlfn.IFNA(_xlfn.IFS(Poules!$E$54='Résultat club'!$A18,Poules!$F$54)," "))} | N18: {=IF(A18=0,"",_xlfn.IFNA(_xlfn.IFS(Poules!$E$69='Résultat club'!$A18,Poules!$F$69)," "))} | O18: {=IF(A18=0,"",_xlfn.IFNA(_xlfn.IFS(Poules!$E$70='Résultat club'!$A18,Poules!$F$70)," "))} | P18: {=IF(A18=0,"",_xlfn.IFNA(_xlfn.IFS(Poules!$E$71='Résultat club'!$A18,Poules!$F$71)," "))} | Q18: {=IF(A18=0,"",_xlfn.IFNA(_xlfn.IFS(Poules!$E$72='Résultat club'!$A18,Poules!$F$72)," "))} | R18: {=IF(A18=0,"",_xlfn.IFNA(_xlfn.IFS(Poules!$E$87='Résultat club'!$A18,Poules!$F$87)," "))} | S18: {=IF(A18=0,"",_xlfn.IFNA(_xlfn.IFS(Poules!$E$88='Résultat club'!$A18,Poules!$F$88)," "))} | T18: {=IF(A18=0,"",_xlfn.IFNA(_xlfn.IFS(Poules!$E$89='Résultat club'!$A18,Poules!$F$89)," "))} | U18: {=IF(A18=0,"",_xlfn.IFNA(_xlfn.IFS(Poules!$E$90='Résultat club'!$A18,Poules!$F$90)," "))} | V18: {=IF(A18=0,"",_xlfn.IFNA(_xlfn.IFS(Poules!$E$105='Résultat club'!$A18,Poules!$F$105),""))} | W18: {=IF(A18=0,"",_xlfn.IFNA(_xlfn.IFS(Poules!$E$106='Résultat club'!$A18,Poules!$F$106),""))} | X18: {=IF(A18=0,"",_xlfn.IFNA(_xlfn.IFS(Poules!$E$107='Résultat club'!$A18,Poules!$F$107),""))} | Y18: {=IF(A18=0,"",_xlfn.IFNA(_xlfn.IFS(Poules!$E$108='Résultat club'!$A18,Poules!$F$108),""))} | Z18: {=IF(A18=0,"",_xlfn.IFNA(_xlfn.IFS(Poules!$E$123='Résultat club'!$A18,Poules!$F$123),""))} | AA18: {=IF(A18=0,"",_xlfn.IFNA(_xlfn.IFS(Poules!$E$124='Résultat club'!$A18,Poules!$F$124),""))} | AB18: {=IF(A18=0,"",_xlfn.IFNA(_xlfn.IFS(Poules!$E$125='Résultat club'!$A18,Poules!$F$125),""))} | AC18: {=IF(A18=0,"",_xlfn.IFNA(_xlfn.IFS(Poules!$E$126='Résultat club'!$A18,Poules!$F$126),""))} | AD18: {=IF(A18=0,"",_xlfn.IFNA(_xlfn.IFS(Poules!$E$141='Résultat club'!$A18,Poules!$F$141),""))} | AE18: {=IF(A18=0,"",_xlfn.IFNA(_xlfn.IFS(Poules!$E$142='Résultat club'!$A18,Poules!$F$142),""))} | AF18: {=IF(A18=0,"",_xlfn.IFNA(_xlfn.IFS(Poules!$E$143='Résultat club'!$A18,Poules!$F$143),""))} | AG18: {=IF(A18=0,"",_xlfn.IFNA(_xlfn.IFS(Poules!$E$144='Résultat club'!$A18,Poules!$F$144),""))} | AH18: {=IF(A18=0,"",_xlfn.IFNA(_xlfn.IFS(Poules!$E$159='Résultat club'!$A18,Poules!$F$159),""))} | AI18: {=IF(A18=0,"",_xlfn.IFNA(_xlfn.IFS(Poules!$E$160='Résultat club'!$A18,Poules!$F$160),""))} | AJ18: {=IF(A18=0,"",_xlfn.IFNA(_xlfn.IFS(Poules!$E$161='Résultat club'!$A18,Poules!$F$161),""))} | AK18: {=IF(A18=0,"",_xlfn.IFNA(_xlfn.IFS(Poules!$E$162='Résultat club'!$A18,Poules!$F$162),""))} | AL18: {=IF(A18=0,"",_xlfn.IFNA(_xlfn.IFS(Poules!$E$177='Résultat club'!$A18,Poules!$F$177),""))} | AM18: {=IF(A18=0,"",_xlfn.IFNA(_xlfn.IFS(Poules!$E$178='Résultat club'!$A18,Poules!$F$178),""))} | AN18: {=IF(A18=0,"",_xlfn.IFNA(_xlfn.IFS(Poules!$E$179='Résultat club'!$A18,Poules!$F$179),""))} | AO18: {=IF(A18=0,"",_xlfn.IFNA(_xlfn.IFS(Poules!$E$180='Résultat club'!$A18,Poules!$F$180),""))} | AP18: {=IF(A18=0,"",_xlfn.IFNA(_xlfn.IFS(Poules!$E$195='Résultat club'!$A18,Poules!$F$195),""))} | AQ18: {=IF(A18=0,"",_xlfn.IFNA(_xlfn.IFS(Poules!$E$196='Résultat club'!$A18,Poules!$F$196),""))} | AR18: {=IF(A18=0,"",_xlfn.IFNA(_xlfn.IFS(Poules!$E$197='Résultat club'!$A18,Poules!$F$197),""))} | AS18: {=IF(A18=0,"",_xlfn.IFNA(_xlfn.IFS(Poules!$E$198='Résultat club'!$A18,Poules!$F$198),""))} | AT18: {=IF(A18=0,"",_xlfn.IFNA(_xlfn.IFS(Poules!$E$213='Résultat club'!$A18,Poules!$F$213),""))} | AU18: {=IF(A18=0,"",_xlfn.IFNA(_xlfn.IFS(Poules!$E$214='Résultat club'!$A18,Poules!$F$214),""))} | AV18: {=IF(A18=0,"",_xlfn.IFNA(_xlfn.IFS(Poules!$E$215='Résultat club'!$A18,Poules!$F$215),""))} | AW18: {=IF(A18=0,"",_xlfn.IFNA(_xlfn.IFS(Poules!$E$216='Résultat club'!$A18,Poules!$F$216),""))} | AX18: {=IF(A18=0,"",_xlfn.IFNA(_xlfn.IFS(Poules!$E$231='Résultat club'!$A18,Poules!$F$231),""))} | AY18: {=IF(A18=0,"",_xlfn.IFNA(_xlfn.IFS(Poules!$E$232='Résultat club'!$A18,Poules!$F$232),""))} | AZ18: {=IF(A18=0,"",_xlfn.IFNA(_xlfn.IFS(Poules!$E$233='Résultat club'!$A18,Poules!$F$233),""))} | BA18: {=IF(A18=0,"",_xlfn.IFNA(_xlfn.IFS(Poules!$E$234='Résultat club'!$A18,Poules!$F$234),""))} | BB18: {=IF(A18=0,"",_xlfn.IFNA(_xlfn.IFS(Poules!$E$249='Résultat club'!$A18,Poules!$F$249),""))} | BC18: {=IF(A18=0,"",_xlfn.IFNA(_xlfn.IFS(Poules!$E$250='Résultat club'!$A18,Poules!$F$250),""))} | BD18: {=IF(A18=0,"",_xlfn.IFNA(_xlfn.IFS(Poules!$E$251='Résultat club'!$A18,Poules!$F$251),""))} | BE18: {=IF(A18=0,"",_xlfn.IFNA(_xlfn.IFS(Poules!$E$252='Résultat club'!$A18,Poules!$F$252),""))} | BF18: {=IF(A18=0,"",_xlfn.IFNA(_xlfn.IFS(Poules!$E$267='Résultat club'!$A18,Poules!$F$267),""))} | BG18: {=IF(A18=0,"",_xlfn.IFNA(_xlfn.IFS(Poules!$E$268='Résultat club'!$A18,Poules!$F$268),""))} | BH18: {=IF($A18=0,"",_xlfn.IFNA(_xlfn.IFS(Poules!$E$269='Résultat club'!$A18,Poules!$F$269),""))} | BI18: {=IF($A18=0,"",_xlfn.IFNA(_xlfn.IFS(Poules!$E$270='Résultat club'!$A18,Poules!$F$270),""))} | BJ18: {=IF($A18=0,"",_xlfn.IFNA(_xlfn.IFS(Poules!$E$285='Résultat club'!$A18,Poules!$F$285),""))} | BK18: {=IF($A18=0,"",_xlfn.IFNA(_xlfn.IFS(Poules!$E$286='Résultat club'!$A18,Poules!$F$286),""))} | BL18: {=IF($A18=0,"",_xlfn.IFNA(_xlfn.IFS(Poules!$E$287='Résultat club'!$A18,Poules!$F$287),""))} | BM18: {=IF($A18=0,"",_xlfn.IFNA(_xlfn.IFS(Poules!$E$288='Résultat club'!$A18,Poules!$F$288),""))} | BO18: =A18 -> 0 | BP18: =COUNTIF('Listes poules triées'!$A$1:$B$60,$A18) -> 0
B19: {=IF(A19=0,"",_xlfn.IFNA(_xlfn.IFS(Poules!$E$15='Résultat club'!$A19,Poules!$F$15)," "))} | C19: {=IF(A19=0,"",_xlfn.IFNA(_xlfn.IFS(Poules!$E$16='Résultat club'!$A19,Poules!$F$16)," "))} | D19: {=IF(A19=0,"",_xlfn.IFNA(_xlfn.IFS(Poules!$E$17='Résultat club'!$A19,Poules!$F$17)," "))} | E19: {=IF(A19=0,"",_xlfn.IFNA(_xlfn.IFS(Poules!$E$18='Résultat club'!$A19,Poules!$F$18)," "))} | F19: {=IF(A19=0,"",_xlfn.IFNA(_xlfn.IFS(Poules!$E$33='Résultat club'!$A19,Poules!$F$33)," "))} | G19: {=IF(A19=0,"",_xlfn.IFNA(_xlfn.IFS(Poules!$E$34='Résultat club'!$A19,Poules!$F$34)," "))} | H19: {=IF(A19=0,"",_xlfn.IFNA(_xlfn.IFS(Poules!$E$35='Résultat club'!$A19,Poules!$F$35)," "))} | I19: {=IF(A19=0,"",_xlfn.IFNA(_xlfn.IFS(Poules!$E$36='Résultat club'!$A19,Poules!$F$36)," "))} | J19: {=IF(A19=0,"",_xlfn.IFNA(_xlfn.IFS(Poules!$E$51='Résultat club'!$A19,Poules!$F$51)," "))} | K19: {=IF(A19=0,"",_xlfn.IFNA(_xlfn.IFS(Poules!$E$52='Résultat club'!$A19,Poules!$F$52)," "))} | L19: {=IF(A19=0,"",_xlfn.IFNA(_xlfn.IFS(Poules!$E$53='Résultat club'!$A19,Poules!$F$53)," "))} | M19: {=IF(A19=0,"",_xlfn.IFNA(_xlfn.IFS(Poules!$E$54='Résultat club'!$A19,Poules!$F$54)," "))} | N19: {=IF(A19=0,"",_xlfn.IFNA(_xlfn.IFS(Poules!$E$69='Résultat club'!$A19,Poules!$F$69)," "))} | O19: {=IF(A19=0,"",_xlfn.IFNA(_xlfn.IFS(Poules!$E$70='Résultat club'!$A19,Poules!$F$70)," "))} | P19: {=IF(A19=0,"",_xlfn.IFNA(_xlfn.IFS(Poules!$E$71='Résultat club'!$A19,Poules!$F$71)," "))} | Q19: {=IF(A19=0,"",_xlfn.IFNA(_xlfn.IFS(Poules!$E$72='Résultat club'!$A19,Poules!$F$72)," "))} | R19: {=IF(A19=0,"",_xlfn.IFNA(_xlfn.IFS(Poules!$E$87='Résultat club'!$A19,Poules!$F$87)," "))} | S19: {=IF(A19=0,"",_xlfn.IFNA(_xlfn.IFS(Poules!$E$88='Résultat club'!$A19,Poules!$F$88)," "))} | T19: {=IF(A19=0,"",_xlfn.IFNA(_xlfn.IFS(Poules!$E$89='Résultat club'!$A19,Poules!$F$89)," "))} | U19: {=IF(A19=0,"",_xlfn.IFNA(_xlfn.IFS(Poules!$E$90='Résultat club'!$A19,Poules!$F$90)," "))} | V19: {=IF(A19=0,"",_xlfn.IFNA(_xlfn.IFS(Poules!$E$105='Résultat club'!$A19,Poules!$F$105),""))} | W19: {=IF(A19=0,"",_xlfn.IFNA(_xlfn.IFS(Poules!$E$106='Résultat club'!$A19,Poules!$F$106),""))} | X19: {=IF(A19=0,"",_xlfn.IFNA(_xlfn.IFS(Poules!$E$107='Résultat club'!$A19,Poules!$F$107),""))} | Y19: {=IF(A19=0,"",_xlfn.IFNA(_xlfn.IFS(Poules!$E$108='Résultat club'!$A19,Poules!$F$108),""))} | Z19: {=IF(A19=0,"",_xlfn.IFNA(_xlfn.IFS(Poules!$E$123='Résultat club'!$A19,Poules!$F$123),""))} | AA19: {=IF(A19=0,"",_xlfn.IFNA(_xlfn.IFS(Poules!$E$124='Résultat club'!$A19,Poules!$F$124),""))} | AB19: {=IF(A19=0,"",_xlfn.IFNA(_xlfn.IFS(Poules!$E$125='Résultat club'!$A19,Poules!$F$125),""))} | AC19: {=IF(A19=0,"",_xlfn.IFNA(_xlfn.IFS(Poules!$E$126='Résultat club'!$A19,Poules!$F$126),""))} | AD19: {=IF(A19=0,"",_xlfn.IFNA(_xlfn.IFS(Poules!$E$141='Résultat club'!$A19,Poules!$F$141),""))} | AE19: {=IF(A19=0,"",_xlfn.IFNA(_xlfn.IFS(Poules!$E$142='Résultat club'!$A19,Poules!$F$142),""))} | AF19: {=IF(A19=0,"",_xlfn.IFNA(_xlfn.IFS(Poules!$E$143='Résultat club'!$A19,Poules!$F$143),""))} | AG19: {=IF(A19=0,"",_xlfn.IFNA(_xlfn.IFS(Poules!$E$144='Résultat club'!$A19,Poules!$F$144),""))} | AH19: {=IF(A19=0,"",_xlfn.IFNA(_xlfn.IFS(Poules!$E$159='Résultat club'!$A19,Poules!$F$159),""))} | AI19: {=IF(A19=0,"",_xlfn.IFNA(_xlfn.IFS(Poules!$E$160='Résultat club'!$A19,Poules!$F$160),""))} | AJ19: {=IF(A19=0,"",_xlfn.IFNA(_xlfn.IFS(Poules!$E$161='Résultat club'!$A19,Poules!$F$161),""))} | AK19: {=IF(A19=0,"",_xlfn.IFNA(_xlfn.IFS(Poules!$E$162='Résultat club'!$A19,Poules!$F$162),""))} | AL19: {=IF(A19=0,"",_xlfn.IFNA(_xlfn.IFS(Poules!$E$177='Résultat club'!$A19,Poules!$F$177),""))} | AM19: {=IF(A19=0,"",_xlfn.IFNA(_xlfn.IFS(Poules!$E$178='Résultat club'!$A19,Poules!$F$178),""))} | AN19: {=IF(A19=0,"",_xlfn.IFNA(_xlfn.IFS(Poules!$E$179='Résultat club'!$A19,Poules!$F$179),""))} | AO19: {=IF(A19=0,"",_xlfn.IFNA(_xlfn.IFS(Poules!$E$180='Résultat club'!$A19,Poules!$F$180),""))} | AP19: {=IF(A19=0,"",_xlfn.IFNA(_xlfn.IFS(Poules!$E$195='Résultat club'!$A19,Poules!$F$195),""))} | AQ19: {=IF(A19=0,"",_xlfn.IFNA(_xlfn.IFS(Poules!$E$196='Résultat club'!$A19,Poules!$F$196),""))} | AR19: {=IF(A19=0,"",_xlfn.IFNA(_xlfn.IFS(Poules!$E$197='Résultat club'!$A19,Poules!$F$197),""))} | AS19: {=IF(A19=0,"",_xlfn.IFNA(_xlfn.IFS(Poules!$E$198='Résultat club'!$A19,Poules!$F$198),""))} | AT19: {=IF(A19=0,"",_xlfn.IFNA(_xlfn.IFS(Poules!$E$213='Résultat club'!$A19,Poules!$F$213),""))} | AU19: {=IF(A19=0,"",_xlfn.IFNA(_xlfn.IFS(Poules!$E$214='Résultat club'!$A19,Poules!$F$214),""))} | AV19: {=IF(A19=0,"",_xlfn.IFNA(_xlfn.IFS(Poules!$E$215='Résultat club'!$A19,Poules!$F$215),""))} | AW19: {=IF(A19=0,"",_xlfn.IFNA(_xlfn.IFS(Poules!$E$216='Résultat club'!$A19,Poules!$F$216),""))} | AX19: {=IF(A19=0,"",_xlfn.IFNA(_xlfn.IFS(Poules!$E$231='Résultat club'!$A19,Poules!$F$231),""))} | AY19: {=IF(A19=0,"",_xlfn.IFNA(_xlfn.IFS(Poules!$E$232='Résultat club'!$A19,Poules!$F$232),""))} | AZ19: {=IF(A19=0,"",_xlfn.IFNA(_xlfn.IFS(Poules!$E$233='Résultat club'!$A19,Poules!$F$233),""))} | BA19: {=IF(A19=0,"",_xlfn.IFNA(_xlfn.IFS(Poules!$E$234='Résultat club'!$A19,Poules!$F$234),""))} | BB19: {=IF(A19=0,"",_xlfn.IFNA(_xlfn.IFS(Poules!$E$249='Résultat club'!$A19,Poules!$F$249),""))} | BC19: {=IF(A19=0,"",_xlfn.IFNA(_xlfn.IFS(Poules!$E$250='Résultat club'!$A19,Poules!$F$250),""))} | BD19: {=IF(A19=0,"",_xlfn.IFNA(_xlfn.IFS(Poules!$E$251='Résultat club'!$A19,Poules!$F$251),""))} | BE19: {=IF(A19=0,"",_xlfn.IFNA(_xlfn.IFS(Poules!$E$252='Résultat club'!$A19,Poules!$F$252),""))} | BF19: {=IF(A19=0,"",_xlfn.IFNA(_xlfn.IFS(Poules!$E$267='Résultat club'!$A19,Poules!$F$267),""))} | BG19: {=IF(A19=0,"",_xlfn.IFNA(_xlfn.IFS(Poules!$E$268='Résultat club'!$A19,Poules!$F$268),""))} | BH19: {=IF($A19=0,"",_xlfn.IFNA(_xlfn.IFS(Poules!$E$269='Résultat club'!$A19,Poules!$F$269),""))} | BI19: {=IF($A19=0,"",_xlfn.IFNA(_xlfn.IFS(Poules!$E$270='Résultat club'!$A19,Poules!$F$270),""))} | BJ19: {=IF($A19=0,"",_xlfn.IFNA(_xlfn.IFS(Poules!$E$285='Résultat club'!$A19,Poules!$F$285),""))} | BK19: {=IF($A19=0,"",_xlfn.IFNA(_xlfn.IFS(Poules!$E$286='Résultat club'!$A19,Poules!$F$286),""))} | BL19: {=IF($A19=0,"",_xlfn.IFNA(_xlfn.IFS(Poules!$E$287='Résultat club'!$A19,Poules!$F$287),""))} | BM19: {=IF($A19=0,"",_xlfn.IFNA(_xlfn.IFS(Poules!$E$288='Résultat club'!$A19,Poules!$F$288),""))} | BO19: =A19 -> 0 | BP19: =COUNTIF('Listes poules triées'!$A$1:$B$60,$A19) -> 0
B20: {=IF(A20=0,"",_xlfn.IFNA(_xlfn.IFS(Poules!$E$15='Résultat club'!$A20,Poules!$F$15)," "))} | C20: {=IF(A20=0,"",_xlfn.IFNA(_xlfn.IFS(Poules!$E$16='Résultat club'!$A20,Poules!$F$16)," "))} | D20: {=IF(A20=0,"",_xlfn.IFNA(_xlfn.IFS(Poules!$E$17='Résultat club'!$A20,Poules!$F$17)," "))} | E20: {=IF(A20=0,"",_xlfn.IFNA(_xlfn.IFS(Poules!$E$18='Résultat club'!$A20,Poules!$F$18)," "))} | F20: {=IF(A20=0,"",_xlfn.IFNA(_xlfn.IFS(Poules!$E$33='Résultat club'!$A20,Poules!$F$33)," "))} | G20: {=IF(A20=0,"",_xlfn.IFNA(_xlfn.IFS(Poules!$E$34='Résultat club'!$A20,Poules!$F$34)," "))} | H20: {=IF(A20=0,"",_xlfn.IFNA(_xlfn.IFS(Poules!$E$35='Résultat club'!$A20,Poules!$F$35)," "))} | I20: {=IF(A20=0,"",_xlfn.IFNA(_xlfn.IFS(Poules!$E$36='Résultat club'!$A20,Poules!$F$36)," "))} | J20: {=IF(A20=0,"",_xlfn.IFNA(_xlfn.IFS(Poules!$E$51='Résultat club'!$A20,Poules!$F$51)," "))} | K20: {=IF(A20=0,"",_xlfn.IFNA(_xlfn.IFS(Poules!$E$52='Résultat club'!$A20,Poules!$F$52)," "))} | L20: {=IF(A20=0,"",_xlfn.IFNA(_xlfn.IFS(Poules!$E$53='Résultat club'!$A20,Poules!$F$53)," "))} | M20: {=IF(A20=0,"",_xlfn.IFNA(_xlfn.IFS(Poules!$E$54='Résultat club'!$A20,Poules!$F$54)," "))} | N20: {=IF(A20=0,"",_xlfn.IFNA(_xlfn.IFS(Poules!$E$69='Résultat club'!$A20,Poules!$F$69)," "))} | O20: {=IF(A20=0,"",_xlfn.IFNA(_xlfn.IFS(Poules!$E$70='Résultat club'!$A20,Poules!$F$70)," "))} | P20: {=IF(A20=0,"",_xlfn.IFNA(_xlfn.IFS(Poules!$E$71='Résultat club'!$A20,Poules!$F$71)," "))} | Q20: {=IF(A20=0,"",_xlfn.IFNA(_xlfn.IFS(Poules!$E$72='Résultat club'!$A20,Poules!$F$72)," "))} | R20: {=IF(A20=0,"",_xlfn.IFNA(_xlfn.IFS(Poules!$E$87='Résultat club'!$A20,Poules!$F$87)," "))} | S20: {=IF(A20=0,"",_xlfn.IFNA(_xlfn.IFS(Poules!$E$88='Résultat club'!$A20,Poules!$F$88)," "))} | T20: {=IF(A20=0,"",_xlfn.IFNA(_xlfn.IFS(Poules!$E$89='Résultat club'!$A20,Poules!$F$89)," "))} | U20: {=IF(A20=0,"",_xlfn.IFNA(_xlfn.IFS(Poules!$E$90='Résultat club'!$A20,Poules!$F$90)," "))} | V20: {=IF(A20=0,"",_xlfn.IFNA(_xlfn.IFS(Poules!$E$105='Résultat club'!$A20,Poules!$F$105),""))} | W20: {=IF(A20=0,"",_xlfn.IFNA(_xlfn.IFS(Poules!$E$106='Résultat club'!$A20,Poules!$F$106),""))} | X20: {=IF(A20=0,"",_xlfn.IFNA(_xlfn.IFS(Poules!$E$107='Résultat club'!$A20,Poules!$F$107),""))} | Y20: {=IF(A20=0,"",_xlfn.IFNA(_xlfn.IFS(Poules!$E$108='Résultat club'!$A20,Poules!$F$108),""))} | Z20: {=IF(A20=0,"",_xlfn.IFNA(_xlfn.IFS(Poules!$E$123='Résultat club'!$A20,Poules!$F$123),""))} | AA20: {=IF(A20=0,"",_xlfn.IFNA(_xlfn.IFS(Poules!$E$124='Résultat club'!$A20,Poules!$F$124),""))} | AB20: {=IF(A20=0,"",_xlfn.IFNA(_xlfn.IFS(Poules!$E$125='Résultat club'!$A20,Poules!$F$125),""))} | AC20: {=IF(A20=0,"",_xlfn.IFNA(_xlfn.IFS(Poules!$E$126='Résultat club'!$A20,Poules!$F$126),""))} | AD20: {=IF(A20=0,"",_xlfn.IFNA(_xlfn.IFS(Poules!$E$141='Résultat club'!$A20,Poules!$F$141),""))} | AE20: {=IF(A20=0,"",_xlfn.IFNA(_xlfn.IFS(Poules!$E$142='Résultat club'!$A20,Poules!$F$142),""))} | AF20: {=IF(A20=0,"",_xlfn.IFNA(_xlfn.IFS(Poules!$E$143='Résultat club'!$A20,Poules!$F$143),""))} | AG20: {=IF(A20=0,"",_xlfn.IFNA(_xlfn.IFS(Poules!$E$144='Résultat club'!$A20,Poules!$F$144),""))} | AH20: {=IF(A20=0,"",_xlfn.IFNA(_xlfn.IFS(Poules!$E$159='Résultat club'!$A20,Poules!$F$159),""))} | AI20: {=IF(A20=0,"",_xlfn.IFNA(_xlfn.IFS(Poules!$E$160='Résultat club'!$A20,Poules!$F$160),""))} | AJ20: {=IF(A20=0,"",_xlfn.IFNA(_xlfn.IFS(Poules!$E$161='Résultat club'!$A20,Poules!$F$161),""))} | AK20: {=IF(A20=0,"",_xlfn.IFNA(_xlfn.IFS(Poules!$E$162='Résultat club'!$A20,Poules!$F$162),""))} | AL20: {=IF(A20=0,"",_xlfn.IFNA(_xlfn.IFS(Poules!$E$177='Résultat club'!$A20,Poules!$F$177),""))} | AM20: {=IF(A20=0,"",_xlfn.IFNA(_xlfn.IFS(Poules!$E$178='Résultat club'!$A20,Poules!$F$178),""))} | AN20: {=IF(A20=0,"",_xlfn.IFNA(_xlfn.IFS(Poules!$E$179='Résultat club'!$A20,Poules!$F$179),""))} | AO20: {=IF(A20=0,"",_xlfn.IFNA(_xlfn.IFS(Poules!$E$180='Résultat club'!$A20,Poules!$F$180),""))} | AP20: {=IF(A20=0,"",_xlfn.IFNA(_xlfn.IFS(Poules!$E$195='Résultat club'!$A20,Poules!$F$195),""))} | AQ20: {=IF(A20=0,"",_xlfn.IFNA(_xlfn.IFS(Poules!$E$196='Résultat club'!$A20,Poules!$F$196),""))} | AR20: {=IF(A20=0,"",_xlfn.IFNA(_xlfn.IFS(Poules!$E$197='Résultat club'!$A20,Poules!$F$197),""))} | AS20: {=IF(A20=0,"",_xlfn.IFNA(_xlfn.IFS(Poules!$E$198='Résultat club'!$A20,Poules!$F$198),""))} | AT20: {=IF(A20=0,"",_xlfn.IFNA(_xlfn.IFS(Poules!$E$213='Résultat club'!$A20,Poules!$F$213),""))} | AU20: {=IF(A20=0,"",_xlfn.IFNA(_xlfn.IFS(Poules!$E$214='Résultat club'!$A20,Poules!$F$214),""))} | AV20: {=IF(A20=0,"",_xlfn.IFNA(_xlfn.IFS(Poules!$E$215='Résultat club'!$A20,Poules!$F$215),""))} | AW20: {=IF(A20=0,"",_xlfn.IFNA(_xlfn.IFS(Poules!$E$216='Résultat club'!$A20,Poules!$F$216),""))} | AX20: {=IF(A20=0,"",_xlfn.IFNA(_xlfn.IFS(Poules!$E$231='Résultat club'!$A20,Poules!$F$231),""))} | AY20: {=IF(A20=0,"",_xlfn.IFNA(_xlfn.IFS(Poules!$E$232='Résultat club'!$A20,Poules!$F$232),""))} | AZ20: {=IF(A20=0,"",_xlfn.IFNA(_xlfn.IFS(Poules!$E$233='Résultat club'!$A20,Poules!$F$233),""))} | BA20: {=IF(A20=0,"",_xlfn.IFNA(_xlfn.IFS(Poules!$E$234='Résultat club'!$A20,Poules!$F$234),""))} | BB20: {=IF(A20=0,"",_xlfn.IFNA(_xlfn.IFS(Poules!$E$249='Résultat club'!$A20,Poules!$F$249),""))} | BC20: {=IF(A20=0,"",_xlfn.IFNA(_xlfn.IFS(Poules!$E$250='Résultat club'!$A20,Poules!$F$250),""))} | BD20: {=IF(A20=0,"",_xlfn.IFNA(_xlfn.IFS(Poules!$E$251='Résultat club'!$A20,Poules!$F$251),""))} | BE20: {=IF(A20=0,"",_xlfn.IFNA(_xlfn.IFS(Poules!$E$252='Résultat club'!$A20,Poules!$F$252),""))} | BF20: {=IF(A20=0,"",_xlfn.IFNA(_xlfn.IFS(Poules!$E$267='Résultat club'!$A20,Poules!$F$267),""))} | BG20: {=IF(A20=0,"",_xlfn.IFNA(_xlfn.IFS(Poules!$E$268='Résultat club'!$A20,Poules!$F$268),""))} | BH20: {=IF($A20=0,"",_xlfn.IFNA(_xlfn.IFS(Poules!$E$269='Résultat club'!$A20,Poules!$F$269),""))} | BI20: {=IF($A20=0,"",_xlfn.IFNA(_xlfn.IFS(Poules!$E$270='Résultat club'!$A20,Poules!$F$270),""))} | BJ20: {=IF($A20=0,"",_xlfn.IFNA(_xlfn.IFS(Poules!$E$285='Résultat club'!$A20,Poules!$F$285),""))} | BK20: {=IF($A20=0,"",_xlfn.IFNA(_xlfn.IFS(Poules!$E$286='Résultat club'!$A20,Poules!$F$286),""))} | BL20: {=IF($A20=0,"",_xlfn.IFNA(_xlfn.IFS(Poules!$E$287='Résultat club'!$A20,Poules!$F$287),""))} | BM20: {=IF($A20=0,"",_xlfn.IFNA(_xlfn.IFS(Poules!$E$288='Résultat club'!$A20,Poules!$F$288),""))} | BO20: =A20 -> 0 | BP20: =COUNTIF('Listes poules triées'!$A$1:$B$60,$A20) -> 0
B21: {=IF(A21=0,"",_xlfn.IFNA(_xlfn.IFS(Poules!$E$15='Résultat club'!$A21,Poules!$F$15)," "))} | C21: {=IF(A21=0,"",_xlfn.IFNA(_xlfn.IFS(Poules!$E$16='Résultat club'!$A21,Poules!$F$16)," "))} | D21: {=IF(A21=0,"",_xlfn.IFNA(_xlfn.IFS(Poules!$E$17='Résultat club'!$A21,Poules!$F$17)," "))} | E21: {=IF(A21=0,"",_xlfn.IFNA(_xlfn.IFS(Poules!$E$18='Résultat club'!$A21,Poules!$F$18)," "))} | F21: {=IF(A21=0,"",_xlfn.IFNA(_xlfn.IFS(Poules!$E$33='Résultat club'!$A21,Poules!$F$33)," "))} | G21: {=IF(A21=0,"",_xlfn.IFNA(_xlfn.IFS(Poules!$E$34='Résultat club'!$A21,Poules!$F$34)," "))} | H21: {=IF(A21=0,"",_xlfn.IFNA(_xlfn.IFS(Poules!$E$35='Résultat club'!$A21,Poules!$F$35)," "))} | I21: {=IF(A21=0,"",_xlfn.IFNA(_xlfn.IFS(Poules!$E$36='Résultat club'!$A21,Poules!$F$36)," "))} | J21: {=IF(A21=0,"",_xlfn.IFNA(_xlfn.IFS(Poules!$E$51='Résultat club'!$A21,Poules!$F$51)," "))} | K21: {=IF(A21=0,"",_xlfn.IFNA(_xlfn.IFS(Poules!$E$52='Résultat club'!$A21,Poules!$F$52)," "))} | L21: {=IF(A21=0,"",_xlfn.IFNA(_xlfn.IFS(Poules!$E$53='Résultat club'!$A21,Poules!$F$53)," "))} | M21: {=IF(A21=0,"",_xlfn.IFNA(_xlfn.IFS(Poules!$E$54='Résultat club'!$A21,Poules!$F$54)," "))} | N21: {=IF(A21=0,"",_xlfn.IFNA(_xlfn.IFS(Poules!$E$69='Résultat club'!$A21,Poules!$F$69)," "))} | O21: {=IF(A21=0,"",_xlfn.IFNA(_xlfn.IFS(Poules!$E$70='Résultat club'!$A21,Poules!$F$70)," "))} | P21: {=IF(A21=0,"",_xlfn.IFNA(_xlfn.IFS(Poules!$E$71='Résultat club'!$A21,Poules!$F$71)," "))} | Q21: {=IF(A21=0,"",_xlfn.IFNA(_xlfn.IFS(Poules!$E$72='Résultat club'!$A21,Poules!$F$72)," "))} | R21: {=IF(A21=0,"",_xlfn.IFNA(_xlfn.IFS(Poules!$E$87='Résultat club'!$A21,Poules!$F$87)," "))} | S21: {=IF(A21=0,"",_xlfn.IFNA(_xlfn.IFS(Poules!$E$88='Résultat club'!$A21,Poules!$F$88)," "))} | T21: {=IF(A21=0,"",_xlfn.IFNA(_xlfn.IFS(Poules!$E$89='Résultat club'!$A21,Poules!$F$89)," "))} | U21: {=IF(A21=0,"",_xlfn.IFNA(_xlfn.IFS(Poules!$E$90='Résultat club'!$A21,Poules!$F$90)," "))} | V21: {=IF(A21=0,"",_xlfn.IFNA(_xlfn.IFS(Poules!$E$105='Résultat club'!$A21,Poules!$F$105),""))} | W21: {=IF(A21=0,"",_xlfn.IFNA(_xlfn.IFS(Poules!$E$106='Résultat club'!$A21,Poules!$F$106),""))} | X21: {=IF(A21=0,"",_xlfn.IFNA(_xlfn.IFS(Poules!$E$107='Résultat club'!$A21,Poules!$F$107),""))} | Y21: {=IF(A21=0,"",_xlfn.IFNA(_xlfn.IFS(Poules!$E$108='Résultat club'!$A21,Poules!$F$108),""))} | Z21: {=IF(A21=0,"",_xlfn.IFNA(_xlfn.IFS(Poules!$E$123='Résultat club'!$A21,Poules!$F$123),""))} | AA21: {=IF(A21=0,"",_xlfn.IFNA(_xlfn.IFS(Poules!$E$124='Résultat club'!$A21,Poules!$F$124),""))} | AB21: {=IF(A21=0,"",_xlfn.IFNA(_xlfn.IFS(Poules!$E$125='Résultat club'!$A21,Poules!$F$125),""))} | AC21: {=IF(A21=0,"",_xlfn.IFNA(_xlfn.IFS(Poules!$E$126='Résultat club'!$A21,Poules!$F$126),""))} | AD21: {=IF(A21=0,"",_xlfn.IFNA(_xlfn.IFS(Poules!$E$141='Résultat club'!$A21,Poules!$F$141),""))} | AE21: {=IF(A21=0,"",_xlfn.IFNA(_xlfn.IFS(Poules!$E$142='Résultat club'!$A21,Poules!$F$142),""))} | AF21: {=IF(A21=0,"",_xlfn.IFNA(_xlfn.IFS(Poules!$E$143='Résultat club'!$A21,Poules!$F$143),""))} | AG21: {=IF(A21=0,"",_xlfn.IFNA(_xlfn.IFS(Poules!$E$144='Résultat club'!$A21,Poules!$F$144),""))} | AH21: {=IF(A21=0,"",_xlfn.IFNA(_xlfn.IFS(Poules!$E$159='Résultat club'!$A21,Poules!$F$159),""))} | AI21: {=IF(A21=0,"",_xlfn.IFNA(_xlfn.IFS(Poules!$E$160='Résultat club'!$A21,Poules!$F$160),""))} | AJ21: {=IF(A21=0,"",_xlfn.IFNA(_xlfn.IFS(Poules!$E$161='Résultat club'!$A21,Poules!$F$161),""))} | AK21: {=IF(A21=0,"",_xlfn.IFNA(_xlfn.IFS(Poules!$E$162='Résultat club'!$A21,Poules!$F$162),""))} | AL21: {=IF(A21=0,"",_xlfn.IFNA(_xlfn.IFS(Poules!$E$177='Résultat club'!$A21,Poules!$F$177),""))} | AM21: {=IF(A21=0,"",_xlfn.IFNA(_xlfn.IFS(Poules!$E$178='Résultat club'!$A21,Poules!$F$178),""))} | AN21: {=IF(A21=0,"",_xlfn.IFNA(_xlfn.IFS(Poules!$E$179='Résultat club'!$A21,Poules!$F$179),""))} | AO21: {=IF(A21=0,"",_xlfn.IFNA(_xlfn.IFS(Poules!$E$180='Résultat club'!$A21,Poules!$F$180),""))} | AP21: {=IF(A21=0,"",_xlfn.IFNA(_xlfn.IFS(Poules!$E$195='Résultat club'!$A21,Poules!$F$195),""))} | AQ21: {=IF(A21=0,"",_xlfn.IFNA(_xlfn.IFS(Poules!$E$196='Résultat club'!$A21,Poules!$F$196),""))} | AR21: {=IF(A21=0,"",_xlfn.IFNA(_xlfn.IFS(Poules!$E$197='Résultat club'!$A21,Poules!$F$197),""))} | AS21: {=IF(A21=0,"",_xlfn.IFNA(_xlfn.IFS(Poules!$E$198='Résultat club'!$A21,Poules!$F$198),""))} | AT21: {=IF(A21=0,"",_xlfn.IFNA(_xlfn.IFS(Poules!$E$213='Résultat club'!$A21,Poules!$F$213),""))} | AU21: {=IF(A21=0,"",_xlfn.IFNA(_xlfn.IFS(Poules!$E$214='Résultat club'!$A21,Poules!$F$214),""))} | AV21: {=IF(A21=0,"",_xlfn.IFNA(_xlfn.IFS(Poules!$E$215='Résultat club'!$A21,Poules!$F$215),""))} | AW21: {=IF(A21=0,"",_xlfn.IFNA(_xlfn.IFS(Poules!$E$216='Résultat club'!$A21,Poules!$F$216),""))} | AX21: {=IF(A21=0,"",_xlfn.IFNA(_xlfn.IFS(Poules!$E$231='Résultat club'!$A21,Poules!$F$231),""))} | AY21: {=IF(A21=0,"",_xlfn.IFNA(_xlfn.IFS(Poules!$E$232='Résultat club'!$A21,Poules!$F$232),""))} | AZ21: {=IF(A21=0,"",_xlfn.IFNA(_xlfn.IFS(Poules!$E$233='Résultat club'!$A21,Poules!$F$233),""))} | BA21: {=IF(A21=0,"",_xlfn.IFNA(_xlfn.IFS(Poules!$E$234='Résultat club'!$A21,Poules!$F$234),""))} | BB21: {=IF(A21=0,"",_xlfn.IFNA(_xlfn.IFS(Poules!$E$249='Résultat club'!$A21,Poules!$F$249),""))} | BC21: {=IF(A21=0,"",_xlfn.IFNA(_xlfn.IFS(Poules!$E$250='Résultat club'!$A21,Poules!$F$250),""))} | BD21: {=IF(A21=0,"",_xlfn.IFNA(_xlfn.IFS(Poules!$E$251='Résultat club'!$A21,Poules!$F$251),""))} | BE21: {=IF(A21=0,"",_xlfn.IFNA(_xlfn.IFS(Poules!$E$252='Résultat club'!$A21,Poules!$F$252),""))} | BF21: {=IF(A21=0,"",_xlfn.IFNA(_xlfn.IFS(Poules!$E$267='Résultat club'!$A21,Poules!$F$267),""))} | BG21: {=IF(A21=0,"",_xlfn.IFNA(_xlfn.IFS(Poules!$E$268='Résultat club'!$A21,Poules!$F$268),""))} | BH21: {=IF($A21=0,"",_xlfn.IFNA(_xlfn.IFS(Poules!$E$269='Résultat club'!$A21,Poules!$F$269),""))} | BI21: {=IF($A21=0,"",_xlfn.IFNA(_xlfn.IFS(Poules!$E$270='Résultat club'!$A21,Poules!$F$270),""))} | BJ21: {=IF($A21=0,"",_xlfn.IFNA(_xlfn.IFS(Poules!$E$285='Résultat club'!$A21,Poules!$F$285),""))} | BK21: {=IF($A21=0,"",_xlfn.IFNA(_xlfn.IFS(Poules!$E$286='Résultat club'!$A21,Poules!$F$286),""))} | BL21: {=IF($A21=0,"",_xlfn.IFNA(_xlfn.IFS(Poules!$E$287='Résultat club'!$A21,Poules!$F$287),""))} | BM21: {=IF($A21=0,"",_xlfn.IFNA(_xlfn.IFS(Poules!$E$288='Résultat club'!$A21,Poules!$F$288),""))} | BO21: =A21 -> 0 | BP21: =COUNTIF('Listes poules triées'!$A$1:$B$60,$A21) -> 0
B22: {=IF(A22=0,"",_xlfn.IFNA(_xlfn.IFS(Poules!$E$15='Résultat club'!$A22,Poules!$F$15)," "))} | C22: {=IF(A22=0,"",_xlfn.IFNA(_xlfn.IFS(Poules!$E$16='Résultat club'!$A22,Poules!$F$16)," "))} | D22: {=IF(A22=0,"",_xlfn.IFNA(_xlfn.IFS(Poules!$E$17='Résultat club'!$A22,Poules!$F$17)," "))} | E22: {=IF(A22=0,"",_xlfn.IFNA(_xlfn.IFS(Poules!$E$18='Résultat club'!$A22,Poules!$F$18)," "))} | F22: {=IF(A22=0,"",_xlfn.IFNA(_xlfn.IFS(Poules!$E$33='Résultat club'!$A22,Poules!$F$33)," "))} | G22: {=IF(A22=0,"",_xlfn.IFNA(_xlfn.IFS(Poules!$E$34='Résultat club'!$A22,Poules!$F$34)," "))} | H22: {=IF(A22=0,"",_xlfn.IFNA(_xlfn.IFS(Poules!$E$35='Résultat club'!$A22,Poules!$F$35)," "))} | I22: {=IF(A22=0,"",_xlfn.IFNA(_xlfn.IFS(Poules!$E$36='Résultat club'!$A22,Poules!$F$36)," "))} | J22: {=IF(A22=0,"",_xlfn.IFNA(_xlfn.IFS(Poules!$E$51='Résultat club'!$A22,Poules!$F$51)," "))} | K22: {=IF(A22=0,"",_xlfn.IFNA(_xlfn.IFS(Poules!$E$52='Résultat club'!$A22,Poules!$F$52)," "))} | L22: {=IF(A22=0,"",_xlfn.IFNA(_xlfn.IFS(Poules!$E$53='Résultat club'!$A22,Poules!$F$53)," "))} | M22: {=IF(A22=0,"",_xlfn.IFNA(_xlfn.IFS(Poules!$E$54='Résultat club'!$A22,Poules!$F$54)," "))} | N22: {=IF(A22=0,"",_xlfn.IFNA(_xlfn.IFS(Poules!$E$69='Résultat club'!$A22,Poules!$F$69)," "))} | O22: {=IF(A22=0,"",_xlfn.IFNA(_xlfn.IFS(Poules!$E$70='Résultat club'!$A22,Poules!$F$70)," "))} | P22: {=IF(A22=0,"",_xlfn.IFNA(_xlfn.IFS(Poules!$E$71='Résultat club'!$A22,Poules!$F$71)," "))} | Q22: {=IF(A22=0,"",_xlfn.IFNA(_xlfn.IFS(Poules!$E$72='Résultat club'!$A22,Poules!$F$72)," "))} | R22: {=IF(A22=0,"",_xlfn.IFNA(_xlfn.IFS(Poules!$E$87='Résultat club'!$A22,Poules!$F$87)," "))} | S22: {=IF(A22=0,"",_xlfn.IFNA(_xlfn.IFS(Poules!$E$88='Résultat club'!$A22,Poules!$F$88)," "))} | T22: {=IF(A22=0,"",_xlfn.IFNA(_xlfn.IFS(Poules!$E$89='Résultat club'!$A22,Poules!$F$89)," "))} | U22: {=IF(A22=0,"",_xlfn.IFNA(_xlfn.IFS(Poules!$E$90='Résultat club'!$A22,Poules!$F$90)," "))} | V22: {=IF(A22=0,"",_xlfn.IFNA(_xlfn.IFS(Poules!$E$105='Résultat club'!$A22,Poules!$F$105),""))} | W22: {=IF(A22=0,"",_xlfn.IFNA(_xlfn.IFS(Poules!$E$106='Résultat club'!$A22,Poules!$F$106),""))} | X22: {=IF(A22=0,"",_xlfn.IFNA(_xlfn.IFS(Poules!$E$107='Résultat club'!$A22,Poules!$F$107),""))} | Y22: {=IF(A22=0,"",_xlfn.IFNA(_xlfn.IFS(Poules!$E$108='Résultat club'!$A22,Poules!$F$108),""))} | Z22: {=IF(A22=0,"",_xlfn.IFNA(_xlfn.IFS(Poules!$E$123='Résultat club'!$A22,Poules!$F$123),""))} | AA22: {=IF(A22=0,"",_xlfn.IFNA(_xlfn.IFS(Poules!$E$124='Résultat club'!$A22,Poules!$F$124),""))} | AB22: {=IF(A22=0,"",_xlfn.IFNA(_xlfn.IFS(Poules!$E$125='Résultat club'!$A22,Poules!$F$125),""))} | AC22: {=IF(A22=0,"",_xlfn.IFNA(_xlfn.IFS(Poules!$E$126='Résultat club'!$A22,Poules!$F$126),""))} | AD22: {=IF(A22=0,"",_xlfn.IFNA(_xlfn.IFS(Poules!$E$141='Résultat club'!$A22,Poules!$F$141),""))} | AE22: {=IF(A22=0,"",_xlfn.IFNA(_xlfn.IFS(Poules!$E$142='Résultat club'!$A22,Poules!$F$142),""))} | AF22: {=IF(A22=0,"",_xlfn.IFNA(_xlfn.IFS(Poules!$E$143='Résultat club'!$A22,Poules!$F$143),""))} | AG22: {=IF(A22=0,"",_xlfn.IFNA(_xlfn.IFS(Poules!$E$144='Résultat club'!$A22,Poules!$F$144),""))} | AH22: {=IF(A22=0,"",_xlfn.IFNA(_xlfn.IFS(Poules!$E$159='Résultat club'!$A22,Poules!$F$159),""))} | AI22: {=IF(A22=0,"",_xlfn.IFNA(_xlfn.IFS(Poules!$E$160='Résultat club'!$A22,Poules!$F$160),""))} | AJ22: {=IF(A22=0,"",_xlfn.IFNA(_xlfn.IFS(Poules!$E$161='Résultat club'!$A22,Poules!$F$161),""))} | AK22: {=IF(A22=0,"",_xlfn.IFNA(_xlfn.IFS(Poules!$E$162='Résultat club'!$A22,Poules!$F$162),""))} | AL22: {=IF(A22=0,"",_xlfn.IFNA(_xlfn.IFS(Poules!$E$177='Résultat club'!$A22,Poules!$F$177),""))} | AM22: {=IF(A22=0,"",_xlfn.IFNA(_xlfn.IFS(Poules!$E$178='Résultat club'!$A22,Poules!$F$178),""))} | AN22: {=IF(A22=0,"",_xlfn.IFNA(_xlfn.IFS(Poules!$E$179='Résultat club'!$A22,Poules!$F$179),""))} | AO22: {=IF(A22=0,"",_xlfn.IFNA(_xlfn.IFS(Poules!$E$180='Résultat club'!$A22,Poules!$F$180),""))} | AP22: {=IF(A22=0,"",_xlfn.IFNA(_xlfn.IFS(Poules!$E$195='Résultat club'!$A22,Poules!$F$195),""))} | AQ22: {=IF(A22=0,"",_xlfn.IFNA(_xlfn.IFS(Poules!$E$196='Résultat club'!$A22,Poules!$F$196),""))} | AR22: {=IF(A22=0,"",_xlfn.IFNA(_xlfn.IFS(Poules!$E$197='Résultat club'!$A22,Poules!$F$197),""))} | AS22: {=IF(A22=0,"",_xlfn.IFNA(_xlfn.IFS(Poules!$E$198='Résultat club'!$A22,Poules!$F$198),""))} | AT22: {=IF(A22=0,"",_xlfn.IFNA(_xlfn.IFS(Poules!$E$213='Résultat club'!$A22,Poules!$F$213),""))} | AU22: {=IF(A22=0,"",_xlfn.IFNA(_xlfn.IFS(Poules!$E$214='Résultat club'!$A22,Poules!$F$214),""))} | AV22: {=IF(A22=0,"",_xlfn.IFNA(_xlfn.IFS(Poules!$E$215='Résultat club'!$A22,Poules!$F$215),""))} | AW22: {=IF(A22=0,"",_xlfn.IFNA(_xlfn.IFS(Poules!$E$216='Résultat club'!$A22,Poules!$F$216),""))} | AX22: {=IF(A22=0,"",_xlfn.IFNA(_xlfn.IFS(Poules!$E$231='Résultat club'!$A22,Poules!$F$231),""))} | AY22: {=IF(A22=0,"",_xlfn.IFNA(_xlfn.IFS(Poules!$E$232='Résultat club'!$A22,Poules!$F$232),""))} | AZ22: {=IF(A22=0,"",_xlfn.IFNA(_xlfn.IFS(Poules!$E$233='Résultat club'!$A22,Poules!$F$233),""))} | BA22: {=IF(A22=0,"",_xlfn.IFNA(_xlfn.IFS(Poules!$E$234='Résultat club'!$A22,Poules!$F$234),""))} | BB22: {=IF(A22=0,"",_xlfn.IFNA(_xlfn.IFS(Poules!$E$249='Résultat club'!$A22,Poules!$F$249),""))} | BC22: {=IF(A22=0,"",_xlfn.IFNA(_xlfn.IFS(Poules!$E$250='Résultat club'!$A22,Poules!$F$250),""))} | BD22: {=IF(A22=0,"",_xlfn.IFNA(_xlfn.IFS(Poules!$E$251='Résultat club'!$A22,Poules!$F$251),""))} | BE22: {=IF(A22=0,"",_xlfn.IFNA(_xlfn.IFS(Poules!$E$252='Résultat club'!$A22,Poules!$F$252),""))} | BF22: {=IF(A22=0,"",_xlfn.IFNA(_xlfn.IFS(Poules!$E$267='Résultat club'!$A22,Poules!$F$267),""))} | BG22: {=IF(A22=0,"",_xlfn.IFNA(_xlfn.IFS(Poules!$E$268='Résultat club'!$A22,Poules!$F$268),""))} | BH22: {=IF($A22=0,"",_xlfn.IFNA(_xlfn.IFS(Poules!$E$269='Résultat club'!$A22,Poules!$F$269),""))} | BI22: {=IF($A22=0,"",_xlfn.IFNA(_xlfn.IFS(Poules!$E$270='Résultat club'!$A22,Poules!$F$270),""))} | BJ22: {=IF($A22=0,"",_xlfn.IFNA(_xlfn.IFS(Poules!$E$285='Résultat club'!$A22,Poules!$F$285),""))} | BK22: {=IF($A22=0,"",_xlfn.IFNA(_xlfn.IFS(Poules!$E$286='Résultat club'!$A22,Poules!$F$286),""))} | BL22: {=IF($A22=0,"",_xlfn.IFNA(_xlfn.IFS(Poules!$E$287='Résultat club'!$A22,Poules!$F$287),""))} | BM22: {=IF($A22=0,"",_xlfn.IFNA(_xlfn.IFS(Poules!$E$288='Résultat club'!$A22,Poules!$F$288),""))} | BO22: =A22 -> 0 | BP22: =COUNTIF('Listes poules triées'!$A$1:$B$60,$A22) -> 0
B23: {=IF(A23=0,"",_xlfn.IFNA(_xlfn.IFS(Poules!$E$15='Résultat club'!$A23,Poules!$F$15)," "))} | C23: {=IF(A23=0,"",_xlfn.IFNA(_xlfn.IFS(Poules!$E$16='Résultat club'!$A23,Poules!$F$16)," "))} | D23: {=IF(A23=0,"",_xlfn.IFNA(_xlfn.IFS(Poules!$E$17='Résultat club'!$A23,Poules!$F$17)," "))} | E23: {=IF(A23=0,"",_xlfn.IFNA(_xlfn.IFS(Poules!$E$18='Résultat club'!$A23,Poules!$F$18)," "))} | F23: {=IF(A23=0,"",_xlfn.IFNA(_xlfn.IFS(Poules!$E$33='Résultat club'!$A23,Poules!$F$33)," "))} | G23: {=IF(A23=0,"",_xlfn.IFNA(_xlfn.IFS(Poules!$E$34='Résultat club'!$A23,Poules!$F$34)," "))} | H23: {=IF(A23=0,"",_xlfn.IFNA(_xlfn.IFS(Poules!$E$35='Résultat club'!$A23,Poules!$F$35)," "))} | I23: {=IF(A23=0,"",_xlfn.IFNA(_xlfn.IFS(Poules!$E$36='Résultat club'!$A23,Poules!$F$36)," "))} | J23: {=IF(A23=0,"",_xlfn.IFNA(_xlfn.IFS(Poules!$E$51='Résultat club'!$A23,Poules!$F$51)," "))} | K23: {=IF(A23=0,"",_xlfn.IFNA(_xlfn.IFS(Poules!$E$52='Résultat club'!$A23,Poules!$F$52)," "))} | L23: {=IF(A23=0,"",_xlfn.IFNA(_xlfn.IFS(Poules!$E$53='Résultat club'!$A23,Poules!$F$53)," "))} | M23: {=IF(A23=0,"",_xlfn.IFNA(_xlfn.IFS(Poules!$E$54='Résultat club'!$A23,Poules!$F$54)," "))} | N23: {=IF(A23=0,"",_xlfn.IFNA(_xlfn.IFS(Poules!$E$69='Résultat club'!$A23,Poules!$F$69)," "))} | O23: {=IF(A23=0,"",_xlfn.IFNA(_xlfn.IFS(Poules!$E$70='Résultat club'!$A23,Poules!$F$70)," "))} | P23: {=IF(A23=0,"",_xlfn.IFNA(_xlfn.IFS(Poules!$E$71='Résultat club'!$A23,Poules!$F$71)," "))} | Q23: {=IF(A23=0,"",_xlfn.IFNA(_xlfn.IFS(Poules!$E$72='Résultat club'!$A23,Poules!$F$72)," "))} | R23: {=IF(A23=0,"",_xlfn.IFNA(_xlfn.IFS(Poules!$E$87='Résultat club'!$A23,Poules!$F$87)," "))} | S23: {=IF(A23=0,"",_xlfn.IFNA(_xlfn.IFS(Poules!$E$88='Résultat club'!$A23,Poules!$F$88)," "))} | T23: {=IF(A23=0,"",_xlfn.IFNA(_xlfn.IFS(Poules!$E$89='Résultat club'!$A23,Poules!$F$89)," "))} | U23: {=IF(A23=0,"",_xlfn.IFNA(_xlfn.IFS(Poules!$E$90='Résultat club'!$A23,Poules!$F$90)," "))} | V23: {=IF(A23=0,"",_xlfn.IFNA(_xlfn.IFS(Poules!$E$105='Résultat club'!$A23,Poules!$F$105),""))} | W23: {=IF(A23=0,"",_xlfn.IFNA(_xlfn.IFS(Poules!$E$106='Résultat club'!$A23,Poules!$F$106),""))} | X23: {=IF(A23=0,"",_xlfn.IFNA(_xlfn.IFS(Poules!$E$107='Résultat club'!$A23,Poules!$F$107),""))} | Y23: {=IF(A23=0,"",_xlfn.IFNA(_xlfn.IFS(Poules!$E$108='Résultat club'!$A23,Poules!$F$108),""))} | Z23: {=IF(A23=0,"",_xlfn.IFNA(_xlfn.IFS(Poules!$E$123='Résultat club'!$A23,Poules!$F$123),""))} | AA23: {=IF(A23=0,"",_xlfn.IFNA(_xlfn.IFS(Poules!$E$124='Résultat club'!$A23,Poules!$F$124),""))} | AB23: {=IF(A23=0,"",_xlfn.IFNA(_xlfn.IFS(Poules!$E$125='Résultat club'!$A23,Poules!$F$125),""))} | AC23: {=IF(A23=0,"",_xlfn.IFNA(_xlfn.IFS(Poules!$E$126='Résultat club'!$A23,Poules!$F$126),""))} | AD23: {=IF(A23=0,"",_xlfn.IFNA(_xlfn.IFS(Poules!$E$141='Résultat club'!$A23,Poules!$F$141),""))} | AE23: {=IF(A23=0,"",_xlfn.IFNA(_xlfn.IFS(Poules!$E$142='Résultat club'!$A23,Poules!$F$142),""))} | AF23: {=IF(A23=0,"",_xlfn.IFNA(_xlfn.IFS(Poules!$E$143='Résultat club'!$A23,Poules!$F$143),""))} | AG23: {=IF(A23=0,"",_xlfn.IFNA(_xlfn.IFS(Poules!$E$144='Résultat club'!$A23,Poules!$F$144),""))} | AH23: {=IF(A23=0,"",_xlfn.IFNA(_xlfn.IFS(Poules!$E$159='Résultat club'!$A23,Poules!$F$159),""))} | AI23: {=IF(A23=0,"",_xlfn.IFNA(_xlfn.IFS(Poules!$E$160='Résultat club'!$A23,Poules!$F$160),""))} | AJ23: {=IF(A23=0,"",_xlfn.IFNA(_xlfn.IFS(Poules!$E$161='Résultat club'!$A23,Poules!$F$161),""))} | AK23: {=IF(A23=0,"",_xlfn.IFNA(_xlfn.IFS(Poules!$E$162='Résultat club'!$A23,Poules!$F$162),""))} | AL23: {=IF(A23=0,"",_xlfn.IFNA(_xlfn.IFS(Poules!$E$177='Résultat club'!$A23,Poules!$F$177),""))} | AM23: {=IF(A23=0,"",_xlfn.IFNA(_xlfn.IFS(Poules!$E$178='Résultat club'!$A23,Poules!$F$178),""))} | AN23: {=IF(A23=0,"",_xlfn.IFNA(_xlfn.IFS(Poules!$E$179='Résultat club'!$A23,Poules!$F$179),""))} | AO23: {=IF(A23=0,"",_xlfn.IFNA(_xlfn.IFS(Poules!$E$180='Résultat club'!$A23,Poules!$F$180),""))} | AP23: {=IF(A23=0,"",_xlfn.IFNA(_xlfn.IFS(Poules!$E$195='Résultat club'!$A23,Poules!$F$195),""))} | AQ23: {=IF(A23=0,"",_xlfn.IFNA(_xlfn.IFS(Poules!$E$196='Résultat club'!$A23,Poules!$F$196),""))} | AR23: {=IF(A23=0,"",_xlfn.IFNA(_xlfn.IFS(Poules!$E$197='Résultat club'!$A23,Poules!$F$197),""))} | AS23: {=IF(A23=0,"",_xlfn.IFNA(_xlfn.IFS(Poules!$E$198='Résultat club'!$A23,Poules!$F$198),""))} | AT23: {=IF(A23=0,"",_xlfn.IFNA(_xlfn.IFS(Poules!$E$213='Résultat club'!$A23,Poules!$F$213),""))} | AU23: {=IF(A23=0,"",_xlfn.IFNA(_xlfn.IFS(Poules!$E$214='Résultat club'!$A23,Poules!$F$214),""))} | AV23: {=IF(A23=0,"",_xlfn.IFNA(_xlfn.IFS(Poules!$E$215='Résultat club'!$A23,Poules!$F$215),""))} | AW23: {=IF(A23=0,"",_xlfn.IFNA(_xlfn.IFS(Poules!$E$216='Résultat club'!$A23,Poules!$F$216),""))} | AX23: {=IF(A23=0,"",_xlfn.IFNA(_xlfn.IFS(Poules!$E$231='Résultat club'!$A23,Poules!$F$231),""))} | AY23: {=IF(A23=0,"",_xlfn.IFNA(_xlfn.IFS(Poules!$E$232='Résultat club'!$A23,Poules!$F$232),""))} | AZ23: {=IF(A23=0,"",_xlfn.IFNA(_xlfn.IFS(Poules!$E$233='Résultat club'!$A23,Poules!$F$233),""))} | BA23: {=IF(A23=0,"",_xlfn.IFNA(_xlfn.IFS(Poules!$E$234='Résultat club'!$A23,Poules!$F$234),""))} | BB23: {=IF(A23=0,"",_xlfn.IFNA(_xlfn.IFS(Poules!$E$249='Résultat club'!$A23,Poules!$F$249),""))} | BC23: {=IF(A23=0,"",_xlfn.IFNA(_xlfn.IFS(Poules!$E$250='Résultat club'!$A23,Poules!$F$250),""))} | BD23: {=IF(A23=0,"",_xlfn.IFNA(_xlfn.IFS(Poules!$E$251='Résultat club'!$A23,Poules!$F$251),""))} | BE23: {=IF(A23=0,"",_xlfn.IFNA(_xlfn.IFS(Poules!$E$252='Résultat club'!$A23,Poules!$F$252),""))} | BF23: {=IF(A23=0,"",_xlfn.IFNA(_xlfn.IFS(Poules!$E$267='Résultat club'!$A23,Poules!$F$267),""))} | BG23: {=IF(A23=0,"",_xlfn.IFNA(_xlfn.IFS(Poules!$E$268='Résultat club'!$A23,Poules!$F$268),""))} | BH23: {=IF($A23=0,"",_xlfn.IFNA(_xlfn.IFS(Poules!$E$269='Résultat club'!$A23,Poules!$F$269),""))} | BI23: {=IF($A23=0,"",_xlfn.IFNA(_xlfn.IFS(Poules!$E$270='Résultat club'!$A23,Poules!$F$270),""))} | BJ23: {=IF($A23=0,"",_xlfn.IFNA(_xlfn.IFS(Poules!$E$285='Résultat club'!$A23,Poules!$F$285),""))} | BK23: {=IF($A23=0,"",_xlfn.IFNA(_xlfn.IFS(Poules!$E$286='Résultat club'!$A23,Poules!$F$286),""))} | BL23: {=IF($A23=0,"",_xlfn.IFNA(_xlfn.IFS(Poules!$E$287='Résultat club'!$A23,Poules!$F$287),""))} | BM23: {=IF($A23=0,"",_xlfn.IFNA(_xlfn.IFS(Poules!$E$288='Résultat club'!$A23,Poules!$F$288),""))} | BO23: =A23 -> 0 | BP23: =COUNTIF('Listes poules triées'!$A$1:$B$60,$A23) -> 0
B24: {=IF(A24=0,"",_xlfn.IFNA(_xlfn.IFS(Poules!$E$15='Résultat club'!$A24,Poules!$F$15)," "))} | C24: {=IF(A24=0,"",_xlfn.IFNA(_xlfn.IFS(Poules!$E$16='Résultat club'!$A24,Poules!$F$16)," "))} | D24: {=IF(A24=0,"",_xlfn.IFNA(_xlfn.IFS(Poules!$E$17='Résultat club'!$A24,Poules!$F$17)," "))} | E24: {=IF(A24=0,"",_xlfn.IFNA(_xlfn.IFS(Poules!$E$18='Résultat club'!$A24,Poules!$F$18)," "))} | F24: {=IF(A24=0,"",_xlfn.IFNA(_xlfn.IFS(Poules!$E$33='Résultat club'!$A24,Poules!$F$33)," "))} | G24: {=IF(A24=0,"",_xlfn.IFNA(_xlfn.IFS(Poules!$E$34='Résultat club'!$A24,Poules!$F$34)," "))} | H24: {=IF(A24=0,"",_xlfn.IFNA(_xlfn.IFS(Poules!$E$35='Résultat club'!$A24,Poules!$F$35)," "))} | I24: {=IF(A24=0,"",_xlfn.IFNA(_xlfn.IFS(Poules!$E$36='Résultat club'!$A24,Poules!$F$36)," "))} | J24: {=IF(A24=0,"",_xlfn.IFNA(_xlfn.IFS(Poules!$E$51='Résultat club'!$A24,Poules!$F$51)," "))} | K24: {=IF(A24=0,"",_xlfn.IFNA(_xlfn.IFS(Poules!$E$52='Résultat club'!$A24,Poules!$F$52)," "))} | L24: {=IF(A24=0,"",_xlfn.IFNA(_xlfn.IFS(Poules!$E$53='Résultat club'!$A24,Poules!$F$53)," "))} | M24: {=IF(A24=0,"",_xlfn.IFNA(_xlfn.IFS(Poules!$E$54='Résultat club'!$A24,Poules!$F$54)," "))} | N24: {=IF(A24=0,"",_xlfn.IFNA(_xlfn.IFS(Poules!$E$69='Résultat club'!$A24,Poules!$F$69)," "))} | O24: {=IF(A24=0,"",_xlfn.IFNA(_xlfn.IFS(Poules!$E$70='Résultat club'!$A24,Poules!$F$70)," "))} | P24: {=IF(A24=0,"",_xlfn.IFNA(_xlfn.IFS(Poules!$E$71='Résultat club'!$A24,Poules!$F$71)," "))} | Q24: {=IF(A24=0,"",_xlfn.IFNA(_xlfn.IFS(Poules!$E$72='Résultat club'!$A24,Poules!$F$72)," "))} | R24: {=IF(A24=0,"",_xlfn.IFNA(_xlfn.IFS(Poules!$E$87='Résultat club'!$A24,Poules!$F$87)," "))} | S24: {=IF(A24=0,"",_xlfn.IFNA(_xlfn.IFS(Poules!$E$88='Résultat club'!$A24,Poules!$F$88)," "))} | T24: {=IF(A24=0,"",_xlfn.IFNA(_xlfn.IFS(Poules!$E$89='Résultat club'!$A24,Poules!$F$89)," "))} | U24: {=IF(A24=0,"",_xlfn.IFNA(_xlfn.IFS(Poules!$E$90='Résultat club'!$A24,Poules!$F$90)," "))} | V24: {=IF(A24=0,"",_xlfn.IFNA(_xlfn.IFS(Poules!$E$105='Résultat club'!$A24,Poules!$F$105),""))} | W24: {=IF(A24=0,"",_xlfn.IFNA(_xlfn.IFS(Poules!$E$106='Résultat club'!$A24,Poules!$F$106),""))} | X24: {=IF(A24=0,"",_xlfn.IFNA(_xlfn.IFS(Poules!$E$107='Résultat club'!$A24,Poules!$F$107),""))} | Y24: {=IF(A24=0,"",_xlfn.IFNA(_xlfn.IFS(Poules!$E$108='Résultat club'!$A24,Poules!$F$108),""))} | Z24: {=IF(A24=0,"",_xlfn.IFNA(_xlfn.IFS(Poules!$E$123='Résultat club'!$A24,Poules!$F$123),""))} | AA24: {=IF(A24=0,"",_xlfn.IFNA(_xlfn.IFS(Poules!$E$124='Résultat club'!$A24,Poules!$F$124),""))} | AB24: {=IF(A24=0,"",_xlfn.IFNA(_xlfn.IFS(Poules!$E$125='Résultat club'!$A24,Poules!$F$125),""))} | AC24: {=IF(A24=0,"",_xlfn.IFNA(_xlfn.IFS(Poules!$E$126='Résultat club'!$A24,Poules!$F$126),""))} | AD24: {=IF(A24=0,"",_xlfn.IFNA(_xlfn.IFS(Poules!$E$141='Résultat club'!$A24,Poules!$F$141),""))} | AE24: {=IF(A24=0,"",_xlfn.IFNA(_xlfn.IFS(Poules!$E$142='Résultat club'!$A24,Poules!$F$142),""))} | AF24: {=IF(A24=0,"",_xlfn.IFNA(_xlfn.IFS(Poules!$E$143='Résultat club'!$A24,Poules!$F$143),""))} | AG24: {=IF(A24=0,"",_xlfn.IFNA(_xlfn.IFS(Poules!$E$144='Résultat club'!$A24,Poules!$F$144),""))} | AH24: {=IF(A24=0,"",_xlfn.IFNA(_xlfn.IFS(Poules!$E$159='Résultat club'!$A24,Poules!$F$159),""))} | AI24: {=IF(A24=0,"",_xlfn.IFNA(_xlfn.IFS(Poules!$E$160='Résultat club'!$A24,Poules!$F$160),""))} | AJ24: {=IF(A24=0,"",_xlfn.IFNA(_xlfn.IFS(Poules!$E$161='Résultat club'!$A24,Poules!$F$161),""))} | AK24: {=IF(A24=0,"",_xlfn.IFNA(_xlfn.IFS(Poules!$E$162='Résultat club'!$A24,Poules!$F$162),""))} | AL24: {=IF(A24=0,"",_xlfn.IFNA(_xlfn.IFS(Poules!$E$177='Résultat club'!$A24,Poules!$F$177),""))} | AM24: {=IF(A24=0,"",_xlfn.IFNA(_xlfn.IFS(Poules!$E$178='Résultat club'!$A24,Poules!$F$178),""))} | AN24: {=IF(A24=0,"",_xlfn.IFNA(_xlfn.IFS(Poules!$E$179='Résultat club'!$A24,Poules!$F$179),""))} | AO24: {=IF(A24=0,"",_xlfn.IFNA(_xlfn.IFS(Poules!$E$180='Résultat club'!$A24,Poules!$F$180),""))} | AP24: {=IF(A24=0,"",_xlfn.IFNA(_xlfn.IFS(Poules!$E$195='Résultat club'!$A24,Poules!$F$195),""))} | AQ24: {=IF(A24=0,"",_xlfn.IFNA(_xlfn.IFS(Poules!$E$196='Résultat club'!$A24,Poules!$F$196),""))} | AR24: {=IF(A24=0,"",_xlfn.IFNA(_xlfn.IFS(Poules!$E$197='Résultat club'!$A24,Poules!$F$197),""))} | AS24: {=IF(A24=0,"",_xlfn.IFNA(_xlfn.IFS(Poules!$E$198='Résultat club'!$A24,Poules!$F$198),""))} | AT24: {=IF(A24=0,"",_xlfn.IFNA(_xlfn.IFS(Poules!$E$213='Résultat club'!$A24,Poules!$F$213),""))} | AU24: {=IF(A24=0,"",_xlfn.IFNA(_xlfn.IFS(Poules!$E$214='Résultat club'!$A24,Poules!$F$214),""))} | AV24: {=IF(A24=0,"",_xlfn.IFNA(_xlfn.IFS(Poules!$E$215='Résultat club'!$A24,Poules!$F$215),""))} | AW24: {=IF(A24=0,"",_xlfn.IFNA(_xlfn.IFS(Poules!$E$216='Résultat club'!$A24,Poules!$F$216),""))} | AX24: {=IF(A24=0,"",_xlfn.IFNA(_xlfn.IFS(Poules!$E$231='Résultat club'!$A24,Poules!$F$231),""))} | AY24: {=IF(A24=0,"",_xlfn.IFNA(_xlfn.IFS(Poules!$E$232='Résultat club'!$A24,Poules!$F$232),""))} | AZ24: {=IF(A24=0,"",_xlfn.IFNA(_xlfn.IFS(Poules!$E$233='Résultat club'!$A24,Poules!$F$233),""))} | BA24: {=IF(A24=0,"",_xlfn.IFNA(_xlfn.IFS(Poules!$E$234='Résultat club'!$A24,Poules!$F$234),""))} | BB24: {=IF(A24=0,"",_xlfn.IFNA(_xlfn.IFS(Poules!$E$249='Résultat club'!$A24,Poules!$F$249),""))} | BC24: {=IF(A24=0,"",_xlfn.IFNA(_xlfn.IFS(Poules!$E$250='Résultat club'!$A24,Poules!$F$250),""))} | BD24: {=IF(A24=0,"",_xlfn.IFNA(_xlfn.IFS(Poules!$E$251='Résultat club'!$A24,Poules!$F$251),""))} | BE24: {=IF(A24=0,"",_xlfn.IFNA(_xlfn.IFS(Poules!$E$252='Résultat club'!$A24,Poules!$F$252),""))} | BF24: {=IF(A24=0,"",_xlfn.IFNA(_xlfn.IFS(Poules!$E$267='Résultat club'!$A24,Poules!$F$267),""))} | BG24: {=IF(A24=0,"",_xlfn.IFNA(_xlfn.IFS(Poules!$E$268='Résultat club'!$A24,Poules!$F$268),""))} | BH24: {=IF($A24=0,"",_xlfn.IFNA(_xlfn.IFS(Poules!$E$269='Résultat club'!$A24,Poules!$F$269),""))} | BI24: {=IF($A24=0,"",_xlfn.IFNA(_xlfn.IFS(Poules!$E$270='Résultat club'!$A24,Poules!$F$270),""))} | BJ24: {=IF($A24=0,"",_xlfn.IFNA(_xlfn.IFS(Poules!$E$285='Résultat club'!$A24,Poules!$F$285),""))} | BK24: {=IF($A24=0,"",_xlfn.IFNA(_xlfn.IFS(Poules!$E$286='Résultat club'!$A24,Poules!$F$286),""))} | BL24: {=IF($A24=0,"",_xlfn.IFNA(_xlfn.IFS(Poules!$E$287='Résultat club'!$A24,Poules!$F$287),""))} | BM24: {=IF($A24=0,"",_xlfn.IFNA(_xlfn.IFS(Poules!$E$288='Résultat club'!$A24,Poules!$F$288),""))} | BO24: =A24 -> 0 | BP24: =COUNTIF('Listes poules triées'!$A$1:$B$60,$A24) -> 0
B25: {=IF(A25=0,"",_xlfn.IFNA(_xlfn.IFS(Poules!$E$15='Résultat club'!$A25,Poules!$F$15)," "))} | C25: {=IF(A25=0,"",_xlfn.IFNA(_xlfn.IFS(Poules!$E$16='Résultat club'!$A25,Poules!$F$16)," "))} | D25: {=IF(A25=0,"",_xlfn.IFNA(_xlfn.IFS(Poules!$E$17='Résultat club'!$A25,Poules!$F$17)," "))} | E25: {=IF(A25=0,"",_xlfn.IFNA(_xlfn.IFS(Poules!$E$18='Résultat club'!$A25,Poules!$F$18)," "))} | F25: {=IF(A25=0,"",_xlfn.IFNA(_xlfn.IFS(Poules!$E$33='Résultat club'!$A25,Poules!$F$33)," "))} | G25: {=IF(A25=0,"",_xlfn.IFNA(_xlfn.IFS(Poules!$E$34='Résultat club'!$A25,Poules!$F$34)," "))} | H25: {=IF(A25=0,"",_xlfn.IFNA(_xlfn.IFS(Poules!$E$35='Résultat club'!$A25,Poules!$F$35)," "))} | I25: {=IF(A25=0,"",_xlfn.IFNA(_xlfn.IFS(Poules!$E$36='Résultat club'!$A25,Poules!$F$36)," "))} | J25: {=IF(A25=0,"",_xlfn.IFNA(_xlfn.IFS(Poules!$E$51='Résultat club'!$A25,Poules!$F$51)," "))} | K25: {=IF(A25=0,"",_xlfn.IFNA(_xlfn.IFS(Poules!$E$52='Résultat club'!$A25,Poules!$F$52)," "))} | L25: {=IF(A25=0,"",_xlfn.IFNA(_xlfn.IFS(Poules!$E$53='Résultat club'!$A25,Poules!$F$53)," "))} | M25: {=IF(A25=0,"",_xlfn.IFNA(_xlfn.IFS(Poules!$E$54='Résultat club'!$A25,Poules!$F$54)," "))} | N25: {=IF(A25=0,"",_xlfn.IFNA(_xlfn.IFS(Poules!$E$69='Résultat club'!$A25,Poules!$F$69)," "))} | O25: {=IF(A25=0,"",_xlfn.IFNA(_xlfn.IFS(Poules!$E$70='Résultat club'!$A25,Poules!$F$70)," "))} | P25: {=IF(A25=0,"",_xlfn.IFNA(_xlfn.IFS(Poules!$E$71='Résultat club'!$A25,Poules!$F$71)," "))} | Q25: {=IF(A25=0,"",_xlfn.IFNA(_xlfn.IFS(Poules!$E$72='Résultat club'!$A25,Poules!$F$72)," "))} | R25: {=IF(A25=0,"",_xlfn.IFNA(_xlfn.IFS(Poules!$E$87='Résultat club'!$A25,Poules!$F$87)," "))} | S25: {=IF(A25=0,"",_xlfn.IFNA(_xlfn.IFS(Poules!$E$88='Résultat club'!$A25,Poules!$F$88)," "))} | T25: {=IF(A25=0,"",_xlfn.IFNA(_xlfn.IFS(Poules!$E$89='Résultat club'!$A25,Poules!$F$89)," "))} | U25: {=IF(A25=0,"",_xlfn.IFNA(_xlfn.IFS(Poules!$E$90='Résultat club'!$A25,Poules!$F$90)," "))} | V25: {=IF(A25=0,"",_xlfn.IFNA(_xlfn.IFS(Poules!$E$105='Résultat club'!$A25,Poules!$F$105),""))} | W25: {=IF(A25=0,"",_xlfn.IFNA(_xlfn.IFS(Poules!$E$106='Résultat club'!$A25,Poules!$F$106),""))} | X25: {=IF(A25=0,"",_xlfn.IFNA(_xlfn.IFS(Poules!$E$107='Résultat club'!$A25,Poules!$F$107),""))} | Y25: {=IF(A25=0,"",_xlfn.IFNA(_xlfn.IFS(Poules!$E$108='Résultat club'!$A25,Poules!$F$108),""))} | Z25: {=IF(A25=0,"",_xlfn.IFNA(_xlfn.IFS(Poules!$E$123='Résultat club'!$A25,Poules!$F$123),""))} | AA25: {=IF(A25=0,"",_xlfn.IFNA(_xlfn.IFS(Poules!$E$124='Résultat club'!$A25,Poules!$F$124),""))} | AB25: {=IF(A25=0,"",_xlfn.IFNA(_xlfn.IFS(Poules!$E$125='Résultat club'!$A25,Poules!$F$125),""))} | AC25: {=IF(A25=0,"",_xlfn.IFNA(_xlfn.IFS(Poules!$E$126='Résultat club'!$A25,Poules!$F$126),""))} | AD25: {=IF(A25=0,"",_xlfn.IFNA(_xlfn.IFS(Poules!$E$141='Résultat club'!$A25,Poules!$F$141),""))} | AE25: {=IF(A25=0,"",_xlfn.IFNA(_xlfn.IFS(Poules!$E$142='Résultat club'!$A25,Poules!$F$142),""))} | AF25: {=IF(A25=0,"",_xlfn.IFNA(_xlfn.IFS(Poules!$E$143='Résultat club'!$A25,Poules!$F$143),""))} | AG25: {=IF(A25=0,"",_xlfn.IFNA(_xlfn.IFS(Poules!$E$144='Résultat club'!$A25,Poules!$F$144),""))} | AH25: {=IF(A25=0,"",_xlfn.IFNA(_xlfn.IFS(Poules!$E$159='Résultat club'!$A25,Poules!$F$159),""))} | AI25: {=IF(A25=0,"",_xlfn.IFNA(_xlfn.IFS(Poules!$E$160='Résultat club'!$A25,Poules!$F$160),""))} | AJ25: {=IF(A25=0,"",_xlfn.IFNA(_xlfn.IFS(Poules!$E$161='Résultat club'!$A25,Poules!$F$161),""))} | AK25: {=IF(A25=0,"",_xlfn.IFNA(_xlfn.IFS(Poules!$E$162='Résultat club'!$A25,Poules!$F$162),""))} | AL25: {=IF(A25=0,"",_xlfn.IFNA(_xlfn.IFS(Poules!$E$177='Résultat club'!$A25,Poules!$F$177),""))} | AM25: {=IF(A25=0,"",_xlfn.IFNA(_xlfn.IFS(Poules!$E$178='Résultat club'!$A25,Poules!$F$178),""))} | AN25: {=IF(A25=0,"",_xlfn.IFNA(_xlfn.IFS(Poules!$E$179='Résultat club'!$A25,Poules!$F$179),""))} | AO25: {=IF(A25=0,"",_xlfn.IFNA(_xlfn.IFS(Poules!$E$180='Résultat club'!$A25,Poules!$F$180),""))} | AP25: {=IF(A25=0,"",_xlfn.IFNA(_xlfn.IFS(Poules!$E$195='Résultat club'!$A25,Poules!$F$195),""))} | AQ25: {=IF(A25=0,"",_xlfn.IFNA(_xlfn.IFS(Poules!$E$196='Résultat club'!$A25,Poules!$F$196),""))} | AR25: {=IF(A25=0,"",_xlfn.IFNA(_xlfn.IFS(Poules!$E$197='Résultat club'!$A25,Poules!$F$197),""))} | AS25: {=IF(A25=0,"",_xlfn.IFNA(_xlfn.IFS(Poules!$E$198='Résultat club'!$A25,Poules!$F$198),""))} | AT25: {=IF(A25=0,"",_xlfn.IFNA(_xlfn.IFS(Poules!$E$213='Résultat club'!$A25,Poules!$F$213),""))} | AU25: {=IF(A25=0,"",_xlfn.IFNA(_xlfn.IFS(Poules!$E$214='Résultat club'!$A25,Poules!$F$214),""))} | AV25: {=IF(A25=0,"",_xlfn.IFNA(_xlfn.IFS(Poules!$E$215='Résultat club'!$A25,Poules!$F$215),""))} | AW25: {=IF(A25=0,"",_xlfn.IFNA(_xlfn.IFS(Poules!$E$216='Résultat club'!$A25,Poules!$F$216),""))} | AX25: {=IF(A25=0,"",_xlfn.IFNA(_xlfn.IFS(Poules!$E$231='Résultat club'!$A25,Poules!$F$231),""))} | AY25: {=IF(A25=0,"",_xlfn.IFNA(_xlfn.IFS(Poules!$E$232='Résultat club'!$A25,Poules!$F$232),""))} | AZ25: {=IF(A25=0,"",_xlfn.IFNA(_xlfn.IFS(Poules!$E$233='Résultat club'!$A25,Poules!$F$233),""))} | BA25: {=IF(A25=0,"",_xlfn.IFNA(_xlfn.IFS(Poules!$E$234='Résultat club'!$A25,Poules!$F$234),""))} | BB25: {=IF(A25=0,"",_xlfn.IFNA(_xlfn.IFS(Poules!$E$249='Résultat club'!$A25,Poules!$F$249),""))} | BC25: {=IF(A25=0,"",_xlfn.IFNA(_xlfn.IFS(Poules!$E$250='Résultat club'!$A25,Poules!$F$250),""))} | BD25: {=IF(A25=0,"",_xlfn.IFNA(_xlfn.IFS(Poules!$E$251='Résultat club'!$A25,Poules!$F$251),""))} | BE25: {=IF(A25=0,"",_xlfn.IFNA(_xlfn.IFS(Poules!$E$252='Résultat club'!$A25,Poules!$F$252),""))} | BF25: {=IF(A25=0,"",_xlfn.IFNA(_xlfn.IFS(Poules!$E$267='Résultat club'!$A25,Poules!$F$267),""))} | BG25: {=IF(A25=0,"",_xlfn.IFNA(_xlfn.IFS(Poules!$E$268='Résultat club'!$A25,Poules!$F$268),""))} | BH25: {=IF($A25=0,"",_xlfn.IFNA(_xlfn.IFS(Poules!$E$269='Résultat club'!$A25,Poules!$F$269),""))} | BI25: {=IF($A25=0,"",_xlfn.IFNA(_xlfn.IFS(Poules!$E$270='Résultat club'!$A25,Poules!$F$270),""))} | BJ25: {=IF($A25=0,"",_xlfn.IFNA(_xlfn.IFS(Poules!$E$285='Résultat club'!$A25,Poules!$F$285),""))} | BK25: {=IF($A25=0,"",_xlfn.IFNA(_xlfn.IFS(Poules!$E$286='Résultat club'!$A25,Poules!$F$286),""))} | BL25: {=IF($A25=0,"",_xlfn.IFNA(_xlfn.IFS(Poules!$E$287='Résultat club'!$A25,Poules!$F$287),""))} | BM25: {=IF($A25=0,"",_xlfn.IFNA(_xlfn.IFS(Poules!$E$288='Résultat club'!$A25,Poules!$F$288),""))} | BO25: =A25 -> 0 | BP25: =COUNTIF('Listes poules triées'!$A$1:$B$60,$A25) -> 0
B26: {=IF(A26=0,"",_xlfn.IFNA(_xlfn.IFS(Poules!$E$15='Résultat club'!$A26,Poules!$F$15)," "))} | C26: {=IF(A26=0,"",_xlfn.IFNA(_xlfn.IFS(Poules!$E$16='Résultat club'!$A26,Poules!$F$16)," "))} | D26: {=IF(A26=0,"",_xlfn.IFNA(_xlfn.IFS(Poules!$E$17='Résultat club'!$A26,Poules!$F$17)," "))} | E26: {=IF(A26=0,"",_xlfn.IFNA(_xlfn.IFS(Poules!$E$18='Résultat club'!$A26,Poules!$F$18)," "))} | F26: {=IF(A26=0,"",_xlfn.IFNA(_xlfn.IFS(Poules!$E$33='Résultat club'!$A26,Poules!$F$33)," "))} | G26: {=IF(A26=0,"",_xlfn.IFNA(_xlfn.IFS(Poules!$E$34='Résultat club'!$A26,Poules!$F$34)," "))} | H26: {=IF(A26=0,"",_xlfn.IFNA(_xlfn.IFS(Poules!$E$35='Résultat club'!$A26,Poules!$F$35)," "))} | I26: {=IF(A26=0,"",_xlfn.IFNA(_xlfn.IFS(Poules!$E$36='Résultat club'!$A26,Poules!$F$36)," "))} | J26: {=IF(A26=0,"",_xlfn.IFNA(_xlfn.IFS(Poules!$E$51='Résultat club'!$A26,Poules!$F$51)," "))} | K26: {=IF(A26=0,"",_xlfn.IFNA(_xlfn.IFS(Poules!$E$52='Résultat club'!$A26,Poules!$F$52)," "))} | L26: {=IF(A26=0,"",_xlfn.IFNA(_xlfn.IFS(Poules!$E$53='Résultat club'!$A26,Poules!$F$53)," "))} | M26: {=IF(A26=0,"",_xlfn.IFNA(_xlfn.IFS(Poules!$E$54='Résultat club'!$A26,Poules!$F$54)," "))} | N26: {=IF(A26=0,"",_xlfn.IFNA(_xlfn.IFS(Poules!$E$69='Résultat club'!$A26,Poules!$F$69)," "))} | O26: {=IF(A26=0,"",_xlfn.IFNA(_xlfn.IFS(Poules!$E$70='Résultat club'!$A26,Poules!$F$70)," "))} | P26: {=IF(A26=0,"",_xlfn.IFNA(_xlfn.IFS(Poules!$E$71='Résultat club'!$A26,Poules!$F$71)," "))} | Q26: {=IF(A26=0,"",_xlfn.IFNA(_xlfn.IFS(Poules!$E$72='Résultat club'!$A26,Poules!$F$72)," "))} | R26: {=IF(A26=0,"",_xlfn.IFNA(_xlfn.IFS(Poules!$E$87='Résultat club'!$A26,Poules!$F$87)," "))} | S26: {=IF(A26=0,"",_xlfn.IFNA(_xlfn.IFS(Poules!$E$88='Résultat club'!$A26,Poules!$F$88)," "))} | T26: {=IF(A26=0,"",_xlfn.IFNA(_xlfn.IFS(Poules!$E$89='Résultat club'!$A26,Poules!$F$89)," "))} | U26: {=IF(A26=0,"",_xlfn.IFNA(_xlfn.IFS(Poules!$E$90='Résultat club'!$A26,Poules!$F$90)," "))} | V26: {=IF(A26=0,"",_xlfn.IFNA(_xlfn.IFS(Poules!$E$105='Résultat club'!$A26,Poules!$F$105),""))} | W26: {=IF(A26=0,"",_xlfn.IFNA(_xlfn.IFS(Poules!$E$106='Résultat club'!$A26,Poules!$F$106),""))} | X26: {=IF(A26=0,"",_xlfn.IFNA(_xlfn.IFS(Poules!$E$107='Résultat club'!$A26,Poules!$F$107),""))} | Y26: {=IF(A26=0,"",_xlfn.IFNA(_xlfn.IFS(Poules!$E$108='Résultat club'!$A26,Poules!$F$108),""))} | Z26: {=IF(A26=0,"",_xlfn.IFNA(_xlfn.IFS(Poules!$E$123='Résultat club'!$A26,Poules!$F$123),""))} | AA26: {=IF(A26=0,"",_xlfn.IFNA(_xlfn.IFS(Poules!$E$124='Résultat club'!$A26,Poules!$F$124),""))} | AB26: {=IF(A26=0,"",_xlfn.IFNA(_xlfn.IFS(Poules!$E$125='Résultat club'!$A26,Poules!$F$125),""))} | AC26: {=IF(A26=0,"",_xlfn.IFNA(_xlfn.IFS(Poules!$E$126='Résultat club'!$A26,Poules!$F$126),""))} | AD26: {=IF(A26=0,"",_xlfn.IFNA(_xlfn.IFS(Poules!$E$141='Résultat club'!$A26,Poules!$F$141),""))} | AE26: {=IF(A26=0,"",_xlfn.IFNA(_xlfn.IFS(Poules!$E$142='Résultat club'!$A26,Poules!$F$142),""))} | AF26: {=IF(A26=0,"",_xlfn.IFNA(_xlfn.IFS(Poules!$E$143='Résultat club'!$A26,Poules!$F$143),""))} | AG26: {=IF(A26=0,"",_xlfn.IFNA(_xlfn.IFS(Poules!$E$144='Résultat club'!$A26,Poules!$F$144),""))} | AH26: {=IF(A26=0,"",_xlfn.IFNA(_xlfn.IFS(Poules!$E$159='Résultat club'!$A26,Poules!$F$159),""))} | AI26: {=IF(A26=0,"",_xlfn.IFNA(_xlfn.IFS(Poules!$E$160='Résultat club'!$A26,Poules!$F$160),""))} | AJ26: {=IF(A26=0,"",_xlfn.IFNA(_xlfn.IFS(Poules!$E$161='Résultat club'!$A26,Poules!$F$161),""))} | AK26: {=IF(A26=0,"",_xlfn.IFNA(_xlfn.IFS(Poules!$E$162='Résultat club'!$A26,Poules!$F$162),""))} | AL26: {=IF(A26=0,"",_xlfn.IFNA(_xlfn.IFS(Poules!$E$177='Résultat club'!$A26,Poules!$F$177),""))} | AM26: {=IF(A26=0,"",_xlfn.IFNA(_xlfn.IFS(Poules!$E$178='Résultat club'!$A26,Poules!$F$178),""))} | AN26: {=IF(A26=0,"",_xlfn.IFNA(_xlfn.IFS(Poules!$E$179='Résultat club'!$A26,Poules!$F$179),""))} | AO26: {=IF(A26=0,"",_xlfn.IFNA(_xlfn.IFS(Poules!$E$180='Résultat club'!$A26,Poules!$F$180),""))} | AP26: {=IF(A26=0,"",_xlfn.IFNA(_xlfn.IFS(Poules!$E$195='Résultat club'!$A26,Poules!$F$195),""))} | AQ26: {=IF(A26=0,"",_xlfn.IFNA(_xlfn.IFS(Poules!$E$196='Résultat club'!$A26,Poules!$F$196),""))} | AR26: {=IF(A26=0,"",_xlfn.IFNA(_xlfn.IFS(Poules!$E$197='Résultat club'!$A26,Poules!$F$197),""))} | AS26: {=IF(A26=0,"",_xlfn.IFNA(_xlfn.IFS(Poules!$E$198='Résultat club'!$A26,Poules!$F$198),""))} | AT26: {=IF(A26=0,"",_xlfn.IFNA(_xlfn.IFS(Poules!$E$213='Résultat club'!$A26,Poules!$F$213),""))} | AU26: {=IF(A26=0,"",_xlfn.IFNA(_xlfn.IFS(Poules!$E$214='Résultat club'!$A26,Poules!$F$214),""))} | AV26: {=IF(A26=0,"",_xlfn.IFNA(_xlfn.IFS(Poules!$E$215='Résultat club'!$A26,Poules!$F$215),""))} | AW26: {=IF(A26=0,"",_xlfn.IFNA(_xlfn.IFS(Poules!$E$216='Résultat club'!$A26,Poules!$F$216),""))} | AX26: {=IF(A26=0,"",_xlfn.IFNA(_xlfn.IFS(Poules!$E$231='Résultat club'!$A26,Poules!$F$231),""))} | AY26: {=IF(A26=0,"",_xlfn.IFNA(_xlfn.IFS(Poules!$E$232='Résultat club'!$A26,Poules!$F$232),""))} | AZ26: {=IF(A26=0,"",_xlfn.IFNA(_xlfn.IFS(Poules!$E$233='Résultat club'!$A26,Poules!$F$233),""))} | BA26: {=IF(A26=0,"",_xlfn.IFNA(_xlfn.IFS(Poules!$E$234='Résultat club'!$A26,Poules!$F$234),""))} | BB26: {=IF(A26=0,"",_xlfn.IFNA(_xlfn.IFS(Poules!$E$249='Résultat club'!$A26,Poules!$F$249),""))} | BC26: {=IF(A26=0,"",_xlfn.IFNA(_xlfn.IFS(Poules!$E$250='Résultat club'!$A26,Poules!$F$250),""))} | BD26: {=IF(A26=0,"",_xlfn.IFNA(_xlfn.IFS(Poules!$E$251='Résultat club'!$A26,Poules!$F$251),""))} | BE26: {=IF(A26=0,"",_xlfn.IFNA(_xlfn.IFS(Poules!$E$252='Résultat club'!$A26,Poules!$F$252),""))} | BF26: {=IF(A26=0,"",_xlfn.IFNA(_xlfn.IFS(Poules!$E$267='Résultat club'!$A26,Poules!$F$267),""))} | BG26: {=IF(A26=0,"",_xlfn.IFNA(_xlfn.IFS(Poules!$E$268='Résultat club'!$A26,Poules!$F$268),""))} | BH26: {=IF($A26=0,"",_xlfn.IFNA(_xlfn.IFS(Poules!$E$269='Résultat club'!$A26,Poules!$F$269),""))} | BI26: {=IF($A26=0,"",_xlfn.IFNA(_xlfn.IFS(Poules!$E$270='Résultat club'!$A26,Poules!$F$270),""))} | BJ26: {=IF($A26=0,"",_xlfn.IFNA(_xlfn.IFS(Poules!$E$285='Résultat club'!$A26,Poules!$F$285),""))} | BK26: {=IF($A26=0,"",_xlfn.IFNA(_xlfn.IFS(Poules!$E$286='Résultat club'!$A26,Poules!$F$286),""))} | BL26: {=IF($A26=0,"",_xlfn.IFNA(_xlfn.IFS(Poules!$E$287='Résultat club'!$A26,Poules!$F$287),""))} | BM26: {=IF($A26=0,"",_xlfn.IFNA(_xlfn.IFS(Poules!$E$288='Résultat club'!$A26,Poules!$F$288),""))} | BO26: =A26 -> 0 | BP26: =COUNTIF('Listes poules triées'!$A$1:$B$60,$A26) -> 0
B27: {=IF(A27=0,"",_xlfn.IFNA(_xlfn.IFS(Poules!$E$15='Résultat club'!$A27,Poules!$F$15)," "))} | C27: {=IF(A27=0,"",_xlfn.IFNA(_xlfn.IFS(Poules!$E$16='Résultat club'!$A27,Poules!$F$16)," "))} | D27: {=IF(A27=0,"",_xlfn.IFNA(_xlfn.IFS(Poules!$E$17='Résultat club'!$A27,Poules!$F$17)," "))} | E27: {=IF(A27=0,"",_xlfn.IFNA(_xlfn.IFS(Poules!$E$18='Résultat club'!$A27,Poules!$F$18)," "))} | F27: {=IF(A27=0,"",_xlfn.IFNA(_xlfn.IFS(Poules!$E$33='Résultat club'!$A27,Poules!$F$33)," "))} | G27: {=IF(A27=0,"",_xlfn.IFNA(_xlfn.IFS(Poules!$E$34='Résultat club'!$A27,Poules!$F$34)," "))} | H27: {=IF(A27=0,"",_xlfn.IFNA(_xlfn.IFS(Poules!$E$35='Résultat club'!$A27,Poules!$F$35)," "))} | I27: {=IF(A27=0,"",_xlfn.IFNA(_xlfn.IFS(Poules!$E$36='Résultat club'!$A27,Poules!$F$36)," "))} | J27: {=IF(A27=0,"",_xlfn.IFNA(_xlfn.IFS(Poules!$E$51='Résultat club'!$A27,Poules!$F$51)," "))} | K27: {=IF(A27=0,"",_xlfn.IFNA(_xlfn.IFS(Poules!$E$52='Résultat club'!$A27,Poules!$F$52)," "))} | L27: {=IF(A27=0,"",_xlfn.IFNA(_xlfn.IFS(Poules!$E$53='Résultat club'!$A27,Poules!$F$53)," "))} | M27: {=IF(A27=0,"",_xlfn.IFNA(_xlfn.IFS(Poules!$E$54='Résultat club'!$A27,Poules!$F$54)," "))} | N27: {=IF(A27=0,"",_xlfn.IFNA(_xlfn.IFS(Poules!$E$69='Résultat club'!$A27,Poules!$F$69)," "))} | O27: {=IF(A27=0,"",_xlfn.IFNA(_xlfn.IFS(Poules!$E$70='Résultat club'!$A27,Poules!$F$70)," "))} | P27: {=IF(A27=0,"",_xlfn.IFNA(_xlfn.IFS(Poules!$E$71='Résultat club'!$A27,Poules!$F$71)," "))} | Q27: {=IF(A27=0,"",_xlfn.IFNA(_xlfn.IFS(Poules!$E$72='Résultat club'!$A27,Poules!$F$72)," "))} | R27: {=IF(A27=0,"",_xlfn.IFNA(_xlfn.IFS(Poules!$E$87='Résultat club'!$A27,Poules!$F$87)," "))} | S27: {=IF(A27=0,"",_xlfn.IFNA(_xlfn.IFS(Poules!$E$88='Résultat club'!$A27,Poules!$F$88)," "))} | T27: {=IF(A27=0,"",_xlfn.IFNA(_xlfn.IFS(Poules!$E$89='Résultat club'!$A27,Poules!$F$89)," "))} | U27: {=IF(A27=0,"",_xlfn.IFNA(_xlfn.IFS(Poules!$E$90='Résultat club'!$A27,Poules!$F$90)," "))} | V27: {=IF(A27=0,"",_xlfn.IFNA(_xlfn.IFS(Poules!$E$105='Résultat club'!$A27,Poules!$F$105),""))} | W27: {=IF(A27=0,"",_xlfn.IFNA(_xlfn.IFS(Poules!$E$106='Résultat club'!$A27,Poules!$F$106),""))} | X27: {=IF(A27=0,"",_xlfn.IFNA(_xlfn.IFS(Poules!$E$107='Résultat club'!$A27,Poules!$F$107),""))} | Y27: {=IF(A27=0,"",_xlfn.IFNA(_xlfn.IFS(Poules!$E$108='Résultat club'!$A27,Poules!$F$108),""))} | Z27: {=IF(A27=0,"",_xlfn.IFNA(_xlfn.IFS(Poules!$E$123='Résultat club'!$A27,Poules!$F$123),""))} | AA27: {=IF(A27=0,"",_xlfn.IFNA(_xlfn.IFS(Poules!$E$124='Résultat club'!$A27,Poules!$F$124),""))} | AB27: {=IF(A27=0,"",_xlfn.IFNA(_xlfn.IFS(Poules!$E$125='Résultat club'!$A27,Poules!$F$125),""))} | AC27: {=IF(A27=0,"",_xlfn.IFNA(_xlfn.IFS(Poules!$E$126='Résultat club'!$A27,Poules!$F$126),""))} | AD27: {=IF(A27=0,"",_xlfn.IFNA(_xlfn.IFS(Poules!$E$141='Résultat club'!$A27,Poules!$F$141),""))} | AE27: {=IF(A27=0,"",_xlfn.IFNA(_xlfn.IFS(Poules!$E$142='Résultat club'!$A27,Poules!$F$142),""))} | AF27: {=IF(A27=0,"",_xlfn.IFNA(_xlfn.IFS(Poules!$E$143='Résultat club'!$A27,Poules!$F$143),""))} | AG27: {=IF(A27=0,"",_xlfn.IFNA(_xlfn.IFS(Poules!$E$144='Résultat club'!$A27,Poules!$F$144),""))} | AH27: {=IF(A27=0,"",_xlfn.IFNA(_xlfn.IFS(Poules!$E$159='Résultat club'!$A27,Poules!$F$159),""))} | AI27: {=IF(A27=0,"",_xlfn.IFNA(_xlfn.IFS(Poules!$E$160='Résultat club'!$A27,Poules!$F$160),""))} | AJ27: {=IF(A27=0,"",_xlfn.IFNA(_xlfn.IFS(Poules!$E$161='Résultat club'!$A27,Poules!$F$161),""))} | AK27: {=IF(A27=0,"",_xlfn.IFNA(_xlfn.IFS(Poules!$E$162='Résultat club'!$A27,Poules!$F$162),""))} | AL27: {=IF(A27=0,"",_xlfn.IFNA(_xlfn.IFS(Poules!$E$177='Résultat club'!$A27,Poules!$F$177),""))} | AM27: {=IF(A27=0,"",_xlfn.IFNA(_xlfn.IFS(Poules!$E$178='Résultat club'!$A27,Poules!$F$178),""))} | AN27: {=IF(A27=0,"",_xlfn.IFNA(_xlfn.IFS(Poules!$E$179='Résultat club'!$A27,Poules!$F$179),""))} | AO27: {=IF(A27=0,"",_xlfn.IFNA(_xlfn.IFS(Poules!$E$180='Résultat club'!$A27,Poules!$F$180),""))} | AP27: {=IF(A27=0,"",_xlfn.IFNA(_xlfn.IFS(Poules!$E$195='Résultat club'!$A27,Poules!$F$195),""))} | AQ27: {=IF(A27=0,"",_xlfn.IFNA(_xlfn.IFS(Poules!$E$196='Résultat club'!$A27,Poules!$F$196),""))} | AR27: {=IF(A27=0,"",_xlfn.IFNA(_xlfn.IFS(Poules!$E$197='Résultat club'!$A27,Poules!$F$197),""))} | AS27: {=IF(A27=0,"",_xlfn.IFNA(_xlfn.IFS(Poules!$E$198='Résultat club'!$A27,Poules!$F$198),""))} | AT27: {=IF(A27=0,"",_xlfn.IFNA(_xlfn.IFS(Poules!$E$213='Résultat club'!$A27,Poules!$F$213),""))} | AU27: {=IF(A27=0,"",_xlfn.IFNA(_xlfn.IFS(Poules!$E$214='Résultat club'!$A27,Poules!$F$214),""))} | AV27: {=IF(A27=0,"",_xlfn.IFNA(_xlfn.IFS(Poules!$E$215='Résultat club'!$A27,Poules!$F$215),""))} | AW27: {=IF(A27=0,"",_xlfn.IFNA(_xlfn.IFS(Poules!$E$216='Résultat club'!$A27,Poules!$F$216),""))} | AX27: {=IF(A27=0,"",_xlfn.IFNA(_xlfn.IFS(Poules!$E$231='Résultat club'!$A27,Poules!$F$231),""))} | AY27: {=IF(A27=0,"",_xlfn.IFNA(_xlfn.IFS(Poules!$E$232='Résultat club'!$A27,Poules!$F$232),""))} | AZ27: {=IF(A27=0,"",_xlfn.IFNA(_xlfn.IFS(Poules!$E$233='Résultat club'!$A27,Poules!$F$233),""))} | BA27: {=IF(A27=0,"",_xlfn.IFNA(_xlfn.IFS(Poules!$E$234='Résultat club'!$A27,Poules!$F$234),""))} | BB27: {=IF(A27=0,"",_xlfn.IFNA(_xlfn.IFS(Poules!$E$249='Résultat club'!$A27,Poules!$F$249),""))} | BC27: {=IF(A27=0,"",_xlfn.IFNA(_xlfn.IFS(Poules!$E$250='Résultat club'!$A27,Poules!$F$250),""))} | BD27: {=IF(A27=0,"",_xlfn.IFNA(_xlfn.IFS(Poules!$E$251='Résultat club'!$A27,Poules!$F$251),""))} | BE27: {=IF(A27=0,"",_xlfn.IFNA(_xlfn.IFS(Poules!$E$252='Résultat club'!$A27,Poules!$F$252),""))} | BF27: {=IF(A27=0,"",_xlfn.IFNA(_xlfn.IFS(Poules!$E$267='Résultat club'!$A27,Poules!$F$267),""))} | BG27: {=IF(A27=0,"",_xlfn.IFNA(_xlfn.IFS(Poules!$E$268='Résultat club'!$A27,Poules!$F$268),""))} | BH27: {=IF($A27=0,"",_xlfn.IFNA(_xlfn.IFS(Poules!$E$269='Résultat club'!$A27,Poules!$F$269),""))} | BI27: {=IF($A27=0,"",_xlfn.IFNA(_xlfn.IFS(Poules!$E$270='Résultat club'!$A27,Poules!$F$270),""))} | BJ27: {=IF($A27=0,"",_xlfn.IFNA(_xlfn.IFS(Poules!$E$285='Résultat club'!$A27,Poules!$F$285),""))} | BK27: {=IF($A27=0,"",_xlfn.IFNA(_xlfn.IFS(Poules!$E$286='Résultat club'!$A27,Poules!$F$286),""))} | BL27: {=IF($A27=0,"",_xlfn.IFNA(_xlfn.IFS(Poules!$E$287='Résultat club'!$A27,Poules!$F$287),""))} | BM27: {=IF($A27=0,"",_xlfn.IFNA(_xlfn.IFS(Poules!$E$288='Résultat club'!$A27,Poules!$F$288),""))} | BO27: =A27 -> 0 | BP27: =COUNTIF('Listes poules triées'!$A$1:$B$60,$A27) -> 0
B28: {=IF(A28=0,"",_xlfn.IFNA(_xlfn.IFS(Poules!$E$15='Résultat club'!$A28,Poules!$F$15)," "))} | C28: {=IF(A28=0,"",_xlfn.IFNA(_xlfn.IFS(Poules!$E$16='Résultat club'!$A28,Poules!$F$16)," "))} | D28: {=IF(A28=0,"",_xlfn.IFNA(_xlfn.IFS(Poules!$E$17='Résultat club'!$A28,Poules!$F$17)," "))} | E28: {=IF(A28=0,"",_xlfn.IFNA(_xlfn.IFS(Poules!$E$18='Résultat club'!$A28,Poules!$F$18)," "))} | F28: {=IF(A28=0,"",_xlfn.IFNA(_xlfn.IFS(Poules!$E$33='Résultat club'!$A28,Poules!$F$33)," "))} | G28: {=IF(A28=0,"",_xlfn.IFNA(_xlfn.IFS(Poules!$E$34='Résultat club'!$A28,Poules!$F$34)," "))} | H28: {=IF(A28=0,"",_xlfn.IFNA(_xlfn.IFS(Poules!$E$35='Résultat club'!$A28,Poules!$F$35)," "))} | I28: {=IF(A28=0,"",_xlfn.IFNA(_xlfn.IFS(Poules!$E$36='Résultat club'!$A28,Poules!$F$36)," "))} | J28: {=IF(A28=0,"",_xlfn.IFNA(_xlfn.IFS(Poules!$E$51='Résultat club'!$A28,Poules!$F$51)," "))} | K28: {=IF(A28=0,"",_xlfn.IFNA(_xlfn.IFS(Poules!$E$52='Résultat club'!$A28,Poules!$F$52)," "))} | L28: {=IF(A28=0,"",_xlfn.IFNA(_xlfn.IFS(Poules!$E$53='Résultat club'!$A28,Poules!$F$53)," "))} | M28: {=IF(A28=0,"",_xlfn.IFNA(_xlfn.IFS(Poules!$E$54='Résultat club'!$A28,Poules!$F$54)," "))} | N28: {=IF(A28=0,"",_xlfn.IFNA(_xlfn.IFS(Poules!$E$69='Résultat club'!$A28,Poules!$F$69)," "))} | O28: {=IF(A28=0,"",_xlfn.IFNA(_xlfn.IFS(Poules!$E$70='Résultat club'!$A28,Poules!$F$70)," "))} | P28: {=IF(A28=0,"",_xlfn.IFNA(_xlfn.IFS(Poules!$E$71='Résultat club'!$A28,Poules!$F$71)," "))} | Q28: {=IF(A28=0,"",_xlfn.IFNA(_xlfn.IFS(Poules!$E$72='Résultat club'!$A28,Poules!$F$72)," "))} | R28: {=IF(A28=0,"",_xlfn.IFNA(_xlfn.IFS(Poules!$E$87='Résultat club'!$A28,Poules!$F$87)," "))} | S28: {=IF(A28=0,"",_xlfn.IFNA(_xlfn.IFS(Poules!$E$88='Résultat club'!$A28,Poules!$F$88)," "))} | T28: {=IF(A28=0,"",_xlfn.IFNA(_xlfn.IFS(Poules!$E$89='Résultat club'!$A28,Poules!$F$89)," "))} | U28: {=IF(A28=0,"",_xlfn.IFNA(_xlfn.IFS(Poules!$E$90='Résultat club'!$A28,Poules!$F$90)," "))} | V28: {=IF(A28=0,"",_xlfn.IFNA(_xlfn.IFS(Poules!$E$105='Résultat club'!$A28,Poules!$F$105),""))} | W28: {=IF(A28=0,"",_xlfn.IFNA(_xlfn.IFS(Poules!$E$106='Résultat club'!$A28,Poules!$F$106),""))} | X28: {=IF(A28=0,"",_xlfn.IFNA(_xlfn.IFS(Poules!$E$107='Résultat club'!$A28,Poules!$F$107),""))} | Y28: {=IF(A28=0,"",_xlfn.IFNA(_xlfn.IFS(Poules!$E$108='Résultat club'!$A28,Poules!$F$108),""))} | Z28: {=IF(A28=0,"",_xlfn.IFNA(_xlfn.IFS(Poules!$E$123='Résultat club'!$A28,Poules!$F$123),""))} | AA28: {=IF(A28=0,"",_xlfn.IFNA(_xlfn.IFS(Poules!$E$124='Résultat club'!$A28,Poules!$F$124),""))} | AB28: {=IF(A28=0,"",_xlfn.IFNA(_xlfn.IFS(Poules!$E$125='Résultat club'!$A28,Poules!$F$125),""))} | AC28: {=IF(A28=0,"",_xlfn.IFNA(_xlfn.IFS(Poules!$E$126='Résultat club'!$A28,Poules!$F$126),""))} | AD28: {=IF(A28=0,"",_xlfn.IFNA(_xlfn.IFS(Poules!$E$141='Résultat club'!$A28,Poules!$F$141),""))} | AE28: {=IF(A28=0,"",_xlfn.IFNA(_xlfn.IFS(Poules!$E$142='Résultat club'!$A28,Poules!$F$142),""))} | AF28: {=IF(A28=0,"",_xlfn.IFNA(_xlfn.IFS(Poules!$E$143='Résultat club'!$A28,Poules!$F$143),""))} | AG28: {=IF(A28=0,"",_xlfn.IFNA(_xlfn.IFS(Poules!$E$144='Résultat club'!$A28,Poules!$F$144),""))} | AH28: {=IF(A28=0,"",_xlfn.IFNA(_xlfn.IFS(Poules!$E$159='Résultat club'!$A28,Poules!$F$159),""))} | AI28: {=IF(A28=0,"",_xlfn.IFNA(_xlfn.IFS(Poules!$E$160='Résultat club'!$A28,Poules!$F$160),""))} | AJ28: {=IF(A28=0,"",_xlfn.IFNA(_xlfn.IFS(Poules!$E$161='Résultat club'!$A28,Poules!$F$161),""))} | AK28: {=IF(A28=0,"",_xlfn.IFNA(_xlfn.IFS(Poules!$E$162='Résultat club'!$A28,Poules!$F$162),""))} | AL28: {=IF(A28=0,"",_xlfn.IFNA(_xlfn.IFS(Poules!$E$177='Résultat club'!$A28,Poules!$F$177),""))} | AM28: {=IF(A28=0,"",_xlfn.IFNA(_xlfn.IFS(Poules!$E$178='Résultat club'!$A28,Poules!$F$178),""))} | AN28: {=IF(A28=0,"",_xlfn.IFNA(_xlfn.IFS(Poules!$E$179='Résultat club'!$A28,Poules!$F$179),""))} | AO28: {=IF(A28=0,"",_xlfn.IFNA(_xlfn.IFS(Poules!$E$180='Résultat club'!$A28,Poules!$F$180),""))} | AP28: {=IF(A28=0,"",_xlfn.IFNA(_xlfn.IFS(Poules!$E$195='Résultat club'!$A28,Poules!$F$195),""))} | AQ28: {=IF(A28=0,"",_xlfn.IFNA(_xlfn.IFS(Poules!$E$196='Résultat club'!$A28,Poules!$F$196),""))} | AR28: {=IF(A28=0,"",_xlfn.IFNA(_xlfn.IFS(Poules!$E$197='Résultat club'!$A28,Poules!$F$197),""))} | AS28: {=IF(A28=0,"",_xlfn.IFNA(_xlfn.IFS(Poules!$E$198='Résultat club'!$A28,Poules!$F$198),""))} | AT28: {=IF(A28=0,"",_xlfn.IFNA(_xlfn.IFS(Poules!$E$213='Résultat club'!$A28,Poules!$F$213),""))} | AU28: {=IF(A28=0,"",_xlfn.IFNA(_xlfn.IFS(Poules!$E$214='Résultat club'!$A28,Poules!$F$214),""))} | AV28: {=IF(A28=0,"",_xlfn.IFNA(_xlfn.IFS(Poules!$E$215='Résultat club'!$A28,Poules!$F$215),""))} | AW28: {=IF(A28=0,"",_xlfn.IFNA(_xlfn.IFS(Poules!$E$216='Résultat club'!$A28,Poules!$F$216),""))} | AX28: {=IF(A28=0,"",_xlfn.IFNA(_xlfn.IFS(Poules!$E$231='Résultat club'!$A28,Poules!$F$231),""))} | AY28: {=IF(A28=0,"",_xlfn.IFNA(_xlfn.IFS(Poules!$E$232='Résultat club'!$A28,Poules!$F$232),""))} | AZ28: {=IF(A28=0,"",_xlfn.IFNA(_xlfn.IFS(Poules!$E$233='Résultat club'!$A28,Poules!$F$233),""))} | BA28: {=IF(A28=0,"",_xlfn.IFNA(_xlfn.IFS(Poules!$E$234='Résultat club'!$A28,Poules!$F$234),""))} | BB28: {=IF(A28=0,"",_xlfn.IFNA(_xlfn.IFS(Poules!$E$249='Résultat club'!$A28,Poules!$F$249),""))} | BC28: {=IF(A28=0,"",_xlfn.IFNA(_xlfn.IFS(Poules!$E$250='Résultat club'!$A28,Poules!$F$250),""))} | BD28: {=IF(A28=0,"",_xlfn.IFNA(_xlfn.IFS(Poules!$E$251='Résultat club'!$A28,Poules!$F$251),""))} | BE28: {=IF(A28=0,"",_xlfn.IFNA(_xlfn.IFS(Poules!$E$252='Résultat club'!$A28,Poules!$F$252),""))} | BF28: {=IF(A28=0,"",_xlfn.IFNA(_xlfn.IFS(Poules!$E$267='Résultat club'!$A28,Poules!$F$267),""))} | BG28: {=IF(A28=0,"",_xlfn.IFNA(_xlfn.IFS(Poules!$E$268='Résultat club'!$A28,Poules!$F$268),""))} | BH28: {=IF($A28=0,"",_xlfn.IFNA(_xlfn.IFS(Poules!$E$269='Résultat club'!$A28,Poules!$F$269),""))} | BI28: {=IF($A28=0,"",_xlfn.IFNA(_xlfn.IFS(Poules!$E$270='Résultat club'!$A28,Poules!$F$270),""))} | BJ28: {=IF($A28=0,"",_xlfn.IFNA(_xlfn.IFS(Poules!$E$285='Résultat club'!$A28,Poules!$F$285),""))} | BK28: {=IF($A28=0,"",_xlfn.IFNA(_xlfn.IFS(Poules!$E$286='Résultat club'!$A28,Poules!$F$286),""))} | BL28: {=IF($A28=0,"",_xlfn.IFNA(_xlfn.IFS(Poules!$E$287='Résultat club'!$A28,Poules!$F$287),""))} | BM28: {=IF($A28=0,"",_xlfn.IFNA(_xlfn.IFS(Poules!$E$288='Résultat club'!$A28,Poules!$F$288),""))} | BO28: =A28 -> 0 | BP28: =COUNTIF('Listes poules triées'!$A$1:$B$60,$A28) -> 0
AW29: {=_xlfn.IFNA(_xlfn.IFS(Poules!$E$216='Résultat club'!$A29,Poules!$F$216),"")}
AW30: {=_xlfn.IFNA(_xlfn.IFS(Poules!$E$216='Résultat club'!$A30,Poules!$F$216),"")}

Sheet Classement équipes
A1: Classement | B1: Score équipe | C1: Club
A2: 1er | B2: {=_xlfn.SORTBY('Résultat club'!BN2:BO28,'Résultat club'!BN2:BN28,-1)} -> 43 | C2: DINAN
A3: 2ème | B3: 43 | C3: GUILERS
A4: 3ème | B4: 40 | C4: LANDIVISIAU
A5: 4ème | B5: 36 | C5: ST POL DE LEON
A6: 5ème | B6: 36 | C6: LANNION
A7: 6ème | B7: 31 | C7: LANDEDA
A8: 7ème | B8: 28 | C8: PLOGASTEL ST GERMAIN
A9: 8ème | B9: 28 | C9: PLOUGASNOU
A10: 9ème | B10: 26 | C10: TINTENIAC
A11: 10ème | B11: 24 | C11: ST RENAN
A12: 11ème | B12: 22 | C12: PAIMPOL
A13: 12ème | B13: 22 | C13: GUICHEN
A14: 13ème | B14: 0 | C14: CESSON SEVIGNE
... A16: 15ème | B16: 0 | C16: ST QUAY PORTRIEUX
A17: 16ème | B17: 0 | C17: 0
A18: 17ème | B18: 0 | C18: 0
A19: 18ème | B19: 0 | C19: 0
A20: 19ème | B20: 0 | C20: 0
A21: 20ème | B21: 0 | C21: 0
A22: 21er | B22: 0 | C22: 0
A23: 22ème | B23: 0 | C23: 0
A24: 23ème | B24: 0 | C24: 0
A25: 24ème | B25: 0 | C25: 0
A26: 25ème | B26: 0 | C26: 0
A27: 26ème | B27: 0 | C27: 0
A28: 27ème | B28: 0 | C28: 0
