Workbook

Sheet Emplacement
A1: 1 | C1: B2L-257-14-04-8 | D1: 1 | F1: B2L-257-14-03-8 | G1: 1 | I1: B2L-257-14-02-8 | J1: 1 | L1: B2L-257-14-01-8
A2: 1 | C2: B2L-257-14-04-7 | D2: 1 | F2: B2L-257-14-03-7 | G2: 1 | I2: B2L-257-14-02-7 | J2: 1 | L2: B2L-257-14-01-7
A3: 1 | C3: B2L-257-14-04-6 | D3: 1 | F3: B2L-257-14-03-6 | G3: 1 | I3: B2L-257-14-02-6 | J3: 1 | L3: B2L-257-14-01-6
C4: B2L-257-14-04-5 | F4: B2L-257-14-03-5 | G4: 1 | I4: B2L-257-14-02-5 | J4: 1 | L4: B2L-257-14-01-5
A5: 1 | C5: B2L-257-14-04-4 | F5: B2L-257-14-03-4 | I5: B2L-257-14-02-4 | J5: 1 | L5: B2L-257-14-01-4
A6: 1 | C6: B2L-257-14-04-3 | D6: 1 | F6: B2L-257-14-03-3 | I6: B2L-257-14-02-3 | J6: 1 | L6: B2L-257-14-01-3
A7: 1 | C7: B2L-257-14-04-2 | D7: 1 | F7: B2L-257-14-03-2 | G7: 1 | I7: B2L-257-14-02-2 | L7: B2L-257-14-01-2
A8: 1 | C8: B2L-257-14-04-1 | D8: 1 | F8: B2L-257-14-03-1 | G8: 1 | I8: B2L-257-14-02-1 | J8: 1 | L8: B2L-257-14-01-1
A9: 1 | C9: B2L-257-13-04-8 | D9: 1 | F9: B2L-257-13-03-8 | G9: 1 | I9: B2L-257-13-02-8 | J9: 1 | L9: B2L-257-13-01-8
A10: 1 | C10: B2L-257-13-04-7 | D10: 1 | F10: B2L-257-13-03-7 | G10: 1 | I10: B2L-257-13-02-7 | J10: 1 | L10: B2L-257-13-01-7
A11: 1 | C11: B2L-257-13-04-6 | D11: 1 | F11: B2L-257-13-03-6 | G11: 1 | I11: B2L-257-13-02-6 | J11: 1 | L11: B2L-257-13-01-6
A12: 1 | C12: B2L-257-13-04-5 | D12: 1 | F12: B2L-257-13-03-5 | G12: 1 | I12: B2L-257-13-02-5 | J12: 1 | L12: B2L-257-13-01-5
A13: 1 | C13: B2L-257-13-04-4 | D13: 1 | F13: B2L-257-13-03-4 | G13: 1 | I13: B2L-257-13-02-4 | J13: 1 | L13: B2L-257-13-01-4
A14: 1 | C14: B2L-257-13-04-3 | D14: 1 | F14: B2L-257-13-03-3 | G14: 1 | I14: B2L-257-13-02-3 | J14: 1 | L14: B2L-257-13-01-3
A15: 1 | C15: B2L-257-13-04-2 | D15: 1 | F15: B2L-257-13-03-2 | G15: 1 | I15: B2L-257-13-02-2 | J15: 1 | L15: B2L-257-13-01-2
A16: 1 | C16: B2L-257-13-04-1 | D16: 1 | F16: B2L-257-13-03-1 | G16: 1 | I16: B2L-257-13-02-1 | J16: 1 | L16: B2L-257-13-01-1
A17: 1 | C17: B2L-257-12-04-8 | D17: 1 | F17: B2L-257-12-03-8 | G17: 1 | I17: B2L-257-12-02-8 | J17: 1 | L17: B2L-257-12-01-8
C18: B2L-257-12-04-7 | F18: B2L-257-12-03-7 | I18: B2L-257-12-02-7 | L18: B2L-257-12-01-7
C19: B2L-257-12-04-6 | F19: B2L-257-12-03-6 | I19: B2L-257-12-02-6 | L19: B2L-257-12-01-6
A20: 1 | C20: B2L-257-12-04-5 | D20: 1 | F20: B2L-257-12-03-5 | G20: 1 | I20: B2L-257-12-02-5 | J20: 1 | L20: B2L-257-12-01-5
A21: 1 | C21: B2L-257-12-04-4 | D21: 1 | F21: B2L-257-12-03-4 | G21: 1 | I21: B2L-257-12-02-4 | J21: 1 | L21: B2L-257-12-01-4
A22: 1 | C22: B2L-257-12-04-3 | D22: 1 | F22: B2L-257-12-03-3 | G22: 1 | I22: B2L-257-12-02-3 | J22: 1 | L22: B2L-257-12-01-3
A23: 1 | C23: B2L-257-12-04-2 | D23: 1 | F23: B2L-257-12-03-2 | G23: 1 | I23: B2L-257-12-02-2 | J23: 1 | L23: B2L-257-12-01-2
A24: 1 | C24: B2L-257-12-04-1 | D24: 1 | F24: B2L-257-12-03-1 | G24: 1 | I24: B2L-257-12-02-1 | J24: 1 | L24: B2L-257-12-01-1
A25: 1 | C25: B2L-257-11-04-8 | D25: 1 | F25: B2L-257-11-03-8 | G25: 1 | I25: B2L-257-11-02-8 | J25: 1 | L25: B2L-257-11-01-8
A26: 1 | C26: B2L-257-11-04-7 | D26: 1 | F26: B2L-257-11-03-7 | G26: 1 | I26: B2L-257-11-02-7 | J26: 1 | L26: B2L-257-11-01-7
A27: 1 | C27: B2L-257-11-04-6 | D27: 1 | F27: B2L-257-11-03-6 | G27: 1 | I27: B2L-257-11-02-6 | J27: 1 | L27: B2L-257-11-01-6
A28: 1 | C28: B2L-257-11-04-5 | D28: 1 | F28: B2L-257-11-03-5 | G28: 1 | I28: B2L-257-11-02-5 | J28: 1 | L28: B2L-257-11-01-5
A29: 1 | C29: B2L-257-11-04-4 | D29: 1 | F29: B2L-257-11-03-4 | G29: 1 | I29: B2L-257-11-02-4 | J29: 1 | L29: B2L-257-11-01-4
A30: 1 | C30: B2L-257-11-04-3 | D30: 1 | F30: B2L-257-11-03-3 | G30: 1 | I30: B2L-257-11-02-3 | J30: 1 | L30: B2L-257-11-01-3
A31: 1 | C31: B2L-257-11-04-2 | D31: 1 | F31: B2L-257-11-03-2 | G31: 1 | I31: B2L-257-11-02-2 | J31: 1 | L31: B2L-257-11-01-2
A32: 1 | C32: B2L-257-11-04-1 | D32: 1 | F32: B2L-257-11-03-1 | G32: 1 | I32: B2L-257-11-02-1 | J32: 1 | L32: B2L-257-11-01-1

Sheet Modèle
A1: 1 | B1: =[1]Emplacement!C1 -> 0 | C1: ME-AUT-Léger C | D1: 1 | E1: =[1]Emplacement!F1 -> 0 | F1: ME-AUT-Lourd C | G1: 1 | H1: =[1]Emplacement!I1 -> 0 | I1: ME-AUT-Lourd C | J1: 1 | K1: =[1]Emplacement!L1 -> 0 | L1: ME-AUT-Moyen C
A2: 1 | B2: =[1]Emplacement!C2 -> 0 | C2: ME-AUT-Léger C | D2: 1 | E2: =[1]Emplacement!F2 -> 0 | F2: ME-AUT-Lourd C | G2: 1 | H2: =[1]Emplacement!I2 -> 0 | I2: ME-AUT-Lourd C | J2: 1 | K2: =[1]Emplacement!L2 -> 0 | L2: ME-AUT-Moyen C
A3: 1 | B3: =[1]Emplacement!C3 -> 0 | C3: ME-AUT-Léger C | D3: 1 | E3: =[1]Emplacement!F3 -> 02 | F3: ME-AUT-Lourd C | G3: 1 | H3: =[1]Emplacement!I3 -> 0 | I3: ME-AUT-Lourd C | J3: 1 | K3: =[1]Emplacement!L3 -> 0 | L3: ME-AUT-Moyen C
B4: =[1]Emplacement!C4 -> 0 | E4: =[1]Emplacement!F4 -> 1 | G4: 1 | H4: =[1]Emplacement!I4 -> 0 | I4: ME-AUT-Lourd C | J4: 1 | K4: =[1]Emplacement!L4 -> 0 | L4: ME-AUT-Moyen C
A5: 1 | B5: =[1]Emplacement!C5 -> 0 | C5: ME-AUT-Léger C | E5: =[1]Emplacement!F5 -> 1 | H5: =[1]Emplacement!I5 -> 0 | J5: 1 | K5: =[1]Emplacement!L5 -> 0 | L5: ME-AUT-Moyen C
A6: 1 | B6: =[1]Emplacement!C6 -> 0 | C6: ME-AUT-Léger C | D6: 1 | E6: =[1]Emplacement!F6 -> 1 | F6: ME-AUT-Lourd C | H6: =[1]Emplacement!I6 -> 0 | J6: 1 | K6: =[1]Emplacement!L6 -> 0 | L6: ME-AUT-Moyen C
A7: 1 | B7: =[1]Emplacement!C7 -> 0 | C7: ME-AUT-Léger C | D7: 1 | E7: =[1]Emplacement!F7 -> 1 | F7: ME-AUT-Lourd C | G7: 1 | H7: =[1]Emplacement!I7 -> 0 | I7: ME-AUT-Lourd C | K7: =[1]Emplacement!L7 -> 0
A8: 1 | B8: =[1]Emplacement!C8 -> 0 | C8: ME-AUT-Léger C | D8: 1 | E8: =[1]Emplacement!F8 -> 1 | F8: ME-AUT-Lourd C | G8: 1 | H8: =[1]Emplacement!I8 -> 0 | I8: ME-AUT-Lourd C | J8: 1 | K8: =[1]Emplacement!L8 -> 0 | L8: ME-AUT-Moyen C
A9: 1 | B9: =[1]Emplacement!C9 -> 0 | C9: ME-AUT-Léger C | D9: 1 | E9: =[1]Emplacement!F9 -> 1 | F9: ME-AUT-Lourd C | G9: 1 | H9: =[1]Emplacement!I9 -> 0 | I9: ME-AUT-Lourd C | J9: 1 | K9: =[1]Emplacement!L9 -> 0 | L9: ME-AUT-Moyen C
A10: 1 | B10: =[1]Emplacement!C10 -> 0 | C10: ME-AUT-Léger C | D10: 1 | E10: =[1]Emplacement!F10 -> 1 | F10: ME-AUT-Lourd C | G10: 1 | H10: =[1]Emplacement!I10 -> 0 | I10: ME-AUT-Lourd C | J10: 1 | K10: =[1]Emplacement!L10 -> 0 | L10: ME-AUT-Moyen C
A11: 1 | B11: =[1]Emplacement!C11 -> 0 | C11: ME-AUT-Léger B | D11: 1 | E11: =[1]Emplacement!F11 -> 1 | F11: ME-AUT-Lourd B | G11: 1 | H11: =[1]Emplacement!I11 -> 0 | I11: ME-AUT-Lourd B | J11: 1 | K11: =[1]Emplacement!L11 -> 0 | L11: ME-AUT-Moyen B
A12: 1 | B12: =[1]Emplacement!C12 -> 0 | C12: ME-AUT-Léger B | D12: 1 | E12: =[1]Emplacement!F12 -> 1 | F12: ME-AUT-Lourd B | G12: 1 | H12: =[1]Emplacement!I12 -> 0 | I12: ME-AUT-Lourd B | J12: 1 | K12: =[1]Emplacement!L12 -> 0 | L12: ME-AUT-Moyen B
A13: 1 | B13: =[1]Emplacement!C13 -> 0 | C13: ME-AUT-Léger B | D13: 1 | E13: =[1]Emplacement!F13 -> 1 | F13: ME-AUT-Lourd B | G13: 1 | H13: =[1]Emplacement!I13 -> 0 | I13: ME-AUT-Lourd B | J13: 1 | K13: =[1]Emplacement!L13 -> 0 | L13: ME-AUT-Moyen B
A14: 1 | B14: =[1]Emplacement!C14 -> 0 | C14: ME-AUT-Léger B | D14: 1 | E14: =[1]Emplacement!F14 -> 1 | F14: ME-AUT-Lourd B | G14: 1 | H14: =[1]Emplacement!I14 -> 0 | I14: ME-AUT-Lourd B | J14: 1 | K14: =[1]Emplacement!L14 -> 0 | L14: ME-AUT-Moyen B
A15: 1 | B15: =[1]Emplacement!C15 -> 0 | C15: D | D15: 1 | E15: =[1]Emplacement!F15 -> 1 | F15: D | G15: 1 | H15: =[1]Emplacement!I15 -> 0 | I15: D | J15: 1 | K15: =[1]Emplacement!L15 -> 0 | L15: D
A16: 1 | B16: =[1]Emplacement!C16 -> 0 | C16: ME-AUT-Léger B | D16: 1 | E16: =[1]Emplacement!F16 -> 1 | F16: ME-AUT-Lourd B | G16: 1 | H16: =[1]Emplacement!I16 -> 0 | I16: ME-AUT-Lourd B | J16: 1 | K16: =[1]Emplacement!L16 -> 0
A17: 1 | B17: =[1]Emplacement!C17 -> 0 | C17: ME-AUT-Léger B | D17: 1 | E17: =[1]Emplacement!F17 -> 1 | F17: ME-AUT-Lourd B | G17: 1 | H17: =[1]Emplacement!I17 -> 0 | I17: ME-AUT-Lourd B | J17: 1 | K17: =[1]Emplacement!L17 -> 0 | L17: ME-AUT-Moyen B
B18: =[1]Emplacement!C18 -> 0 | E18: =[1]Emplacement!F18 -> 1 | H18: =[1]Emplacement!I18 -> 0 | K18: =[1]Emplacement!L18 -> 0
B19: =[1]Emplacement!C19 -> 0 | E19: =[1]Emplacement!F19 -> 1 | H19: =[1]Emplacement!I19 -> 0 | K19: =[1]Emplacement!L19 -> 0
A20: 1 | B20: =[1]Emplacement!C20 -> 0 | C20: ME-AUT-Léger B | D20: 1 | E20: =[1]Emplacement!F20 -> 1 | F20: ME-AUT-Lourd B | G20: 1 | H20: =[1]Emplacement!I20 -> 0 | I20: ME-AUT-Lourd B | J20: 1 | K20: =[1]Emplacement!L20 -> 0 | L20: ME-AUT-Moyen B
A21: 1 | B21: =[1]Emplacement!C21 -> 0 | C21: ME-AUT-Léger B | D21: 1 | E21: =[1]Emplacement!F21 -> 1 | F21: ME-AUT-Lourd B | G21: 1 | H21: =[1]Emplacement!I21 -> 0 | I21: ME-AUT-Lourd B | J21: 1 | K21: =[1]Emplacement!L21 -> 0 | L21: ME-AUT-Moyen B
A22: 1 | B22: =[1]Emplacement!C22 -> 0 | C22: ME-AUT-Léger B | D22: 1 | E22: =[1]Emplacement!F22 -> 1 | F22: ME-AUT-Lourd B | G22: 1 | H22: =[1]Emplacement!I22 -> 0 | I22: ME-AUT-Lourd B | J22: 1 | K22: =[1]Emplacement!L22 -> 0 | L22: ME-AUT-Moyen B
A23: 1 | B23: =[1]Emplacement!C23 -> 0 | C23: D | D23: 1 | E23: =[1]Emplacement!F23 -> 1 | F23: D | G23: 1 | H23: =[1]Emplacement!I23 -> 0 | I23: D | J23: 1 | K23: =[1]Emplacement!L23 -> 0 | L23: D
A24: 1 | B24: =[1]Emplacement!C24 -> 0 | C24: ME-AUT-Léger A | D24: 1 | E24: =[1]Emplacement!F24 -> 1 | F24: ME-AUT-Moyen A | G24: 1 | H24: =[1]Emplacement!I24 -> 0 | I24: ME-AUT-Moyen A | J24: 1 | K24: =[1]Emplacement!L24 -> 0 | L24: ME-AUT-Léger A
A25: 1 | B25: =[1]Emplacement!C25 -> 0 | C25: D | D25: 1 | E25: =[1]Emplacement!F25 -> 1 | F25: D | G25: 1 | H25: =[1]Emplacement!I25 -> 0 | I25: D | J25: 1 | K25: =[1]Emplacement!L25 -> 0 | L25: D
A26: 1 | B26: =[1]Emplacement!C26 -> 0 | C26: ME-AUT-Léger A | D26: 1 | E26: =[1]Emplacement!F26 -> 1 | F26: ME-AUT-Lourd A | G26: 1 | H26: =[1]Emplacement!I26 -> 0 | I26: ME-AUT-Moyen A | J26: 1 | K26: =[1]Emplacement!L26 -> 0 | L26: ME-AUT-Léger A
A27: 1 | B27: =[1]Emplacement!C27 -> 0 | D27: 1 | E27: =[1]Emplacement!F27 -> 1 | G27: 1 | H27: =[1]Emplacement!I27 -> 0 | J27: 1 | K27: =[1]Emplacement!L27 -> 0
A28: 1 | B28: =[1]Emplacement!C28 -> 0 | D28: 1 | E28: =[1]Emplacement!F28 -> 1 | F28: ME-AUT-Lourd B | G28: 1 | H28: =[1]Emplacement!I28 -> 0 | I28: ME-AUT-Lourd B | J28: 1 | K28: =[1]Emplacement!L28 -> 0 | L28: ME-AUT-Moyen B
A29: 1 | B29: =[1]Emplacement!C29 -> 0 | C29: ME-AUT-Léger A | D29: 1 | E29: =[1]Emplacement!F29 -> 1 | F29: ME-AUT-Moyen A | G29: 1 | H29: =[1]Emplacement!I29 -> 0 | I29: ME-AUT-Lourd A | J29: 1 | K29: =[1]Emplacement!L29 -> 0 | L29: ME-AUT-Léger A
A30: 1 | B30: =[1]Emplacement!C30 -> 0 | C30: ME-AUT-Léger A | D30: 1 | E30: =[1]Emplacement!F30 -> 1 | F30: ME-AUT-Moyen A | G30: 1 | H30: =[1]Emplacement!I30 -> 0 | I30: ME-AUT-Lourd A | J30: 1 | K30: =[1]Emplacement!L30 -> 0 | L30: ME-AUT-Léger A
A31: 1 | B31: =[1]Emplacement!C31 -> 0 | C31: D | D31: 1 | E31: =[1]Emplacement!F31 -> 1 | F31: D | G31: 1 | H31: =[1]Emplacement!I31 -> 0 | I31: D | J31: 1 | K31: =[1]Emplacement!L31 -> 0 | L31: D
A32: 1 | B32: =[1]Emplacement!C32 -> 0 | C32: ME-AUT-Léger A | D32: 1 | E32: =[1]Emplacement!F32 -> 1 | F32: ME-AUT-Lourd A | G32: 1 | H32: =[1]Emplacement!I32 -> 0 | I32: ME-AUT-Lourd A | J32: 1 | K32: =[1]Emplacement!L32 -> 0 | L32: ME-AUT-Léger A

Sheet Liste emplacement
A1: Emplacement colonne 1 | B1: Modèle colonne 1 | C1: Emplacement colonne 2 | D1: Modèle colonne 2 | E1: Emplacement colonne 3 | F1: Modèle colonne 3 | G1: Emplacement colonne 4 | H1: Modèle colonne 4
A2: =Emplacement!C1 -> B2L-257-14-04-8 | B2: =Modèle!C1 -> ME-AUT-Léger C | C2: =Emplacement!F1 -> B2L-257-14-03-8 | D2: =Modèle!F1 -> ME-AUT-Lourd C | E2: =Emplacement!I1 -> B2L-257-14-02-8 | F2: =Modèle!I1 -> ME-AUT-Lourd C | G2: =Emplacement!L1 -> B2L-257-14-01-8 | H2: =Modèle!L1 -> ME-AUT-Moyen C
A3: =Emplacement!C2 -> B2L-257-14-04-7 | B3: =Modèle!C2 -> ME-AUT-Léger C | C3: =Emplacement!F2 -> B2L-257-14-03-7 | D3: =Modèle!F2 -> ME-AUT-Lourd C | E3: =Emplacement!I2 -> B2L-257-14-02-7 | F3: =Modèle!I2 -> ME-AUT-Lourd C | G3: =Emplacement!L2 -> B2L-257-14-01-7 | H3: =Modèle!L2 -> ME-AUT-Moyen C
A4: =Emplacement!C3 -> B2L-257-14-04-6 | B4: =Modèle!C3 -> ME-AUT-Léger C | C4: =Emplacement!F3 -> B2L-257-14-03-6 | D4: =Modèle!F3 -> ME-AUT-Lourd C | E4: =Emplacement!I3 -> B2L-257-14-02-6 | F4: =Modèle!I3 -> ME-AUT-Lourd C | G4: =Emplacement!L3 -> B2L-257-14-01-6 | H4: =Modèle!L3 -> ME-AUT-Moyen C
A5: =Emplacement!C4 -> B2L-257-14-04-5 | B5: =Modèle!C4 -> 0 | C5: =Emplacement!F4 -> B2L-257-14-03-5 | D5: =Modèle!F4 -> 0 | E5: =Emplacement!I4 -> B2L-257-14-02-5 | F5: =Modèle!I4 -> ME-AUT-Lourd C | G5: =Emplacement!L4 -> B2L-257-14-01-5 | H5: =Modèle!L4 -> ME-AUT-Moyen C
A6: =Emplacement!C5 -> B2L-257-14-04-4 | B6: =Modèle!C5 -> ME-AUT-Léger C | C6: =Emplacement!F5 -> B2L-257-14-03-4 | D6: =Modèle!F5 -> 0 | E6: =Emplacement!I5 -> B2L-257-14-02-4 | F6: =Modèle!I5 -> 0 | G6: =Emplacement!L5 -> B2L-257-14-01-4 | H6: =Modèle!L5 -> ME-AUT-Moyen C
A7: =Emplacement!C6 -> B2L-257-14-04-3 | B7: =Modèle!C6 -> ME-AUT-Léger C | C7: =Emplacement!F6 -> B2L-257-14-03-3 | D7: =Modèle!F6 -> ME-AUT-Lourd C | E7: =Emplacement!I6 -> B2L-257-14-02-3 | F7: =Modèle!I6 -> 0 | G7: =Emplacement!L6 -> B2L-257-14-01-3 | H7: =Modèle!L6 -> ME-AUT-Moyen C
A8: =Emplacement!C7 -> B2L-257-14-04-2 | B8: =Modèle!C7 -> ME-AUT-Léger C | C8: =Emplacement!F7 -> B2L-257-14-03-2 | D8: =Modèle!F7 -> ME-AUT-Lourd C | E8: =Emplacement!I7 -> B2L-257-14-02-2 | F8: =Modèle!I7 -> ME-AUT-Lourd C | G8: =Emplacement!L7 -> B2L-257-14-01-2 | H8: =Modèle!L7 -> 0
A9: =Emplacement!C8 -> B2L-257-14-04-1 | B9: =Modèle!C8 -> ME-AUT-Léger C | C9: =Emplacement!F8 -> B2L-257-14-03-1 | D9: =Modèle!F8 -> ME-AUT-Lourd C | E9: =Emplacement!I8 -> B2L-257-14-02-1 | F9: =Modèle!I8 -> ME-AUT-Lourd C | G9: =Emplacement!L8 -> B2L-257-14-01-1 | H9: =Modèle!L8 -> ME-AUT-Moyen C
A10: =Emplacement!C9 -> B2L-257-13-04-8 | B10: =Modèle!C9 -> ME-AUT-Léger C | C10: =Emplacement!F9 -> B2L-257-13-03-8 | D10: =Modèle!F9 -> ME-AUT-Lourd C | E10: =Emplacement!I9 -> B2L-257-13-02-8 | F10: =Modèle!I9 -> ME-AUT-Lourd C | G10: =Emplacement!L9 -> B2L-257-13-01-8 | H10: =Modèle!L9 -> ME-AUT-Moyen C
A11: =Emplacement!C10 -> B2L-257-13-04-7 | B11: =Modèle!C10 -> ME-AUT-Léger C | C11: =Emplacement!F10 -> B2L-257-13-03-7 | D11: =Modèle!F10 -> ME-AUT-Lourd C | E11: =Emplacement!I10 -> B2L-257-13-02-7 | F11: =Modèle!I10 -> ME-AUT-Lourd C | G11: =Emplacement!L10 -> B2L-257-13-01-7 | H11: =Modèle!L10 -> ME-AUT-Moyen C
A12: =Emplacement!C11 -> B2L-257-13-04-6 | B12: =Modèle!C11 -> ME-AUT-Léger B | C12: =Emplacement!F11 -> B2L-257-13-03-6 | D12: =Modèle!F11 -> ME-AUT-Lourd B | E12: =Emplacement!I11 -> B2L-257-13-02-6 | F12: =Modèle!I11 -> ME-AUT-Lourd B | G12: =Emplacement!L11 -> B2L-257-13-01-6 | H12: =Modèle!L11 -> ME-AUT-Moyen B
A13: =Emplacement!C12 -> B2L-257-13-04-5 | B13: =Modèle!C12 -> ME-AUT-Léger B | C13: =Emplacement!F12 -> B2L-257-13-03-5 | D13: =Modèle!F12 -> ME-AUT-Lourd B | E13: =Emplacement!I12 -> B2L-257-13-02-5 | F13: =Modèle!I12 -> ME-AUT-Lourd B | G13: =Emplacement!L12 -> B2L-257-13-01-5 | H13: =Modèle!L12 -> ME-AUT-Moyen B
... A33: =Emplacement!C32 -> B2L-257-11-04-1 | B33: =Modèle!C32 -> ME-AUT-Léger A | C33: =Emplacement!F32 -> B2L-257-11-03-1 | D33: =Modèle!F32 -> ME-AUT-Lourd A | E33: =Emplacement!I32 -> B2L-257-11-02-1 | F33: =Modèle!I32 -> ME-AUT-Lourd A | G33: =Emplacement!L32 -> B2L-257-11-01-1 | H33: =Modèle!L32 -> ME-AUT-Léger A
