Workbook

Sheet tableau croisé dynamique
A3: Count of Etalonnage Int/Ext | C3: Equipment type Désignation
A4: Department Département | B4: Event Name Fréquence étalonnage | C4: Agitateur magnétique | D4: Agitateur Moteur | E4: Analyse thermique | F4: Bain-marie | G4: Balance | H4: Cale | I4: Cale | J4: Capteur de pression | K4: Capteur dynamomètre | L4: Chronomètre | M4: Closing Force mètre | N4: Colcounter | O4: Comparateur | P4: Débitmètre à Azote | Q4: Dynamomètre | R4: Enceinte climatique | S4: Etuve | T4: Go NoGo | U4: Injecteur automatique | V4: Manomètre | W4: Mesures diamètres | X4: Micromètre | Y4: Micromètre Laser | Z4: Mitutoyo | AA4: NA | AB4: Pied à coulisse | AC4: Piges | AD4: Pince multimètre | AE4: Plots de travail | AF4: Poids de Travail | AG4: Préfit force mètre | AH4: Punching Force tester | AI4: Régulateur | AJ4: Sonde de Pression | AK4: Sonde de température | AL4: Sonde et afficheur | AM4: Sonde T°C / %RH | AN4: Sondes PT100 | AO4: Support | AP4: Support | AQ4: Tamis | AR4: Tempo | AS4: Thermohygrographe | AT4: Thermohygromètre | AU4: Thermomètre | AV4: Thermomètre | AW4: Thermomètre à sondes | AX4: Vacuomètre | AY4: Débitmètre scellage | AZ4: (blank) | BA4: Lems | BB4: Afficheur Balance | BC4: Pompe Céramique | BD4: Sondes PT101 | BE4: Régulateur de température | BF4: Rotation Tambour | BG4: Grand Total
A5: LICAPS | B5: NA | C5: 1 | D5: 15 | F5: 7 | G5: 14 | H5: 5 | I5: 16 | J5: 12 | L5: 5 | N5: 3 | P5: 14 | R5: 3 | S5: 1 | V5: 38 | AA5: 1 | AB5: 7 | AD5: 1 | AF5: 21 | AI5: 51 | AJ5: 10 | AK5: 3 | AL5: 5 | AM5: 16 | AN5: 28 | AQ5: 25 | AR5: 5 | AS5: 2 | AU5: 77 | AV5: 6 | AW5: 8 | AX5: 23 | AY5: 14 | BA5: 3 | BB5: 1 | BC5: 4 | BD5: 1 | BE5: 2 | BF5: 7 | BG5: 455
B6: 12 mois | AB6: 3 | AF6: 2 | BG6: 5
A7: LICAPS Total | C7: 1 | D7: 15 | F7: 7 | G7: 14 | H7: 5 | I7: 16 | J7: 12 | L7: 5 | N7: 3 | P7: 14 | R7: 3 | S7: 1 | V7: 38 | AA7: 1 | AB7: 10 | AD7: 1 | AF7: 23 | AI7: 51 | AJ7: 10 | AK7: 3 | AL7: 5 | AM7: 16 | AN7: 28 | AQ7: 25 | AR7: 5 | AS7: 2 | AU7: 77 | AV7: 6 | AW7: 8 | AX7: 23 | AY7: 14 | BA7: 3 | BB7: 1 | BC7: 4 | BD7: 1 | BE7: 2 | BF7: 7 | BG7: 460
A8: (blank) | B8: (blank) | AK8: 3 | BG8: 3
A9: (blank) Total | AK9: 3 | BG9: 3
A10: Assurance Qualité | B10: NA | E10: 1 | G10: 1 | H10: 1 | I10: 127 | L10: 1 | N10: 9 | O10: 10 | T10: 70 | X10: 38 | Z10: 6 | AF10: 11 | AG10: 2 | AH10: 1 | AO10: 1 | AP10: 13 | AQ10: 62 | AT10: 1 | BG10: 355
B11: 12 mois | H11: 1 | K11: 1 | L11: 2 | O11: 1 | Q11: 1 | W11: 1 | AB11: 4 | AC11: 14 | AE11: 1 | AF11: 4 | AG11: 2 | AP11: 1 | AS11: 1 | BG11: 34
B12: 24 mois | I12: 30 | T12: 39 | BG12: 69
B13: 6 mois | Y13: 1 | AB13: 1 | BG13: 2
B14: 3 mois | M14: 1 | AG14: 2 | BG14: 3
B15: 2 mois | G15: 1 | BG15: 1
A16: Assurance Qualité Total | E16: 1 | G16: 2 | H16: 2 | I16: 157 | K16: 1 | L16: 3 | M16: 1 | N16: 9 | O16: 11 | Q16: 1 | T16: 109 | W16: 1 | X16: 38 | Y16: 1 | Z16: 6 | AB16: 5 | AC16: 14 | AE16: 1 | AF16: 15 | AG16: 6 | AH16: 1 | AO16: 1 | AP16: 14 | AQ16: 62 | AS16: 1 | AT16: 1 | BG16: 464
A17: ??? | B17: NA | U17: 1 | BG17: 1
A18: ??? Total | U18: 1 | BG18: 1
A19: PTG | B19: 12 mois | AD19: 2 | BG19: 2
A20: PTG Total | AD20: 2 | BG20: 2
A21: Grand Total | C21: 1 | D21: 15 | E21: 1 | F21: 7 | G21: 16 | H21: 7 | I21: 173 | J21: 12 | K21: 1 | L21: 8 | M21: 1 | N21: 12 | O21: 11 | P21: 14 | Q21: 1 | R21: 3 | S21: 1 | T21: 109 | U21: 1 | V21: 38 | W21: 1 | X21: 38 | Y21: 1 | Z21: 6 | AA21: 1 | AB21: 15 | AC21: 14 | AD21: 3 | AE21: 1 | AF21: 38 | AG21: 6 | AH21: 1 | AI21: 51 | AJ21: 10 | AK21: 6 | AL21: 5 | AM21: 16 | AN21: 28 | AO21: 1 | AP21: 14 | AQ21: 87 | AR21: 5 | AS21: 3 | AT21: 1 | AU21: 77 | AV21: 6 | AW21: 8 | AX21: 23 | AY21: 14 | BA21: 3 | BB21: 1 | BC21: 4 | BD21: 1 | BE21: 2 | BF21: 7 | BG21: 930

Sheet inventaire
B1: INVENTAIRE DES EQUIPEMENTS METROLOGIE
C2: Rebuté
C3: En cours de lancement
A8: Component ID N° Int | B8: Equipment type Désignation | C8: Famille | D8: Location Localisation | E8: Criticality Criticité | F8: Tolérance d'utilisation
A9: 1FT002.03 | B9: Compteur | C9: Compteur | D9: CIP 1 | E9: NON
A10: 1FT003.03 | B10: Débitmètre | C10: Mesure de produit par pesée | D10: CIP 1 | E10: NON
A11: 1FT003.05 | B11: Débitmètre | C11: Mesure de produit par pesée | D11: CIP 1 | E11: OUI | F11: +/-4l/min
A12: 2 FT002.03 | B12: Compteur | C12: Compteur | D12: CIP 2 | E12: NON
A13: A 015 | B13: Tamis | C13: Dimensions | D13: Magasin | E13: NA | F13: NA
A14: A 016 | B14: Tamis | C14: Dimensions | D14: Magasin | E14: NA | F14: NA
A15: A 017 | B15: Tamis | C15: Dimensions | D15: Magasin | E15: NA | F15: NA
A16: A 018 | B16: Tamis | C16: Dimensions | D16: Magasin | E16: OUI | F16: NA
A17: AA Q01 | B17: Doseur automatique | C17: Niveau | D17: Local AA | E17: NON
A18: PT M220 | B18: Sonde de température | C18: Température | D18: Réserve TTVPS | E18: NON
A19: PT M221 | B19: Sonde de température | C19: Température | D19: Réserve TTVPS | E19: NON
A20: PT M222 | B20: Sonde de température | C20: Température | D20: Sèchage kiln HCM | E20: NON
A21: PT M223 | B21: Sonde de température | C21: Température | D21: Sèchage kiln HCM | E21: NON

Sheet Sheet1
A1: Matrice des relations entre équipements
D6: Component ID | E6: AC E01 | F6: AC E02 | G6: AC E03 | H6: AC P01 | I6: BM M01 | J6: CH T20 | K6: CI E05 | L6: CL E01 | M6: CL E11 | N6: CL T01 | O6: CL T15
D7: Equipment type | E7: Solution de chlore | F7: Solution de chlore | G7: Solution de chlore | H7: Analyseur portatif de chlore | I7: Boitier de mesure | J7: Chronomètre | K7: Calibrateur | L7: Cale | M7: Cale | N7: Cale de travail | O7: Cale
D8: Famille | E8: Etalon | F8: Etalon | G8: Etalon | H8: Etalon | I8: Etalon | J8: Etalon | K8: Etalon | L8: Etalon | M8: Etalon | N8: Etalon | O8: Etalon
A9: Component ID | B9: Equipment type | C9: Famille | D9: Criticité | E9: OUI | F9: OUI | G9: OUI | H9: NON | I9: OUI | J9: OUI | K9: OUI | L9: OUI | M9: OUI | N9: OUI | O9: OUI
A10: =IF(ISBLANK(inventaire!A9),"",inventaire!A9) -> 1FT002.03 | B10: =IF(ISBLANK(inventaire!B9),"",inventaire!B9) -> Compteur | C10: =IF(ISBLANK(inventaire!C9),"",inventaire!C9) -> Compteur | D10: =IF(ISBLANK(inventaire!E9),"",inventaire!E9) -> NON
A11: =IF(ISBLANK(inventaire!A10),"",inventaire!A10) -> 1FT003.03 | B11: =IF(ISBLANK(inventaire!B10),"",inventaire!B10) -> Débitmètre | C11: =IF(ISBLANK(inventaire!C10),"",inventaire!C10) -> Mesure de produit par pesée | D11: =IF(ISBLANK(inventaire!E10),"",inventaire!E10) -> NON
A12: =IF(ISBLANK(inventaire!A11),"",inventaire!A11) -> 1FT003.05 | B12: =IF(ISBLANK(inventaire!B11),"",inventaire!B11) -> Débitmètre | C12: =IF(ISBLANK(inventaire!C11),"",inventaire!C11) -> Mesure de produit par pesée | D12: =IF(ISBLANK(inventaire!E11),"",inventaire!E11) -> OUI
A13: =IF(ISBLANK(inventaire!A12),"",inventaire!A12) -> 2 FT002.03 | B13: =IF(ISBLANK(inventaire!B12),"",inventaire!B12) -> Compteur | C13: =IF(ISBLANK(inventaire!C12),"",inventaire!C12) -> Compteur | D13: =IF(ISBLANK(inventaire!E12),"",inventaire!E12) -> NON | F13: ×
A14: =IF(ISBLANK(inventaire!A13),"",inventaire!A13) -> A 015 | B14: =IF(ISBLANK(inventaire!B13),"",inventaire!B13) -> Tamis | C14: =IF(ISBLANK(inventaire!C13),"",inventaire!C13) -> Dimensions | D14: =IF(ISBLANK(inventaire!E13),"",inventaire!E13) -> NA | H14: ×
A15: =IF(ISBLANK(inventaire!A14),"",inventaire!A14) -> A 016 | B15: =IF(ISBLANK(inventaire!B14),"",inventaire!B14) -> Tamis | C15: =IF(ISBLANK(inventaire!C14),"",inventaire!C14) -> Dimensions | D15: =IF(ISBLANK(inventaire!E14),"",inventaire!E14) -> NA | F15: ×
A16: =IF(ISBLANK(inventaire!A15),"",inventaire!A15) -> A 017 | B16: =IF(ISBLANK(inventaire!B15),"",inventaire!B15) -> Tamis | C16: =IF(ISBLANK(inventaire!C15),"",inventaire!C15) -> Dimensions | D16: =IF(ISBLANK(inventaire!E15),"",inventaire!E15) -> NA | M16: ×
A17: =IF(ISBLANK(inventaire!A16),"",inventaire!A16) -> A 018 | B17: =IF(ISBLANK(inventaire!B16),"",inventaire!B16) -> Tamis | C17: =IF(ISBLANK(inventaire!C16),"",inventaire!C16) -> Dimensions | D17: =IF(ISBLANK(inventaire!E16),"",inventaire!E16) -> OUI | M17: ×
A18: =IF(ISBLANK(inventaire!A17),"",inventaire!A17) -> AA Q01 | B18: =IF(ISBLANK(inventaire!B17),"",inventaire!B17) -> Doseur automatique | C18: =IF(ISBLANK(inventaire!C17),"",inventaire!C17) -> Niveau | D18: =IF(ISBLANK(inventaire!E17),"",inventaire!E17) -> NON
A19: =IF(ISBLANK(inventaire!A18),"",inventaire!A18) -> PT M220 | B19: =IF(ISBLANK(inventaire!B18),"",inventaire!B18) -> Sonde de température | C19: =IF(ISBLANK(inventaire!C18),"",inventaire!C18) -> Température | D19: =IF(ISBLANK(inventaire!E18),"",inventaire!E18) -> NON | G19: ×
A20: =IF(ISBLANK(inventaire!A19),"",inventaire!A19) -> PT M221 | B20: =IF(ISBLANK(inventaire!B19),"",inventaire!B19) -> Sonde de température | C20: =IF(ISBLANK(inventaire!C19),"",inventaire!C19) -> Température | D20: =IF(ISBLANK(inventaire!E19),"",inventaire!E19) -> NON | H20: ×
A21: =IF(ISBLANK(inventaire!A20),"",inventaire!A20) -> PT M222 | B21: =IF(ISBLANK(inventaire!B20),"",inventaire!B20) -> Sonde de température | C21: =IF(ISBLANK(inventaire!C20),"",inventaire!C20) -> Température | D21: =IF(ISBLANK(inventaire!E20),"",inventaire!E20) -> NON | H21: ×
A22: =IF(ISBLANK(inventaire!A21),"",inventaire!A21) -> PT M223 | B22: =IF(ISBLANK(inventaire!B21),"",inventaire!B21) -> Sonde de température | C22: =IF(ISBLANK(inventaire!C21),"",inventaire!C21) -> Température | D22: =IF(ISBLANK(inventaire!E21),"",inventaire!E21) -> NON | G22: × | H22: ×
A23: =IF(ISBLANK(inventaire!A22),"",inventaire!A22) | B23: =IF(ISBLANK(inventaire!B22),"",inventaire!B22) | C23: =IF(ISBLANK(inventaire!C22),"",inventaire!C22) | D23: =IF(ISBLANK(inventaire!E22),"",inventaire!E22)
A24: =IF(ISBLANK(inventaire!A23),"",inventaire!A23) | B24: =IF(ISBLANK(inventaire!B23),"",inventaire!B23) | C24: =IF(ISBLANK(inventaire!C23),"",inventaire!C23) | D24: =IF(ISBLANK(inventaire!E23),"",inventaire!E23)
A25: =IF(ISBLANK(inventaire!A24),"",inventaire!A24) | B25: =IF(ISBLANK(inventaire!B24),"",inventaire!B24) | C25: =IF(ISBLANK(inventaire!C24),"",inventaire!C24) | D25: =IF(ISBLANK(inventaire!E24),"",inventaire!E24)
A26: =IF(ISBLANK(inventaire!A25),"",inventaire!A25) | B26: =IF(ISBLANK(inventaire!B25),"",inventaire!B25) | C26: =IF(ISBLANK(inventaire!C25),"",inventaire!C25) | D26: =IF(ISBLANK(inventaire!E25),"",inventaire!E25)
A27: =IF(ISBLANK(inventaire!A26),"",inventaire!A26) | B27: =IF(ISBLANK(inventaire!B26),"",inventaire!B26) | C27: =IF(ISBLANK(inventaire!C26),"",inventaire!C26) | D27: =IF(ISBLANK(inventaire!E26),"",inventaire!E26)
A28: =IF(ISBLANK(inventaire!A27),"",inventaire!A27) | B28: =IF(ISBLANK(inventaire!B27),"",inventaire!B27) | C28: =IF(ISBLANK(inventaire!C27),"",inventaire!C27) | D28: =IF(ISBLANK(inventaire!E27),"",inventaire!E27)
A29: =IF(ISBLANK(inventaire!A28),"",inventaire!A28) | B29: =IF(ISBLANK(inventaire!B28),"",inventaire!B28) | C29: =IF(ISBLANK(inventaire!C28),"",inventaire!C28) | D29: =IF(ISBLANK(inventaire!E28),"",inventaire!E28)
A30: =IF(ISBLANK(inventaire!A29),"",inventaire!A29) | B30: =IF(ISBLANK(inventaire!B29),"",inventaire!B29) | C30: =IF(ISBLANK(inventaire!C29),"",inventaire!C29) | D30: =IF(ISBLANK(inventaire!E29),"",inventaire!E29)
A31: =IF(ISBLANK(inventaire!A30),"",inventaire!A30) | B31: =IF(ISBLANK(inventaire!B30),"",inventaire!B30) | C31: =IF(ISBLANK(inventaire!C30),"",inventaire!C30) | D31: =IF(ISBLANK(inventaire!E30),"",inventaire!E30)
A32: =IF(ISBLANK(inventaire!A31),"",inventaire!A31) | B32: =IF(ISBLANK(inventaire!B31),"",inventaire!B31) | C32: =IF(ISBLANK(inventaire!C31),"",inventaire!C31) | D32: =IF(ISBLANK(inventaire!E31),"",inventaire!E31)
A33: =IF(ISBLANK(inventaire!A32),"",inventaire!A32) | B33: =IF(ISBLANK(inventaire!B32),"",inventaire!B32) | C33: =IF(ISBLANK(inventaire!C32),"",inventaire!C32) | D33: =IF(ISBLANK(inventaire!E32),"",inventaire!E32)
A34: =IF(ISBLANK(inventaire!A33),"",inventaire!A33) | B34: =IF(ISBLANK(inventaire!B33),"",inventaire!B33) | C34: =IF(ISBLANK(inventaire!C33),"",inventaire!C33) | D34: =IF(ISBLANK(inventaire!E33),"",inventaire!E33)
... A2000: =IF(ISBLANK(inventaire!A1999),"",inventaire!A1999) | B2000: =IF(ISBLANK(inventaire!B1999),"",inventaire!B1999) | C2000: =IF(ISBLANK(inventaire!C1999),"",inventaire!C1999) | D2000: =IF(ISBLANK(inventaire!E1999),"",inventaire!E1999)
