Workbook
Name Date_Paie: #REF!
Name Date_Paiement: DATE(YEAR(Début_Prêt),MONTH(Début_Prêt)+Payment_Number,DAY(Début_Prêt))
Name Début_Prêt: #REF!
Name Dernière_Ligne: IF(Valeurs_Entrées,Ligne_EnTête+Nbre_de_Paiements,Ligne_EnTête)
Name Données: #REF!
Name Durée_Prêt: #REF!
Name Ent: #REF!
Name Impression_Entière: #REF!
Name Intérêt_Total: #REF!
Name Intérêts_Cumulés: #REF!
Name Ligne_EnTête: ROW(#REF!)
Name Montant_Prêt: #REF!
Name Nbre_de_Paiements: MATCH(0.01,Solde_Final,-1)+1
Name Nbre_Pmt: #REF!
Name Nbre_Pmt_Par_An: #REF!
Name Pmt_Mensuel_Programmé: #REF!
Name Pmt_Programmé: #REF!
Name Pmt_Supplémentaire: #REF!
Name Pmt_Total: #REF!
Name Pmts_Supplémentaires_Programmés: #REF!
Name Princ: #REF!
Name Réinit_Zone_Impression: OFFSET(Impression_Entière,0,0,Dernière_Ligne)
Name Solde_Départ: #REF!
Name Solde_Final: #REF!
Name Taux_Intérêt: #REF!
Name Taux_Intérêt_Programmé: #REF!
Name Valeurs_Entrées: IF(Montant_Prêt*Taux_Intérêt*Durée_Prêt*Début_Prêt>0,1,0)

Sheet COM
B11: Réf Facture | C11: Clients (NOM & PRENOM) | F11: MONTANT FACTURE | G11: TYPE MOTO | H11: PARTENAIRE | I11: COMMISSION
H12: SAC HERO | I12: =VLOOKUP(COM!H12,PARA!$A$2:$F$8,2) -> 20000
H13: MEGAMONDE | I13: =VLOOKUP(COM!H13,PARA!$A$2:$F$8,2) -> 15000
H14: CFAO MOTORS | I14: =VLOOKUP(COM!H14,PARA!$A$2:$F$8,2) -> #N/A
H15: SALAMBERE MULTI SERVICES | I15: =VLOOKUP(COM!H15,PARA!$A$2:$F$8,2) -> 20000
H16: SICOTRAB | I16: =VLOOKUP(COM!H16,PARA!$A$2:$F$8,2) -> 20000
H17: WATAM SA | I17: =VLOOKUP(COM!H17,PARA!$A$2:$F$8,2) -> 20000
H18: EDYF | I18: =VLOOKUP(COM!H18,PARA!$A$2:$F$8,2) -> #N/A
I19: =VLOOKUP(COM!H19,PARA!$A$2:$F$8,2) -> #N/A
I20: =VLOOKUP(COM!H20,PARA!$A$2:$F$8,2) -> #N/A
I21: =VLOOKUP(COM!H21,PARA!$A$2:$F$8,2) -> #N/A
I22: =VLOOKUP(COM!H22,PARA!$A$2:$F$8,2) -> #N/A
I23: =VLOOKUP(COM!H23,PARA!$A$2:$F$8,2) -> #N/A
I24: =VLOOKUP(COM!H24,PARA!$A$2:$F$8,2) -> #N/A
I25: =VLOOKUP(COM!H25,PARA!$A$2:$F$8,2) -> #N/A
I26: =VLOOKUP(COM!H26,PARA!$A$2:$F$8,2) -> #N/A
I27: =VLOOKUP(COM!H27,PARA!$A$2:$F$8,2) -> #N/A
I28: =VLOOKUP(COM!H28,PARA!$A$2:$F$8,2) -> #N/A
I29: =VLOOKUP(COM!H29,PARA!$A$2:$F$8,2) -> #N/A
I30: =VLOOKUP(COM!H30,PARA!$A$2:$F$8,2) -> #N/A
I31: =VLOOKUP(COM!H31,PARA!$A$2:$F$8,2) -> #N/A
B36: CUMUL/PARTENAIRE
B40: MEGAMONDE | D40: =SUMIF($H$12:$I$31,B40,$I$12:$I$31) -> 15000 | F40: RGLT PMMO FACTURE N°FA0125, FA001
B41: EDYF | D41: =SUMIF($H$12:$I$31,B41,$I$12:$I$31) -> #N/A
B42: SICOTRAB | D42: =SUMIF($H$12:$I$31,B42,$I$12:$I$31) -> 20000
B43: SAC HERO | D43: =SUMIF($H$12:$I$31,B43,$I$12:$I$31) -> 20000
B44: SALAMBERE MULTI SERVICES | D44: =SUMIF($H$12:$I$31,B44,$I$12:$I$31) -> 20000
B45: CFAO MOTORS | D45: =SUMIF($H$12:$I$31,B45,$I$12:$I$31) -> #N/A
B46: WATAM SA | D46: =SUMIF($H$12:$I$31,B46,$I$12:$I$31) -> 20000
B49: Directeur de zone | G49: Directrice Pool Banque de Détail

Sheet PARA
A1: LISTE PARTENAIRE | B1: TOUT MOTO | C1: HERO 225 CC | D1: HERO 150 CC | E1: HERO 125 CC | F1: Force X
A2: SAC HERO | B2: 0 | C2: 35000 | D2: 30000 | E2: 25000 | F2: 0
A3: MEGAMONDE | B3: 15000 | C3: 0 | D3: 0 | E3: 0 | F3: 0
A4: CFAO MOTORS | B4: 20000 | C4: 0 | D4: 0 | E4: 0 | F4: 10000
A5: SALAMBERE MULTI SERVICES | B5: 20000 | C5: 0 | D5: 0 | E5: 0 | F5: 0
A6: SICOTRAB | B6: 20000 | C6: 0 | D6: 0 | E6: 0 | F6: 0
A7: WATAM SA | B7: 20000 | C7: 0 | D7: 0 | E7: 0 | F7: 0
A8: EDYF | B8: 25000 | C8: 0 | D8: 0 | E8: 0 | F8: 0

Sheet Feuil4
C2: 0.1 | G2: 0.135
B3: Relevé des prêts | F3: Relevé des prêts
C4: Échéancier | D4: 45261.854 | G4: Échéancier | H4: 46561.576
C5: Nombre de paiements programmés | D5: 19.2 | G5: Nombre de paiements programmés | H5: 19.2
C6: Nombre de paiements effectifs | D6: 20 | G6: Nombre de paiements effectifs | H6: 20
C7: NVEAU ECHEANCIER | D7: =+D4+F12 -> 46648.871 | G7: NVEAU ECHEANCIER | H7: =+H4+J12 -> 46561.576
C8: Total des intérêts | D8: 69057.673 | G8: Total des intérêts | H8: 94023.986
E11: DIFFERENCE | F11: =+H8-D8 -> 24966.313
E12: Surplus/mois | F12: =+F11/18 -> 1387.0174
