Workbook
Name etat_autorisations_nemnin_31.03.2018: Avc_Dec!$A$2:$P$637

Sheet Sans_dec
A1: N° | B1: AGENCE | C1: EXPL | D1: NCG | E1: COMPTE | F1: INTITULE | G1: SOLDE | H1: DATE OUV
A2: 617 | G2: 889,814.00 | H2: 09-JUN-98
A3: 53315 | G3: 45,333.00 | H3: 23-NOV-16
A4: 102201 | G4: -180.00 | H4: 11-JUN-99
A5: 103695 | G5: 1,409,853.00 | H5: 28-OCT-04
A6: 103841 | G6: 472,018.00 | H6: 13-DEC-99
A7: 106626 | G7: 985,634.00 | H7: 15-SEP-03
A8: 109404 | G8: 11,501.00 | H8: 31-MAR-01
A9: 111520 | G9: 3,224.00 | H9: 02-AUG-01
A10: 111940 | G10: 153,301.00 | H10: 29-AUG-01
A11: 112042 | G11: -4,138.00 | H11: 03-SEP-01
A12: 113810 | G12: 21,640.00 | H12: 31-JAN-02
A13: 114317 | G13: 205.00 | H13: 14-MAR-02
... A1290: 982092 | G1290: 0.00 | H1290: 12-FEB-18

Sheet Avc_Dec
A1: N° | D1: CODE | E1: EXPL | F1: CINTITULE_EXPL | G1: RC | H1: INTITULE_RC | I1: SOLDE | J1: MTANT | K1: DATE_OUV | L1: DATE_DEPART | M1: MISE A JR | N1: DATE_FIN | O1: TEL | P1: FORMULE
A2: 78804 | D2: 1012 | E2: EA | F2: BASSOLE BERTILLE | G2: 251126 | H2: DEPOTS A VUE PACK FONXIONARIA | I2: -3,052.00 | J2: 35,000.00 | K2: 42254 | L2: 42360 | M2: 42859 | N2: 43585 | P2: =IFERROR(VLOOKUP(Sans_dec!A2,Avc_Dec!$A$2:$O$637,1,0),"")
A3: 79026 | D3: 1012 | E3: EA | F3: BASSOLE BERTILLE | G3: 251126 | H3: DEPOTS A VUE PACK FONXIONARIA | I3: -26,532.00 | J3: 50,000.00 | K3: 42345 | L3: 42384 | M3: 42606 | N3: 44439 | P3: =IFERROR(VLOOKUP(Sans_dec!A3,Avc_Dec!$A$2:$O$637,1,0),"")
A4: 100358 | D4: 1012 | E4: PW | F4: TRAORE MATON ESTELLE | G4: 251125 | H4: DEPOTS A VUE PACK SALARIA | I4: -32,320.00 | J4: 95,000.00 | K4: 36045 | L4: 41422 | M4: 41422 | N4: 43251 | P4: =IFERROR(VLOOKUP(Sans_dec!A4,Avc_Dec!$A$2:$O$637,1,0),"") -> 102201
A5: 100808 | D5: 1012 | E5: LG | F5: COMPAORE Aicha | G5: 251125 | H5: DEPOTS A VUE PACK SALARIA | I5: -99,334.00 | J5: 200,000.00 | K5: 36104 | L5: 40766 | M5: 42579 | N5: 43281 | P5: =IFERROR(VLOOKUP(Sans_dec!A5,Avc_Dec!$A$2:$O$637,1,0),"")
A6: 100908 | D6: 1012 | E6: LG | F6: COMPAORE Aicha | G6: 251125 | H6: DEPOTS A VUE PACK SALARIA | I6: -2,335.00 | J6: 75,000.00 | K6: 36152 | L6: 41841 | M6: 41841 | N6: 43646 | P6: =IFERROR(VLOOKUP(Sans_dec!A6,Avc_Dec!$A$2:$O$637,1,0),"")
A7: 101258 | D7: 1012 | E7: PW | F7: TRAORE MATON ESTELLE | G7: 251126 | H7: DEPOTS A VUE PACK FONXIONARIA | I7: -13,878.00 | J7: 95,000.00 | K7: 36186 | L7: 41428 | M7: 41428 | N7: 43251 | P7: =IFERROR(VLOOKUP(Sans_dec!A7,Avc_Dec!$A$2:$O$637,1,0),"")
A8: 101445 | D8: 1012 | E8: ZL | F8: LAMIZANA KADIATOU | G8: 251125 | H8: DEPOTS A VUE PACK SALARIA | I8: -45,019.00 | J8: 45,000.00 | K8: 36211 | L8: 41018 | M8: 42766 | N8: 43464 | P8: =IFERROR(VLOOKUP(Sans_dec!A8,Avc_Dec!$A$2:$O$637,1,0),"")
A9: 101722 | D9: 1012 | E9: PW | F9: TRAORE MATON ESTELLE | G9: 251125 | H9: DEPOTS A VUE PACK SALARIA | I9: -93,936.00 | J9: 110,000.00 | K9: 36251 | L9: 41197 | M9: 42475 | N9: 44256 | P9: =IFERROR(VLOOKUP(Sans_dec!A9,Avc_Dec!$A$2:$O$637,1,0),"")
A10: 101903 | D10: 1012 | E10: ZM | F10: KAFANDO AMINATA | G10: 251125 | H10: DEPOTS A VUE PACK SALARIA | I10: 36,434.00 | J10: 100,000.00 | K10: 36278 | L10: 41290 | M10: 41890 | N10: 43708 | P10: =IFERROR(VLOOKUP(Sans_dec!A10,Avc_Dec!$A$2:$O$637,1,0),"")
A11: 101918 | D11: 1012 | E11: LN | F11: OUEDRAOGO Hadizatou | G11: 251125 | H11: DEPOTS A VUE PACK SALARIA | I11: -149,769.00 | J11: 140,000.00 | K11: 36279 | L11: 41646 | M11: 42851 | N11: 43555 | P11: =IFERROR(VLOOKUP(Sans_dec!A11,Avc_Dec!$A$2:$O$637,1,0),"")
A12: 102201 | D12: 1012 | E12: ZM | F12: KAFANDO AMINATA | G12: 251125 | H12: DEPOTS A VUE PACK SALARIA | I12: -122,943.00 | J12: 150,000.00 | K12: 36322 | L12: 41528 | M12: 43146 | N12: 44249 | P12: =IFERROR(VLOOKUP(Sans_dec!A12,Avc_Dec!$A$2:$O$637,1,0),"") -> 113810
A13: 102746 | D13: 1012 | E13: PW | F13: TRAORE MATON ESTELLE | G13: 251125 | H13: DEPOTS A VUE PACK SALARIA | I13: -160,935.00 | J13: 300,000.00 | K13: 36397 | L13: 41065 | M13: 42776 | N13: 43465 | P13: =IFERROR(VLOOKUP(Sans_dec!A13,Avc_Dec!$A$2:$O$637,1,0),"")
... A75: 121841 | D75: 1012 | E75: ZM | F75: KAFANDO AMINATA | G75: 251125 | H75: DEPOTS A VUE PACK SALARIA | I75: -44,755.00 | J75: 70,000.00 | K75: 37803 | L75: 41584 | M75: 43014 | N75: 45375 | P75: =IFERROR(VLOOKUP(Sans_dec!A75,Avc_Dec!$A$2:$O$637,1,0),"")
A76: 123002 | D76: 1012 | E76: AU | F76: AUTOMATIC USER | G76: 251125 | H76: DEPOTS A VUE PACK SALARIA | I76: -42,292.00 | J76: 90,000.00 | K76: 37869 | M76: 43112 | N76: 44905 | P76: =IFERROR(VLOOKUP(Sans_dec!A76,Avc_Dec!$A$2:$O$637,1,0),"")
A77: 123282 | D77: 1012 | E77: SO | F77: SAWADOGO MONIQUE STEPHANI | G77: 251125 | H77: DEPOTS A VUE PACK SALARIA | I77: 30,347.00 | J77: 60,000.00 | K77: 37893 | L77: 42123 | M77: 42123 | N77: 43555 | P77: =IFERROR(VLOOKUP(Sans_dec!A77,Avc_Dec!$A$2:$O$637,1,0),"")
A78: 123306 | D78: 1012 | E78: E8 | F78: KIMA KOKA MARTIN | G78: 251126 | H78: DEPOTS A VUE PACK FONXIONARIA | I78: -2,467.00 | J78: 80,000.00 | K78: 37893 | L78: 41968 | M78: 41968 | N78: 43769 | P78: =IFERROR(VLOOKUP(Sans_dec!A78,Avc_Dec!$A$2:$O$637,1,0),"")
A79: 123699 | D79: 1012 | E79: E8 | F79: KIMA KOKA MARTIN | G79: 251126 | H79: DEPOTS A VUE PACK FONXIONARIA | I79: -7,832.00 | J79: 65,000.00 | K79: 37923 | L79: 41968 | M79: 41968 | N79: 43769 | P79: =IFERROR(VLOOKUP(Sans_dec!A79,Avc_Dec!$A$2:$O$637,1,0),"")
A80: 124285 | D80: 1012 | E80: PW | F80: TRAORE MATON ESTELLE | G80: 251125 | H80: DEPOTS A VUE PACK SALARIA | I80: -68,079.00 | J80: 65,000.00 | K80: 37977 | L80: 41858 | M80: 41858 | N80: 43646 | P80: =IFERROR(VLOOKUP(Sans_dec!A80,Avc_Dec!$A$2:$O$637,1,0),"")
A81: 124324 | D81: 1012 | E81: E8 | F81: KIMA KOKA MARTIN | G81: 251126 | H81: DEPOTS A VUE PACK FONXIONARIA | I81: 49,496.00 | J81: 65,000.00 | K81: 37979 | L81: 41968 | M81: 41968 | N81: 43769 | P81: =IFERROR(VLOOKUP(Sans_dec!A81,Avc_Dec!$A$2:$O$637,1,0),"") -> 267270
A82: 124853 | D82: 1012 | E82: AH | F82: SR COMPAORE I ROSELYNE | G82: 251125 | H82: DEPOTS A VUE PACK SALARIA | I82: -69,495.00 | J82: 90,000.00 | K82: 38026 | L82: 41232 | M82: 43130 | N82: 43830 | P82: =IFERROR(VLOOKUP(Sans_dec!A82,Avc_Dec!$A$2:$O$637,1,0),"")
A83: 125630 | D83: 1012 | E83: ZL | F83: LAMIZANA KADIATOU | G83: 251126 | H83: DEPOTS A VUE PACK FONXIONARIA | I83: -71,736.00 | J83: 75,000.00 | K83: 38097 | L83: 41180 | M83: 42940 | N83: 43646 | P83: =IFERROR(VLOOKUP(Sans_dec!A83,Avc_Dec!$A$2:$O$637,1,0),"")
A84: 125840 | D84: 1012 | E84: ZL | F84: LAMIZANA KADIATOU | G84: 251126 | H84: DEPOTS A VUE PACK FONXIONARIA | I84: -1,560.00 | J84: 60,000.00 | K84: 38119 | L84: 41142 | M84: 43193 | N84: 43919 | P84: =IFERROR(VLOOKUP(Sans_dec!A84,Avc_Dec!$A$2:$O$637,1,0),"") -> 268273
A85: 125917 | D85: 1012 | E85: ZL | F85: LAMIZANA KADIATOU | G85: 251126 | H85: DEPOTS A VUE PACK FONXIONARIA | I85: -74,238.00 | J85: 75,000.00 | K85: 38126 | L85: 41247 | M85: 42978 | N85: 43677 | P85: =IFERROR(VLOOKUP(Sans_dec!A85,Avc_Dec!$A$2:$O$637,1,0),"") -> 270753
A86: 125965 | D86: 1012 | E86: E8 | F86: KIMA KOKA MARTIN | G86: 251125 | H86: DEPOTS A VUE PACK SALARIA | I86: -24,660.00 | J86: 45,000.00 | K86: 38134 | L86: 41968 | M86: 41968 | N86: 43769 | P86: =IFERROR(VLOOKUP(Sans_dec!A86,Avc_Dec!$A$2:$O$637,1,0),"")
A87: 126032 | D87: 1012 | E87: ZM | F87: KAFANDO AMINATA | G87: 251126 | H87: DEPOTS A VUE PACK FONXIONARIA | I87: -7,149.00 | J87: 60,000.00 | K87: 38139 | L87: 41792 | M87: 41885 | N87: 43708 | P87: =IFERROR(VLOOKUP(Sans_dec!A87,Avc_Dec!$A$2:$O$637,1,0),"") -> 278405
A88: 126326 | D88: 1012 | E88: ZM | F88: KAFANDO AMINATA | G88: 251126 | H88: DEPOTS A VUE PACK FONXIONARIA | I88: -104,747.00 | J88: 100,000.00 | K88: 38163 | L88: 41430 | M88: 42740 | N88: 43434 | P88: =IFERROR(VLOOKUP(Sans_dec!A88,Avc_Dec!$A$2:$O$637,1,0),"")
... A162: 200332 | D162: 1012 | E162: ZM | F162: KAFANDO AMINATA | G162: 251125 | H162: DEPOTS A VUE PACK SALARIA | I162: -38,343.00 | J162: 60,000.00 | K162: 36242 | L162: 41493 | M162: 43186 | N162: 43889 | P162: =IFERROR(VLOOKUP(Sans_dec!A162,Avc_Dec!$A$2:$O$637,1,0),"")
A163: 200762 | D163: 1012 | E163: AU | F163: AUTOMATIC USER | G163: 251125 | H163: DEPOTS A VUE PACK SALARIA | I163: -114,101.00 | J163: 135,000.00 | K163: 36423 | M163: 42486 | N163: 44281 | P163: =IFERROR(VLOOKUP(Sans_dec!A163,Avc_Dec!$A$2:$O$637,1,0),"")
A164: 201551 | D164: 1012 | E164: ZL | F164: LAMIZANA KADIATOU | G164: 251125 | H164: DEPOTS A VUE PACK SALARIA | I164: -29,880.00 | J164: 30,000.00 | K164: 36641 | L164: 41180 | M164: 43046 | N164: 43830 | P164: =IFERROR(VLOOKUP(Sans_dec!A164,Avc_Dec!$A$2:$O$637,1,0),"")
A165: 202178 | D165: 1012 | E165: ZM | F165: KAFANDO AMINATA | G165: 251126 | H165: DEPOTS A VUE PACK FONXIONARIA | I165: 27,956.00 | J165: 55,000.00 | K165: 36801 | L165: 41467 | M165: 41467 | N165: 43312 | P165: =IFERROR(VLOOKUP(Sans_dec!A165,Avc_Dec!$A$2:$O$637,1,0),"")
A166: 202323 | D166: 1012 | E166: EA | F166: BASSOLE BERTILLE | G166: 251121 | H166: DEPOTS A VUE RETRAITES | I166: -29,865.00 | J166: 30,000.00 | K166: 36822 | L166: 41841 | M166: 42744 | N166: 43646 | P166: =IFERROR(VLOOKUP(Sans_dec!A166,Avc_Dec!$A$2:$O$637,1,0),"")
A167: 202857 | D167: 1012 | E167: ZL | F167: LAMIZANA KADIATOU | G167: 251126 | H167: DEPOTS A VUE PACK FONXIONARIA | I167: -60,954.00 | J167: 60,000.00 | K167: 36923 | L167: 41180 | M167: 43087 | N167: 43799 | P167: =IFERROR(VLOOKUP(Sans_dec!A167,Avc_Dec!$A$2:$O$637,1,0),"")
A168: 203645 | D168: 1012 | E168: LG | F168: COMPAORE Aicha | G168: 251125 | H168: DEPOTS A VUE PACK SALARIA | I168: 13,451.00 | J168: 80,000.00 | K168: 37091 | L168: 41841 | M168: 41841 | N168: 43646 | P168: =IFERROR(VLOOKUP(Sans_dec!A168,Avc_Dec!$A$2:$O$637,1,0),"")
A169: 203704 | D169: 1012 | E169: ZM | F169: KAFANDO AMINATA | G169: 251125 | H169: DEPOTS A VUE PACK SALARIA | I169: -48,665.00 | J169: 50,000.00 | K169: 37096 | L169: 41477 | M169: 41808 | N169: 43591 | P169: =IFERROR(VLOOKUP(Sans_dec!A169,Avc_Dec!$A$2:$O$637,1,0),"") -> 901325
A170: 203765 | D170: 1012 | E170: PW | F170: TRAORE MATON ESTELLE | G170: 251125 | H170: DEPOTS A VUE PACK SALARIA | I170: -66,236.00 | J170: 65,000.00 | K170: 37398 | L170: 41554 | M170: 41554 | N170: 43373 | P170: =IFERROR(VLOOKUP(Sans_dec!A170,Avc_Dec!$A$2:$O$637,1,0),"")
A171: 204007 | D171: 1012 | E171: JR | F171: DA COMPAORE W DENISE | G171: 251125 | H171: DEPOTS A VUE PACK SALARIA | I171: -33,163.00 | J171: 80,000.00 | K171: 37155 | L171: 41316 | M171: 43126 | N171: 43830 | P171: =IFERROR(VLOOKUP(Sans_dec!A171,Avc_Dec!$A$2:$O$637,1,0),"")
A172: 204094 | D172: 1012 | E172: SO | F172: SAWADOGO MONIQUE STEPHANI | G172: 251125 | H172: DEPOTS A VUE PACK SALARIA | I172: -679.00 | J172: 100,000.00 | K172: 37174 | L172: 41010 | M172: 41872 | N172: 43677 | P172: =IFERROR(VLOOKUP(Sans_dec!A172,Avc_Dec!$A$2:$O$637,1,0),"")
A173: 204447 | D173: 1012 | E173: ZM | F173: KAFANDO AMINATA | G173: 251125 | H173: DEPOTS A VUE PACK SALARIA | I173: -72,980.00 | J173: 70,000.00 | K173: 37254 | L173: 41569 | M173: 41569 | N173: 43404 | P173: =IFERROR(VLOOKUP(Sans_dec!A173,Avc_Dec!$A$2:$O$637,1,0),"")
A174: 205540 | D174: 1012 | E174: ZM | F174: KAFANDO AMINATA | G174: 251126 | H174: DEPOTS A VUE PACK FONXIONARIA | I174: -68,809.00 | J174: 70,000.00 | K174: 37426 | L174: 41530 | M174: 43186 | N174: 43889 | P174: =IFERROR(VLOOKUP(Sans_dec!A174,Avc_Dec!$A$2:$O$637,1,0),"")
A175: 205784 | D175: 1012 | E175: ZM | F175: KAFANDO AMINATA | G175: 251126 | H175: DEPOTS A VUE PACK FONXIONARIA | I175: -87,077.00 | J175: 85,000.00 | K175: 37468 | L175: 41565 | M175: 42146 | N175: 44074 | P175: =IFERROR(VLOOKUP(Sans_dec!A175,Avc_Dec!$A$2:$O$637,1,0),"")
... A243: 401048 | D243: 1012 | E243: AH | F243: SR COMPAORE I ROSELYNE | G243: 251125 | H243: DEPOTS A VUE PACK SALARIA | I243: -27,623.00 | J243: 70,000.00 | K243: 38104 | L243: 41176 | M243: 42982 | N243: 43708 | P243: =IFERROR(VLOOKUP(Sans_dec!A243,Avc_Dec!$A$2:$O$637,1,0),"")
A244: 401367 | D244: 1012 | E244: AU | F244: AUTOMATIC USER | G244: 251126 | H244: DEPOTS A VUE PACK FONXIONARIA | I244: -2,331.00 | J244: 50,000.00 | K244: 38190 | M244: 41255 | N244: 43008 | P244: =IFERROR(VLOOKUP(Sans_dec!A244,Avc_Dec!$A$2:$O$637,1,0),"")
A245: 401603 | D245: 1012 | E245: PW | F245: TRAORE MATON ESTELLE | G245: 251126 | H245: DEPOTS A VUE PACK FONXIONARIA | I245: -48,497.00 | J245: 40,000.00 | K245: 38231 | L245: 41421 | M245: 41423 | N245: 43251 | P245: =IFERROR(VLOOKUP(Sans_dec!A245,Avc_Dec!$A$2:$O$637,1,0),"")
A246: 401678 | D246: 1012 | E246: ZM | F246: KAFANDO AMINATA | G246: 251126 | H246: DEPOTS A VUE PACK FONXIONARIA | I246: -46,214.00 | J246: 70,000.00 | K246: 38245 | L246: 41598 | M246: 42760 | N246: 43464 | P246: =IFERROR(VLOOKUP(Sans_dec!A246,Avc_Dec!$A$2:$O$637,1,0),"")
A247: 402240 | D247: 1012 | E247: SO | F247: SAWADOGO MONIQUE STEPHANI | G247: 251126 | H247: DEPOTS A VUE PACK FONXIONARIA | I247: -2,778.00 | J247: 30,000.00 | K247: 38373 | L247: 41743 | M247: 41744 | N247: 43465 | P247: =IFERROR(VLOOKUP(Sans_dec!A247,Avc_Dec!$A$2:$O$637,1,0),"")
A248: 402249 | D248: 1012 | E248: PW | F248: TRAORE MATON ESTELLE | G248: 251126 | H248: DEPOTS A VUE PACK FONXIONARIA | I248: -27,719.00 | J248: 25,000.00 | K248: 38377 | L248: 41107 | M248: 43007 | N248: 45345 | P248: =IFERROR(VLOOKUP(Sans_dec!A248,Avc_Dec!$A$2:$O$637,1,0),"")
A249: 402298 | D249: 1012 | E249: PW | F249: TRAORE MATON ESTELLE | G249: 251125 | H249: DEPOTS A VUE PACK SALARIA | I249: -7,836.00 | J249: 50,000.00 | K249: 38384 | L249: 41744 | M249: 41744 | N249: 43555 | P249: =IFERROR(VLOOKUP(Sans_dec!A249,Avc_Dec!$A$2:$O$637,1,0),"") -> 975668
A250: 402436 | D250: 1012 | E250: ZM | F250: KAFANDO AMINATA | G250: 251125 | H250: DEPOTS A VUE PACK SALARIA | I250: -60,742.00 | J250: 60,000.00 | K250: 38432 | L250: 41592 | M250: 41592 | N250: 43434 | P250: =IFERROR(VLOOKUP(Sans_dec!A250,Avc_Dec!$A$2:$O$637,1,0),"")
A251: 402595 | D251: 1012 | E251: E8 | F251: KIMA KOKA MARTIN | G251: 251126 | H251: DEPOTS A VUE PACK FONXIONARIA | I251: -27,391.00 | J251: 65,000.00 | K251: 38478 | L251: 41802 | M251: 41802 | N251: 43616 | P251: =IFERROR(VLOOKUP(Sans_dec!A251,Avc_Dec!$A$2:$O$637,1,0),"")
A252: 402868 | D252: 1012 | E252: ZM | F252: KAFANDO AMINATA | G252: 251126 | H252: DEPOTS A VUE PACK FONXIONARIA | I252: -42,432.00 | J252: 40,000.00 | K252: 38545 | L252: 40637 | M252: 41885 | N252: 43708 | P252: =IFERROR(VLOOKUP(Sans_dec!A252,Avc_Dec!$A$2:$O$637,1,0),"")
A253: 403128 | D253: 1012 | E253: BL | F253: ZOROME CHEICK | G253: 251126 | H253: DEPOTS A VUE PACK FONXIONARIA | I253: -1,573.00 | J253: 40,000.00 | K253: 38624 | L253: 40767 | M253: 41852 | N253: 43646 | P253: =IFERROR(VLOOKUP(Sans_dec!A253,Avc_Dec!$A$2:$O$637,1,0),"")
A254: 403675 | D254: 1012 | E254: SO | F254: SAWADOGO MONIQUE STEPHANI | G254: 251126 | H254: DEPOTS A VUE PACK FONXIONARIA | I254: -55,649.00 | J254: 55,000.00 | K254: 38756 | L254: 40768 | M254: 41981 | N254: 43799 | P254: =IFERROR(VLOOKUP(Sans_dec!A254,Avc_Dec!$A$2:$O$637,1,0),"")
A255: 403807 | D255: 1012 | E255: E8 | F255: KIMA KOKA MARTIN | G255: 251126 | H255: DEPOTS A VUE PACK FONXIONARIA | I255: -3,160.00 | J255: 70,000.00 | K255: 38776 | L255: 41761 | M255: 41761 | N255: 43830 | P255: =IFERROR(VLOOKUP(Sans_dec!A255,Avc_Dec!$A$2:$O$637,1,0),"")
A256: 403953 | D256: 1012 | E256: JR | F256: DA COMPAORE W DENISE | G256: 251125 | H256: DEPOTS A VUE PACK SALARIA | I256: -2,963.00 | J256: 90,000.00 | K256: 38804 | L256: 40774 | M256: 43021 | N256: 43823 | P256: =IFERROR(VLOOKUP(Sans_dec!A256,Avc_Dec!$A$2:$O$637,1,0),"")
... A637: 982092 | D637: 1012 | E637: EA | F637: BASSOLE BERTILLE | G637: 251125 | H637: DEPOTS A VUE PACK SALARIA | I637: 144,969.00 | J637: 50,000.00 | K637: 43143 | L637: 43193 | M637: 43193 | N637: 43919 | P637: =IFERROR(VLOOKUP(Sans_dec!A637,Avc_Dec!$A$2:$O$637,1,0),"")
