Workbook

Sheet Français
A1: ='[1]Encodage + Sav. parler'!A1 -> Bulletin | C1: ='[1]Encodage + Sav. parler'!C1 -> Classe de 4ème année | AK1: ='[1]Encodage + Sav. parler'!J1 -> De Samblanx Nicolas | AP1: ='[1]Encodage + Sav. parler'!R1 -> Année 2023/2024
B3: NOMS | C3: Savoir parler | I3: Savoir écrire | O3: Savoir lire | U3: Savoir écouter | AA3: TOTAL
C4: B1 | D4: B2 | E4: B3 | F4: TOTAL | G4: % | I4: B1 | J4: B2 | K4: B3 | L4: TOTAL | M4: % | O4: B1 | P4: B2 | Q4: B3 | R4: TOTAL | S4: % | U4: B1 | V4: B2 | W4: B3 | X4: TOTAL | Y4: % | AA4: B1 | AB4: B2 | AC4: B3 | AD4: TOTAL | AE4: %
A5: TOTAL --> | C5: 20 | D5: 20 | E5: 20 | F5: 60 | G5: 100 | I5: 30 | J5: 30 | K5: 30 | L5: 90 | M5: 100 | O5: 30 | P5: 30 | Q5: 30 | R5: 90 | S5: 100 | U5: 20 | V5: 20 | W5: 20 | X5: 60 | Y5: 100 | AA5: 100 | AB5: 100 | AC5: 100 | AD5: 300 | AE5: 100
A6: 1 | B6: ='[1]Encodage + Sav. parler'!B6 -> MEUF Hfehfa | C6: =SUM('[2]Encodage + Sav. parler'!X6)*0.2 -> 10 | D6: =SUM('[3]Encodage + Sav. parler'!X6)*0.2 -> 8.3333333 | E6: =SUM('[1]Encodage + Sav. parler'!X6)*0.2 -> 13.650794 | F6: =SUM(C6:E6) -> 31.984127 | G6: =F6/0.6 -> 53.306878 | I6: =SUM('[2]Savoir écrire'!X6)*0.3 -> 8.7272727 | J6: =SUM('[3]Savoir écrire'!X6)*0.3 -> 10.961538 | K6: =SUM('[1]Savoir écrire'!X6)*0.3 -> 8.75 | L6: =SUM(I6:K6) -> 28.438811 | M6: =L6/0.9 -> 31.598679 | O6: =SUM('[2]Savoir lire'!X6)*0.3 -> 14.25 | P6: =SUM('[3]Savoir lire'!X6)*0.3 -> 7.3076923 | Q6: =SUM('[1]Savoir lire'!X6)*0.3 -> 6.3157895 | R6: =SUM(O6:Q6) -> 27.873482 | S6: =R6/0.9 -> 30.970535 | U6: =SUM('[2]Savoir ecouter'!X6)*0.2 -> 5.4545455 | V6: =SUM('[3]Savoir ecouter'!X6)*0.2 -> 12.608696 | W6: =SUM('[1]Savoir ecouter'!X6)*0.2 -> 7 | X6: =SUM(U6:W6) -> 25.063241 | Y6: =X6/0.6 -> 41.772069 | AA6: =C6+I6+O6+U6 -> 38.431818 | AB6: =D6+J6+P6+V6 -> 39.21126 | AC6: =E6+K6+Q6+W6 -> 35.716583 | AD6: =SUM(AA6:AC6) -> 113.35966 | AE6: =AD6/3 -> 37.786554 | AF6: =A6 -> 1
A7: 2 | B7: ='[1]Encodage + Sav. parler'!B7 -> QFCTDQ Cstji | C7: =SUM('[2]Encodage + Sav. parler'!X7)*0.2 -> 1 | D7: =SUM('[3]Encodage + Sav. parler'!X7)*0.2 -> 8.3333333 | E7: =SUM('[1]Encodage + Sav. parler'!X7)*0.2 -> 3.1746032 | F7: =SUM(C7:E7) -> 12.507937 | G7: =F7/0.6 -> 20.846561 | I7: =SUM('[2]Savoir écrire'!X7)*0.3 -> 1.6363636 | J7: =SUM('[3]Savoir écrire'!X7)*0.3 -> 2.6 | K7: =SUM('[1]Savoir écrire'!X7)*0.3 -> 0.5625 | L7: =SUM(I7:K7) -> 4.7988636 | M7: =L7/0.9 -> 5.3320707 | O7: =SUM('[2]Savoir lire'!X7)*0.3 -> 2 | P7: =SUM('[3]Savoir lire'!X7)*0.3 -> 0 | Q7: =SUM('[1]Savoir lire'!X7)*0.3 -> 0.47368421 | R7: =SUM(O7:Q7) -> 2.4736842 | S7: =R7/0.9 -> 2.748538 | U7: =SUM('[2]Savoir ecouter'!X7)*0.2 -> 3.030303 | V7: =SUM('[3]Savoir ecouter'!X7)*0.2 -> 6.9565217 | W7: =SUM('[1]Savoir ecouter'!X7)*0.2 -> 4.5454545 | X7: =SUM(U7:W7) -> 14.532279 | Y7: =X7/0.6 -> 24.220466 | AA7: =C7+I7+O7+U7 -> 7.6666667 | AB7: =D7+J7+P7+V7 -> 17.889855 | AC7: =E7+K7+Q7+W7 -> 8.7562419 | AD7: =SUM(AA7:AC7) -> 34.312764 | AE7: =AD7/3 -> 11.437588 | AF7: =A7 -> 2
A8: 3 | B8: ='[1]Encodage + Sav. parler'!B8 -> ZLPGW Mmvnufyn | C8: =SUM('[2]Encodage + Sav. parler'!X8)*0.2 -> 10.25 | D8: =SUM('[3]Encodage + Sav. parler'!X8)*0.2 -> 12.6 | E8: =SUM('[1]Encodage + Sav. parler'!X8)*0.2 -> 9.3650794 | F8: =SUM(C8:E8) -> 32.215079 | G8: =F8/0.6 -> 53.691799 | I8: =SUM('[2]Savoir écrire'!X8)*0.3 -> 6.1363636 | J8: =SUM('[3]Savoir écrire'!X8)*0.3 -> 9.5294118 | K8: =SUM('[1]Savoir écrire'!X8)*0.3 -> 6.3658537 | L8: =SUM(I8:K8) -> 22.031629 | M8: =L8/0.9 -> 24.479588 | O8: =SUM('[2]Savoir lire'!X8)*0.3 -> 9 | P8: =SUM('[3]Savoir lire'!X8)*0.3 -> 9.2307692 | Q8: =SUM('[1]Savoir lire'!X8)*0.3 -> 6.6315789 | R8: =SUM(O8:Q8) -> 24.862348 | S8: =R8/0.9 -> 27.624831 | U8: =SUM('[2]Savoir ecouter'!X8)*0.2 -> 7.8787879 | V8: =SUM('[3]Savoir ecouter'!X8)*0.2 -> 10.434783 | W8: =SUM('[1]Savoir ecouter'!X8)*0.2 -> 8.1212121 | X8: =SUM(U8:W8) -> 26.434783 | Y8: =X8/0.6 -> 44.057971 | AA8: =C8+I8+O8+U8 -> 33.265152 | AB8: =D8+J8+P8+V8 -> 41.794964 | AC8: =E8+K8+Q8+W8 -> 30.483724 | AD8: =SUM(AA8:AC8) -> 105.54384 | AE8: =AD8/3 -> 35.18128 | AF8: =A8 -> 3
A9: 4 | B9: ='[1]Encodage + Sav. parler'!B9 -> BYLGGRPWAFFM Fbeozwbe | C9: =SUM('[2]Encodage + Sav. parler'!X9)*0.2 -> 14 | D9: =SUM('[3]Encodage + Sav. parler'!X9)*0.2 -> 13.2 | E9: =SUM('[1]Encodage + Sav. parler'!X9)*0.2 -> 9.5238095 | F9: =SUM(C9:E9) -> 36.72381 | G9: =F9/0.6 -> 61.206349 | I9: =SUM('[2]Savoir écrire'!X9)*0.3 -> 7.5 | J9: =SUM('[3]Savoir écrire'!X9)*0.3 -> 7.7647059 | K9: =SUM('[1]Savoir écrire'!X9)*0.3 -> 6.9375 | L9: =SUM(I9:K9) -> 22.202206 | M9: =L9/0.9 -> 24.669118 | O9: =SUM('[2]Savoir lire'!X9)*0.3 -> 10.5 | P9: =SUM('[3]Savoir lire'!X9)*0.3 -> 14.615385 | Q9: =SUM('[1]Savoir lire'!X9)*0.3 -> 4.8947368 | R9: =SUM(O9:Q9) -> 30.010121 | S9: =R9/0.9 -> 33.344579 | U9: =SUM('[2]Savoir ecouter'!X9)*0.2 -> 7.8787879 | V9: =SUM('[3]Savoir ecouter'!X9)*0.2 -> 12.608696 | W9: =SUM('[1]Savoir ecouter'!X9)*0.2 -> 9.8787879 | X9: =SUM(U9:W9) -> 30.366271 | Y9: =X9/0.6 -> 50.610452 | AA9: =C9+I9+O9+U9 -> 39.878788 | AB9: =D9+J9+P9+V9 -> 48.188786 | AC9: =E9+K9+Q9+W9 -> 31.234834 | AD9: =SUM(AA9:AC9) -> 119.30241 | AE9: =AD9/3 -> 39.767469 | AF9: =A9 -> 4
A10: 5 | B10: ='[1]Encodage + Sav. parler'!B10 -> CZUWKE Dbzzvsz | C10: =SUM('[2]Encodage + Sav. parler'!X10)*0.2 -> 16 | D10: =SUM('[3]Encodage + Sav. parler'!X10)*0.2 -> 20 | E10: =SUM('[1]Encodage + Sav. parler'!X10)*0.2 -> 15.068493 | F10: =SUM(C10:E10) -> 51.068493 | G10: =F10/0.6 -> 85.114155 | I10: =SUM('[2]Savoir écrire'!X10)*0.3 -> 18.954545 | J10: =SUM('[3]Savoir écrire'!X10)*0.3 -> 21.705882 | K10: =SUM('[1]Savoir écrire'!X10)*0.3 -> 16.5 | L10: =SUM(I10:K10) -> 57.160428 | M10: =L10/0.9 -> 63.511586 | O10: =SUM('[2]Savoir lire'!X10)*0.3 -> 16.875 | P10: =SUM('[3]Savoir lire'!X10)*0.3 -> 23.461538 | Q10: =SUM('[1]Savoir lire'!X10)*0.3 -> 16.105263 | R10: =SUM(O10:Q10) -> 56.441802 | S10: =R10/0.9 -> 62.713113 | U10: =SUM('[2]Savoir ecouter'!X10)*0.2 -> 13.030303 | V10: =SUM('[3]Savoir ecouter'!X10)*0.2 -> 14.347826 | W10: =SUM('[1]Savoir ecouter'!X10)*0.2 -> 9.9393939 | X10: =SUM(U10:W10) -> 37.317523 | Y10: =X10/0.6 -> 62.195872 | AA10: =C10+I10+O10+U10 -> 64.859848 | AB10: =D10+J10+P10+V10 -> 79.515247 | AC10: =E10+K10+Q10+W10 -> 57.61315 | AD10: =SUM(AA10:AC10) -> 201.98825 | AE10: =AD10/3 -> 67.329415 | AF10: =A10 -> 5
A11: 6 | B11: ='[1]Encodage + Sav. parler'!B11 -> NGRPFYX Kzfmy | C11: =SUM('[2]Encodage + Sav. parler'!X11)*0.2 -> 15 | D11: =SUM('[3]Encodage + Sav. parler'!X11)*0.2 -> 14 | E11: =SUM('[1]Encodage + Sav. parler'!X11)*0.2 -> 10.15873 | F11: =SUM(C11:E11) -> 39.15873 | G11: =F11/0.6 -> 65.26455 | I11: =SUM('[2]Savoir écrire'!X11)*0.3 -> 9 | J11: =SUM('[3]Savoir écrire'!X11)*0.3 -> 12.882353 | K11: =SUM('[1]Savoir écrire'!X11)*0.3 -> 12.6875 | L11: =SUM(I11:K11) -> 34.569853 | M11: =L11/0.9 -> 38.410948 | O11: =SUM('[2]Savoir lire'!X11)*0.3 -> 16.875 | P11: =SUM('[3]Savoir lire'!X11)*0.3 -> 15.769231 | Q11: =SUM('[1]Savoir lire'!X11)*0.3 -> 10.421053 | R11: =SUM(O11:Q11) -> 43.065283 | S11: =R11/0.9 -> 47.850315 | U11: =SUM('[2]Savoir ecouter'!X11)*0.2 -> 12.727273 | V11: =SUM('[3]Savoir ecouter'!X11)*0.2 -> 9.1304348 | W11: =SUM('[1]Savoir ecouter'!X11)*0.2 -> 9.6818182 | X11: =SUM(U11:W11) -> 31.539526 | Y11: =X11/0.6 -> 52.565876 | AA11: =C11+I11+O11+U11 -> 53.602273 | AB11: =D11+J11+P11+V11 -> 51.782018 | AC11: =E11+K11+Q11+W11 -> 42.949101 | AD11: =SUM(AA11:AC11) -> 148.33339 | AE11: =AD11/3 -> 49.444464 | AF11: =A11 -> 6
A12: 7 | B12: ='[1]Encodage + Sav. parler'!B12 -> JUF Omjvhjm | C12: =SUM('[2]Encodage + Sav. parler'!X12)*0.2 -> 18.5 | D12: =SUM('[3]Encodage + Sav. parler'!X12)*0.2 -> 20 | E12: =SUM('[1]Encodage + Sav. parler'!X12)*0.2 -> 17.460317 | F12: =SUM(C12:E12) -> 55.960317 | G12: =F12/0.6 -> 93.267196 | I12: =SUM('[2]Savoir écrire'!X12)*0.3 -> 23.181818 | J12: =SUM('[3]Savoir écrire'!X12)*0.3 -> 26.823529 | K12: =SUM('[1]Savoir écrire'!X12)*0.3 -> 26.4 | L12: =SUM(I12:K12) -> 76.405348 | M12: =L12/0.9 -> 84.894831 | O12: =SUM('[2]Savoir lire'!X12)*0.3 -> 26.25 | P12: =SUM('[3]Savoir lire'!X12)*0.3 -> 22.692308 | Q12: =SUM('[1]Savoir lire'!X12)*0.3 -> 23.210526 | R12: =SUM(O12:Q12) -> 72.152834 | S12: =R12/0.9 -> 80.169816 | U12: =SUM('[2]Savoir ecouter'!X12)*0.2 -> 16.363636 | V12: =SUM('[3]Savoir ecouter'!X12)*0.2 -> 16.086957 | W12: =SUM('[1]Savoir ecouter'!X12)*0.2 -> 15.484848 | X12: =SUM(U12:W12) -> 47.935441 | Y12: =X12/0.6 -> 79.892402 | AA12: =C12+I12+O12+U12 -> 84.295455 | AB12: =D12+J12+P12+V12 -> 85.602794 | AC12: =E12+K12+Q12+W12 -> 82.555692 | AD12: =SUM(AA12:AC12) -> 252.45394 | AE12: =AD12/3 -> 84.151313 | AF12: =A12 -> 7
A13: 8 | B13: ='[1]Encodage + Sav. parler'!B13 -> FIWGYBFGJI Qchucznjx | C13: =SUM('[2]Encodage + Sav. parler'!X13)*0.2 -> 10 | D13: =SUM('[3]Encodage + Sav. parler'!X13)*0.2 -> 14.333333 | E13: =SUM('[1]Encodage + Sav. parler'!X13)*0.2 -> 5.3968254 | F13: =SUM(C13:E13) -> 29.730159 | G13: =F13/0.6 -> 49.550265 | I13: =SUM('[2]Savoir écrire'!X13)*0.3 -> 4.5 | J13: =SUM('[3]Savoir écrire'!X13)*0.3 -> 5.8846154 | K13: =SUM('[1]Savoir écrire'!X13)*0.3 -> 2.2 | L13: =SUM(I13:K13) -> 12.584615 | M13: =L13/0.9 -> 13.982906 | O13: =SUM('[2]Savoir lire'!X13)*0.3 -> 9.75 | P13: =SUM('[3]Savoir lire'!X13)*0.3 -> 5.7692308 | Q13: =SUM('[1]Savoir lire'!X13)*0.3 -> 5.3571429 | R13: =SUM(O13:Q13) -> 20.876374 | S13: =R13/0.9 -> 23.195971 | U13: =SUM('[2]Savoir ecouter'!X13)*0.2 -> 6.0606061 | V13: =SUM('[3]Savoir ecouter'!X13)*0.2 -> 6.5217391 | W13: =SUM('[1]Savoir ecouter'!X13)*0.2 -> 9.3333333 | X13: =SUM(U13:W13) -> 21.915679 | Y13: =X13/0.6 -> 36.526131 | AA13: =C13+I13+O13+U13 -> 30.310606 | AB13: =D13+J13+P13+V13 -> 32.508919 | AC13: =E13+K13+Q13+W13 -> 22.287302 | AD13: =SUM(AA13:AC13) -> 85.106826 | AE13: =AD13/3 -> 28.368942 | AF13: =A13 -> 8
A14: 9 | B14: ='[1]Encodage + Sav. parler'!B14 -> K&#600;MYPDD JAQDIGQ Kyznuzp | C14: =SUM('[2]Encodage + Sav. parler'!X14)*0.2 -> 15.5 | D14: =SUM('[3]Encodage + Sav. parler'!X14)*0.2 -> 13.6 | E14: =SUM('[1]Encodage + Sav. parler'!X14)*0.2 -> 15.555556 | F14: =SUM(C14:E14) -> 44.655556 | G14: =F14/0.6 -> 74.425926 | I14: =SUM('[2]Savoir écrire'!X14)*0.3 -> 15.545455 | J14: =SUM('[3]Savoir écrire'!X14)*0.3 -> 16 | K14: =SUM('[1]Savoir écrire'!X14)*0.3 -> 14.875 | L14: =SUM(I14:K14) -> 46.420455 | M14: =L14/0.9 -> 51.578283 | O14: =SUM('[2]Savoir lire'!X14)*0.3 -> 19.125 | P14: =SUM('[3]Savoir lire'!X14)*0.3 -> 15.384615 | Q14: =SUM('[1]Savoir lire'!X14)*0.3 -> 16.105263 | R14: =SUM(O14:Q14) -> 50.614879 | S14: =R14/0.9 -> 56.238754 | U14: =SUM('[2]Savoir ecouter'!X14)*0.2 -> 11.515152 | V14: =SUM('[3]Savoir ecouter'!X14)*0.2 -> 12.608696 | W14: =SUM('[1]Savoir ecouter'!X14)*0.2 -> 9.4090909 | X14: =SUM(U14:W14) -> 33.532938 | Y14: =X14/0.6 -> 55.88823 | AA14: =C14+I14+O14+U14 -> 61.685606 | AB14: =D14+J14+P14+V14 -> 57.593311 | AC14: =E14+K14+Q14+W14 -> 55.94491 | AD14: =SUM(AA14:AC14) -> 175.22383 | AE14: =AD14/3 -> 58.407942 | AF14: =A14 -> 9
A15: 10 | B15: ='[1]Encodage + Sav. parler'!B15 -> JRQJGR Njrlyiue | C15: =SUM('[2]Encodage + Sav. parler'!X15)*0.2 -> 14 | D15: =SUM('[3]Encodage + Sav. parler'!X15)*0.2 -> 13.8 | E15: =SUM('[1]Encodage + Sav. parler'!X15)*0.2 -> 14.285714 | F15: =SUM(C15:E15) -> 42.085714 | G15: =F15/0.6 -> 70.142857 | I15: =SUM('[2]Savoir écrire'!X15)*0.3 -> 16.227273 | J15: =SUM('[3]Savoir écrire'!X15)*0.3 -> 18.617647 | K15: =SUM('[1]Savoir écrire'!X15)*0.3 -> 17.918919 | L15: =SUM(I15:K15) -> 52.763839 | M15: =L15/0.9 -> 58.626487 | O15: =SUM('[2]Savoir lire'!X15)*0.3 -> 22.125 | P15: =SUM('[3]Savoir lire'!X15)*0.3 -> 19.615385 | Q15: =SUM('[1]Savoir lire'!X15)*0.3 -> 18.631579 | R15: =SUM(O15:Q15) -> 60.371964 | S15: =R15/0.9 -> 67.07996 | U15: =SUM('[2]Savoir ecouter'!X15)*0.2 -> 13.333333 | V15: =SUM('[3]Savoir ecouter'!X15)*0.2 -> 14.347826 | W15: =SUM('[1]Savoir ecouter'!X15)*0.2 -> 15.272727 | X15: =SUM(U15:W15) -> 42.953887 | Y15: =X15/0.6 -> 71.589811 | AA15: =C15+I15+O15+U15 -> 65.685606 | AB15: =D15+J15+P15+V15 -> 66.380858 | AC15: =E15+K15+Q15+W15 -> 66.108939 | AD15: =SUM(AA15:AC15) -> 198.1754 | AE15: =AD15/3 -> 66.058468 | AF15: =A15 -> 10
A16: 11 | B16: ='[1]Encodage + Sav. parler'!B16 -> FJJYWAFA Svohnr | C16: =SUM('[2]Encodage + Sav. parler'!X16)*0.2 -> 12 | D16: =SUM('[3]Encodage + Sav. parler'!X16)*0.2 -> 13 | E16: =SUM('[1]Encodage + Sav. parler'!X16)*0.2 -> 10.47619 | F16: =SUM(C16:E16) -> 35.47619 | G16: =F16/0.6 -> 59.126984 | I16: =SUM('[2]Savoir écrire'!X16)*0.3 -> 8.0454545 | J16: =SUM('[3]Savoir écrire'!X16)*0.3 -> 13.7 | K16: =SUM('[1]Savoir écrire'!X16)*0.3 -> 9.5 | L16: =SUM(I16:K16) -> 31.245455 | M16: =L16/0.9 -> 34.717172 | O16: =SUM('[2]Savoir lire'!X16)*0.3 -> 9.75 | P16: =SUM('[3]Savoir lire'!X16)*0.3 -> 10 | Q16: =SUM('[1]Savoir lire'!X16)*0.3 -> 9.4736842 | R16: =SUM(O16:Q16) -> 29.223684 | S16: =R16/0.9 -> 32.47076 | U16: =SUM('[2]Savoir ecouter'!X16)*0.2 -> 6.3636364 | V16: =SUM('[3]Savoir ecouter'!X16)*0.2 -> 6.9565217 | W16: =SUM('[1]Savoir ecouter'!X16)*0.2 -> 5.3939394 | X16: =SUM(U16:W16) -> 18.714097 | Y16: =X16/0.6 -> 31.190162 | AA16: =C16+I16+O16+U16 -> 36.159091 | AB16: =D16+J16+P16+V16 -> 43.656522 | AC16: =E16+K16+Q16+W16 -> 34.843814 | AD16: =SUM(AA16:AC16) -> 114.65943 | AE16: =AD16/3 -> 38.219809 | AF16: =A16 -> 11
A17: 12 | B17: ='[1]Encodage + Sav. parler'!B17 -> PJILCBS Cujjz | C17: =SUM('[2]Encodage + Sav. parler'!X17)*0.2 -> 11 | D17: =SUM('[3]Encodage + Sav. parler'!X17)*0.2 -> 8.4 | E17: =SUM('[1]Encodage + Sav. parler'!X17)*0.2 -> 11.506849 | F17: =SUM(C17:E17) -> 30.906849 | G17: =F17/0.6 -> 51.511416 | I17: =SUM('[2]Savoir écrire'!X17)*0.3 -> 4.125 | J17: =SUM('[3]Savoir écrire'!X17)*0.3 -> 8.1428571 | K17: =SUM('[1]Savoir écrire'!X17)*0.3 -> 7.9333333 | L17: =SUM(I17:K17) -> 20.20119 | M17: =L17/0.9 -> 22.445767 | O17: =SUM('[2]Savoir lire'!X17)*0.3 -> 14.625 | P17: =SUM('[3]Savoir lire'!X17)*0.3 -> 13.076923 | Q17: =SUM('[1]Savoir lire'!X17)*0.3 -> 11.210526 | R17: =SUM(O17:Q17) -> 38.912449 | S17: =R17/0.9 -> 43.236055 | U17: =SUM('[2]Savoir ecouter'!X17)*0.2 -> 8.4848485 | V17: =SUM('[3]Savoir ecouter'!X17)*0.2 -> 15 | W17: =SUM('[1]Savoir ecouter'!X17)*0.2 -> 6.5606061 | X17: =SUM(U17:W17) -> 30.045455 | Y17: =X17/0.6 -> 50.075758 | AA17: =C17+I17+O17+U17 -> 38.234848 | AB17: =D17+J17+P17+V17 -> 44.61978 | AC17: =E17+K17+Q17+W17 -> 37.211315 | AD17: =SUM(AA17:AC17) -> 120.06594 | AE17: =AD17/3 -> 40.021981 | AF17: =A17 -> 12
... A23: 18 | B23: ='[1]Encodage + Sav. parler'!B23 -> VBEOU Lhlrygn-Roggj | C23: =SUM('[2]Encodage + Sav. parler'!X23)*0.2 -> 20 | D23: =SUM('[3]Encodage + Sav. parler'!X23)*0.2 -> 20 | E23: =SUM('[1]Encodage + Sav. parler'!X23)*0.2 -> 0 | F23: =SUM(C23:E23) -> 40 | G23: =F23/0.6 -> 66.666667 | I23: =SUM('[2]Savoir écrire'!X23)*0.3 -> 25.227273 | J23: =SUM('[3]Savoir écrire'!X23)*0.3 -> 19.941176 | K23: =SUM('[1]Savoir écrire'!X23)*0.3 -> 0 | L23: =SUM(I23:K23) -> 45.168449 | M23: =L23/0.9 -> 50.187166 | O23: =SUM('[2]Savoir lire'!X23)*0.3 -> 26 | P23: =SUM('[3]Savoir lire'!X23)*0.3 -> 16.153846 | Q23: =SUM('[1]Savoir lire'!X23)*0.3 -> 0 | R23: =SUM(O23:Q23) -> 42.153846 | S23: =R23/0.9 -> 46.837607 | U23: =SUM('[2]Savoir ecouter'!X23)*0.2 -> 16.363636 | V23: =SUM('[3]Savoir ecouter'!X23)*0.2 -> 14.347826 | W23: =SUM('[1]Savoir ecouter'!X23)*0.2 -> 0 | X23: =SUM(U23:W23) -> 30.711462 | Y23: =X23/0.6 -> 51.185771 | AA23: =C23+I23+O23+U23 -> 87.590909 | AB23: =D23+J23+P23+V23 -> 70.442849 | AC23: =E23+K23+Q23+W23 -> 0 | AD23: =SUM(AA23:AC23) -> 158.03376 | AE23: =AD23/3 -> 52.677919 | AF23: =A23 -> 18
A24: 19 | B24: ='[1]Encodage + Sav. parler'!B24 -> OLGZDCNSX Ckgeph | C24: =SUM('[2]Encodage + Sav. parler'!X24)*0.2 -> 15 | D24: =SUM('[3]Encodage + Sav. parler'!X24)*0.2 -> 19.8 | E24: =SUM('[1]Encodage + Sav. parler'!X24)*0.2 -> 11.428571 | F24: =SUM(C24:E24) -> 46.228571 | G24: =F24/0.6 -> 77.047619 | I24: =SUM('[1]Savoir écrire'!X24)*0.3 -> 17.1875 | O24: =SUM('[1]Savoir lire'!X24)*0.3 -> 16.105263 | U24: =SUM('[1]Savoir ecouter'!X24)*0.2 -> 10.318182 | AA24: =C24+I24+O24+U24 -> 58.610945 | AB24: =D24+J24+P24+V24 -> 19.8 | AC24: =E24+K24+Q24+W24 -> 11.428571 | AD24: =SUM(AA24:AC24) -> 89.839516 | AE24: =AD24/3 -> 29.946505 | AF24: =A24 -> 19
A25: 20 | B25: ='[1]Encodage + Sav. parler'!B25 -> TXHBZXHX Ovgalpu | C25: =SUM('[2]Encodage + Sav. parler'!X25)*0.2 -> 13.5 | D25: =SUM('[3]Encodage + Sav. parler'!X25)*0.2 -> 11.333333 | E25: =SUM('[1]Encodage + Sav. parler'!X25)*0.2 -> 15.714286 | F25: =SUM(C25:E25) -> 40.547619 | G25: =F25/0.6 -> 67.579365 | I25: =SUM('[1]Savoir écrire'!X25)*0.3 -> 14.75 | O25: =SUM('[1]Savoir lire'!X25)*0.3 -> 15.947368 | U25: =SUM('[1]Savoir ecouter'!X25)*0.2 -> 8.5454545 | AA25: =C25+I25+O25+U25 -> 52.742823 | AB25: =D25+J25+P25+V25 -> 11.333333 | AC25: =E25+K25+Q25+W25 -> 15.714286 | AD25: =SUM(AA25:AC25) -> 79.790442 | AE25: =AD25/3 -> 26.596814 | AF25: =A25 -> 20
A26: 21 | B26: ='[1]Encodage + Sav. parler'!B26 -> POHRCJF WH LGUZBRRY Sdzoi | C26: =SUM('[2]Encodage + Sav. parler'!X26)*0.2 -> 12 | D26: =SUM('[3]Encodage + Sav. parler'!X26)*0.2 -> 15.2 | E26: =SUM('[1]Encodage + Sav. parler'!X26)*0.2 -> 12.380952 | F26: =SUM(C26:E26) -> 39.580952 | G26: =F26/0.6 -> 65.968254 | I26: =SUM('[1]Savoir écrire'!X26)*0.3 -> 15.8125 | O26: =SUM('[1]Savoir lire'!X26)*0.3 -> 11.526316 | U26: =SUM('[1]Savoir ecouter'!X26)*0.2 -> 12.106061 | AA26: =C26+I26+O26+U26 -> 51.444876 | AB26: =D26+J26+P26+V26 -> 15.2 | AC26: =E26+K26+Q26+W26 -> 12.380952 | AD26: =SUM(AA26:AC26) -> 79.025829 | AE26: =AD26/3 -> 26.341943 | AF26: =A26 -> 21
A27: 22 | B27: ='[1]Encodage + Sav. parler'!B27 -> 0 | C27: =SUM('[2]Encodage + Sav. parler'!X27)*0.2 -> 0 | D27: =SUM('[3]Encodage + Sav. parler'!X27)*0.2 -> 0 | E27: =SUM('[1]Encodage + Sav. parler'!X27)*0.2 -> 0 | F27: =SUM(C27:E27) -> 0 | G27: =F27/0.6 -> 0 | I27: =SUM('[1]Savoir écrire'!X27)*0.3 -> 0 | O27: =SUM('[1]Savoir lire'!X27)*0.3 -> 0 | U27: =SUM('[1]Savoir ecouter'!X27)*0.2 -> 0 | AA27: =C27+I27+O27+U27 -> 0 | AB27: =D27+J27+P27+V27 -> 0 | AC27: =E27+K27+Q27+W27 -> 0 | AD27: =SUM(AA27:AC27) -> 0 | AE27: =AD27/3 -> 0 | AF27: =A27 -> 22
A28: 23 | B28: ='[1]Encodage + Sav. parler'!B28 -> 0 | C28: =SUM('[2]Encodage + Sav. parler'!X28)*0.2 -> 0 | D28: =SUM('[3]Encodage + Sav. parler'!X28)*0.2 -> 0 | E28: =SUM('[1]Encodage + Sav. parler'!X28)*0.2 -> 0 | F28: =SUM(C28:E28) -> 0 | G28: =F28/0.6 -> 0 | I28: =SUM('[1]Savoir écrire'!X28)*0.3 -> 0 | O28: =SUM('[1]Savoir lire'!X28)*0.3 -> 0 | U28: =SUM('[1]Savoir ecouter'!X28)*0.2 -> 0 | AA28: =C28+I28+O28+U28 -> 0 | AB28: =D28+J28+P28+V28 -> 0 | AC28: =E28+K28+Q28+W28 -> 0 | AD28: =SUM(AA28:AC28) -> 0 | AE28: =AD28/3 -> 0 | AF28: =A28 -> 23
A29: 24 | B29: ='[1]Encodage + Sav. parler'!B29 -> 0 | C29: =SUM('[2]Encodage + Sav. parler'!X29)*0.2 -> 0 | D29: =SUM('[3]Encodage + Sav. parler'!X29)*0.2 -> 0 | E29: =SUM('[1]Encodage + Sav. parler'!X29)*0.2 -> 0 | F29: =SUM(C29:E29) -> 0 | G29: =F29/0.6 -> 0 | I29: =SUM('[1]Savoir écrire'!X29)*0.3 -> 0 | O29: =SUM('[1]Savoir lire'!X29)*0.3 -> 0 | U29: =SUM('[1]Savoir ecouter'!X29)*0.2 -> 0 | AA29: =C29+I29+O29+U29 -> 0 | AB29: =D29+J29+P29+V29 -> 0 | AC29: =E29+K29+Q29+W29 -> 0 | AD29: =SUM(AA29:AC29) -> 0 | AE29: =AD29/3 -> 0 | AF29: =A29 -> 24
A30: 25 | B30: ='[1]Encodage + Sav. parler'!B30 -> 0 | C30: =SUM('[2]Encodage + Sav. parler'!X30)*0.2 -> 0 | D30: =SUM('[3]Encodage + Sav. parler'!X30)*0.2 -> 0 | E30: =SUM('[1]Encodage + Sav. parler'!X30)*0.2 -> 0 | F30: =SUM(C30:E30) -> 0 | G30: =F30/0.6 -> 0 | I30: =SUM('[1]Savoir écrire'!X30)*0.3 -> 0 | O30: =SUM('[1]Savoir lire'!X30)*0.3 -> 0 | U30: =SUM('[1]Savoir ecouter'!X30)*0.2 -> 0 | AA30: =C30+I30+O30+U30 -> 0 | AB30: =D30+J30+P30+V30 -> 0 | AC30: =E30+K30+Q30+W30 -> 0 | AD30: =SUM(AA30:AC30) -> 0 | AE30: =AD30/3 -> 0 | AF30: =A30 -> 25
A31: 26 | B31: ='[1]Encodage + Sav. parler'!B31 -> 0 | C31: =SUM('[2]Encodage + Sav. parler'!X31)*0.2 -> 0 | D31: =SUM('[3]Encodage + Sav. parler'!X31)*0.2 -> 0 | E31: =SUM('[1]Encodage + Sav. parler'!X31)*0.2 -> 0 | F31: =SUM(C31:E31) -> 0 | G31: =F31/0.6 -> 0 | I31: =SUM('[1]Savoir écrire'!X31)*0.3 -> 0 | O31: =SUM('[1]Savoir lire'!X31)*0.3 -> 0 | U31: =SUM('[1]Savoir ecouter'!X31)*0.2 -> 0 | AA31: =C31+I31+O31+U31 -> 0 | AB31: =D31+J31+P31+V31 -> 0 | AC31: =E31+K31+Q31+W31 -> 0 | AD31: =SUM(AA31:AC31) -> 0 | AE31: =AD31/3 -> 0 | AF31: =A31 -> 26
A32: 27 | B32: ='[1]Encodage + Sav. parler'!B32 -> 0 | C32: =SUM('[2]Encodage + Sav. parler'!X32)*0.2 -> 0 | D32: =SUM('[3]Encodage + Sav. parler'!X32)*0.2 -> 0 | E32: =SUM('[1]Encodage + Sav. parler'!X32)*0.2 -> 0 | F32: =SUM(C32:E32) -> 0 | G32: =F32/0.6 -> 0 | I32: =SUM('[1]Savoir écrire'!X32)*0.3 -> 0 | O32: =SUM('[1]Savoir lire'!X32)*0.3 -> 0 | U32: =SUM('[1]Savoir ecouter'!X32)*0.2 -> 0 | AA32: =C32+I32+O32+U32 -> 0 | AB32: =D32+J32+P32+V32 -> 0 | AC32: =E32+K32+Q32+W32 -> 0 | AD32: =SUM(AA32:AC32) -> 0 | AE32: =AD32/3 -> 0 | AF32: =A32 -> 27
A33: 28 | B33: ='[1]Encodage + Sav. parler'!B33 -> 0 | C33: =SUM('[2]Encodage + Sav. parler'!X33)*0.2 -> 0 | D33: =SUM('[3]Encodage + Sav. parler'!X33)*0.2 -> 0 | E33: =SUM('[1]Encodage + Sav. parler'!X33)*0.2 -> 0 | F33: =SUM(C33:E33) -> 0 | G33: =F33/0.6 -> 0 | I33: =SUM('[1]Savoir écrire'!X33)*0.3 -> 0 | O33: =SUM('[1]Savoir lire'!X33)*0.3 -> 0 | U33: =SUM('[1]Savoir ecouter'!X33)*0.2 -> 0 | AA33: =C33+I33+O33+U33 -> 0 | AB33: =D33+J33+P33+V33 -> 0 | AC33: =E33+K33+Q33+W33 -> 0 | AD33: =SUM(AA33:AC33) -> 0 | AE33: =AD33/3 -> 0 | AF33: =A33 -> 28
A34: 29 | B34: ='[1]Encodage + Sav. parler'!B34 -> 0 | C34: =SUM('[2]Encodage + Sav. parler'!X34)*0.2 -> 0 | D34: =SUM('[3]Encodage + Sav. parler'!X34)*0.2 -> 0 | E34: =SUM('[1]Encodage + Sav. parler'!X34)*0.2 -> 0 | F34: =SUM(C34:E34) -> 0 | G34: =F34/0.6 -> 0 | I34: =SUM('[1]Savoir écrire'!X34)*0.3 -> 0 | O34: =SUM('[1]Savoir lire'!X34)*0.3 -> 0 | U34: =SUM('[1]Savoir ecouter'!X34)*0.2 -> 0 | AA34: =C34+I34+O34+U34 -> 0 | AB34: =D34+J34+P34+V34 -> 0 | AC34: =E34+K34+Q34+W34 -> 0 | AD34: =SUM(AA34:AC34) -> 0 | AE34: =AD34/3 -> 0 | AF34: =A34 -> 29
A35: 30 | B35: ='[1]Encodage + Sav. parler'!B35 -> 0 | C35: =SUM('[2]Encodage + Sav. parler'!X35)*0.2 -> 0 | D35: =SUM('[3]Encodage + Sav. parler'!X35)*0.2 -> 0 | E35: =SUM('[1]Encodage + Sav. parler'!X35)*0.2 -> 0 | F35: =SUM(C35:E35) -> 0 | G35: =F35/0.6 -> 0 | I35: =SUM('[1]Savoir écrire'!X35)*0.3 -> 0 | O35: =SUM('[1]Savoir lire'!X35)*0.3 -> 0 | U35: =SUM('[1]Savoir ecouter'!X35)*0.2 -> 0 | AA35: =C35+I35+O35+U35 -> 0 | AB35: =D35+J35+P35+V35 -> 0 | AC35: =E35+K35+Q35+W35 -> 0 | AD35: =SUM(AA35:AC35) -> 0 | AE35: =AD35/3 -> 0 | AF35: =A35 -> 30

Sheet Math
A1: ='[1]Encodage + Sav. parler'!A1 -> Bulletin | C1: ='[1]Encodage + Sav. parler'!C1 -> Classe de 4ème année | AK1: ='[1]Encodage + Sav. parler'!J1 -> De Samblanx Nicolas | AP1: ='[1]Encodage + Sav. parler'!R1 -> Année 2023/2024
B3: NOMS | C3: Nombres et opérations | I3: Grandeurs | O3: Solides et figures | U3: Traitement de données | AA3: TOTAL
C4: B1 | D4: B2 | E4: B3 | F4: TOTAL | G4: % | I4: B1 | J4: B2 | K4: B3 | L4: TOTAL | M4: % | O4: B1 | P4: B2 | Q4: B3 | R4: TOTAL | S4: % | U4: B1 | V4: B2 | W4: B3 | X4: TOTAL | Y4: % | AA4: B1 | AB4: B2 | AC4: B3 | AD4: TOTAL | AE4: %
A5: TOTAL --> | C5: 30 | D5: 30 | E5: 30 | F5: 90 | G5: 100 | I5: 30 | J5: 30 | K5: 30 | L5: 90 | M5: 100 | O5: 30 | P5: 30 | Q5: 30 | R5: 90 | S5: 100 | U5: 10 | V5: 10 | W5: 10 | X5: 30 | Y5: 100 | AA5: 100 | AB5: 100 | AC5: 100 | AD5: 300 | AE5: 100
A6: 1 | B6: ='[1]Encodage + Sav. parler'!B6 -> MEUF Hfehfa | C6: ='[2]Nombres et operations'!$X6*0.3 -> 18 | D6: ='[3]Nombres et operations'!$X6*0.3 -> 14.565217 | E6: ='[1]Nombres et operations'!$X6*0.3 -> 12.484865 | F6: =SUM(C6:E6) -> 45.050082 | G6: =F6/0.9 -> 50.055647 | I6: =[2]Grandeurs!$X6*0.3 -> 12.1875 | J6: =[3]Grandeurs!$X6*0.3 -> 21 | K6: =[1]Grandeurs!$X6*0.3 -> 15.091837 | L6: =SUM(I6+J6+K6) -> 48.279337 | M6: =L6/0.9 -> 53.643707 | O6: ='[2]Solides et figures'!$X6*0.3 -> 18.428571 | P6: ='[3]Solides et figures'!$X6*0.3 -> 16.875 | Q6: ='[1]Solides et figures'!$X6*0.3 -> 10.974684 | R6: =SUM(O6:Q6) -> 46.278255 | S6: =R6/0.9 -> 51.420283 | U6: ='[2]Traitement de donnees'!$X6*0.1 -> 4 | V6: ='[3]Traitement de donnees'!$X6*0.1 -> 7 | W6: ='[1]Traitement de donnees'!$X6*0.1 -> 5.1520833 | X6: =SUM(U6+V6+W6) -> 16.152083 | Y6: =X6/0.3 -> 53.840278 | AA6: =C6+I6+O6+U6 -> 52.616071 | AB6: =D6+J6+P6+V6 -> 59.440217 | AC6: =E6+K6+Q6+W6 -> 43.703468 | AD6: =SUM(AA6:AC6) -> 155.75976 | AE6: =AD6/3 -> 51.919919 | AF6: =A6 -> 1
A7: 2 | B7: ='[1]Encodage + Sav. parler'!B7 -> QFCTDQ Cstji | C7: ='[2]Nombres et operations'!$X7*0.3 -> 0.66666667 | D7: ='[3]Nombres et operations'!$X7*0.3 -> 0 | E7: ='[1]Nombres et operations'!$X7*0.3 -> 0.27510684 | F7: =SUM(C7:E7) -> 0.9417735 | G7: =F7/0.9 -> 1.046415 | I7: =[2]Grandeurs!$X7*0.3 -> 0.9375 | J7: =[3]Grandeurs!$X7*0.3 -> 1.3333333 | K7: =[1]Grandeurs!$X7*0.3 -> 9.0673469 | L7: =SUM(I7+J7+K7) -> 11.33818 | M7: =L7/0.9 -> 12.597978 | O7: ='[2]Solides et figures'!$X7*0.3 -> 0.85714286 | P7: ='[3]Solides et figures'!$X7*0.3 -> 0.375 | Q7: ='[1]Solides et figures'!$X7*0.3 -> 3.0379747 | R7: =SUM(O7:Q7) -> 4.2701175 | S7: =R7/0.9 -> 4.744575 | U7: ='[2]Traitement de donnees'!$X7*0.1 -> 0 | V7: ='[3]Traitement de donnees'!$X7*0.1 -> 0 | W7: ='[1]Traitement de donnees'!$X7*0.1 -> 0.2 | X7: =SUM(U7+V7+W7) -> 0.2 | Y7: =X7/0.3 -> 0.66666667 | AA7: =C7+I7+O7+U7 -> 2.4613095 | AB7: =D7+J7+P7+V7 -> 1.7083333 | AC7: =E7+K7+Q7+W7 -> 12.580428 | AD7: =SUM(AA7:AC7) -> 16.750071 | AE7: =AD7/3 -> 5.5833571 | AF7: =A7 -> 2
A8: 3 | B8: ='[1]Encodage + Sav. parler'!B8 -> ZLPGW Mmvnufyn | C8: ='[2]Nombres et operations'!$X8*0.3 -> 8 | D8: ='[3]Nombres et operations'!$X8*0.3 -> 4.8837209 | E8: ='[1]Nombres et operations'!$X8*0.3 -> 5.9638837 | F8: =SUM(C8:E8) -> 18.847605 | G8: =F8/0.9 -> 20.941783 | I8: =[2]Grandeurs!$X8*0.3 -> 11.25 | J8: =[3]Grandeurs!$X8*0.3 -> 19 | K8: =[1]Grandeurs!$X8*0.3 -> 16.034694 | L8: =SUM(I8+J8+K8) -> 46.284694 | M8: =L8/0.9 -> 51.427438 | O8: ='[2]Solides et figures'!$X8*0.3 -> 21 | P8: ='[3]Solides et figures'!$X8*0.3 -> 13.125 | Q8: ='[1]Solides et figures'!$X8*0.3 -> 11.186441 | R8: =SUM(O8:Q8) -> 45.311441 | S8: =R8/0.9 -> 50.346045 | U8: ='[2]Traitement de donnees'!$X8*0.1 -> 4.5 | V8: ='[3]Traitement de donnees'!$X8*0.1 -> 5 | W8: ='[1]Traitement de donnees'!$X8*0.1 -> 3.5291667 | X8: =SUM(U8+V8+W8) -> 13.029167 | Y8: =X8/0.3 -> 43.430556 | AA8: =C8+I8+O8+U8 -> 44.75 | AB8: =D8+J8+P8+V8 -> 42.008721 | AC8: =E8+K8+Q8+W8 -> 36.714185 | AD8: =SUM(AA8:AC8) -> 123.47291 | AE8: =AD8/3 -> 41.157635 | AF8: =A8 -> 3
A9: 4 | B9: ='[1]Encodage + Sav. parler'!B9 -> BYLGGRPWAFFM Fbeozwbe | C9: ='[2]Nombres et operations'!$X9*0.3 -> 8 | D9: ='[3]Nombres et operations'!$X9*0.3 -> 17.391304 | E9: ='[1]Nombres et operations'!$X9*0.3 -> 8.423255 | F9: =SUM(C9:E9) -> 33.814559 | G9: =F9/0.9 -> 37.571733 | I9: =[2]Grandeurs!$X9*0.3 -> 12.1875 | J9: =[3]Grandeurs!$X9*0.3 -> 17 | K9: =[1]Grandeurs!$X9*0.3 -> 13.561224 | L9: =SUM(I9+J9+K9) -> 42.748724 | M9: =L9/0.9 -> 47.498583 | O9: ='[2]Solides et figures'!$X9*0.3 -> 15.857143 | P9: ='[3]Solides et figures'!$X9*0.3 -> 12.75 | Q9: ='[1]Solides et figures'!$X9*0.3 -> 9.3797468 | R9: =SUM(O9:Q9) -> 37.98689 | S9: =R9/0.9 -> 42.207655 | U9: ='[2]Traitement de donnees'!$X9*0.1 -> 4.5 | V9: ='[3]Traitement de donnees'!$X9*0.1 -> 5 | W9: ='[1]Traitement de donnees'!$X9*0.1 -> 3.85 | X9: =SUM(U9+V9+W9) -> 13.35 | Y9: =X9/0.3 -> 44.5 | AA9: =C9+I9+O9+U9 -> 40.544643 | AB9: =D9+J9+P9+V9 -> 52.141304 | AC9: =E9+K9+Q9+W9 -> 35.214226 | AD9: =SUM(AA9:AC9) -> 127.90017 | AE9: =AD9/3 -> 42.633391 | AF9: =A9 -> 4
A10: 5 | B10: ='[1]Encodage + Sav. parler'!B10 -> CZUWKE Dbzzvsz | C10: ='[2]Nombres et operations'!$X10*0.3 -> 9.3333333 | D10: ='[3]Nombres et operations'!$X10*0.3 -> 25.217391 | E10: ='[1]Nombres et operations'!$X10*0.3 -> 20.603632 | F10: =SUM(C10:E10) -> 55.154357 | G10: =F10/0.9 -> 61.282619 | I10: =[2]Grandeurs!$X10*0.3 -> 10.3125 | J10: =[3]Grandeurs!$X10*0.3 -> 22 | K10: =[1]Grandeurs!$X10*0.3 -> 23.302041 | L10: =SUM(I10+J10+K10) -> 55.614541 | M10: =L10/0.9 -> 61.793934 | O10: ='[2]Solides et figures'!$X10*0.3 -> 23.571429 | P10: ='[3]Solides et figures'!$X10*0.3 -> 16.125 | Q10: ='[1]Solides et figures'!$X10*0.3 -> 18.075949 | R10: =SUM(O10:Q10) -> 57.772378 | S10: =R10/0.9 -> 64.191531 | U10: ='[2]Traitement de donnees'!$X10*0.1 -> 8.5 | V10: ='[3]Traitement de donnees'!$X10*0.1 -> 8.75 | W10: ='[1]Traitement de donnees'!$X10*0.1 -> 6.76875 | X10: =SUM(U10+V10+W10) -> 24.01875 | Y10: =X10/0.3 -> 80.0625 | AA10: =C10+I10+O10+U10 -> 51.717262 | AB10: =D10+J10+P10+V10 -> 72.092391 | AC10: =E10+K10+Q10+W10 -> 68.750373 | AD10: =SUM(AA10:AC10) -> 192.56003 | AE10: =AD10/3 -> 64.186675 | AF10: =A10 -> 5
A11: 6 | B11: ='[1]Encodage + Sav. parler'!B11 -> NGRPFYX Kzfmy | C11: ='[2]Nombres et operations'!$X11*0.3 -> 19.333333 | D11: ='[3]Nombres et operations'!$X11*0.3 -> 14.130435 | E11: ='[1]Nombres et operations'!$X11*0.3 -> 18.077813 | F11: =SUM(C11:E11) -> 51.541582 | G11: =F11/0.9 -> 57.268424 | I11: =[2]Grandeurs!$X11*0.3 -> 15.9375 | J11: =[3]Grandeurs!$X11*0.3 -> 23.666667 | K11: =[1]Grandeurs!$X11*0.3 -> 20.565306 | L11: =SUM(I11+J11+K11) -> 60.169473 | M11: =L11/0.9 -> 66.85497 | O11: ='[2]Solides et figures'!$X11*0.3 -> 22.714286 | P11: ='[3]Solides et figures'!$X11*0.3 -> 17.625 | Q11: ='[1]Solides et figures'!$X11*0.3 -> 13.21519 | R11: =SUM(O11:Q11) -> 53.554476 | S11: =R11/0.9 -> 59.504973 | U11: ='[2]Traitement de donnees'!$X11*0.1 -> 5.8333333 | V11: ='[3]Traitement de donnees'!$X11*0.1 -> 6 | W11: ='[1]Traitement de donnees'!$X11*0.1 -> 4.0833333 | X11: =SUM(U11+V11+W11) -> 15.916667 | Y11: =X11/0.3 -> 53.055556 | AA11: =C11+I11+O11+U11 -> 63.818452 | AB11: =D11+J11+P11+V11 -> 61.422101 | AC11: =E11+K11+Q11+W11 -> 55.941643 | AD11: =SUM(AA11:AC11) -> 181.1822 | AE11: =AD11/3 -> 60.394066 | AF11: =A11 -> 6
A12: 7 | B12: ='[1]Encodage + Sav. parler'!B12 -> JUF Omjvhjm | C12: ='[2]Nombres et operations'!$X12*0.3 -> 30 | D12: ='[3]Nombres et operations'!$X12*0.3 -> 30 | E12: ='[1]Nombres et operations'!$X12*0.3 -> 28.113426 | F12: =SUM(C12:E12) -> 88.113426 | G12: =F12/0.9 -> 97.903807 | I12: =[2]Grandeurs!$X12*0.3 -> 28.125 | J12: =[3]Grandeurs!$X12*0.3 -> 30 | K12: =[1]Grandeurs!$X12*0.3 -> 28.77551 | L12: =SUM(I12+J12+K12) -> 86.90051 | M12: =L12/0.9 -> 96.556122 | O12: ='[2]Solides et figures'!$X12*0.3 -> 27.428571 | P12: ='[3]Solides et figures'!$X12*0.3 -> 29.625 | Q12: ='[1]Solides et figures'!$X12*0.3 -> 24.607595 | R12: =SUM(O12:Q12) -> 81.661166 | S12: =R12/0.9 -> 90.734629 | U12: ='[2]Traitement de donnees'!$X12*0.1 -> 9.3333333 | V12: ='[3]Traitement de donnees'!$X12*0.1 -> 10 | W12: ='[1]Traitement de donnees'!$X12*0.1 -> 9.53125 | X12: =SUM(U12+V12+W12) -> 28.864583 | Y12: =X12/0.3 -> 96.215278 | AA12: =C12+I12+O12+U12 -> 94.886905 | AB12: =D12+J12+P12+V12 -> 99.625 | AC12: =E12+K12+Q12+W12 -> 91.027781 | AD12: =SUM(AA12:AC12) -> 285.53969 | AE12: =AD12/3 -> 95.179895 | AF12: =A12 -> 7
A13: 8 | B13: ='[1]Encodage + Sav. parler'!B13 -> FIWGYBFGJI Qchucznjx | C13: ='[2]Nombres et operations'!$X13*0.3 -> 8.6666667 | D13: ='[3]Nombres et operations'!$X13*0.3 -> 3.3962264 | E13: ='[1]Nombres et operations'!$X13*0.3 -> 8.4713319 | F13: =SUM(C13:E13) -> 20.534225 | G13: =F13/0.9 -> 22.815806 | I13: =[2]Grandeurs!$X13*0.3 -> 15.9375 | J13: =[3]Grandeurs!$X13*0.3 -> 11 | K13: =[1]Grandeurs!$X13*0.3 -> 14.773469 | L13: =SUM(I13+J13+K13) -> 41.710969 | M13: =L13/0.9 -> 46.345522 | O13: ='[2]Solides et figures'!$X13*0.3 -> 13.714286 | P13: ='[3]Solides et figures'!$X13*0.3 -> 4.5 | Q13: ='[1]Solides et figures'!$X13*0.3 -> 7.2 | R13: =SUM(O13:Q13) -> 25.414286 | S13: =R13/0.9 -> 28.238095 | U13: ='[2]Traitement de donnees'!$X13*0.1 -> 4.5 | V13: ='[3]Traitement de donnees'!$X13*0.1 -> 2 | W13: ='[1]Traitement de donnees'!$X13*0.1 -> 2.7625 | X13: =SUM(U13+V13+W13) -> 9.2625 | Y13: =X13/0.3 -> 30.875 | AA13: =C13+I13+O13+U13 -> 42.818452 | AB13: =D13+J13+P13+V13 -> 20.896226 | AC13: =E13+K13+Q13+W13 -> 33.207301 | AD13: =SUM(AA13:AC13) -> 96.92198 | AE13: =AD13/3 -> 32.307327 | AF13: =A13 -> 8
A14: 9 | B14: ='[1]Encodage + Sav. parler'!B14 -> K&#600;MYPDD JAQDIGQ Kyznuzp | C14: ='[2]Nombres et operations'!$X14*0.3 -> 16 | D14: ='[3]Nombres et operations'!$X14*0.3 -> 20.59322 | E14: ='[1]Nombres et operations'!$X14*0.3 -> 15.277778 | F14: =SUM(C14:E14) -> 51.870998 | G14: =F14/0.9 -> 57.634442 | I14: =[2]Grandeurs!$X14*0.3 -> 12.1875 | J14: =[3]Grandeurs!$X14*0.3 -> 24 | K14: =[1]Grandeurs!$X14*0.3 -> 21.802041 | L14: =SUM(I14+J14+K14) -> 57.989541 | M14: =L14/0.9 -> 64.432823 | O14: ='[2]Solides et figures'!$X14*0.3 -> 20.571429 | P14: ='[3]Solides et figures'!$X14*0.3 -> 21 | Q14: ='[1]Solides et figures'!$X14*0.3 -> 11.392405 | R14: =SUM(O14:Q14) -> 52.963834 | S14: =R14/0.9 -> 58.848704 | U14: ='[2]Traitement de donnees'!$X14*0.1 -> 4.6666667 | V14: ='[3]Traitement de donnees'!$X14*0.1 -> 6.75 | W14: ='[1]Traitement de donnees'!$X14*0.1 -> 7.3770833 | X14: =SUM(U14+V14+W14) -> 18.79375 | Y14: =X14/0.3 -> 62.645833 | AA14: =C14+I14+O14+U14 -> 53.425595 | AB14: =D14+J14+P14+V14 -> 72.34322 | AC14: =E14+K14+Q14+W14 -> 55.849307 | AD14: =SUM(AA14:AC14) -> 181.61812 | AE14: =AD14/3 -> 60.539374 | AF14: =A14 -> 9
A15: 10 | B15: ='[1]Encodage + Sav. parler'!B15 -> JRQJGR Njrlyiue | C15: ='[2]Nombres et operations'!$X15*0.3 -> 13.333333 | D15: ='[3]Nombres et operations'!$X15*0.3 -> 13.695652 | E15: ='[1]Nombres et operations'!$X15*0.3 -> 12.230327 | F15: =SUM(C15:E15) -> 39.259313 | G15: =F15/0.9 -> 43.621459 | I15: =[2]Grandeurs!$X15*0.3 -> 12.1875 | J15: =[3]Grandeurs!$X15*0.3 -> 21 | K15: =[1]Grandeurs!$X15*0.3 -> 22.653061 | L15: =SUM(I15+J15+K15) -> 55.840561 | M15: =L15/0.9 -> 62.045068 | O15: ='[2]Solides et figures'!$X15*0.3 -> 22.714286 | P15: ='[3]Solides et figures'!$X15*0.3 -> 14.625 | Q15: ='[1]Solides et figures'!$X15*0.3 -> 17.050633 | R15: =SUM(O15:Q15) -> 54.389919 | S15: =R15/0.9 -> 60.433243 | U15: ='[2]Traitement de donnees'!$X15*0.1 -> 8.3333333 | V15: ='[3]Traitement de donnees'!$X15*0.1 -> 7 | W15: ='[1]Traitement de donnees'!$X15*0.1 -> 6.2125 | X15: =SUM(U15+V15+W15) -> 21.545833 | Y15: =X15/0.3 -> 71.819444 | AA15: =C15+I15+O15+U15 -> 56.568452 | AB15: =D15+J15+P15+V15 -> 56.320652 | AC15: =E15+K15+Q15+W15 -> 58.146521 | AD15: =SUM(AA15:AC15) -> 171.03563 | AE15: =AD15/3 -> 57.011875 | AF15: =A15 -> 10
A16: 11 | B16: ='[1]Encodage + Sav. parler'!B16 -> FJJYWAFA Svohnr | C16: ='[2]Nombres et operations'!$X16*0.3 -> 16 | D16: ='[3]Nombres et operations'!$X16*0.3 -> 23.478261 | E16: ='[1]Nombres et operations'!$X16*0.3 -> 20.839566 | F16: =SUM(C16:E16) -> 60.317826 | G16: =F16/0.9 -> 67.019807 | I16: =[2]Grandeurs!$X16*0.3 -> 12.1875 | J16: =[3]Grandeurs!$X16*0.3 -> 30 | K16: =[1]Grandeurs!$X16*0.3 -> 22.359184 | L16: =SUM(I16+J16+K16) -> 64.546684 | M16: =L16/0.9 -> 71.718537 | O16: ='[2]Solides et figures'!$X16*0.3 -> 15.857143 | P16: ='[3]Solides et figures'!$X16*0.3 -> 23.25 | Q16: ='[1]Solides et figures'!$X16*0.3 -> 14.810127 | R16: =SUM(O16:Q16) -> 53.917269 | S16: =R16/0.9 -> 59.908077 | U16: ='[2]Traitement de donnees'!$X16*0.1 -> 6.6666667 | V16: ='[3]Traitement de donnees'!$X16*0.1 -> 8.25 | W16: ='[1]Traitement de donnees'!$X16*0.1 -> 5.24375 | X16: =SUM(U16+V16+W16) -> 20.160417 | Y16: =X16/0.3 -> 67.201389 | AA16: =C16+I16+O16+U16 -> 50.71131 | AB16: =D16+J16+P16+V16 -> 84.978261 | AC16: =E16+K16+Q16+W16 -> 63.252626 | AD16: =SUM(AA16:AC16) -> 198.9422 | AE16: =AD16/3 -> 66.314065 | AF16: =A16 -> 11
A17: 12 | B17: ='[1]Encodage + Sav. parler'!B17 -> PJILCBS Cujjz | C17: ='[2]Nombres et operations'!$X17*0.3 -> 4.6666667 | D17: ='[3]Nombres et operations'!$X17*0.3 -> 11.73913 | E17: ='[1]Nombres et operations'!$X17*0.3 -> 11.110221 | F17: =SUM(C17:E17) -> 27.516018 | G17: =F17/0.9 -> 30.573353 | I17: =[2]Grandeurs!$X17*0.3 -> 12.1875 | J17: =[3]Grandeurs!$X17*0.3 -> 14 | K17: =[1]Grandeurs!$X17*0.3 -> 15.391837 | L17: =SUM(I17+J17+K17) -> 41.579337 | M17: =L17/0.9 -> 46.199263 | O17: ='[2]Solides et figures'!$X17*0.3 -> 9 | P17: ='[3]Solides et figures'!$X17*0.3 -> 8 | Q17: ='[1]Solides et figures'!$X17*0.3 -> 8.2372881 | R17: =SUM(O17:Q17) -> 25.237288 | S17: =R17/0.9 -> 28.041431 | U17: ='[2]Traitement de donnees'!$X17*0.1 -> 2.6666667 | V17: ='[3]Traitement de donnees'!$X17*0.1 -> 2.5 | W17: ='[1]Traitement de donnees'!$X17*0.1 -> 4.4666667 | X17: =SUM(U17+V17+W17) -> 9.6333333 | Y17: =X17/0.3 -> 32.111111 | AA17: =C17+I17+O17+U17 -> 28.520833 | AB17: =D17+J17+P17+V17 -> 36.23913 | AC17: =E17+K17+Q17+W17 -> 39.206012 | AD17: =SUM(AA17:AC17) -> 103.96598 | AE17: =AD17/3 -> 34.655325 | AF17: =A17 -> 12
... A35: 30 | B35: ='[1]Encodage + Sav. parler'!B35 -> 0 | C35: ='[2]Nombres et operations'!$X35*0.3 -> #VALUE! | D35: ='[3]Nombres et operations'!$X35*0.3 -> #VALUE! | E35: ='[1]Nombres et operations'!$X35*0.3 -> #VALUE! | F35: =SUM(C35:E35) -> #VALUE! | G35: =F35/0.9 -> #VALUE! | I35: =[2]Grandeurs!$X35*0.3 -> #VALUE! | J35: =[3]Grandeurs!$X35*0.3 -> #VALUE! | K35: =[1]Grandeurs!$X35*0.3 -> #VALUE! | L35: =SUM(I35+J35+K35) -> #VALUE! | M35: =L35/0.9 -> #VALUE! | O35: ='[2]Solides et figures'!$X35*0.3 -> #VALUE! | P35: ='[3]Solides et figures'!$X35*0.3 -> #VALUE! | Q35: ='[1]Solides et figures'!$X35*0.3 -> #VALUE! | R35: =SUM(O35:Q35) -> #VALUE! | S35: =R35/0.9 -> #VALUE! | U35: ='[2]Traitement de donnees'!$X35*0.1 -> #VALUE! | V35: ='[3]Traitement de donnees'!$X35*0.1 -> #VALUE! | W35: ='[1]Traitement de donnees'!$X35*0.1 -> #VALUE! | X35: =SUM(U35+V35+W35) -> #VALUE! | Y35: =X35/0.3 -> #VALUE! | AA35: =C35+I35+O35+U35 -> #VALUE! | AB35: =D35+J35+P35+V35 -> #VALUE! | AC35: =E35+K35+Q35+W35 -> #VALUE! | AD35: =SUM(AA35:AC35) -> #VALUE! | AE35: =AD35/3 -> #VALUE! | AF35: =A35 -> 30

Sheet Autres + Total
A1: ='[1]Encodage + Sav. parler'!A1 -> Bulletin | C1: ='[1]Encodage + Sav. parler'!C1 -> Classe de 4ème année | CH1: ='[1]Encodage + Sav. parler'!J1 -> De Samblanx Nicolas | CM1: ='[1]Encodage + Sav. parler'!R1 -> Année 2023/2024
B3: NOMS | C3: Eveil scientifique | I3: Histoire et geographie | O3: Art | U3: TOTAL | AA3: Néerlandais | AG3: Ed. Physique | AM3: Cours de phil. et de cit. | AS3: TOTAL | AY3: Total général | BE3: comportement | BK3: Cours de philosophie
C4: B1 | D4: B2 | E4: B3 | F4: Tot | G4: % | I4: B1 | J4: B2 | K4: B3 | L4: Tot | M4: % | O4: B1 | P4: B2 | Q4: B3 | R4: Tot | S4: % | U4: B1 | V4: B2 | W4: B3 | X4: Tot | Y4: % | AA4: B1 | AB4: B2 | AC4: B3 | AD4: Tot | AE4: % | AG4: B1 | AH4: B2 | AI4: B3 | AJ4: Tot | AK4: % | AM4: B1 | AN4: B2 | AO4: B3 | AP4: Tot | AQ4: % | AS4: B1 | AT4: B2 | AU4: B3 | AV4: Tot | AW4: % | AY4: B1 | AZ4: B2 | BA4: B3 | BB4: Tot | BC4: % | BE4: B1 | BF4: B2 | BG4: B3 | BH4: Tot | BI4: % | BK4: B1 | BL4: B2 | BM4: B3 | BN4: Tot | BO4: %
A5: TOTAL --> | C5: 40 | D5: 40 | E5: 40 | F5: 120 | G5: 100 | I5: 40 | J5: 40 | K5: 40 | L5: 120 | M5: 100 | O5: 20 | P5: 20 | Q5: 20 | R5: 60 | S5: 100 | U5: 100 | V5: 100 | W5: 100 | X5: 300 | Y5: 100 | AA5: 30 | AB5: 30 | AC5: 30 | AD5: 90 | AE5: 100 | AG5: 30 | AH5: 30 | AI5: 30 | AJ5: 90 | AK5: 100 | AM5: 15 | AN5: 15 | AO5: 15 | AP5: 45 | AQ5: 100 | AS5: 75 | AT5: 75 | AU5: 75 | AV5: 225 | AW5: 100 | AY5: 375 | AZ5: 375 | BA5: 375 | BB5: 1125 | BC5: 100 | BE5: 50 | BF5: 50 | BG5: 50 | BH5: 150 | BI5: 100 | BK5: 15 | BL5: 15 | BM5: 15 | BN5: 45 | BO5: 100
A6: 1 | B6: ='[1]Encodage + Sav. parler'!B6 -> MEUF Hfehfa | C6: =SUM('[2]Eveil scientifique'!$X6)*0.4 -> 16 | D6: =SUM('[3]Eveil scientifique'!$X6)*0.4 -> 30 | E6: =SUM('[1]Eveil scientifique'!$X6)*0.4 -> 12 | F6: =SUM(C6:E6) -> 58 | G6: =F6/$F$5*100 -> 48.333333 | I6: =SUM('[2]Histoire et geographie'!$X6)*0.4 -> 28 | J6: =SUM('[3]Histoire et geographie'!$X6)*0.4 -> 30 | K6: =SUM('[1]Histoire et geographie'!$X6)*0.4 -> 22.1 | L6: =SUM(I6:K6) -> 80.1 | M6: =L6/$L$5*100 -> 66.75 | O6: =SUM([2]Artisitique!$X6)*0.2 -> 16.666667 | P6: =SUM([3]Artisitique!$X6)*0.2 -> 16 | Q6: =SUM([1]Artisitique!$X6)*0.2 -> 17 | R6: =SUM(O6:Q6) -> 49.666667 | S6: =R6/$R$5*100 -> 82.777778 | U6: =SUM(C6+I6+O6) -> 60.666667 | V6: =SUM(D6+J6+P6) -> 76 | W6: =SUM(E6+K6+Q6) -> 51.1 | X6: =SUM(F6+L6+R6) -> 187.76667 | Y6: =X6/$X$5*100 -> 62.588889 | AA6: =[2]Total!$T5 -> 24 | AB6: =[3]Total!$T5 -> 13 | AC6: =[1]Total!$T5 -> 17 | AD6: =SUM(AA6:AC6) -> 54 | AE6: =AD6/$AD$5*100 -> 60 | AG6: =[2]Total!$U5 -> 24 | AH6: =[3]Total!$U5 -> 17 | AI6: =[1]Total!$U5 -> 20 | AJ6: =SUM(AG6:AI6) -> 61 | AK6: =AJ6/$AJ$5*100 -> 67.777778 | AM6: =[2]Total!$V5 -> 7.5 | AN6: =[3]Total!$V5 -> 13.5 | AO6: =[1]Total!$V5 -> 12 | AP6: =SUM(AM6:AO6) -> 33 | AQ6: =AP6/$AP$5*100 -> 73.333333 | AS6: =AA6+AG6+AM6 -> 55.5 | AT6: =AB6+AH6+AN6 -> 43.5 | AU6: =AC6+AI6+AO6 -> 49 | AV6: =AD6+AJ6+AP6 -> 148 | AW6: =AV6/$AV$5*100 -> 65.777778 | AY6: =U6+AS6+Math!AA6+Français!AA6 -> 207.21456 | AZ6: =V6+AT6+Math!AB6+Français!AB6 -> 218.15148 | BA6: =W6+AU6+Math!AC6+Français!AC6 -> 179.52005 | BB6: =SUM(AY6:BA6) -> 604.88608 | BC6: =BB6/$BB$5*100 -> 53.767652 | BE6: =[2]Comportement!$W6 -> 43 | BF6: =[3]Comportement!$W6 -> 41 | BG6: =[1]Comportement!$W6 -> 45 | BH6: =SUM(BE6:BG6) -> 129 | BI6: =BH6/$BH$5*100 -> 86 | BP6: =A6 -> 1
A7: 2 | B7: ='[1]Encodage + Sav. parler'!B7 -> QFCTDQ Cstji | C7: =SUM('[2]Eveil scientifique'!$X7)*0.4 -> 12 | D7: =SUM('[3]Eveil scientifique'!$X7)*0.4 -> 20 | E7: =SUM('[1]Eveil scientifique'!$X7)*0.4 -> 9 | F7: =SUM(C7:E7) -> 41 | G7: =F7/$F$5*100 -> 34.166667 | I7: =SUM('[2]Histoire et geographie'!$X7)*0.4 -> 0 | J7: =SUM('[3]Histoire et geographie'!$X7)*0.4 -> 0 | K7: =SUM('[1]Histoire et geographie'!$X7)*0.4 -> 10 | L7: =SUM(I7:K7) -> 10 | M7: =L7/$L$5*100 -> 8.3333333 | O7: =SUM([2]Artisitique!$X7)*0.2 -> 7.5 | P7: =SUM([3]Artisitique!$X7)*0.2 -> 10 | Q7: =SUM([1]Artisitique!$X7)*0.2 -> 10 | R7: =SUM(O7:Q7) -> 27.5 | S7: =R7/$R$5*100 -> 45.833333 | U7: =SUM(C7+I7+O7) -> 19.5 | V7: =SUM(D7+J7+P7) -> 30 | W7: =SUM(E7+K7+Q7) -> 29 | X7: =SUM(F7+L7+R7) -> 78.5 | Y7: =X7/$X$5*100 -> 26.166667 | AA7: =[2]Total!$T6 -> 13 | AB7: =[3]Total!$T6 -> 7 | AC7: =[1]Total!$T6 -> 7 | AD7: =SUM(AA7:AC7) -> 27 | AE7: =AD7/$AD$5*100 -> 30 | AG7: =[2]Total!$U6 -> 10 | AH7: =[3]Total!$U6 -> 0 | AI7: =[1]Total!$U6 -> 8 | AJ7: =SUM(AG7:AI7) -> 18 | AK7: =AJ7/$AJ$5*100 -> 20 | AM7: =[2]Total!$V6 -> 5 | AN7: =[3]Total!$V6 -> 4.5 | AO7: =[1]Total!$V6 -> 5 | AP7: =SUM(AM7:AO7) -> 14.5 | AQ7: =AP7/$AP$5*100 -> 32.222222 | AS7: =AA7+AG7+AM7 -> 28 | AT7: =AB7+AH7+AN7 -> 11.5 | AU7: =AC7+AI7+AO7 -> 20 | AV7: =AD7+AJ7+AP7 -> 59.5 | AW7: =AV7/$AV$5*100 -> 26.444444 | AY7: =U7+AS7+Math!AA7+Français!AA7 -> 57.627976 | AZ7: =V7+AT7+Math!AB7+Français!AB7 -> 61.098188 | BA7: =W7+AU7+Math!AC7+Français!AC7 -> 70.33667 | BB7: =SUM(AY7:BA7) -> 189.06283 | BC7: =BB7/$BB$5*100 -> 16.805585 | BE7: =[2]Comportement!$W7 -> 33 | BF7: =[3]Comportement!$W7 -> 37 | BG7: =[1]Comportement!$W7 -> 40 | BH7: =SUM(BE7:BG7) -> 110 | BI7: =BH7/$BH$5*100 -> 73.333333 | BP7: =A7 -> 2
A8: 3 | B8: ='[1]Encodage + Sav. parler'!B8 -> ZLPGW Mmvnufyn | C8: =SUM('[2]Eveil scientifique'!$X8)*0.4 -> 16 | D8: =SUM('[3]Eveil scientifique'!$X8)*0.4 -> 28 | E8: =SUM('[1]Eveil scientifique'!$X8)*0.4 -> 7 | F8: =SUM(C8:E8) -> 51 | G8: =F8/$F$5*100 -> 42.5 | I8: =SUM('[2]Histoire et geographie'!$X8)*0.4 -> 22 | J8: =SUM('[3]Histoire et geographie'!$X8)*0.4 -> 22 | K8: =SUM('[1]Histoire et geographie'!$X8)*0.4 -> 12.4 | L8: =SUM(I8:K8) -> 56.4 | M8: =L8/$L$5*100 -> 47 | O8: =SUM([2]Artisitique!$X8)*0.2 -> 16.666667 | P8: =SUM([3]Artisitique!$X8)*0.2 -> 13 | Q8: =SUM([1]Artisitique!$X8)*0.2 -> 17 | R8: =SUM(O8:Q8) -> 46.666667 | S8: =R8/$R$5*100 -> 77.777778 | U8: =SUM(C8+I8+O8) -> 54.666667 | V8: =SUM(D8+J8+P8) -> 63 | W8: =SUM(E8+K8+Q8) -> 36.4 | X8: =SUM(F8+L8+R8) -> 154.06667 | Y8: =X8/$X$5*100 -> 51.355556 | AA8: =[2]Total!$T7 -> 9.5 | AB8: =[3]Total!$T7 -> 15 | AC8: =[1]Total!$T7 -> 9 | AD8: =SUM(AA8:AC8) -> 33.5 | AE8: =AD8/$AD$5*100 -> 37.222222 | AG8: =[2]Total!$U7 -> 24 | AH8: =[3]Total!$U7 -> 26 | AI8: =[1]Total!$U7 -> 24 | AJ8: =SUM(AG8:AI8) -> 74 | AK8: =AJ8/$AJ$5*100 -> 82.222222 | AM8: =[2]Total!$V7 -> 8 | AN8: =[3]Total!$V7 -> 7.5 | AO8: =[1]Total!$V7 -> 9 | AP8: =SUM(AM8:AO8) -> 24.5 | AQ8: =AP8/$AP$5*100 -> 54.444444 | AS8: =AA8+AG8+AM8 -> 41.5 | AT8: =AB8+AH8+AN8 -> 48.5 | AU8: =AC8+AI8+AO8 -> 42 | AV8: =AD8+AJ8+AP8 -> 132 | AW8: =AV8/$AV$5*100 -> 58.666667 | AY8: =U8+AS8+Math!AA8+Français!AA8 -> 174.18182 | AZ8: =V8+AT8+Math!AB8+Français!AB8 -> 195.30368 | BA8: =W8+AU8+Math!AC8+Français!AC8 -> 145.59791 | BB8: =SUM(AY8:BA8) -> 515.08341 | BC8: =BB8/$BB$5*100 -> 45.785192 | BE8: =[2]Comportement!$W8 -> 32 | BF8: =[3]Comportement!$W8 -> 36 | BG8: =[1]Comportement!$W8 -> 36 | BH8: =SUM(BE8:BG8) -> 104 | BI8: =BH8/$BH$5*100 -> 69.333333 | BP8: =A8 -> 3
A9: 4 | B9: ='[1]Encodage + Sav. parler'!B9 -> BYLGGRPWAFFM Fbeozwbe | C9: =SUM('[2]Eveil scientifique'!$X9)*0.4 -> 16 | D9: =SUM('[3]Eveil scientifique'!$X9)*0.4 -> 30 | E9: =SUM('[1]Eveil scientifique'!$X9)*0.4 -> 9 | F9: =SUM(C9:E9) -> 55 | G9: =F9/$F$5*100 -> 45.833333 | I9: =SUM('[2]Histoire et geographie'!$X9)*0.4 -> 20 | J9: =SUM('[3]Histoire et geographie'!$X9)*0.4 -> 24 | K9: =SUM('[1]Histoire et geographie'!$X9)*0.4 -> 15 | L9: =SUM(I9:K9) -> 59 | M9: =L9/$L$5*100 -> 49.166667 | O9: =SUM([2]Artisitique!$X9)*0.2 -> 19.166667 | P9: =SUM([3]Artisitique!$X9)*0.2 -> 16 | Q9: =SUM([1]Artisitique!$X9)*0.2 -> 20 | R9: =SUM(O9:Q9) -> 55.166667 | S9: =R9/$R$5*100 -> 91.944444 | U9: =SUM(C9+I9+O9) -> 55.166667 | V9: =SUM(D9+J9+P9) -> 70 | W9: =SUM(E9+K9+Q9) -> 44 | X9: =SUM(F9+L9+R9) -> 169.16667 | Y9: =X9/$X$5*100 -> 56.388889 | AA9: =[2]Total!$T8 -> 11 | AB9: =[3]Total!$T8 -> 13 | AC9: =[1]Total!$T8 -> 5 | AD9: =SUM(AA9:AC9) -> 29 | AE9: =AD9/$AD$5*100 -> 32.222222 | AG9: =[2]Total!$U8 -> 24 | AH9: =[3]Total!$U8 -> 27 | AI9: =[1]Total!$U8 -> 24 | AJ9: =SUM(AG9:AI9) -> 75 | AK9: =AJ9/$AJ$5*100 -> 83.333333 | AM9: =[2]Total!$V8 -> 10.5 | AN9: =[3]Total!$V8 -> 9.5 | AO9: =[1]Total!$V8 -> 11.5 | AP9: =SUM(AM9:AO9) -> 31.5 | AQ9: =AP9/$AP$5*100 -> 70 | AS9: =AA9+AG9+AM9 -> 45.5 | AT9: =AB9+AH9+AN9 -> 49.5 | AU9: =AC9+AI9+AO9 -> 40.5 | AV9: =AD9+AJ9+AP9 -> 135.5 | AW9: =AV9/$AV$5*100 -> 60.222222 | AY9: =U9+AS9+Math!AA9+Français!AA9 -> 181.0901 | AZ9: =V9+AT9+Math!AB9+Français!AB9 -> 219.83009 | BA9: =W9+AU9+Math!AC9+Français!AC9 -> 150.94906 | BB9: =SUM(AY9:BA9) -> 551.86925 | BC9: =BB9/$BB$5*100 -> 49.055044 | BE9: =[2]Comportement!$W9 -> 34 | BF9: =[3]Comportement!$W9 -> 38 | BG9: =[1]Comportement!$W9 -> 36 | BH9: =SUM(BE9:BG9) -> 108 | BI9: =BH9/$BH$5*100 -> 72 | BP9: =A9 -> 4
A10: 5 | B10: ='[1]Encodage + Sav. parler'!B10 -> CZUWKE Dbzzvsz | C10: =SUM('[2]Eveil scientifique'!$X10)*0.4 -> 26 | D10: =SUM('[3]Eveil scientifique'!$X10)*0.4 -> 38 | E10: =SUM('[1]Eveil scientifique'!$X10)*0.4 -> 36 | F10: =SUM(C10:E10) -> 100 | G10: =F10/$F$5*100 -> 83.333333 | I10: =SUM('[2]Histoire et geographie'!$X10)*0.4 -> 36 | J10: =SUM('[3]Histoire et geographie'!$X10)*0.4 -> 32 | K10: =SUM('[1]Histoire et geographie'!$X10)*0.4 -> 23.2 | L10: =SUM(I10:K10) -> 91.2 | M10: =L10/$L$5*100 -> 76 | O10: =SUM([2]Artisitique!$X10)*0.2 -> 18.75 | P10: =SUM([3]Artisitique!$X10)*0.2 -> 16 | Q10: =SUM([1]Artisitique!$X10)*0.2 -> 20 | R10: =SUM(O10:Q10) -> 54.75 | S10: =R10/$R$5*100 -> 91.25 | U10: =SUM(C10+I10+O10) -> 80.75 | V10: =SUM(D10+J10+P10) -> 86 | W10: =SUM(E10+K10+Q10) -> 79.2 | X10: =SUM(F10+L10+R10) -> 245.95 | Y10: =X10/$X$5*100 -> 81.983333 | AA10: =[2]Total!$T9 -> 27 | AB10: =[3]Total!$T9 -> 24 | AC10: =[1]Total!$T9 -> 24 | AD10: =SUM(AA10:AC10) -> 75 | AE10: =AD10/$AD$5*100 -> 83.333333 | AG10: =[2]Total!$U9 -> 24 | AH10: =[3]Total!$U9 -> 24 | AI10: =[1]Total!$U9 -> 23 | AJ10: =SUM(AG10:AI10) -> 71 | AK10: =AJ10/$AJ$5*100 -> 78.888889 | AM10: =[2]Total!$V9 -> 15 | AN10: =[3]Total!$V9 -> 15 | AO10: =[1]Total!$V9 -> 15 | AP10: =SUM(AM10:AO10) -> 45 | AQ10: =AP10/$AP$5*100 -> 100 | AS10: =AA10+AG10+AM10 -> 66 | AT10: =AB10+AH10+AN10 -> 63 | AU10: =AC10+AI10+AO10 -> 62 | AV10: =AD10+AJ10+AP10 -> 191 | AW10: =AV10/$AV$5*100 -> 84.888889 | AY10: =U10+AS10+Math!AA10+Français!AA10 -> 263.32711 | AZ10: =V10+AT10+Math!AB10+Français!AB10 -> 300.60764 | BA10: =W10+AU10+Math!AC10+Français!AC10 -> 267.56352 | BB10: =SUM(AY10:BA10) -> 831.49827 | BC10: =BB10/$BB$5*100 -> 73.910957 | BE10: =[2]Comportement!$W10 -> 38 | BF10: =[3]Comportement!$W10 -> 41 | BG10: =[1]Comportement!$W10 -> 40 | BH10: =SUM(BE10:BG10) -> 119 | BI10: =BH10/$BH$5*100 -> 79.333333 | BP10: =A10 -> 5
A11: 6 | B11: ='[1]Encodage + Sav. parler'!B11 -> NGRPFYX Kzfmy | C11: =SUM('[2]Eveil scientifique'!$X11)*0.4 -> 22 | D11: =SUM('[3]Eveil scientifique'!$X11)*0.4 -> 36 | E11: =SUM('[1]Eveil scientifique'!$X11)*0.4 -> 24 | F11: =SUM(C11:E11) -> 82 | G11: =F11/$F$5*100 -> 68.333333 | I11: =SUM('[2]Histoire et geographie'!$X11)*0.4 -> 14 | J11: =SUM('[3]Histoire et geographie'!$X11)*0.4 -> 29 | K11: =SUM('[1]Histoire et geographie'!$X11)*0.4 -> 27 | L11: =SUM(I11:K11) -> 70 | M11: =L11/$L$5*100 -> 58.333333 | O11: =SUM([2]Artisitique!$X11)*0.2 -> 13.333333 | P11: =SUM([3]Artisitique!$X11)*0.2 -> 10 | Q11: =SUM([1]Artisitique!$X11)*0.2 -> 16 | R11: =SUM(O11:Q11) -> 39.333333 | S11: =R11/$R$5*100 -> 65.555556 | U11: =SUM(C11+I11+O11) -> 49.333333 | V11: =SUM(D11+J11+P11) -> 75 | W11: =SUM(E11+K11+Q11) -> 67 | X11: =SUM(F11+L11+R11) -> 191.33333 | Y11: =X11/$X$5*100 -> 63.777778 | AA11: =[2]Total!$T10 -> 16 | AB11: =[3]Total!$T10 -> 15.5 | AC11: =[1]Total!$T10 -> 21 | AD11: =SUM(AA11:AC11) -> 52.5 | AE11: =AD11/$AD$5*100 -> 58.333333 | AG11: =[2]Total!$U10 -> 23 | AH11: =[3]Total!$U10 -> 23 | AI11: =[1]Total!$U10 -> 19 | AJ11: =SUM(AG11:AI11) -> 65 | AK11: =AJ11/$AJ$5*100 -> 72.222222 | AM11: =[2]Total!$V10 -> 15 | AN11: =[3]Total!$V10 -> 10 | AO11: =[1]Total!$V10 -> 11.5 | AP11: =SUM(AM11:AO11) -> 36.5 | AQ11: =AP11/$AP$5*100 -> 81.111111 | AS11: =AA11+AG11+AM11 -> 54 | AT11: =AB11+AH11+AN11 -> 48.5 | AU11: =AC11+AI11+AO11 -> 51.5 | AV11: =AD11+AJ11+AP11 -> 154 | AW11: =AV11/$AV$5*100 -> 68.444444 | AY11: =U11+AS11+Math!AA11+Français!AA11 -> 220.75406 | AZ11: =V11+AT11+Math!AB11+Français!AB11 -> 236.70412 | BA11: =W11+AU11+Math!AC11+Français!AC11 -> 217.39074 | BB11: =SUM(AY11:BA11) -> 674.84892 | BC11: =BB11/$BB$5*100 -> 59.986571 | BE11: =[2]Comportement!$W11 -> 38 | BF11: =[3]Comportement!$W11 -> 37 | BG11: =[1]Comportement!$W11 -> 36 | BH11: =SUM(BE11:BG11) -> 111 | BI11: =BH11/$BH$5*100 -> 74 | BP11: =A11 -> 6
A12: 7 | B12: ='[1]Encodage + Sav. parler'!B12 -> JUF Omjvhjm | C12: =SUM('[2]Eveil scientifique'!$X12)*0.4 -> 38 | D12: =SUM('[3]Eveil scientifique'!$X12)*0.4 -> 40 | E12: =SUM('[1]Eveil scientifique'!$X12)*0.4 -> 40 | F12: =SUM(C12:E12) -> 118 | G12: =F12/$F$5*100 -> 98.333333 | I12: =SUM('[2]Histoire et geographie'!$X12)*0.4 -> 40 | J12: =SUM('[3]Histoire et geographie'!$X12)*0.4 -> 40 | K12: =SUM('[1]Histoire et geographie'!$X12)*0.4 -> 38 | L12: =SUM(I12:K12) -> 118 | M12: =L12/$L$5*100 -> 98.333333 | O12: =SUM([2]Artisitique!$X12)*0.2 -> 18.333333 | P12: =SUM([3]Artisitique!$X12)*0.2 -> 15 | Q12: =SUM([1]Artisitique!$X12)*0.2 -> 18 | R12: =SUM(O12:Q12) -> 51.333333 | S12: =R12/$R$5*100 -> 85.555556 | U12: =SUM(C12+I12+O12) -> 96.333333 | V12: =SUM(D12+J12+P12) -> 95 | W12: =SUM(E12+K12+Q12) -> 96 | X12: =SUM(F12+L12+R12) -> 287.33333 | Y12: =X12/$X$5*100 -> 95.777778 | AA12: =[2]Total!$T11 -> 25 | AB12: =[3]Total!$T11 -> 26.5 | AC12: =[1]Total!$T11 -> 27 | AD12: =SUM(AA12:AC12) -> 78.5 | AE12: =AD12/$AD$5*100 -> 87.222222 | AG12: =[2]Total!$U11 -> 21 | AH12: =[3]Total!$U11 -> 27 | AI12: =[1]Total!$U11 -> 28 | AJ12: =SUM(AG12:AI12) -> 76 | AK12: =AJ12/$AJ$5*100 -> 84.444444 | AM12: =[2]Total!$V11 -> 14.5 | AN12: =[3]Total!$V11 -> 13.5 | AO12: =[1]Total!$V11 -> 13 | AP12: =SUM(AM12:AO12) -> 41 | AQ12: =AP12/$AP$5*100 -> 91.111111 | AS12: =AA12+AG12+AM12 -> 60.5 | AT12: =AB12+AH12+AN12 -> 67 | AU12: =AC12+AI12+AO12 -> 68 | AV12: =AD12+AJ12+AP12 -> 195.5 | AW12: =AV12/$AV$5*100 -> 86.888889 | AY12: =U12+AS12+Math!AA12+Français!AA12 -> 336.01569 | AZ12: =V12+AT12+Math!AB12+Français!AB12 -> 347.22779 | BA12: =W12+AU12+Math!AC12+Français!AC12 -> 337.58347 | BB12: =SUM(AY12:BA12) -> 1020.827 | BC12: =BB12/$BB$5*100 -> 90.740174 | BE12: =[2]Comportement!$W12 -> 33 | BF12: =[3]Comportement!$W12 -> 37 | BG12: =[1]Comportement!$W12 -> 37 | BH12: =SUM(BE12:BG12) -> 107 | BI12: =BH12/$BH$5*100 -> 71.333333 | BP12: =A12 -> 7
A13: 8 | B13: ='[1]Encodage + Sav. parler'!B13 -> FIWGYBFGJI Qchucznjx | C13: =SUM('[2]Eveil scientifique'!$X13)*0.4 -> 20 | D13: =SUM('[3]Eveil scientifique'!$X13)*0.4 -> 20 | E13: =SUM('[1]Eveil scientifique'!$X13)*0.4 -> 21 | F13: =SUM(C13:E13) -> 61 | G13: =F13/$F$5*100 -> 50.833333 | I13: =SUM('[2]Histoire et geographie'!$X13)*0.4 -> 11 | J13: =SUM('[3]Histoire et geographie'!$X13)*0.4 -> 13 | K13: =SUM('[1]Histoire et geographie'!$X13)*0.4 -> 17.4 | L13: =SUM(I13:K13) -> 41.4 | M13: =L13/$L$5*100 -> 34.5 | O13: =SUM([2]Artisitique!$X13)*0.2 -> 12.5 | P13: =SUM([3]Artisitique!$X13)*0.2 -> 12.5 | Q13: =SUM([1]Artisitique!$X13)*0.2 -> 16 | R13: =SUM(O13:Q13) -> 41 | S13: =R13/$R$5*100 -> 68.333333 | U13: =SUM(C13+I13+O13) -> 43.5 | V13: =SUM(D13+J13+P13) -> 45.5 | W13: =SUM(E13+K13+Q13) -> 54.4 | X13: =SUM(F13+L13+R13) -> 143.4 | Y13: =X13/$X$5*100 -> 47.8 | AA13: =[2]Total!$T12 -> 11 | AB13: =[3]Total!$T12 -> 6 | AC13: =[1]Total!$T12 -> 9 | AD13: =SUM(AA13:AC13) -> 26 | AE13: =AD13/$AD$5*100 -> 28.888889 | AG13: =[2]Total!$U12 -> 19 | AH13: =[3]Total!$U12 -> 5 | AI13: =[1]Total!$U12 -> 15 | AJ13: =SUM(AG13:AI13) -> 39 | AK13: =AJ13/$AJ$5*100 -> 43.333333 | AM13: =[2]Total!$V12 -> 7 | AN13: =[3]Total!$V12 -> 7.5 | AO13: =[1]Total!$V12 -> 9.5 | AP13: =SUM(AM13:AO13) -> 24 | AQ13: =AP13/$AP$5*100 -> 53.333333 | AS13: =AA13+AG13+AM13 -> 37 | AT13: =AB13+AH13+AN13 -> 18.5 | AU13: =AC13+AI13+AO13 -> 33.5 | AV13: =AD13+AJ13+AP13 -> 89 | AW13: =AV13/$AV$5*100 -> 39.555556 | AY13: =U13+AS13+Math!AA13+Français!AA13 -> 153.62906 | AZ13: =V13+AT13+Math!AB13+Français!AB13 -> 117.40515 | BA13: =W13+AU13+Math!AC13+Français!AC13 -> 143.3946 | BB13: =SUM(AY13:BA13) -> 414.42881 | BC13: =BB13/$BB$5*100 -> 36.838116 | BE13: =[2]Comportement!$W13 -> 42 | BF13: =[3]Comportement!$W13 -> 41 | BG13: =[1]Comportement!$W13 -> 42 | BH13: =SUM(BE13:BG13) -> 125 | BI13: =BH13/$BH$5*100 -> 83.333333 | BP13: =A13 -> 8
A14: 9 | B14: ='[1]Encodage + Sav. parler'!B14 -> K&#600;MYPDD JAQDIGQ Kyznuzp | C14: =SUM('[2]Eveil scientifique'!$X14)*0.4 -> 24 | D14: =SUM('[3]Eveil scientifique'!$X14)*0.4 -> 38 | E14: =SUM('[1]Eveil scientifique'!$X14)*0.4 -> 16 | F14: =SUM(C14:E14) -> 78 | G14: =F14/$F$5*100 -> 65 | I14: =SUM('[2]Histoire et geographie'!$X14)*0.4 -> 31 | J14: =SUM('[3]Histoire et geographie'!$X14)*0.4 -> 33 | K14: =SUM('[1]Histoire et geographie'!$X14)*0.4 -> 26.2 | L14: =SUM(I14:K14) -> 90.2 | M14: =L14/$L$5*100 -> 75.166667 | O14: =SUM([2]Artisitique!$X14)*0.2 -> 9.1666667 | P14: =SUM([3]Artisitique!$X14)*0.2 -> 10 | Q14: =SUM([1]Artisitique!$X14)*0.2 -> 18 | R14: =SUM(O14:Q14) -> 37.166667 | S14: =R14/$R$5*100 -> 61.944444 | U14: =SUM(C14+I14+O14) -> 64.166667 | V14: =SUM(D14+J14+P14) -> 81 | W14: =SUM(E14+K14+Q14) -> 60.2 | X14: =SUM(F14+L14+R14) -> 205.36667 | Y14: =X14/$X$5*100 -> 68.455556 | AA14: =[2]Total!$T13 -> 16 | AB14: =[3]Total!$T13 -> 16.5 | AC14: =[1]Total!$T13 -> 21 | AD14: =SUM(AA14:AC14) -> 53.5 | AE14: =AD14/$AD$5*100 -> 59.444444 | AG14: =[2]Total!$U13 -> 19 | AH14: =[3]Total!$U13 -> 17 | AI14: =[1]Total!$U13 -> 18 | AJ14: =SUM(AG14:AI14) -> 54 | AK14: =AJ14/$AJ$5*100 -> 60 | AM14: =[2]Total!$V13 -> 14 | AN14: =[3]Total!$V13 -> 10 | AO14: =[1]Total!$V13 -> 10.5 | AP14: =SUM(AM14:AO14) -> 34.5 | AQ14: =AP14/$AP$5*100 -> 76.666667 | AS14: =AA14+AG14+AM14 -> 49 | AT14: =AB14+AH14+AN14 -> 43.5 | AU14: =AC14+AI14+AO14 -> 49.5 | AV14: =AD14+AJ14+AP14 -> 142 | AW14: =AV14/$AV$5*100 -> 63.111111 | AY14: =U14+AS14+Math!AA14+Français!AA14 -> 228.27787 | AZ14: =V14+AT14+Math!AB14+Français!AB14 -> 254.43653 | BA14: =W14+AU14+Math!AC14+Français!AC14 -> 221.49422 | BB14: =SUM(AY14:BA14) -> 704.20862 | BC14: =BB14/$BB$5*100 -> 62.596321 | BE14: =[2]Comportement!$W14 -> 27 | BF14: =[3]Comportement!$W14 -> 31 | BG14: =[1]Comportement!$W14 -> 34 | BH14: =SUM(BE14:BG14) -> 92 | BI14: =BH14/$BH$5*100 -> 61.333333 | BP14: =A14 -> 9
A15: 10 | B15: ='[1]Encodage + Sav. parler'!B15 -> JRQJGR Njrlyiue | C15: =SUM('[2]Eveil scientifique'!$X15)*0.4 -> 16 | D15: =SUM('[3]Eveil scientifique'!$X15)*0.4 -> 34 | E15: =SUM('[1]Eveil scientifique'!$X15)*0.4 -> 32 | F15: =SUM(C15:E15) -> 82 | G15: =F15/$F$5*100 -> 68.333333 | I15: =SUM('[2]Histoire et geographie'!$X15)*0.4 -> 30 | J15: =SUM('[3]Histoire et geographie'!$X15)*0.4 -> 26 | K15: =SUM('[1]Histoire et geographie'!$X15)*0.4 -> 25.2 | L15: =SUM(I15:K15) -> 81.2 | M15: =L15/$L$5*100 -> 67.666667 | O15: =SUM([2]Artisitique!$X15)*0.2 -> 14.583333 | P15: =SUM([3]Artisitique!$X15)*0.2 -> 10 | Q15: =SUM([1]Artisitique!$X15)*0.2 -> 14 | R15: =SUM(O15:Q15) -> 38.583333 | S15: =R15/$R$5*100 -> 64.305556 | U15: =SUM(C15+I15+O15) -> 60.583333 | V15: =SUM(D15+J15+P15) -> 70 | W15: =SUM(E15+K15+Q15) -> 71.2 | X15: =SUM(F15+L15+R15) -> 201.78333 | Y15: =X15/$X$5*100 -> 67.261111 | AA15: =[2]Total!$T14 -> 24 | AB15: =[3]Total!$T14 -> 14.5 | AC15: =[1]Total!$T14 -> 19.5 | AD15: =SUM(AA15:AC15) -> 58 | AE15: =AD15/$AD$5*100 -> 64.444444 | AG15: =[2]Total!$U14 -> 18 | AH15: =[3]Total!$U14 -> 18 | AI15: =[1]Total!$U14 -> 18 | AJ15: =SUM(AG15:AI15) -> 54 | AK15: =AJ15/$AJ$5*100 -> 60 | AM15: =[2]Total!$V14 -> 10.5 | AN15: =[3]Total!$V14 -> 12.5 | AO15: =[1]Total!$V14 -> 10 | AP15: =SUM(AM15:AO15) -> 33 | AQ15: =AP15/$AP$5*100 -> 73.333333 | AS15: =AA15+AG15+AM15 -> 52.5 | AT15: =AB15+AH15+AN15 -> 45 | AU15: =AC15+AI15+AO15 -> 47.5 | AV15: =AD15+AJ15+AP15 -> 145 | AW15: =AV15/$AV$5*100 -> 64.444444 | AY15: =U15+AS15+Math!AA15+Français!AA15 -> 235.33739 | AZ15: =V15+AT15+Math!AB15+Français!AB15 -> 237.70151 | BA15: =W15+AU15+Math!AC15+Français!AC15 -> 242.95546 | BB15: =SUM(AY15:BA15) -> 715.99436 | BC15: =BB15/$BB$5*100 -> 63.643943 | BE15: =[2]Comportement!$W15 -> 26 | BF15: =[3]Comportement!$W15 -> 31 | BG15: =[1]Comportement!$W15 -> 34 | BH15: =SUM(BE15:BG15) -> 91 | BI15: =BH15/$BH$5*100 -> 60.666667 | BP15: =A15 -> 10
A16: 11 | B16: ='[1]Encodage + Sav. parler'!B16 -> FJJYWAFA Svohnr | C16: =SUM('[2]Eveil scientifique'!$X16)*0.4 -> 16 | D16: =SUM('[3]Eveil scientifique'!$X16)*0.4 -> 20 | E16: =SUM('[1]Eveil scientifique'!$X16)*0.4 -> 20 | F16: =SUM(C16:E16) -> 56 | G16: =F16/$F$5*100 -> 46.666667 | I16: =SUM('[2]Histoire et geographie'!$X16)*0.4 -> 31 | J16: =SUM('[3]Histoire et geographie'!$X16)*0.4 -> 16 | K16: =SUM('[1]Histoire et geographie'!$X16)*0.4 -> 15.8 | L16: =SUM(I16:K16) -> 62.8 | M16: =L16/$L$5*100 -> 52.333333 | O16: =SUM([2]Artisitique!$X16)*0.2 -> 20 | P16: =SUM([3]Artisitique!$X16)*0.2 -> 20 | Q16: =SUM([1]Artisitique!$X16)*0.2 -> 20 | R16: =SUM(O16:Q16) -> 60 | S16: =R16/$R$5*100 -> 100 | U16: =SUM(C16+I16+O16) -> 67 | V16: =SUM(D16+J16+P16) -> 56 | W16: =SUM(E16+K16+Q16) -> 55.8 | X16: =SUM(F16+L16+R16) -> 178.8 | Y16: =X16/$X$5*100 -> 59.6 | AA16: =[2]Total!$T15 -> 12 | AB16: =[3]Total!$T15 -> 16.5 | AC16: =[1]Total!$T15 -> 21 | AD16: =SUM(AA16:AC16) -> 49.5 | AE16: =AD16/$AD$5*100 -> 55 | AG16: =[2]Total!$U15 -> 24 | AH16: =[3]Total!$U15 -> 20 | AI16: =[1]Total!$U15 -> 22 | AJ16: =SUM(AG16:AI16) -> 66 | AK16: =AJ16/$AJ$5*100 -> 73.333333 | AM16: =[2]Total!$V15 -> 7.5 | AN16: =[3]Total!$V15 -> 13 | AO16: =[1]Total!$V15 -> 11.5 | AP16: =SUM(AM16:AO16) -> 32 | AQ16: =AP16/$AP$5*100 -> 71.111111 | AS16: =AA16+AG16+AM16 -> 43.5 | AT16: =AB16+AH16+AN16 -> 49.5 | AU16: =AC16+AI16+AO16 -> 54.5 | AV16: =AD16+AJ16+AP16 -> 147.5 | AW16: =AV16/$AV$5*100 -> 65.555556 | AY16: =U16+AS16+Math!AA16+Français!AA16 -> 197.3704 | AZ16: =V16+AT16+Math!AB16+Français!AB16 -> 234.13478 | BA16: =W16+AU16+Math!AC16+Français!AC16 -> 208.39644 | BB16: =SUM(AY16:BA16) -> 639.90162 | BC16: =BB16/$BB$5*100 -> 56.880144 | BE16: =[2]Comportement!$W16 -> 42 | BF16: =[3]Comportement!$W16 -> 42 | BG16: =[1]Comportement!$W16 -> 42 | BH16: =SUM(BE16:BG16) -> 126 | BI16: =BH16/$BH$5*100 -> 84 | BP16: =A16 -> 11
A17: 12 | B17: ='[1]Encodage + Sav. parler'!B17 -> PJILCBS Cujjz | C17: =SUM('[2]Eveil scientifique'!$X17)*0.4 -> 22 | D17: =SUM('[3]Eveil scientifique'!$X17)*0.4 -> 24 | E17: =SUM('[1]Eveil scientifique'!$X17)*0.4 -> 12 | F17: =SUM(C17:E17) -> 58 | G17: =F17/$F$5*100 -> 48.333333 | I17: =SUM('[2]Histoire et geographie'!$X17)*0.4 -> 13 | J17: =SUM('[3]Histoire et geographie'!$X17)*0.4 -> 16 | K17: =SUM('[1]Histoire et geographie'!$X17)*0.4 -> 15.6 | L17: =SUM(I17:K17) -> 44.6 | M17: =L17/$L$5*100 -> 37.166667 | O17: =SUM([2]Artisitique!$X17)*0.2 -> 14.166667 | P17: =SUM([3]Artisitique!$X17)*0.2 -> 12 | Q17: =SUM([1]Artisitique!$X17)*0.2 -> 20 | R17: =SUM(O17:Q17) -> 46.166667 | S17: =R17/$R$5*100 -> 76.944444 | U17: =SUM(C17+I17+O17) -> 49.166667 | V17: =SUM(D17+J17+P17) -> 52 | W17: =SUM(E17+K17+Q17) -> 47.6 | X17: =SUM(F17+L17+R17) -> 148.76667 | Y17: =X17/$X$5*100 -> 49.588889 | AA17: =[2]Total!$T16 -> 13.5 | AB17: =[3]Total!$T16 -> 13 | AC17: =[1]Total!$T16 -> 12 | AD17: =SUM(AA17:AC17) -> 38.5 | AE17: =AD17/$AD$5*100 -> 42.777778 | AG17: =[2]Total!$U16 -> 18 | AH17: =[3]Total!$U16 -> 22 | AI17: =[1]Total!$U16 -> 24 | AJ17: =SUM(AG17:AI17) -> 64 | AK17: =AJ17/$AJ$5*100 -> 71.111111 | AM17: =[2]Total!$V16 -> 9 | AN17: =[3]Total!$V16 -> 8.5 | AO17: =[1]Total!$V16 -> 10.5 | AP17: =SUM(AM17:AO17) -> 28 | AQ17: =AP17/$AP$5*100 -> 62.222222 | AS17: =AA17+AG17+AM17 -> 40.5 | AT17: =AB17+AH17+AN17 -> 43.5 | AU17: =AC17+AI17+AO17 -> 46.5 | AV17: =AD17+AJ17+AP17 -> 130.5 | AW17: =AV17/$AV$5*100 -> 58 | AY17: =U17+AS17+Math!AA17+Français!AA17 -> 156.42235 | AZ17: =V17+AT17+Math!AB17+Français!AB17 -> 176.35891 | BA17: =W17+AU17+Math!AC17+Français!AC17 -> 170.51733 | BB17: =SUM(AY17:BA17) -> 503.29859 | BC17: =BB17/$BB$5*100 -> 44.737652 | BE17: =[2]Comportement!$W17 -> 41 | BF17: =[3]Comportement!$W17 -> 40 | BG17: =[1]Comportement!$W17 -> 42 | BH17: =SUM(BE17:BG17) -> 123 | BI17: =BH17/$BH$5*100 -> 82 | BP17: =A17 -> 12
... A35: 30 | B35: ='[1]Encodage + Sav. parler'!B35 -> 0 | C35: =SUM('[2]Eveil scientifique'!$X35)*0.4 -> 0 | D35: =SUM('[3]Eveil scientifique'!$X35)*0.4 -> 0 | E35: =SUM('[1]Eveil scientifique'!$X35)*0.4 -> 0 | F35: =SUM(C35:E35) -> 0 | G35: =F35/$F$5*100 -> 0 | I35: =SUM('[2]Histoire et geographie'!$X35)*0.4 -> 0 | J35: =SUM('[3]Histoire et geographie'!$X35)*0.4 -> 0 | K35: =SUM('[1]Histoire et geographie'!$X35)*0.4 -> 0 | L35: =SUM(I35:K35) -> 0 | M35: =L35/$L$5*100 -> 0 | O35: =SUM([2]Artisitique!$X35)*0.2 -> 0 | P35: =SUM([3]Artisitique!$X35)*0.2 -> 0 | Q35: =SUM([1]Artisitique!$X35)*0.2 -> 0 | R35: =SUM(O35:Q35) -> 0 | S35: =R35/$R$5*100 -> 0 | U35: =SUM(C35+I35+O35) -> 0 | V35: =SUM(D35+J35+P35) -> 0 | W35: =SUM(E35+K35+Q35) -> 0 | X35: =SUM(F35+L35+R35) -> 0 | Y35: =X35/$X$5*100 -> 0 | AA35: =[2]Total!$T34 -> 0 | AB35: =[3]Total!$T34 -> 0 | AC35: =[1]Total!$T34 -> 0 | AD35: =SUM(AA35:AC35) -> 0 | AE35: =AD35/$AD$5*100 -> 0 | AG35: =[2]Total!$U34 -> 0 | AH35: =[3]Total!$U34 -> 0 | AI35: =[1]Total!$U34 -> 0 | AJ35: =SUM(AG35:AI35) -> 0 | AK35: =AJ35/$AJ$5*100 -> 0 | AM35: =[2]Total!$V34 -> 0 | AN35: =[3]Total!$V34 -> 0 | AO35: =[1]Total!$V34 -> 0 | AP35: =SUM(AM35:AO35) -> 0 | AQ35: =AP35/$AP$5*100 -> 0 | AS35: =AA35+AG35+AM35 -> 0 | AT35: =AB35+AH35+AN35 -> 0 | AU35: =AC35+AI35+AO35 -> 0 | AV35: =AD35+AJ35+AP35 -> 0 | AW35: =AV35/$AV$5*100 -> 0 | AY35: =U35+AS35+Math!AA35+Français!AA35 -> #VALUE! | AZ35: =V35+AT35+Math!AB35+Français!AB35 -> #VALUE! | BA35: =W35+AU35+Math!AC35+Français!AC35 -> #VALUE! | BB35: =SUM(AY35:BA35) -> #VALUE! | BC35: =BB35/$BB$5*100 -> #VALUE! | BE35: =[2]Comportement!$W35 | BF35: =[3]Comportement!$W35 | BG35: =[1]Comportement!$W35 | BH35: =SUM(BE35:BG35) -> 0 | BI35: =BH35/$BH$5*100 -> 0 | BP35: =A35 -> 30
