Workbook
Name Classe_de_1ère_2ème_année: 'Encodage + Sav. parler'!$AF$5:$AF$6

Sheet Encodage + Sav. parler
A1: Bulletin | C1: Classe de 4ème année | J1: De Samblanx Nicolas | R1: Année 2023/2024
B3: NOMS | C3: copier coller | D3: familles de mots | E3: Qui a le droit
C4: 1 | D4: 2 | E4: 3 | F4: 4 | G4: 5 | H4: 6 | I4: 7 | J4: 8 | K4: 9 | L4: 10 | M4: 11 | N4: 12 | O4: 13 | P4: 14 | Q4: 15 | R4: 16 | S4: 17 | T4: 18 | U4: 19 | V4: 20 | W4: PTS | X4: %
A5: TOTAL --> | C5: 10 | D5: 20 | E5: 20 | AF5: Classe de 3ème année
A6: 1 | B6: ='[1]Encodage + Sav. parler'!$B$6 -> MEUF Hfehfa | C6: 6.5 | D6: 6 | W6: =IF(W106=0,"",SUM(C6:V6)) -> 12.5 | X6: =IF(W106=0,"",W6/W106*100) -> 41.666667 | Y6: =A6 -> 1 | AF6: Classe de 4ème année
A7: 2 | B7: ='[1]Encodage + Sav. parler'!$B$7 -> QFCTDQ Cstji | C7: 6.5 | E7: 6 | W7: =IF(W107=0,"",SUM(C7:V7)) -> 12.5 | X7: =IF(W107=0,"",W7/W107*100) -> 41.666667 | Y7: =A7 -> 2
A8: 3 | B8: ='[1]Encodage + Sav. parler'!$B$8 -> ZLPGW Mmvnufyn | C8: 6.5 | D8: 7 | E8: 18 | W8: =IF(W108=0,"",SUM(C8:V8)) -> 31.5 | X8: =IF(W108=0,"",W8/W108*100) -> 63 | Y8: =A8 -> 3
A9: 4 | B9: ='[1]Encodage + Sav. parler'!$B$9 -> BYLGGRPWAFFM Fbeozwbe | C9: 8 | D9: 7 | E9: 18 | W9: =IF(W109=0,"",SUM(C9:V9)) -> 33 | X9: =IF(W109=0,"",W9/W109*100) -> 66 | Y9: =A9 -> 4
A10: 5 | B10: ='[1]Encodage + Sav. parler'!$B$10 -> CZUWKE Dbzzvsz | C10: 10 | D10: 14 | E10: 26 | W10: =IF(W110=0,"",SUM(C10:V10)) -> 50 | X10: =IF(W110=0,"",W10/W110*100) -> 100 | Y10: =A10 -> 5
A11: 6 | B11: ='[1]Encodage + Sav. parler'!$B$11 -> NGRPFYX Kzfmy | C11: 7 | D11: 12 | E11: 16 | W11: =IF(W111=0,"",SUM(C11:V11)) -> 35 | X11: =IF(W111=0,"",W11/W111*100) -> 70 | Y11: =A11 -> 6
A12: 7 | B12: ='[1]Encodage + Sav. parler'!$B$12 -> JUF Omjvhjm | C12: 9 | D12: 20 | E12: 21 | W12: =IF(W112=0,"",SUM(C12:V12)) -> 50 | X12: =IF(W112=0,"",W12/W112*100) -> 100 | Y12: =A12 -> 7
A13: 8 | B13: ='[1]Encodage + Sav. parler'!$B$13 -> FIWGYBFGJI Qchucznjx | C13: 5 | E13: 16.5 | W13: =IF(W113=0,"",SUM(C13:V13)) -> 21.5 | X13: =IF(W113=0,"",W13/W113*100) -> 71.666667 | Y13: =A13 -> 8
A14: 9 | B14: ='[1]Encodage + Sav. parler'!$B$14 -> K&#600;MYPDD JAQDIGQ Kyznuzp | C14: 7 | D14: 10 | E14: 17 | W14: =IF(W114=0,"",SUM(C14:V14)) -> 34 | X14: =IF(W114=0,"",W14/W114*100) -> 68 | Y14: =A14 -> 9
A15: 10 | B15: ='[1]Encodage + Sav. parler'!$B$15 -> JRQJGR Njrlyiue | C15: 8 | D15: 10 | E15: 16.5 | W15: =IF(W115=0,"",SUM(C15:V15)) -> 34.5 | X15: =IF(W115=0,"",W15/W115*100) -> 69 | Y15: =A15 -> 10
A16: 11 | B16: ='[1]Encodage + Sav. parler'!$B$16 -> FJJYWAFA Svohnr | C16: 7 | D16: 9 | E16: 16.5 | W16: =IF(W116=0,"",SUM(C16:V16)) -> 32.5 | X16: =IF(W116=0,"",W16/W116*100) -> 65 | Y16: =A16 -> 11
A17: 12 | B17: ='[1]Encodage + Sav. parler'!$B$17 -> PJILCBS Cujjz | C17: 7 | D17: 7 | E17: 7 | W17: =IF(W117=0,"",SUM(C17:V17)) -> 21 | X17: =IF(W117=0,"",W17/W117*100) -> 42 | Y17: =A17 -> 12
A18: 13 | B18: ='[1]Encodage + Sav. parler'!$B$18 -> XUQUOVP Hanicij | W18: =IF(W118=0,"",SUM(C18:V18)) | X18: =IF(W118=0,"",W18/W118*100) | Y18: =A18 -> 13
A19: 14 | B19: ='[1]Encodage + Sav. parler'!$B$19 -> VXZKW Pcljhw | C19: 2.5 | D19: 3 | E19: 6 | W19: =IF(W119=0,"",SUM(C19:V19)) -> 11.5 | X19: =IF(W119=0,"",W19/W119*100) -> 23 | Y19: =A19 -> 14
A20: 15 | B20: ='[1]Encodage + Sav. parler'!$B$20 -> ANKBQZDX Mswnjbak | C20: 6.5 | E20: 10 | W20: =IF(W120=0,"",SUM(C20:V20)) -> 16.5 | X20: =IF(W120=0,"",W20/W120*100) -> 55 | Y20: =A20 -> 15
A21: 16 | B21: ='[1]Encodage + Sav. parler'!$B$21 -> DYTVXSTMX Qoyfpx | C21: 14 | D21: 16 | E21: 20 | W21: =IF(W121=0,"",SUM(C21:V21)) -> 50 | X21: =IF(W121=0,"",W21/W121*100) -> 100 | Y21: =A21 -> 16
A22: 17 | B22: ='[1]Encodage + Sav. parler'!$B$22 -> MKJLB Hkfrxy | C22: 7.5 | D22: 6 | E22: 19 | W22: =IF(W122=0,"",SUM(C22:V22)) -> 32.5 | X22: =IF(W122=0,"",W22/W122*100) -> 65 | Y22: =A22 -> 17
A23: 18 | B23: ='[1]Encodage + Sav. parler'!$B$23 -> VBEOU Lhlrygn-Roggj | C23: 10 | D23: 13 | E23: 27 | W23: =IF(W123=0,"",SUM(C23:V23)) -> 50 | X23: =IF(W123=0,"",W23/W123*100) -> 100 | Y23: =A23 -> 18
A24: 19 | B24: ='[1]Encodage + Sav. parler'!$B$24 -> OLGZDCNSX Ckgeph | C24: 7.5 | D24: 12 | E24: 30 | W24: =IF(W124=0,"",SUM(C24:V24)) -> 49.5 | X24: =IF(W124=0,"",W24/W124*100) -> 99 | Y24: =A24 -> 19
A25: 20 | B25: ='[1]Encodage + Sav. parler'!$B$25 -> TXHBZXHX Ovgalpu | C25: 8 | D25: 9 | W25: =IF(W125=0,"",SUM(C25:V25)) -> 17 | X25: =IF(W125=0,"",W25/W125*100) -> 56.666667 | Y25: =A25 -> 20
A26: 21 | B26: ='[1]Encodage + Sav. parler'!$B$26 -> POHRCJF WH LGUZBRRY Sdzoi | C26: 8 | D26: 12 | E26: 18 | W26: =IF(W126=0,"",SUM(C26:V26)) -> 38 | X26: =IF(W126=0,"",W26/W126*100) -> 76 | Y26: =A26 -> 21
A27: 22 | W27: =IF(W127=0,"",SUM(C27:V27)) | X27: =IF(W127=0,"",W27/W127*100) | Y27: =A27 -> 22
A28: 23 | W28: =IF(W128=0,"",SUM(C28:V28)) | X28: =IF(W128=0,"",W28/W128*100) | Y28: =A28 -> 23
A29: 24 | W29: =IF(W129=0,"",SUM(C29:V29)) | X29: =IF(W129=0,"",W29/W129*100) | Y29: =A29 -> 24
A30: 25 | W30: =IF(W130=0,"",SUM(C30:V30)) | X30: =IF(W130=0,"",W30/W130*100) | Y30: =A30 -> 25
A31: 26 | W31: =IF(W131=0,"",SUM(C31:V31)) | X31: =IF(W131=0,"",W31/W131*100) | Y31: =A31 -> 26
A32: 27 | W32: =IF(W132=0,"",SUM(C32:V32)) | X32: =IF(W132=0,"",W32/W132*100) | Y32: =A32 -> 27
A33: 28 | W33: =IF(W133=0,"",SUM(C33:V33)) | X33: =IF(W133=0,"",W33/W133*100) | Y33: =A33 -> 28
A34: 29 | W34: =IF(W134=0,"",SUM(C34:V34)) | X34: =IF(W134=0,"",W34/W134*100) | Y34: =A34 -> 29
A35: 30 | W35: =IF(W135=0,"",SUM(C35:V35)) | X35: =IF(W135=0,"",W35/W135*100) | Y35: =A35 -> 30
A36: TOTAL | C36: =IF(C136=0,"",SUM(C6:C35)) -> 151.5 | D36: =IF(D136=0,"",SUM(D6:D35)) -> 173 | E36: =IF(E136=0,"",SUM(E6:E35)) -> 308.5 | F36: =IF(F136=0,"",SUM(F6:F35)) | G36: =IF(G136=0,"",SUM(G6:G35)) | H36: =IF(H136=0,"",SUM(H6:H35)) | I36: =IF(I136=0,"",SUM(I6:I35)) | J36: =IF(J136=0,"",SUM(J6:J35)) | ... V36: =IF(V136=0,"",SUM(V6:V35)) | W36: =IF(W136=0,"",SUM(C36:V36)) -> 633 | X36: =IF(W136=0,"",W36/W136*100) -> 70.333333 | Y36: =A36 -> TOTAL
A37: MOY. CLAS | C37: =IF(C36="","",C36/C137*100) -> 75.75 | D37: =IF(D36="","",D36/D137*100) -> 50.882353 | E37: =IF(E36="","",E36/E137*100) -> 85.694444 | F37: =IF(F36="","",F36/F137*100) | G37: =IF(G36="","",G36/G137*100) | H37: =IF(H36="","",H36/H137*100) | I37: =IF(I36="","",I36/I137*100) | J37: =IF(J36="","",J36/J137*100) | ... V37: =IF(V36="","",V36/V137*100) | Y37: =A37 -> MOY. CLAS
C105: =C5 -> 10 | D105: =D5 -> 20 | E105: =E5 -> 20 | F105: =F5 -> 0 | G105: =G5 -> 0 | H105: =H5 -> 0 | I105: =I5 -> 0 | J105: =J5 -> 0 | ... W105: =W5 -> 0
C106: =IF(C6="","",$C$5) -> 10 | D106: =IF(D6="","",$D$5) -> 20 | E106: =IF(E6="","",$E$5) | F106: =IF(F6="","",$F$5) | G106: =IF(G6="","",$G$5) | H106: =IF(H6="","",$H$5) | I106: =IF(I6="","",$I$5) | J106: =IF(J6="","",$J$5) | K106: =IF(K6="","",$K$5) | L106: =IF(L6="","",$L$5) | M106: =IF(M6="","",$M$5) | N106: =IF(N6="","",$N$5) | O106: =IF(O6="","",$O$5) | P106: =IF(P6="","",$P$5) | Q106: =IF(Q6="","",$Q$5) | R106: =IF(R6="","",$R$5) | S106: =IF(S6="","",$S$5) | T106: =IF(T6="","",$T$5) | U106: =IF(U6="","",$U$5) | V106: =IF(V6="","",$V$5) | W106: =SUM(C106:V106) -> 30
C107: =IF(C7="","",$C$5) -> 10 | D107: =IF(D7="","",$D$5) | E107: =IF(E7="","",$E$5) -> 20 | F107: =IF(F7="","",$F$5) | G107: =IF(G7="","",$G$5) | H107: =IF(H7="","",$H$5) | I107: =IF(I7="","",$I$5) | J107: =IF(J7="","",$J$5) | K107: =IF(K7="","",$K$5) | L107: =IF(L7="","",$L$5) | M107: =IF(M7="","",$M$5) | N107: =IF(N7="","",$N$5) | O107: =IF(O7="","",$O$5) | P107: =IF(P7="","",$P$5) | Q107: =IF(Q7="","",$Q$5) | R107: =IF(R7="","",$R$5) | S107: =IF(S7="","",$S$5) | T107: =IF(T7="","",$T$5) | U107: =IF(U7="","",$U$5) | V107: =IF(V7="","",$V$5) | W107: =SUM(C107:V107) -> 30
C108: =IF(C8="","",$C$5) -> 10 | D108: =IF(D8="","",$D$5) -> 20 | E108: =IF(E8="","",$E$5) -> 20 | F108: =IF(F8="","",$F$5) | G108: =IF(G8="","",$G$5) | H108: =IF(H8="","",$H$5) | I108: =IF(I8="","",$I$5) | J108: =IF(J8="","",$J$5) | K108: =IF(K8="","",$K$5) | L108: =IF(L8="","",$L$5) | M108: =IF(M8="","",$M$5) | N108: =IF(N8="","",$N$5) | O108: =IF(O8="","",$O$5) | P108: =IF(P8="","",$P$5) | Q108: =IF(Q8="","",$Q$5) | R108: =IF(R8="","",$R$5) | S108: =IF(S8="","",$S$5) | T108: =IF(T8="","",$T$5) | U108: =IF(U8="","",$U$5) | V108: =IF(V8="","",$V$5) | W108: =SUM(C108:V108) -> 50
C109: =IF(C9="","",$C$5) -> 10 | D109: =IF(D9="","",$D$5) -> 20 | E109: =IF(E9="","",$E$5) -> 20 | F109: =IF(F9="","",$F$5) | G109: =IF(G9="","",$G$5) | H109: =IF(H9="","",$H$5) | I109: =IF(I9="","",$I$5) | J109: =IF(J9="","",$J$5) | K109: =IF(K9="","",$K$5) | L109: =IF(L9="","",$L$5) | M109: =IF(M9="","",$M$5) | N109: =IF(N9="","",$N$5) | O109: =IF(O9="","",$O$5) | P109: =IF(P9="","",$P$5) | Q109: =IF(Q9="","",$Q$5) | R109: =IF(R9="","",$R$5) | S109: =IF(S9="","",$S$5) | T109: =IF(T9="","",$T$5) | U109: =IF(U9="","",$U$5) | V109: =IF(V9="","",$V$5) | W109: =SUM(C109:V109) -> 50
C110: =IF(C10="","",$C$5) -> 10 | D110: =IF(D10="","",$D$5) -> 20 | E110: =IF(E10="","",$E$5) -> 20 | F110: =IF(F10="","",$F$5) | G110: =IF(G10="","",$G$5) | H110: =IF(H10="","",$H$5) | I110: =IF(I10="","",$I$5) | J110: =IF(J10="","",$J$5) | K110: =IF(K10="","",$K$5) | L110: =IF(L10="","",$L$5) | M110: =IF(M10="","",$M$5) | N110: =IF(N10="","",$N$5) | O110: =IF(O10="","",$O$5) | P110: =IF(P10="","",$P$5) | Q110: =IF(Q10="","",$Q$5) | R110: =IF(R10="","",$R$5) | S110: =IF(S10="","",$S$5) | T110: =IF(T10="","",$T$5) | U110: =IF(U10="","",$U$5) | V110: =IF(V10="","",$V$5) | W110: =SUM(C110:V110) -> 50
C111: =IF(C11="","",$C$5) -> 10 | D111: =IF(D11="","",$D$5) -> 20 | E111: =IF(E11="","",$E$5) -> 20 | F111: =IF(F11="","",$F$5) | G111: =IF(G11="","",$G$5) | H111: =IF(H11="","",$H$5) | I111: =IF(I11="","",$I$5) | J111: =IF(J11="","",$J$5) | K111: =IF(K11="","",$K$5) | L111: =IF(L11="","",$L$5) | M111: =IF(M11="","",$M$5) | N111: =IF(N11="","",$N$5) | O111: =IF(O11="","",$O$5) | P111: =IF(P11="","",$P$5) | Q111: =IF(Q11="","",$Q$5) | R111: =IF(R11="","",$R$5) | S111: =IF(S11="","",$S$5) | T111: =IF(T11="","",$T$5) | U111: =IF(U11="","",$U$5) | V111: =IF(V11="","",$V$5) | W111: =SUM(C111:V111) -> 50
C112: =IF(C12="","",$C$5) -> 10 | D112: =IF(D12="","",$D$5) -> 20 | E112: =IF(E12="","",$E$5) -> 20 | F112: =IF(F12="","",$F$5) | G112: =IF(G12="","",$G$5) | H112: =IF(H12="","",$H$5) | I112: =IF(I12="","",$I$5) | J112: =IF(J12="","",$J$5) | K112: =IF(K12="","",$K$5) | L112: =IF(L12="","",$L$5) | M112: =IF(M12="","",$M$5) | N112: =IF(N12="","",$N$5) | O112: =IF(O12="","",$O$5) | P112: =IF(P12="","",$P$5) | Q112: =IF(Q12="","",$Q$5) | R112: =IF(R12="","",$R$5) | S112: =IF(S12="","",$S$5) | T112: =IF(T12="","",$T$5) | U112: =IF(U12="","",$U$5) | V112: =IF(V12="","",$V$5) | W112: =SUM(C112:V112) -> 50
C113: =IF(C13="","",$C$5) -> 10 | D113: =IF(D13="","",$D$5) | E113: =IF(E13="","",$E$5) -> 20 | F113: =IF(F13="","",$F$5) | G113: =IF(G13="","",$G$5) | H113: =IF(H13="","",$H$5) | I113: =IF(I13="","",$I$5) | J113: =IF(J13="","",$J$5) | K113: =IF(K13="","",$K$5) | L113: =IF(L13="","",$L$5) | M113: =IF(M13="","",$M$5) | N113: =IF(N13="","",$N$5) | O113: =IF(O13="","",$O$5) | P113: =IF(P13="","",$P$5) | Q113: =IF(Q13="","",$Q$5) | R113: =IF(R13="","",$R$5) | S113: =IF(S13="","",$S$5) | T113: =IF(T13="","",$T$5) | U113: =IF(U13="","",$U$5) | V113: =IF(V13="","",$V$5) | W113: =SUM(C113:V113) -> 30
C114: =IF(C14="","",$C$5) -> 10 | D114: =IF(D14="","",$D$5) -> 20 | E114: =IF(E14="","",$E$5) -> 20 | F114: =IF(F14="","",$F$5) | G114: =IF(G14="","",$G$5) | H114: =IF(H14="","",$H$5) | I114: =IF(I14="","",$I$5) | J114: =IF(J14="","",$J$5) | K114: =IF(K14="","",$K$5) | L114: =IF(L14="","",$L$5) | M114: =IF(M14="","",$M$5) | N114: =IF(N14="","",$N$5) | O114: =IF(O14="","",$O$5) | P114: =IF(P14="","",$P$5) | Q114: =IF(Q14="","",$Q$5) | R114: =IF(R14="","",$R$5) | S114: =IF(S14="","",$S$5) | T114: =IF(T14="","",$T$5) | U114: =IF(U14="","",$U$5) | V114: =IF(V14="","",$V$5) | W114: =SUM(C114:V114) -> 50
C115: =IF(C15="","",$C$5) -> 10 | D115: =IF(D15="","",$D$5) -> 20 | E115: =IF(E15="","",$E$5) -> 20 | F115: =IF(F15="","",$F$5) | G115: =IF(G15="","",$G$5) | H115: =IF(H15="","",$H$5) | I115: =IF(I15="","",$I$5) | J115: =IF(J15="","",$J$5) | K115: =IF(K15="","",$K$5) | L115: =IF(L15="","",$L$5) | M115: =IF(M15="","",$M$5) | N115: =IF(N15="","",$N$5) | O115: =IF(O15="","",$O$5) | P115: =IF(P15="","",$P$5) | Q115: =IF(Q15="","",$Q$5) | R115: =IF(R15="","",$R$5) | S115: =IF(S15="","",$S$5) | T115: =IF(T15="","",$T$5) | U115: =IF(U15="","",$U$5) | V115: =IF(V15="","",$V$5) | W115: =SUM(C115:V115) -> 50
C116: =IF(C16="","",$C$5) -> 10 | D116: =IF(D16="","",$D$5) -> 20 | E116: =IF(E16="","",$E$5) -> 20 | F116: =IF(F16="","",$F$5) | G116: =IF(G16="","",$G$5) | H116: =IF(H16="","",$H$5) | I116: =IF(I16="","",$I$5) | J116: =IF(J16="","",$J$5) | K116: =IF(K16="","",$K$5) | L116: =IF(L16="","",$L$5) | M116: =IF(M16="","",$M$5) | N116: =IF(N16="","",$N$5) | O116: =IF(O16="","",$O$5) | P116: =IF(P16="","",$P$5) | Q116: =IF(Q16="","",$Q$5) | R116: =IF(R16="","",$R$5) | S116: =IF(S16="","",$S$5) | T116: =IF(T16="","",$T$5) | U116: =IF(U16="","",$U$5) | V116: =IF(V16="","",$V$5) | W116: =SUM(C116:V116) -> 50
C117: =IF(C17="","",$C$5) -> 10 | D117: =IF(D17="","",$D$5) -> 20 | E117: =IF(E17="","",$E$5) -> 20 | F117: =IF(F17="","",$F$5) | G117: =IF(G17="","",$G$5) | H117: =IF(H17="","",$H$5) | I117: =IF(I17="","",$I$5) | J117: =IF(J17="","",$J$5) | K117: =IF(K17="","",$K$5) | L117: =IF(L17="","",$L$5) | M117: =IF(M17="","",$M$5) | N117: =IF(N17="","",$N$5) | O117: =IF(O17="","",$O$5) | P117: =IF(P17="","",$P$5) | Q117: =IF(Q17="","",$Q$5) | R117: =IF(R17="","",$R$5) | S117: =IF(S17="","",$S$5) | T117: =IF(T17="","",$T$5) | U117: =IF(U17="","",$U$5) | V117: =IF(V17="","",$V$5) | W117: =SUM(C117:V117) -> 50
... C135: =IF(C35="","",$C$5) | D135: =IF(D35="","",$D$5) | E135: =IF(E35="","",$E$5) | F135: =IF(F35="","",$F$5) | G135: =IF(G35="","",$G$5) | H135: =IF(H35="","",$H$5) | I135: =IF(I35="","",$I$5) | J135: =IF(J35="","",$J$5) | K135: =IF(K35="","",$K$5) | L135: =IF(L35="","",$L$5) | M135: =IF(M35="","",$M$5) | N135: =IF(N35="","",$N$5) | O135: =IF(O35="","",$O$5) | P135: =IF(P35="","",$P$5) | Q135: =IF(Q35="","",$Q$5) | R135: =IF(R35="","",$R$5) | S135: =IF(S35="","",$S$5) | T135: =IF(T35="","",$T$5) | U135: =IF(U35="","",$U$5) | V135: =IF(V35="","",$V$5) | W135: =SUM(C135:V135) -> 0
C136: =COUNT(C6:C35) -> 20 | D136: =COUNT(D6:D35) -> 17 | E136: =COUNT(E6:E35) -> 18 | F136: =COUNT(F6:F35) -> 0 | G136: =COUNT(G6:G35) -> 0 | H136: =COUNT(H6:H35) -> 0 | I136: =COUNT(I6:I35) -> 0 | J136: =COUNT(J6:J35) -> 0 | ... V136: =COUNT(V6:V35) -> 0 | W136: =SUM(C137:V137) -> 900
C137: =C136*C5 -> 200 | D137: =D136*D5 -> 340 | E137: =E136*E5 -> 360 | F137: =F136*F5 -> 0 | G137: =G136*G5 -> 0 | H137: =H136*H5 -> 0 | I137: =I136*I5 -> 0 | J137: =J136*J5 -> 0 | ... V137: =V136*V5 -> 0

Sheet Savoir lire
A1: ='Encodage + Sav. parler'!A1 -> Bulletin | C1: ='Encodage + Sav. parler'!C1 -> Classe de 4ème année | J1: ='Encodage + Sav. parler'!J1 -> De Samblanx Nicolas | R1: ='Encodage + Sav. parler'!R1 -> Année 2023/2024
B3: NOMS | C3: Greta | D3: vacances
C4: 1 | D4: 2 | E4: 3 | F4: 4 | G4: 5 | H4: 6 | I4: 7 | J4: 8 | K4: 9 | L4: 10 | M4: 11 | N4: 12 | O4: 13 | P4: 14 | Q4: 15 | R4: 16 | S4: 17 | T4: 18 | U4: 19 | V4: 20 | W4: PTS | X4: %
A5: TOTAL --> | C5: 19 | D5: 20
A6: 1 | B6: ='Encodage + Sav. parler'!B6 -> MEUF Hfehfa | C6: 5.5 | D6: 4 | W6: =IF(W106=0,"",SUM(C6:V6)) -> 9.5 | X6: =IF(W106=0,"",W6/W106*100) -> 24.358974 | Y6: =A6 -> 1
A7: 2 | B7: ='Encodage + Sav. parler'!B7 -> QFCTDQ Cstji | C7: 0 | D7: 0 | W7: =IF(W107=0,"",SUM(C7:V7)) -> 0 | X7: =IF(W107=0,"",W7/W107*100) -> 0 | Y7: =A7 -> 2
A8: 3 | B8: ='Encodage + Sav. parler'!B8 -> ZLPGW Mmvnufyn | C8: 8 | D8: 4 | W8: =IF(W108=0,"",SUM(C8:V8)) -> 12 | X8: =IF(W108=0,"",W8/W108*100) -> 30.769231 | Y8: =A8 -> 3
A9: 4 | B9: ='Encodage + Sav. parler'!B9 -> BYLGGRPWAFFM Fbeozwbe | C9: 9 | D9: 10 | W9: =IF(W109=0,"",SUM(C9:V9)) -> 19 | X9: =IF(W109=0,"",W9/W109*100) -> 48.717949 | Y9: =A9 -> 4
A10: 5 | B10: ='Encodage + Sav. parler'!B10 -> CZUWKE Dbzzvsz | C10: 12.5 | D10: 18 | W10: =IF(W110=0,"",SUM(C10:V10)) -> 30.5 | X10: =IF(W110=0,"",W10/W110*100) -> 78.205128 | Y10: =A10 -> 5
A11: 6 | B11: ='Encodage + Sav. parler'!B11 -> NGRPFYX Kzfmy | C11: 12.5 | D11: 8 | W11: =IF(W111=0,"",SUM(C11:V11)) -> 20.5 | X11: =IF(W111=0,"",W11/W111*100) -> 52.564103 | Y11: =A11 -> 6
A12: 7 | B12: ='Encodage + Sav. parler'!B12 -> JUF Omjvhjm | C12: 15.5 | D12: 14 | W12: =IF(W112=0,"",SUM(C12:V12)) -> 29.5 | X12: =IF(W112=0,"",W12/W112*100) -> 75.641026 | Y12: =A12 -> 7
A13: 8 | B13: ='Encodage + Sav. parler'!B13 -> FIWGYBFGJI Qchucznjx | C13: 3.5 | D13: 4 | W13: =IF(W113=0,"",SUM(C13:V13)) -> 7.5 | X13: =IF(W113=0,"",W13/W113*100) -> 19.230769 | Y13: =A13 -> 8
A14: 9 | B14: ='Encodage + Sav. parler'!B14 -> K&#600;MYPDD JAQDIGQ Kyznuzp | C14: 12 | D14: 8 | W14: =IF(W114=0,"",SUM(C14:V14)) -> 20 | X14: =IF(W114=0,"",W14/W114*100) -> 51.282051 | Y14: =A14 -> 9
A15: 10 | B15: ='Encodage + Sav. parler'!B15 -> JRQJGR Njrlyiue | C15: 11.5 | D15: 14 | W15: =IF(W115=0,"",SUM(C15:V15)) -> 25.5 | X15: =IF(W115=0,"",W15/W115*100) -> 65.384615 | Y15: =A15 -> 10
A16: 11 | B16: ='Encodage + Sav. parler'!B16 -> FJJYWAFA Svohnr | C16: 9 | D16: 4 | W16: =IF(W116=0,"",SUM(C16:V16)) -> 13 | X16: =IF(W116=0,"",W16/W116*100) -> 33.333333 | Y16: =A16 -> 11
A17: 12 | B17: ='Encodage + Sav. parler'!B17 -> PJILCBS Cujjz | C17: 8 | D17: 9 | W17: =IF(W117=0,"",SUM(C17:V17)) -> 17 | X17: =IF(W117=0,"",W17/W117*100) -> 43.589744 | Y17: =A17 -> 12
A18: 13 | B18: ='Encodage + Sav. parler'!B18 -> XUQUOVP Hanicij | W18: =IF(W118=0,"",SUM(C18:V18)) | X18: =IF(W118=0,"",W18/W118*100) | Y18: =A18 -> 13
A19: 14 | B19: ='Encodage + Sav. parler'!B19 -> VXZKW Pcljhw | C19: 5 | D19: 0 | W19: =IF(W119=0,"",SUM(C19:V19)) -> 5 | X19: =IF(W119=0,"",W19/W119*100) -> 12.820513 | Y19: =A19 -> 14
A20: 15 | B20: ='Encodage + Sav. parler'!B20 -> ANKBQZDX Mswnjbak | C20: 6 | D20: 8 | W20: =IF(W120=0,"",SUM(C20:V20)) -> 14 | X20: =IF(W120=0,"",W20/W120*100) -> 35.897436 | Y20: =A20 -> 15
A21: 16 | B21: ='Encodage + Sav. parler'!B21 -> DYTVXSTMX Qoyfpx | C21: 18.5 | D21: 16 | W21: =IF(W121=0,"",SUM(C21:V21)) -> 34.5 | X21: =IF(W121=0,"",W21/W121*100) -> 88.461538 | Y21: =A21 -> 16
A22: 17 | B22: ='Encodage + Sav. parler'!B22 -> MKJLB Hkfrxy | C22: 10.5 | D22: 9 | W22: =IF(W122=0,"",SUM(C22:V22)) -> 19.5 | X22: =IF(W122=0,"",W22/W122*100) -> 50 | Y22: =A22 -> 17
A23: 18 | B23: ='Encodage + Sav. parler'!B23 -> VBEOU Lhlrygn-Roggj | C23: 9 | D23: 12 | W23: =IF(W123=0,"",SUM(C23:V23)) -> 21 | X23: =IF(W123=0,"",W23/W123*100) -> 53.846154 | Y23: =A23 -> 18
A24: 19 | B24: ='Encodage + Sav. parler'!B24 -> OLGZDCNSX Ckgeph | C24: 12 | D24: 10 | W24: =IF(W124=0,"",SUM(C24:V24)) -> 22 | X24: =IF(W124=0,"",W24/W124*100) -> 56.410256 | Y24: =A24 -> 19
A25: 20 | B25: ='Encodage + Sav. parler'!B25 -> TXHBZXHX Ovgalpu | C25: 10 | D25: 14 | W25: =IF(W125=0,"",SUM(C25:V25)) -> 24 | X25: =IF(W125=0,"",W25/W125*100) -> 61.538462 | Y25: =A25 -> 20
A26: 21 | B26: ='Encodage + Sav. parler'!B26 -> POHRCJF WH LGUZBRRY Sdzoi | C26: 13 | D26: 12 | W26: =IF(W126=0,"",SUM(C26:V26)) -> 25 | X26: =IF(W126=0,"",W26/W126*100) -> 64.102564 | Y26: =A26 -> 21
A27: 22 | B27: ='Encodage + Sav. parler'!B27 -> 0 | W27: =IF(W127=0,"",SUM(C27:V27)) | X27: =IF(W127=0,"",W27/W127*100) | Y27: =A27 -> 22
A28: 23 | B28: ='Encodage + Sav. parler'!B28 -> 0 | W28: =IF(W128=0,"",SUM(C28:V28)) | X28: =IF(W128=0,"",W28/W128*100) | Y28: =A28 -> 23
A29: 24 | B29: ='Encodage + Sav. parler'!B29 -> 0 | W29: =IF(W129=0,"",SUM(C29:V29)) | X29: =IF(W129=0,"",W29/W129*100) | Y29: =A29 -> 24
A30: 25 | B30: ='Encodage + Sav. parler'!B30 -> 0 | W30: =IF(W130=0,"",SUM(C30:V30)) | X30: =IF(W130=0,"",W30/W130*100) | Y30: =A30 -> 25
A31: 26 | B31: ='Encodage + Sav. parler'!B31 -> 0 | W31: =IF(W131=0,"",SUM(C31:V31)) | X31: =IF(W131=0,"",W31/W131*100) | Y31: =A31 -> 26
A32: 27 | B32: ='Encodage + Sav. parler'!B32 -> 0 | W32: =IF(W132=0,"",SUM(C32:V32)) | X32: =IF(W132=0,"",W32/W132*100) | Y32: =A32 -> 27
A33: 28 | B33: ='Encodage + Sav. parler'!B33 -> 0 | W33: =IF(W133=0,"",SUM(C33:V33)) | X33: =IF(W133=0,"",W33/W133*100) | Y33: =A33 -> 28
A34: 29 | B34: ='Encodage + Sav. parler'!B34 -> 0 | W34: =IF(W134=0,"",SUM(C34:V34)) | X34: =IF(W134=0,"",W34/W134*100) | Y34: =A34 -> 29
A35: 30 | B35: ='Encodage + Sav. parler'!B35 -> 0 | W35: =IF(W135=0,"",SUM(C35:V35)) | X35: =IF(W135=0,"",W35/W135*100) | Y35: =A35 -> 30
A36: TOTAL | C36: =IF(C136=0,"",SUM(C6:C35)) -> 191 | D36: =IF(D136=0,"",SUM(D6:D35)) -> 178 | E36: =IF(E136=0,"",SUM(E6:E35)) | F36: =IF(F136=0,"",SUM(F6:F35)) | G36: =IF(G136=0,"",SUM(G6:G35)) | H36: =IF(H136=0,"",SUM(H6:H35)) | I36: =IF(I136=0,"",SUM(I6:I35)) | J36: =IF(J136=0,"",SUM(J6:J35)) | ... V36: =IF(V136=0,"",SUM(V6:V35)) | W36: =IF(W136=0,"",SUM(C36:V36)) -> 369 | X36: =IF(W136=0,"",W36/W136*100) -> 47.307692 | Y36: =A36 -> TOTAL
A37: MOY. CLAS | C37: =IF(C36="","",C36/C137*100) -> 50.263158 | D37: =IF(D36="","",D36/D137*100) -> 44.5 | E37: =IF(E36="","",E36/E137*100) | F37: =IF(F36="","",F36/F137*100) | G37: =IF(G36="","",G36/G137*100) | H37: =IF(H36="","",H36/H137*100) | I37: =IF(I36="","",I36/I137*100) | J37: =IF(J36="","",J36/J137*100) | ... V37: =IF(V36="","",V36/V137*100) | Y37: =A37 -> MOY. CLAS
C105: =C5 -> 19 | D105: =D5 -> 20 | E105: =E5 -> 0 | F105: =F5 -> 0 | G105: =G5 -> 0 | H105: =H5 -> 0 | I105: =I5 -> 0 | J105: =J5 -> 0 | ... W105: =W5 -> 0
C106: =IF(C6="","",$C$5) -> 19 | D106: =IF(D6="","",$D$5) -> 20 | E106: =IF(E6="","",$E$5) | F106: =IF(F6="","",$F$5) | G106: =IF(G6="","",$G$5) | H106: =IF(H6="","",$H$5) | I106: =IF(I6="","",$I$5) | J106: =IF(J6="","",$J$5) | K106: =IF(K6="","",$K$5) | L106: =IF(L6="","",$L$5) | M106: =IF(M6="","",$M$5) | N106: =IF(N6="","",$N$5) | O106: =IF(O6="","",$O$5) | P106: =IF(P6="","",$P$5) | Q106: =IF(Q6="","",$Q$5) | R106: =IF(R6="","",$R$5) | S106: =IF(S6="","",$S$5) | T106: =IF(T6="","",$T$5) | U106: =IF(U6="","",$U$5) | V106: =IF(V6="","",$V$5) | W106: =SUM(C106:V106) -> 39
C107: =IF(C7="","",$C$5) -> 19 | D107: =IF(D7="","",$D$5) -> 20 | E107: =IF(E7="","",$E$5) | F107: =IF(F7="","",$F$5) | G107: =IF(G7="","",$G$5) | H107: =IF(H7="","",$H$5) | I107: =IF(I7="","",$I$5) | J107: =IF(J7="","",$J$5) | K107: =IF(K7="","",$K$5) | L107: =IF(L7="","",$L$5) | M107: =IF(M7="","",$M$5) | N107: =IF(N7="","",$N$5) | O107: =IF(O7="","",$O$5) | P107: =IF(P7="","",$P$5) | Q107: =IF(Q7="","",$Q$5) | R107: =IF(R7="","",$R$5) | S107: =IF(S7="","",$S$5) | T107: =IF(T7="","",$T$5) | U107: =IF(U7="","",$U$5) | V107: =IF(V7="","",$V$5) | W107: =SUM(C107:V107) -> 39
C108: =IF(C8="","",$C$5) -> 19 | D108: =IF(D8="","",$D$5) -> 20 | E108: =IF(E8="","",$E$5) | F108: =IF(F8="","",$F$5) | G108: =IF(G8="","",$G$5) | H108: =IF(H8="","",$H$5) | I108: =IF(I8="","",$I$5) | J108: =IF(J8="","",$J$5) | K108: =IF(K8="","",$K$5) | L108: =IF(L8="","",$L$5) | M108: =IF(M8="","",$M$5) | N108: =IF(N8="","",$N$5) | O108: =IF(O8="","",$O$5) | P108: =IF(P8="","",$P$5) | Q108: =IF(Q8="","",$Q$5) | R108: =IF(R8="","",$R$5) | S108: =IF(S8="","",$S$5) | T108: =IF(T8="","",$T$5) | U108: =IF(U8="","",$U$5) | V108: =IF(V8="","",$V$5) | W108: =SUM(C108:V108) -> 39
C109: =IF(C9="","",$C$5) -> 19 | D109: =IF(D9="","",$D$5) -> 20 | E109: =IF(E9="","",$E$5) | F109: =IF(F9="","",$F$5) | G109: =IF(G9="","",$G$5) | H109: =IF(H9="","",$H$5) | I109: =IF(I9="","",$I$5) | J109: =IF(J9="","",$J$5) | K109: =IF(K9="","",$K$5) | L109: =IF(L9="","",$L$5) | M109: =IF(M9="","",$M$5) | N109: =IF(N9="","",$N$5) | O109: =IF(O9="","",$O$5) | P109: =IF(P9="","",$P$5) | Q109: =IF(Q9="","",$Q$5) | R109: =IF(R9="","",$R$5) | S109: =IF(S9="","",$S$5) | T109: =IF(T9="","",$T$5) | U109: =IF(U9="","",$U$5) | V109: =IF(V9="","",$V$5) | W109: =SUM(C109:V109) -> 39
C110: =IF(C10="","",$C$5) -> 19 | D110: =IF(D10="","",$D$5) -> 20 | E110: =IF(E10="","",$E$5) | F110: =IF(F10="","",$F$5) | G110: =IF(G10="","",$G$5) | H110: =IF(H10="","",$H$5) | I110: =IF(I10="","",$I$5) | J110: =IF(J10="","",$J$5) | K110: =IF(K10="","",$K$5) | L110: =IF(L10="","",$L$5) | M110: =IF(M10="","",$M$5) | N110: =IF(N10="","",$N$5) | O110: =IF(O10="","",$O$5) | P110: =IF(P10="","",$P$5) | Q110: =IF(Q10="","",$Q$5) | R110: =IF(R10="","",$R$5) | S110: =IF(S10="","",$S$5) | T110: =IF(T10="","",$T$5) | U110: =IF(U10="","",$U$5) | V110: =IF(V10="","",$V$5) | W110: =SUM(C110:V110) -> 39
C111: =IF(C11="","",$C$5) -> 19 | D111: =IF(D11="","",$D$5) -> 20 | E111: =IF(E11="","",$E$5) | F111: =IF(F11="","",$F$5) | G111: =IF(G11="","",$G$5) | H111: =IF(H11="","",$H$5) | I111: =IF(I11="","",$I$5) | J111: =IF(J11="","",$J$5) | K111: =IF(K11="","",$K$5) | L111: =IF(L11="","",$L$5) | M111: =IF(M11="","",$M$5) | N111: =IF(N11="","",$N$5) | O111: =IF(O11="","",$O$5) | P111: =IF(P11="","",$P$5) | Q111: =IF(Q11="","",$Q$5) | R111: =IF(R11="","",$R$5) | S111: =IF(S11="","",$S$5) | T111: =IF(T11="","",$T$5) | U111: =IF(U11="","",$U$5) | V111: =IF(V11="","",$V$5) | W111: =SUM(C111:V111) -> 39
C112: =IF(C12="","",$C$5) -> 19 | D112: =IF(D12="","",$D$5) -> 20 | E112: =IF(E12="","",$E$5) | F112: =IF(F12="","",$F$5) | G112: =IF(G12="","",$G$5) | H112: =IF(H12="","",$H$5) | I112: =IF(I12="","",$I$5) | J112: =IF(J12="","",$J$5) | K112: =IF(K12="","",$K$5) | L112: =IF(L12="","",$L$5) | M112: =IF(M12="","",$M$5) | N112: =IF(N12="","",$N$5) | O112: =IF(O12="","",$O$5) | P112: =IF(P12="","",$P$5) | Q112: =IF(Q12="","",$Q$5) | R112: =IF(R12="","",$R$5) | S112: =IF(S12="","",$S$5) | T112: =IF(T12="","",$T$5) | U112: =IF(U12="","",$U$5) | V112: =IF(V12="","",$V$5) | W112: =SUM(C112:V112) -> 39
C113: =IF(C13="","",$C$5) -> 19 | D113: =IF(D13="","",$D$5) -> 20 | E113: =IF(E13="","",$E$5) | F113: =IF(F13="","",$F$5) | G113: =IF(G13="","",$G$5) | H113: =IF(H13="","",$H$5) | I113: =IF(I13="","",$I$5) | J113: =IF(J13="","",$J$5) | K113: =IF(K13="","",$K$5) | L113: =IF(L13="","",$L$5) | M113: =IF(M13="","",$M$5) | N113: =IF(N13="","",$N$5) | O113: =IF(O13="","",$O$5) | P113: =IF(P13="","",$P$5) | Q113: =IF(Q13="","",$Q$5) | R113: =IF(R13="","",$R$5) | S113: =IF(S13="","",$S$5) | T113: =IF(T13="","",$T$5) | U113: =IF(U13="","",$U$5) | V113: =IF(V13="","",$V$5) | W113: =SUM(C113:V113) -> 39
C114: =IF(C14="","",$C$5) -> 19 | D114: =IF(D14="","",$D$5) -> 20 | E114: =IF(E14="","",$E$5) | F114: =IF(F14="","",$F$5) | G114: =IF(G14="","",$G$5) | H114: =IF(H14="","",$H$5) | I114: =IF(I14="","",$I$5) | J114: =IF(J14="","",$J$5) | K114: =IF(K14="","",$K$5) | L114: =IF(L14="","",$L$5) | M114: =IF(M14="","",$M$5) | N114: =IF(N14="","",$N$5) | O114: =IF(O14="","",$O$5) | P114: =IF(P14="","",$P$5) | Q114: =IF(Q14="","",$Q$5) | R114: =IF(R14="","",$R$5) | S114: =IF(S14="","",$S$5) | T114: =IF(T14="","",$T$5) | U114: =IF(U14="","",$U$5) | V114: =IF(V14="","",$V$5) | W114: =SUM(C114:V114) -> 39
C115: =IF(C15="","",$C$5) -> 19 | D115: =IF(D15="","",$D$5) -> 20 | E115: =IF(E15="","",$E$5) | F115: =IF(F15="","",$F$5) | G115: =IF(G15="","",$G$5) | H115: =IF(H15="","",$H$5) | I115: =IF(I15="","",$I$5) | J115: =IF(J15="","",$J$5) | K115: =IF(K15="","",$K$5) | L115: =IF(L15="","",$L$5) | M115: =IF(M15="","",$M$5) | N115: =IF(N15="","",$N$5) | O115: =IF(O15="","",$O$5) | P115: =IF(P15="","",$P$5) | Q115: =IF(Q15="","",$Q$5) | R115: =IF(R15="","",$R$5) | S115: =IF(S15="","",$S$5) | T115: =IF(T15="","",$T$5) | U115: =IF(U15="","",$U$5) | V115: =IF(V15="","",$V$5) | W115: =SUM(C115:V115) -> 39
C116: =IF(C16="","",$C$5) -> 19 | D116: =IF(D16="","",$D$5) -> 20 | E116: =IF(E16="","",$E$5) | F116: =IF(F16="","",$F$5) | G116: =IF(G16="","",$G$5) | H116: =IF(H16="","",$H$5) | I116: =IF(I16="","",$I$5) | J116: =IF(J16="","",$J$5) | K116: =IF(K16="","",$K$5) | L116: =IF(L16="","",$L$5) | M116: =IF(M16="","",$M$5) | N116: =IF(N16="","",$N$5) | O116: =IF(O16="","",$O$5) | P116: =IF(P16="","",$P$5) | Q116: =IF(Q16="","",$Q$5) | R116: =IF(R16="","",$R$5) | S116: =IF(S16="","",$S$5) | T116: =IF(T16="","",$T$5) | U116: =IF(U16="","",$U$5) | V116: =IF(V16="","",$V$5) | W116: =SUM(C116:V116) -> 39
C117: =IF(C17="","",$C$5) -> 19 | D117: =IF(D17="","",$D$5) -> 20 | E117: =IF(E17="","",$E$5) | F117: =IF(F17="","",$F$5) | G117: =IF(G17="","",$G$5) | H117: =IF(H17="","",$H$5) | I117: =IF(I17="","",$I$5) | J117: =IF(J17="","",$J$5) | K117: =IF(K17="","",$K$5) | L117: =IF(L17="","",$L$5) | M117: =IF(M17="","",$M$5) | N117: =IF(N17="","",$N$5) | O117: =IF(O17="","",$O$5) | P117: =IF(P17="","",$P$5) | Q117: =IF(Q17="","",$Q$5) | R117: =IF(R17="","",$R$5) | S117: =IF(S17="","",$S$5) | T117: =IF(T17="","",$T$5) | U117: =IF(U17="","",$U$5) | V117: =IF(V17="","",$V$5) | W117: =SUM(C117:V117) -> 39
... C135: =IF(C35="","",$C$5) | D135: =IF(D35="","",$D$5) | E135: =IF(E35="","",$E$5) | F135: =IF(F35="","",$F$5) | G135: =IF(G35="","",$G$5) | H135: =IF(H35="","",$H$5) | I135: =IF(I35="","",$I$5) | J135: =IF(J35="","",$J$5) | K135: =IF(K35="","",$K$5) | L135: =IF(L35="","",$L$5) | M135: =IF(M35="","",$M$5) | N135: =IF(N35="","",$N$5) | O135: =IF(O35="","",$O$5) | P135: =IF(P35="","",$P$5) | Q135: =IF(Q35="","",$Q$5) | R135: =IF(R35="","",$R$5) | S135: =IF(S35="","",$S$5) | T135: =IF(T35="","",$T$5) | U135: =IF(U35="","",$U$5) | V135: =IF(V35="","",$V$5) | W135: =SUM(C135:V135) -> 0
C136: =COUNT(C6:C35) -> 20 | D136: =COUNT(D6:D35) -> 20 | E136: =COUNT(E6:E35) -> 0 | F136: =COUNT(F6:F35) -> 0 | G136: =COUNT(G6:G35) -> 0 | H136: =COUNT(H6:H35) -> 0 | I136: =COUNT(I6:I35) -> 0 | J136: =COUNT(J6:J35) -> 0 | ... V136: =COUNT(V6:V35) -> 0 | W136: =SUM(C137:V137) -> 780
C137: =C136*C5 -> 380 | D137: =D136*D5 -> 400 | E137: =E136*E5 -> 0 | F137: =F136*F5 -> 0 | G137: =G136*G5 -> 0 | H137: =H136*H5 -> 0 | I137: =I136*I5 -> 0 | J137: =J136*J5 -> 0 | ... V137: =V136*V5 -> 0

Sheet Savoir écrire
A1: ='Encodage + Sav. parler'!A1 -> Bulletin | C1: ='Encodage + Sav. parler'!C1 -> Classe de 4ème année | J1: ='Encodage + Sav. parler'!J1 -> De Samblanx Nicolas | R1: ='Encodage + Sav. parler'!R1 -> Année 2023/2024
B3: NOMS | C3: genre et nombre | D3: a as à | E3: familles de mots | F3: GN | G3: Pluriel | H3: Le présent | I3: préfixes | J3: phrase interrogative | K3: Dictée planète
C4: 1 | D4: 2 | E4: 3 | F4: 4 | G4: 5 | H4: 6 | I4: 7 | J4: 8 | K4: 9 | L4: 10 | M4: 11 | N4: 12 | O4: 13 | P4: 14 | Q4: 15 | R4: 16 | S4: 17 | T4: 18 | U4: 19 | V4: 20 | W4: PTS | X4: %
A5: TOTAL --> | C5: 20 | D5: 10 | E5: 20 | F5: 20 | G5: 20 | H5: 20 | I5: 20 | J5: 20 | K5: 20
A6: 1 | B6: ='Encodage + Sav. parler'!B6 -> MEUF Hfehfa | D6: 5 | E6: 6 | F6: 8.5 | G6: 6.5 | H6: 8 | I6: 6.5 | K6: 7 | W6: =IF(W106=0,"",SUM(C6:V6)) -> 47.5 | X6: =IF(W106=0,"",W6/W106*100) -> 36.538462 | Y6: =A6 -> 1
A7: 2 | B7: ='Encodage + Sav. parler'!B7 -> QFCTDQ Cstji | C7: 1 | D7: 4 | F7: 5.5 | G7: 1.5 | H7: 0 | I7: 1 | J7: 0 | K7: 0 | W7: =IF(W107=0,"",SUM(C7:V7)) -> 13 | X7: =IF(W107=0,"",W7/W107*100) -> 8.6666667 | Y7: =A7 -> 2
A8: 3 | B8: ='Encodage + Sav. parler'!B8 -> ZLPGW Mmvnufyn | C8: 7 | D8: 5 | E8: 7 | F8: 5.5 | G8: 2.5 | H8: 8 | I8: 8.5 | J8: 4 | K8: 6.5 | W8: =IF(W108=0,"",SUM(C8:V8)) -> 54 | X8: =IF(W108=0,"",W8/W108*100) -> 31.764706 | Y8: =A8 -> 3
A9: 4 | B9: ='Encodage + Sav. parler'!B9 -> BYLGGRPWAFFM Fbeozwbe | C9: 3 | D9: 5 | E9: 7 | F9: 3 | G9: 2.5 | H9: 6 | I9: 7 | J9: 7 | K9: 3.5 | W9: =IF(W109=0,"",SUM(C9:V9)) -> 44 | X9: =IF(W109=0,"",W9/W109*100) -> 25.882353 | Y9: =A9 -> 4
A10: 5 | B10: ='Encodage + Sav. parler'!B10 -> CZUWKE Dbzzvsz | C10: 15 | D10: 9 | E10: 14 | F10: 9.5 | G10: 15.5 | H10: 18 | I10: 15 | J10: 12.5 | K10: 14.5 | W10: =IF(W110=0,"",SUM(C10:V10)) -> 123 | X10: =IF(W110=0,"",W10/W110*100) -> 72.352941 | Y10: =A10 -> 5
A11: 6 | B11: ='Encodage + Sav. parler'!B11 -> NGRPFYX Kzfmy | C11: 14 | D11: 7 | E11: 12 | F11: 8 | G11: 10.5 | H11: 12 | I11: 1.5 | J11: 7 | K11: 1 | W11: =IF(W111=0,"",SUM(C11:V11)) -> 73 | X11: =IF(W111=0,"",W11/W111*100) -> 42.941176 | Y11: =A11 -> 6
A12: 7 | B12: ='Encodage + Sav. parler'!B12 -> JUF Omjvhjm | C12: 18 | D12: 10 | E12: 20 | F12: 16.5 | G12: 20 | H12: 20 | I12: 15.5 | J12: 13 | K12: 19 | W12: =IF(W112=0,"",SUM(C12:V12)) -> 152 | X12: =IF(W112=0,"",W12/W112*100) -> 89.411765 | Y12: =A12 -> 7
A13: 8 | B13: ='Encodage + Sav. parler'!B13 -> FIWGYBFGJI Qchucznjx | C13: 3.5 | D13: 5 | F13: 3.5 | G13: 5.5 | I13: 4 | J13: 4 | K13: 0 | W13: =IF(W113=0,"",SUM(C13:V13)) -> 25.5 | X13: =IF(W113=0,"",W13/W113*100) -> 19.615385 | Y13: =A13 -> 8
A14: 9 | B14: ='Encodage + Sav. parler'!B14 -> K&#600;MYPDD JAQDIGQ Kyznuzp | D14: 4 | E14: 10 | F14: 10 | G14: 11.5 | H14: 11 | I14: 8 | J14: 10 | K14: 15.5 | W14: =IF(W114=0,"",SUM(C14:V14)) -> 80 | X14: =IF(W114=0,"",W14/W114*100) -> 53.333333 | Y14: =A14 -> 9
A15: 10 | B15: ='Encodage + Sav. parler'!B15 -> JRQJGR Njrlyiue | C15: 10 | D15: 5 | E15: 10 | F15: 15 | G15: 16.5 | H15: 13 | I15: 13.5 | J15: 8 | K15: 14.5 | W15: =IF(W115=0,"",SUM(C15:V15)) -> 105.5 | X15: =IF(W115=0,"",W15/W115*100) -> 62.058824 | Y15: =A15 -> 10
A16: 11 | B16: ='Encodage + Sav. parler'!B16 -> FJJYWAFA Svohnr | C16: 4 | D16: 2 | E16: 9 | F16: 6.5 | G16: 7.5 | H16: 14 | I16: 8 | K16: 17.5 | W16: =IF(W116=0,"",SUM(C16:V16)) -> 68.5 | X16: =IF(W116=0,"",W16/W116*100) -> 45.666667 | Y16: =A16 -> 11
A17: 12 | B17: ='Encodage + Sav. parler'!B17 -> PJILCBS Cujjz | D17: 3 | E17: 7 | I17: 6.5 | K17: 2.5 | W17: =IF(W117=0,"",SUM(C17:V17)) -> 19 | X17: =IF(W117=0,"",W17/W117*100) -> 27.142857 | Y17: =A17 -> 12
A18: 13 | B18: ='Encodage + Sav. parler'!B18 -> XUQUOVP Hanicij | W18: =IF(W118=0,"",SUM(C18:V18)) | X18: =IF(W118=0,"",W18/W118*100) | Y18: =A18 -> 13
A19: 14 | B19: ='Encodage + Sav. parler'!B19 -> VXZKW Pcljhw | C19: 5 | D19: 6 | E19: 3 | F19: 6.5 | G19: 0.5 | H19: 0.5 | I19: 3.5 | J19: 0 | K19: 1 | W19: =IF(W119=0,"",SUM(C19:V19)) -> 26 | X19: =IF(W119=0,"",W19/W119*100) -> 15.294118 | Y19: =A19 -> 14
A20: 15 | B20: ='Encodage + Sav. parler'!B20 -> ANKBQZDX Mswnjbak | C20: 12.5 | F20: 8.5 | G20: 6.5 | H20: 7 | I20: 7 | J20: 9.5 | K20: 1 | W20: =IF(W120=0,"",SUM(C20:V20)) -> 52 | X20: =IF(W120=0,"",W20/W120*100) -> 37.142857 | Y20: =A20 -> 15
A21: 16 | B21: ='Encodage + Sav. parler'!B21 -> DYTVXSTMX Qoyfpx | C21: 13 | E21: 16 | F21: 13 | G21: 19.5 | H21: 19 | I21: 19 | K21: 19.5 | W21: =IF(W121=0,"",SUM(C21:V21)) -> 119 | X21: =IF(W121=0,"",W21/W121*100) -> 85 | Y21: =A21 -> 16
A22: 17 | B22: ='Encodage + Sav. parler'!B22 -> MKJLB Hkfrxy | C22: 3.5 | D22: 7 | E22: 6 | F22: 5.5 | G22: 3.5 | H22: 13 | I22: 9.5 | J22: 4 | K22: 6 | W22: =IF(W122=0,"",SUM(C22:V22)) -> 58 | X22: =IF(W122=0,"",W22/W122*100) -> 34.117647 | Y22: =A22 -> 17
A23: 18 | B23: ='Encodage + Sav. parler'!B23 -> VBEOU Lhlrygn-Roggj | C23: 15.5 | D23: 8 | E23: 13 | F23: 6.5 | G23: 11.5 | H23: 15 | I23: 16.5 | J23: 9 | K23: 18 | W23: =IF(W123=0,"",SUM(C23:V23)) -> 113 | X23: =IF(W123=0,"",W23/W123*100) -> 66.470588 | Y23: =A23 -> 18
A24: 19 | B24: ='Encodage + Sav. parler'!B24 -> OLGZDCNSX Ckgeph | C24: 14 | D24: 6 | E24: 12 | F24: 10.5 | G24: 17 | H24: 9 | I24: 12.5 | K24: 13.5 | W24: =IF(W124=0,"",SUM(C24:V24)) -> 94.5 | X24: =IF(W124=0,"",W24/W124*100) -> 63 | Y24: =A24 -> 19
A25: 20 | B25: ='Encodage + Sav. parler'!B25 -> TXHBZXHX Ovgalpu | C25: 7 | E25: 9 | F25: 8.5 | G25: 14.5 | H25: 11 | I25: 4.5 | K25: 14.5 | W25: =IF(W125=0,"",SUM(C25:V25)) -> 69 | X25: =IF(W125=0,"",W25/W125*100) -> 49.285714 | Y25: =A25 -> 20
A26: 21 | B26: ='Encodage + Sav. parler'!B26 -> POHRCJF WH LGUZBRRY Sdzoi | C26: 8 | D26: 5 | E26: 12 | F26: 9.5 | G26: 10.5 | H26: 18 | I26: 9.5 | J26: 6.5 | K26: 11 | W26: =IF(W126=0,"",SUM(C26:V26)) -> 90 | X26: =IF(W126=0,"",W26/W126*100) -> 52.941176 | Y26: =A26 -> 21
A27: 22 | B27: ='Encodage + Sav. parler'!B27 -> 0 | W27: =IF(W127=0,"",SUM(C27:V27)) | X27: =IF(W127=0,"",W27/W127*100) | Y27: =A27 -> 22
A28: 23 | B28: ='Encodage + Sav. parler'!B28 -> 0 | W28: =IF(W128=0,"",SUM(C28:V28)) | X28: =IF(W128=0,"",W28/W128*100) | Y28: =A28 -> 23
A29: 24 | B29: ='Encodage + Sav. parler'!B29 -> 0 | W29: =IF(W129=0,"",SUM(C29:V29)) | X29: =IF(W129=0,"",W29/W129*100) | Y29: =A29 -> 24
A30: 25 | B30: ='Encodage + Sav. parler'!B30 -> 0 | W30: =IF(W130=0,"",SUM(C30:V30)) | X30: =IF(W130=0,"",W30/W130*100) | Y30: =A30 -> 25
A31: 26 | B31: ='Encodage + Sav. parler'!B31 -> 0 | W31: =IF(W131=0,"",SUM(C31:V31)) | X31: =IF(W131=0,"",W31/W131*100) | Y31: =A31 -> 26
A32: 27 | B32: ='Encodage + Sav. parler'!B32 -> 0 | W32: =IF(W132=0,"",SUM(C32:V32)) | X32: =IF(W132=0,"",W32/W132*100) | Y32: =A32 -> 27
A33: 28 | B33: ='Encodage + Sav. parler'!B33 -> 0 | W33: =IF(W133=0,"",SUM(C33:V33)) | X33: =IF(W133=0,"",W33/W133*100) | Y33: =A33 -> 28
A34: 29 | B34: ='Encodage + Sav. parler'!B34 -> 0 | W34: =IF(W134=0,"",SUM(C34:V34)) | X34: =IF(W134=0,"",W34/W134*100) | Y34: =A34 -> 29
A35: 30 | B35: ='Encodage + Sav. parler'!B35 -> 0 | W35: =IF(W135=0,"",SUM(C35:V35)) | X35: =IF(W135=0,"",W35/W135*100) | Y35: =A35 -> 30
A36: TOTAL | C36: =IF(C136=0,"",SUM(C6:C35)) -> 154 | D36: =IF(D136=0,"",SUM(D6:D35)) -> 96 | E36: =IF(E136=0,"",SUM(E6:E35)) -> 173 | F36: =IF(F136=0,"",SUM(F6:F35)) -> 160 | G36: =IF(G136=0,"",SUM(G6:G35)) -> 183.5 | H36: =IF(H136=0,"",SUM(H6:H35)) -> 202.5 | I36: =IF(I136=0,"",SUM(I6:I35)) -> 177 | J36: =IF(J136=0,"",SUM(J6:J35)) -> 94.5 | ... V36: =IF(V136=0,"",SUM(V6:V35)) | W36: =IF(W136=0,"",SUM(C36:V36)) -> 1426.5 | X36: =IF(W136=0,"",W36/W136*100) -> 46.770492 | Y36: =A36 -> TOTAL
A37: MOY. CLAS | C37: =IF(C36="","",C36/C137*100) -> 45.294118 | D37: =IF(D36="","",D36/D137*100) -> 56.470588 | E37: =IF(E36="","",E36/E137*100) -> 50.882353 | F37: =IF(F36="","",F36/F137*100) -> 42.105263 | G37: =IF(G36="","",G36/G137*100) -> 48.289474 | H37: =IF(H36="","",H36/H137*100) -> 56.25 | I37: =IF(I36="","",I36/I137*100) -> 44.25 | J37: =IF(J36="","",J36/J137*100) -> 33.75 | ... V37: =IF(V36="","",V36/V137*100) | Y37: =A37 -> MOY. CLAS
C105: =C5 -> 20 | D105: =D5 -> 10 | E105: =E5 -> 20 | F105: =F5 -> 20 | G105: =G5 -> 20 | H105: =H5 -> 20 | I105: =I5 -> 20 | J105: =J5 -> 20 | ... W105: =W5 -> 0
C106: =IF(C6="","",$C$5) | D106: =IF(D6="","",$D$5) -> 10 | E106: =IF(E6="","",$E$5) -> 20 | F106: =IF(F6="","",$F$5) -> 20 | G106: =IF(G6="","",$G$5) -> 20 | H106: =IF(H6="","",$H$5) -> 20 | I106: =IF(I6="","",$I$5) -> 20 | J106: =IF(J6="","",$J$5) | K106: =IF(K6="","",$K$5) -> 20 | L106: =IF(L6="","",$L$5) | M106: =IF(M6="","",$M$5) | N106: =IF(N6="","",$N$5) | O106: =IF(O6="","",$O$5) | P106: =IF(P6="","",$P$5) | Q106: =IF(Q6="","",$Q$5) | R106: =IF(R6="","",$R$5) | S106: =IF(S6="","",$S$5) | T106: =IF(T6="","",$T$5) | U106: =IF(U6="","",$U$5) | V106: =IF(V6="","",$V$5) | W106: =SUM(C106:V106) -> 130
C107: =IF(C7="","",$C$5) -> 20 | D107: =IF(D7="","",$D$5) -> 10 | E107: =IF(E7="","",$E$5) | F107: =IF(F7="","",$F$5) -> 20 | G107: =IF(G7="","",$G$5) -> 20 | H107: =IF(H7="","",$H$5) -> 20 | I107: =IF(I7="","",$I$5) -> 20 | J107: =IF(J7="","",$J$5) -> 20 | K107: =IF(K7="","",$K$5) -> 20 | L107: =IF(L7="","",$L$5) | M107: =IF(M7="","",$M$5) | N107: =IF(N7="","",$N$5) | O107: =IF(O7="","",$O$5) | P107: =IF(P7="","",$P$5) | Q107: =IF(Q7="","",$Q$5) | R107: =IF(R7="","",$R$5) | S107: =IF(S7="","",$S$5) | T107: =IF(T7="","",$T$5) | U107: =IF(U7="","",$U$5) | V107: =IF(V7="","",$V$5) | W107: =SUM(C107:V107) -> 150
C108: =IF(C8="","",$C$5) -> 20 | D108: =IF(D8="","",$D$5) -> 10 | E108: =IF(E8="","",$E$5) -> 20 | F108: =IF(F8="","",$F$5) -> 20 | G108: =IF(G8="","",$G$5) -> 20 | H108: =IF(H8="","",$H$5) -> 20 | I108: =IF(I8="","",$I$5) -> 20 | J108: =IF(J8="","",$J$5) -> 20 | K108: =IF(K8="","",$K$5) -> 20 | L108: =IF(L8="","",$L$5) | M108: =IF(M8="","",$M$5) | N108: =IF(N8="","",$N$5) | O108: =IF(O8="","",$O$5) | P108: =IF(P8="","",$P$5) | Q108: =IF(Q8="","",$Q$5) | R108: =IF(R8="","",$R$5) | S108: =IF(S8="","",$S$5) | T108: =IF(T8="","",$T$5) | U108: =IF(U8="","",$U$5) | V108: =IF(V8="","",$V$5) | W108: =SUM(C108:V108) -> 170
C109: =IF(C9="","",$C$5) -> 20 | D109: =IF(D9="","",$D$5) -> 10 | E109: =IF(E9="","",$E$5) -> 20 | F109: =IF(F9="","",$F$5) -> 20 | G109: =IF(G9="","",$G$5) -> 20 | H109: =IF(H9="","",$H$5) -> 20 | I109: =IF(I9="","",$I$5) -> 20 | J109: =IF(J9="","",$J$5) -> 20 | K109: =IF(K9="","",$K$5) -> 20 | L109: =IF(L9="","",$L$5) | M109: =IF(M9="","",$M$5) | N109: =IF(N9="","",$N$5) | O109: =IF(O9="","",$O$5) | P109: =IF(P9="","",$P$5) | Q109: =IF(Q9="","",$Q$5) | R109: =IF(R9="","",$R$5) | S109: =IF(S9="","",$S$5) | T109: =IF(T9="","",$T$5) | U109: =IF(U9="","",$U$5) | V109: =IF(V9="","",$V$5) | W109: =SUM(C109:V109) -> 170
C110: =IF(C10="","",$C$5) -> 20 | D110: =IF(D10="","",$D$5) -> 10 | E110: =IF(E10="","",$E$5) -> 20 | F110: =IF(F10="","",$F$5) -> 20 | G110: =IF(G10="","",$G$5) -> 20 | H110: =IF(H10="","",$H$5) -> 20 | I110: =IF(I10="","",$I$5) -> 20 | J110: =IF(J10="","",$J$5) -> 20 | K110: =IF(K10="","",$K$5) -> 20 | L110: =IF(L10="","",$L$5) | M110: =IF(M10="","",$M$5) | N110: =IF(N10="","",$N$5) | O110: =IF(O10="","",$O$5) | P110: =IF(P10="","",$P$5) | Q110: =IF(Q10="","",$Q$5) | R110: =IF(R10="","",$R$5) | S110: =IF(S10="","",$S$5) | T110: =IF(T10="","",$T$5) | U110: =IF(U10="","",$U$5) | V110: =IF(V10="","",$V$5) | W110: =SUM(C110:V110) -> 170
C111: =IF(C11="","",$C$5) -> 20 | D111: =IF(D11="","",$D$5) -> 10 | E111: =IF(E11="","",$E$5) -> 20 | F111: =IF(F11="","",$F$5) -> 20 | G111: =IF(G11="","",$G$5) -> 20 | H111: =IF(H11="","",$H$5) -> 20 | I111: =IF(I11="","",$I$5) -> 20 | J111: =IF(J11="","",$J$5) -> 20 | K111: =IF(K11="","",$K$5) -> 20 | L111: =IF(L11="","",$L$5) | M111: =IF(M11="","",$M$5) | N111: =IF(N11="","",$N$5) | O111: =IF(O11="","",$O$5) | P111: =IF(P11="","",$P$5) | Q111: =IF(Q11="","",$Q$5) | R111: =IF(R11="","",$R$5) | S111: =IF(S11="","",$S$5) | T111: =IF(T11="","",$T$5) | U111: =IF(U11="","",$U$5) | V111: =IF(V11="","",$V$5) | W111: =SUM(C111:V111) -> 170
C112: =IF(C12="","",$C$5) -> 20 | D112: =IF(D12="","",$D$5) -> 10 | E112: =IF(E12="","",$E$5) -> 20 | F112: =IF(F12="","",$F$5) -> 20 | G112: =IF(G12="","",$G$5) -> 20 | H112: =IF(H12="","",$H$5) -> 20 | I112: =IF(I12="","",$I$5) -> 20 | J112: =IF(J12="","",$J$5) -> 20 | K112: =IF(K12="","",$K$5) -> 20 | L112: =IF(L12="","",$L$5) | M112: =IF(M12="","",$M$5) | N112: =IF(N12="","",$N$5) | O112: =IF(O12="","",$O$5) | P112: =IF(P12="","",$P$5) | Q112: =IF(Q12="","",$Q$5) | R112: =IF(R12="","",$R$5) | S112: =IF(S12="","",$S$5) | T112: =IF(T12="","",$T$5) | U112: =IF(U12="","",$U$5) | V112: =IF(V12="","",$V$5) | W112: =SUM(C112:V112) -> 170
C113: =IF(C13="","",$C$5) -> 20 | D113: =IF(D13="","",$D$5) -> 10 | E113: =IF(E13="","",$E$5) | F113: =IF(F13="","",$F$5) -> 20 | G113: =IF(G13="","",$G$5) -> 20 | H113: =IF(H13="","",$H$5) | I113: =IF(I13="","",$I$5) -> 20 | J113: =IF(J13="","",$J$5) -> 20 | K113: =IF(K13="","",$K$5) -> 20 | L113: =IF(L13="","",$L$5) | M113: =IF(M13="","",$M$5) | N113: =IF(N13="","",$N$5) | O113: =IF(O13="","",$O$5) | P113: =IF(P13="","",$P$5) | Q113: =IF(Q13="","",$Q$5) | R113: =IF(R13="","",$R$5) | S113: =IF(S13="","",$S$5) | T113: =IF(T13="","",$T$5) | U113: =IF(U13="","",$U$5) | V113: =IF(V13="","",$V$5) | W113: =SUM(C113:V113) -> 130
C114: =IF(C14="","",$C$5) | D114: =IF(D14="","",$D$5) -> 10 | E114: =IF(E14="","",$E$5) -> 20 | F114: =IF(F14="","",$F$5) -> 20 | G114: =IF(G14="","",$G$5) -> 20 | H114: =IF(H14="","",$H$5) -> 20 | I114: =IF(I14="","",$I$5) -> 20 | J114: =IF(J14="","",$J$5) -> 20 | K114: =IF(K14="","",$K$5) -> 20 | L114: =IF(L14="","",$L$5) | M114: =IF(M14="","",$M$5) | N114: =IF(N14="","",$N$5) | O114: =IF(O14="","",$O$5) | P114: =IF(P14="","",$P$5) | Q114: =IF(Q14="","",$Q$5) | R114: =IF(R14="","",$R$5) | S114: =IF(S14="","",$S$5) | T114: =IF(T14="","",$T$5) | U114: =IF(U14="","",$U$5) | V114: =IF(V14="","",$V$5) | W114: =SUM(C114:V114) -> 150
C115: =IF(C15="","",$C$5) -> 20 | D115: =IF(D15="","",$D$5) -> 10 | E115: =IF(E15="","",$E$5) -> 20 | F115: =IF(F15="","",$F$5) -> 20 | G115: =IF(G15="","",$G$5) -> 20 | H115: =IF(H15="","",$H$5) -> 20 | I115: =IF(I15="","",$I$5) -> 20 | J115: =IF(J15="","",$J$5) -> 20 | K115: =IF(K15="","",$K$5) -> 20 | L115: =IF(L15="","",$L$5) | M115: =IF(M15="","",$M$5) | N115: =IF(N15="","",$N$5) | O115: =IF(O15="","",$O$5) | P115: =IF(P15="","",$P$5) | Q115: =IF(Q15="","",$Q$5) | R115: =IF(R15="","",$R$5) | S115: =IF(S15="","",$S$5) | T115: =IF(T15="","",$T$5) | U115: =IF(U15="","",$U$5) | V115: =IF(V15="","",$V$5) | W115: =SUM(C115:V115) -> 170
C116: =IF(C16="","",$C$5) -> 20 | D116: =IF(D16="","",$D$5) -> 10 | E116: =IF(E16="","",$E$5) -> 20 | F116: =IF(F16="","",$F$5) -> 20 | G116: =IF(G16="","",$G$5) -> 20 | H116: =IF(H16="","",$H$5) -> 20 | I116: =IF(I16="","",$I$5) -> 20 | J116: =IF(J16="","",$J$5) | K116: =IF(K16="","",$K$5) -> 20 | L116: =IF(L16="","",$L$5) | M116: =IF(M16="","",$M$5) | N116: =IF(N16="","",$N$5) | O116: =IF(O16="","",$O$5) | P116: =IF(P16="","",$P$5) | Q116: =IF(Q16="","",$Q$5) | R116: =IF(R16="","",$R$5) | S116: =IF(S16="","",$S$5) | T116: =IF(T16="","",$T$5) | U116: =IF(U16="","",$U$5) | V116: =IF(V16="","",$V$5) | W116: =SUM(C116:V116) -> 150
C117: =IF(C17="","",$C$5) | D117: =IF(D17="","",$D$5) -> 10 | E117: =IF(E17="","",$E$5) -> 20 | F117: =IF(F17="","",$F$5) | G117: =IF(G17="","",$G$5) | H117: =IF(H17="","",$H$5) | I117: =IF(I17="","",$I$5) -> 20 | J117: =IF(J17="","",$J$5) | K117: =IF(K17="","",$K$5) -> 20 | L117: =IF(L17="","",$L$5) | M117: =IF(M17="","",$M$5) | N117: =IF(N17="","",$N$5) | O117: =IF(O17="","",$O$5) | P117: =IF(P17="","",$P$5) | Q117: =IF(Q17="","",$Q$5) | R117: =IF(R17="","",$R$5) | S117: =IF(S17="","",$S$5) | T117: =IF(T17="","",$T$5) | U117: =IF(U17="","",$U$5) | V117: =IF(V17="","",$V$5) | W117: =SUM(C117:V117) -> 70
... C135: =IF(C35="","",$C$5) | D135: =IF(D35="","",$D$5) | E135: =IF(E35="","",$E$5) | F135: =IF(F35="","",$F$5) | G135: =IF(G35="","",$G$5) | H135: =IF(H35="","",$H$5) | I135: =IF(I35="","",$I$5) | J135: =IF(J35="","",$J$5) | K135: =IF(K35="","",$K$5) | L135: =IF(L35="","",$L$5) | M135: =IF(M35="","",$M$5) | N135: =IF(N35="","",$N$5) | O135: =IF(O35="","",$O$5) | P135: =IF(P35="","",$P$5) | Q135: =IF(Q35="","",$Q$5) | R135: =IF(R35="","",$R$5) | S135: =IF(S35="","",$S$5) | T135: =IF(T35="","",$T$5) | U135: =IF(U35="","",$U$5) | V135: =IF(V35="","",$V$5) | W135: =SUM(C135:V135) -> 0
C136: =COUNT(C6:C35) -> 17 | D136: =COUNT(D6:D35) -> 17 | E136: =COUNT(E6:E35) -> 17 | F136: =COUNT(F6:F35) -> 19 | G136: =COUNT(G6:G35) -> 19 | H136: =COUNT(H6:H35) -> 18 | I136: =COUNT(I6:I35) -> 20 | J136: =COUNT(J6:J35) -> 14 | ... V136: =COUNT(V6:V35) -> 0 | W136: =SUM(C137:V137) -> 3050
C137: =C136*C5 -> 340 | D137: =D136*D5 -> 170 | E137: =E136*E5 -> 340 | F137: =F136*F5 -> 380 | G137: =G136*G5 -> 380 | H137: =H136*H5 -> 360 | I137: =I136*I5 -> 400 | J137: =J136*J5 -> 280 | ... V137: =V136*V5 -> 0

Sheet Savoir ecouter
A1: ='Encodage + Sav. parler'!A1 -> Bulletin | C1: ='Encodage + Sav. parler'!C1 -> Classe de 4ème année | J1: ='Encodage + Sav. parler'!J1 -> De Samblanx Nicolas | R1: ='Encodage + Sav. parler'!R1 -> Année 2023/2024
B3: NOMS | C3: chandeleur | D3: Journaliste
C4: 1 | D4: 2 | E4: 3 | F4: 4 | G4: 5 | H4: 6 | I4: 7 | J4: 8 | K4: 9 | L4: 10 | M4: 11 | N4: 12 | O4: 13 | P4: 14 | Q4: 15 | R4: 16 | S4: 17 | T4: 18 | U4: 19 | V4: 20 | W4: PTS | X4: %
A5: TOTAL --> | C5: 15 | D5: 8
A6: 1 | B6: ='Encodage + Sav. parler'!B6 -> MEUF Hfehfa | C6: 9 | D6: 5.5 | W6: =IF(W106=0,"",SUM(C6:V6)) -> 14.5 | X6: =IF(W106=0,"",W6/W106*100) -> 63.043478 | Y6: =A6 -> 1
A7: 2 | B7: ='Encodage + Sav. parler'!B7 -> QFCTDQ Cstji | C7: 5 | D7: 3 | W7: =IF(W107=0,"",SUM(C7:V7)) -> 8 | X7: =IF(W107=0,"",W7/W107*100) -> 34.782609 | Y7: =A7 -> 2
A8: 3 | B8: ='Encodage + Sav. parler'!B8 -> ZLPGW Mmvnufyn | C8: 6 | D8: 6 | W8: =IF(W108=0,"",SUM(C8:V8)) -> 12 | X8: =IF(W108=0,"",W8/W108*100) -> 52.173913 | Y8: =A8 -> 3
A9: 4 | B9: ='Encodage + Sav. parler'!B9 -> BYLGGRPWAFFM Fbeozwbe | C9: 8 | D9: 6.5 | W9: =IF(W109=0,"",SUM(C9:V9)) -> 14.5 | X9: =IF(W109=0,"",W9/W109*100) -> 63.043478 | Y9: =A9 -> 4
A10: 5 | B10: ='Encodage + Sav. parler'!B10 -> CZUWKE Dbzzvsz | C10: 9.5 | D10: 7 | W10: =IF(W110=0,"",SUM(C10:V10)) -> 16.5 | X10: =IF(W110=0,"",W10/W110*100) -> 71.73913 | Y10: =A10 -> 5
A11: 6 | B11: ='Encodage + Sav. parler'!B11 -> NGRPFYX Kzfmy | C11: 5 | D11: 5.5 | W11: =IF(W111=0,"",SUM(C11:V11)) -> 10.5 | X11: =IF(W111=0,"",W11/W111*100) -> 45.652174 | Y11: =A11 -> 6
A12: 7 | B12: ='Encodage + Sav. parler'!B12 -> JUF Omjvhjm | C12: 10.5 | D12: 8 | W12: =IF(W112=0,"",SUM(C12:V12)) -> 18.5 | X12: =IF(W112=0,"",W12/W112*100) -> 80.434783 | Y12: =A12 -> 7
A13: 8 | B13: ='Encodage + Sav. parler'!B13 -> FIWGYBFGJI Qchucznjx | C13: 3 | D13: 4.5 | W13: =IF(W113=0,"",SUM(C13:V13)) -> 7.5 | X13: =IF(W113=0,"",W13/W113*100) -> 32.608696 | Y13: =A13 -> 8
A14: 9 | B14: ='Encodage + Sav. parler'!B14 -> K&#600;MYPDD JAQDIGQ Kyznuzp | C14: 9 | D14: 5.5 | W14: =IF(W114=0,"",SUM(C14:V14)) -> 14.5 | X14: =IF(W114=0,"",W14/W114*100) -> 63.043478 | Y14: =A14 -> 9
A15: 10 | B15: ='Encodage + Sav. parler'!B15 -> JRQJGR Njrlyiue | C15: 8.5 | D15: 8 | W15: =IF(W115=0,"",SUM(C15:V15)) -> 16.5 | X15: =IF(W115=0,"",W15/W115*100) -> 71.73913 | Y15: =A15 -> 10
A16: 11 | B16: ='Encodage + Sav. parler'!B16 -> FJJYWAFA Svohnr | C16: 3.5 | D16: 4.5 | W16: =IF(W116=0,"",SUM(C16:V16)) -> 8 | X16: =IF(W116=0,"",W16/W116*100) -> 34.782609 | Y16: =A16 -> 11
A17: 12 | B17: ='Encodage + Sav. parler'!B17 -> PJILCBS Cujjz | D17: 6 | W17: =IF(W117=0,"",SUM(C17:V17)) -> 6 | X17: =IF(W117=0,"",W17/W117*100) -> 75 | Y17: =A17 -> 12
A18: 13 | B18: ='Encodage + Sav. parler'!B18 -> XUQUOVP Hanicij | W18: =IF(W118=0,"",SUM(C18:V18)) | X18: =IF(W118=0,"",W18/W118*100) | Y18: =A18 -> 13
A19: 14 | B19: ='Encodage + Sav. parler'!B19 -> VXZKW Pcljhw | C19: 6 | D19: 4.5 | W19: =IF(W119=0,"",SUM(C19:V19)) -> 10.5 | X19: =IF(W119=0,"",W19/W119*100) -> 45.652174 | Y19: =A19 -> 14
A20: 15 | B20: ='Encodage + Sav. parler'!B20 -> ANKBQZDX Mswnjbak | C20: 6 | D20: 7 | W20: =IF(W120=0,"",SUM(C20:V20)) -> 13 | X20: =IF(W120=0,"",W20/W120*100) -> 56.521739 | Y20: =A20 -> 15
A21: 16 | B21: ='Encodage + Sav. parler'!B21 -> DYTVXSTMX Qoyfpx | C21: 15 | D21: 6 | W21: =IF(W121=0,"",SUM(C21:V21)) -> 21 | X21: =IF(W121=0,"",W21/W121*100) -> 91.304348 | Y21: =A21 -> 16
A22: 17 | B22: ='Encodage + Sav. parler'!B22 -> MKJLB Hkfrxy | C22: 9 | D22: 4.5 | W22: =IF(W122=0,"",SUM(C22:V22)) -> 13.5 | X22: =IF(W122=0,"",W22/W122*100) -> 58.695652 | Y22: =A22 -> 17
A23: 18 | B23: ='Encodage + Sav. parler'!B23 -> VBEOU Lhlrygn-Roggj | C23: 11 | D23: 5.5 | W23: =IF(W123=0,"",SUM(C23:V23)) -> 16.5 | X23: =IF(W123=0,"",W23/W123*100) -> 71.73913 | Y23: =A23 -> 18
A24: 19 | B24: ='Encodage + Sav. parler'!B24 -> OLGZDCNSX Ckgeph | C24: 13.5 | D24: 6.5 | W24: =IF(W124=0,"",SUM(C24:V24)) -> 20 | X24: =IF(W124=0,"",W24/W124*100) -> 86.956522 | Y24: =A24 -> 19
A25: 20 | B25: ='Encodage + Sav. parler'!B25 -> TXHBZXHX Ovgalpu | C25: 12.5 | D25: 4.5 | W25: =IF(W125=0,"",SUM(C25:V25)) -> 17 | X25: =IF(W125=0,"",W25/W125*100) -> 73.913043 | Y25: =A25 -> 20
A26: 21 | B26: ='Encodage + Sav. parler'!B26 -> POHRCJF WH LGUZBRRY Sdzoi | C26: 13 | D26: 8 | W26: =IF(W126=0,"",SUM(C26:V26)) -> 21 | X26: =IF(W126=0,"",W26/W126*100) -> 91.304348 | Y26: =A26 -> 21
A27: 22 | B27: ='Encodage + Sav. parler'!B27 -> 0 | W27: =IF(W127=0,"",SUM(C27:V27)) | X27: =IF(W127=0,"",W27/W127*100) | Y27: =A27 -> 22
A28: 23 | B28: ='Encodage + Sav. parler'!B28 -> 0 | W28: =IF(W128=0,"",SUM(C28:V28)) | X28: =IF(W128=0,"",W28/W128*100) | Y28: =A28 -> 23
A29: 24 | B29: ='Encodage + Sav. parler'!B29 -> 0 | W29: =IF(W129=0,"",SUM(C29:V29)) | X29: =IF(W129=0,"",W29/W129*100) | Y29: =A29 -> 24
A30: 25 | B30: ='Encodage + Sav. parler'!B30 -> 0 | W30: =IF(W130=0,"",SUM(C30:V30)) | X30: =IF(W130=0,"",W30/W130*100) | Y30: =A30 -> 25
A31: 26 | B31: ='Encodage + Sav. parler'!B31 -> 0 | W31: =IF(W131=0,"",SUM(C31:V31)) | X31: =IF(W131=0,"",W31/W131*100) | Y31: =A31 -> 26
A32: 27 | B32: ='Encodage + Sav. parler'!B32 -> 0 | W32: =IF(W132=0,"",SUM(C32:V32)) | X32: =IF(W132=0,"",W32/W132*100) | Y32: =A32 -> 27
A33: 28 | B33: ='Encodage + Sav. parler'!B33 -> 0 | W33: =IF(W133=0,"",SUM(C33:V33)) | X33: =IF(W133=0,"",W33/W133*100) | Y33: =A33 -> 28
A34: 29 | B34: ='Encodage + Sav. parler'!B34 -> 0 | W34: =IF(W134=0,"",SUM(C34:V34)) | X34: =IF(W134=0,"",W34/W134*100) | Y34: =A34 -> 29
A35: 30 | B35: ='Encodage + Sav. parler'!B35 -> 0 | W35: =IF(W135=0,"",SUM(C35:V35)) | X35: =IF(W135=0,"",W35/W135*100) | Y35: =A35 -> 30
A36: TOTAL | C36: =IF(C136=0,"",SUM(C6:C35)) -> 163 | D36: =IF(D136=0,"",SUM(D6:D35)) -> 116.5 | E36: =IF(E136=0,"",SUM(E6:E35)) | F36: =IF(F136=0,"",SUM(F6:F35)) | G36: =IF(G136=0,"",SUM(G6:G35)) | H36: =IF(H136=0,"",SUM(H6:H35)) | I36: =IF(I136=0,"",SUM(I6:I35)) | J36: =IF(J136=0,"",SUM(J6:J35)) | ... V36: =IF(V136=0,"",SUM(V6:V35)) | W36: =IF(W136=0,"",SUM(C36:V36)) -> 279.5 | X36: =IF(W136=0,"",W36/W136*100) -> 62.808989 | Y36: =A36 -> TOTAL
A37: MOY. CLAS | C37: =IF(C36="","",C36/C137*100) -> 57.192982 | D37: =IF(D36="","",D36/D137*100) -> 72.8125 | E37: =IF(E36="","",E36/E137*100) | F37: =IF(F36="","",F36/F137*100) | G37: =IF(G36="","",G36/G137*100) | H37: =IF(H36="","",H36/H137*100) | I37: =IF(I36="","",I36/I137*100) | J37: =IF(J36="","",J36/J137*100) | ... V37: =IF(V36="","",V36/V137*100) | Y37: =A37 -> MOY. CLAS
C105: =C5 -> 15 | D105: =D5 -> 8 | E105: =E5 -> 0 | F105: =F5 -> 0 | G105: =G5 -> 0 | H105: =H5 -> 0 | I105: =I5 -> 0 | J105: =J5 -> 0 | ... W105: =W5 -> 0
C106: =IF(C6="","",$C$5) -> 15 | D106: =IF(D6="","",$D$5) -> 8 | E106: =IF(E6="","",$E$5) | F106: =IF(F6="","",$F$5) | G106: =IF(G6="","",$G$5) | H106: =IF(H6="","",$H$5) | I106: =IF(I6="","",$I$5) | J106: =IF(J6="","",$J$5) | K106: =IF(K6="","",$K$5) | L106: =IF(L6="","",$L$5) | M106: =IF(M6="","",$M$5) | N106: =IF(N6="","",$N$5) | O106: =IF(O6="","",$O$5) | P106: =IF(P6="","",$P$5) | Q106: =IF(Q6="","",$Q$5) | R106: =IF(R6="","",$R$5) | S106: =IF(S6="","",$S$5) | T106: =IF(T6="","",$T$5) | U106: =IF(U6="","",$U$5) | V106: =IF(V6="","",$V$5) | W106: =SUM(C106:V106) -> 23
C107: =IF(C7="","",$C$5) -> 15 | D107: =IF(D7="","",$D$5) -> 8 | E107: =IF(E7="","",$E$5) | F107: =IF(F7="","",$F$5) | G107: =IF(G7="","",$G$5) | H107: =IF(H7="","",$H$5) | I107: =IF(I7="","",$I$5) | J107: =IF(J7="","",$J$5) | K107: =IF(K7="","",$K$5) | L107: =IF(L7="","",$L$5) | M107: =IF(M7="","",$M$5) | N107: =IF(N7="","",$N$5) | O107: =IF(O7="","",$O$5) | P107: =IF(P7="","",$P$5) | Q107: =IF(Q7="","",$Q$5) | R107: =IF(R7="","",$R$5) | S107: =IF(S7="","",$S$5) | T107: =IF(T7="","",$T$5) | U107: =IF(U7="","",$U$5) | V107: =IF(V7="","",$V$5) | W107: =SUM(C107:V107) -> 23
C108: =IF(C8="","",$C$5) -> 15 | D108: =IF(D8="","",$D$5) -> 8 | E108: =IF(E8="","",$E$5) | F108: =IF(F8="","",$F$5) | G108: =IF(G8="","",$G$5) | H108: =IF(H8="","",$H$5) | I108: =IF(I8="","",$I$5) | J108: =IF(J8="","",$J$5) | K108: =IF(K8="","",$K$5) | L108: =IF(L8="","",$L$5) | M108: =IF(M8="","",$M$5) | N108: =IF(N8="","",$N$5) | O108: =IF(O8="","",$O$5) | P108: =IF(P8="","",$P$5) | Q108: =IF(Q8="","",$Q$5) | R108: =IF(R8="","",$R$5) | S108: =IF(S8="","",$S$5) | T108: =IF(T8="","",$T$5) | U108: =IF(U8="","",$U$5) | V108: =IF(V8="","",$V$5) | W108: =SUM(C108:V108) -> 23
C109: =IF(C9="","",$C$5) -> 15 | D109: =IF(D9="","",$D$5) -> 8 | E109: =IF(E9="","",$E$5) | F109: =IF(F9="","",$F$5) | G109: =IF(G9="","",$G$5) | H109: =IF(H9="","",$H$5) | I109: =IF(I9="","",$I$5) | J109: =IF(J9="","",$J$5) | K109: =IF(K9="","",$K$5) | L109: =IF(L9="","",$L$5) | M109: =IF(M9="","",$M$5) | N109: =IF(N9="","",$N$5) | O109: =IF(O9="","",$O$5) | P109: =IF(P9="","",$P$5) | Q109: =IF(Q9="","",$Q$5) | R109: =IF(R9="","",$R$5) | S109: =IF(S9="","",$S$5) | T109: =IF(T9="","",$T$5) | U109: =IF(U9="","",$U$5) | V109: =IF(V9="","",$V$5) | W109: =SUM(C109:V109) -> 23
C110: =IF(C10="","",$C$5) -> 15 | D110: =IF(D10="","",$D$5) -> 8 | E110: =IF(E10="","",$E$5) | F110: =IF(F10="","",$F$5) | G110: =IF(G10="","",$G$5) | H110: =IF(H10="","",$H$5) | I110: =IF(I10="","",$I$5) | J110: =IF(J10="","",$J$5) | K110: =IF(K10="","",$K$5) | L110: =IF(L10="","",$L$5) | M110: =IF(M10="","",$M$5) | N110: =IF(N10="","",$N$5) | O110: =IF(O10="","",$O$5) | P110: =IF(P10="","",$P$5) | Q110: =IF(Q10="","",$Q$5) | R110: =IF(R10="","",$R$5) | S110: =IF(S10="","",$S$5) | T110: =IF(T10="","",$T$5) | U110: =IF(U10="","",$U$5) | V110: =IF(V10="","",$V$5) | W110: =SUM(C110:V110) -> 23
C111: =IF(C11="","",$C$5) -> 15 | D111: =IF(D11="","",$D$5) -> 8 | E111: =IF(E11="","",$E$5) | F111: =IF(F11="","",$F$5) | G111: =IF(G11="","",$G$5) | H111: =IF(H11="","",$H$5) | I111: =IF(I11="","",$I$5) | J111: =IF(J11="","",$J$5) | K111: =IF(K11="","",$K$5) | L111: =IF(L11="","",$L$5) | M111: =IF(M11="","",$M$5) | N111: =IF(N11="","",$N$5) | O111: =IF(O11="","",$O$5) | P111: =IF(P11="","",$P$5) | Q111: =IF(Q11="","",$Q$5) | R111: =IF(R11="","",$R$5) | S111: =IF(S11="","",$S$5) | T111: =IF(T11="","",$T$5) | U111: =IF(U11="","",$U$5) | V111: =IF(V11="","",$V$5) | W111: =SUM(C111:V111) -> 23
C112: =IF(C12="","",$C$5) -> 15 | D112: =IF(D12="","",$D$5) -> 8 | E112: =IF(E12="","",$E$5) | F112: =IF(F12="","",$F$5) | G112: =IF(G12="","",$G$5) | H112: =IF(H12="","",$H$5) | I112: =IF(I12="","",$I$5) | J112: =IF(J12="","",$J$5) | K112: =IF(K12="","",$K$5) | L112: =IF(L12="","",$L$5) | M112: =IF(M12="","",$M$5) | N112: =IF(N12="","",$N$5) | O112: =IF(O12="","",$O$5) | P112: =IF(P12="","",$P$5) | Q112: =IF(Q12="","",$Q$5) | R112: =IF(R12="","",$R$5) | S112: =IF(S12="","",$S$5) | T112: =IF(T12="","",$T$5) | U112: =IF(U12="","",$U$5) | V112: =IF(V12="","",$V$5) | W112: =SUM(C112:V112) -> 23
C113: =IF(C13="","",$C$5) -> 15 | D113: =IF(D13="","",$D$5) -> 8 | E113: =IF(E13="","",$E$5) | F113: =IF(F13="","",$F$5) | G113: =IF(G13="","",$G$5) | H113: =IF(H13="","",$H$5) | I113: =IF(I13="","",$I$5) | J113: =IF(J13="","",$J$5) | K113: =IF(K13="","",$K$5) | L113: =IF(L13="","",$L$5) | M113: =IF(M13="","",$M$5) | N113: =IF(N13="","",$N$5) | O113: =IF(O13="","",$O$5) | P113: =IF(P13="","",$P$5) | Q113: =IF(Q13="","",$Q$5) | R113: =IF(R13="","",$R$5) | S113: =IF(S13="","",$S$5) | T113: =IF(T13="","",$T$5) | U113: =IF(U13="","",$U$5) | V113: =IF(V13="","",$V$5) | W113: =SUM(C113:V113) -> 23
C114: =IF(C14="","",$C$5) -> 15 | D114: =IF(D14="","",$D$5) -> 8 | E114: =IF(E14="","",$E$5) | F114: =IF(F14="","",$F$5) | G114: =IF(G14="","",$G$5) | H114: =IF(H14="","",$H$5) | I114: =IF(I14="","",$I$5) | J114: =IF(J14="","",$J$5) | K114: =IF(K14="","",$K$5) | L114: =IF(L14="","",$L$5) | M114: =IF(M14="","",$M$5) | N114: =IF(N14="","",$N$5) | O114: =IF(O14="","",$O$5) | P114: =IF(P14="","",$P$5) | Q114: =IF(Q14="","",$Q$5) | R114: =IF(R14="","",$R$5) | S114: =IF(S14="","",$S$5) | T114: =IF(T14="","",$T$5) | U114: =IF(U14="","",$U$5) | V114: =IF(V14="","",$V$5) | W114: =SUM(C114:V114) -> 23
C115: =IF(C15="","",$C$5) -> 15 | D115: =IF(D15="","",$D$5) -> 8 | E115: =IF(E15="","",$E$5) | F115: =IF(F15="","",$F$5) | G115: =IF(G15="","",$G$5) | H115: =IF(H15="","",$H$5) | I115: =IF(I15="","",$I$5) | J115: =IF(J15="","",$J$5) | K115: =IF(K15="","",$K$5) | L115: =IF(L15="","",$L$5) | M115: =IF(M15="","",$M$5) | N115: =IF(N15="","",$N$5) | O115: =IF(O15="","",$O$5) | P115: =IF(P15="","",$P$5) | Q115: =IF(Q15="","",$Q$5) | R115: =IF(R15="","",$R$5) | S115: =IF(S15="","",$S$5) | T115: =IF(T15="","",$T$5) | U115: =IF(U15="","",$U$5) | V115: =IF(V15="","",$V$5) | W115: =SUM(C115:V115) -> 23
C116: =IF(C16="","",$C$5) -> 15 | D116: =IF(D16="","",$D$5) -> 8 | E116: =IF(E16="","",$E$5) | F116: =IF(F16="","",$F$5) | G116: =IF(G16="","",$G$5) | H116: =IF(H16="","",$H$5) | I116: =IF(I16="","",$I$5) | J116: =IF(J16="","",$J$5) | K116: =IF(K16="","",$K$5) | L116: =IF(L16="","",$L$5) | M116: =IF(M16="","",$M$5) | N116: =IF(N16="","",$N$5) | O116: =IF(O16="","",$O$5) | P116: =IF(P16="","",$P$5) | Q116: =IF(Q16="","",$Q$5) | R116: =IF(R16="","",$R$5) | S116: =IF(S16="","",$S$5) | T116: =IF(T16="","",$T$5) | U116: =IF(U16="","",$U$5) | V116: =IF(V16="","",$V$5) | W116: =SUM(C116:V116) -> 23
C117: =IF(C17="","",$C$5) | D117: =IF(D17="","",$D$5) -> 8 | E117: =IF(E17="","",$E$5) | F117: =IF(F17="","",$F$5) | G117: =IF(G17="","",$G$5) | H117: =IF(H17="","",$H$5) | I117: =IF(I17="","",$I$5) | J117: =IF(J17="","",$J$5) | K117: =IF(K17="","",$K$5) | L117: =IF(L17="","",$L$5) | M117: =IF(M17="","",$M$5) | N117: =IF(N17="","",$N$5) | O117: =IF(O17="","",$O$5) | P117: =IF(P17="","",$P$5) | Q117: =IF(Q17="","",$Q$5) | R117: =IF(R17="","",$R$5) | S117: =IF(S17="","",$S$5) | T117: =IF(T17="","",$T$5) | U117: =IF(U17="","",$U$5) | V117: =IF(V17="","",$V$5) | W117: =SUM(C117:V117) -> 8
... C135: =IF(C35="","",$C$5) | D135: =IF(D35="","",$D$5) | E135: =IF(E35="","",$E$5) | F135: =IF(F35="","",$F$5) | G135: =IF(G35="","",$G$5) | H135: =IF(H35="","",$H$5) | I135: =IF(I35="","",$I$5) | J135: =IF(J35="","",$J$5) | K135: =IF(K35="","",$K$5) | L135: =IF(L35="","",$L$5) | M135: =IF(M35="","",$M$5) | N135: =IF(N35="","",$N$5) | O135: =IF(O35="","",$O$5) | P135: =IF(P35="","",$P$5) | Q135: =IF(Q35="","",$Q$5) | R135: =IF(R35="","",$R$5) | S135: =IF(S35="","",$S$5) | T135: =IF(T35="","",$T$5) | U135: =IF(U35="","",$U$5) | V135: =IF(V35="","",$V$5) | W135: =SUM(C135:V135) -> 0
C136: =COUNT(C6:C35) -> 19 | D136: =COUNT(D6:D35) -> 20 | E136: =COUNT(E6:E35) -> 0 | F136: =COUNT(F6:F35) -> 0 | G136: =COUNT(G6:G35) -> 0 | H136: =COUNT(H6:H35) -> 0 | I136: =COUNT(I6:I35) -> 0 | J136: =COUNT(J6:J35) -> 0 | ... V136: =COUNT(V6:V35) -> 0 | W136: =SUM(C137:V137) -> 445
C137: =C136*C5 -> 285 | D137: =D136*D5 -> 160 | E137: =E136*E5 -> 0 | F137: =F136*F5 -> 0 | G137: =G136*G5 -> 0 | H137: =H136*H5 -> 0 | I137: =I136*I5 -> 0 | J137: =J136*J5 -> 0 | ... V137: =V136*V5 -> 0

Sheet Nombres et operations
A1: ='Encodage + Sav. parler'!A1 -> Bulletin | C1: ='Encodage + Sav. parler'!C1 -> Classe de 4ème année | J1: ='Encodage + Sav. parler'!J1 -> De Samblanx Nicolas | R1: ='Encodage + Sav. parler'!R1 -> Année 2023/2024
B3: NOMS | C3: tables | D3: tables | E3: table 8 | F3: tables | G3: Voc et symboles | H3: Mult écrite
C4: 1 | D4: 2 | E4: 3 | F4: 4 | G4: 5 | H4: 6 | I4: 7 | J4: 8 | K4: 9 | L4: 10 | M4: 11 | N4: 12 | O4: 13 | P4: 14 | Q4: 15 | R4: 16 | S4: 17 | T4: 18 | U4: 19 | V4: 20 | W4: PTS | X4: %
A5: TOTAL --> | C5: 15 | D5: 10 | E5: 16 | F5: 10 | G5: 10 | H5: 8
A6: 1 | B6: ='Encodage + Sav. parler'!B6 -> MEUF Hfehfa | C6: 7 | D6: 3 | E6: 9 | F6: 5 | G6: 3.5 | H6: 6 | W6: =IF(W106=0,"",SUM(C6:V6)) -> 33.5 | X6: =IF(W106=0,"",W6/W106*100) -> 48.550725 | Y6: =A6 -> 1
A7: 2 | B7: ='Encodage + Sav. parler'!B7 -> QFCTDQ Cstji | C7: 0 | D7: 0 | E7: 0 | F7: 0 | G7: 0 | H7: 0 | W7: =IF(W107=0,"",SUM(C7:V7)) -> 0 | X7: =IF(W107=0,"",W7/W107*100) -> 0 | Y7: =A7 -> 2
A8: 3 | B8: ='Encodage + Sav. parler'!B8 -> ZLPGW Mmvnufyn | C8: 2 | D8: 0 | G8: 2.5 | H8: 2.5 | W8: =IF(W108=0,"",SUM(C8:V8)) -> 7 | X8: =IF(W108=0,"",W8/W108*100) -> 16.27907 | Y8: =A8 -> 3
A9: 4 | B9: ='Encodage + Sav. parler'!B9 -> BYLGGRPWAFFM Fbeozwbe | C9: 5 | D9: 4 | E9: 14 | F9: 10 | G9: 3.5 | H9: 3.5 | W9: =IF(W109=0,"",SUM(C9:V9)) -> 40 | X9: =IF(W109=0,"",W9/W109*100) -> 57.971014 | Y9: =A9 -> 4
A10: 5 | B10: ='Encodage + Sav. parler'!B10 -> CZUWKE Dbzzvsz | C10: 10 | D10: 8 | E10: 12 | F10: 12 | G10: 8 | H10: 8 | W10: =IF(W110=0,"",SUM(C10:V10)) -> 58 | X10: =IF(W110=0,"",W10/W110*100) -> 84.057971 | Y10: =A10 -> 5
A11: 6 | B11: ='Encodage + Sav. parler'!B11 -> NGRPFYX Kzfmy | C11: 2 | D11: 2 | E11: 8 | F11: 7 | G11: 6 | H11: 7.5 | W11: =IF(W111=0,"",SUM(C11:V11)) -> 32.5 | X11: =IF(W111=0,"",W11/W111*100) -> 47.101449 | Y11: =A11 -> 6
A12: 7 | B12: ='Encodage + Sav. parler'!B12 -> JUF Omjvhjm | C12: 15 | D12: 10 | E12: 17 | F12: 10 | G12: 9.5 | H12: 7.5 | W12: =IF(W112=0,"",SUM(C12:V12)) -> 69 | X12: =IF(W112=0,"",W12/W112*100) -> 100 | Y12: =A12 -> 7
A13: 8 | B13: ='Encodage + Sav. parler'!B13 -> FIWGYBFGJI Qchucznjx | C13: 0 | D13: 1 | F13: 3 | G13: 0 | H13: 2 | W13: =IF(W113=0,"",SUM(C13:V13)) -> 6 | X13: =IF(W113=0,"",W13/W113*100) -> 11.320755 | Y13: =A13 -> 8
A14: 9 | B14: ='Encodage + Sav. parler'!B14 -> K&#600;MYPDD JAQDIGQ Kyznuzp | C14: 10 | E14: 9 | F14: 9 | G14: 5 | H14: 7.5 | W14: =IF(W114=0,"",SUM(C14:V14)) -> 40.5 | X14: =IF(W114=0,"",W14/W114*100) -> 68.644068 | Y14: =A14 -> 9
A15: 10 | B15: ='Encodage + Sav. parler'!B15 -> JRQJGR Njrlyiue | C15: 3 | D15: 4 | E15: 9 | F15: 9 | G15: 4.5 | H15: 2 | W15: =IF(W115=0,"",SUM(C15:V15)) -> 31.5 | X15: =IF(W115=0,"",W15/W115*100) -> 45.652174 | Y15: =A15 -> 10
A16: 11 | B16: ='Encodage + Sav. parler'!B16 -> FJJYWAFA Svohnr | C16: 8 | D16: 7 | E16: 13 | F16: 11 | G16: 8 | H16: 7 | W16: =IF(W116=0,"",SUM(C16:V16)) -> 54 | X16: =IF(W116=0,"",W16/W116*100) -> 78.26087 | Y16: =A16 -> 11
A17: 12 | B17: ='Encodage + Sav. parler'!B17 -> PJILCBS Cujjz | C17: 4 | D17: 4 | E17: 8 | F17: 7 | G17: 2 | H17: 2 | W17: =IF(W117=0,"",SUM(C17:V17)) -> 27 | X17: =IF(W117=0,"",W17/W117*100) -> 39.130435 | Y17: =A17 -> 12
A18: 13 | B18: ='Encodage + Sav. parler'!B18 -> XUQUOVP Hanicij | W18: =IF(W118=0,"",SUM(C18:V18)) | X18: =IF(W118=0,"",W18/W118*100) | Y18: =A18 -> 13
A19: 14 | B19: ='Encodage + Sav. parler'!B19 -> VXZKW Pcljhw | C19: 1 | D19: 2 | E19: 10 | F19: 8 | G19: 0 | H19: 3 | W19: =IF(W119=0,"",SUM(C19:V19)) -> 24 | X19: =IF(W119=0,"",W19/W119*100) -> 34.782609 | Y19: =A19 -> 14
A20: 15 | B20: ='Encodage + Sav. parler'!B20 -> ANKBQZDX Mswnjbak | C20: 3 | D20: 2 | F20: 7 | G20: 7.5 | H20: 6.5 | W20: =IF(W120=0,"",SUM(C20:V20)) -> 26 | X20: =IF(W120=0,"",W20/W120*100) -> 49.056604 | Y20: =A20 -> 15
A21: 16 | B21: ='Encodage + Sav. parler'!B21 -> DYTVXSTMX Qoyfpx | C21: 6 | D21: 7 | G21: 10 | H21: 8 | W21: =IF(W121=0,"",SUM(C21:V21)) -> 31 | X21: =IF(W121=0,"",W21/W121*100) -> 72.093023 | Y21: =A21 -> 16
A22: 17 | B22: ='Encodage + Sav. parler'!B22 -> MKJLB Hkfrxy | C22: 0 | D22: 4 | E22: 18 | F22: 12 | G22: 4.5 | H22: 7.5 | W22: =IF(W122=0,"",SUM(C22:V22)) -> 46 | X22: =IF(W122=0,"",W22/W122*100) -> 66.666667 | Y22: =A22 -> 17
A23: 18 | B23: ='Encodage + Sav. parler'!B23 -> VBEOU Lhlrygn-Roggj | C23: 11 | D23: 8 | G23: 9 | W23: =IF(W123=0,"",SUM(C23:V23)) -> 28 | X23: =IF(W123=0,"",W23/W123*100) -> 80 | Y23: =A23 -> 18
A24: 19 | B24: ='Encodage + Sav. parler'!B24 -> OLGZDCNSX Ckgeph | C24: 5 | D24: 6 | E24: 9 | F24: 5 | G24: 5 | H24: 7 | W24: =IF(W124=0,"",SUM(C24:V24)) -> 37 | X24: =IF(W124=0,"",W24/W124*100) -> 53.623188 | Y24: =A24 -> 19
A25: 20 | B25: ='Encodage + Sav. parler'!B25 -> TXHBZXHX Ovgalpu | C25: 2 | D25: 5 | F25: 7 | G25: 3 | H25: 6 | W25: =IF(W125=0,"",SUM(C25:V25)) -> 23 | X25: =IF(W125=0,"",W25/W125*100) -> 43.396226 | Y25: =A25 -> 20
A26: 21 | B26: ='Encodage + Sav. parler'!B26 -> POHRCJF WH LGUZBRRY Sdzoi | C26: 8 | D26: 5 | E26: 12 | F26: 12 | G26: 6.5 | H26: 7 | W26: =IF(W126=0,"",SUM(C26:V26)) -> 50.5 | X26: =IF(W126=0,"",W26/W126*100) -> 73.188406 | Y26: =A26 -> 21
A27: 22 | B27: ='Encodage + Sav. parler'!B27 -> 0 | W27: =IF(W127=0,"",SUM(C27:V27)) | X27: =IF(W127=0,"",W27/W127*100) | Y27: =A27 -> 22
A28: 23 | B28: ='Encodage + Sav. parler'!B28 -> 0 | W28: =IF(W128=0,"",SUM(C28:V28)) | X28: =IF(W128=0,"",W28/W128*100) | Y28: =A28 -> 23
A29: 24 | B29: ='Encodage + Sav. parler'!B29 -> 0 | W29: =IF(W129=0,"",SUM(C29:V29)) | X29: =IF(W129=0,"",W29/W129*100) | Y29: =A29 -> 24
A30: 25 | B30: ='Encodage + Sav. parler'!B30 -> 0 | W30: =IF(W130=0,"",SUM(C30:V30)) | X30: =IF(W130=0,"",W30/W130*100) | Y30: =A30 -> 25
A31: 26 | B31: ='Encodage + Sav. parler'!B31 -> 0 | W31: =IF(W131=0,"",SUM(C31:V31)) | X31: =IF(W131=0,"",W31/W131*100) | Y31: =A31 -> 26
A32: 27 | B32: ='Encodage + Sav. parler'!B32 -> 0 | W32: =IF(W132=0,"",SUM(C32:V32)) | X32: =IF(W132=0,"",W32/W132*100) | Y32: =A32 -> 27
A33: 28 | B33: ='Encodage + Sav. parler'!B33 -> 0 | W33: =IF(W133=0,"",SUM(C33:V33)) | X33: =IF(W133=0,"",W33/W133*100) | Y33: =A33 -> 28
A34: 29 | B34: ='Encodage + Sav. parler'!B34 -> 0 | W34: =IF(W134=0,"",SUM(C34:V34)) | X34: =IF(W134=0,"",W34/W134*100) | Y34: =A34 -> 29
A35: 30 | B35: ='Encodage + Sav. parler'!B35 -> 0 | W35: =IF(W135=0,"",SUM(C35:V35)) | X35: =IF(W135=0,"",W35/W135*100) | Y35: =A35 -> 30
A36: TOTAL | C36: =IF(C136=0,"",SUM(C6:C35)) -> 102 | D36: =IF(D136=0,"",SUM(D6:D35)) -> 82 | E36: =IF(E136=0,"",SUM(E6:E35)) -> 148 | F36: =IF(F136=0,"",SUM(F6:F35)) -> 134 | G36: =IF(G136=0,"",SUM(G6:G35)) -> 98 | H36: =IF(H136=0,"",SUM(H6:H35)) -> 100.5 | I36: =IF(I136=0,"",SUM(I6:I35)) | J36: =IF(J136=0,"",SUM(J6:J35)) | ... V36: =IF(V136=0,"",SUM(V6:V35)) | W36: =IF(W136=0,"",SUM(C36:V36)) -> 664.5 | X36: =IF(W136=0,"",W36/W136*100) -> 53.762136 | Y36: =A36 -> TOTAL
A37: MOY. CLAS | C37: =IF(C36="","",C36/C137*100) -> 34 | D37: =IF(D36="","",D36/D137*100) -> 43.157895 | E37: =IF(E36="","",E36/E137*100) -> 66.071429 | F37: =IF(F36="","",F36/F137*100) -> 78.823529 | G37: =IF(G36="","",G36/G137*100) -> 49 | H37: =IF(H36="","",H36/H137*100) -> 66.118421 | I37: =IF(I36="","",I36/I137*100) | J37: =IF(J36="","",J36/J137*100) | ... V37: =IF(V36="","",V36/V137*100) | Y37: =A37 -> MOY. CLAS
C105: =C5 -> 15 | D105: =D5 -> 10 | E105: =E5 -> 16 | F105: =F5 -> 10 | G105: =G5 -> 10 | H105: =H5 -> 8 | I105: =I5 -> 0 | J105: =J5 -> 0 | ... W105: =W5 -> 0
C106: =IF(C6="","",$C$5) -> 15 | D106: =IF(D6="","",$D$5) -> 10 | E106: =IF(E6="","",$E$5) -> 16 | F106: =IF(F6="","",$F$5) -> 10 | G106: =IF(G6="","",$G$5) -> 10 | H106: =IF(H6="","",$H$5) -> 8 | I106: =IF(I6="","",$I$5) | J106: =IF(J6="","",$J$5) | K106: =IF(K6="","",$K$5) | L106: =IF(L6="","",$L$5) | M106: =IF(M6="","",$M$5) | N106: =IF(N6="","",$N$5) | O106: =IF(O6="","",$O$5) | P106: =IF(P6="","",$P$5) | Q106: =IF(Q6="","",$Q$5) | R106: =IF(R6="","",$R$5) | S106: =IF(S6="","",$S$5) | T106: =IF(T6="","",$T$5) | U106: =IF(U6="","",$U$5) | V106: =IF(V6="","",$V$5) | W106: =SUM(C106:V106) -> 69
C107: =IF(C7="","",$C$5) -> 15 | D107: =IF(D7="","",$D$5) -> 10 | E107: =IF(E7="","",$E$5) -> 16 | F107: =IF(F7="","",$F$5) -> 10 | G107: =IF(G7="","",$G$5) -> 10 | H107: =IF(H7="","",$H$5) -> 8 | I107: =IF(I7="","",$I$5) | J107: =IF(J7="","",$J$5) | K107: =IF(K7="","",$K$5) | L107: =IF(L7="","",$L$5) | M107: =IF(M7="","",$M$5) | N107: =IF(N7="","",$N$5) | O107: =IF(O7="","",$O$5) | P107: =IF(P7="","",$P$5) | Q107: =IF(Q7="","",$Q$5) | R107: =IF(R7="","",$R$5) | S107: =IF(S7="","",$S$5) | T107: =IF(T7="","",$T$5) | U107: =IF(U7="","",$U$5) | V107: =IF(V7="","",$V$5) | W107: =SUM(C107:V107) -> 69
C108: =IF(C8="","",$C$5) -> 15 | D108: =IF(D8="","",$D$5) -> 10 | E108: =IF(E8="","",$E$5) | F108: =IF(F8="","",$F$5) | G108: =IF(G8="","",$G$5) -> 10 | H108: =IF(H8="","",$H$5) -> 8 | I108: =IF(I8="","",$I$5) | J108: =IF(J8="","",$J$5) | K108: =IF(K8="","",$K$5) | L108: =IF(L8="","",$L$5) | M108: =IF(M8="","",$M$5) | N108: =IF(N8="","",$N$5) | O108: =IF(O8="","",$O$5) | P108: =IF(P8="","",$P$5) | Q108: =IF(Q8="","",$Q$5) | R108: =IF(R8="","",$R$5) | S108: =IF(S8="","",$S$5) | T108: =IF(T8="","",$T$5) | U108: =IF(U8="","",$U$5) | V108: =IF(V8="","",$V$5) | W108: =SUM(C108:V108) -> 43
C109: =IF(C9="","",$C$5) -> 15 | D109: =IF(D9="","",$D$5) -> 10 | E109: =IF(E9="","",$E$5) -> 16 | F109: =IF(F9="","",$F$5) -> 10 | G109: =IF(G9="","",$G$5) -> 10 | H109: =IF(H9="","",$H$5) -> 8 | I109: =IF(I9="","",$I$5) | J109: =IF(J9="","",$J$5) | K109: =IF(K9="","",$K$5) | L109: =IF(L9="","",$L$5) | M109: =IF(M9="","",$M$5) | N109: =IF(N9="","",$N$5) | O109: =IF(O9="","",$O$5) | P109: =IF(P9="","",$P$5) | Q109: =IF(Q9="","",$Q$5) | R109: =IF(R9="","",$R$5) | S109: =IF(S9="","",$S$5) | T109: =IF(T9="","",$T$5) | U109: =IF(U9="","",$U$5) | V109: =IF(V9="","",$V$5) | W109: =SUM(C109:V109) -> 69
C110: =IF(C10="","",$C$5) -> 15 | D110: =IF(D10="","",$D$5) -> 10 | E110: =IF(E10="","",$E$5) -> 16 | F110: =IF(F10="","",$F$5) -> 10 | G110: =IF(G10="","",$G$5) -> 10 | H110: =IF(H10="","",$H$5) -> 8 | I110: =IF(I10="","",$I$5) | J110: =IF(J10="","",$J$5) | K110: =IF(K10="","",$K$5) | L110: =IF(L10="","",$L$5) | M110: =IF(M10="","",$M$5) | N110: =IF(N10="","",$N$5) | O110: =IF(O10="","",$O$5) | P110: =IF(P10="","",$P$5) | Q110: =IF(Q10="","",$Q$5) | R110: =IF(R10="","",$R$5) | S110: =IF(S10="","",$S$5) | T110: =IF(T10="","",$T$5) | U110: =IF(U10="","",$U$5) | V110: =IF(V10="","",$V$5) | W110: =SUM(C110:V110) -> 69
C111: =IF(C11="","",$C$5) -> 15 | D111: =IF(D11="","",$D$5) -> 10 | E111: =IF(E11="","",$E$5) -> 16 | F111: =IF(F11="","",$F$5) -> 10 | G111: =IF(G11="","",$G$5) -> 10 | H111: =IF(H11="","",$H$5) -> 8 | I111: =IF(I11="","",$I$5) | J111: =IF(J11="","",$J$5) | K111: =IF(K11="","",$K$5) | L111: =IF(L11="","",$L$5) | M111: =IF(M11="","",$M$5) | N111: =IF(N11="","",$N$5) | O111: =IF(O11="","",$O$5) | P111: =IF(P11="","",$P$5) | Q111: =IF(Q11="","",$Q$5) | R111: =IF(R11="","",$R$5) | S111: =IF(S11="","",$S$5) | T111: =IF(T11="","",$T$5) | U111: =IF(U11="","",$U$5) | V111: =IF(V11="","",$V$5) | W111: =SUM(C111:V111) -> 69
C112: =IF(C12="","",$C$5) -> 15 | D112: =IF(D12="","",$D$5) -> 10 | E112: =IF(E12="","",$E$5) -> 16 | F112: =IF(F12="","",$F$5) -> 10 | G112: =IF(G12="","",$G$5) -> 10 | H112: =IF(H12="","",$H$5) -> 8 | I112: =IF(I12="","",$I$5) | J112: =IF(J12="","",$J$5) | K112: =IF(K12="","",$K$5) | L112: =IF(L12="","",$L$5) | M112: =IF(M12="","",$M$5) | N112: =IF(N12="","",$N$5) | O112: =IF(O12="","",$O$5) | P112: =IF(P12="","",$P$5) | Q112: =IF(Q12="","",$Q$5) | R112: =IF(R12="","",$R$5) | S112: =IF(S12="","",$S$5) | T112: =IF(T12="","",$T$5) | U112: =IF(U12="","",$U$5) | V112: =IF(V12="","",$V$5) | W112: =SUM(C112:V112) -> 69
C113: =IF(C13="","",$C$5) -> 15 | D113: =IF(D13="","",$D$5) -> 10 | E113: =IF(E13="","",$E$5) | F113: =IF(F13="","",$F$5) -> 10 | G113: =IF(G13="","",$G$5) -> 10 | H113: =IF(H13="","",$H$5) -> 8 | I113: =IF(I13="","",$I$5) | J113: =IF(J13="","",$J$5) | K113: =IF(K13="","",$K$5) | L113: =IF(L13="","",$L$5) | M113: =IF(M13="","",$M$5) | N113: =IF(N13="","",$N$5) | O113: =IF(O13="","",$O$5) | P113: =IF(P13="","",$P$5) | Q113: =IF(Q13="","",$Q$5) | R113: =IF(R13="","",$R$5) | S113: =IF(S13="","",$S$5) | T113: =IF(T13="","",$T$5) | U113: =IF(U13="","",$U$5) | V113: =IF(V13="","",$V$5) | W113: =SUM(C113:V113) -> 53
C114: =IF(C14="","",$C$5) -> 15 | D114: =IF(D14="","",$D$5) | E114: =IF(E14="","",$E$5) -> 16 | F114: =IF(F14="","",$F$5) -> 10 | G114: =IF(G14="","",$G$5) -> 10 | H114: =IF(H14="","",$H$5) -> 8 | I114: =IF(I14="","",$I$5) | J114: =IF(J14="","",$J$5) | K114: =IF(K14="","",$K$5) | L114: =IF(L14="","",$L$5) | M114: =IF(M14="","",$M$5) | N114: =IF(N14="","",$N$5) | O114: =IF(O14="","",$O$5) | P114: =IF(P14="","",$P$5) | Q114: =IF(Q14="","",$Q$5) | R114: =IF(R14="","",$R$5) | S114: =IF(S14="","",$S$5) | T114: =IF(T14="","",$T$5) | U114: =IF(U14="","",$U$5) | V114: =IF(V14="","",$V$5) | W114: =SUM(C114:V114) -> 59
C115: =IF(C15="","",$C$5) -> 15 | D115: =IF(D15="","",$D$5) -> 10 | E115: =IF(E15="","",$E$5) -> 16 | F115: =IF(F15="","",$F$5) -> 10 | G115: =IF(G15="","",$G$5) -> 10 | H115: =IF(H15="","",$H$5) -> 8 | I115: =IF(I15="","",$I$5) | J115: =IF(J15="","",$J$5) | K115: =IF(K15="","",$K$5) | L115: =IF(L15="","",$L$5) | M115: =IF(M15="","",$M$5) | N115: =IF(N15="","",$N$5) | O115: =IF(O15="","",$O$5) | P115: =IF(P15="","",$P$5) | Q115: =IF(Q15="","",$Q$5) | R115: =IF(R15="","",$R$5) | S115: =IF(S15="","",$S$5) | T115: =IF(T15="","",$T$5) | U115: =IF(U15="","",$U$5) | V115: =IF(V15="","",$V$5) | W115: =SUM(C115:V115) -> 69
C116: =IF(C16="","",$C$5) -> 15 | D116: =IF(D16="","",$D$5) -> 10 | E116: =IF(E16="","",$E$5) -> 16 | F116: =IF(F16="","",$F$5) -> 10 | G116: =IF(G16="","",$G$5) -> 10 | H116: =IF(H16="","",$H$5) -> 8 | I116: =IF(I16="","",$I$5) | J116: =IF(J16="","",$J$5) | K116: =IF(K16="","",$K$5) | L116: =IF(L16="","",$L$5) | M116: =IF(M16="","",$M$5) | N116: =IF(N16="","",$N$5) | O116: =IF(O16="","",$O$5) | P116: =IF(P16="","",$P$5) | Q116: =IF(Q16="","",$Q$5) | R116: =IF(R16="","",$R$5) | S116: =IF(S16="","",$S$5) | T116: =IF(T16="","",$T$5) | U116: =IF(U16="","",$U$5) | V116: =IF(V16="","",$V$5) | W116: =SUM(C116:V116) -> 69
C117: =IF(C17="","",$C$5) -> 15 | D117: =IF(D17="","",$D$5) -> 10 | E117: =IF(E17="","",$E$5) -> 16 | F117: =IF(F17="","",$F$5) -> 10 | G117: =IF(G17="","",$G$5) -> 10 | H117: =IF(H17="","",$H$5) -> 8 | I117: =IF(I17="","",$I$5) | J117: =IF(J17="","",$J$5) | K117: =IF(K17="","",$K$5) | L117: =IF(L17="","",$L$5) | M117: =IF(M17="","",$M$5) | N117: =IF(N17="","",$N$5) | O117: =IF(O17="","",$O$5) | P117: =IF(P17="","",$P$5) | Q117: =IF(Q17="","",$Q$5) | R117: =IF(R17="","",$R$5) | S117: =IF(S17="","",$S$5) | T117: =IF(T17="","",$T$5) | U117: =IF(U17="","",$U$5) | V117: =IF(V17="","",$V$5) | W117: =SUM(C117:V117) -> 69
... C135: =IF(C35="","",$C$5) | D135: =IF(D35="","",$D$5) | E135: =IF(E35="","",$E$5) | F135: =IF(F35="","",$F$5) | G135: =IF(G35="","",$G$5) | H135: =IF(H35="","",$H$5) | I135: =IF(I35="","",$I$5) | J135: =IF(J35="","",$J$5) | K135: =IF(K35="","",$K$5) | L135: =IF(L35="","",$L$5) | M135: =IF(M35="","",$M$5) | N135: =IF(N35="","",$N$5) | O135: =IF(O35="","",$O$5) | P135: =IF(P35="","",$P$5) | Q135: =IF(Q35="","",$Q$5) | R135: =IF(R35="","",$R$5) | S135: =IF(S35="","",$S$5) | T135: =IF(T35="","",$T$5) | U135: =IF(U35="","",$U$5) | V135: =IF(V35="","",$V$5) | W135: =SUM(C135:V135) -> 0
C136: =COUNT(C6:C35) -> 20 | D136: =COUNT(D6:D35) -> 19 | E136: =COUNT(E6:E35) -> 14 | F136: =COUNT(F6:F35) -> 17 | G136: =COUNT(G6:G35) -> 20 | H136: =COUNT(H6:H35) -> 19 | I136: =COUNT(I6:I35) -> 0 | J136: =COUNT(J6:J35) -> 0 | ... V136: =COUNT(V6:V35) -> 0 | W136: =SUM(C137:V137) -> 1236
C137: =C136*C5 -> 300 | D137: =D136*D5 -> 190 | E137: =E136*E5 -> 224 | F137: =F136*F5 -> 170 | G137: =G136*G5 -> 200 | H137: =H136*H5 -> 152 | I137: =I136*I5 -> 0 | J137: =J136*J5 -> 0 | ... V137: =V136*V5 -> 0

Sheet Grandeurs
A1: ='Encodage + Sav. parler'!A1 -> Bulletin | C1: ='Encodage + Sav. parler'!C1 -> Classe de 4ème année | J1: ='Encodage + Sav. parler'!J1 -> De Samblanx Nicolas | R1: ='Encodage + Sav. parler'!R1 -> Année 2023/2024
B3: NOMS | C3: fractions | D3: fractions | E3: périmètre
C4: 1 | D4: 2 | E4: 3 | F4: 4 | G4: 5 | H4: 6 | I4: 7 | J4: 8 | K4: 9 | L4: 10 | M4: 11 | N4: 12 | O4: 13 | P4: 14 | Q4: 15 | R4: 16 | S4: 17 | T4: 18 | U4: 19 | V4: 20 | W4: PTS | X4: %
A5: TOTAL --> | C5: 10 | D5: 15 | E5: 20
A6: 1 | B6: ='Encodage + Sav. parler'!B6 -> MEUF Hfehfa | C6: 10 | E6: 11 | W6: =IF(W106=0,"",SUM(C6:V6)) -> 21 | X6: =IF(W106=0,"",W6/W106*100) -> 70 | Y6: =A6 -> 1
A7: 2 | B7: ='Encodage + Sav. parler'!B7 -> QFCTDQ Cstji | C7: 0 | D7: 2 | E7: 0 | W7: =IF(W107=0,"",SUM(C7:V7)) -> 2 | X7: =IF(W107=0,"",W7/W107*100) -> 4.4444444 | Y7: =A7 -> 2
A8: 3 | B8: ='Encodage + Sav. parler'!B8 -> ZLPGW Mmvnufyn | C8: 7 | D8: 14 | E8: 7.5 | W8: =IF(W108=0,"",SUM(C8:V8)) -> 28.5 | X8: =IF(W108=0,"",W8/W108*100) -> 63.333333 | Y8: =A8 -> 3
A9: 4 | B9: ='Encodage + Sav. parler'!B9 -> BYLGGRPWAFFM Fbeozwbe | C9: 8 | D9: 10 | E9: 7.5 | W9: =IF(W109=0,"",SUM(C9:V9)) -> 25.5 | X9: =IF(W109=0,"",W9/W109*100) -> 56.666667 | Y9: =A9 -> 4
A10: 5 | B10: ='Encodage + Sav. parler'!B10 -> CZUWKE Dbzzvsz | C10: 9 | D10: 15 | E10: 9 | W10: =IF(W110=0,"",SUM(C10:V10)) -> 33 | X10: =IF(W110=0,"",W10/W110*100) -> 73.333333 | Y10: =A10 -> 5
A11: 6 | B11: ='Encodage + Sav. parler'!B11 -> NGRPFYX Kzfmy | C11: 10 | D11: 15 | E11: 10.5 | W11: =IF(W111=0,"",SUM(C11:V11)) -> 35.5 | X11: =IF(W111=0,"",W11/W111*100) -> 78.888889 | Y11: =A11 -> 6
A12: 7 | B12: ='Encodage + Sav. parler'!B12 -> JUF Omjvhjm | C12: 10 | D12: 15 | E12: 20 | W12: =IF(W112=0,"",SUM(C12:V12)) -> 45 | X12: =IF(W112=0,"",W12/W112*100) -> 100 | Y12: =A12 -> 7
A13: 8 | B13: ='Encodage + Sav. parler'!B13 -> FIWGYBFGJI Qchucznjx | C13: 3 | D13: 11.5 | E13: 2 | W13: =IF(W113=0,"",SUM(C13:V13)) -> 16.5 | X13: =IF(W113=0,"",W13/W113*100) -> 36.666667 | Y13: =A13 -> 8
A14: 9 | B14: ='Encodage + Sav. parler'!B14 -> K&#600;MYPDD JAQDIGQ Kyznuzp | C14: 9 | D14: 13 | E14: 14 | W14: =IF(W114=0,"",SUM(C14:V14)) -> 36 | X14: =IF(W114=0,"",W14/W114*100) -> 80 | Y14: =A14 -> 9
A15: 10 | B15: ='Encodage + Sav. parler'!B15 -> JRQJGR Njrlyiue | C15: 9 | D15: 15 | E15: 7.5 | W15: =IF(W115=0,"",SUM(C15:V15)) -> 31.5 | X15: =IF(W115=0,"",W15/W115*100) -> 70 | Y15: =A15 -> 10
A16: 11 | B16: ='Encodage + Sav. parler'!B16 -> FJJYWAFA Svohnr | C16: 10 | D16: 15 | E16: 20 | W16: =IF(W116=0,"",SUM(C16:V16)) -> 45 | X16: =IF(W116=0,"",W16/W116*100) -> 100 | Y16: =A16 -> 11
A17: 12 | B17: ='Encodage + Sav. parler'!B17 -> PJILCBS Cujjz | C17: 9 | E17: 5 | W17: =IF(W117=0,"",SUM(C17:V17)) -> 14 | X17: =IF(W117=0,"",W17/W117*100) -> 46.666667 | Y17: =A17 -> 12
A18: 13 | B18: ='Encodage + Sav. parler'!B18 -> XUQUOVP Hanicij | W18: =IF(W118=0,"",SUM(C18:V18)) | X18: =IF(W118=0,"",W18/W118*100) | Y18: =A18 -> 13
A19: 14 | B19: ='Encodage + Sav. parler'!B19 -> VXZKW Pcljhw | C19: 7 | D19: 2.5 | E19: 13 | W19: =IF(W119=0,"",SUM(C19:V19)) -> 22.5 | X19: =IF(W119=0,"",W19/W119*100) -> 50 | Y19: =A19 -> 14
A20: 15 | B20: ='Encodage + Sav. parler'!B20 -> ANKBQZDX Mswnjbak | C20: 7 | D20: 15 | E20: 8 | W20: =IF(W120=0,"",SUM(C20:V20)) -> 30 | X20: =IF(W120=0,"",W20/W120*100) -> 66.666667 | Y20: =A20 -> 15
A21: 16 | B21: ='Encodage + Sav. parler'!B21 -> DYTVXSTMX Qoyfpx | D21: 15 | E21: 19.5 | W21: =IF(W121=0,"",SUM(C21:V21)) -> 34.5 | X21: =IF(W121=0,"",W21/W121*100) -> 98.571429 | Y21: =A21 -> 16
A22: 17 | B22: ='Encodage + Sav. parler'!B22 -> MKJLB Hkfrxy | C22: 9 | D22: 15 | E22: 2 | W22: =IF(W122=0,"",SUM(C22:V22)) -> 26 | X22: =IF(W122=0,"",W22/W122*100) -> 57.777778 | Y22: =A22 -> 17
A23: 18 | B23: ='Encodage + Sav. parler'!B23 -> VBEOU Lhlrygn-Roggj | C23: 10 | D23: 15 | E23: 17 | W23: =IF(W123=0,"",SUM(C23:V23)) -> 42 | X23: =IF(W123=0,"",W23/W123*100) -> 93.333333 | Y23: =A23 -> 18
A24: 19 | B24: ='Encodage + Sav. parler'!B24 -> OLGZDCNSX Ckgeph | C24: 9 | D24: 14.5 | E24: 7.5 | W24: =IF(W124=0,"",SUM(C24:V24)) -> 31 | X24: =IF(W124=0,"",W24/W124*100) -> 68.888889 | Y24: =A24 -> 19
A25: 20 | B25: ='Encodage + Sav. parler'!B25 -> TXHBZXHX Ovgalpu | C25: 9 | W25: =IF(W125=0,"",SUM(C25:V25)) -> 9 | X25: =IF(W125=0,"",W25/W125*100) -> 90 | Y25: =A25 -> 20
A26: 21 | B26: ='Encodage + Sav. parler'!B26 -> POHRCJF WH LGUZBRRY Sdzoi | C26: 10 | D26: 6 | E26: 14 | W26: =IF(W126=0,"",SUM(C26:V26)) -> 30 | X26: =IF(W126=0,"",W26/W126*100) -> 66.666667 | Y26: =A26 -> 21
A27: 22 | B27: ='Encodage + Sav. parler'!B27 -> 0 | W27: =IF(W127=0,"",SUM(C27:V27)) | X27: =IF(W127=0,"",W27/W127*100) | Y27: =A27 -> 22
A28: 23 | B28: ='Encodage + Sav. parler'!B28 -> 0 | W28: =IF(W128=0,"",SUM(C28:V28)) | X28: =IF(W128=0,"",W28/W128*100) | Y28: =A28 -> 23
A29: 24 | B29: ='Encodage + Sav. parler'!B29 -> 0 | W29: =IF(W129=0,"",SUM(C29:V29)) | X29: =IF(W129=0,"",W29/W129*100) | Y29: =A29 -> 24
A30: 25 | B30: ='Encodage + Sav. parler'!B30 -> 0 | W30: =IF(W130=0,"",SUM(C30:V30)) | X30: =IF(W130=0,"",W30/W130*100) | Y30: =A30 -> 25
A31: 26 | B31: ='Encodage + Sav. parler'!B31 -> 0 | W31: =IF(W131=0,"",SUM(C31:V31)) | X31: =IF(W131=0,"",W31/W131*100) | Y31: =A31 -> 26
A32: 27 | B32: ='Encodage + Sav. parler'!B32 -> 0 | W32: =IF(W132=0,"",SUM(C32:V32)) | X32: =IF(W132=0,"",W32/W132*100) | Y32: =A32 -> 27
A33: 28 | B33: ='Encodage + Sav. parler'!B33 -> 0 | W33: =IF(W133=0,"",SUM(C33:V33)) | X33: =IF(W133=0,"",W33/W133*100) | Y33: =A33 -> 28
A34: 29 | B34: ='Encodage + Sav. parler'!B34 -> 0 | W34: =IF(W134=0,"",SUM(C34:V34)) | X34: =IF(W134=0,"",W34/W134*100) | Y34: =A34 -> 29
A35: 30 | B35: ='Encodage + Sav. parler'!B35 -> 0 | W35: =IF(W135=0,"",SUM(C35:V35)) | X35: =IF(W135=0,"",W35/W135*100) | Y35: =A35 -> 30
A36: TOTAL | C36: =IF(C136=0,"",SUM(C6:C35)) -> 155 | D36: =IF(D136=0,"",SUM(D6:D35)) -> 208.5 | E36: =IF(E136=0,"",SUM(E6:E35)) -> 195 | F36: =IF(F136=0,"",SUM(F6:F35)) | G36: =IF(G136=0,"",SUM(G6:G35)) | H36: =IF(H136=0,"",SUM(H6:H35)) | I36: =IF(I136=0,"",SUM(I6:I35)) | J36: =IF(J136=0,"",SUM(J6:J35)) | ... V36: =IF(V136=0,"",SUM(V6:V35)) | W36: =IF(W136=0,"",SUM(C36:V36)) -> 558.5 | X36: =IF(W136=0,"",W36/W136*100) -> 67.69697 | Y36: =A36 -> TOTAL
A37: MOY. CLAS | C37: =IF(C36="","",C36/C137*100) -> 81.578947 | D37: =IF(D36="","",D36/D137*100) -> 81.764706 | E37: =IF(E36="","",E36/E137*100) -> 51.315789 | F37: =IF(F36="","",F36/F137*100) | G37: =IF(G36="","",G36/G137*100) | H37: =IF(H36="","",H36/H137*100) | I37: =IF(I36="","",I36/I137*100) | J37: =IF(J36="","",J36/J137*100) | ... V37: =IF(V36="","",V36/V137*100) | Y37: =A37 -> MOY. CLAS
C105: =C5 -> 10 | D105: =D5 -> 15 | E105: =E5 -> 20 | F105: =F5 -> 0 | G105: =G5 -> 0 | H105: =H5 -> 0 | I105: =I5 -> 0 | J105: =J5 -> 0 | ... W105: =W5 -> 0
C106: =IF(C6="","",$C$5) -> 10 | D106: =IF(D6="","",$D$5) | E106: =IF(E6="","",$E$5) -> 20 | F106: =IF(F6="","",$F$5) | G106: =IF(G6="","",$G$5) | H106: =IF(H6="","",$H$5) | I106: =IF(I6="","",$I$5) | J106: =IF(J6="","",$J$5) | K106: =IF(K6="","",$K$5) | L106: =IF(L6="","",$L$5) | M106: =IF(M6="","",$M$5) | N106: =IF(N6="","",$N$5) | O106: =IF(O6="","",$O$5) | P106: =IF(P6="","",$P$5) | Q106: =IF(Q6="","",$Q$5) | R106: =IF(R6="","",$R$5) | S106: =IF(S6="","",$S$5) | T106: =IF(T6="","",$T$5) | U106: =IF(U6="","",$U$5) | V106: =IF(V6="","",$V$5) | W106: =SUM(C106:V106) -> 30
C107: =IF(C7="","",$C$5) -> 10 | D107: =IF(D7="","",$D$5) -> 15 | E107: =IF(E7="","",$E$5) -> 20 | F107: =IF(F7="","",$F$5) | G107: =IF(G7="","",$G$5) | H107: =IF(H7="","",$H$5) | I107: =IF(I7="","",$I$5) | J107: =IF(J7="","",$J$5) | K107: =IF(K7="","",$K$5) | L107: =IF(L7="","",$L$5) | M107: =IF(M7="","",$M$5) | N107: =IF(N7="","",$N$5) | O107: =IF(O7="","",$O$5) | P107: =IF(P7="","",$P$5) | Q107: =IF(Q7="","",$Q$5) | R107: =IF(R7="","",$R$5) | S107: =IF(S7="","",$S$5) | T107: =IF(T7="","",$T$5) | U107: =IF(U7="","",$U$5) | V107: =IF(V7="","",$V$5) | W107: =SUM(C107:V107) -> 45
C108: =IF(C8="","",$C$5) -> 10 | D108: =IF(D8="","",$D$5) -> 15 | E108: =IF(E8="","",$E$5) -> 20 | F108: =IF(F8="","",$F$5) | G108: =IF(G8="","",$G$5) | H108: =IF(H8="","",$H$5) | I108: =IF(I8="","",$I$5) | J108: =IF(J8="","",$J$5) | K108: =IF(K8="","",$K$5) | L108: =IF(L8="","",$L$5) | M108: =IF(M8="","",$M$5) | N108: =IF(N8="","",$N$5) | O108: =IF(O8="","",$O$5) | P108: =IF(P8="","",$P$5) | Q108: =IF(Q8="","",$Q$5) | R108: =IF(R8="","",$R$5) | S108: =IF(S8="","",$S$5) | T108: =IF(T8="","",$T$5) | U108: =IF(U8="","",$U$5) | V108: =IF(V8="","",$V$5) | W108: =SUM(C108:V108) -> 45
C109: =IF(C9="","",$C$5) -> 10 | D109: =IF(D9="","",$D$5) -> 15 | E109: =IF(E9="","",$E$5) -> 20 | F109: =IF(F9="","",$F$5) | G109: =IF(G9="","",$G$5) | H109: =IF(H9="","",$H$5) | I109: =IF(I9="","",$I$5) | J109: =IF(J9="","",$J$5) | K109: =IF(K9="","",$K$5) | L109: =IF(L9="","",$L$5) | M109: =IF(M9="","",$M$5) | N109: =IF(N9="","",$N$5) | O109: =IF(O9="","",$O$5) | P109: =IF(P9="","",$P$5) | Q109: =IF(Q9="","",$Q$5) | R109: =IF(R9="","",$R$5) | S109: =IF(S9="","",$S$5) | T109: =IF(T9="","",$T$5) | U109: =IF(U9="","",$U$5) | V109: =IF(V9="","",$V$5) | W109: =SUM(C109:V109) -> 45
C110: =IF(C10="","",$C$5) -> 10 | D110: =IF(D10="","",$D$5) -> 15 | E110: =IF(E10="","",$E$5) -> 20 | F110: =IF(F10="","",$F$5) | G110: =IF(G10="","",$G$5) | H110: =IF(H10="","",$H$5) | I110: =IF(I10="","",$I$5) | J110: =IF(J10="","",$J$5) | K110: =IF(K10="","",$K$5) | L110: =IF(L10="","",$L$5) | M110: =IF(M10="","",$M$5) | N110: =IF(N10="","",$N$5) | O110: =IF(O10="","",$O$5) | P110: =IF(P10="","",$P$5) | Q110: =IF(Q10="","",$Q$5) | R110: =IF(R10="","",$R$5) | S110: =IF(S10="","",$S$5) | T110: =IF(T10="","",$T$5) | U110: =IF(U10="","",$U$5) | V110: =IF(V10="","",$V$5) | W110: =SUM(C110:V110) -> 45
C111: =IF(C11="","",$C$5) -> 10 | D111: =IF(D11="","",$D$5) -> 15 | E111: =IF(E11="","",$E$5) -> 20 | F111: =IF(F11="","",$F$5) | G111: =IF(G11="","",$G$5) | H111: =IF(H11="","",$H$5) | I111: =IF(I11="","",$I$5) | J111: =IF(J11="","",$J$5) | K111: =IF(K11="","",$K$5) | L111: =IF(L11="","",$L$5) | M111: =IF(M11="","",$M$5) | N111: =IF(N11="","",$N$5) | O111: =IF(O11="","",$O$5) | P111: =IF(P11="","",$P$5) | Q111: =IF(Q11="","",$Q$5) | R111: =IF(R11="","",$R$5) | S111: =IF(S11="","",$S$5) | T111: =IF(T11="","",$T$5) | U111: =IF(U11="","",$U$5) | V111: =IF(V11="","",$V$5) | W111: =SUM(C111:V111) -> 45
C112: =IF(C12="","",$C$5) -> 10 | D112: =IF(D12="","",$D$5) -> 15 | E112: =IF(E12="","",$E$5) -> 20 | F112: =IF(F12="","",$F$5) | G112: =IF(G12="","",$G$5) | H112: =IF(H12="","",$H$5) | I112: =IF(I12="","",$I$5) | J112: =IF(J12="","",$J$5) | K112: =IF(K12="","",$K$5) | L112: =IF(L12="","",$L$5) | M112: =IF(M12="","",$M$5) | N112: =IF(N12="","",$N$5) | O112: =IF(O12="","",$O$5) | P112: =IF(P12="","",$P$5) | Q112: =IF(Q12="","",$Q$5) | R112: =IF(R12="","",$R$5) | S112: =IF(S12="","",$S$5) | T112: =IF(T12="","",$T$5) | U112: =IF(U12="","",$U$5) | V112: =IF(V12="","",$V$5) | W112: =SUM(C112:V112) -> 45
C113: =IF(C13="","",$C$5) -> 10 | D113: =IF(D13="","",$D$5) -> 15 | E113: =IF(E13="","",$E$5) -> 20 | F113: =IF(F13="","",$F$5) | G113: =IF(G13="","",$G$5) | H113: =IF(H13="","",$H$5) | I113: =IF(I13="","",$I$5) | J113: =IF(J13="","",$J$5) | K113: =IF(K13="","",$K$5) | L113: =IF(L13="","",$L$5) | M113: =IF(M13="","",$M$5) | N113: =IF(N13="","",$N$5) | O113: =IF(O13="","",$O$5) | P113: =IF(P13="","",$P$5) | Q113: =IF(Q13="","",$Q$5) | R113: =IF(R13="","",$R$5) | S113: =IF(S13="","",$S$5) | T113: =IF(T13="","",$T$5) | U113: =IF(U13="","",$U$5) | V113: =IF(V13="","",$V$5) | W113: =SUM(C113:V113) -> 45
C114: =IF(C14="","",$C$5) -> 10 | D114: =IF(D14="","",$D$5) -> 15 | E114: =IF(E14="","",$E$5) -> 20 | F114: =IF(F14="","",$F$5) | G114: =IF(G14="","",$G$5) | H114: =IF(H14="","",$H$5) | I114: =IF(I14="","",$I$5) | J114: =IF(J14="","",$J$5) | K114: =IF(K14="","",$K$5) | L114: =IF(L14="","",$L$5) | M114: =IF(M14="","",$M$5) | N114: =IF(N14="","",$N$5) | O114: =IF(O14="","",$O$5) | P114: =IF(P14="","",$P$5) | Q114: =IF(Q14="","",$Q$5) | R114: =IF(R14="","",$R$5) | S114: =IF(S14="","",$S$5) | T114: =IF(T14="","",$T$5) | U114: =IF(U14="","",$U$5) | V114: =IF(V14="","",$V$5) | W114: =SUM(C114:V114) -> 45
C115: =IF(C15="","",$C$5) -> 10 | D115: =IF(D15="","",$D$5) -> 15 | E115: =IF(E15="","",$E$5) -> 20 | F115: =IF(F15="","",$F$5) | G115: =IF(G15="","",$G$5) | H115: =IF(H15="","",$H$5) | I115: =IF(I15="","",$I$5) | J115: =IF(J15="","",$J$5) | K115: =IF(K15="","",$K$5) | L115: =IF(L15="","",$L$5) | M115: =IF(M15="","",$M$5) | N115: =IF(N15="","",$N$5) | O115: =IF(O15="","",$O$5) | P115: =IF(P15="","",$P$5) | Q115: =IF(Q15="","",$Q$5) | R115: =IF(R15="","",$R$5) | S115: =IF(S15="","",$S$5) | T115: =IF(T15="","",$T$5) | U115: =IF(U15="","",$U$5) | V115: =IF(V15="","",$V$5) | W115: =SUM(C115:V115) -> 45
C116: =IF(C16="","",$C$5) -> 10 | D116: =IF(D16="","",$D$5) -> 15 | E116: =IF(E16="","",$E$5) -> 20 | F116: =IF(F16="","",$F$5) | G116: =IF(G16="","",$G$5) | H116: =IF(H16="","",$H$5) | I116: =IF(I16="","",$I$5) | J116: =IF(J16="","",$J$5) | K116: =IF(K16="","",$K$5) | L116: =IF(L16="","",$L$5) | M116: =IF(M16="","",$M$5) | N116: =IF(N16="","",$N$5) | O116: =IF(O16="","",$O$5) | P116: =IF(P16="","",$P$5) | Q116: =IF(Q16="","",$Q$5) | R116: =IF(R16="","",$R$5) | S116: =IF(S16="","",$S$5) | T116: =IF(T16="","",$T$5) | U116: =IF(U16="","",$U$5) | V116: =IF(V16="","",$V$5) | W116: =SUM(C116:V116) -> 45
C117: =IF(C17="","",$C$5) -> 10 | D117: =IF(D17="","",$D$5) | E117: =IF(E17="","",$E$5) -> 20 | F117: =IF(F17="","",$F$5) | G117: =IF(G17="","",$G$5) | H117: =IF(H17="","",$H$5) | I117: =IF(I17="","",$I$5) | J117: =IF(J17="","",$J$5) | K117: =IF(K17="","",$K$5) | L117: =IF(L17="","",$L$5) | M117: =IF(M17="","",$M$5) | N117: =IF(N17="","",$N$5) | O117: =IF(O17="","",$O$5) | P117: =IF(P17="","",$P$5) | Q117: =IF(Q17="","",$Q$5) | R117: =IF(R17="","",$R$5) | S117: =IF(S17="","",$S$5) | T117: =IF(T17="","",$T$5) | U117: =IF(U17="","",$U$5) | V117: =IF(V17="","",$V$5) | W117: =SUM(C117:V117) -> 30
... C135: =IF(C35="","",$C$5) | D135: =IF(D35="","",$D$5) | E135: =IF(E35="","",$E$5) | F135: =IF(F35="","",$F$5) | G135: =IF(G35="","",$G$5) | H135: =IF(H35="","",$H$5) | I135: =IF(I35="","",$I$5) | J135: =IF(J35="","",$J$5) | K135: =IF(K35="","",$K$5) | L135: =IF(L35="","",$L$5) | M135: =IF(M35="","",$M$5) | N135: =IF(N35="","",$N$5) | O135: =IF(O35="","",$O$5) | P135: =IF(P35="","",$P$5) | Q135: =IF(Q35="","",$Q$5) | R135: =IF(R35="","",$R$5) | S135: =IF(S35="","",$S$5) | T135: =IF(T35="","",$T$5) | U135: =IF(U35="","",$U$5) | V135: =IF(V35="","",$V$5) | W135: =SUM(C135:V135) -> 0
C136: =COUNT(C6:C35) -> 19 | D136: =COUNT(D6:D35) -> 17 | E136: =COUNT(E6:E35) -> 19 | F136: =COUNT(F6:F35) -> 0 | G136: =COUNT(G6:G35) -> 0 | H136: =COUNT(H6:H35) -> 0 | I136: =COUNT(I6:I35) -> 0 | J136: =COUNT(J6:J35) -> 0 | ... V136: =COUNT(V6:V35) -> 0 | W136: =SUM(C137:V137) -> 825
C137: =C136*C5 -> 190 | D137: =D136*D5 -> 255 | E137: =E136*E5 -> 380 | F137: =F136*F5 -> 0 | G137: =G136*G5 -> 0 | H137: =H136*H5 -> 0 | I137: =I136*I5 -> 0 | J137: =J136*J5 -> 0 | ... V137: =V136*V5 -> 0

Sheet Solides et figures
A1: ='Encodage + Sav. parler'!A1 -> Bulletin | C1: ='Encodage + Sav. parler'!C1 -> Classe de 4ème année | J1: ='Encodage + Sav. parler'!J1 -> De Samblanx Nicolas | R1: ='Encodage + Sav. parler'!R1 -> Année 2023/2024
B3: NOMS | C3: droites parallèles | D3: Carré rectangle | E3: Participation
C4: 1 | D4: 2 | E4: 3 | F4: 4 | G4: 5 | H4: 6 | I4: 7 | J4: 8 | K4: 9 | L4: 10 | M4: 11 | N4: 12 | O4: 13 | P4: 14 | Q4: 15 | R4: 16 | S4: 17 | T4: 18 | U4: 19 | V4: 20 | W4: PTS | X4: %
A5: TOTAL --> | C5: 10 | D5: 20 | E5: 10
A6: 1 | B6: ='Encodage + Sav. parler'!B6 -> MEUF Hfehfa | C6: 5.5 | D6: 11 | E6: 6 | W6: =IF(W106=0,"",SUM(C6:V6)) -> 22.5 | X6: =IF(W106=0,"",W6/W106*100) -> 56.25 | Y6: =A6 -> 1
A7: 2 | B7: ='Encodage + Sav. parler'!B7 -> QFCTDQ Cstji | C7: 0.5 | D7: 0 | E7: 0 | W7: =IF(W107=0,"",SUM(C7:V7)) -> 0.5 | X7: =IF(W107=0,"",W7/W107*100) -> 1.25 | Y7: =A7 -> 2
A8: 3 | B8: ='Encodage + Sav. parler'!B8 -> ZLPGW Mmvnufyn | C8: 5 | D8: 7.5 | E8: 5 | W8: =IF(W108=0,"",SUM(C8:V8)) -> 17.5 | X8: =IF(W108=0,"",W8/W108*100) -> 43.75 | Y8: =A8 -> 3
A9: 4 | B9: ='Encodage + Sav. parler'!B9 -> BYLGGRPWAFFM Fbeozwbe | C9: 4.5 | D9: 7.5 | E9: 5 | W9: =IF(W109=0,"",SUM(C9:V9)) -> 17 | X9: =IF(W109=0,"",W9/W109*100) -> 42.5 | Y9: =A9 -> 4
A10: 5 | B10: ='Encodage + Sav. parler'!B10 -> CZUWKE Dbzzvsz | C10: 5.5 | D10: 9 | E10: 7 | W10: =IF(W110=0,"",SUM(C10:V10)) -> 21.5 | X10: =IF(W110=0,"",W10/W110*100) -> 53.75 | Y10: =A10 -> 5
A11: 6 | B11: ='Encodage + Sav. parler'!B11 -> NGRPFYX Kzfmy | C11: 7 | D11: 10.5 | E11: 6 | W11: =IF(W111=0,"",SUM(C11:V11)) -> 23.5 | X11: =IF(W111=0,"",W11/W111*100) -> 58.75 | Y11: =A11 -> 6
A12: 7 | B12: ='Encodage + Sav. parler'!B12 -> JUF Omjvhjm | C12: 9.5 | D12: 20 | E12: 10 | W12: =IF(W112=0,"",SUM(C12:V12)) -> 39.5 | X12: =IF(W112=0,"",W12/W112*100) -> 98.75 | Y12: =A12 -> 7
A13: 8 | B13: ='Encodage + Sav. parler'!B13 -> FIWGYBFGJI Qchucznjx | C13: 1 | D13: 2 | E13: 3 | W13: =IF(W113=0,"",SUM(C13:V13)) -> 6 | X13: =IF(W113=0,"",W13/W113*100) -> 15 | Y13: =A13 -> 8
A14: 9 | B14: ='Encodage + Sav. parler'!B14 -> K&#600;MYPDD JAQDIGQ Kyznuzp | C14: 7 | D14: 14 | E14: 7 | W14: =IF(W114=0,"",SUM(C14:V14)) -> 28 | X14: =IF(W114=0,"",W14/W114*100) -> 70 | Y14: =A14 -> 9
A15: 10 | B15: ='Encodage + Sav. parler'!B15 -> JRQJGR Njrlyiue | C15: 7 | D15: 7.5 | E15: 5 | W15: =IF(W115=0,"",SUM(C15:V15)) -> 19.5 | X15: =IF(W115=0,"",W15/W115*100) -> 48.75 | Y15: =A15 -> 10
A16: 11 | B16: ='Encodage + Sav. parler'!B16 -> FJJYWAFA Svohnr | C16: 3 | D16: 20 | E16: 8 | W16: =IF(W116=0,"",SUM(C16:V16)) -> 31 | X16: =IF(W116=0,"",W16/W116*100) -> 77.5 | Y16: =A16 -> 11
A17: 12 | B17: ='Encodage + Sav. parler'!B17 -> PJILCBS Cujjz | D17: 5 | E17: 3 | W17: =IF(W117=0,"",SUM(C17:V17)) -> 8 | X17: =IF(W117=0,"",W17/W117*100) -> 26.666667 | Y17: =A17 -> 12
A18: 13 | B18: ='Encodage + Sav. parler'!B18 -> XUQUOVP Hanicij | W18: =IF(W118=0,"",SUM(C18:V18)) | X18: =IF(W118=0,"",W18/W118*100) | Y18: =A18 -> 13
A19: 14 | B19: ='Encodage + Sav. parler'!B19 -> VXZKW Pcljhw | C19: 2 | D19: 13 | E19: 5 | W19: =IF(W119=0,"",SUM(C19:V19)) -> 20 | X19: =IF(W119=0,"",W19/W119*100) -> 50 | Y19: =A19 -> 14
A20: 15 | B20: ='Encodage + Sav. parler'!B20 -> ANKBQZDX Mswnjbak | C20: 7 | D20: 8 | E20: 6 | W20: =IF(W120=0,"",SUM(C20:V20)) -> 21 | X20: =IF(W120=0,"",W20/W120*100) -> 52.5 | Y20: =A20 -> 15
A21: 16 | B21: ='Encodage + Sav. parler'!B21 -> DYTVXSTMX Qoyfpx | C21: 9.5 | D21: 19.5 | E21: 10 | W21: =IF(W121=0,"",SUM(C21:V21)) -> 39 | X21: =IF(W121=0,"",W21/W121*100) -> 97.5 | Y21: =A21 -> 16
A22: 17 | B22: ='Encodage + Sav. parler'!B22 -> MKJLB Hkfrxy | C22: 1.5 | D22: 2 | E22: 2 | W22: =IF(W122=0,"",SUM(C22:V22)) -> 5.5 | X22: =IF(W122=0,"",W22/W122*100) -> 13.75 | Y22: =A22 -> 17
A23: 18 | B23: ='Encodage + Sav. parler'!B23 -> VBEOU Lhlrygn-Roggj | C23: 9 | D23: 17 | E23: 10 | W23: =IF(W123=0,"",SUM(C23:V23)) -> 36 | X23: =IF(W123=0,"",W23/W123*100) -> 90 | Y23: =A23 -> 18
A24: 19 | B24: ='Encodage + Sav. parler'!B24 -> OLGZDCNSX Ckgeph | C24: 5 | D24: 7.5 | E24: 6 | W24: =IF(W124=0,"",SUM(C24:V24)) -> 18.5 | X24: =IF(W124=0,"",W24/W124*100) -> 46.25 | Y24: =A24 -> 19
A25: 20 | B25: ='Encodage + Sav. parler'!B25 -> TXHBZXHX Ovgalpu | E25: 6 | W25: =IF(W125=0,"",SUM(C25:V25)) -> 6 | X25: =IF(W125=0,"",W25/W125*100) -> 60 | Y25: =A25 -> 20
A26: 21 | B26: ='Encodage + Sav. parler'!B26 -> POHRCJF WH LGUZBRRY Sdzoi | C26: 4 | D26: 14 | E26: 7 | W26: =IF(W126=0,"",SUM(C26:V26)) -> 25 | X26: =IF(W126=0,"",W26/W126*100) -> 62.5 | Y26: =A26 -> 21
A27: 22 | B27: ='Encodage + Sav. parler'!B27 -> 0 | W27: =IF(W127=0,"",SUM(C27:V27)) | X27: =IF(W127=0,"",W27/W127*100) | Y27: =A27 -> 22
A28: 23 | B28: ='Encodage + Sav. parler'!B28 -> 0 | W28: =IF(W128=0,"",SUM(C28:V28)) | X28: =IF(W128=0,"",W28/W128*100) | Y28: =A28 -> 23
A29: 24 | B29: ='Encodage + Sav. parler'!B29 -> 0 | W29: =IF(W129=0,"",SUM(C29:V29)) | X29: =IF(W129=0,"",W29/W129*100) | Y29: =A29 -> 24
A30: 25 | B30: ='Encodage + Sav. parler'!B30 -> 0 | W30: =IF(W130=0,"",SUM(C30:V30)) | X30: =IF(W130=0,"",W30/W130*100) | Y30: =A30 -> 25
A31: 26 | B31: ='Encodage + Sav. parler'!B31 -> 0 | W31: =IF(W131=0,"",SUM(C31:V31)) | X31: =IF(W131=0,"",W31/W131*100) | Y31: =A31 -> 26
A32: 27 | B32: ='Encodage + Sav. parler'!B32 -> 0 | W32: =IF(W132=0,"",SUM(C32:V32)) | X32: =IF(W132=0,"",W32/W132*100) | Y32: =A32 -> 27
A33: 28 | B33: ='Encodage + Sav. parler'!B33 -> 0 | W33: =IF(W133=0,"",SUM(C33:V33)) | X33: =IF(W133=0,"",W33/W133*100) | Y33: =A33 -> 28
A34: 29 | B34: ='Encodage + Sav. parler'!B34 -> 0 | W34: =IF(W134=0,"",SUM(C34:V34)) | X34: =IF(W134=0,"",W34/W134*100) | Y34: =A34 -> 29
A35: 30 | B35: ='Encodage + Sav. parler'!B35 -> 0 | W35: =IF(W135=0,"",SUM(C35:V35)) | X35: =IF(W135=0,"",W35/W135*100) | Y35: =A35 -> 30
A36: TOTAL | C36: =IF(C136=0,"",SUM(C6:C35)) -> 93.5 | D36: =IF(D136=0,"",SUM(D6:D35)) -> 195 | E36: =IF(E136=0,"",SUM(E6:E35)) -> 117 | F36: =IF(F136=0,"",SUM(F6:F35)) | G36: =IF(G136=0,"",SUM(G6:G35)) | H36: =IF(H136=0,"",SUM(H6:H35)) | I36: =IF(I136=0,"",SUM(I6:I35)) | J36: =IF(J136=0,"",SUM(J6:J35)) | ... V36: =IF(V136=0,"",SUM(V6:V35)) | W36: =IF(W136=0,"",SUM(C36:V36)) -> 405.5 | X36: =IF(W136=0,"",W36/W136*100) -> 53.355263 | Y36: =A36 -> TOTAL
A37: MOY. CLAS | C37: =IF(C36="","",C36/C137*100) -> 51.944444 | D37: =IF(D36="","",D36/D137*100) -> 51.315789 | E37: =IF(E36="","",E36/E137*100) -> 58.5 | F37: =IF(F36="","",F36/F137*100) | G37: =IF(G36="","",G36/G137*100) | H37: =IF(H36="","",H36/H137*100) | I37: =IF(I36="","",I36/I137*100) | J37: =IF(J36="","",J36/J137*100) | ... V37: =IF(V36="","",V36/V137*100) | Y37: =A37 -> MOY. CLAS
C105: =C5 -> 10 | D105: =D5 -> 20 | E105: =E5 -> 10 | F105: =F5 -> 0 | G105: =G5 -> 0 | H105: =H5 -> 0 | I105: =I5 -> 0 | J105: =J5 -> 0 | ... W105: =W5 -> 0
C106: =IF(C6="","",$C$5) -> 10 | D106: =IF(D6="","",$D$5) -> 20 | E106: =IF(E6="","",$E$5) -> 10 | F106: =IF(F6="","",$F$5) | G106: =IF(G6="","",$G$5) | H106: =IF(H6="","",$H$5) | I106: =IF(I6="","",$I$5) | J106: =IF(J6="","",$J$5) | K106: =IF(K6="","",$K$5) | L106: =IF(L6="","",$L$5) | M106: =IF(M6="","",$M$5) | N106: =IF(N6="","",$N$5) | O106: =IF(O6="","",$O$5) | P106: =IF(P6="","",$P$5) | Q106: =IF(Q6="","",$Q$5) | R106: =IF(R6="","",$R$5) | S106: =IF(S6="","",$S$5) | T106: =IF(T6="","",$T$5) | U106: =IF(U6="","",$U$5) | V106: =IF(V6="","",$V$5) | W106: =SUM(C106:V106) -> 40
C107: =IF(C7="","",$C$5) -> 10 | D107: =IF(D7="","",$D$5) -> 20 | E107: =IF(E7="","",$E$5) -> 10 | F107: =IF(F7="","",$F$5) | G107: =IF(G7="","",$G$5) | H107: =IF(H7="","",$H$5) | I107: =IF(I7="","",$I$5) | J107: =IF(J7="","",$J$5) | K107: =IF(K7="","",$K$5) | L107: =IF(L7="","",$L$5) | M107: =IF(M7="","",$M$5) | N107: =IF(N7="","",$N$5) | O107: =IF(O7="","",$O$5) | P107: =IF(P7="","",$P$5) | Q107: =IF(Q7="","",$Q$5) | R107: =IF(R7="","",$R$5) | S107: =IF(S7="","",$S$5) | T107: =IF(T7="","",$T$5) | U107: =IF(U7="","",$U$5) | V107: =IF(V7="","",$V$5) | W107: =SUM(C107:V107) -> 40
C108: =IF(C8="","",$C$5) -> 10 | D108: =IF(D8="","",$D$5) -> 20 | E108: =IF(E8="","",$E$5) -> 10 | F108: =IF(F8="","",$F$5) | G108: =IF(G8="","",$G$5) | H108: =IF(H8="","",$H$5) | I108: =IF(I8="","",$I$5) | J108: =IF(J8="","",$J$5) | K108: =IF(K8="","",$K$5) | L108: =IF(L8="","",$L$5) | M108: =IF(M8="","",$M$5) | N108: =IF(N8="","",$N$5) | O108: =IF(O8="","",$O$5) | P108: =IF(P8="","",$P$5) | Q108: =IF(Q8="","",$Q$5) | R108: =IF(R8="","",$R$5) | S108: =IF(S8="","",$S$5) | T108: =IF(T8="","",$T$5) | U108: =IF(U8="","",$U$5) | V108: =IF(V8="","",$V$5) | W108: =SUM(C108:V108) -> 40
C109: =IF(C9="","",$C$5) -> 10 | D109: =IF(D9="","",$D$5) -> 20 | E109: =IF(E9="","",$E$5) -> 10 | F109: =IF(F9="","",$F$5) | G109: =IF(G9="","",$G$5) | H109: =IF(H9="","",$H$5) | I109: =IF(I9="","",$I$5) | J109: =IF(J9="","",$J$5) | K109: =IF(K9="","",$K$5) | L109: =IF(L9="","",$L$5) | M109: =IF(M9="","",$M$5) | N109: =IF(N9="","",$N$5) | O109: =IF(O9="","",$O$5) | P109: =IF(P9="","",$P$5) | Q109: =IF(Q9="","",$Q$5) | R109: =IF(R9="","",$R$5) | S109: =IF(S9="","",$S$5) | T109: =IF(T9="","",$T$5) | U109: =IF(U9="","",$U$5) | V109: =IF(V9="","",$V$5) | W109: =SUM(C109:V109) -> 40
C110: =IF(C10="","",$C$5) -> 10 | D110: =IF(D10="","",$D$5) -> 20 | E110: =IF(E10="","",$E$5) -> 10 | F110: =IF(F10="","",$F$5) | G110: =IF(G10="","",$G$5) | H110: =IF(H10="","",$H$5) | I110: =IF(I10="","",$I$5) | J110: =IF(J10="","",$J$5) | K110: =IF(K10="","",$K$5) | L110: =IF(L10="","",$L$5) | M110: =IF(M10="","",$M$5) | N110: =IF(N10="","",$N$5) | O110: =IF(O10="","",$O$5) | P110: =IF(P10="","",$P$5) | Q110: =IF(Q10="","",$Q$5) | R110: =IF(R10="","",$R$5) | S110: =IF(S10="","",$S$5) | T110: =IF(T10="","",$T$5) | U110: =IF(U10="","",$U$5) | V110: =IF(V10="","",$V$5) | W110: =SUM(C110:V110) -> 40
C111: =IF(C11="","",$C$5) -> 10 | D111: =IF(D11="","",$D$5) -> 20 | E111: =IF(E11="","",$E$5) -> 10 | F111: =IF(F11="","",$F$5) | G111: =IF(G11="","",$G$5) | H111: =IF(H11="","",$H$5) | I111: =IF(I11="","",$I$5) | J111: =IF(J11="","",$J$5) | K111: =IF(K11="","",$K$5) | L111: =IF(L11="","",$L$5) | M111: =IF(M11="","",$M$5) | N111: =IF(N11="","",$N$5) | O111: =IF(O11="","",$O$5) | P111: =IF(P11="","",$P$5) | Q111: =IF(Q11="","",$Q$5) | R111: =IF(R11="","",$R$5) | S111: =IF(S11="","",$S$5) | T111: =IF(T11="","",$T$5) | U111: =IF(U11="","",$U$5) | V111: =IF(V11="","",$V$5) | W111: =SUM(C111:V111) -> 40
C112: =IF(C12="","",$C$5) -> 10 | D112: =IF(D12="","",$D$5) -> 20 | E112: =IF(E12="","",$E$5) -> 10 | F112: =IF(F12="","",$F$5) | G112: =IF(G12="","",$G$5) | H112: =IF(H12="","",$H$5) | I112: =IF(I12="","",$I$5) | J112: =IF(J12="","",$J$5) | K112: =IF(K12="","",$K$5) | L112: =IF(L12="","",$L$5) | M112: =IF(M12="","",$M$5) | N112: =IF(N12="","",$N$5) | O112: =IF(O12="","",$O$5) | P112: =IF(P12="","",$P$5) | Q112: =IF(Q12="","",$Q$5) | R112: =IF(R12="","",$R$5) | S112: =IF(S12="","",$S$5) | T112: =IF(T12="","",$T$5) | U112: =IF(U12="","",$U$5) | V112: =IF(V12="","",$V$5) | W112: =SUM(C112:V112) -> 40
C113: =IF(C13="","",$C$5) -> 10 | D113: =IF(D13="","",$D$5) -> 20 | E113: =IF(E13="","",$E$5) -> 10 | F113: =IF(F13="","",$F$5) | G113: =IF(G13="","",$G$5) | H113: =IF(H13="","",$H$5) | I113: =IF(I13="","",$I$5) | J113: =IF(J13="","",$J$5) | K113: =IF(K13="","",$K$5) | L113: =IF(L13="","",$L$5) | M113: =IF(M13="","",$M$5) | N113: =IF(N13="","",$N$5) | O113: =IF(O13="","",$O$5) | P113: =IF(P13="","",$P$5) | Q113: =IF(Q13="","",$Q$5) | R113: =IF(R13="","",$R$5) | S113: =IF(S13="","",$S$5) | T113: =IF(T13="","",$T$5) | U113: =IF(U13="","",$U$5) | V113: =IF(V13="","",$V$5) | W113: =SUM(C113:V113) -> 40
C114: =IF(C14="","",$C$5) -> 10 | D114: =IF(D14="","",$D$5) -> 20 | E114: =IF(E14="","",$E$5) -> 10 | F114: =IF(F14="","",$F$5) | G114: =IF(G14="","",$G$5) | H114: =IF(H14="","",$H$5) | I114: =IF(I14="","",$I$5) | J114: =IF(J14="","",$J$5) | K114: =IF(K14="","",$K$5) | L114: =IF(L14="","",$L$5) | M114: =IF(M14="","",$M$5) | N114: =IF(N14="","",$N$5) | O114: =IF(O14="","",$O$5) | P114: =IF(P14="","",$P$5) | Q114: =IF(Q14="","",$Q$5) | R114: =IF(R14="","",$R$5) | S114: =IF(S14="","",$S$5) | T114: =IF(T14="","",$T$5) | U114: =IF(U14="","",$U$5) | V114: =IF(V14="","",$V$5) | W114: =SUM(C114:V114) -> 40
C115: =IF(C15="","",$C$5) -> 10 | D115: =IF(D15="","",$D$5) -> 20 | E115: =IF(E15="","",$E$5) -> 10 | F115: =IF(F15="","",$F$5) | G115: =IF(G15="","",$G$5) | H115: =IF(H15="","",$H$5) | I115: =IF(I15="","",$I$5) | J115: =IF(J15="","",$J$5) | K115: =IF(K15="","",$K$5) | L115: =IF(L15="","",$L$5) | M115: =IF(M15="","",$M$5) | N115: =IF(N15="","",$N$5) | O115: =IF(O15="","",$O$5) | P115: =IF(P15="","",$P$5) | Q115: =IF(Q15="","",$Q$5) | R115: =IF(R15="","",$R$5) | S115: =IF(S15="","",$S$5) | T115: =IF(T15="","",$T$5) | U115: =IF(U15="","",$U$5) | V115: =IF(V15="","",$V$5) | W115: =SUM(C115:V115) -> 40
C116: =IF(C16="","",$C$5) -> 10 | D116: =IF(D16="","",$D$5) -> 20 | E116: =IF(E16="","",$E$5) -> 10 | F116: =IF(F16="","",$F$5) | G116: =IF(G16="","",$G$5) | H116: =IF(H16="","",$H$5) | I116: =IF(I16="","",$I$5) | J116: =IF(J16="","",$J$5) | K116: =IF(K16="","",$K$5) | L116: =IF(L16="","",$L$5) | M116: =IF(M16="","",$M$5) | N116: =IF(N16="","",$N$5) | O116: =IF(O16="","",$O$5) | P116: =IF(P16="","",$P$5) | Q116: =IF(Q16="","",$Q$5) | R116: =IF(R16="","",$R$5) | S116: =IF(S16="","",$S$5) | T116: =IF(T16="","",$T$5) | U116: =IF(U16="","",$U$5) | V116: =IF(V16="","",$V$5) | W116: =SUM(C116:V116) -> 40
C117: =IF(C17="","",$C$5) | D117: =IF(D17="","",$D$5) -> 20 | E117: =IF(E17="","",$E$5) -> 10 | F117: =IF(F17="","",$F$5) | G117: =IF(G17="","",$G$5) | H117: =IF(H17="","",$H$5) | I117: =IF(I17="","",$I$5) | J117: =IF(J17="","",$J$5) | K117: =IF(K17="","",$K$5) | L117: =IF(L17="","",$L$5) | M117: =IF(M17="","",$M$5) | N117: =IF(N17="","",$N$5) | O117: =IF(O17="","",$O$5) | P117: =IF(P17="","",$P$5) | Q117: =IF(Q17="","",$Q$5) | R117: =IF(R17="","",$R$5) | S117: =IF(S17="","",$S$5) | T117: =IF(T17="","",$T$5) | U117: =IF(U17="","",$U$5) | V117: =IF(V17="","",$V$5) | W117: =SUM(C117:V117) -> 30
... C135: =IF(C35="","",$C$5) | D135: =IF(D35="","",$D$5) | E135: =IF(E35="","",$E$5) | F135: =IF(F35="","",$F$5) | G135: =IF(G35="","",$G$5) | H135: =IF(H35="","",$H$5) | I135: =IF(I35="","",$I$5) | J135: =IF(J35="","",$J$5) | K135: =IF(K35="","",$K$5) | L135: =IF(L35="","",$L$5) | M135: =IF(M35="","",$M$5) | N135: =IF(N35="","",$N$5) | O135: =IF(O35="","",$O$5) | P135: =IF(P35="","",$P$5) | Q135: =IF(Q35="","",$Q$5) | R135: =IF(R35="","",$R$5) | S135: =IF(S35="","",$S$5) | T135: =IF(T35="","",$T$5) | U135: =IF(U35="","",$U$5) | V135: =IF(V35="","",$V$5) | W135: =SUM(C135:V135) -> 0
C136: =COUNT(C6:C35) -> 18 | D136: =COUNT(D6:D35) -> 19 | E136: =COUNT(E6:E35) -> 20 | F136: =COUNT(F6:F35) -> 0 | G136: =COUNT(G6:G35) -> 0 | H136: =COUNT(H6:H35) -> 0 | I136: =COUNT(I6:I35) -> 0 | J136: =COUNT(J6:J35) -> 0 | ... V136: =COUNT(V6:V35) -> 0 | W136: =SUM(C137:V137) -> 760
C137: =C136*C5 -> 180 | D137: =D136*D5 -> 380 | E137: =E136*E5 -> 200 | F137: =F136*F5 -> 0 | G137: =G136*G5 -> 0 | H137: =H136*H5 -> 0 | I137: =I136*I5 -> 0 | J137: =J136*J5 -> 0 | ... V137: =V136*V5 -> 0

Sheet Traitement de donnees
A1: ='Encodage + Sav. parler'!A1 -> Bulletin | C1: ='Encodage + Sav. parler'!C1 -> Classe de 4ème année | J1: ='Encodage + Sav. parler'!J1 -> De Samblanx Nicolas | R1: ='Encodage + Sav. parler'!R1 -> Année 2023/2024
B3: NOMS | C3: arbres et ensembles | D3: tableau
C4: 1 | D4: 2 | E4: 3 | F4: 4 | G4: 5 | H4: 6 | I4: 7 | J4: 8 | K4: 9 | L4: 10 | M4: 11 | N4: 12 | O4: 13 | P4: 14 | Q4: 15 | R4: 16 | S4: 17 | T4: 18 | U4: 19 | V4: 20 | W4: PTS | X4: %
A5: TOTAL --> | C5: 10 | D5: 10
A6: 1 | B6: ='Encodage + Sav. parler'!B6 -> MEUF Hfehfa | C6: 7 | W6: =IF(W106=0,"",SUM(C6:V6)) -> 7 | X6: =IF(W106=0,"",W6/W106*100) -> 70 | Y6: =A6 -> 1
A7: 2 | B7: ='Encodage + Sav. parler'!B7 -> QFCTDQ Cstji | C7: 0 | W7: =IF(W107=0,"",SUM(C7:V7)) -> 0 | X7: =IF(W107=0,"",W7/W107*100) -> 0 | Y7: =A7 -> 2
A8: 3 | B8: ='Encodage + Sav. parler'!B8 -> ZLPGW Mmvnufyn | C8: 4 | D8: 6 | W8: =IF(W108=0,"",SUM(C8:V8)) -> 10 | X8: =IF(W108=0,"",W8/W108*100) -> 50 | Y8: =A8 -> 3
A9: 4 | B9: ='Encodage + Sav. parler'!B9 -> BYLGGRPWAFFM Fbeozwbe | C9: 4 | D9: 6 | W9: =IF(W109=0,"",SUM(C9:V9)) -> 10 | X9: =IF(W109=0,"",W9/W109*100) -> 50 | Y9: =A9 -> 4
A10: 5 | B10: ='Encodage + Sav. parler'!B10 -> CZUWKE Dbzzvsz | C10: 8 | D10: 9.5 | W10: =IF(W110=0,"",SUM(C10:V10)) -> 17.5 | X10: =IF(W110=0,"",W10/W110*100) -> 87.5 | Y10: =A10 -> 5
A11: 6 | B11: ='Encodage + Sav. parler'!B11 -> NGRPFYX Kzfmy | C11: 5.5 | D11: 6.5 | W11: =IF(W111=0,"",SUM(C11:V11)) -> 12 | X11: =IF(W111=0,"",W11/W111*100) -> 60 | Y11: =A11 -> 6
A12: 7 | B12: ='Encodage + Sav. parler'!B12 -> JUF Omjvhjm | C12: 10 | D12: 10 | W12: =IF(W112=0,"",SUM(C12:V12)) -> 20 | X12: =IF(W112=0,"",W12/W112*100) -> 100 | Y12: =A12 -> 7
A13: 8 | B13: ='Encodage + Sav. parler'!B13 -> FIWGYBFGJI Qchucznjx | C13: 2 | W13: =IF(W113=0,"",SUM(C13:V13)) -> 2 | X13: =IF(W113=0,"",W13/W113*100) -> 20 | Y13: =A13 -> 8
A14: 9 | B14: ='Encodage + Sav. parler'!B14 -> K&#600;MYPDD JAQDIGQ Kyznuzp | C14: 7 | D14: 6.5 | W14: =IF(W114=0,"",SUM(C14:V14)) -> 13.5 | X14: =IF(W114=0,"",W14/W114*100) -> 67.5 | Y14: =A14 -> 9
A15: 10 | B15: ='Encodage + Sav. parler'!B15 -> JRQJGR Njrlyiue | C15: 7 | D15: 7 | W15: =IF(W115=0,"",SUM(C15:V15)) -> 14 | X15: =IF(W115=0,"",W15/W115*100) -> 70 | Y15: =A15 -> 10
A16: 11 | B16: ='Encodage + Sav. parler'!B16 -> FJJYWAFA Svohnr | C16: 10 | D16: 6.5 | W16: =IF(W116=0,"",SUM(C16:V16)) -> 16.5 | X16: =IF(W116=0,"",W16/W116*100) -> 82.5 | Y16: =A16 -> 11
A17: 12 | B17: ='Encodage + Sav. parler'!B17 -> PJILCBS Cujjz | D17: 2.5 | W17: =IF(W117=0,"",SUM(C17:V17)) -> 2.5 | X17: =IF(W117=0,"",W17/W117*100) -> 25 | Y17: =A17 -> 12
A18: 13 | B18: ='Encodage + Sav. parler'!B18 -> XUQUOVP Hanicij | W18: =IF(W118=0,"",SUM(C18:V18)) | X18: =IF(W118=0,"",W18/W118*100) | Y18: =A18 -> 13
A19: 14 | B19: ='Encodage + Sav. parler'!B19 -> VXZKW Pcljhw | C19: 5 | D19: 5 | W19: =IF(W119=0,"",SUM(C19:V19)) -> 10 | X19: =IF(W119=0,"",W19/W119*100) -> 50 | Y19: =A19 -> 14
A20: 15 | B20: ='Encodage + Sav. parler'!B20 -> ANKBQZDX Mswnjbak | C20: 10 | D20: 6.5 | W20: =IF(W120=0,"",SUM(C20:V20)) -> 16.5 | X20: =IF(W120=0,"",W20/W120*100) -> 82.5 | Y20: =A20 -> 15
A21: 16 | B21: ='Encodage + Sav. parler'!B21 -> DYTVXSTMX Qoyfpx | C21: 10 | D21: 10 | W21: =IF(W121=0,"",SUM(C21:V21)) -> 20 | X21: =IF(W121=0,"",W21/W121*100) -> 100 | Y21: =A21 -> 16
A22: 17 | B22: ='Encodage + Sav. parler'!B22 -> MKJLB Hkfrxy | C22: 5 | D22: 7.5 | W22: =IF(W122=0,"",SUM(C22:V22)) -> 12.5 | X22: =IF(W122=0,"",W22/W122*100) -> 62.5 | Y22: =A22 -> 17
A23: 18 | B23: ='Encodage + Sav. parler'!B23 -> VBEOU Lhlrygn-Roggj | C23: 6 | D23: 10 | W23: =IF(W123=0,"",SUM(C23:V23)) -> 16 | X23: =IF(W123=0,"",W23/W123*100) -> 80 | Y23: =A23 -> 18
A24: 19 | B24: ='Encodage + Sav. parler'!B24 -> OLGZDCNSX Ckgeph | C24: 8 | D24: 7 | W24: =IF(W124=0,"",SUM(C24:V24)) -> 15 | X24: =IF(W124=0,"",W24/W124*100) -> 75 | Y24: =A24 -> 19
A25: 20 | B25: ='Encodage + Sav. parler'!B25 -> TXHBZXHX Ovgalpu | C25: 10 | D25: 6.5 | W25: =IF(W125=0,"",SUM(C25:V25)) -> 16.5 | X25: =IF(W125=0,"",W25/W125*100) -> 82.5 | Y25: =A25 -> 20
A26: 21 | B26: ='Encodage + Sav. parler'!B26 -> POHRCJF WH LGUZBRRY Sdzoi | C26: 10 | D26: 6.5 | W26: =IF(W126=0,"",SUM(C26:V26)) -> 16.5 | X26: =IF(W126=0,"",W26/W126*100) -> 82.5 | Y26: =A26 -> 21
A27: 22 | B27: ='Encodage + Sav. parler'!B27 -> 0 | W27: =IF(W127=0,"",SUM(C27:V27)) | X27: =IF(W127=0,"",W27/W127*100) | Y27: =A27 -> 22
A28: 23 | B28: ='Encodage + Sav. parler'!B28 -> 0 | W28: =IF(W128=0,"",SUM(C28:V28)) | X28: =IF(W128=0,"",W28/W128*100) | Y28: =A28 -> 23
A29: 24 | B29: ='Encodage + Sav. parler'!B29 -> 0 | W29: =IF(W129=0,"",SUM(C29:V29)) | X29: =IF(W129=0,"",W29/W129*100) | Y29: =A29 -> 24
A30: 25 | B30: ='Encodage + Sav. parler'!B30 -> 0 | W30: =IF(W130=0,"",SUM(C30:V30)) | X30: =IF(W130=0,"",W30/W130*100) | Y30: =A30 -> 25
A31: 26 | B31: ='Encodage + Sav. parler'!B31 -> 0 | W31: =IF(W131=0,"",SUM(C31:V31)) | X31: =IF(W131=0,"",W31/W131*100) | Y31: =A31 -> 26
A32: 27 | B32: ='Encodage + Sav. parler'!B32 -> 0 | W32: =IF(W132=0,"",SUM(C32:V32)) | X32: =IF(W132=0,"",W32/W132*100) | Y32: =A32 -> 27
A33: 28 | B33: ='Encodage + Sav. parler'!B33 -> 0 | W33: =IF(W133=0,"",SUM(C33:V33)) | X33: =IF(W133=0,"",W33/W133*100) | Y33: =A33 -> 28
A34: 29 | B34: ='Encodage + Sav. parler'!B34 -> 0 | W34: =IF(W134=0,"",SUM(C34:V34)) | X34: =IF(W134=0,"",W34/W134*100) | Y34: =A34 -> 29
A35: 30 | B35: ='Encodage + Sav. parler'!B35 -> 0 | W35: =IF(W135=0,"",SUM(C35:V35)) | X35: =IF(W135=0,"",W35/W135*100) | Y35: =A35 -> 30
A36: TOTAL | C36: =IF(C136=0,"",SUM(C6:C35)) -> 128.5 | D36: =IF(D136=0,"",SUM(D6:D35)) -> 119.5 | E36: =IF(E136=0,"",SUM(E6:E35)) | F36: =IF(F136=0,"",SUM(F6:F35)) | G36: =IF(G136=0,"",SUM(G6:G35)) | H36: =IF(H136=0,"",SUM(H6:H35)) | I36: =IF(I136=0,"",SUM(I6:I35)) | J36: =IF(J136=0,"",SUM(J6:J35)) | ... V36: =IF(V136=0,"",SUM(V6:V35)) | W36: =IF(W136=0,"",SUM(C36:V36)) -> 248 | X36: =IF(W136=0,"",W36/W136*100) -> 68.888889 | Y36: =A36 -> TOTAL
A37: MOY. CLAS | C37: =IF(C36="","",C36/C137*100) -> 67.631579 | D37: =IF(D36="","",D36/D137*100) -> 70.294118 | E37: =IF(E36="","",E36/E137*100) | F37: =IF(F36="","",F36/F137*100) | G37: =IF(G36="","",G36/G137*100) | H37: =IF(H36="","",H36/H137*100) | I37: =IF(I36="","",I36/I137*100) | J37: =IF(J36="","",J36/J137*100) | ... V37: =IF(V36="","",V36/V137*100) | Y37: =A37 -> MOY. CLAS
C105: =C5 -> 10 | D105: =D5 -> 10 | E105: =E5 -> 0 | F105: =F5 -> 0 | G105: =G5 -> 0 | H105: =H5 -> 0 | I105: =I5 -> 0 | J105: =J5 -> 0 | ... W105: =W5 -> 0
C106: =IF(C6="","",$C$5) -> 10 | D106: =IF(D6="","",$D$5) | E106: =IF(E6="","",$E$5) | F106: =IF(F6="","",$F$5) | G106: =IF(G6="","",$G$5) | H106: =IF(H6="","",$H$5) | I106: =IF(I6="","",$I$5) | J106: =IF(J6="","",$J$5) | K106: =IF(K6="","",$K$5) | L106: =IF(L6="","",$L$5) | M106: =IF(M6="","",$M$5) | N106: =IF(N6="","",$N$5) | O106: =IF(O6="","",$O$5) | P106: =IF(P6="","",$P$5) | Q106: =IF(Q6="","",$Q$5) | R106: =IF(R6="","",$R$5) | S106: =IF(S6="","",$S$5) | T106: =IF(T6="","",$T$5) | U106: =IF(U6="","",$U$5) | V106: =IF(V6="","",$V$5) | W106: =SUM(C106:V106) -> 10
C107: =IF(C7="","",$C$5) -> 10 | D107: =IF(D7="","",$D$5) | E107: =IF(E7="","",$E$5) | F107: =IF(F7="","",$F$5) | G107: =IF(G7="","",$G$5) | H107: =IF(H7="","",$H$5) | I107: =IF(I7="","",$I$5) | J107: =IF(J7="","",$J$5) | K107: =IF(K7="","",$K$5) | L107: =IF(L7="","",$L$5) | M107: =IF(M7="","",$M$5) | N107: =IF(N7="","",$N$5) | O107: =IF(O7="","",$O$5) | P107: =IF(P7="","",$P$5) | Q107: =IF(Q7="","",$Q$5) | R107: =IF(R7="","",$R$5) | S107: =IF(S7="","",$S$5) | T107: =IF(T7="","",$T$5) | U107: =IF(U7="","",$U$5) | V107: =IF(V7="","",$V$5) | W107: =SUM(C107:V107) -> 10
C108: =IF(C8="","",$C$5) -> 10 | D108: =IF(D8="","",$D$5) -> 10 | E108: =IF(E8="","",$E$5) | F108: =IF(F8="","",$F$5) | G108: =IF(G8="","",$G$5) | H108: =IF(H8="","",$H$5) | I108: =IF(I8="","",$I$5) | J108: =IF(J8="","",$J$5) | K108: =IF(K8="","",$K$5) | L108: =IF(L8="","",$L$5) | M108: =IF(M8="","",$M$5) | N108: =IF(N8="","",$N$5) | O108: =IF(O8="","",$O$5) | P108: =IF(P8="","",$P$5) | Q108: =IF(Q8="","",$Q$5) | R108: =IF(R8="","",$R$5) | S108: =IF(S8="","",$S$5) | T108: =IF(T8="","",$T$5) | U108: =IF(U8="","",$U$5) | V108: =IF(V8="","",$V$5) | W108: =SUM(C108:V108) -> 20
C109: =IF(C9="","",$C$5) -> 10 | D109: =IF(D9="","",$D$5) -> 10 | E109: =IF(E9="","",$E$5) | F109: =IF(F9="","",$F$5) | G109: =IF(G9="","",$G$5) | H109: =IF(H9="","",$H$5) | I109: =IF(I9="","",$I$5) | J109: =IF(J9="","",$J$5) | K109: =IF(K9="","",$K$5) | L109: =IF(L9="","",$L$5) | M109: =IF(M9="","",$M$5) | N109: =IF(N9="","",$N$5) | O109: =IF(O9="","",$O$5) | P109: =IF(P9="","",$P$5) | Q109: =IF(Q9="","",$Q$5) | R109: =IF(R9="","",$R$5) | S109: =IF(S9="","",$S$5) | T109: =IF(T9="","",$T$5) | U109: =IF(U9="","",$U$5) | V109: =IF(V9="","",$V$5) | W109: =SUM(C109:V109) -> 20
C110: =IF(C10="","",$C$5) -> 10 | D110: =IF(D10="","",$D$5) -> 10 | E110: =IF(E10="","",$E$5) | F110: =IF(F10="","",$F$5) | G110: =IF(G10="","",$G$5) | H110: =IF(H10="","",$H$5) | I110: =IF(I10="","",$I$5) | J110: =IF(J10="","",$J$5) | K110: =IF(K10="","",$K$5) | L110: =IF(L10="","",$L$5) | M110: =IF(M10="","",$M$5) | N110: =IF(N10="","",$N$5) | O110: =IF(O10="","",$O$5) | P110: =IF(P10="","",$P$5) | Q110: =IF(Q10="","",$Q$5) | R110: =IF(R10="","",$R$5) | S110: =IF(S10="","",$S$5) | T110: =IF(T10="","",$T$5) | U110: =IF(U10="","",$U$5) | V110: =IF(V10="","",$V$5) | W110: =SUM(C110:V110) -> 20
C111: =IF(C11="","",$C$5) -> 10 | D111: =IF(D11="","",$D$5) -> 10 | E111: =IF(E11="","",$E$5) | F111: =IF(F11="","",$F$5) | G111: =IF(G11="","",$G$5) | H111: =IF(H11="","",$H$5) | I111: =IF(I11="","",$I$5) | J111: =IF(J11="","",$J$5) | K111: =IF(K11="","",$K$5) | L111: =IF(L11="","",$L$5) | M111: =IF(M11="","",$M$5) | N111: =IF(N11="","",$N$5) | O111: =IF(O11="","",$O$5) | P111: =IF(P11="","",$P$5) | Q111: =IF(Q11="","",$Q$5) | R111: =IF(R11="","",$R$5) | S111: =IF(S11="","",$S$5) | T111: =IF(T11="","",$T$5) | U111: =IF(U11="","",$U$5) | V111: =IF(V11="","",$V$5) | W111: =SUM(C111:V111) -> 20
C112: =IF(C12="","",$C$5) -> 10 | D112: =IF(D12="","",$D$5) -> 10 | E112: =IF(E12="","",$E$5) | F112: =IF(F12="","",$F$5) | G112: =IF(G12="","",$G$5) | H112: =IF(H12="","",$H$5) | I112: =IF(I12="","",$I$5) | J112: =IF(J12="","",$J$5) | K112: =IF(K12="","",$K$5) | L112: =IF(L12="","",$L$5) | M112: =IF(M12="","",$M$5) | N112: =IF(N12="","",$N$5) | O112: =IF(O12="","",$O$5) | P112: =IF(P12="","",$P$5) | Q112: =IF(Q12="","",$Q$5) | R112: =IF(R12="","",$R$5) | S112: =IF(S12="","",$S$5) | T112: =IF(T12="","",$T$5) | U112: =IF(U12="","",$U$5) | V112: =IF(V12="","",$V$5) | W112: =SUM(C112:V112) -> 20
C113: =IF(C13="","",$C$5) -> 10 | D113: =IF(D13="","",$D$5) | E113: =IF(E13="","",$E$5) | F113: =IF(F13="","",$F$5) | G113: =IF(G13="","",$G$5) | H113: =IF(H13="","",$H$5) | I113: =IF(I13="","",$I$5) | J113: =IF(J13="","",$J$5) | K113: =IF(K13="","",$K$5) | L113: =IF(L13="","",$L$5) | M113: =IF(M13="","",$M$5) | N113: =IF(N13="","",$N$5) | O113: =IF(O13="","",$O$5) | P113: =IF(P13="","",$P$5) | Q113: =IF(Q13="","",$Q$5) | R113: =IF(R13="","",$R$5) | S113: =IF(S13="","",$S$5) | T113: =IF(T13="","",$T$5) | U113: =IF(U13="","",$U$5) | V113: =IF(V13="","",$V$5) | W113: =SUM(C113:V113) -> 10
C114: =IF(C14="","",$C$5) -> 10 | D114: =IF(D14="","",$D$5) -> 10 | E114: =IF(E14="","",$E$5) | F114: =IF(F14="","",$F$5) | G114: =IF(G14="","",$G$5) | H114: =IF(H14="","",$H$5) | I114: =IF(I14="","",$I$5) | J114: =IF(J14="","",$J$5) | K114: =IF(K14="","",$K$5) | L114: =IF(L14="","",$L$5) | M114: =IF(M14="","",$M$5) | N114: =IF(N14="","",$N$5) | O114: =IF(O14="","",$O$5) | P114: =IF(P14="","",$P$5) | Q114: =IF(Q14="","",$Q$5) | R114: =IF(R14="","",$R$5) | S114: =IF(S14="","",$S$5) | T114: =IF(T14="","",$T$5) | U114: =IF(U14="","",$U$5) | V114: =IF(V14="","",$V$5) | W114: =SUM(C114:V114) -> 20
C115: =IF(C15="","",$C$5) -> 10 | D115: =IF(D15="","",$D$5) -> 10 | E115: =IF(E15="","",$E$5) | F115: =IF(F15="","",$F$5) | G115: =IF(G15="","",$G$5) | H115: =IF(H15="","",$H$5) | I115: =IF(I15="","",$I$5) | J115: =IF(J15="","",$J$5) | K115: =IF(K15="","",$K$5) | L115: =IF(L15="","",$L$5) | M115: =IF(M15="","",$M$5) | N115: =IF(N15="","",$N$5) | O115: =IF(O15="","",$O$5) | P115: =IF(P15="","",$P$5) | Q115: =IF(Q15="","",$Q$5) | R115: =IF(R15="","",$R$5) | S115: =IF(S15="","",$S$5) | T115: =IF(T15="","",$T$5) | U115: =IF(U15="","",$U$5) | V115: =IF(V15="","",$V$5) | W115: =SUM(C115:V115) -> 20
C116: =IF(C16="","",$C$5) -> 10 | D116: =IF(D16="","",$D$5) -> 10 | E116: =IF(E16="","",$E$5) | F116: =IF(F16="","",$F$5) | G116: =IF(G16="","",$G$5) | H116: =IF(H16="","",$H$5) | I116: =IF(I16="","",$I$5) | J116: =IF(J16="","",$J$5) | K116: =IF(K16="","",$K$5) | L116: =IF(L16="","",$L$5) | M116: =IF(M16="","",$M$5) | N116: =IF(N16="","",$N$5) | O116: =IF(O16="","",$O$5) | P116: =IF(P16="","",$P$5) | Q116: =IF(Q16="","",$Q$5) | R116: =IF(R16="","",$R$5) | S116: =IF(S16="","",$S$5) | T116: =IF(T16="","",$T$5) | U116: =IF(U16="","",$U$5) | V116: =IF(V16="","",$V$5) | W116: =SUM(C116:V116) -> 20
C117: =IF(C17="","",$C$5) | D117: =IF(D17="","",$D$5) -> 10 | E117: =IF(E17="","",$E$5) | F117: =IF(F17="","",$F$5) | G117: =IF(G17="","",$G$5) | H117: =IF(H17="","",$H$5) | I117: =IF(I17="","",$I$5) | J117: =IF(J17="","",$J$5) | K117: =IF(K17="","",$K$5) | L117: =IF(L17="","",$L$5) | M117: =IF(M17="","",$M$5) | N117: =IF(N17="","",$N$5) | O117: =IF(O17="","",$O$5) | P117: =IF(P17="","",$P$5) | Q117: =IF(Q17="","",$Q$5) | R117: =IF(R17="","",$R$5) | S117: =IF(S17="","",$S$5) | T117: =IF(T17="","",$T$5) | U117: =IF(U17="","",$U$5) | V117: =IF(V17="","",$V$5) | W117: =SUM(C117:V117) -> 10
... C135: =IF(C35="","",$C$5) | D135: =IF(D35="","",$D$5) | E135: =IF(E35="","",$E$5) | F135: =IF(F35="","",$F$5) | G135: =IF(G35="","",$G$5) | H135: =IF(H35="","",$H$5) | I135: =IF(I35="","",$I$5) | J135: =IF(J35="","",$J$5) | K135: =IF(K35="","",$K$5) | L135: =IF(L35="","",$L$5) | M135: =IF(M35="","",$M$5) | N135: =IF(N35="","",$N$5) | O135: =IF(O35="","",$O$5) | P135: =IF(P35="","",$P$5) | Q135: =IF(Q35="","",$Q$5) | R135: =IF(R35="","",$R$5) | S135: =IF(S35="","",$S$5) | T135: =IF(T35="","",$T$5) | U135: =IF(U35="","",$U$5) | V135: =IF(V35="","",$V$5) | W135: =SUM(C135:V135) -> 0
C136: =COUNT(C6:C35) -> 19 | D136: =COUNT(D6:D35) -> 17 | E136: =COUNT(E6:E35) -> 0 | F136: =COUNT(F6:F35) -> 0 | G136: =COUNT(G6:G35) -> 0 | H136: =COUNT(H6:H35) -> 0 | I136: =COUNT(I6:I35) -> 0 | J136: =COUNT(J6:J35) -> 0 | ... V136: =COUNT(V6:V35) -> 0 | W136: =SUM(C137:V137) -> 360
C137: =C136*C5 -> 190 | D137: =D136*D5 -> 170 | E137: =E136*E5 -> 0 | F137: =F136*F5 -> 0 | G137: =G136*G5 -> 0 | H137: =H136*H5 -> 0 | I137: =I136*I5 -> 0 | J137: =J136*J5 -> 0 | ... V137: =V136*V5 -> 0

Sheet Eveil scientifique
A1: ='Encodage + Sav. parler'!A1 -> Bulletin | C1: ='Encodage + Sav. parler'!C1 -> Classe de 4ème année | J1: ='Encodage + Sav. parler'!J1 -> De Samblanx Nicolas | R1: ='Encodage + Sav. parler'!R1 -> Année 2023/2024
B3: NOMS | C3: JP
C4: 1 | D4: 2 | E4: 3 | F4: 4 | G4: 5 | H4: 6 | I4: 7 | J4: 8 | K4: 9 | L4: 10 | M4: 11 | N4: 12 | O4: 13 | P4: 14 | Q4: 15 | R4: 16 | S4: 17 | T4: 18 | U4: 19 | V4: 20 | W4: PTS | X4: %
A5: TOTAL --> | C5: 40
A6: 1 | B6: ='Encodage + Sav. parler'!B6 -> MEUF Hfehfa | C6: 30 | W6: =IF(W106=0,"",SUM(C6:V6)) -> 30 | X6: =IF(W106=0,"",W6/W106*100) -> 75 | Y6: =A6 -> 1
A7: 2 | B7: ='Encodage + Sav. parler'!B7 -> QFCTDQ Cstji | C7: 20 | W7: =IF(W107=0,"",SUM(C7:V7)) -> 20 | X7: =IF(W107=0,"",W7/W107*100) -> 50 | Y7: =A7 -> 2
A8: 3 | B8: ='Encodage + Sav. parler'!B8 -> ZLPGW Mmvnufyn | C8: 28 | W8: =IF(W108=0,"",SUM(C8:V8)) -> 28 | X8: =IF(W108=0,"",W8/W108*100) -> 70 | Y8: =A8 -> 3
A9: 4 | B9: ='Encodage + Sav. parler'!B9 -> BYLGGRPWAFFM Fbeozwbe | C9: 30 | W9: =IF(W109=0,"",SUM(C9:V9)) -> 30 | X9: =IF(W109=0,"",W9/W109*100) -> 75 | Y9: =A9 -> 4
A10: 5 | B10: ='Encodage + Sav. parler'!B10 -> CZUWKE Dbzzvsz | C10: 38 | W10: =IF(W110=0,"",SUM(C10:V10)) -> 38 | X10: =IF(W110=0,"",W10/W110*100) -> 95 | Y10: =A10 -> 5
A11: 6 | B11: ='Encodage + Sav. parler'!B11 -> NGRPFYX Kzfmy | C11: 36 | W11: =IF(W111=0,"",SUM(C11:V11)) -> 36 | X11: =IF(W111=0,"",W11/W111*100) -> 90 | Y11: =A11 -> 6
A12: 7 | B12: ='Encodage + Sav. parler'!B12 -> JUF Omjvhjm | C12: 40 | W12: =IF(W112=0,"",SUM(C12:V12)) -> 40 | X12: =IF(W112=0,"",W12/W112*100) -> 100 | Y12: =A12 -> 7
A13: 8 | B13: ='Encodage + Sav. parler'!B13 -> FIWGYBFGJI Qchucznjx | C13: 20 | W13: =IF(W113=0,"",SUM(C13:V13)) -> 20 | X13: =IF(W113=0,"",W13/W113*100) -> 50 | Y13: =A13 -> 8
A14: 9 | B14: ='Encodage + Sav. parler'!B14 -> K&#600;MYPDD JAQDIGQ Kyznuzp | C14: 38 | W14: =IF(W114=0,"",SUM(C14:V14)) -> 38 | X14: =IF(W114=0,"",W14/W114*100) -> 95 | Y14: =A14 -> 9
A15: 10 | B15: ='Encodage + Sav. parler'!B15 -> JRQJGR Njrlyiue | C15: 34 | W15: =IF(W115=0,"",SUM(C15:V15)) -> 34 | X15: =IF(W115=0,"",W15/W115*100) -> 85 | Y15: =A15 -> 10
A16: 11 | B16: ='Encodage + Sav. parler'!B16 -> FJJYWAFA Svohnr | C16: 20 | W16: =IF(W116=0,"",SUM(C16:V16)) -> 20 | X16: =IF(W116=0,"",W16/W116*100) -> 50 | Y16: =A16 -> 11
A17: 12 | B17: ='Encodage + Sav. parler'!B17 -> PJILCBS Cujjz | C17: 24 | W17: =IF(W117=0,"",SUM(C17:V17)) -> 24 | X17: =IF(W117=0,"",W17/W117*100) -> 60 | Y17: =A17 -> 12
A18: 13 | B18: ='Encodage + Sav. parler'!B18 -> XUQUOVP Hanicij | W18: =IF(W118=0,"",SUM(C18:V18)) | X18: =IF(W118=0,"",W18/W118*100) | Y18: =A18 -> 13
A19: 14 | B19: ='Encodage + Sav. parler'!B19 -> VXZKW Pcljhw | C19: 18 | W19: =IF(W119=0,"",SUM(C19:V19)) -> 18 | X19: =IF(W119=0,"",W19/W119*100) -> 45 | Y19: =A19 -> 14
A20: 15 | B20: ='Encodage + Sav. parler'!B20 -> ANKBQZDX Mswnjbak | C20: 22 | W20: =IF(W120=0,"",SUM(C20:V20)) -> 22 | X20: =IF(W120=0,"",W20/W120*100) -> 55 | Y20: =A20 -> 15
A21: 16 | B21: ='Encodage + Sav. parler'!B21 -> DYTVXSTMX Qoyfpx | C21: 36 | W21: =IF(W121=0,"",SUM(C21:V21)) -> 36 | X21: =IF(W121=0,"",W21/W121*100) -> 90 | Y21: =A21 -> 16
A22: 17 | B22: ='Encodage + Sav. parler'!B22 -> MKJLB Hkfrxy | C22: 28 | W22: =IF(W122=0,"",SUM(C22:V22)) -> 28 | X22: =IF(W122=0,"",W22/W122*100) -> 70 | Y22: =A22 -> 17
A23: 18 | B23: ='Encodage + Sav. parler'!B23 -> VBEOU Lhlrygn-Roggj | C23: 32 | W23: =IF(W123=0,"",SUM(C23:V23)) -> 32 | X23: =IF(W123=0,"",W23/W123*100) -> 80 | Y23: =A23 -> 18
A24: 19 | B24: ='Encodage + Sav. parler'!B24 -> OLGZDCNSX Ckgeph | C24: 32 | W24: =IF(W124=0,"",SUM(C24:V24)) -> 32 | X24: =IF(W124=0,"",W24/W124*100) -> 80 | Y24: =A24 -> 19
A25: 20 | B25: ='Encodage + Sav. parler'!B25 -> TXHBZXHX Ovgalpu | C25: 34 | W25: =IF(W125=0,"",SUM(C25:V25)) -> 34 | X25: =IF(W125=0,"",W25/W125*100) -> 85 | Y25: =A25 -> 20
A26: 21 | B26: ='Encodage + Sav. parler'!B26 -> POHRCJF WH LGUZBRRY Sdzoi | C26: 32 | W26: =IF(W126=0,"",SUM(C26:V26)) -> 32 | X26: =IF(W126=0,"",W26/W126*100) -> 80 | Y26: =A26 -> 21
A27: 22 | B27: ='Encodage + Sav. parler'!B27 -> 0 | W27: =IF(W127=0,"",SUM(C27:V27)) | X27: =IF(W127=0,"",W27/W127*100) | Y27: =A27 -> 22
A28: 23 | B28: ='Encodage + Sav. parler'!B28 -> 0 | W28: =IF(W128=0,"",SUM(C28:V28)) | X28: =IF(W128=0,"",W28/W128*100) | Y28: =A28 -> 23
A29: 24 | B29: ='Encodage + Sav. parler'!B29 -> 0 | W29: =IF(W129=0,"",SUM(C29:V29)) | X29: =IF(W129=0,"",W29/W129*100) | Y29: =A29 -> 24
A30: 25 | B30: ='Encodage + Sav. parler'!B30 -> 0 | W30: =IF(W130=0,"",SUM(C30:V30)) | X30: =IF(W130=0,"",W30/W130*100) | Y30: =A30 -> 25
A31: 26 | B31: ='Encodage + Sav. parler'!B31 -> 0 | W31: =IF(W131=0,"",SUM(C31:V31)) | X31: =IF(W131=0,"",W31/W131*100) | Y31: =A31 -> 26
A32: 27 | B32: ='Encodage + Sav. parler'!B32 -> 0 | W32: =IF(W132=0,"",SUM(C32:V32)) | X32: =IF(W132=0,"",W32/W132*100) | Y32: =A32 -> 27
A33: 28 | B33: ='Encodage + Sav. parler'!B33 -> 0 | W33: =IF(W133=0,"",SUM(C33:V33)) | X33: =IF(W133=0,"",W33/W133*100) | Y33: =A33 -> 28
A34: 29 | B34: ='Encodage + Sav. parler'!B34 -> 0 | W34: =IF(W134=0,"",SUM(C34:V34)) | X34: =IF(W134=0,"",W34/W134*100) | Y34: =A34 -> 29
A35: 30 | B35: ='Encodage + Sav. parler'!B35 -> 0 | W35: =IF(W135=0,"",SUM(C35:V35)) | X35: =IF(W135=0,"",W35/W135*100) | Y35: =A35 -> 30
A36: TOTAL | C36: =IF(C136=0,"",SUM(C6:C35)) -> 592 | D36: =IF(D136=0,"",SUM(D6:D35)) | E36: =IF(E136=0,"",SUM(E6:E35)) | F36: =IF(F136=0,"",SUM(F6:F35)) | G36: =IF(G136=0,"",SUM(G6:G35)) | H36: =IF(H136=0,"",SUM(H6:H35)) | I36: =IF(I136=0,"",SUM(I6:I35)) | J36: =IF(J136=0,"",SUM(J6:J35)) | ... V36: =IF(V136=0,"",SUM(V6:V35)) | W36: =IF(W136=0,"",SUM(C36:V36)) -> 592 | X36: =IF(W136=0,"",W36/W136*100) -> 74 | Y36: =A36 -> TOTAL
A37: MOY. CLAS | C37: =IF(C36="","",C36/C137*100) -> 74 | D37: =IF(D36="","",D36/D137*100) | E37: =IF(E36="","",E36/E137*100) | F37: =IF(F36="","",F36/F137*100) | G37: =IF(G36="","",G36/G137*100) | H37: =IF(H36="","",H36/H137*100) | I37: =IF(I36="","",I36/I137*100) | J37: =IF(J36="","",J36/J137*100) | ... V37: =IF(V36="","",V36/V137*100) | Y37: =A37 -> MOY. CLAS
C105: =C5 -> 40 | D105: =D5 -> 0 | E105: =E5 -> 0 | F105: =F5 -> 0 | G105: =G5 -> 0 | H105: =H5 -> 0 | I105: =I5 -> 0 | J105: =J5 -> 0 | ... W105: =W5 -> 0
C106: =IF(C6="","",$C$5) -> 40 | D106: =IF(D6="","",$D$5) | E106: =IF(E6="","",$E$5) | F106: =IF(F6="","",$F$5) | G106: =IF(G6="","",$G$5) | H106: =IF(H6="","",$H$5) | I106: =IF(I6="","",$I$5) | J106: =IF(J6="","",$J$5) | K106: =IF(K6="","",$K$5) | L106: =IF(L6="","",$L$5) | M106: =IF(M6="","",$M$5) | N106: =IF(N6="","",$N$5) | O106: =IF(O6="","",$O$5) | P106: =IF(P6="","",$P$5) | Q106: =IF(Q6="","",$Q$5) | R106: =IF(R6="","",$R$5) | S106: =IF(S6="","",$S$5) | T106: =IF(T6="","",$T$5) | U106: =IF(U6="","",$U$5) | V106: =IF(V6="","",$V$5) | W106: =SUM(C106:V106) -> 40
C107: =IF(C7="","",$C$5) -> 40 | D107: =IF(D7="","",$D$5) | E107: =IF(E7="","",$E$5) | F107: =IF(F7="","",$F$5) | G107: =IF(G7="","",$G$5) | H107: =IF(H7="","",$H$5) | I107: =IF(I7="","",$I$5) | J107: =IF(J7="","",$J$5) | K107: =IF(K7="","",$K$5) | L107: =IF(L7="","",$L$5) | M107: =IF(M7="","",$M$5) | N107: =IF(N7="","",$N$5) | O107: =IF(O7="","",$O$5) | P107: =IF(P7="","",$P$5) | Q107: =IF(Q7="","",$Q$5) | R107: =IF(R7="","",$R$5) | S107: =IF(S7="","",$S$5) | T107: =IF(T7="","",$T$5) | U107: =IF(U7="","",$U$5) | V107: =IF(V7="","",$V$5) | W107: =SUM(C107:V107) -> 40
C108: =IF(C8="","",$C$5) -> 40 | D108: =IF(D8="","",$D$5) | E108: =IF(E8="","",$E$5) | F108: =IF(F8="","",$F$5) | G108: =IF(G8="","",$G$5) | H108: =IF(H8="","",$H$5) | I108: =IF(I8="","",$I$5) | J108: =IF(J8="","",$J$5) | K108: =IF(K8="","",$K$5) | L108: =IF(L8="","",$L$5) | M108: =IF(M8="","",$M$5) | N108: =IF(N8="","",$N$5) | O108: =IF(O8="","",$O$5) | P108: =IF(P8="","",$P$5) | Q108: =IF(Q8="","",$Q$5) | R108: =IF(R8="","",$R$5) | S108: =IF(S8="","",$S$5) | T108: =IF(T8="","",$T$5) | U108: =IF(U8="","",$U$5) | V108: =IF(V8="","",$V$5) | W108: =SUM(C108:V108) -> 40
C109: =IF(C9="","",$C$5) -> 40 | D109: =IF(D9="","",$D$5) | E109: =IF(E9="","",$E$5) | F109: =IF(F9="","",$F$5) | G109: =IF(G9="","",$G$5) | H109: =IF(H9="","",$H$5) | I109: =IF(I9="","",$I$5) | J109: =IF(J9="","",$J$5) | K109: =IF(K9="","",$K$5) | L109: =IF(L9="","",$L$5) | M109: =IF(M9="","",$M$5) | N109: =IF(N9="","",$N$5) | O109: =IF(O9="","",$O$5) | P109: =IF(P9="","",$P$5) | Q109: =IF(Q9="","",$Q$5) | R109: =IF(R9="","",$R$5) | S109: =IF(S9="","",$S$5) | T109: =IF(T9="","",$T$5) | U109: =IF(U9="","",$U$5) | V109: =IF(V9="","",$V$5) | W109: =SUM(C109:V109) -> 40
C110: =IF(C10="","",$C$5) -> 40 | D110: =IF(D10="","",$D$5) | E110: =IF(E10="","",$E$5) | F110: =IF(F10="","",$F$5) | G110: =IF(G10="","",$G$5) | H110: =IF(H10="","",$H$5) | I110: =IF(I10="","",$I$5) | J110: =IF(J10="","",$J$5) | K110: =IF(K10="","",$K$5) | L110: =IF(L10="","",$L$5) | M110: =IF(M10="","",$M$5) | N110: =IF(N10="","",$N$5) | O110: =IF(O10="","",$O$5) | P110: =IF(P10="","",$P$5) | Q110: =IF(Q10="","",$Q$5) | R110: =IF(R10="","",$R$5) | S110: =IF(S10="","",$S$5) | T110: =IF(T10="","",$T$5) | U110: =IF(U10="","",$U$5) | V110: =IF(V10="","",$V$5) | W110: =SUM(C110:V110) -> 40
C111: =IF(C11="","",$C$5) -> 40 | D111: =IF(D11="","",$D$5) | E111: =IF(E11="","",$E$5) | F111: =IF(F11="","",$F$5) | G111: =IF(G11="","",$G$5) | H111: =IF(H11="","",$H$5) | I111: =IF(I11="","",$I$5) | J111: =IF(J11="","",$J$5) | K111: =IF(K11="","",$K$5) | L111: =IF(L11="","",$L$5) | M111: =IF(M11="","",$M$5) | N111: =IF(N11="","",$N$5) | O111: =IF(O11="","",$O$5) | P111: =IF(P11="","",$P$5) | Q111: =IF(Q11="","",$Q$5) | R111: =IF(R11="","",$R$5) | S111: =IF(S11="","",$S$5) | T111: =IF(T11="","",$T$5) | U111: =IF(U11="","",$U$5) | V111: =IF(V11="","",$V$5) | W111: =SUM(C111:V111) -> 40
C112: =IF(C12="","",$C$5) -> 40 | D112: =IF(D12="","",$D$5) | E112: =IF(E12="","",$E$5) | F112: =IF(F12="","",$F$5) | G112: =IF(G12="","",$G$5) | H112: =IF(H12="","",$H$5) | I112: =IF(I12="","",$I$5) | J112: =IF(J12="","",$J$5) | K112: =IF(K12="","",$K$5) | L112: =IF(L12="","",$L$5) | M112: =IF(M12="","",$M$5) | N112: =IF(N12="","",$N$5) | O112: =IF(O12="","",$O$5) | P112: =IF(P12="","",$P$5) | Q112: =IF(Q12="","",$Q$5) | R112: =IF(R12="","",$R$5) | S112: =IF(S12="","",$S$5) | T112: =IF(T12="","",$T$5) | U112: =IF(U12="","",$U$5) | V112: =IF(V12="","",$V$5) | W112: =SUM(C112:V112) -> 40
C113: =IF(C13="","",$C$5) -> 40 | D113: =IF(D13="","",$D$5) | E113: =IF(E13="","",$E$5) | F113: =IF(F13="","",$F$5) | G113: =IF(G13="","",$G$5) | H113: =IF(H13="","",$H$5) | I113: =IF(I13="","",$I$5) | J113: =IF(J13="","",$J$5) | K113: =IF(K13="","",$K$5) | L113: =IF(L13="","",$L$5) | M113: =IF(M13="","",$M$5) | N113: =IF(N13="","",$N$5) | O113: =IF(O13="","",$O$5) | P113: =IF(P13="","",$P$5) | Q113: =IF(Q13="","",$Q$5) | R113: =IF(R13="","",$R$5) | S113: =IF(S13="","",$S$5) | T113: =IF(T13="","",$T$5) | U113: =IF(U13="","",$U$5) | V113: =IF(V13="","",$V$5) | W113: =SUM(C113:V113) -> 40
C114: =IF(C14="","",$C$5) -> 40 | D114: =IF(D14="","",$D$5) | E114: =IF(E14="","",$E$5) | F114: =IF(F14="","",$F$5) | G114: =IF(G14="","",$G$5) | H114: =IF(H14="","",$H$5) | I114: =IF(I14="","",$I$5) | J114: =IF(J14="","",$J$5) | K114: =IF(K14="","",$K$5) | L114: =IF(L14="","",$L$5) | M114: =IF(M14="","",$M$5) | N114: =IF(N14="","",$N$5) | O114: =IF(O14="","",$O$5) | P114: =IF(P14="","",$P$5) | Q114: =IF(Q14="","",$Q$5) | R114: =IF(R14="","",$R$5) | S114: =IF(S14="","",$S$5) | T114: =IF(T14="","",$T$5) | U114: =IF(U14="","",$U$5) | V114: =IF(V14="","",$V$5) | W114: =SUM(C114:V114) -> 40
C115: =IF(C15="","",$C$5) -> 40 | D115: =IF(D15="","",$D$5) | E115: =IF(E15="","",$E$5) | F115: =IF(F15="","",$F$5) | G115: =IF(G15="","",$G$5) | H115: =IF(H15="","",$H$5) | I115: =IF(I15="","",$I$5) | J115: =IF(J15="","",$J$5) | K115: =IF(K15="","",$K$5) | L115: =IF(L15="","",$L$5) | M115: =IF(M15="","",$M$5) | N115: =IF(N15="","",$N$5) | O115: =IF(O15="","",$O$5) | P115: =IF(P15="","",$P$5) | Q115: =IF(Q15="","",$Q$5) | R115: =IF(R15="","",$R$5) | S115: =IF(S15="","",$S$5) | T115: =IF(T15="","",$T$5) | U115: =IF(U15="","",$U$5) | V115: =IF(V15="","",$V$5) | W115: =SUM(C115:V115) -> 40
C116: =IF(C16="","",$C$5) -> 40 | D116: =IF(D16="","",$D$5) | E116: =IF(E16="","",$E$5) | F116: =IF(F16="","",$F$5) | G116: =IF(G16="","",$G$5) | H116: =IF(H16="","",$H$5) | I116: =IF(I16="","",$I$5) | J116: =IF(J16="","",$J$5) | K116: =IF(K16="","",$K$5) | L116: =IF(L16="","",$L$5) | M116: =IF(M16="","",$M$5) | N116: =IF(N16="","",$N$5) | O116: =IF(O16="","",$O$5) | P116: =IF(P16="","",$P$5) | Q116: =IF(Q16="","",$Q$5) | R116: =IF(R16="","",$R$5) | S116: =IF(S16="","",$S$5) | T116: =IF(T16="","",$T$5) | U116: =IF(U16="","",$U$5) | V116: =IF(V16="","",$V$5) | W116: =SUM(C116:V116) -> 40
C117: =IF(C17="","",$C$5) -> 40 | D117: =IF(D17="","",$D$5) | E117: =IF(E17="","",$E$5) | F117: =IF(F17="","",$F$5) | G117: =IF(G17="","",$G$5) | H117: =IF(H17="","",$H$5) | I117: =IF(I17="","",$I$5) | J117: =IF(J17="","",$J$5) | K117: =IF(K17="","",$K$5) | L117: =IF(L17="","",$L$5) | M117: =IF(M17="","",$M$5) | N117: =IF(N17="","",$N$5) | O117: =IF(O17="","",$O$5) | P117: =IF(P17="","",$P$5) | Q117: =IF(Q17="","",$Q$5) | R117: =IF(R17="","",$R$5) | S117: =IF(S17="","",$S$5) | T117: =IF(T17="","",$T$5) | U117: =IF(U17="","",$U$5) | V117: =IF(V17="","",$V$5) | W117: =SUM(C117:V117) -> 40
... C135: =IF(C35="","",$C$5) | D135: =IF(D35="","",$D$5) | E135: =IF(E35="","",$E$5) | F135: =IF(F35="","",$F$5) | G135: =IF(G35="","",$G$5) | H135: =IF(H35="","",$H$5) | I135: =IF(I35="","",$I$5) | J135: =IF(J35="","",$J$5) | K135: =IF(K35="","",$K$5) | L135: =IF(L35="","",$L$5) | M135: =IF(M35="","",$M$5) | N135: =IF(N35="","",$N$5) | O135: =IF(O35="","",$O$5) | P135: =IF(P35="","",$P$5) | Q135: =IF(Q35="","",$Q$5) | R135: =IF(R35="","",$R$5) | S135: =IF(S35="","",$S$5) | T135: =IF(T35="","",$T$5) | U135: =IF(U35="","",$U$5) | V135: =IF(V35="","",$V$5) | W135: =SUM(C135:V135) -> 0
C136: =COUNT(C6:C35) -> 20 | D136: =COUNT(D6:D35) -> 0 | E136: =COUNT(E6:E35) -> 0 | F136: =COUNT(F6:F35) -> 0 | G136: =COUNT(G6:G35) -> 0 | H136: =COUNT(H6:H35) -> 0 | I136: =COUNT(I6:I35) -> 0 | J136: =COUNT(J6:J35) -> 0 | ... V136: =COUNT(V6:V35) -> 0 | W136: =SUM(C137:V137) -> 800
C137: =C136*C5 -> 800 | D137: =D136*D5 -> 0 | E137: =E136*E5 -> 0 | F137: =F136*F5 -> 0 | G137: =G136*G5 -> 0 | H137: =H136*H5 -> 0 | I137: =I136*I5 -> 0 | J137: =J136*J5 -> 0 | ... V137: =V136*V5 -> 0

Sheet Histoire et geographie
A1: ='Encodage + Sav. parler'!A1 -> Bulletin | C1: ='Encodage + Sav. parler'!C1 -> Classe de 4ème année | J1: ='Encodage + Sav. parler'!J1 -> De Samblanx Nicolas | R1: ='Encodage + Sav. parler'!R1 -> Année 2023/2024
B3: NOMS | C3: Nora
C4: 1 | D4: 2 | E4: 3 | F4: 4 | G4: 5 | H4: 6 | I4: 7 | J4: 8 | K4: 9 | L4: 10 | M4: 11 | N4: 12 | O4: 13 | P4: 14 | Q4: 15 | R4: 16 | S4: 17 | T4: 18 | U4: 19 | V4: 20 | W4: PTS | X4: %
A5: TOTAL --> | C5: 20
A6: 1 | B6: ='Encodage + Sav. parler'!B6 -> MEUF Hfehfa | C6: 15 | W6: =IF(W106=0,"",SUM(C6:V6)) -> 15 | X6: =IF(W106=0,"",W6/W106*100) -> 75 | Y6: =A6 -> 1
A7: 2 | B7: ='Encodage + Sav. parler'!B7 -> QFCTDQ Cstji | C7: 0 | W7: =IF(W107=0,"",SUM(C7:V7)) -> 0 | X7: =IF(W107=0,"",W7/W107*100) -> 0 | Y7: =A7 -> 2
A8: 3 | B8: ='Encodage + Sav. parler'!B8 -> ZLPGW Mmvnufyn | C8: 11 | W8: =IF(W108=0,"",SUM(C8:V8)) -> 11 | X8: =IF(W108=0,"",W8/W108*100) -> 55 | Y8: =A8 -> 3
A9: 4 | B9: ='Encodage + Sav. parler'!B9 -> BYLGGRPWAFFM Fbeozwbe | C9: 12 | W9: =IF(W109=0,"",SUM(C9:V9)) -> 12 | X9: =IF(W109=0,"",W9/W109*100) -> 60 | Y9: =A9 -> 4
A10: 5 | B10: ='Encodage + Sav. parler'!B10 -> CZUWKE Dbzzvsz | C10: 16 | W10: =IF(W110=0,"",SUM(C10:V10)) -> 16 | X10: =IF(W110=0,"",W10/W110*100) -> 80 | Y10: =A10 -> 5
A11: 6 | B11: ='Encodage + Sav. parler'!B11 -> NGRPFYX Kzfmy | C11: 14.5 | W11: =IF(W111=0,"",SUM(C11:V11)) -> 14.5 | X11: =IF(W111=0,"",W11/W111*100) -> 72.5 | Y11: =A11 -> 6
A12: 7 | B12: ='Encodage + Sav. parler'!B12 -> JUF Omjvhjm | C12: 20 | W12: =IF(W112=0,"",SUM(C12:V12)) -> 20 | X12: =IF(W112=0,"",W12/W112*100) -> 100 | Y12: =A12 -> 7
A13: 8 | B13: ='Encodage + Sav. parler'!B13 -> FIWGYBFGJI Qchucznjx | C13: 6.5 | W13: =IF(W113=0,"",SUM(C13:V13)) -> 6.5 | X13: =IF(W113=0,"",W13/W113*100) -> 32.5 | Y13: =A13 -> 8
A14: 9 | B14: ='Encodage + Sav. parler'!B14 -> K&#600;MYPDD JAQDIGQ Kyznuzp | C14: 16.5 | W14: =IF(W114=0,"",SUM(C14:V14)) -> 16.5 | X14: =IF(W114=0,"",W14/W114*100) -> 82.5 | Y14: =A14 -> 9
A15: 10 | B15: ='Encodage + Sav. parler'!B15 -> JRQJGR Njrlyiue | C15: 13 | W15: =IF(W115=0,"",SUM(C15:V15)) -> 13 | X15: =IF(W115=0,"",W15/W115*100) -> 65 | Y15: =A15 -> 10
A16: 11 | B16: ='Encodage + Sav. parler'!B16 -> FJJYWAFA Svohnr | C16: 8 | W16: =IF(W116=0,"",SUM(C16:V16)) -> 8 | X16: =IF(W116=0,"",W16/W116*100) -> 40 | Y16: =A16 -> 11
A17: 12 | B17: ='Encodage + Sav. parler'!B17 -> PJILCBS Cujjz | C17: 8 | W17: =IF(W117=0,"",SUM(C17:V17)) -> 8 | X17: =IF(W117=0,"",W17/W117*100) -> 40 | Y17: =A17 -> 12
A18: 13 | B18: ='Encodage + Sav. parler'!B18 -> XUQUOVP Hanicij | W18: =IF(W118=0,"",SUM(C18:V18)) | X18: =IF(W118=0,"",W18/W118*100) | Y18: =A18 -> 13
A19: 14 | B19: ='Encodage + Sav. parler'!B19 -> VXZKW Pcljhw | C19: 4 | W19: =IF(W119=0,"",SUM(C19:V19)) -> 4 | X19: =IF(W119=0,"",W19/W119*100) -> 20 | Y19: =A19 -> 14
A20: 15 | B20: ='Encodage + Sav. parler'!B20 -> ANKBQZDX Mswnjbak | C20: 13 | W20: =IF(W120=0,"",SUM(C20:V20)) -> 13 | X20: =IF(W120=0,"",W20/W120*100) -> 65 | Y20: =A20 -> 15
A21: 16 | B21: ='Encodage + Sav. parler'!B21 -> DYTVXSTMX Qoyfpx | C21: 19 | W21: =IF(W121=0,"",SUM(C21:V21)) -> 19 | X21: =IF(W121=0,"",W21/W121*100) -> 95 | Y21: =A21 -> 16
A22: 17 | B22: ='Encodage + Sav. parler'!B22 -> MKJLB Hkfrxy | C22: 10 | W22: =IF(W122=0,"",SUM(C22:V22)) -> 10 | X22: =IF(W122=0,"",W22/W122*100) -> 50 | Y22: =A22 -> 17
A23: 18 | B23: ='Encodage + Sav. parler'!B23 -> VBEOU Lhlrygn-Roggj | C23: 15 | W23: =IF(W123=0,"",SUM(C23:V23)) -> 15 | X23: =IF(W123=0,"",W23/W123*100) -> 75 | Y23: =A23 -> 18
A24: 19 | B24: ='Encodage + Sav. parler'!B24 -> OLGZDCNSX Ckgeph | C24: 12.5 | W24: =IF(W124=0,"",SUM(C24:V24)) -> 12.5 | X24: =IF(W124=0,"",W24/W124*100) -> 62.5 | Y24: =A24 -> 19
A25: 20 | B25: ='Encodage + Sav. parler'!B25 -> TXHBZXHX Ovgalpu | C25: 15.5 | W25: =IF(W125=0,"",SUM(C25:V25)) -> 15.5 | X25: =IF(W125=0,"",W25/W125*100) -> 77.5 | Y25: =A25 -> 20
A26: 21 | B26: ='Encodage + Sav. parler'!B26 -> POHRCJF WH LGUZBRRY Sdzoi | C26: 16.5 | W26: =IF(W126=0,"",SUM(C26:V26)) -> 16.5 | X26: =IF(W126=0,"",W26/W126*100) -> 82.5 | Y26: =A26 -> 21
A27: 22 | B27: ='Encodage + Sav. parler'!B27 -> 0 | W27: =IF(W127=0,"",SUM(C27:V27)) | X27: =IF(W127=0,"",W27/W127*100) | Y27: =A27 -> 22
A28: 23 | B28: ='Encodage + Sav. parler'!B28 -> 0 | W28: =IF(W128=0,"",SUM(C28:V28)) | X28: =IF(W128=0,"",W28/W128*100) | Y28: =A28 -> 23
A29: 24 | B29: ='Encodage + Sav. parler'!B29 -> 0 | W29: =IF(W129=0,"",SUM(C29:V29)) | X29: =IF(W129=0,"",W29/W129*100) | Y29: =A29 -> 24
A30: 25 | B30: ='Encodage + Sav. parler'!B30 -> 0 | W30: =IF(W130=0,"",SUM(C30:V30)) | X30: =IF(W130=0,"",W30/W130*100) | Y30: =A30 -> 25
A31: 26 | B31: ='Encodage + Sav. parler'!B31 -> 0 | W31: =IF(W131=0,"",SUM(C31:V31)) | X31: =IF(W131=0,"",W31/W131*100) | Y31: =A31 -> 26
A32: 27 | B32: ='Encodage + Sav. parler'!B32 -> 0 | W32: =IF(W132=0,"",SUM(C32:V32)) | X32: =IF(W132=0,"",W32/W132*100) | Y32: =A32 -> 27
A33: 28 | B33: ='Encodage + Sav. parler'!B33 -> 0 | W33: =IF(W133=0,"",SUM(C33:V33)) | X33: =IF(W133=0,"",W33/W133*100) | Y33: =A33 -> 28
A34: 29 | B34: ='Encodage + Sav. parler'!B34 -> 0 | W34: =IF(W134=0,"",SUM(C34:V34)) | X34: =IF(W134=0,"",W34/W134*100) | Y34: =A34 -> 29
A35: 30 | B35: ='Encodage + Sav. parler'!B35 -> 0 | W35: =IF(W135=0,"",SUM(C35:V35)) | X35: =IF(W135=0,"",W35/W135*100) | Y35: =A35 -> 30
A36: TOTAL | C36: =IF(C136=0,"",SUM(C6:C35)) -> 246 | D36: =IF(D136=0,"",SUM(D6:D35)) | E36: =IF(E136=0,"",SUM(E6:E35)) | F36: =IF(F136=0,"",SUM(F6:F35)) | G36: =IF(G136=0,"",SUM(G6:G35)) | H36: =IF(H136=0,"",SUM(H6:H35)) | I36: =IF(I136=0,"",SUM(I6:I35)) | J36: =IF(J136=0,"",SUM(J6:J35)) | ... V36: =IF(V136=0,"",SUM(V6:V35)) | W36: =IF(W136=0,"",SUM(C36:V36)) -> 246 | X36: =IF(W136=0,"",W36/W136*100) -> 61.5 | Y36: =A36 -> TOTAL
A37: MOY. CLAS | C37: =IF(C36="","",C36/C137*100) -> 61.5 | D37: =IF(D36="","",D36/D137*100) | E37: =IF(E36="","",E36/E137*100) | F37: =IF(F36="","",F36/F137*100) | G37: =IF(G36="","",G36/G137*100) | H37: =IF(H36="","",H36/H137*100) | I37: =IF(I36="","",I36/I137*100) | J37: =IF(J36="","",J36/J137*100) | ... V37: =IF(V36="","",V36/V137*100) | Y37: =A37 -> MOY. CLAS
C105: =C5 -> 20 | D105: =D5 -> 0 | E105: =E5 -> 0 | F105: =F5 -> 0 | G105: =G5 -> 0 | H105: =H5 -> 0 | I105: =I5 -> 0 | J105: =J5 -> 0 | ... W105: =W5 -> 0
C106: =IF(C6="","",$C$5) -> 20 | D106: =IF(D6="","",$D$5) | E106: =IF(E6="","",$E$5) | F106: =IF(F6="","",$F$5) | G106: =IF(G6="","",$G$5) | H106: =IF(H6="","",$H$5) | I106: =IF(I6="","",$I$5) | J106: =IF(J6="","",$J$5) | K106: =IF(K6="","",$K$5) | L106: =IF(L6="","",$L$5) | M106: =IF(M6="","",$M$5) | N106: =IF(N6="","",$N$5) | O106: =IF(O6="","",$O$5) | P106: =IF(P6="","",$P$5) | Q106: =IF(Q6="","",$Q$5) | R106: =IF(R6="","",$R$5) | S106: =IF(S6="","",$S$5) | T106: =IF(T6="","",$T$5) | U106: =IF(U6="","",$U$5) | V106: =IF(V6="","",$V$5) | W106: =SUM(C106:V106) -> 20
C107: =IF(C7="","",$C$5) -> 20 | D107: =IF(D7="","",$D$5) | E107: =IF(E7="","",$E$5) | F107: =IF(F7="","",$F$5) | G107: =IF(G7="","",$G$5) | H107: =IF(H7="","",$H$5) | I107: =IF(I7="","",$I$5) | J107: =IF(J7="","",$J$5) | K107: =IF(K7="","",$K$5) | L107: =IF(L7="","",$L$5) | M107: =IF(M7="","",$M$5) | N107: =IF(N7="","",$N$5) | O107: =IF(O7="","",$O$5) | P107: =IF(P7="","",$P$5) | Q107: =IF(Q7="","",$Q$5) | R107: =IF(R7="","",$R$5) | S107: =IF(S7="","",$S$5) | T107: =IF(T7="","",$T$5) | U107: =IF(U7="","",$U$5) | V107: =IF(V7="","",$V$5) | W107: =SUM(C107:V107) -> 20
C108: =IF(C8="","",$C$5) -> 20 | D108: =IF(D8="","",$D$5) | E108: =IF(E8="","",$E$5) | F108: =IF(F8="","",$F$5) | G108: =IF(G8="","",$G$5) | H108: =IF(H8="","",$H$5) | I108: =IF(I8="","",$I$5) | J108: =IF(J8="","",$J$5) | K108: =IF(K8="","",$K$5) | L108: =IF(L8="","",$L$5) | M108: =IF(M8="","",$M$5) | N108: =IF(N8="","",$N$5) | O108: =IF(O8="","",$O$5) | P108: =IF(P8="","",$P$5) | Q108: =IF(Q8="","",$Q$5) | R108: =IF(R8="","",$R$5) | S108: =IF(S8="","",$S$5) | T108: =IF(T8="","",$T$5) | U108: =IF(U8="","",$U$5) | V108: =IF(V8="","",$V$5) | W108: =SUM(C108:V108) -> 20
C109: =IF(C9="","",$C$5) -> 20 | D109: =IF(D9="","",$D$5) | E109: =IF(E9="","",$E$5) | F109: =IF(F9="","",$F$5) | G109: =IF(G9="","",$G$5) | H109: =IF(H9="","",$H$5) | I109: =IF(I9="","",$I$5) | J109: =IF(J9="","",$J$5) | K109: =IF(K9="","",$K$5) | L109: =IF(L9="","",$L$5) | M109: =IF(M9="","",$M$5) | N109: =IF(N9="","",$N$5) | O109: =IF(O9="","",$O$5) | P109: =IF(P9="","",$P$5) | Q109: =IF(Q9="","",$Q$5) | R109: =IF(R9="","",$R$5) | S109: =IF(S9="","",$S$5) | T109: =IF(T9="","",$T$5) | U109: =IF(U9="","",$U$5) | V109: =IF(V9="","",$V$5) | W109: =SUM(C109:V109) -> 20
C110: =IF(C10="","",$C$5) -> 20 | D110: =IF(D10="","",$D$5) | E110: =IF(E10="","",$E$5) | F110: =IF(F10="","",$F$5) | G110: =IF(G10="","",$G$5) | H110: =IF(H10="","",$H$5) | I110: =IF(I10="","",$I$5) | J110: =IF(J10="","",$J$5) | K110: =IF(K10="","",$K$5) | L110: =IF(L10="","",$L$5) | M110: =IF(M10="","",$M$5) | N110: =IF(N10="","",$N$5) | O110: =IF(O10="","",$O$5) | P110: =IF(P10="","",$P$5) | Q110: =IF(Q10="","",$Q$5) | R110: =IF(R10="","",$R$5) | S110: =IF(S10="","",$S$5) | T110: =IF(T10="","",$T$5) | U110: =IF(U10="","",$U$5) | V110: =IF(V10="","",$V$5) | W110: =SUM(C110:V110) -> 20
C111: =IF(C11="","",$C$5) -> 20 | D111: =IF(D11="","",$D$5) | E111: =IF(E11="","",$E$5) | F111: =IF(F11="","",$F$5) | G111: =IF(G11="","",$G$5) | H111: =IF(H11="","",$H$5) | I111: =IF(I11="","",$I$5) | J111: =IF(J11="","",$J$5) | K111: =IF(K11="","",$K$5) | L111: =IF(L11="","",$L$5) | M111: =IF(M11="","",$M$5) | N111: =IF(N11="","",$N$5) | O111: =IF(O11="","",$O$5) | P111: =IF(P11="","",$P$5) | Q111: =IF(Q11="","",$Q$5) | R111: =IF(R11="","",$R$5) | S111: =IF(S11="","",$S$5) | T111: =IF(T11="","",$T$5) | U111: =IF(U11="","",$U$5) | V111: =IF(V11="","",$V$5) | W111: =SUM(C111:V111) -> 20
C112: =IF(C12="","",$C$5) -> 20 | D112: =IF(D12="","",$D$5) | E112: =IF(E12="","",$E$5) | F112: =IF(F12="","",$F$5) | G112: =IF(G12="","",$G$5) | H112: =IF(H12="","",$H$5) | I112: =IF(I12="","",$I$5) | J112: =IF(J12="","",$J$5) | K112: =IF(K12="","",$K$5) | L112: =IF(L12="","",$L$5) | M112: =IF(M12="","",$M$5) | N112: =IF(N12="","",$N$5) | O112: =IF(O12="","",$O$5) | P112: =IF(P12="","",$P$5) | Q112: =IF(Q12="","",$Q$5) | R112: =IF(R12="","",$R$5) | S112: =IF(S12="","",$S$5) | T112: =IF(T12="","",$T$5) | U112: =IF(U12="","",$U$5) | V112: =IF(V12="","",$V$5) | W112: =SUM(C112:V112) -> 20
C113: =IF(C13="","",$C$5) -> 20 | D113: =IF(D13="","",$D$5) | E113: =IF(E13="","",$E$5) | F113: =IF(F13="","",$F$5) | G113: =IF(G13="","",$G$5) | H113: =IF(H13="","",$H$5) | I113: =IF(I13="","",$I$5) | J113: =IF(J13="","",$J$5) | K113: =IF(K13="","",$K$5) | L113: =IF(L13="","",$L$5) | M113: =IF(M13="","",$M$5) | N113: =IF(N13="","",$N$5) | O113: =IF(O13="","",$O$5) | P113: =IF(P13="","",$P$5) | Q113: =IF(Q13="","",$Q$5) | R113: =IF(R13="","",$R$5) | S113: =IF(S13="","",$S$5) | T113: =IF(T13="","",$T$5) | U113: =IF(U13="","",$U$5) | V113: =IF(V13="","",$V$5) | W113: =SUM(C113:V113) -> 20
C114: =IF(C14="","",$C$5) -> 20 | D114: =IF(D14="","",$D$5) | E114: =IF(E14="","",$E$5) | F114: =IF(F14="","",$F$5) | G114: =IF(G14="","",$G$5) | H114: =IF(H14="","",$H$5) | I114: =IF(I14="","",$I$5) | J114: =IF(J14="","",$J$5) | K114: =IF(K14="","",$K$5) | L114: =IF(L14="","",$L$5) | M114: =IF(M14="","",$M$5) | N114: =IF(N14="","",$N$5) | O114: =IF(O14="","",$O$5) | P114: =IF(P14="","",$P$5) | Q114: =IF(Q14="","",$Q$5) | R114: =IF(R14="","",$R$5) | S114: =IF(S14="","",$S$5) | T114: =IF(T14="","",$T$5) | U114: =IF(U14="","",$U$5) | V114: =IF(V14="","",$V$5) | W114: =SUM(C114:V114) -> 20
C115: =IF(C15="","",$C$5) -> 20 | D115: =IF(D15="","",$D$5) | E115: =IF(E15="","",$E$5) | F115: =IF(F15="","",$F$5) | G115: =IF(G15="","",$G$5) | H115: =IF(H15="","",$H$5) | I115: =IF(I15="","",$I$5) | J115: =IF(J15="","",$J$5) | K115: =IF(K15="","",$K$5) | L115: =IF(L15="","",$L$5) | M115: =IF(M15="","",$M$5) | N115: =IF(N15="","",$N$5) | O115: =IF(O15="","",$O$5) | P115: =IF(P15="","",$P$5) | Q115: =IF(Q15="","",$Q$5) | R115: =IF(R15="","",$R$5) | S115: =IF(S15="","",$S$5) | T115: =IF(T15="","",$T$5) | U115: =IF(U15="","",$U$5) | V115: =IF(V15="","",$V$5) | W115: =SUM(C115:V115) -> 20
C116: =IF(C16="","",$C$5) -> 20 | D116: =IF(D16="","",$D$5) | E116: =IF(E16="","",$E$5) | F116: =IF(F16="","",$F$5) | G116: =IF(G16="","",$G$5) | H116: =IF(H16="","",$H$5) | I116: =IF(I16="","",$I$5) | J116: =IF(J16="","",$J$5) | K116: =IF(K16="","",$K$5) | L116: =IF(L16="","",$L$5) | M116: =IF(M16="","",$M$5) | N116: =IF(N16="","",$N$5) | O116: =IF(O16="","",$O$5) | P116: =IF(P16="","",$P$5) | Q116: =IF(Q16="","",$Q$5) | R116: =IF(R16="","",$R$5) | S116: =IF(S16="","",$S$5) | T116: =IF(T16="","",$T$5) | U116: =IF(U16="","",$U$5) | V116: =IF(V16="","",$V$5) | W116: =SUM(C116:V116) -> 20
C117: =IF(C17="","",$C$5) -> 20 | D117: =IF(D17="","",$D$5) | E117: =IF(E17="","",$E$5) | F117: =IF(F17="","",$F$5) | G117: =IF(G17="","",$G$5) | H117: =IF(H17="","",$H$5) | I117: =IF(I17="","",$I$5) | J117: =IF(J17="","",$J$5) | K117: =IF(K17="","",$K$5) | L117: =IF(L17="","",$L$5) | M117: =IF(M17="","",$M$5) | N117: =IF(N17="","",$N$5) | O117: =IF(O17="","",$O$5) | P117: =IF(P17="","",$P$5) | Q117: =IF(Q17="","",$Q$5) | R117: =IF(R17="","",$R$5) | S117: =IF(S17="","",$S$5) | T117: =IF(T17="","",$T$5) | U117: =IF(U17="","",$U$5) | V117: =IF(V17="","",$V$5) | W117: =SUM(C117:V117) -> 20
... C135: =IF(C35="","",$C$5) | D135: =IF(D35="","",$D$5) | E135: =IF(E35="","",$E$5) | F135: =IF(F35="","",$F$5) | G135: =IF(G35="","",$G$5) | H135: =IF(H35="","",$H$5) | I135: =IF(I35="","",$I$5) | J135: =IF(J35="","",$J$5) | K135: =IF(K35="","",$K$5) | L135: =IF(L35="","",$L$5) | M135: =IF(M35="","",$M$5) | N135: =IF(N35="","",$N$5) | O135: =IF(O35="","",$O$5) | P135: =IF(P35="","",$P$5) | Q135: =IF(Q35="","",$Q$5) | R135: =IF(R35="","",$R$5) | S135: =IF(S35="","",$S$5) | T135: =IF(T35="","",$T$5) | U135: =IF(U35="","",$U$5) | V135: =IF(V35="","",$V$5) | W135: =SUM(C135:V135) -> 0
C136: =COUNT(C6:C35) -> 20 | D136: =COUNT(D6:D35) -> 0 | E136: =COUNT(E6:E35) -> 0 | F136: =COUNT(F6:F35) -> 0 | G136: =COUNT(G6:G35) -> 0 | H136: =COUNT(H6:H35) -> 0 | I136: =COUNT(I6:I35) -> 0 | J136: =COUNT(J6:J35) -> 0 | ... V136: =COUNT(V6:V35) -> 0 | W136: =SUM(C137:V137) -> 400
C137: =C136*C5 -> 400 | D137: =D136*D5 -> 0 | E137: =E136*E5 -> 0 | F137: =F136*F5 -> 0 | G137: =G136*G5 -> 0 | H137: =H136*H5 -> 0 | I137: =I136*I5 -> 0 | J137: =J136*J5 -> 0 | ... V137: =V136*V5 -> 0

Sheet Artisitique
A1: ='Encodage + Sav. parler'!A1 -> Bulletin | C1: ='Encodage + Sav. parler'!C1 -> Classe de 4ème année | J1: ='Encodage + Sav. parler'!J1 -> De Samblanx Nicolas | R1: ='Encodage + Sav. parler'!R1 -> Année 2023/2024
B3: NOMS | C3: TJ | D3: Soin
C4: 1 | D4: 2 | E4: 3 | F4: 4 | G4: 5 | H4: 6 | I4: 7 | J4: 8 | K4: 9 | L4: 10 | M4: 11 | N4: 12 | O4: 13 | P4: 14 | Q4: 15 | R4: 16 | S4: 17 | T4: 18 | U4: 19 | V4: 20 | W4: PTS | X4: %
A5: TOTAL --> | C5: 20 | D5: 20
A6: 1 | B6: ='Encodage + Sav. parler'!B6 -> MEUF Hfehfa | D6: 16 | W6: =IF(W106=0,"",SUM(C6:V6)) -> 16 | X6: =IF(W106=0,"",W6/W106*100) -> 80 | Y6: =A6 -> 1
A7: 2 | B7: ='Encodage + Sav. parler'!B7 -> QFCTDQ Cstji | D7: 10 | W7: =IF(W107=0,"",SUM(C7:V7)) -> 10 | X7: =IF(W107=0,"",W7/W107*100) -> 50 | Y7: =A7 -> 2
A8: 3 | B8: ='Encodage + Sav. parler'!B8 -> ZLPGW Mmvnufyn | D8: 13 | W8: =IF(W108=0,"",SUM(C8:V8)) -> 13 | X8: =IF(W108=0,"",W8/W108*100) -> 65 | Y8: =A8 -> 3
A9: 4 | B9: ='Encodage + Sav. parler'!B9 -> BYLGGRPWAFFM Fbeozwbe | D9: 16 | W9: =IF(W109=0,"",SUM(C9:V9)) -> 16 | X9: =IF(W109=0,"",W9/W109*100) -> 80 | Y9: =A9 -> 4
A10: 5 | B10: ='Encodage + Sav. parler'!B10 -> CZUWKE Dbzzvsz | D10: 16 | W10: =IF(W110=0,"",SUM(C10:V10)) -> 16 | X10: =IF(W110=0,"",W10/W110*100) -> 80 | Y10: =A10 -> 5
A11: 6 | B11: ='Encodage + Sav. parler'!B11 -> NGRPFYX Kzfmy | D11: 10 | W11: =IF(W111=0,"",SUM(C11:V11)) -> 10 | X11: =IF(W111=0,"",W11/W111*100) -> 50 | Y11: =A11 -> 6
A12: 7 | B12: ='Encodage + Sav. parler'!B12 -> JUF Omjvhjm | D12: 15 | W12: =IF(W112=0,"",SUM(C12:V12)) -> 15 | X12: =IF(W112=0,"",W12/W112*100) -> 75 | Y12: =A12 -> 7
A13: 8 | B13: ='Encodage + Sav. parler'!B13 -> FIWGYBFGJI Qchucznjx | D13: 12.5 | W13: =IF(W113=0,"",SUM(C13:V13)) -> 12.5 | X13: =IF(W113=0,"",W13/W113*100) -> 62.5 | Y13: =A13 -> 8
A14: 9 | B14: ='Encodage + Sav. parler'!B14 -> K&#600;MYPDD JAQDIGQ Kyznuzp | D14: 10 | W14: =IF(W114=0,"",SUM(C14:V14)) -> 10 | X14: =IF(W114=0,"",W14/W114*100) -> 50 | Y14: =A14 -> 9
A15: 10 | B15: ='Encodage + Sav. parler'!B15 -> JRQJGR Njrlyiue | D15: 10 | W15: =IF(W115=0,"",SUM(C15:V15)) -> 10 | X15: =IF(W115=0,"",W15/W115*100) -> 50 | Y15: =A15 -> 10
A16: 11 | B16: ='Encodage + Sav. parler'!B16 -> FJJYWAFA Svohnr | D16: 20 | W16: =IF(W116=0,"",SUM(C16:V16)) -> 20 | X16: =IF(W116=0,"",W16/W116*100) -> 100 | Y16: =A16 -> 11
A17: 12 | B17: ='Encodage + Sav. parler'!B17 -> PJILCBS Cujjz | D17: 12 | W17: =IF(W117=0,"",SUM(C17:V17)) -> 12 | X17: =IF(W117=0,"",W17/W117*100) -> 60 | Y17: =A17 -> 12
A18: 13 | B18: ='Encodage + Sav. parler'!B18 -> XUQUOVP Hanicij | W18: =IF(W118=0,"",SUM(C18:V18)) | X18: =IF(W118=0,"",W18/W118*100) | Y18: =A18 -> 13
A19: 14 | B19: ='Encodage + Sav. parler'!B19 -> VXZKW Pcljhw | D19: 10 | W19: =IF(W119=0,"",SUM(C19:V19)) -> 10 | X19: =IF(W119=0,"",W19/W119*100) -> 50 | Y19: =A19 -> 14
A20: 15 | B20: ='Encodage + Sav. parler'!B20 -> ANKBQZDX Mswnjbak | D20: 15 | W20: =IF(W120=0,"",SUM(C20:V20)) -> 15 | X20: =IF(W120=0,"",W20/W120*100) -> 75 | Y20: =A20 -> 15
A21: 16 | B21: ='Encodage + Sav. parler'!B21 -> DYTVXSTMX Qoyfpx | D21: 18 | W21: =IF(W121=0,"",SUM(C21:V21)) -> 18 | X21: =IF(W121=0,"",W21/W121*100) -> 90 | Y21: =A21 -> 16
A22: 17 | B22: ='Encodage + Sav. parler'!B22 -> MKJLB Hkfrxy | D22: 10 | W22: =IF(W122=0,"",SUM(C22:V22)) -> 10 | X22: =IF(W122=0,"",W22/W122*100) -> 50 | Y22: =A22 -> 17
A23: 18 | B23: ='Encodage + Sav. parler'!B23 -> VBEOU Lhlrygn-Roggj | D23: 18 | W23: =IF(W123=0,"",SUM(C23:V23)) -> 18 | X23: =IF(W123=0,"",W23/W123*100) -> 90 | Y23: =A23 -> 18
A24: 19 | B24: ='Encodage + Sav. parler'!B24 -> OLGZDCNSX Ckgeph | D24: 12 | W24: =IF(W124=0,"",SUM(C24:V24)) -> 12 | X24: =IF(W124=0,"",W24/W124*100) -> 60 | Y24: =A24 -> 19
A25: 20 | B25: ='Encodage + Sav. parler'!B25 -> TXHBZXHX Ovgalpu | D25: 18 | W25: =IF(W125=0,"",SUM(C25:V25)) -> 18 | X25: =IF(W125=0,"",W25/W125*100) -> 90 | Y25: =A25 -> 20
A26: 21 | B26: ='Encodage + Sav. parler'!B26 -> POHRCJF WH LGUZBRRY Sdzoi | D26: 15 | W26: =IF(W126=0,"",SUM(C26:V26)) -> 15 | X26: =IF(W126=0,"",W26/W126*100) -> 75 | Y26: =A26 -> 21
A27: 22 | B27: ='Encodage + Sav. parler'!B27 -> 0 | W27: =IF(W127=0,"",SUM(C27:V27)) | X27: =IF(W127=0,"",W27/W127*100) | Y27: =A27 -> 22
A28: 23 | B28: ='Encodage + Sav. parler'!B28 -> 0 | W28: =IF(W128=0,"",SUM(C28:V28)) | X28: =IF(W128=0,"",W28/W128*100) | Y28: =A28 -> 23
A29: 24 | B29: ='Encodage + Sav. parler'!B29 -> 0 | W29: =IF(W129=0,"",SUM(C29:V29)) | X29: =IF(W129=0,"",W29/W129*100) | Y29: =A29 -> 24
A30: 25 | B30: ='Encodage + Sav. parler'!B30 -> 0 | W30: =IF(W130=0,"",SUM(C30:V30)) | X30: =IF(W130=0,"",W30/W130*100) | Y30: =A30 -> 25
A31: 26 | B31: ='Encodage + Sav. parler'!B31 -> 0 | W31: =IF(W131=0,"",SUM(C31:V31)) | X31: =IF(W131=0,"",W31/W131*100) | Y31: =A31 -> 26
A32: 27 | B32: ='Encodage + Sav. parler'!B32 -> 0 | W32: =IF(W132=0,"",SUM(C32:V32)) | X32: =IF(W132=0,"",W32/W132*100) | Y32: =A32 -> 27
A33: 28 | B33: ='Encodage + Sav. parler'!B33 -> 0 | W33: =IF(W133=0,"",SUM(C33:V33)) | X33: =IF(W133=0,"",W33/W133*100) | Y33: =A33 -> 28
A34: 29 | B34: ='Encodage + Sav. parler'!B34 -> 0 | W34: =IF(W134=0,"",SUM(C34:V34)) | X34: =IF(W134=0,"",W34/W134*100) | Y34: =A34 -> 29
A35: 30 | B35: ='Encodage + Sav. parler'!B35 -> 0 | W35: =IF(W135=0,"",SUM(C35:V35)) | X35: =IF(W135=0,"",W35/W135*100) | Y35: =A35 -> 30
A36: TOTAL | C36: =IF(C136=0,"",SUM(C6:C35)) | D36: =IF(D136=0,"",SUM(D6:D35)) -> 276.5 | E36: =IF(E136=0,"",SUM(E6:E35)) | F36: =IF(F136=0,"",SUM(F6:F35)) | G36: =IF(G136=0,"",SUM(G6:G35)) | H36: =IF(H136=0,"",SUM(H6:H35)) | I36: =IF(I136=0,"",SUM(I6:I35)) | J36: =IF(J136=0,"",SUM(J6:J35)) | ... V36: =IF(V136=0,"",SUM(V6:V35)) | W36: =IF(W136=0,"",SUM(C36:V36)) -> 276.5 | X36: =IF(W136=0,"",W36/W136*100) -> 69.125 | Y36: =A36 -> TOTAL
A37: MOY. CLAS | C37: =IF(C36="","",C36/C137*100) | D37: =IF(D36="","",D36/D137*100) -> 69.125 | E37: =IF(E36="","",E36/E137*100) | F37: =IF(F36="","",F36/F137*100) | G37: =IF(G36="","",G36/G137*100) | H37: =IF(H36="","",H36/H137*100) | I37: =IF(I36="","",I36/I137*100) | J37: =IF(J36="","",J36/J137*100) | ... V37: =IF(V36="","",V36/V137*100) | Y37: =A37 -> MOY. CLAS
C105: =C5 -> 20 | D105: =D5 -> 20 | E105: =E5 -> 0 | F105: =F5 -> 0 | G105: =G5 -> 0 | H105: =H5 -> 0 | I105: =I5 -> 0 | J105: =J5 -> 0 | ... W105: =W5 -> 0
C106: =IF(C6="","",$C$5) | D106: =IF(D6="","",$D$5) -> 20 | E106: =IF(E6="","",$E$5) | F106: =IF(F6="","",$F$5) | G106: =IF(G6="","",$G$5) | H106: =IF(H6="","",$H$5) | I106: =IF(I6="","",$I$5) | J106: =IF(J6="","",$J$5) | K106: =IF(K6="","",$K$5) | L106: =IF(L6="","",$L$5) | M106: =IF(M6="","",$M$5) | N106: =IF(N6="","",$N$5) | O106: =IF(O6="","",$O$5) | P106: =IF(P6="","",$P$5) | Q106: =IF(Q6="","",$Q$5) | R106: =IF(R6="","",$R$5) | S106: =IF(S6="","",$S$5) | T106: =IF(T6="","",$T$5) | U106: =IF(U6="","",$U$5) | V106: =IF(V6="","",$V$5) | W106: =SUM(C106:V106) -> 20
C107: =IF(C7="","",$C$5) | D107: =IF(D7="","",$D$5) -> 20 | E107: =IF(E7="","",$E$5) | F107: =IF(F7="","",$F$5) | G107: =IF(G7="","",$G$5) | H107: =IF(H7="","",$H$5) | I107: =IF(I7="","",$I$5) | J107: =IF(J7="","",$J$5) | K107: =IF(K7="","",$K$5) | L107: =IF(L7="","",$L$5) | M107: =IF(M7="","",$M$5) | N107: =IF(N7="","",$N$5) | O107: =IF(O7="","",$O$5) | P107: =IF(P7="","",$P$5) | Q107: =IF(Q7="","",$Q$5) | R107: =IF(R7="","",$R$5) | S107: =IF(S7="","",$S$5) | T107: =IF(T7="","",$T$5) | U107: =IF(U7="","",$U$5) | V107: =IF(V7="","",$V$5) | W107: =SUM(C107:V107) -> 20
C108: =IF(C8="","",$C$5) | D108: =IF(D8="","",$D$5) -> 20 | E108: =IF(E8="","",$E$5) | F108: =IF(F8="","",$F$5) | G108: =IF(G8="","",$G$5) | H108: =IF(H8="","",$H$5) | I108: =IF(I8="","",$I$5) | J108: =IF(J8="","",$J$5) | K108: =IF(K8="","",$K$5) | L108: =IF(L8="","",$L$5) | M108: =IF(M8="","",$M$5) | N108: =IF(N8="","",$N$5) | O108: =IF(O8="","",$O$5) | P108: =IF(P8="","",$P$5) | Q108: =IF(Q8="","",$Q$5) | R108: =IF(R8="","",$R$5) | S108: =IF(S8="","",$S$5) | T108: =IF(T8="","",$T$5) | U108: =IF(U8="","",$U$5) | V108: =IF(V8="","",$V$5) | W108: =SUM(C108:V108) -> 20
C109: =IF(C9="","",$C$5) | D109: =IF(D9="","",$D$5) -> 20 | E109: =IF(E9="","",$E$5) | F109: =IF(F9="","",$F$5) | G109: =IF(G9="","",$G$5) | H109: =IF(H9="","",$H$5) | I109: =IF(I9="","",$I$5) | J109: =IF(J9="","",$J$5) | K109: =IF(K9="","",$K$5) | L109: =IF(L9="","",$L$5) | M109: =IF(M9="","",$M$5) | N109: =IF(N9="","",$N$5) | O109: =IF(O9="","",$O$5) | P109: =IF(P9="","",$P$5) | Q109: =IF(Q9="","",$Q$5) | R109: =IF(R9="","",$R$5) | S109: =IF(S9="","",$S$5) | T109: =IF(T9="","",$T$5) | U109: =IF(U9="","",$U$5) | V109: =IF(V9="","",$V$5) | W109: =SUM(C109:V109) -> 20
C110: =IF(C10="","",$C$5) | D110: =IF(D10="","",$D$5) -> 20 | E110: =IF(E10="","",$E$5) | F110: =IF(F10="","",$F$5) | G110: =IF(G10="","",$G$5) | H110: =IF(H10="","",$H$5) | I110: =IF(I10="","",$I$5) | J110: =IF(J10="","",$J$5) | K110: =IF(K10="","",$K$5) | L110: =IF(L10="","",$L$5) | M110: =IF(M10="","",$M$5) | N110: =IF(N10="","",$N$5) | O110: =IF(O10="","",$O$5) | P110: =IF(P10="","",$P$5) | Q110: =IF(Q10="","",$Q$5) | R110: =IF(R10="","",$R$5) | S110: =IF(S10="","",$S$5) | T110: =IF(T10="","",$T$5) | U110: =IF(U10="","",$U$5) | V110: =IF(V10="","",$V$5) | W110: =SUM(C110:V110) -> 20
C111: =IF(C11="","",$C$5) | D111: =IF(D11="","",$D$5) -> 20 | E111: =IF(E11="","",$E$5) | F111: =IF(F11="","",$F$5) | G111: =IF(G11="","",$G$5) | H111: =IF(H11="","",$H$5) | I111: =IF(I11="","",$I$5) | J111: =IF(J11="","",$J$5) | K111: =IF(K11="","",$K$5) | L111: =IF(L11="","",$L$5) | M111: =IF(M11="","",$M$5) | N111: =IF(N11="","",$N$5) | O111: =IF(O11="","",$O$5) | P111: =IF(P11="","",$P$5) | Q111: =IF(Q11="","",$Q$5) | R111: =IF(R11="","",$R$5) | S111: =IF(S11="","",$S$5) | T111: =IF(T11="","",$T$5) | U111: =IF(U11="","",$U$5) | V111: =IF(V11="","",$V$5) | W111: =SUM(C111:V111) -> 20
C112: =IF(C12="","",$C$5) | D112: =IF(D12="","",$D$5) -> 20 | E112: =IF(E12="","",$E$5) | F112: =IF(F12="","",$F$5) | G112: =IF(G12="","",$G$5) | H112: =IF(H12="","",$H$5) | I112: =IF(I12="","",$I$5) | J112: =IF(J12="","",$J$5) | K112: =IF(K12="","",$K$5) | L112: =IF(L12="","",$L$5) | M112: =IF(M12="","",$M$5) | N112: =IF(N12="","",$N$5) | O112: =IF(O12="","",$O$5) | P112: =IF(P12="","",$P$5) | Q112: =IF(Q12="","",$Q$5) | R112: =IF(R12="","",$R$5) | S112: =IF(S12="","",$S$5) | T112: =IF(T12="","",$T$5) | U112: =IF(U12="","",$U$5) | V112: =IF(V12="","",$V$5) | W112: =SUM(C112:V112) -> 20
C113: =IF(C13="","",$C$5) | D113: =IF(D13="","",$D$5) -> 20 | E113: =IF(E13="","",$E$5) | F113: =IF(F13="","",$F$5) | G113: =IF(G13="","",$G$5) | H113: =IF(H13="","",$H$5) | I113: =IF(I13="","",$I$5) | J113: =IF(J13="","",$J$5) | K113: =IF(K13="","",$K$5) | L113: =IF(L13="","",$L$5) | M113: =IF(M13="","",$M$5) | N113: =IF(N13="","",$N$5) | O113: =IF(O13="","",$O$5) | P113: =IF(P13="","",$P$5) | Q113: =IF(Q13="","",$Q$5) | R113: =IF(R13="","",$R$5) | S113: =IF(S13="","",$S$5) | T113: =IF(T13="","",$T$5) | U113: =IF(U13="","",$U$5) | V113: =IF(V13="","",$V$5) | W113: =SUM(C113:V113) -> 20
C114: =IF(C14="","",$C$5) | D114: =IF(D14="","",$D$5) -> 20 | E114: =IF(E14="","",$E$5) | F114: =IF(F14="","",$F$5) | G114: =IF(G14="","",$G$5) | H114: =IF(H14="","",$H$5) | I114: =IF(I14="","",$I$5) | J114: =IF(J14="","",$J$5) | K114: =IF(K14="","",$K$5) | L114: =IF(L14="","",$L$5) | M114: =IF(M14="","",$M$5) | N114: =IF(N14="","",$N$5) | O114: =IF(O14="","",$O$5) | P114: =IF(P14="","",$P$5) | Q114: =IF(Q14="","",$Q$5) | R114: =IF(R14="","",$R$5) | S114: =IF(S14="","",$S$5) | T114: =IF(T14="","",$T$5) | U114: =IF(U14="","",$U$5) | V114: =IF(V14="","",$V$5) | W114: =SUM(C114:V114) -> 20
C115: =IF(C15="","",$C$5) | D115: =IF(D15="","",$D$5) -> 20 | E115: =IF(E15="","",$E$5) | F115: =IF(F15="","",$F$5) | G115: =IF(G15="","",$G$5) | H115: =IF(H15="","",$H$5) | I115: =IF(I15="","",$I$5) | J115: =IF(J15="","",$J$5) | K115: =IF(K15="","",$K$5) | L115: =IF(L15="","",$L$5) | M115: =IF(M15="","",$M$5) | N115: =IF(N15="","",$N$5) | O115: =IF(O15="","",$O$5) | P115: =IF(P15="","",$P$5) | Q115: =IF(Q15="","",$Q$5) | R115: =IF(R15="","",$R$5) | S115: =IF(S15="","",$S$5) | T115: =IF(T15="","",$T$5) | U115: =IF(U15="","",$U$5) | V115: =IF(V15="","",$V$5) | W115: =SUM(C115:V115) -> 20
C116: =IF(C16="","",$C$5) | D116: =IF(D16="","",$D$5) -> 20 | E116: =IF(E16="","",$E$5) | F116: =IF(F16="","",$F$5) | G116: =IF(G16="","",$G$5) | H116: =IF(H16="","",$H$5) | I116: =IF(I16="","",$I$5) | J116: =IF(J16="","",$J$5) | K116: =IF(K16="","",$K$5) | L116: =IF(L16="","",$L$5) | M116: =IF(M16="","",$M$5) | N116: =IF(N16="","",$N$5) | O116: =IF(O16="","",$O$5) | P116: =IF(P16="","",$P$5) | Q116: =IF(Q16="","",$Q$5) | R116: =IF(R16="","",$R$5) | S116: =IF(S16="","",$S$5) | T116: =IF(T16="","",$T$5) | U116: =IF(U16="","",$U$5) | V116: =IF(V16="","",$V$5) | W116: =SUM(C116:V116) -> 20
C117: =IF(C17="","",$C$5) | D117: =IF(D17="","",$D$5) -> 20 | E117: =IF(E17="","",$E$5) | F117: =IF(F17="","",$F$5) | G117: =IF(G17="","",$G$5) | H117: =IF(H17="","",$H$5) | I117: =IF(I17="","",$I$5) | J117: =IF(J17="","",$J$5) | K117: =IF(K17="","",$K$5) | L117: =IF(L17="","",$L$5) | M117: =IF(M17="","",$M$5) | N117: =IF(N17="","",$N$5) | O117: =IF(O17="","",$O$5) | P117: =IF(P17="","",$P$5) | Q117: =IF(Q17="","",$Q$5) | R117: =IF(R17="","",$R$5) | S117: =IF(S17="","",$S$5) | T117: =IF(T17="","",$T$5) | U117: =IF(U17="","",$U$5) | V117: =IF(V17="","",$V$5) | W117: =SUM(C117:V117) -> 20
... C135: =IF(C35="","",$C$5) | D135: =IF(D35="","",$D$5) | E135: =IF(E35="","",$E$5) | F135: =IF(F35="","",$F$5) | G135: =IF(G35="","",$G$5) | H135: =IF(H35="","",$H$5) | I135: =IF(I35="","",$I$5) | J135: =IF(J35="","",$J$5) | K135: =IF(K35="","",$K$5) | L135: =IF(L35="","",$L$5) | M135: =IF(M35="","",$M$5) | N135: =IF(N35="","",$N$5) | O135: =IF(O35="","",$O$5) | P135: =IF(P35="","",$P$5) | Q135: =IF(Q35="","",$Q$5) | R135: =IF(R35="","",$R$5) | S135: =IF(S35="","",$S$5) | T135: =IF(T35="","",$T$5) | U135: =IF(U35="","",$U$5) | V135: =IF(V35="","",$V$5) | W135: =SUM(C135:V135) -> 0
C136: =COUNT(C6:C35) -> 0 | D136: =COUNT(D6:D35) -> 20 | E136: =COUNT(E6:E35) -> 0 | F136: =COUNT(F6:F35) -> 0 | G136: =COUNT(G6:G35) -> 0 | H136: =COUNT(H6:H35) -> 0 | I136: =COUNT(I6:I35) -> 0 | J136: =COUNT(J6:J35) -> 0 | ... V136: =COUNT(V6:V35) -> 0 | W136: =SUM(C137:V137) -> 400
C137: =C136*C5 -> 0 | D137: =D136*D5 -> 400 | E137: =E136*E5 -> 0 | F137: =F136*F5 -> 0 | G137: =G136*G5 -> 0 | H137: =H136*H5 -> 0 | I137: =I136*I5 -> 0 | J137: =J136*J5 -> 0 | ... V137: =V136*V5 -> 0

Sheet Comportement
A1: ='Encodage + Sav. parler'!A1 -> Bulletin | C1: ='Encodage + Sav. parler'!C1 -> Classe de 4ème année | J1: ='Encodage + Sav. parler'!J1 -> De Samblanx Nicolas | R1: ='Encodage + Sav. parler'!R1 -> Année 2023/2024
B3: NOMS | C3: autres eleves | D3: adultes | E3: environnement | F3: dehors | G3: solidaire
C4: 1 | D4: 2 | E4: 3 | F4: 4 | G4: 5 | H4: 6 | I4: 7 | J4: 8 | K4: 9 | L4: 10 | M4: 11 | N4: 12 | O4: 13 | P4: 14 | Q4: 15 | R4: 16 | S4: 17 | T4: 18 | U4: 19 | V4: 20 | W4: PTS | X4: %
A5: TOTAL --> | C5: 10 | D5: 10 | E5: 10 | F5: 10 | G5: 10 | W5: 50
A6: 1 | B6: ='Encodage + Sav. parler'!B6 -> MEUF Hfehfa | C6: 7 | D6: 9 | E6: 9 | F6: 9 | G6: 7 | W6: =IF(W106=0,"",SUM(C6:V6)) -> 41 | X6: =IF(W106=0,"",W6/W106*100) -> 82 | Y6: =A6 -> 1
A7: 2 | B7: ='Encodage + Sav. parler'!B7 -> QFCTDQ Cstji | C7: 6 | D7: 8 | E7: 7 | F7: 9 | G7: 7 | W7: =IF(W107=0,"",SUM(C7:V7)) -> 37 | X7: =IF(W107=0,"",W7/W107*100) -> 74 | Y7: =A7 -> 2
A8: 3 | B8: ='Encodage + Sav. parler'!B8 -> ZLPGW Mmvnufyn | C8: 7 | D8: 8 | E8: 7 | F8: 7 | G8: 7 | W8: =IF(W108=0,"",SUM(C8:V8)) -> 36 | X8: =IF(W108=0,"",W8/W108*100) -> 72 | Y8: =A8 -> 3
A9: 4 | B9: ='Encodage + Sav. parler'!B9 -> BYLGGRPWAFFM Fbeozwbe | C9: 9 | D9: 8 | E9: 7 | F9: 6 | G9: 8 | W9: =IF(W109=0,"",SUM(C9:V9)) -> 38 | X9: =IF(W109=0,"",W9/W109*100) -> 76 | Y9: =A9 -> 4
A10: 5 | B10: ='Encodage + Sav. parler'!B10 -> CZUWKE Dbzzvsz | C10: 9 | D10: 8 | E10: 8 | F10: 8 | G10: 8 | W10: =IF(W110=0,"",SUM(C10:V10)) -> 41 | X10: =IF(W110=0,"",W10/W110*100) -> 82 | Y10: =A10 -> 5
A11: 6 | B11: ='Encodage + Sav. parler'!B11 -> NGRPFYX Kzfmy | C11: 8 | D11: 7 | E11: 7 | F11: 7 | G11: 8 | W11: =IF(W111=0,"",SUM(C11:V11)) -> 37 | X11: =IF(W111=0,"",W11/W111*100) -> 74 | Y11: =A11 -> 6
A12: 7 | B12: ='Encodage + Sav. parler'!B12 -> JUF Omjvhjm | C12: 8 | D12: 8 | E12: 6 | F12: 6 | G12: 9 | W12: =IF(W112=0,"",SUM(C12:V12)) -> 37 | X12: =IF(W112=0,"",W12/W112*100) -> 74 | Y12: =A12 -> 7
A13: 8 | B13: ='Encodage + Sav. parler'!B13 -> FIWGYBFGJI Qchucznjx | C13: 8 | D13: 9 | E13: 8 | F13: 9 | G13: 7 | W13: =IF(W113=0,"",SUM(C13:V13)) -> 41 | X13: =IF(W113=0,"",W13/W113*100) -> 82 | Y13: =A13 -> 8
A14: 9 | B14: ='Encodage + Sav. parler'!B14 -> K&#600;MYPDD JAQDIGQ Kyznuzp | C14: 6 | D14: 6 | E14: 7 | F14: 6 | G14: 6 | W14: =IF(W114=0,"",SUM(C14:V14)) -> 31 | X14: =IF(W114=0,"",W14/W114*100) -> 62 | Y14: =A14 -> 9
A15: 10 | B15: ='Encodage + Sav. parler'!B15 -> JRQJGR Njrlyiue | C15: 6 | D15: 6 | E15: 7 | F15: 6 | G15: 6 | W15: =IF(W115=0,"",SUM(C15:V15)) -> 31 | X15: =IF(W115=0,"",W15/W115*100) -> 62 | Y15: =A15 -> 10
A16: 11 | B16: ='Encodage + Sav. parler'!B16 -> FJJYWAFA Svohnr | C16: 8 | D16: 9 | E16: 9 | F16: 8 | G16: 8 | W16: =IF(W116=0,"",SUM(C16:V16)) -> 42 | X16: =IF(W116=0,"",W16/W116*100) -> 84 | Y16: =A16 -> 11
A17: 12 | B17: ='Encodage + Sav. parler'!B17 -> PJILCBS Cujjz | C17: 8 | D17: 9 | E17: 9 | F17: 8 | G17: 6 | W17: =IF(W117=0,"",SUM(C17:V17)) -> 40 | X17: =IF(W117=0,"",W17/W117*100) -> 80 | Y17: =A17 -> 12
A18: 13 | B18: ='Encodage + Sav. parler'!B18 -> XUQUOVP Hanicij | W18: =IF(W118=0,"",SUM(C18:V18)) | X18: =IF(W118=0,"",W18/W118*100) | Y18: =A18 -> 13
A19: 14 | B19: ='Encodage + Sav. parler'!B19 -> VXZKW Pcljhw | C19: 7 | D19: 7 | E19: 6 | F19: 6 | G19: 6 | W19: =IF(W119=0,"",SUM(C19:V19)) -> 32 | X19: =IF(W119=0,"",W19/W119*100) -> 64 | Y19: =A19 -> 14
A20: 15 | B20: ='Encodage + Sav. parler'!B20 -> ANKBQZDX Mswnjbak | C20: 8 | D20: 9 | E20: 8 | F20: 8 | G20: 7 | W20: =IF(W120=0,"",SUM(C20:V20)) -> 40 | X20: =IF(W120=0,"",W20/W120*100) -> 80 | Y20: =A20 -> 15
A21: 16 | B21: ='Encodage + Sav. parler'!B21 -> DYTVXSTMX Qoyfpx | C21: 9 | D21: 8 | E21: 9 | F21: 8 | G21: 9 | W21: =IF(W121=0,"",SUM(C21:V21)) -> 43 | X21: =IF(W121=0,"",W21/W121*100) -> 86 | Y21: =A21 -> 16
A22: 17 | B22: ='Encodage + Sav. parler'!B22 -> MKJLB Hkfrxy | C22: 7 | D22: 5 | E22: 5 | F22: 5 | G22: 5 | W22: =IF(W122=0,"",SUM(C22:V22)) -> 27 | X22: =IF(W122=0,"",W22/W122*100) -> 54 | Y22: =A22 -> 17
A23: 18 | B23: ='Encodage + Sav. parler'!B23 -> VBEOU Lhlrygn-Roggj | C23: 7 | D23: 8 | E23: 8 | F23: 8 | G23: 9 | W23: =IF(W123=0,"",SUM(C23:V23)) -> 40 | X23: =IF(W123=0,"",W23/W123*100) -> 80 | Y23: =A23 -> 18
A24: 19 | B24: ='Encodage + Sav. parler'!B24 -> OLGZDCNSX Ckgeph | C24: 7 | D24: 6 | E24: 5 | F24: 5 | G24: 7 | W24: =IF(W124=0,"",SUM(C24:V24)) -> 30 | X24: =IF(W124=0,"",W24/W124*100) -> 60 | Y24: =A24 -> 19
A25: 20 | B25: ='Encodage + Sav. parler'!B25 -> TXHBZXHX Ovgalpu | C25: 10 | D25: 8 | E25: 8 | F25: 7 | G25: 8 | W25: =IF(W125=0,"",SUM(C25:V25)) -> 41 | X25: =IF(W125=0,"",W25/W125*100) -> 82 | Y25: =A25 -> 20
A26: 21 | B26: ='Encodage + Sav. parler'!B26 -> POHRCJF WH LGUZBRRY Sdzoi | C26: 6 | D26: 8 | E26: 8 | F26: 7 | G26: 6 | W26: =IF(W126=0,"",SUM(C26:V26)) -> 35 | X26: =IF(W126=0,"",W26/W126*100) -> 70 | Y26: =A26 -> 21
A27: 22 | B27: ='Encodage + Sav. parler'!B27 -> 0 | W27: =IF(W127=0,"",SUM(C27:V27)) | X27: =IF(W127=0,"",W27/W127*100) | Y27: =A27 -> 22
A28: 23 | B28: ='Encodage + Sav. parler'!B28 -> 0 | W28: =IF(W128=0,"",SUM(C28:V28)) | X28: =IF(W128=0,"",W28/W128*100) | Y28: =A28 -> 23
A29: 24 | B29: ='Encodage + Sav. parler'!B29 -> 0 | W29: =IF(W129=0,"",SUM(C29:V29)) | X29: =IF(W129=0,"",W29/W129*100) | Y29: =A29 -> 24
A30: 25 | B30: ='Encodage + Sav. parler'!B30 -> 0 | W30: =IF(W130=0,"",SUM(C30:V30)) | X30: =IF(W130=0,"",W30/W130*100) | Y30: =A30 -> 25
A31: 26 | B31: ='Encodage + Sav. parler'!B31 -> 0 | W31: =IF(W131=0,"",SUM(C31:V31)) | X31: =IF(W131=0,"",W31/W131*100) | Y31: =A31 -> 26
A32: 27 | B32: ='Encodage + Sav. parler'!B32 -> 0 | W32: =IF(W132=0,"",SUM(C32:V32)) | X32: =IF(W132=0,"",W32/W132*100) | Y32: =A32 -> 27
A33: 28 | B33: ='Encodage + Sav. parler'!B33 -> 0 | W33: =IF(W133=0,"",SUM(C33:V33)) | X33: =IF(W133=0,"",W33/W133*100) | Y33: =A33 -> 28
A34: 29 | B34: ='Encodage + Sav. parler'!B34 -> 0 | W34: =IF(W134=0,"",SUM(C34:V34)) | X34: =IF(W134=0,"",W34/W134*100) | Y34: =A34 -> 29
A35: 30 | B35: ='Encodage + Sav. parler'!B35 -> 0 | W35: =IF(W135=0,"",SUM(C35:V35)) | X35: =IF(W135=0,"",W35/W135*100) | Y35: =A35 -> 30
A36: TOTAL | C36: =IF(C136=0,"",SUM(C6:C35)) -> 151 | D36: =IF(D136=0,"",SUM(D6:D35)) -> 154 | E36: =IF(E136=0,"",SUM(E6:E35)) -> 148 | F36: =IF(F136=0,"",SUM(F6:F35)) -> 143 | G36: =IF(G136=0,"",SUM(G6:G35)) -> 144 | H36: =IF(H136=0,"",SUM(H6:H35)) | I36: =IF(I136=0,"",SUM(I6:I35)) | J36: =IF(J136=0,"",SUM(J6:J35)) | ... V36: =IF(V136=0,"",SUM(V6:V35)) | W36: =IF(W136=0,"",SUM(C36:V36)) -> 740 | X36: =IF(W136=0,"",W36/W136*100) -> 74 | Y36: =A36 -> TOTAL
A37: MOY. CLAS | C37: =IF(C36="","",C36/C137*100) -> 75.5 | D37: =IF(D36="","",D36/D137*100) -> 77 | E37: =IF(E36="","",E36/E137*100) -> 74 | F37: =IF(F36="","",F36/F137*100) -> 71.5 | G37: =IF(G36="","",G36/G137*100) -> 72 | H37: =IF(H36="","",H36/H137*100) | I37: =IF(I36="","",I36/I137*100) | J37: =IF(J36="","",J36/J137*100) | ... V37: =IF(V36="","",V36/V137*100) | Y37: =A37 -> MOY. CLAS
C105: =C5 -> 10 | D105: =D5 -> 10 | E105: =E5 -> 10 | F105: =F5 -> 10 | G105: =G5 -> 10 | H105: =H5 -> 0 | I105: =I5 -> 0 | J105: =J5 -> 0 | ... W105: =W5 -> 50
C106: =IF(C6="","",$C$5) -> 10 | D106: =IF(D6="","",$D$5) -> 10 | E106: =IF(E6="","",$E$5) -> 10 | F106: =IF(F6="","",$F$5) -> 10 | G106: =IF(G6="","",$G$5) -> 10 | H106: =IF(H6="","",$H$5) | I106: =IF(I6="","",$I$5) | J106: =IF(J6="","",$J$5) | K106: =IF(K6="","",$K$5) | L106: =IF(L6="","",$L$5) | M106: =IF(M6="","",$M$5) | N106: =IF(N6="","",$N$5) | O106: =IF(O6="","",$O$5) | P106: =IF(P6="","",$P$5) | Q106: =IF(Q6="","",$Q$5) | R106: =IF(R6="","",$R$5) | S106: =IF(S6="","",$S$5) | T106: =IF(T6="","",$T$5) | U106: =IF(U6="","",$U$5) | V106: =IF(V6="","",$V$5) | W106: =SUM(C106:V106) -> 50
C107: =IF(C7="","",$C$5) -> 10 | D107: =IF(D7="","",$D$5) -> 10 | E107: =IF(E7="","",$E$5) -> 10 | F107: =IF(F7="","",$F$5) -> 10 | G107: =IF(G7="","",$G$5) -> 10 | H107: =IF(H7="","",$H$5) | I107: =IF(I7="","",$I$5) | J107: =IF(J7="","",$J$5) | K107: =IF(K7="","",$K$5) | L107: =IF(L7="","",$L$5) | M107: =IF(M7="","",$M$5) | N107: =IF(N7="","",$N$5) | O107: =IF(O7="","",$O$5) | P107: =IF(P7="","",$P$5) | Q107: =IF(Q7="","",$Q$5) | R107: =IF(R7="","",$R$5) | S107: =IF(S7="","",$S$5) | T107: =IF(T7="","",$T$5) | U107: =IF(U7="","",$U$5) | V107: =IF(V7="","",$V$5) | W107: =SUM(C107:V107) -> 50
C108: =IF(C8="","",$C$5) -> 10 | D108: =IF(D8="","",$D$5) -> 10 | E108: =IF(E8="","",$E$5) -> 10 | F108: =IF(F8="","",$F$5) -> 10 | G108: =IF(G8="","",$G$5) -> 10 | H108: =IF(H8="","",$H$5) | I108: =IF(I8="","",$I$5) | J108: =IF(J8="","",$J$5) | K108: =IF(K8="","",$K$5) | L108: =IF(L8="","",$L$5) | M108: =IF(M8="","",$M$5) | N108: =IF(N8="","",$N$5) | O108: =IF(O8="","",$O$5) | P108: =IF(P8="","",$P$5) | Q108: =IF(Q8="","",$Q$5) | R108: =IF(R8="","",$R$5) | S108: =IF(S8="","",$S$5) | T108: =IF(T8="","",$T$5) | U108: =IF(U8="","",$U$5) | V108: =IF(V8="","",$V$5) | W108: =SUM(C108:V108) -> 50
C109: =IF(C9="","",$C$5) -> 10 | D109: =IF(D9="","",$D$5) -> 10 | E109: =IF(E9="","",$E$5) -> 10 | F109: =IF(F9="","",$F$5) -> 10 | G109: =IF(G9="","",$G$5) -> 10 | H109: =IF(H9="","",$H$5) | I109: =IF(I9="","",$I$5) | J109: =IF(J9="","",$J$5) | K109: =IF(K9="","",$K$5) | L109: =IF(L9="","",$L$5) | M109: =IF(M9="","",$M$5) | N109: =IF(N9="","",$N$5) | O109: =IF(O9="","",$O$5) | P109: =IF(P9="","",$P$5) | Q109: =IF(Q9="","",$Q$5) | R109: =IF(R9="","",$R$5) | S109: =IF(S9="","",$S$5) | T109: =IF(T9="","",$T$5) | U109: =IF(U9="","",$U$5) | V109: =IF(V9="","",$V$5) | W109: =SUM(C109:V109) -> 50
C110: =IF(C10="","",$C$5) -> 10 | D110: =IF(D10="","",$D$5) -> 10 | E110: =IF(E10="","",$E$5) -> 10 | F110: =IF(F10="","",$F$5) -> 10 | G110: =IF(G10="","",$G$5) -> 10 | H110: =IF(H10="","",$H$5) | I110: =IF(I10="","",$I$5) | J110: =IF(J10="","",$J$5) | K110: =IF(K10="","",$K$5) | L110: =IF(L10="","",$L$5) | M110: =IF(M10="","",$M$5) | N110: =IF(N10="","",$N$5) | O110: =IF(O10="","",$O$5) | P110: =IF(P10="","",$P$5) | Q110: =IF(Q10="","",$Q$5) | R110: =IF(R10="","",$R$5) | S110: =IF(S10="","",$S$5) | T110: =IF(T10="","",$T$5) | U110: =IF(U10="","",$U$5) | V110: =IF(V10="","",$V$5) | W110: =SUM(C110:V110) -> 50
C111: =IF(C11="","",$C$5) -> 10 | D111: =IF(D11="","",$D$5) -> 10 | E111: =IF(E11="","",$E$5) -> 10 | F111: =IF(F11="","",$F$5) -> 10 | G111: =IF(G11="","",$G$5) -> 10 | H111: =IF(H11="","",$H$5) | I111: =IF(I11="","",$I$5) | J111: =IF(J11="","",$J$5) | K111: =IF(K11="","",$K$5) | L111: =IF(L11="","",$L$5) | M111: =IF(M11="","",$M$5) | N111: =IF(N11="","",$N$5) | O111: =IF(O11="","",$O$5) | P111: =IF(P11="","",$P$5) | Q111: =IF(Q11="","",$Q$5) | R111: =IF(R11="","",$R$5) | S111: =IF(S11="","",$S$5) | T111: =IF(T11="","",$T$5) | U111: =IF(U11="","",$U$5) | V111: =IF(V11="","",$V$5) | W111: =SUM(C111:V111) -> 50
C112: =IF(C12="","",$C$5) -> 10 | D112: =IF(D12="","",$D$5) -> 10 | E112: =IF(E12="","",$E$5) -> 10 | F112: =IF(F12="","",$F$5) -> 10 | G112: =IF(G12="","",$G$5) -> 10 | H112: =IF(H12="","",$H$5) | I112: =IF(I12="","",$I$5) | J112: =IF(J12="","",$J$5) | K112: =IF(K12="","",$K$5) | L112: =IF(L12="","",$L$5) | M112: =IF(M12="","",$M$5) | N112: =IF(N12="","",$N$5) | O112: =IF(O12="","",$O$5) | P112: =IF(P12="","",$P$5) | Q112: =IF(Q12="","",$Q$5) | R112: =IF(R12="","",$R$5) | S112: =IF(S12="","",$S$5) | T112: =IF(T12="","",$T$5) | U112: =IF(U12="","",$U$5) | V112: =IF(V12="","",$V$5) | W112: =SUM(C112:V112) -> 50
C113: =IF(C13="","",$C$5) -> 10 | D113: =IF(D13="","",$D$5) -> 10 | E113: =IF(E13="","",$E$5) -> 10 | F113: =IF(F13="","",$F$5) -> 10 | G113: =IF(G13="","",$G$5) -> 10 | H113: =IF(H13="","",$H$5) | I113: =IF(I13="","",$I$5) | J113: =IF(J13="","",$J$5) | K113: =IF(K13="","",$K$5) | L113: =IF(L13="","",$L$5) | M113: =IF(M13="","",$M$5) | N113: =IF(N13="","",$N$5) | O113: =IF(O13="","",$O$5) | P113: =IF(P13="","",$P$5) | Q113: =IF(Q13="","",$Q$5) | R113: =IF(R13="","",$R$5) | S113: =IF(S13="","",$S$5) | T113: =IF(T13="","",$T$5) | U113: =IF(U13="","",$U$5) | V113: =IF(V13="","",$V$5) | W113: =SUM(C113:V113) -> 50
C114: =IF(C14="","",$C$5) -> 10 | D114: =IF(D14="","",$D$5) -> 10 | E114: =IF(E14="","",$E$5) -> 10 | F114: =IF(F14="","",$F$5) -> 10 | G114: =IF(G14="","",$G$5) -> 10 | H114: =IF(H14="","",$H$5) | I114: =IF(I14="","",$I$5) | J114: =IF(J14="","",$J$5) | K114: =IF(K14="","",$K$5) | L114: =IF(L14="","",$L$5) | M114: =IF(M14="","",$M$5) | N114: =IF(N14="","",$N$5) | O114: =IF(O14="","",$O$5) | P114: =IF(P14="","",$P$5) | Q114: =IF(Q14="","",$Q$5) | R114: =IF(R14="","",$R$5) | S114: =IF(S14="","",$S$5) | T114: =IF(T14="","",$T$5) | U114: =IF(U14="","",$U$5) | V114: =IF(V14="","",$V$5) | W114: =SUM(C114:V114) -> 50
C115: =IF(C15="","",$C$5) -> 10 | D115: =IF(D15="","",$D$5) -> 10 | E115: =IF(E15="","",$E$5) -> 10 | F115: =IF(F15="","",$F$5) -> 10 | G115: =IF(G15="","",$G$5) -> 10 | H115: =IF(H15="","",$H$5) | I115: =IF(I15="","",$I$5) | J115: =IF(J15="","",$J$5) | K115: =IF(K15="","",$K$5) | L115: =IF(L15="","",$L$5) | M115: =IF(M15="","",$M$5) | N115: =IF(N15="","",$N$5) | O115: =IF(O15="","",$O$5) | P115: =IF(P15="","",$P$5) | Q115: =IF(Q15="","",$Q$5) | R115: =IF(R15="","",$R$5) | S115: =IF(S15="","",$S$5) | T115: =IF(T15="","",$T$5) | U115: =IF(U15="","",$U$5) | V115: =IF(V15="","",$V$5) | W115: =SUM(C115:V115) -> 50
C116: =IF(C16="","",$C$5) -> 10 | D116: =IF(D16="","",$D$5) -> 10 | E116: =IF(E16="","",$E$5) -> 10 | F116: =IF(F16="","",$F$5) -> 10 | G116: =IF(G16="","",$G$5) -> 10 | H116: =IF(H16="","",$H$5) | I116: =IF(I16="","",$I$5) | J116: =IF(J16="","",$J$5) | K116: =IF(K16="","",$K$5) | L116: =IF(L16="","",$L$5) | M116: =IF(M16="","",$M$5) | N116: =IF(N16="","",$N$5) | O116: =IF(O16="","",$O$5) | P116: =IF(P16="","",$P$5) | Q116: =IF(Q16="","",$Q$5) | R116: =IF(R16="","",$R$5) | S116: =IF(S16="","",$S$5) | T116: =IF(T16="","",$T$5) | U116: =IF(U16="","",$U$5) | V116: =IF(V16="","",$V$5) | W116: =SUM(C116:V116) -> 50
C117: =IF(C17="","",$C$5) -> 10 | D117: =IF(D17="","",$D$5) -> 10 | E117: =IF(E17="","",$E$5) -> 10 | F117: =IF(F17="","",$F$5) -> 10 | G117: =IF(G17="","",$G$5) -> 10 | H117: =IF(H17="","",$H$5) | I117: =IF(I17="","",$I$5) | J117: =IF(J17="","",$J$5) | K117: =IF(K17="","",$K$5) | L117: =IF(L17="","",$L$5) | M117: =IF(M17="","",$M$5) | N117: =IF(N17="","",$N$5) | O117: =IF(O17="","",$O$5) | P117: =IF(P17="","",$P$5) | Q117: =IF(Q17="","",$Q$5) | R117: =IF(R17="","",$R$5) | S117: =IF(S17="","",$S$5) | T117: =IF(T17="","",$T$5) | U117: =IF(U17="","",$U$5) | V117: =IF(V17="","",$V$5) | W117: =SUM(C117:V117) -> 50
... C135: =IF(C35="","",$C$5) | D135: =IF(D35="","",$D$5) | E135: =IF(E35="","",$E$5) | F135: =IF(F35="","",$F$5) | G135: =IF(G35="","",$G$5) | H135: =IF(H35="","",$H$5) | I135: =IF(I35="","",$I$5) | J135: =IF(J35="","",$J$5) | K135: =IF(K35="","",$K$5) | L135: =IF(L35="","",$L$5) | M135: =IF(M35="","",$M$5) | N135: =IF(N35="","",$N$5) | O135: =IF(O35="","",$O$5) | P135: =IF(P35="","",$P$5) | Q135: =IF(Q35="","",$Q$5) | R135: =IF(R35="","",$R$5) | S135: =IF(S35="","",$S$5) | T135: =IF(T35="","",$T$5) | U135: =IF(U35="","",$U$5) | V135: =IF(V35="","",$V$5) | W135: =SUM(C135:V135) -> 0
C136: =COUNT(C6:C35) -> 20 | D136: =COUNT(D6:D35) -> 20 | E136: =COUNT(E6:E35) -> 20 | F136: =COUNT(F6:F35) -> 20 | G136: =COUNT(G6:G35) -> 20 | H136: =COUNT(H6:H35) -> 0 | I136: =COUNT(I6:I35) -> 0 | J136: =COUNT(J6:J35) -> 0 | ... V136: =COUNT(V6:V35) -> 0 | W136: =SUM(C137:V137) -> 1000
C137: =C136*C5 -> 200 | D137: =D136*D5 -> 200 | E137: =E136*E5 -> 200 | F137: =F136*F5 -> 200 | G137: =G136*G5 -> 200 | H137: =H136*H5 -> 0 | I137: =I136*I5 -> 0 | J137: =J136*J5 -> 0 | ... V137: =V136*V5 -> 0

Sheet Total
A1: ='Encodage + Sav. parler'!A1 -> Bulletin | C1: ='Encodage + Sav. parler'!C1 -> Classe de 4ème année | M1: ='Encodage + Sav. parler'!J1 -> De Samblanx Nicolas | R1: ='Encodage + Sav. parler'!R1 -> Année 2023/2024
B3: NOMS | C3: Savoir parler | D3: Savoir écrire | E3: Savoir lire | F3: Savoir écouter | G3: TOTAL | I3: Nombres et opérations | J3: Grandeurs | K3: Solides et figures | L3: Traitement de données | M3: TOTAL | O3: Eveil scientifique | P3: Histoire et geographie | Q3: Art | R3: TOTAL | T3: Néerlandais | U3: Ed. Physique | V3: Cours de phil. et de cit. | W3: TOTAL | Y3: Total général | AA3: % | AC3: comportement | AD3: Cours de philosophie
A4: TOTAL --> | C4: 20 | D4: 30 | E4: 30 | F4: 20 | G4: 100 | I4: 30 | J4: 30 | K4: 30 | L4: 10 | M4: 100 | O4: 40 | P4: 40 | Q4: 20 | R4: 100 | T4: 30 | U4: 30 | V4: 15 | W4: 75 | Y4: 375 | AA4: 100 | AC4: 50 | AD4: 15
A5: 1 | B5: ='Encodage + Sav. parler'!B6 -> MEUF Hfehfa | C5: =SUM('Encodage + Sav. parler'!X6)*0.2 -> 8.3333333 | D5: =SUM('Savoir écrire'!X6)*0.3 -> 10.961538 | E5: =SUM('Savoir lire'!X6)*0.3 -> 7.3076923 | F5: =SUM('Savoir ecouter'!X6)*0.2 -> 12.608696 | G5: =SUM(C5:F5) -> 39.21126 | I5: =SUM('Nombres et operations'!X6)*0.3 -> 14.565217 | J5: =SUM(Grandeurs!X6)*0.3 -> 21 | K5: =SUM('Solides et figures'!X6)*0.3 -> 16.875 | L5: =SUM('Traitement de donnees'!X6)*0.1 -> 7 | M5: =SUM(I5:L5) -> 59.440217 | O5: =SUM('Eveil scientifique'!X6)*0.4 -> 30 | P5: =SUM('Histoire et geographie'!X6)*0.4 -> 30 | Q5: =SUM(Artisitique!X6)*0.2 -> 16 | R5: =SUM(O5+P5+Q5) -> 76 | T5: 13 | U5: 17 | V5: 13.5 | W5: =SUM(T5:V5) -> 43.5 | Y5: =SUM(G5+M5+R5+W5) -> 218.15148 | AA5: =SUM(Y5/3.75) -> 58.173727 | AC5: =Comportement!W6 -> 41 | AE5: =A5 -> 1
A6: 2 | B6: ='Encodage + Sav. parler'!B7 -> QFCTDQ Cstji | C6: =SUM('Encodage + Sav. parler'!X7)*0.2 -> 8.3333333 | D6: =SUM('Savoir écrire'!X7)*0.3 -> 2.6 | E6: =SUM('Savoir lire'!X7)*0.3 -> 0 | F6: =SUM('Savoir ecouter'!X7)*0.2 -> 6.9565217 | G6: =SUM(C6:F6) -> 17.889855 | I6: =SUM('Nombres et operations'!X7)*0.3 -> 0 | J6: =SUM(Grandeurs!X7)*0.3 -> 1.3333333 | K6: =SUM('Solides et figures'!X7)*0.3 -> 0.375 | L6: =SUM('Traitement de donnees'!X7)*0.1 -> 0 | M6: =SUM(I6:L6) -> 1.7083333 | O6: =SUM('Eveil scientifique'!X7)*0.4 -> 20 | P6: =SUM('Histoire et geographie'!X7)*0.4 -> 0 | Q6: =SUM(Artisitique!X7)*0.2 -> 10 | R6: =SUM(O6+P6+Q6) -> 30 | T6: 7 | U6: 0 | V6: 4.5 | W6: =SUM(T6:V6) -> 11.5 | Y6: =SUM(G6+M6+R6+W6) -> 61.098188 | AA6: =SUM(Y6/3.75) -> 16.29285 | AC6: =Comportement!W7 -> 37 | AE6: =A6 -> 2
A7: 3 | B7: ='Encodage + Sav. parler'!B8 -> ZLPGW Mmvnufyn | C7: =SUM('Encodage + Sav. parler'!X8)*0.2 -> 12.6 | D7: =SUM('Savoir écrire'!X8)*0.3 -> 9.5294118 | E7: =SUM('Savoir lire'!X8)*0.3 -> 9.2307692 | F7: =SUM('Savoir ecouter'!X8)*0.2 -> 10.434783 | G7: =SUM(C7:F7) -> 41.794964 | I7: =SUM('Nombres et operations'!X8)*0.3 -> 4.8837209 | J7: =SUM(Grandeurs!X8)*0.3 -> 19 | K7: =SUM('Solides et figures'!X8)*0.3 -> 13.125 | L7: =SUM('Traitement de donnees'!X8)*0.1 -> 5 | M7: =SUM(I7:L7) -> 42.008721 | O7: =SUM('Eveil scientifique'!X8)*0.4 -> 28 | P7: =SUM('Histoire et geographie'!X8)*0.4 -> 22 | Q7: =SUM(Artisitique!X8)*0.2 -> 13 | R7: =SUM(O7+P7+Q7) -> 63 | T7: 15 | U7: 26 | V7: 7.5 | W7: =SUM(T7:V7) -> 48.5 | Y7: =SUM(G7+M7+R7+W7) -> 195.30368 | AA7: =SUM(Y7/3.75) -> 52.080983 | AC7: =Comportement!W8 -> 36 | AE7: =A7 -> 3
A8: 4 | B8: ='Encodage + Sav. parler'!B9 -> BYLGGRPWAFFM Fbeozwbe | C8: =SUM('Encodage + Sav. parler'!X9)*0.2 -> 13.2 | D8: =SUM('Savoir écrire'!X9)*0.3 -> 7.7647059 | E8: =SUM('Savoir lire'!X9)*0.3 -> 14.615385 | F8: =SUM('Savoir ecouter'!X9)*0.2 -> 12.608696 | G8: =SUM(C8:F8) -> 48.188786 | I8: =SUM('Nombres et operations'!X9)*0.3 -> 17.391304 | J8: =SUM(Grandeurs!X9)*0.3 -> 17 | K8: =SUM('Solides et figures'!X9)*0.3 -> 12.75 | L8: =SUM('Traitement de donnees'!X9)*0.1 -> 5 | M8: =SUM(I8:L8) -> 52.141304 | O8: =SUM('Eveil scientifique'!X9)*0.4 -> 30 | P8: =SUM('Histoire et geographie'!X9)*0.4 -> 24 | Q8: =SUM(Artisitique!X9)*0.2 -> 16 | R8: =SUM(O8+P8+Q8) -> 70 | T8: 13 | U8: 27 | V8: 9.5 | W8: =SUM(T8:V8) -> 49.5 | Y8: =SUM(G8+M8+R8+W8) -> 219.83009 | AA8: =SUM(Y8/3.75) -> 58.621357 | AC8: =Comportement!W9 -> 38 | AE8: =A8 -> 4
A9: 5 | B9: ='Encodage + Sav. parler'!B10 -> CZUWKE Dbzzvsz | C9: =SUM('Encodage + Sav. parler'!X10)*0.2 -> 20 | D9: =SUM('Savoir écrire'!X10)*0.3 -> 21.705882 | E9: =SUM('Savoir lire'!X10)*0.3 -> 23.461538 | F9: =SUM('Savoir ecouter'!X10)*0.2 -> 14.347826 | G9: =SUM(C9:F9) -> 79.515247 | I9: =SUM('Nombres et operations'!X10)*0.3 -> 25.217391 | J9: =SUM(Grandeurs!X10)*0.3 -> 22 | K9: =SUM('Solides et figures'!X10)*0.3 -> 16.125 | L9: =SUM('Traitement de donnees'!X10)*0.1 -> 8.75 | M9: =SUM(I9:L9) -> 72.092391 | O9: =SUM('Eveil scientifique'!X10)*0.4 -> 38 | P9: =SUM('Histoire et geographie'!X10)*0.4 -> 32 | Q9: =SUM(Artisitique!X10)*0.2 -> 16 | R9: =SUM(O9+P9+Q9) -> 86 | T9: 24 | U9: 24 | V9: 15 | W9: =SUM(T9:V9) -> 63 | Y9: =SUM(G9+M9+R9+W9) -> 300.60764 | AA9: =SUM(Y9/3.75) -> 80.162037 | AC9: =Comportement!W10 -> 41 | AE9: =A9 -> 5
A10: 6 | B10: ='Encodage + Sav. parler'!B11 -> NGRPFYX Kzfmy | C10: =SUM('Encodage + Sav. parler'!X11)*0.2 -> 14 | D10: =SUM('Savoir écrire'!X11)*0.3 -> 12.882353 | E10: =SUM('Savoir lire'!X11)*0.3 -> 15.769231 | F10: =SUM('Savoir ecouter'!X11)*0.2 -> 9.1304348 | G10: =SUM(C10:F10) -> 51.782018 | I10: =SUM('Nombres et operations'!X11)*0.3 -> 14.130435 | J10: =SUM(Grandeurs!X11)*0.3 -> 23.666667 | K10: =SUM('Solides et figures'!X11)*0.3 -> 17.625 | L10: =SUM('Traitement de donnees'!X11)*0.1 -> 6 | M10: =SUM(I10:L10) -> 61.422101 | O10: =SUM('Eveil scientifique'!X11)*0.4 -> 36 | P10: =SUM('Histoire et geographie'!X11)*0.4 -> 29 | Q10: =SUM(Artisitique!X11)*0.2 -> 10 | R10: =SUM(O10+P10+Q10) -> 75 | T10: 15.5 | U10: 23 | V10: 10 | W10: =SUM(T10:V10) -> 48.5 | Y10: =SUM(G10+M10+R10+W10) -> 236.70412 | AA10: =SUM(Y10/3.75) -> 63.121099 | AC10: =Comportement!W11 -> 37 | AE10: =A10 -> 6
A11: 7 | B11: ='Encodage + Sav. parler'!B12 -> JUF Omjvhjm | C11: =SUM('Encodage + Sav. parler'!X12)*0.2 -> 20 | D11: =SUM('Savoir écrire'!X12)*0.3 -> 26.823529 | E11: =SUM('Savoir lire'!X12)*0.3 -> 22.692308 | F11: =SUM('Savoir ecouter'!X12)*0.2 -> 16.086957 | G11: =SUM(C11:F11) -> 85.602794 | I11: =SUM('Nombres et operations'!X12)*0.3 -> 30 | J11: =SUM(Grandeurs!X12)*0.3 -> 30 | K11: =SUM('Solides et figures'!X12)*0.3 -> 29.625 | L11: =SUM('Traitement de donnees'!X12)*0.1 -> 10 | M11: =SUM(I11:L11) -> 99.625 | O11: =SUM('Eveil scientifique'!X12)*0.4 -> 40 | P11: =SUM('Histoire et geographie'!X12)*0.4 -> 40 | Q11: =SUM(Artisitique!X12)*0.2 -> 15 | R11: =SUM(O11+P11+Q11) -> 95 | T11: 26.5 | U11: 27 | V11: 13.5 | W11: =SUM(T11:V11) -> 67 | Y11: =SUM(G11+M11+R11+W11) -> 347.22779 | AA11: =SUM(Y11/3.75) -> 92.594078 | AC11: =Comportement!W12 -> 37 | AE11: =A11 -> 7
A12: 8 | B12: ='Encodage + Sav. parler'!B13 -> FIWGYBFGJI Qchucznjx | C12: =SUM('Encodage + Sav. parler'!X13)*0.2 -> 14.333333 | D12: =SUM('Savoir écrire'!X13)*0.3 -> 5.8846154 | E12: =SUM('Savoir lire'!X13)*0.3 -> 5.7692308 | F12: =SUM('Savoir ecouter'!X13)*0.2 -> 6.5217391 | G12: =SUM(C12:F12) -> 32.508919 | I12: =SUM('Nombres et operations'!X13)*0.3 -> 3.3962264 | J12: =SUM(Grandeurs!X13)*0.3 -> 11 | K12: =SUM('Solides et figures'!X13)*0.3 -> 4.5 | L12: =SUM('Traitement de donnees'!X13)*0.1 -> 2 | M12: =SUM(I12:L12) -> 20.896226 | O12: =SUM('Eveil scientifique'!X13)*0.4 -> 20 | P12: =SUM('Histoire et geographie'!X13)*0.4 -> 13 | Q12: =SUM(Artisitique!X13)*0.2 -> 12.5 | R12: =SUM(O12+P12+Q12) -> 45.5 | T12: 6 | U12: 5 | V12: 7.5 | W12: =SUM(T12:V12) -> 18.5 | Y12: =SUM(G12+M12+R12+W12) -> 117.40515 | AA12: =SUM(Y12/3.75) -> 31.308039 | AC12: =Comportement!W13 -> 41 | AE12: =A12 -> 8
A13: 9 | B13: ='Encodage + Sav. parler'!B14 -> K&#600;MYPDD JAQDIGQ Kyznuzp | C13: =SUM('Encodage + Sav. parler'!X14)*0.2 -> 13.6 | D13: =SUM('Savoir écrire'!X14)*0.3 -> 16 | E13: =SUM('Savoir lire'!X14)*0.3 -> 15.384615 | F13: =SUM('Savoir ecouter'!X14)*0.2 -> 12.608696 | G13: =SUM(C13:F13) -> 57.593311 | I13: =SUM('Nombres et operations'!X14)*0.3 -> 20.59322 | J13: =SUM(Grandeurs!X14)*0.3 -> 24 | K13: =SUM('Solides et figures'!X14)*0.3 -> 21 | L13: =SUM('Traitement de donnees'!X14)*0.1 -> 6.75 | M13: =SUM(I13:L13) -> 72.34322 | O13: =SUM('Eveil scientifique'!X14)*0.4 -> 38 | P13: =SUM('Histoire et geographie'!X14)*0.4 -> 33 | Q13: =SUM(Artisitique!X14)*0.2 -> 10 | R13: =SUM(O13+P13+Q13) -> 81 | T13: 16.5 | U13: 17 | V13: 10 | W13: =SUM(T13:V13) -> 43.5 | Y13: =SUM(G13+M13+R13+W13) -> 254.43653 | AA13: =SUM(Y13/3.75) -> 67.849742 | AC13: =Comportement!W14 -> 31 | AE13: =A13 -> 9
A14: 10 | B14: ='Encodage + Sav. parler'!B15 -> JRQJGR Njrlyiue | C14: =SUM('Encodage + Sav. parler'!X15)*0.2 -> 13.8 | D14: =SUM('Savoir écrire'!X15)*0.3 -> 18.617647 | E14: =SUM('Savoir lire'!X15)*0.3 -> 19.615385 | F14: =SUM('Savoir ecouter'!X15)*0.2 -> 14.347826 | G14: =SUM(C14:F14) -> 66.380858 | I14: =SUM('Nombres et operations'!X15)*0.3 -> 13.695652 | J14: =SUM(Grandeurs!X15)*0.3 -> 21 | K14: =SUM('Solides et figures'!X15)*0.3 -> 14.625 | L14: =SUM('Traitement de donnees'!X15)*0.1 -> 7 | M14: =SUM(I14:L14) -> 56.320652 | O14: =SUM('Eveil scientifique'!X15)*0.4 -> 34 | P14: =SUM('Histoire et geographie'!X15)*0.4 -> 26 | Q14: =SUM(Artisitique!X15)*0.2 -> 10 | R14: =SUM(O14+P14+Q14) -> 70 | T14: 14.5 | U14: 18 | V14: 12.5 | W14: =SUM(T14:V14) -> 45 | Y14: =SUM(G14+M14+R14+W14) -> 237.70151 | AA14: =SUM(Y14/3.75) -> 63.387069 | AC14: =Comportement!W15 -> 31 | AE14: =A14 -> 10
A15: 11 | B15: ='Encodage + Sav. parler'!B16 -> FJJYWAFA Svohnr | C15: =SUM('Encodage + Sav. parler'!X16)*0.2 -> 13 | D15: =SUM('Savoir écrire'!X16)*0.3 -> 13.7 | E15: =SUM('Savoir lire'!X16)*0.3 -> 10 | F15: =SUM('Savoir ecouter'!X16)*0.2 -> 6.9565217 | G15: =SUM(C15:F15) -> 43.656522 | I15: =SUM('Nombres et operations'!X16)*0.3 -> 23.478261 | J15: =SUM(Grandeurs!X16)*0.3 -> 30 | K15: =SUM('Solides et figures'!X16)*0.3 -> 23.25 | L15: =SUM('Traitement de donnees'!X16)*0.1 -> 8.25 | M15: =SUM(I15:L15) -> 84.978261 | O15: =SUM('Eveil scientifique'!X16)*0.4 -> 20 | P15: =SUM('Histoire et geographie'!X16)*0.4 -> 16 | Q15: =SUM(Artisitique!X16)*0.2 -> 20 | R15: =SUM(O15+P15+Q15) -> 56 | T15: 16.5 | U15: 20 | V15: 13 | W15: =SUM(T15:V15) -> 49.5 | Y15: =SUM(G15+M15+R15+W15) -> 234.13478 | AA15: =SUM(Y15/3.75) -> 62.435942 | AC15: =Comportement!W16 -> 42 | AE15: =A15 -> 11
A16: 12 | B16: ='Encodage + Sav. parler'!B17 -> PJILCBS Cujjz | C16: =SUM('Encodage + Sav. parler'!X17)*0.2 -> 8.4 | D16: =SUM('Savoir écrire'!X17)*0.3 -> 8.1428571 | E16: =SUM('Savoir lire'!X17)*0.3 -> 13.076923 | F16: =SUM('Savoir ecouter'!X17)*0.2 -> 15 | G16: =SUM(C16:F16) -> 44.61978 | I16: =SUM('Nombres et operations'!X17)*0.3 -> 11.73913 | J16: =SUM(Grandeurs!X17)*0.3 -> 14 | K16: =SUM('Solides et figures'!X17)*0.3 -> 8 | L16: =SUM('Traitement de donnees'!X17)*0.1 -> 2.5 | M16: =SUM(I16:L16) -> 36.23913 | O16: =SUM('Eveil scientifique'!X17)*0.4 -> 24 | P16: =SUM('Histoire et geographie'!X17)*0.4 -> 16 | Q16: =SUM(Artisitique!X17)*0.2 -> 12 | R16: =SUM(O16+P16+Q16) -> 52 | T16: 13 | U16: 22 | V16: 8.5 | W16: =SUM(T16:V16) -> 43.5 | Y16: =SUM(G16+M16+R16+W16) -> 176.35891 | AA16: =SUM(Y16/3.75) -> 47.029043 | AC16: =Comportement!W17 -> 40 | AE16: =A16 -> 12
A17: 13 | B17: ='Encodage + Sav. parler'!B18 -> XUQUOVP Hanicij | C17: =SUM('Encodage + Sav. parler'!X18)*0.2 -> 0 | D17: =SUM('Savoir écrire'!X18)*0.3 -> 0 | E17: =SUM('Savoir lire'!X18)*0.3 -> 0 | F17: =SUM('Savoir ecouter'!X18)*0.2 -> 0 | G17: =SUM(C17:F17) -> 0 | I17: =SUM('Nombres et operations'!X18)*0.3 -> 0 | J17: =SUM(Grandeurs!X18)*0.3 -> 0 | K17: =SUM('Solides et figures'!X18)*0.3 -> 0 | L17: =SUM('Traitement de donnees'!X18)*0.1 -> 0 | M17: =SUM(I17:L17) -> 0 | O17: =SUM('Eveil scientifique'!X18)*0.4 -> 0 | P17: =SUM('Histoire et geographie'!X18)*0.4 -> 0 | Q17: =SUM(Artisitique!X18)*0.2 -> 0 | R17: =SUM(O17+P17+Q17) -> 0 | W17: =SUM(T17:V17) -> 0 | Y17: =SUM(G17+M17+R17+W17) -> 0 | AA17: =SUM(Y17/3.75) -> 0 | AC17: =Comportement!W18 | AE17: =A17 -> 13
A18: 14 | B18: ='Encodage + Sav. parler'!B19 -> VXZKW Pcljhw | C18: =SUM('Encodage + Sav. parler'!X19)*0.2 -> 4.6 | D18: =SUM('Savoir écrire'!X19)*0.3 -> 4.5882353 | E18: =SUM('Savoir lire'!X19)*0.3 -> 3.8461538 | F18: =SUM('Savoir ecouter'!X19)*0.2 -> 9.1304348 | G18: =SUM(C18:F18) -> 22.164824 | I18: =SUM('Nombres et operations'!X19)*0.3 -> 10.434783 | J18: =SUM(Grandeurs!X19)*0.3 -> 15 | K18: =SUM('Solides et figures'!X19)*0.3 -> 15 | L18: =SUM('Traitement de donnees'!X19)*0.1 -> 5 | M18: =SUM(I18:L18) -> 45.434783 | O18: =SUM('Eveil scientifique'!X19)*0.4 -> 18 | P18: =SUM('Histoire et geographie'!X19)*0.4 -> 8 | Q18: =SUM(Artisitique!X19)*0.2 -> 10 | R18: =SUM(O18+P18+Q18) -> 36 | T18: 6.5 | U18: 17 | V18: 5.5 | W18: =SUM(T18:V18) -> 29 | Y18: =SUM(G18+M18+R18+W18) -> 132.59961 | AA18: =SUM(Y18/3.75) -> 35.359895 | AC18: =Comportement!W19 -> 32 | AE18: =A18 -> 14
A19: 15 | B19: ='Encodage + Sav. parler'!B20 -> ANKBQZDX Mswnjbak | C19: =SUM('Encodage + Sav. parler'!X20)*0.2 -> 11 | D19: =SUM('Savoir écrire'!X20)*0.3 -> 11.142857 | E19: =SUM('Savoir lire'!X20)*0.3 -> 10.769231 | F19: =SUM('Savoir ecouter'!X20)*0.2 -> 11.304348 | G19: =SUM(C19:F19) -> 44.216436 | I19: =SUM('Nombres et operations'!X20)*0.3 -> 14.716981 | J19: =SUM(Grandeurs!X20)*0.3 -> 20 | K19: =SUM('Solides et figures'!X20)*0.3 -> 15.75 | L19: =SUM('Traitement de donnees'!X20)*0.1 -> 8.25 | M19: =SUM(I19:L19) -> 58.716981 | O19: =SUM('Eveil scientifique'!X20)*0.4 -> 22 | P19: =SUM('Histoire et geographie'!X20)*0.4 -> 26 | Q19: =SUM(Artisitique!X20)*0.2 -> 15 | R19: =SUM(O19+P19+Q19) -> 63 | T19: 11.5 | U19: 22 | V19: 12.5 | W19: =SUM(T19:V19) -> 46 | Y19: =SUM(G19+M19+R19+W19) -> 211.93342 | AA19: =SUM(Y19/3.75) -> 56.515578 | AC19: =Comportement!W20 -> 40 | AE19: =A19 -> 15
A20: 16 | B20: ='Encodage + Sav. parler'!B21 -> DYTVXSTMX Qoyfpx | C20: =SUM('Encodage + Sav. parler'!X21)*0.2 -> 20 | D20: =SUM('Savoir écrire'!X21)*0.3 -> 25.5 | E20: =SUM('Savoir lire'!X21)*0.3 -> 26.538462 | F20: =SUM('Savoir ecouter'!X21)*0.2 -> 18.26087 | G20: =SUM(C20:F20) -> 90.299331 | I20: =SUM('Nombres et operations'!X21)*0.3 -> 21.627907 | J20: =SUM(Grandeurs!X21)*0.3 -> 29.571429 | K20: =SUM('Solides et figures'!X21)*0.3 -> 29.25 | L20: =SUM('Traitement de donnees'!X21)*0.1 -> 10 | M20: =SUM(I20:L20) -> 90.449336 | O20: =SUM('Eveil scientifique'!X21)*0.4 -> 36 | P20: =SUM('Histoire et geographie'!X21)*0.4 -> 38 | Q20: =SUM(Artisitique!X21)*0.2 -> 18 | R20: =SUM(O20+P20+Q20) -> 92 | T20: 26.5 | U20: 22 | V20: 14.5 | W20: =SUM(T20:V20) -> 63 | Y20: =SUM(G20+M20+R20+W20) -> 335.74867 | AA20: =SUM(Y20/3.75) -> 89.532978 | AC20: =Comportement!W21 -> 43 | AE20: =A20 -> 16
A21: 17 | B21: ='Encodage + Sav. parler'!B22 -> MKJLB Hkfrxy | C21: =SUM('Encodage + Sav. parler'!X22)*0.2 -> 13 | D21: =SUM('Savoir écrire'!X22)*0.3 -> 10.235294 | E21: =SUM('Savoir lire'!X22)*0.3 -> 15 | F21: =SUM('Savoir ecouter'!X22)*0.2 -> 11.73913 | G21: =SUM(C21:F21) -> 49.974425 | I21: =SUM('Nombres et operations'!X22)*0.3 -> 20 | J21: =SUM(Grandeurs!X22)*0.3 -> 17.333333 | K21: =SUM('Solides et figures'!X22)*0.3 -> 4.125 | L21: =SUM('Traitement de donnees'!X22)*0.1 -> 6.25 | M21: =SUM(I21:L21) -> 47.708333 | O21: =SUM('Eveil scientifique'!X22)*0.4 -> 28 | P21: =SUM('Histoire et geographie'!X22)*0.4 -> 20 | Q21: =SUM(Artisitique!X22)*0.2 -> 10 | R21: =SUM(O21+P21+Q21) -> 58 | T21: 14 | U21: 20 | V21: 11 | W21: =SUM(T21:V21) -> 45 | Y21: =SUM(G21+M21+R21+W21) -> 200.68276 | AA21: =SUM(Y21/3.75) -> 53.515402 | AC21: =Comportement!W22 -> 27 | AE21: =A21 -> 17
A22: 18 | B22: ='Encodage + Sav. parler'!B23 -> VBEOU Lhlrygn-Roggj | C22: =SUM('Encodage + Sav. parler'!X23)*0.2 -> 20 | D22: =SUM('Savoir écrire'!X23)*0.3 -> 19.941176 | E22: =SUM('Savoir lire'!X23)*0.3 -> 16.153846 | F22: =SUM('Savoir ecouter'!X23)*0.2 -> 14.347826 | G22: =SUM(C22:F22) -> 70.442849 | I22: =SUM('Nombres et operations'!X23)*0.3 -> 24 | J22: =SUM(Grandeurs!X23)*0.3 -> 28 | K22: =SUM('Solides et figures'!X23)*0.3 -> 27 | L22: =SUM('Traitement de donnees'!X23)*0.1 -> 8 | M22: =SUM(I22:L22) -> 87 | O22: =SUM('Eveil scientifique'!X23)*0.4 -> 32 | P22: =SUM('Histoire et geographie'!X23)*0.4 -> 30 | Q22: =SUM(Artisitique!X23)*0.2 -> 18 | R22: =SUM(O22+P22+Q22) -> 80 | T22: 25.5 | U22: 21 | V22: 15 | W22: =SUM(T22:V22) -> 61.5 | Y22: =SUM(G22+M22+R22+W22) -> 298.94285 | AA22: =SUM(Y22/3.75) -> 79.718093 | AC22: =Comportement!W23 -> 40 | AE22: =A22 -> 18
A23: 19 | B23: ='Encodage + Sav. parler'!B24 -> OLGZDCNSX Ckgeph | C23: =SUM('Encodage + Sav. parler'!X24)*0.2 -> 19.8 | D23: =SUM('Savoir écrire'!X24)*0.3 -> 18.9 | E23: =SUM('Savoir lire'!X24)*0.3 -> 16.923077 | F23: =SUM('Savoir ecouter'!X24)*0.2 -> 17.391304 | G23: =SUM(C23:F23) -> 73.014381 | I23: =SUM('Nombres et operations'!X24)*0.3 -> 16.086957 | J23: =SUM(Grandeurs!X24)*0.3 -> 20.666667 | K23: =SUM('Solides et figures'!X24)*0.3 -> 13.875 | L23: =SUM('Traitement de donnees'!X24)*0.1 -> 7.5 | M23: =SUM(I23:L23) -> 58.128623 | O23: =SUM('Eveil scientifique'!X24)*0.4 -> 32 | P23: =SUM('Histoire et geographie'!X24)*0.4 -> 25 | Q23: =SUM(Artisitique!X24)*0.2 -> 12 | R23: =SUM(O23+P23+Q23) -> 69 | T23: 19.5 | U23: 27 | V23: 10.5 | W23: =SUM(T23:V23) -> 57 | Y23: =SUM(G23+M23+R23+W23) -> 257.143 | AA23: =SUM(Y23/3.75) -> 68.571468 | AC23: =Comportement!W24 -> 30 | AE23: =A23 -> 19
A24: 20 | B24: ='Encodage + Sav. parler'!B25 -> TXHBZXHX Ovgalpu | C24: =SUM('Encodage + Sav. parler'!X25)*0.2 -> 11.333333 | D24: =SUM('Savoir écrire'!X25)*0.3 -> 14.785714 | E24: =SUM('Savoir lire'!X25)*0.3 -> 18.461538 | F24: =SUM('Savoir ecouter'!X25)*0.2 -> 14.782609 | G24: =SUM(C24:F24) -> 59.363195 | I24: =SUM('Nombres et operations'!X25)*0.3 -> 13.018868 | J24: =SUM(Grandeurs!X25)*0.3 -> 27 | K24: =SUM('Solides et figures'!X25)*0.3 -> 18 | L24: =SUM('Traitement de donnees'!X25)*0.1 -> 8.25 | M24: =SUM(I24:L24) -> 66.268868 | O24: =SUM('Eveil scientifique'!X25)*0.4 -> 34 | P24: =SUM('Histoire et geographie'!X25)*0.4 -> 31 | Q24: =SUM(Artisitique!X25)*0.2 -> 18 | R24: =SUM(O24+P24+Q24) -> 83 | T24: 26 | U24: 20 | V24: 13.5 | W24: =SUM(T24:V24) -> 59.5 | Y24: =SUM(G24+M24+R24+W24) -> 268.13206 | AA24: =SUM(Y24/3.75) -> 71.501883 | AC24: =Comportement!W25 -> 41 | AE24: =A24 -> 20
A25: 21 | B25: ='Encodage + Sav. parler'!B26 -> POHRCJF WH LGUZBRRY Sdzoi | C25: =SUM('Encodage + Sav. parler'!X26)*0.2 -> 15.2 | D25: =SUM('Savoir écrire'!X26)*0.3 -> 15.882353 | E25: =SUM('Savoir lire'!X26)*0.3 -> 19.230769 | F25: =SUM('Savoir ecouter'!X26)*0.2 -> 18.26087 | G25: =SUM(C25:F25) -> 68.573992 | I25: =SUM('Nombres et operations'!X26)*0.3 -> 21.956522 | J25: =SUM(Grandeurs!X26)*0.3 -> 20 | K25: =SUM('Solides et figures'!X26)*0.3 -> 18.75 | L25: =SUM('Traitement de donnees'!X26)*0.1 -> 8.25 | M25: =SUM(I25:L25) -> 68.956522 | O25: =SUM('Eveil scientifique'!X26)*0.4 -> 32 | P25: =SUM('Histoire et geographie'!X26)*0.4 -> 33 | Q25: =SUM(Artisitique!X26)*0.2 -> 15 | R25: =SUM(O25+P25+Q25) -> 80 | T25: 17 | U25: 21 | V25: 15 | W25: =SUM(T25:V25) -> 53 | Y25: =SUM(G25+M25+R25+W25) -> 270.53051 | AA25: =SUM(Y25/3.75) -> 72.14147 | AC25: =Comportement!W26 -> 35 | AE25: =A25 -> 21
