Workbook
Name Classe_de_1ère_2ème_année: 'Encodage + Sav. parler'!$AF$5:$AF$6

Sheet Encodage + Sav. parler
A1: Bulletin | C1: Classe de 4ème année | J1: De Samblanx Nicolas | R1: Année 2023/2024
B3: NOMS | C3: copier coller | D3: familles de mots | E3: Qui a le droit
C4: 1 | D4: 2 | E4: 3 | F4: 4 | G4: 5 | H4: 6 | I4: 7 | J4: 8 | K4: 9 | L4: 10 | M4: 11 | N4: 12 | O4: 13 | P4: 14 | Q4: 15 | R4: 16 | S4: 17 | T4: 18 | U4: 19 | V4: 20 | W4: PTS | X4: %
A5: TOTAL --> | C5: 10 | D5: 20 | E5: 20 | AF5: Classe de 3ème année
A6: 1 | B6: ='[1]Encodage + Sav. parler'!$B$6 -> MEUF Hfehfa | C6: 6.5 | D6: 6 | W6: =IF(W106=0,"",SUM(C6:V6)) -> 12.5 | X6: =IF(W106=0,"",W6/W106*100) -> 41.666667 | Y6: =A6 -> 1 | AF6: Classe de 4ème année
A7: 2 | B7: ='[1]Encodage + Sav. parler'!$B$7 -> QFCTDQ Cstji | C7: 6.5 | E7: 6 | W7: =IF(W107=0,"",SUM(C7:V7)) -> 12.5 | X7: =IF(W107=0,"",W7/W107*100) -> 41.666667 | Y7: =A7 -> 2
A8: 3 | B8: ='[1]Encodage + Sav. parler'!$B$8 -> ZLPGW Mmvnufyn | C8: 6.5 | D8: 7 | E8: 18 | W8: =IF(W108=0,"",SUM(C8:V8)) -> 31.5 | X8: =IF(W108=0,"",W8/W108*100) -> 63 | Y8: =A8 -> 3
A9: 4 | B9: ='[1]Encodage + Sav. parler'!$B$9 -> BYLGGRPWAFFM Fbeozwbe | C9: 8 | D9: 7 | E9: 18 | W9: =IF(W109=0,"",SUM(C9:V9)) -> 33 | X9: =IF(W109=0,"",W9/W109*100) -> 66 | Y9: =A9 -> 4
A10: 5 | B10: ='[1]Encodage + Sav. parler'!$B$10 -> CZUWKE Dbzzvsz | C10: 10 | D10: 14 | E10: 26 | W10: =IF(W110=0,"",SUM(C10:V10)) -> 50 | X10: =IF(W110=0,"",W10/W110*100) -> 100 | Y10: =A10 -> 5
A11: 6 | B11: ='[1]Encodage + Sav. parler'!$B$11 -> NGRPFYX Kzfmy | C11: 7 | D11: 12 | E11: 16 | W11: =IF(W111=0,"",SUM(C11:V11)) -> 35 | X11: =IF(W111=0,"",W11/W111*100) -> 70 | Y11: =A11 -> 6
A12: 7 | B12: ='[1]Encodage + Sav. parler'!$B$12 -> JUF Omjvhjm | C12: 9 | D12: 20 | E12: 21 | W12: =IF(W112=0,"",SUM(C12:V12)) -> 50 | X12: =IF(W112=0,"",W12/W112*100) -> 100 | Y12: =A12 -> 7
A13: 8 | B13: ='[1]Encodage + Sav. parler'!$B$13 -> FIWGYBFGJI Qchucznjx | C13: 5 | E13: 16.5 | W13: =IF(W113=0,"",SUM(C13:V13)) -> 21.5 | X13: =IF(W113=0,"",W13/W113*100) -> 71.666667 | Y13: =A13 -> 8
A14: 9 | B14: ='[1]Encodage + Sav. parler'!$B$14 -> K&#600;MYPDD JAQDIGQ Kyznuzp | C14: 7 | D14: 10 | E14: 17 | W14: =IF(W114=0,"",SUM(C14:V14)) -> 34 | X14: =IF(W114=0,"",W14/W114*100) -> 68 | Y14: =A14 -> 9
A15: 10 | B15: ='[1]Encodage + Sav. parler'!$B$15 -> JRQJGR Njrlyiue | C15: 8 | D15: 10 | E15: 16.5 | W15: =IF(W115=0,"",SUM(C15:V15)) -> 34.5 | X15: =IF(W115=0,"",W15/W115*100) -> 69 | Y15: =A15 -> 10
A16: 11 | B16: ='[1]Encodage + Sav. parler'!$B$16 -> FJJYWAFA Svohnr | C16: 7 | D16: 9 | E16: 16.5 | W16: =IF(W116=0,"",SUM(C16:V16)) -> 32.5 | X16: =IF(W116=0,"",W16/W116*100) -> 65 | Y16: =A16 -> 11
A17: 12 | B17: ='[1]Encodage + Sav. parler'!$B$17 -> PJILCBS Cujjz | C17: 7 | D17: 7 | E17: 7 | W17: =IF(W117=0,"",SUM(C17:V17)) -> 21 | X17: =IF(W117=0,"",W17/W117*100) -> 42 | Y17: =A17 -> 12
A18: 13 | B18: ='[1]Encodage + Sav. parler'!$B$18 -> XUQUOVP Hanicij | W18: =IF(W118=0,"",SUM(C18:V18)) | X18: =IF(W118=0,"",W18/W118*100) | Y18: =A18 -> 13
A19: 14 | B19: ='[1]Encodage + Sav. parler'!$B$19 -> VXZKW Pcljhw | C19: 2.5 | D19: 3 | E19: 6 | W19: =IF(W119=0,"",SUM(C19:V19)) -> 11.5 | X19: =IF(W119=0,"",W19/W119*100) -> 23 | Y19: =A19 -> 14
A20: 15 | B20: ='[1]Encodage + Sav. parler'!$B$20 -> ANKBQZDX Mswnjbak | C20: 6.5 | E20: 10 | W20: =IF(W120=0,"",SUM(C20:V20)) -> 16.5 | X20: =IF(W120=0,"",W20/W120*100) -> 55 | Y20: =A20 -> 15
A21: 16 | B21: ='[1]Encodage + Sav. parler'!$B$21 -> DYTVXSTMX Qoyfpx | C21: 14 | D21: 16 | E21: 20 | W21: =IF(W121=0,"",SUM(C21:V21)) -> 50 | X21: =IF(W121=0,"",W21/W121*100) -> 100 | Y21: =A21 -> 16
A22: 17 | B22: ='[1]Encodage + Sav. parler'!$B$22 -> MKJLB Hkfrxy | C22: 7.5 | D22: 6 | E22: 19 | W22: =IF(W122=0,"",SUM(C22:V22)) -> 32.5 | X22: =IF(W122=0,"",W22/W122*100) -> 65 | Y22: =A22 -> 17
A23: 18 | B23: ='[1]Encodage + Sav. parler'!$B$23 -> VBEOU Lhlrygn-Roggj | C23: 10 | D23: 13 | E23: 27 | W23: =IF(W123=0,"",SUM(C23:V23)) -> 50 | X23: =IF(W123=0,"",W23/W123*100) -> 100 | Y23: =A23 -> 18
A24: 19 | B24: ='[1]Encodage + Sav. parler'!$B$24 -> OLGZDCNSX Ckgeph | C24: 7.5 | D24: 12 | E24: 30 | W24: =IF(W124=0,"",SUM(C24:V24)) -> 49.5 | X24: =IF(W124=0,"",W24/W124*100) -> 99 | Y24: =A24 -> 19
A25: 20 | B25: ='[1]Encodage + Sav. parler'!$B$25 -> TXHBZXHX Ovgalpu | C25: 8 | D25: 9 | W25: =IF(W125=0,"",SUM(C25:V25)) -> 17 | X25: =IF(W125=0,"",W25/W125*100) -> 56.666667 | Y25: =A25 -> 20
A26: 21 | B26: ='[1]Encodage + Sav. parler'!$B$26 -> POHRCJF WH LGUZBRRY Sdzoi | C26: 8 | D26: 12 | E26: 18 | W26: =IF(W126=0,"",SUM(C26:V26)) -> 38 | X26: =IF(W126=0,"",W26/W126*100) -> 76 | Y26: =A26 -> 21
A27: 22 | W27: =IF(W127=0,"",SUM(C27:V27)) | X27: =IF(W127=0,"",W27/W127*100) | Y27: =A27 -> 22
A28: 23 | W28: =IF(W128=0,"",SUM(C28:V28)) | X28: =IF(W128=0,"",W28/W128*100) | Y28: =A28 -> 23
A29: 24 | W29: =IF(W129=0,"",SUM(C29:V29)) | X29: =IF(W129=0,"",W29/W129*100) | Y29: =A29 -> 24
A30: 25 | W30: =IF(W130=0,"",SUM(C30:V30)) | X30: =IF(W130=0,"",W30/W130*100) | Y30: =A30 -> 25
A31: 26 | W31: =IF(W131=0,"",SUM(C31:V31)) | X31: =IF(W131=0,"",W31/W131*100) | Y31: =A31 -> 26
A32: 27 | W32: =IF(W132=0,"",SUM(C32:V32)) | X32: =IF(W132=0,"",W32/W132*100) | Y32: =A32 -> 27
A33: 28 | W33: =IF(W133=0,"",SUM(C33:V33)) | X33: =IF(W133=0,"",W33/W133*100) | Y33: =A33 -> 28
A34: 29 | W34: =IF(W134=0,"",SUM(C34:V34)) | X34: =IF(W134=0,"",W34/W134*100) | Y34: =A34 -> 29
A35: 30 | W35: =IF(W135=0,"",SUM(C35:V35)) | X35: =IF(W135=0,"",W35/W135*100) | Y35: =A35 -> 30
A36: TOTAL | C36: =IF(C136=0,"",SUM(C6:C35)) -> 151.5 | D36: =IF(D136=0,"",SUM(D6:D35)) -> 173 | E36: =IF(E136=0,"",SUM(E6:E35)) -> 308.5 | F36: =IF(F136=0,"",SUM(F6:F35)) | G36: =IF(G136=0,"",SUM(G6:G35)) | H36: =IF(H136=0,"",SUM(H6:H35)) | I36: =IF(I136=0,"",SUM(I6:I35)) | J36: =IF(J136=0,"",SUM(J6:J35)) | ... V36: =IF(V136=0,"",SUM(V6:V35)) | W36: =IF(W136=0,"",SUM(C36:V36)) -> 633 | X36: =IF(W136=0,"",W36/W136*100) -> 70.333333 | Y36: =A36 -> TOTAL
A37: MOY. CLAS | C37: =IF(C36="","",C36/C137*100) -> 75.75 | D37: =IF(D36="","",D36/D137*100) -> 50.882353 | E37: =IF(E36="","",E36/E137*100) -> 85.694444 | F37: =IF(F36="","",F36/F137*100) | G37: =IF(G36="","",G36/G137*100) | H37: =IF(H36="","",H36/H137*100) | I37: =IF(I36="","",I36/I137*100) | J37: =IF(J36="","",J36/J137*100) | ... V37: =IF(V36="","",V36/V137*100) | Y37: =A37 -> MOY. CLAS
C105: =C5 -> 10 | D105: =D5 -> 20 | E105: =E5 -> 20 | F105: =F5 -> 0 | G105: =G5 -> 0 | H105: =H5 -> 0 | I105: =I5 -> 0 | J105: =J5 -> 0 | ... W105: =W5 -> 0
C106: =IF(C6="","",$C$5) -> 10 | D106: =IF(D6="","",$D$5) -> 20 | E106: =IF(E6="","",$E$5) | F106: =IF(F6="","",$F$5) | G106: =IF(G6="","",$G$5) | H106: =IF(H6="","",$H$5) | I106: =IF(I6="","",$I$5) | J106: =IF(J6="","",$J$5) | K106: =IF(K6="","",$K$5) | L106: =IF(L6="","",$L$5) | M106: =IF(M6="","",$M$5) | N106: =IF(N6="","",$N$5) | O106: =IF(O6="","",$O$5) | P106: =IF(P6="","",$P$5) | Q106: =IF(Q6="","",$Q$5) | R106: =IF(R6="","",$R$5) | S106: =IF(S6="","",$S$5) | T106: =IF(T6="","",$T$5) | U106: =IF(U6="","",$U$5) | V106: =IF(V6="","",$V$5) | W106: =SUM(C106:V106) -> 30
C107: =IF(C7="","",$C$5) -> 10 | D107: =IF(D7="","",$D$5) | E107: =IF(E7="","",$E$5) -> 20 | F107: =IF(F7="","",$F$5) | G107: =IF(G7="","",$G$5) | H107: =IF(H7="","",$H$5) | I107: =IF(I7="","",$I$5) | J107: =IF(J7="","",$J$5) | K107: =IF(K7="","",$K$5) | L107: =IF(L7="","",$L$5) | M107: =IF(M7="","",$M$5) | N107: =IF(N7="","",$N$5) | O107: =IF(O7="","",$O$5) | P107: =IF(P7="","",$P$5) | Q107: =IF(Q7="","",$Q$5) | R107: =IF(R7="","",$R$5) | S107: =IF(S7="","",$S$5) | T107: =IF(T7="","",$T$5) | U107: =IF(U7="","",$U$5) | V107: =IF(V7="","",$V$5) | W107: =SUM(C107:V107) -> 30
C108: =IF(C8="","",$C$5) -> 10 | D108: =IF(D8="","",$D$5) -> 20 | E108: =IF(E8="","",$E$5) -> 20 | F108: =IF(F8="","",$F$5) | G108: =IF(G8="","",$G$5) | H108: =IF(H8="","",$H$5) | I108: =IF(I8="","",$I$5) | J108: =IF(J8="","",$J$5) | K108: =IF(K8="","",$K$5) | L108: =IF(L8="","",$L$5) | M108: =IF(M8="","",$M$5) | N108: =IF(N8="","",$N$5) | O108: =IF(O8="","",$O$5) | P108: =IF(P8="","",$P$5) | Q108: =IF(Q8="","",$Q$5) | R108: =IF(R8="","",$R$5) | S108: =IF(S8="","",$S$5) | T108: =IF(T8="","",$T$5) | U108: =IF(U8="","",$U$5) | V108: =IF(V8="","",$V$5) | W108: =SUM(C108:V108) -> 50
...

Sheet Savoir lire
A1: ='Encodage + Sav. parler'!A1 -> Bulletin | C1: ='Encodage + Sav. parler'!C1 -> Classe de 4ème année | J1: ='Encodage + Sav. parler'!J1 -> De Samblanx Nicolas | R1: ='Encodage + Sav. parler'!R1 -> Année 2023/2024
B3: NOMS | C3: Greta | D3: vacances
C4: 1 | D4: 2 | E4: 3 | F4: 4 | G4: 5 | H4: 6 | I4: 7 | J4: 8 | K4: 9 | L4: 10 | M4: 11 | N4: 12 | O4: 13 | P4: 14 | Q4: 15 | R4: 16 | S4: 17 | T4: 18 | U4: 19 | V4: 20 | W4: PTS | X4: %
A5: TOTAL --> | C5: 19 | D5: 20
A6: 1 | B6: ='Encodage + Sav. parler'!B6 -> MEUF Hfehfa | C6: 5.5 | D6: 4 | W6: =IF(W106=0,"",SUM(C6:V6)) -> 9.5 | X6: =IF(W106=0,"",W6/W106*100) -> 24.358974 | Y6: =A6 -> 1
A7: 2 | B7: ='Encodage + Sav. parler'!B7 -> QFCTDQ Cstji | C7: 0 | D7: 0 | W7: =IF(W107=0,"",SUM(C7:V7)) -> 0 | X7: =IF(W107=0,"",W7/W107*100) -> 0 | Y7: =A7 -> 2
A8: 3 | B8: ='Encodage + Sav. parler'!B8 -> ZLPGW Mmvnufyn | C8: 8 | D8: 4 | W8: =IF(W108=0,"",SUM(C8:V8)) -> 12 | X8: =IF(W108=0,"",W8/W108*100) -> 30.769231 | Y8: =A8 -> 3
A9: 4 | B9: ='Encodage + Sav. parler'!B9 -> BYLGGRPWAFFM Fbeozwbe | C9: 9 | D9: 10 | W9: =IF(W109=0,"",SUM(C9:V9)) -> 19 | X9: =IF(W109=0,"",W9/W109*100) -> 48.717949 | Y9: =A9 -> 4
A10: 5 | B10: ='Encodage + Sav. parler'!B10 -> CZUWKE Dbzzvsz | C10: 12.5 | D10: 18 | W10: =IF(W110=0,"",SUM(C10:V10)) -> 30.5 | X10: =IF(W110=0,"",W10/W110*100) -> 78.205128 | Y10: =A10 -> 5
A11: 6 | B11: ='Encodage + Sav. parler'!B11 -> NGRPFYX Kzfmy | C11: 12.5 | D11: 8 | W11: =IF(W111=0,"",SUM(C11:V11)) -> 20.5 | X11: =IF(W111=0,"",W11/W111*100) -> 52.564103 | Y11: =A11 -> 6
A12: 7 | B12: ='Encodage + Sav. parler'!B12 -> JUF Omjvhjm | C12: 15.5 | D12: 14 | W12: =IF(W112=0,"",SUM(C12:V12)) -> 29.5 | X12: =IF(W112=0,"",W12/W112*100) -> 75.641026 | Y12: =A12 -> 7
A13: 8 | B13: ='Encodage + Sav. parler'!B13 -> FIWGYBFGJI Qchucznjx | C13: 3.5 | D13: 4 | W13: =IF(W113=0,"",SUM(C13:V13)) -> 7.5 | X13: =IF(W113=0,"",W13/W113*100) -> 19.230769 | Y13: =A13 -> 8
A14: 9 | B14: ='Encodage + Sav. parler'!B14 -> K&#600;MYPDD JAQDIGQ Kyznuzp | C14: 12 | D14: 8 | W14: =IF(W114=0,"",SUM(C14:V14)) -> 20 | X14: =IF(W114=0,"",W14/W114*100) -> 51.282051 | Y14: =A14 -> 9
A15: 10 | B15: ='Encodage + Sav. parler'!B15 -> JRQJGR Njrlyiue | C15: 11.5 | D15: 14 | W15: =IF(W115=0,"",SUM(C15:V15)) -> 25.5 | X15: =IF(W115=0,"",W15/W115*100) -> 65.384615 | Y15: =A15 -> 10
A16: 11 | B16: ='Encodage + Sav. parler'!B16 -> FJJYWAFA Svohnr | C16: 9 | D16: 4 | W16: =IF(W116=0,"",SUM(C16:V16)) -> 13 | X16: =IF(W116=0,"",W16/W116*100) -> 33.333333 | Y16: =A16 -> 11
A17: 12 | B17: ='Encodage + Sav. parler'!B17 -> PJILCBS Cujjz | C17: 8 | D17: 9 | W17: =IF(W117=0,"",SUM(C17:V17)) -> 17 | X17: =IF(W117=0,"",W17/W117*100) -> 43.589744 | Y17: =A17 -> 12
A18: 13 | B18: ='Encodage + Sav. parler'!B18 -> XUQUOVP Hanicij | W18: =IF(W118=0,"",SUM(C18:V18)) | X18: =IF(W118=0,"",W18/W118*100) | Y18: =A18 -> 13
A19: 14 | B19: ='Encodage + Sav. parler'!B19 -> VXZKW Pcljhw | C19: 5 | D19: 0 | W19: =IF(W119=0,"",SUM(C19:V19)) -> 5 | X19: =IF(W119=0,"",W19/W119*100) -> 12.820513 | Y19: =A19 -> 14
A20: 15 | B20: ='Encodage + Sav. parler'!B20 -> ANKBQZDX Mswnjbak | C20: 6 | D20: 8 | W20: =IF(W120=0,"",SUM(C20:V20)) -> 14 | X20: =IF(W120=0,"",W20/W120*100) -> 35.897436 | Y20: =A20 -> 15
A21: 16 | B21: ='Encodage + Sav. parler'!B21 -> DYTVXSTMX Qoyfpx | C21: 18.5 | D21: 16 | W21: =IF(W121=0,"",SUM(C21:V21)) -> 34.5 | X21: =IF(W121=0,"",W21/W121*100) -> 88.461538 | Y21: =A21 -> 16
A22: 17 | B22: ='Encodage + Sav. parler'!B22 -> MKJLB Hkfrxy | C22: 10.5 | D22: 9 | W22: =IF(W122=0,"",SUM(C22:V22)) -> 19.5 | X22: =IF(W122=0,"",W22/W122*100) -> 50 | Y22: =A22 -> 17
A23: 18 | B23: ='Encodage + Sav. parler'!B23 -> VBEOU Lhlrygn-Roggj | C23: 9 | D23: 12 | W23: =IF(W123=0,"",SUM(C23:V23)) -> 21 | X23: =IF(W123=0,"",W23/W123*100) -> 53.846154 | Y23: =A23 -> 18
A24: 19 | B24: ='Encodage + Sav. parler'!B24 -> OLGZDCNSX Ckgeph | C24: 12 | D24: 10 | W24: =IF(W124=0,"",SUM(C24:V24)) -> 22 | X24: =IF(W124=0,"",W24/W124*100) -> 56.410256 | Y24: =A24 -> 19
A25: 20 | B25: ='Encodage + Sav. parler'!B25 -> TXHBZXHX Ovgalpu | C25: 10 | D25: 14 | W25: =IF(W125=0,"",SUM(C25:V25)) -> 24 | X25: =IF(W125=0,"",W25/W125*100) -> 61.538462 | Y25: =A25 -> 20
A26: 21 | B26: ='Encodage + Sav. parler'!B26 -> POHRCJF WH LGUZBRRY Sdzoi | C26: 13 | D26: 12 | W26: =IF(W126=0,"",SUM(C26:V26)) -> 25 | X26: =IF(W126=0,"",W26/W126*100) -> 64.102564 | Y26: =A26 -> 21
A27: 22 | B27: ='Encodage + Sav. parler'!B27 -> 0 | W27: =IF(W127=0,"",SUM(C27:V27)) | X27: =IF(W127=0,"",W27/W127*100) | Y27: =A27 -> 22
A28: 23 | B28: ='Encodage + Sav. parler'!B28 -> 0 | W28: =IF(W128=0,"",SUM(C28:V28)) | X28: =IF(W128=0,"",W28/W128*100) | Y28: =A28 -> 23
A29: 24 | B29: ='Encodage + Sav. parler'!B29 -> 0 | W29: =IF(W129=0,"",SUM(C29:V29)) | X29: =IF(W129=0,"",W29/W129*100) | Y29: =A29 -> 24
A30: 25 | B30: ='Encodage + Sav. parler'!B30 -> 0 | W30: =IF(W130=0,"",SUM(C30:V30)) | X30: =IF(W130=0,"",W30/W130*100) | Y30: =A30 -> 25
A31: 26 | B31: ='Encodage + Sav. parler'!B31 -> 0 | W31: =IF(W131=0,"",SUM(C31:V31)) | X31: =IF(W131=0,"",W31/W131*100) | Y31: =A31 -> 26
A32: 27 | B32: ='Encodage + Sav. parler'!B32 -> 0 | W32: =IF(W132=0,"",SUM(C32:V32)) | X32: =IF(W132=0,"",W32/W132*100) | Y32: =A32 -> 27
A33: 28 | B33: ='Encodage + Sav. parler'!B33 -> 0 | W33: =IF(W133=0,"",SUM(C33:V33)) | X33: =IF(W133=0,"",W33/W133*100) | Y33: =A33 -> 28
A34: 29 | B34: ='Encodage + Sav. parler'!B34 -> 0 | W34: =IF(W134=0,"",SUM(C34:V34)) | X34: =IF(W134=0,"",W34/W134*100) | Y34: =A34 -> 29
A35: 30 | B35: ='Encodage + Sav. parler'!B35 -> 0 | W35: =IF(W135=0,"",SUM(C35:V35)) | X35: =IF(W135=0,"",W35/W135*100) | Y35: =A35 -> 30
A36: TOTAL | C36: =IF(C136=0,"",SUM(C6:C35)) -> 191 | D36: =IF(D136=0,"",SUM(D6:D35)) -> 178 | E36: =IF(E136=0,"",SUM(E6:E35)) | F36: =IF(F136=0,"",SUM(F6:F35)) | G36: =IF(G136=0,"",SUM(G6:G35)) | H36: =IF(H136=0,"",SUM(H6:H35)) | I36: =IF(I136=0,"",SUM(I6:I35)) | J36: =IF(J136=0,"",SUM(J6:J35)) | ... V36: =IF(V136=0,"",SUM(V6:V35)) | W36: =IF(W136=0,"",SUM(C36:V36)) -> 369 | X36: =IF(W136=0,"",W36/W136*100) -> 47.307692 | Y36: =A36 -> TOTAL
A37: MOY. CLAS | C37: =IF(C36="","",C36/C137*100) -> 50.263158 | D37: =IF(D36="","",D36/D137*100) -> 44.5 | E37: =IF(E36="","",E36/E137*100) | F37: =IF(F36="","",F36/F137*100) | G37: =IF(G36="","",G36/G137*100) | H37: =IF(H36="","",H36/H137*100) | I37: =IF(I36="","",I36/I137*100) | J37: =IF(J36="","",J36/J137*100) | ... V37: =IF(V36="","",V36/V137*100) | Y37: =A37 -> MOY. CLAS
C105: =C5 -> 19 | D105: =D5 -> 20 | E105: =E5 -> 0 | F105: =F5 -> 0 | G105: =G5 -> 0 | H105: =H5 -> 0 | I105: =I5 -> 0 | J105: =J5 -> 0 | ... W105: =W5 -> 0
C106: =IF(C6="","",$C$5) -> 19 | D106: =IF(D6="","",$D$5) -> 20 | E106: =IF(E6="","",$E$5) | F106: =IF(F6="","",$F$5) | G106: =IF(G6="","",$G$5) | H106: =IF(H6="","",$H$5) | I106: =IF(I6="","",$I$5) | J106: =IF(J6="","",$J$5) | K106: =IF(K6="","",$K$5) | L106: =IF(L6="","",$L$5) | M106: =IF(M6="","",$M$5) | N106: =IF(N6="","",$N$5) | O106: =IF(O6="","",$O$5) | P106: =IF(P6="","",$P$5) | Q106: =IF(Q6="","",$Q$5) | R106: =IF(R6="","",$R$5) | S106: =IF(S6="","",$S$5) | T106: =IF(T6="","",$T$5) | U106: =IF(U6="","",$U$5) | V106: =IF(V6="","",$V$5) | W106: =SUM(C106:V106) -> 39
C107: =IF(C7="","",$C$5) -> 19 | D107: =IF(D7="","",$D$5) -> 20 | E107: =IF(E7="","",$E$5) | F107: =IF(F7="","",$F$5) | G107: =IF(G7="","",$G$5) | H107: =IF(H7="","",$H$5) | I107: =IF(I7="","",$I$5) | J107: =IF(J7="","",$J$5) | K107: =IF(K7="","",$K$5) | L107: =IF(L7="","",$L$5) | M107: =IF(M7="","",$M$5) | N107: =IF(N7="","",$N$5) | O107: =IF(O7="","",$O$5) | P107: =IF(P7="","",$P$5) | Q107: =IF(Q7="","",$Q$5) | R107: =IF(R7="","",$R$5) | S107: =IF(S7="","",$S$5) | T107: =IF(T7="","",$T$5) | U107: =IF(U7="","",$U$5) | V107: =IF(V7="","",$V$5) | W107: =SUM(C107:V107) -> 39
C108: =IF(C8="","",$C$5) -> 19 | D108: =IF(D8="","",$D$5) -> 20 | E108: =IF(E8="","",$E$5) | F108: =IF(F8="","",$F$5) | G108: =IF(G8="","",$G$5) | H108: =IF(H8="","",$H$5) | I108: =IF(I8="","",$I$5) | J108: =IF(J8="","",$J$5) | K108: =IF(K8="","",$K$5) | L108: =IF(L8="","",$L$5) | M108: =IF(M8="","",$M$5) | N108: =IF(N8="","",$N$5) | O108: =IF(O8="","",$O$5) | P108: =IF(P8="","",$P$5) | Q108: =IF(Q8="","",$Q$5) | R108: =IF(R8="","",$R$5) | S108: =IF(S8="","",$S$5) | T108: =IF(T8="","",$T$5) | U108: =IF(U8="","",$U$5) | V108: =IF(V8="","",$V$5) | W108: =SUM(C108:V108) -> 39
...

Sheet Savoir écrire
A1: ='Encodage + Sav. parler'!A1 -> Bulletin | C1: ='Encodage + Sav. parler'!C1 -> Classe de 4ème année | J1: ='Encodage + Sav. parler'!J1 -> De Samblanx Nicolas | R1: ='Encodage + Sav. parler'!R1 -> Année 2023/2024
B3: NOMS | C3: genre et nombre | D3: a as à | E3: familles de mots | F3: GN | G3: Pluriel | H3: Le présent | I3: préfixes | J3: phrase interrogative | K3: Dictée planète
C4: 1 | D4: 2 | E4: 3 | F4: 4 | G4: 5 | H4: 6 | I4: 7 | J4: 8 | K4: 9 | L4: 10 | M4: 11 | N4: 12 | O4: 13 | P4: 14 | Q4: 15 | R4: 16 | S4: 17 | T4: 18 | U4: 19 | V4: 20 | W4: PTS | X4: %
A5: TOTAL --> | C5: 20 | D5: 10 | E5: 20 | F5: 20 | G5: 20 | H5: 20 | I5: 20 | J5: 20 | K5: 20
A6: 1 | B6: ='Encodage + Sav. parler'!B6 -> MEUF Hfehfa | D6: 5 | E6: 6 | F6: 8.5 | G6: 6.5 | H6: 8 | I6: 6.5 | K6: 7 | W6: =IF(W106=0,"",SUM(C6:V6)) -> 47.5 | X6: =IF(W106=0,"",W6/W106*100) -> 36.538462 | Y6: =A6 -> 1
A7: 2 | B7: ='Encodage + Sav. parler'!B7 -> QFCTDQ Cstji | C7: 1 | D7: 4 | F7: 5.5 | G7: 1.5 | H7: 0 | I7: 1 | J7: 0 | K7: 0 | W7: =IF(W107=0,"",SUM(C7:V7)) -> 13 | X7: =IF(W107=0,"",W7/W107*100) -> 8.6666667 | Y7: =A7 -> 2
A8: 3 | B8: ='Encodage + Sav. parler'!B8 -> ZLPGW Mmvnufyn | C8: 7 | D8: 5 | E8: 7 | F8: 5.5 | G8: 2.5 | H8: 8 | I8: 8.5 | J8: 4 | K8: 6.5 | W8: =IF(W108=0,"",SUM(C8:V8)) -> 54 | X8: =IF(W108=0,"",W8/W108*100) -> 31.764706 | Y8: =A8 -> 3
A9: 4 | B9: ='Encodage + Sav. parler'!B9 -> BYLGGRPWAFFM Fbeozwbe | C9: 3 | D9: 5 | E9: 7 | F9: 3 | G9: 2.5 | H9: 6 | I9: 7 | J9: 7 | K9: 3.5 | W9: =IF(W109=0,"",SUM(C9:V9)) -> 44 | X9: =IF(W109=0,"",W9/W109*100) -> 25.882353 | Y9: =A9 -> 4
A10: 5 | B10: ='Encodage + Sav. parler'!B10 -> CZUWKE Dbzzvsz | C10: 15 | D10: 9 | E10: 14 | F10: 9.5 | G10: 15.5 | H10: 18 | I10: 15 | J10: 12.5 | K10: 14.5 | W10: =IF(W110=0,"",SUM(C10:V10)) -> 123 | X10: =IF(W110=0,"",W10/W110*100) -> 72.352941 | Y10: =A10 -> 5
A11: 6 | B11: ='Encodage + Sav. parler'!B11 -> NGRPFYX Kzfmy | C11: 14 | D11: 7 | E11: 12 | F11: 8 | G11: 10.5 | H11: 12 | I11: 1.5 | J11: 7 | K11: 1 | W11: =IF(W111=0,"",SUM(C11:V11)) -> 73 | X11: =IF(W111=0,"",W11/W111*100) -> 42.941176 | Y11: =A11 -> 6
A12: 7 | B12: ='Encodage + Sav. parler'!B12 -> JUF Omjvhjm | C12: 18 | D12: 10 | E12: 20 | F12: 16.5 | G12: 20 | H12: 20 | I12: 15.5 | J12: 13 | K12: 19 | W12: =IF(W112=0,"",SUM(C12:V12)) -> 152 | X12: =IF(W112=0,"",W12/W112*100) -> 89.411765 | Y12: =A12 -> 7
A13: 8 | B13: ='Encodage + Sav. parler'!B13 -> FIWGYBFGJI Qchucznjx | C13: 3.5 | D13: 5 | F13: 3.5 | G13: 5.5 | I13: 4 | J13: 4 | K13: 0 | W13: =IF(W113=0,"",SUM(C13:V13)) -> 25.5 | X13: =IF(W113=0,"",W13/W113*100) -> 19.615385 | Y13: =A13 -> 8
A14: 9 | B14: ='Encodage + Sav. parler'!B14 -> K&#600;MYPDD JAQDIGQ Kyznuzp | D14: 4 | E14: 10 | F14: 10 | G14: 11.5 | H14: 11 | I14: 8 | J14: 10 | K14: 15.5 | W14: =IF(W114=0,"",SUM(C14:V14)) -> 80 | X14: =IF(W114=0,"",W14/W114*100) -> 53.333333 | Y14: =A14 -> 9
A15: 10 | B15: ='Encodage + Sav. parler'!B15 -> JRQJGR Njrlyiue | C15: 10 | D15: 5 | E15: 10 | F15: 15 | G15: 16.5 | H15: 13 | I15: 13.5 | J15: 8 | K15: 14.5 | W15: =IF(W115=0,"",SUM(C15:V15)) -> 105.5 | X15: =IF(W115=0,"",W15/W115*100) -> 62.058824 | Y15: =A15 -> 10
A16: 11 | B16: ='Encodage + Sav. parler'!B16 -> FJJYWAFA Svohnr | C16: 4 | D16: 2 | E16: 9 | F16: 6.5 | G16: 7.5 | H16: 14 | I16: 8 | K16: 17.5 | W16: =IF(W116=0,"",SUM(C16:V16)) -> 68.5 | X16: =IF(W116=0,"",W16/W116*100) -> 45.666667 | Y16: =A16 -> 11
A17: 12 | B17: ='Encodage + Sav. parler'!B17 -> PJILCBS Cujjz | D17: 3 | E17: 7 | I17: 6.5 | K17: 2.5 | W17: =IF(W117=0,"",SUM(C17:V17)) -> 19 | X17: =IF(W117=0,"",W17/W117*100) -> 27.142857 | Y17: =A17 -> 12
A18: 13 | B18: ='Encodage + Sav. parler'!B18 -> XUQUOVP Hanicij | W18: =IF(W118=0,"",SUM(C18:V18)) | X18: =IF(W118=0,"",W18/W118*100) | Y18: =A18 -> 13
A19: 14 | B19: ='Encodage + Sav. parler'!B19 -> VXZKW Pcljhw | C19: 5 | D19: 6 | E19: 3 | F19: 6.5 | G19: 0.5 | H19: 0.5 | I19: 3.5 | J19: 0 | K19: 1 | W19: =IF(W119=0,"",SUM(C19:V19)) -> 26 | X19: =IF(W119=0,"",W19/W119*100) -> 15.294118 | Y19: =A19 -> 14
A20: 15 | B20: ='Encodage + Sav. parler'!B20 -> ANKBQZDX Mswnjbak | C20: 12.5 | F20: 8.5 | G20: 6.5 | H20: 7 | I20: 7 | J20: 9.5 | K20: 1 | W20: =IF(W120=0,"",SUM(C20:V20)) -> 52 | X20: =IF(W120=0,"",W20/W120*100) -> 37.142857 | Y20: =A20 -> 15
A21: 16 | B21: ='Encodage + Sav. parler'!B21 -> DYTVXSTMX Qoyfpx | C21: 13 | E21: 16 | F21: 13 | G21: 19.5 | H21: 19 | I21: 19 | K21: 19.5 | W21: =IF(W121=0,"",SUM(C21:V21)) -> 119 | X21: =IF(W121=0,"",W21/W121*100) -> 85 | Y21: =A21 -> 16
A22: 17 | B22: ='Encodage + Sav. parler'!B22 -> MKJLB Hkfrxy | C22: 3.5 | D22: 7 | E22: 6 | F22: 5.5 | G22: 3.5 | H22: 13 | I22: 9.5 | J22: 4 | K22: 6 | W22: =IF(W122=0,"",SUM(C22:V22)) -> 58 | X22: =IF(W122=0,"",W22/W122*100) -> 34.117647 | Y22: =A22 -> 17
A23: 18 | B23: ='Encodage + Sav. parler'!B23 -> VBEOU Lhlrygn-Roggj | C23: 15.5 | D23: 8 | E23: 13 | F23: 6.5 | G23: 11.5 | H23: 15 | I23: 16.5 | J23: 9 | K23: 18 | W23: =IF(W123=0,"",SUM(C23:V23)) -> 113 | X23: =IF(W123=0,"",W23/W123*100) -> 66.470588 | Y23: =A23 -> 18
A24: 19 | B24: ='Encodage + Sav. parler'!B24 -> OLGZDCNSX Ckgeph | C24: 14 | D24: 6 | E24: 12 | F24: 10.5 | G24: 17 | H24: 9 | I24: 12.5 | K24: 13.5 | W24: =IF(W124=0,"",SUM(C24:V24)) -> 94.5 | X24: =IF(W124=0,"",W24/W124*100) -> 63 | Y24: =A24 -> 19
A25: 20 | B25: ='Encodage + Sav. parler'!B25 -> TXHBZXHX Ovgalpu | C25: 7 | E25: 9 | F25: 8.5 | G25: 14.5 | H25: 11 | I25: 4.5 | K25: 14.5 | W25: =IF(W125=0,"",SUM(C25:V25)) -> 69 | X25: =IF(W125=0,"",W25/W125*100) -> 49.285714 | Y25: =A25 -> 20
A26: 21 | B26: ='Encodage + Sav. parler'!B26 -> POHRCJF WH LGUZBRRY Sdzoi | C26: 8 | D26: 5 | E26: 12 | F26: 9.5 | G26: 10.5 | H26: 18 | I26: 9.5 | J26: 6.5 | K26: 11 | W26: =IF(W126=0,"",SUM(C26:V26)) -> 90 | X26: =IF(W126=0,"",W26/W126*100) -> 52.941176 | Y26: =A26 -> 21
A27: 22 | B27: ='Encodage + Sav. parler'!B27 -> 0 | W27: =IF(W127=0,"",SUM(C27:V27)) | X27: =IF(W127=0,"",W27/W127*100) | Y27: =A27 -> 22
A28: 23 | B28: ='Encodage + Sav. parler'!B28 -> 0 | W28: =IF(W128=0,"",SUM(C28:V28)) | X28: =IF(W128=0,"",W28/W128*100) | Y28: =A28 -> 23
A29: 24 | B29: ='Encodage + Sav. parler'!B29 -> 0 | W29: =IF(W129=0,"",SUM(C29:V29)) | X29: =IF(W129=0,"",W29/W129*100) | Y29: =A29 -> 24
A30: 25 | B30: ='Encodage + Sav. parler'!B30 -> 0 | W30: =IF(W130=0,"",SUM(C30:V30)) | X30: =IF(W130=0,"",W30/W130*100) | Y30: =A30 -> 25
A31: 26 | B31: ='Encodage + Sav. parler'!B31 -> 0 | W31: =IF(W131=0,"",SUM(C31:V31)) | X31: =IF(W131=0,"",W31/W131*100) | Y31: =A31 -> 26
A32: 27 | B32: ='Encodage + Sav. parler'!B32 -> 0 | W32: =IF(W132=0,"",SUM(C32:V32)) | X32: =IF(W132=0,"",W32/W132*100) | Y32: =A32 -> 27
A33: 28 | B33: ='Encodage + Sav. parler'!B33 -> 0 | W33: =IF(W133=0,"",SUM(C33:V33)) | X33: =IF(W133=0,"",W33/W133*100) | Y33: =A33 -> 28
A34: 29 | B34: ='Encodage + Sav. parler'!B34 -> 0 | W34: =IF(W134=0,"",SUM(C34:V34)) | X34: =IF(W134=0,"",W34/W134*100) | Y34: =A34 -> 29
A35: 30 | B35: ='Encodage + Sav. parler'!B35 -> 0 | W35: =IF(W135=0,"",SUM(C35:V35)) | X35: =IF(W135=0,"",W35/W135*100) | Y35: =A35 -> 30
A36: TOTAL | C36: =IF(C136=0,"",SUM(C6:C35)) -> 154 | D36: =IF(D136=0,"",SUM(D6:D35)) -> 96 | E36: =IF(E136=0,"",SUM(E6:E35)) -> 173 | F36: =IF(F136=0,"",SUM(F6:F35)) -> 160 | G36: =IF(G136=0,"",SUM(G6:G35)) -> 183.5 | H36: =IF(H136=0,"",SUM(H6:H35)) -> 202.5 | I36: =IF(I136=0,"",SUM(I6:I35)) -> 177 | J36: =IF(J136=0,"",SUM(J6:J35)) -> 94.5 | ... V36: =IF(V136=0,"",SUM(V6:V35)) | W36: =IF(W136=0,"",SUM(C36:V36)) -> 1426.5 | X36: =IF(W136=0,"",W36/W136*100) -> 46.770492 | Y36: =A36 -> TOTAL
A37: MOY. CLAS | C37: =IF(C36="","",C36/C137*100) -> 45.294118 | D37: =IF(D36="","",D36/D137*100) -> 56.470588 | E37: =IF(E36="","",E36/E137*100) -> 50.882353 | F37: =IF(F36="","",F36/F137*100) -> 42.105263 | G37: =IF(G36="","",G36/G137*100) -> 48.289474 | H37: =IF(H36="","",H36/H137*100) -> 56.25 | I37: =IF(I36="","",I36/I137*100) -> 44.25 | J37: =IF(J36="","",J36/J137*100) -> 33.75 | ... V37: =IF(V36="","",V36/V137*100) | Y37: =A37 -> MOY. CLAS
C105: =C5 -> 20 | D105: =D5 -> 10 | E105: =E5 -> 20 | F105: =F5 -> 20 | G105: =G5 -> 20 | H105: =H5 -> 20 | I105: =I5 -> 20 | J105: =J5 -> 20 | ... W105: =W5 -> 0
C106: =IF(C6="","",$C$5) | D106: =IF(D6="","",$D$5) -> 10 | E106: =IF(E6="","",$E$5) -> 20 | F106: =IF(F6="","",$F$5) -> 20 | G106: =IF(G6="","",$G$5) -> 20 | H106: =IF(H6="","",$H$5) -> 20 | I106: =IF(I6="","",$I$5) -> 20 | J106: =IF(J6="","",$J$5) | K106: =IF(K6="","",$K$5) -> 20 | L106: =IF(L6="","",$L$5) | M106: =IF(M6="","",$M$5) | N106: =IF(N6="","",$N$5) | O106: =IF(O6="","",$O$5) | P106: =IF(P6="","",$P$5) | Q106: =IF(Q6="","",$Q$5) | R106: =IF(R6="","",$R$5) | S106: =IF(S6="","",$S$5) | T106: =IF(T6="","",$T$5) | U106: =IF(U6="","",$U$5) | V106: =IF(V6="","",$V$5) | W106: =SUM(C106:V106) -> 130
C107: =IF(C7="","",$C$5) -> 20 | D107: =IF(D7="","",$D$5) -> 10 | E107: =IF(E7="","",$E$5) | F107: =IF(F7="","",$F$5) -> 20 | G107: =IF(G7="","",$G$5) -> 20 | H107: =IF(H7="","",$H$5) -> 20 | I107: =IF(I7="","",$I$5) -> 20 | J107: =IF(J7="","",$J$5) -> 20 | K107: =IF(K7="","",$K$5) -> 20 | L107: =IF(L7="","",$L$5) | M107: =IF(M7="","",$M$5) | N107: =IF(N7="","",$N$5) | O107: =IF(O7="","",$O$5) | P107: =IF(P7="","",$P$5) | Q107: =IF(Q7="","",$Q$5) | R107: =IF(R7="","",$R$5) | S107: =IF(S7="","",$S$5) | T107: =IF(T7="","",$T$5) | U107: =IF(U7="","",$U$5) | V107: =IF(V7="","",$V$5) | W107: =SUM(C107:V107) -> 150
C108: =IF(C8="","",$C$5) -> 20 | D108: =IF(D8="","",$D$5) -> 10 | E108: =IF(E8="","",$E$5) -> 20 | F108: =IF(F8="","",$F$5) -> 20 | G108: =IF(G8="","",$G$5) -> 20 | H108: =IF(H8="","",$H$5) -> 20 | I108: =IF(I8="","",$I$5) -> 20 | J108: =IF(J8="","",$J$5) -> 20 | K108: =IF(K8="","",$K$5) -> 20 | L108: =IF(L8="","",$L$5) | M108: =IF(M8="","",$M$5) | N108: =IF(N8="","",$N$5) | O108: =IF(O8="","",$O$5) | P108: =IF(P8="","",$P$5) | Q108: =IF(Q8="","",$Q$5) | R108: =IF(R8="","",$R$5) | S108: =IF(S8="","",$S$5) | T108: =IF(T8="","",$T$5) | U108: =IF(U8="","",$U$5) | V108: =IF(V8="","",$V$5) | W108: =SUM(C108:V108) -> 170
...

Sheet Savoir ecouter
A1: ='Encodage + Sav. parler'!A1 -> Bulletin | C1: ='Encodage + Sav. parler'!C1 -> Classe de 4ème année | J1: ='Encodage + Sav. parler'!J1 -> De Samblanx Nicolas | R1: ='Encodage + Sav. parler'!R1 -> Année 2023/2024
B3: NOMS | C3: chandeleur | D3: Journaliste
C4: 1 | D4: 2 | E4: 3 | F4: 4 | G4: 5 | H4: 6 | I4: 7 | J4: 8 | K4: 9 | L4: 10 | M4: 11 | N4: 12 | O4: 13 | P4: 14 | Q4: 15 | R4: 16 | S4: 17 | T4: 18 | U4: 19 | V4: 20 | W4: PTS | X4: %
A5: TOTAL --> | C5: 15 | D5: 8
A6: 1 | B6: ='Encodage + Sav. parler'!B6 -> MEUF Hfehfa | C6: 9 | D6: 5.5 | W6: =IF(W106=0,"",SUM(C6:V6)) -> 14.5 | X6: =IF(W106=0,"",W6/W106*100) -> 63.043478 | Y6: =A6 -> 1
A7: 2 | B7: ='Encodage + Sav. parler'!B7 -> QFCTDQ Cstji | C7: 5 | D7: 3 | W7: =IF(W107=0,"",SUM(C7:V7)) -> 8 | X7: =IF(W107=0,"",W7/W107*100) -> 34.782609 | Y7: =A7 -> 2
A8: 3 | B8: ='Encodage + Sav. parler'!B8 -> ZLPGW Mmvnufyn | C8: 6 | D8: 6 | W8: =IF(W108=0,"",SUM(C8:V8)) -> 12 | X8: =IF(W108=0,"",W8/W108*100) -> 52.173913 | Y8: =A8 -> 3
A9: 4 | B9: ='Encodage + Sav. parler'!B9 -> BYLGGRPWAFFM Fbeozwbe | C9: 8 | D9: 6.5 | W9: =IF(W109=0,"",SUM(C9:V9)) -> 14.5 | X9: =IF(W109=0,"",W9/W109*100) -> 63.043478 | Y9: =A9 -> 4
A10: 5 | B10: ='Encodage + Sav. parler'!B10 -> CZUWKE Dbzzvsz | C10: 9.5 | D10: 7 | W10: =IF(W110=0,"",SUM(C10:V10)) -> 16.5 | X10: =IF(W110=0,"",W10/W110*100) -> 71.73913 | Y10: =A10 -> 5
A11: 6 | B11: ='Encodage + Sav. parler'!B11 -> NGRPFYX Kzfmy | C11: 5 | D11: 5.5 | W11: =IF(W111=0,"",SUM(C11:V11)) -> 10.5 | X11: =IF(W111=0,"",W11/W111*100) -> 45.652174 | Y11: =A11 -> 6
A12: 7 | B12: ='Encodage + Sav. parler'!B12 -> JUF Omjvhjm | C12: 10.5 | D12: 8 | W12: =IF(W112=0,"",SUM(C12:V12)) -> 18.5 | X12: =IF(W112=0,"",W12/W112*100) -> 80.434783 | Y12: =A12 -> 7
A13: 8 | B13: ='Encodage + Sav. parler'!B13 -> FIWGYBFGJI Qchucznjx | C13: 3 | D13: 4.5 | W13: =IF(W113=0,"",SUM(C13:V13)) -> 7.5 | X13: =IF(W113=0,"",W13/W113*100) -> 32.608696 | Y13: =A13 -> 8
A14: 9 | B14: ='Encodage + Sav. parler'!B14 -> K&#600;MYPDD JAQDIGQ Kyznuzp | C14: 9 | D14: 5.5 | W14: =IF(W114=0,"",SUM(C14:V14)) -> 14.5 | X14: =IF(W114=0,"",W14/W114*100) -> 63.043478 | Y14: =A14 -> 9
A15: 10 | B15: ='Encodage + Sav. parler'!B15 -> JRQJGR Njrlyiue | C15: 8.5 | D15: 8 | W15: =IF(W115=0,"",SUM(C15:V15)) -> 16.5 | X15: =IF(W115=0,"",W15/W115*100) -> 71.73913 | Y15: =A15 -> 10
A16: 11 | B16: ='Encodage + Sav. parler'!B16 -> FJJYWAFA Svohnr | C16: 3.5 | D16: 4.5 | W16: =IF(W116=0,"",SUM(C16:V16)) -> 8 | X16: =IF(W116=0,"",W16/W116*100) -> 34.782609 | Y16: =A16 -> 11
A17: 12 | B17: ='Encodage + Sav. parler'!B17 -> PJILCBS Cujjz | D17: 6 | W17: =IF(W117=0,"",SUM(C17:V17)) -> 6 | X17: =IF(W117=0,"",W17/W117*100) -> 75 | Y17: =A17 -> 12
A18: 13 | B18: ='Encodage + Sav. parler'!B18 -> XUQUOVP Hanicij | W18: =IF(W118=0,"",SUM(C18:V18)) | X18: =IF(W118=0,"",W18/W118*100) | Y18: =A18 -> 13
A19: 14 | B19: ='Encodage + Sav. parler'!B19 -> VXZKW Pcljhw | C19: 6 | D19: 4.5 | W19: =IF(W119=0,"",SUM(C19:V19)) -> 10.5 | X19: =IF(W119=0,"",W19/W119*100) -> 45.652174 | Y19: =A19 -> 14
A20: 15 | B20: ='Encodage + Sav. parler'!B20 -> ANKBQZDX Mswnjbak | C20: 6 | D20: 7 | W20: =IF(W120=0,"",SUM(C20:V20)) -> 13 | X20: =IF(W120=0,"",W20/W120*100) -> 56.521739 | Y20: =A20 -> 15
A21: 16 | B21: ='Encodage + Sav. parler'!B21 -> DYTVXSTMX Qoyfpx | C21: 15 | D21: 6 | W21: =IF(W121=0,"",SUM(C21:V21)) -> 21 | X21: =IF(W121=0,"",W21/W121*100) -> 91.304348 | Y21: =A21 -> 16
A22: 17 | B22: ='Encodage + Sav. parler'!B22 -> MKJLB Hkfrxy | C22: 9 | D22: 4.5 | W22: =IF(W122=0,"",SUM(C22:V22)) -> 13.5 | X22: =IF(W122=0,"",W22/W122*100) -> 58.695652 | Y22: =A22 -> 17
A23: 18 | B23: ='Encodage + Sav. parler'!B23 -> VBEOU Lhlrygn-Roggj | C23: 11 | D23: 5.5 | W23: =IF(W123=0,"",SUM(C23:V23)) -> 16.5 | X23: =IF(W123=0,"",W23/W123*100) -> 71.73913 | Y23: =A23 -> 18
A24: 19 | B24: ='Encodage + Sav. parler'!B24 -> OLGZDCNSX Ckgeph | C24: 13.5 | D24: 6.5 | W24: =IF(W124=0,"",SUM(C24:V24)) -> 20 | X24: =IF(W124=0,"",W24/W124*100) -> 86.956522 | Y24: =A24 -> 19
A25: 20 | B25: ='Encodage + Sav. parler'!B25 -> TXHBZXHX Ovgalpu | C25: 12.5 | D25: 4.5 | W25: =IF(W125=0,"",SUM(C25:V25)) -> 17 | X25: =IF(W125=0,"",W25/W125*100) -> 73.913043 | Y25: =A25 -> 20
A26: 21 | B26: ='Encodage + Sav. parler'!B26 -> POHRCJF WH LGUZBRRY Sdzoi | C26: 13 | D26: 8 | W26: =IF(W126=0,"",SUM(C26:V26)) -> 21 | X26: =IF(W126=0,"",W26/W126*100) -> 91.304348 | Y26: =A26 -> 21
A27: 22 | B27: ='Encodage + Sav. parler'!B27 -> 0 | W27: =IF(W127=0,"",SUM(C27:V27)) | X27: =IF(W127=0,"",W27/W127*100) | Y27: =A27 -> 22
A28: 23 | B28: ='Encodage + Sav. parler'!B28 -> 0 | W28: =IF(W128=0,"",SUM(C28:V28)) | X28: =IF(W128=0,"",W28/W128*100) | Y28: =A28 -> 23
A29: 24 | B29: ='Encodage + Sav. parler'!B29 -> 0 | W29: =IF(W129=0,"",SUM(C29:V29)) | X29: =IF(W129=0,"",W29/W129*100) | Y29: =A29 -> 24
A30: 25 | B30: ='Encodage + Sav. parler'!B30 -> 0 | W30: =IF(W130=0,"",SUM(C30:V30)) | X30: =IF(W130=0,"",W30/W130*100) | Y30: =A30 -> 25
A31: 26 | B31: ='Encodage + Sav. parler'!B31 -> 0 | W31: =IF(W131=0,"",SUM(C31:V31)) | X31: =IF(W131=0,"",W31/W131*100) | Y31: =A31 -> 26
A32: 27 | B32: ='Encodage + Sav. parler'!B32 -> 0 | W32: =IF(W132=0,"",SUM(C32:V32)) | X32: =IF(W132=0,"",W32/W132*100) | Y32: =A32 -> 27
A33: 28 | B33: ='Encodage + Sav. parler'!B33 -> 0 | W33: =IF(W133=0,"",SUM(C33:V33)) | X33: =IF(W133=0,"",W33/W133*100) | Y33: =A33 -> 28
A34: 29 | B34: ='Encodage + Sav. parler'!B34 -> 0 | W34: =IF(W134=0,"",SUM(C34:V34)) | X34: =IF(W134=0,"",W34/W134*100) | Y34: =A34 -> 29
A35: 30 | B35: ='Encodage + Sav. parler'!B35 -> 0 | W35: =IF(W135=0,"",SUM(C35:V35)) | X35: =IF(W135=0,"",W35/W135*100) | Y35: =A35 -> 30
A36: TOTAL | C36: =IF(C136=0,"",SUM(C6:C35)) -> 163 | D36: =IF(D136=0,"",SUM(D6:D35)) -> 116.5 | E36: =IF(E136=0,"",SUM(E6:E35)) | F36: =IF(F136=0,"",SUM(F6:F35)) | G36: =IF(G136=0,"",SUM(G6:G35)) | H36: =IF(H136=0,"",SUM(H6:H35)) | I36: =IF(I136=0,"",SUM(I6:I35)) | J36: =IF(J136=0,"",SUM(J6:J35)) | ... V36: =IF(V136=0,"",SUM(V6:V35)) | W36: =IF(W136=0,"",SUM(C36:V36)) -> 279.5 | X36: =IF(W136=0,"",W36/W136*100) -> 62.808989 | Y36: =A36 -> TOTAL
A37: MOY. CLAS | C37: =IF(C36="","",C36/C137*100) -> 57.192982 | D37: =IF(D36="","",D36/D137*100) -> 72.8125 | E37: =IF(E36="","",E36/E137*100) | F37: =IF(F36="","",F36/F137*100) | G37: =IF(G36="","",G36/G137*100) | H37: =IF(H36="","",H36/H137*100) | I37: =IF(I36="","",I36/I137*100) | J37: =IF(J36="","",J36/J137*100) | ... V37: =IF(V36="","",V36/V137*100) | Y37: =A37 -> MOY. CLAS
C105: =C5 -> 15 | D105: =D5 -> 8 | E105: =E5 -> 0 | F105: =F5 -> 0 | G105: =G5 -> 0 | H105: =H5 -> 0 | I105: =I5 -> 0 | J105: =J5 -> 0 | ... W105: =W5 -> 0
C106: =IF(C6="","",$C$5) -> 15 | D106: =IF(D6="","",$D$5) -> 8 | E106: =IF(E6="","",$E$5) | F106: =IF(F6="","",$F$5) | G106: =IF(G6="","",$G$5) | H106: =IF(H6="","",$H$5) | I106: =IF(I6="","",$I$5) | J106: =IF(J6="","",$J$5) | K106: =IF(K6="","",$K$5) | L106: =IF(L6="","",$L$5) | M106: =IF(M6="","",$M$5) | N106: =IF(N6="","",$N$5) | O106: =IF(O6="","",$O$5) | P106: =IF(P6="","",$P$5) | Q106: =IF(Q6="","",$Q$5) | R106: =IF(R6="","",$R$5) | S106: =IF(S6="","",$S$5) | T106: =IF(T6="","",$T$5) | U106: =IF(U6="","",$U$5) | V106: =IF(V6="","",$V$5) | W106: =SUM(C106:V106) -> 23
C107: =IF(C7="","",$C$5) -> 15 | D107: =IF(D7="","",$D$5) -> 8 | E107: =IF(E7="","",$E$5) | F107: =IF(F7="","",$F$5) | G107: =IF(G7="","",$G$5) | H107: =IF(H7="","",$H$5) | I107: =IF(I7="","",$I$5) | J107: =IF(J7="","",$J$5) | K107: =IF(K7="","",$K$5) | L107: =IF(L7="","",$L$5) | M107: =IF(M7="","",$M$5) | N107: =IF(N7="","",$N$5) | O107: =IF(O7="","",$O$5) | P107: =IF(P7="","",$P$5) | Q107: =IF(Q7="","",$Q$5) | R107: =IF(R7="","",$R$5) | S107: =IF(S7="","",$S$5) | T107: =IF(T7="","",$T$5) | U107: =IF(U7="","",$U$5) | V107: =IF(V7="","",$V$5) | W107: =SUM(C107:V107) -> 23
C108: =IF(C8="","",$C$5) -> 15 | D108: =IF(D8="","",$D$5) -> 8 | E108: =IF(E8="","",$E$5) | F108: =IF(F8="","",$F$5) | G108: =IF(G8="","",$G$5) | H108: =IF(H8="","",$H$5) | I108: =IF(I8="","",$I$5) | J108: =IF(J8="","",$J$5) | K108: =IF(K8="","",$K$5) | L108: =IF(L8="","",$L$5) | M108: =IF(M8="","",$M$5) | N108: =IF(N8="","",$N$5) | O108: =IF(O8="","",$O$5) | P108: =IF(P8="","",$P$5) | Q108: =IF(Q8="","",$Q$5) | R108: =IF(R8="","",$R$5) | S108: =IF(S8="","",$S$5) | T108: =IF(T8="","",$T$5) | U108: =IF(U8="","",$U$5) | V108: =IF(V8="","",$V$5) | W108: =SUM(C108:V108) -> 23
...

Sheet Nombres et operations
A1: ='Encodage + Sav. parler'!A1 -> Bulletin | C1: ='Encodage + Sav. parler'!C1 -> Classe de 4ème année | J1: ='Encodage + Sav. parler'!J1 -> De Samblanx Nicolas | R1: ='Encodage + Sav. parler'!R1 -> Année 2023/2024
B3: NOMS | C3: tables | D3: tables | E3: table 8 | F3: tables | G3: Voc et symboles | H3: Mult écrite
C4: 1 | D4: 2 | E4: 3 | F4: 4 | G4: 5 | H4: 6 | I4: 7 | J4: 8 | K4: 9 | L4: 10 | M4: 11 | N4: 12 | O4: 13 | P4: 14 | Q4: 15 | R4: 16 | S4: 17 | T4: 18 | U4: 19 | V4: 20 | W4: PTS | X4: %
A5: TOTAL --> | C5: 15 | D5: 10 | E5: 16 | F5: 10 | G5: 10 | H5: 8
A6: 1 | B6: ='Encodage + Sav. parler'!B6 -> MEUF Hfehfa | C6: 7 | D6: 3 | E6: 9 | F6: 5 | G6: 3.5 | H6: 6 | W6: =IF(W106=0,"",SUM(C6:V6)) -> 33.5 | X6: =IF(W106=0,"",W6/W106*100) -> 48.550725 | Y6: =A6 -> 1
A7: 2 | B7: ='Encodage + Sav. parler'!B7 -> QFCTDQ Cstji | C7: 0 | D7: 0 | E7: 0 | F7: 0 | G7: 0 | H7: 0 | W7: =IF(W107=0,"",SUM(C7:V7)) -> 0 | X7: =IF(W107=0,"",W7/W107*100) -> 0 | Y7: =A7 -> 2
A8: 3 | B8: ='Encodage + Sav. parler'!B8 -> ZLPGW Mmvnufyn | C8: 2 | D8: 0 | G8: 2.5 | H8: 2.5 | W8: =IF(W108=0,"",SUM(C8:V8)) -> 7 | X8: =IF(W108=0,"",W8/W108*100) -> 16.27907 | Y8: =A8 -> 3
A9: 4 | B9: ='Encodage + Sav. parler'!B9 -> BYLGGRPWAFFM Fbeozwbe | C9: 5 | D9: 4 | E9: 14 | F9: 10 | G9: 3.5 | H9: 3.5 | W9: =IF(W109=0,"",SUM(C9:V9)) -> 40 | X9: =IF(W109=0,"",W9/W109*100) -> 57.971014 | Y9: =A9 -> 4
A10: 5 | B10: ='Encodage + Sav. parler'!B10 -> CZUWKE Dbzzvsz | C10: 10 | D10: 8 | E10: 12 | F10: 12 | G10: 8 | H10: 8 | W10: =IF(W110=0,"",SUM(C10:V10)) -> 58 | X10: =IF(W110=0,"",W10/W110*100) -> 84.057971 | Y10: =A10 -> 5
A11: 6 | B11: ='Encodage + Sav. parler'!B11 -> NGRPFYX Kzfmy | C11: 2 | D11: 2 | E11: 8 | F11: 7 | G11: 6 | H11: 7.5 | W11: =IF(W111=0,"",SUM(C11:V11)) -> 32.5 | X11: =IF(W111=0,"",W11/W111*100) -> 47.101449 | Y11: =A11 -> 6
A12: 7 | B12: ='Encodage + Sav. parler'!B12 -> JUF Omjvhjm | C12: 15 | D12: 10 | E12: 17 | F12: 10 | G12: 9.5 | H12: 7.5 | W12: =IF(W112=0,"",SUM(C12:V12)) -> 69 | X12: =IF(W112=0,"",W12/W112*100) -> 100 | Y12: =A12 -> 7
A13: 8 | B13: ='Encodage + Sav. parler'!B13 -> FIWGYBFGJI Qchucznjx | C13: 0 | D13: 1 | F13: 3 | G13: 0 | H13: 2 | W13: =IF(W113=0,"",SUM(C13:V13)) -> 6 | X13: =IF(W113=0,"",W13/W113*100) -> 11.320755 | Y13: =A13 -> 8
A14: 9 | B14: ='Encodage + Sav. parler'!B14 -> K&#600;MYPDD JAQDIGQ Kyznuzp | C14: 10 | E14: 9 | F14: 9 | G14: 5 | H14: 7.5 | W14: =IF(W114=0,"",SUM(C14:V14)) -> 40.5 | X14: =IF(W114=0,"",W14/W114*100) -> 68.644068 | Y14: =A14 -> 9
A15: 10 | B15: ='Encodage + Sav. parler'!B15 -> JRQJGR Njrlyiue | C15: 3 | D15: 4 | E15: 9 | F15: 9 | G15: 4.5 | H15: 2 | W15: =IF(W115=0,"",SUM(C15:V15)) -> 31.5 | X15: =IF(W115=0,"",W15/W115*100) -> 45.652174 | Y15: =A15 -> 10
A16: 11 | B16: ='Encodage + Sav. parler'!B16 -> FJJYWAFA Svohnr | C16: 8 | D16: 7 | E16: 13 | F16: 11 | G16: 8 | H16: 7 | W16: =IF(W116=0,"",SUM(C16:V16)) -> 54 | X16: =IF(W116=0,"",W16/W116*100) -> 78.26087 | Y16: =A16 -> 11
A17: 12 | B17: ='Encodage + Sav. parler'!B17 -> PJILCBS Cujjz | C17: 4 | D17: 4 | E17: 8 | F17: 7 | G17: 2 | H17: 2 | W17: =IF(W117=0,"",SUM(C17:V17)) -> 27 | X17: =IF(W117=0,"",W17/W117*100) -> 39.130435 | Y17: =A17 -> 12
A18: 13 | B18: ='Encodage + Sav. parler'!B18 -> XUQUOVP Hanicij | W18: =IF(W118=0,"",SUM(C18:V18)) | X18: =IF(W118=0,"",W18/W118*100) | Y18: =A18 -> 13
A19: 14 | B19: ='Encodage + Sav. parler'!B19 -> VXZKW Pcljhw | C19: 1 | D19: 2 | E19: 10 | F19: 8 | G19: 0 | H19: 3 | W19: =IF(W119=0,"",SUM(C19:V19)) -> 24 | X19: =IF(W119=0,"",W19/W119*100) -> 34.782609 | Y19: =A19 -> 14
A20: 15 | B20: ='Encodage + Sav. parler'!B20 -> ANKBQZDX Mswnjbak | C20: 3 | D20: 2 | F20: 7 | G20: 7.5 | H20: 6.5 | W20: =IF(W120=0,"",SUM(C20:V20)) -> 26 | X20: =IF(W120=0,"",W20/W120*100) -> 49.056604 | Y20: =A20 -> 15
A21: 16 | B21: ='Encodage + Sav. parler'!B21 -> DYTVXSTMX Qoyfpx | C21: 6 | D21: 7 | G21: 10 | H21: 8 | W21: =IF(W121=0,"",SUM(C21:V21)) -> 31 | X21: =IF(W121=0,"",W21/W121*100) -> 72.093023 | Y21: =A21 -> 16
A22: 17 | B22: ='Encodage + Sav. parler'!B22 -> MKJLB Hkfrxy | C22: 0 | D22: 4 | E22: 18 | F22: 12 | G22: 4.5 | H22: 7.5 | W22: =IF(W122=0,"",SUM(C22:V22)) -> 46 | X22: =IF(W122=0,"",W22/W122*100) -> 66.666667 | Y22: =A22 -> 17
A23: 18 | B23: ='Encodage + Sav. parler'!B23 -> VBEOU Lhlrygn-Roggj | C23: 11 | D23: 8 | G23: 9 | W23: =IF(W123=0,"",SUM(C23:V23)) -> 28 | X23: =IF(W123=0,"",W23/W123*100) -> 80 | Y23: =A23 -> 18
A24: 19 | B24: ='Encodage + Sav. parler'!B24 -> OLGZDCNSX Ckgeph | C24: 5 | D24: 6 | E24: 9 | F24: 5 | G24: 5 | H24: 7 | W24: =IF(W124=0,"",SUM(C24:V24)) -> 37 | X24: =IF(W124=0,"",W24/W124*100) -> 53.623188 | Y24: =A24 -> 19
A25: 20 | B25: ='Encodage + Sav. parler'!B25 -> TXHBZXHX Ovgalpu | C25: 2 | D25: 5 | F25: 7 | G25: 3 | H25: 6 | W25: =IF(W125=0,"",SUM(C25:V25)) -> 23 | X25: =IF(W125=0,"",W25/W125*100) -> 43.396226 | Y25: =A25 -> 20
A26: 21 | B26: ='Encodage + Sav. parler'!B26 -> POHRCJF WH LGUZBRRY Sdzoi | C26: 8 | D26: 5 | E26: 12 | F26: 12 | G26: 6.5 | H26: 7 | W26: =IF(W126=0,"",SUM(C26:V26)) -> 50.5 | X26: =IF(W126=0,"",W26/W126*100) -> 73.188406 | Y26: =A26 -> 21
A27: 22 | B27: ='Encodage + Sav. parler'!B27 -> 0 | W27: =IF(W127=0,"",SUM(C27:V27)) | X27: =IF(W127=0,"",W27/W127*100) | Y27: =A27 -> 22
A28: 23 | B28: ='Encodage + Sav. parler'!B28 -> 0 | W28: =IF(W128=0,"",SUM(C28:V28)) | X28: =IF(W128=0,"",W28/W128*100) | Y28: =A28 -> 23
A29: 24 | B29: ='Encodage + Sav. parler'!B29 -> 0 | W29: =IF(W129=0,"",SUM(C29:V29)) | X29: =IF(W129=0,"",W29/W129*100) | Y29: =A29 -> 24
A30: 25 | B30: ='Encodage + Sav. parler'!B30 -> 0 | W30: =IF(W130=0,"",SUM(C30:V30)) | X30: =IF(W130=0,"",W30/W130*100) | Y30: =A30 -> 25
A31: 26 | B31: ='Encodage + Sav. parler'!B31 -> 0 | W31: =IF(W131=0,"",SUM(C31:V31)) | X31: =IF(W131=0,"",W31/W131*100) | Y31: =A31 -> 26
A32: 27 | B32: ='Encodage + Sav. parler'!B32 -> 0 | W32: =IF(W132=0,"",SUM(C32:V32)) | X32: =IF(W132=0,"",W32/W132*100) | Y32: =A32 -> 27
A33: 28 | B33: ='Encodage + Sav. parler'!B33 -> 0 | W33: =IF(W133=0,"",SUM(C33:V33)) | X33: =IF(W133=0,"",W33/W133*100) | Y33: =A33 -> 28
A34: 29 | B34: ='Encodage + Sav. parler'!B34 -> 0 | W34: =IF(W134=0,"",SUM(C34:V34)) | X34: =IF(W134=0,"",W34/W134*100) | Y34: =A34 -> 29
A35: 30 | B35: ='Encodage + Sav. parler'!B35 -> 0 | W35: =IF(W135=0,"",SUM(C35:V35)) | X35: =IF(W135=0,"",W35/W135*100) | Y35: =A35 -> 30
A36: TOTAL | C36: =IF(C136=0,"",SUM(C6:C35)) -> 102 | D36: =IF(D136=0,"",SUM(D6:D35)) -> 82 | E36: =IF(E136=0,"",SUM(E6:E35)) -> 148 | F36: =IF(F136=0,"",SUM(F6:F35)) -> 134 | G36: =IF(G136=0,"",SUM(G6:G35)) -> 98 | H36: =IF(H136=0,"",SUM(H6:H35)) -> 100.5 | I36: =IF(I136=0,"",SUM(I6:I35)) | J36: =IF(J136=0,"",SUM(J6:J35)) | ... V36: =IF(V136=0,"",SUM(V6:V35)) | W36: =IF(W136=0,"",SUM(C36:V36)) -> 664.5 | X36: =IF(W136=0,"",W36/W136*100) -> 53.762136 | Y36: =A36 -> TOTAL
A37: MOY. CLAS | C37: =IF(C36="","",C36/C137*100) -> 34 | D37: =IF(D36="","",D36/D137*100) -> 43.157895 | E37: =IF(E36="","",E36/E137*100) -> 66.071429 | F37: =IF(F36="","",F36/F137*100) -> 78.823529 | G37: =IF(G36="","",G36/G137*100) -> 49 | H37: =IF(H36="","",H36/H137*100) -> 66.118421 | I37: =IF(I36="","",I36/I137*100) | J37: =IF(J36="","",J36/J137*100) | ... V37: =IF(V36="","",V36/V137*100) | Y37: =A37 -> MOY. CLAS
C105: =C5 -> 15 | D105: =D5 -> 10 | E105: =E5 -> 16 | F105: =F5 -> 10 | G105: =G5 -> 10 | H105: =H5 -> 8 | I105: =I5 -> 0 | J105: =J5 -> 0 | ... W105: =W5 -> 0
C106: =IF(C6="","",$C$5) -> 15 | D106: =IF(D6="","",$D$5) -> 10 | E106: =IF(E6="","",$E$5) -> 16 | F106: =IF(F6="","",$F$5) -> 10 | G106: =IF(G6="","",$G$5) -> 10 | H106: =IF(H6="","",$H$5) -> 8 | I106: =IF(I6="","",$I$5) | J106: =IF(J6="","",$J$5) | K106: =IF(K6="","",$K$5) | L106: =IF(L6="","",$L$5) | M106: =IF(M6="","",$M$5) | N106: =IF(N6="","",$N$5) | O106: =IF(O6="","",$O$5) | P106: =IF(P6="","",$P$5) | Q106: =IF(Q6="","",$Q$5) | R106: =IF(R6="","",$R$5) | S106: =IF(S6="","",$S$5) | T106: =IF(T6="","",$T$5) | U106: =IF(U6="","",$U$5) | V106: =IF(V6="","",$V$5) | W106: =SUM(C106:V106) -> 69
C107: =IF(C7="","",$C$5) -> 15 | D107: =IF(D7="","",$D$5) -> 10 | E107: =IF(E7="","",$E$5) -> 16 | F107: =IF(F7="","",$F$5) -> 10 | G107: =IF(G7="","",$G$5) -> 10 | H107: =IF(H7="","",$H$5) -> 8 | I107: =IF(I7="","",$I$5) | J107: =IF(J7="","",$J$5) | K107: =IF(K7="","",$K$5) | L107: =IF(L7="","",$L$5) | M107: =IF(M7="","",$M$5) | N107: =IF(N7="","",$N$5) | O107: =IF(O7="","",$O$5) | P107: =IF(P7="","",$P$5) | Q107: =IF(Q7="","",$Q$5) | R107: =IF(R7="","",$R$5) | S107: =IF(S7="","",$S$5) | T107: =IF(T7="","",$T$5) | U107: =IF(U7="","",$U$5) | V107: =IF(V7="","",$V$5) | W107: =SUM(C107:V107) -> 69
C108: =IF(C8="","",$C$5) -> 15 | D108: =IF(D8="","",$D$5) -> 10 | E108: =IF(E8="","",$E$5) | F108: =IF(F8="","",$F$5) | G108: =IF(G8="","",$G$5) -> 10 | H108: =IF(H8="","",$H$5) -> 8 | I108: =IF(I8="","",$I$5) | J108: =IF(J8="","",$J$5) | K108: =IF(K8="","",$K$5) | L108: =IF(L8="","",$L$5) | M108: =IF(M8="","",$M$5) | N108: =IF(N8="","",$N$5) | O108: =IF(O8="","",$O$5) | P108: =IF(P8="","",$P$5) | Q108: =IF(Q8="","",$Q$5) | R108: =IF(R8="","",$R$5) | S108: =IF(S8="","",$S$5) | T108: =IF(T8="","",$T$5) | U108: =IF(U8="","",$U$5) | V108: =IF(V8="","",$V$5) | W108: =SUM(C108:V108) -> 43
...

Sheet Grandeurs
A1: ='Encodage + Sav. parler'!A1 -> Bulletin | C1: ='Encodage + Sav. parler'!C1 -> Classe de 4ème année | J1: ='Encodage + Sav. parler'!J1 -> De Samblanx Nicolas | R1: ='Encodage + Sav. parler'!R1 -> Année 2023/2024
B3: NOMS | C3: fractions | D3: fractions | E3: périmètre
C4: 1 | D4: 2 | E4: 3 | F4: 4 | G4: 5 | H4: 6 | I4: 7 | J4: 8 | K4: 9 | L4: 10 | M4: 11 | N4: 12 | O4: 13 | P4: 14 | Q4: 15 | R4: 16 | S4: 17 | T4: 18 | U4: 19 | V4: 20 | W4: PTS | X4: %
A5: TOTAL --> | C5: 10 | D5: 15 | E5: 20
A6: 1 | B6: ='Encodage + Sav. parler'!B6 -> MEUF Hfehfa | C6: 10 | E6: 11 | W6: =IF(W106=0,"",SUM(C6:V6)) -> 21 | X6: =IF(W106=0,"",W6/W106*100) -> 70 | Y6: =A6 -> 1
A7: 2 | B7: ='Encodage + Sav. parler'!B7 -> QFCTDQ Cstji | C7: 0 | D7: 2 | E7: 0 | W7: =IF(W107=0,"",SUM(C7:V7)) -> 2 | X7: =IF(W107=0,"",W7/W107*100) -> 4.4444444 | Y7: =A7 -> 2
A8: 3 | B8: ='Encodage + Sav. parler'!B8 -> ZLPGW Mmvnufyn | C8: 7 | D8: 14 | E8: 7.5 | W8: =IF(W108=0,"",SUM(C8:V8)) -> 28.5 | X8: =IF(W108=0,"",W8/W108*100) -> 63.333333 | Y8: =A8 -> 3
A9: 4 | B9: ='Encodage + Sav. parler'!B9 -> BYLGGRPWAFFM Fbeozwbe | C9: 8 | D9: 10 | E9: 7.5 | W9: =IF(W109=0,"",SUM(C9:V9)) -> 25.5 | X9: =IF(W109=0,"",W9/W109*100) -> 56.666667 | Y9: =A9 -> 4
A10: 5 | B10: ='Encodage + Sav. parler'!B10 -> CZUWKE Dbzzvsz | C10: 9 | D10: 15 | E10: 9 | W10: =IF(W110=0,"",SUM(C10:V10)) -> 33 | X10: =IF(W110=0,"",W10/W110*100) -> 73.333333 | Y10: =A10 -> 5
A11: 6 | B11: ='Encodage + Sav. parler'!B11 -> NGRPFYX Kzfmy | C11: 10 | D11: 15 | E11: 10.5 | W11: =IF(W111=0,"",SUM(C11:V11)) -> 35.5 | X11: =IF(W111=0,"",W11/W111*100) -> 78.888889 | Y11: =A11 -> 6
A12: 7 | B12: ='Encodage + Sav. parler'!B12 -> JUF Omjvhjm | C12: 10 | D12: 15 | E12: 20 | W12: =IF(W112=0,"",SUM(C12:V12)) -> 45 | X12: =IF(W112=0,"",W12/W112*100) -> 100 | Y12: =A12 -> 7
A13: 8 | B13: ='Encodage + Sav. parler'!B13 -> FIWGYBFGJI Qchucznjx | C13: 3 | D13: 11.5 | E13: 2 | W13: =IF(W113=0,"",SUM(C13:V13)) -> 16.5 | X13: =IF(W113=0,"",W13/W113*100) -> 36.666667 | Y13: =A13 -> 8
A14: 9 | B14: ='Encodage + Sav. parler'!B14 -> K&#600;MYPDD JAQDIGQ Kyznuzp | C14: 9 | D14: 13 | E14: 14 | W14: =IF(W114=0,"",SUM(C14:V14)) -> 36 | X14: =IF(W114=0,"",W14/W114*100) -> 80 | Y14: =A14 -> 9
A15: 10 | B15: ='Encodage + Sav. parler'!B15 -> JRQJGR Njrlyiue | C15: 9 | D15: 15 | E15: 7.5 | W15: =IF(W115=0,"",SUM(C15:V15)) -> 31.5 | X15: =IF(W115=0,"",W15/W115*100) -> 70 | Y15: =A15 -> 10
A16: 11 | B16: ='Encodage + Sav. parler'!B16 -> FJJYWAFA Svohnr | C16: 10 | D16: 15 | E16: 20 | W16: =IF(W116=0,"",SUM(C16:V16)) -> 45 | X16: =IF(W116=0,"",W16/W116*100) -> 100 | Y16: =A16 -> 11
A17: 12 | B17: ='Encodage + Sav. parler'!B17 -> PJILCBS Cujjz | C17: 9 | E17: 5 | W17: =IF(W117=0,"",SUM(C17:V17)) -> 14 | X17: =IF(W117=0,"",W17/W117*100) -> 46.666667 | Y17: =A17 -> 12
A18: 13 | B18: ='Encodage + Sav. parler'!B18 -> XUQUOVP Hanicij | W18: =IF(W118=0,"",SUM(C18:V18)) | X18: =IF(W118=0,"",W18/W118*100) | Y18: =A18 -> 13
A19: 14 | B19: ='Encodage + Sav. parler'!B19 -> VXZKW Pcljhw | C19: 7 | D19: 2.5 | E19: 13 | W19: =IF(W119=0,"",SUM(C19:V19)) -> 22.5 | X19: =IF(W119=0,"",W19/W119*100) -> 50 | Y19: =A19 -> 14
A20: 15 | B20: ='Encodage + Sav. parler'!B20 -> ANKBQZDX Mswnjbak | C20: 7 | D20: 15 | E20: 8 | W20: =IF(W120=0,"",SUM(C20:V20)) -> 30 | X20: =IF(W120=0,"",W20/W120*100) -> 66.666667 | Y20: =A20 -> 15
A21: 16 | B21: ='Encodage + Sav. parler'!B21 -> DYTVXSTMX Qoyfpx | D21: 15 | E21: 19.5 | W21: =IF(W121=0,"",SUM(C21:V21)) -> 34.5 | X21: =IF(W121=0,"",W21/W121*100) -> 98.571429 | Y21: =A21 -> 16
A22: 17 | B22: ='Encodage + Sav. parler'!B22 -> MKJLB Hkfrxy | C22: 9 | D22: 15 | E22: 2 | W22: =IF(W122=0,"",SUM(C22:V22)) -> 26 | X22: =IF(W122=0,"",W22/W122*100) -> 57.777778 | Y22: =A22 -> 17
A23: 18 | B23: ='Encodage + Sav. parler'!B23 -> VBEOU Lhlrygn-Roggj | C23: 10 | D23: 15 | E23: 17 | W23: =IF(W123=0,"",SUM(C23:V23)) -> 42 | X23: =IF(W123=0,"",W23/W123*100) -> 93.333333 | Y23: =A23 -> 18
A24: 19 | B24: ='Encodage + Sav. parler'!B24 -> OLGZDCNSX Ckgeph | C24: 9 | D24: 14.5 | E24: 7.5 | W24: =IF(W124=0,"",SUM(C24:V24)) -> 31 | X24: =IF(W124=0,"",W24/W124*100) -> 68.888889 | Y24: =A24 -> 19
A25: 20 | B25: ='Encodage + Sav. parler'!B25 -> TXHBZXHX Ovgalpu | C25: 9 | W25: =IF(W125=0,"",SUM(C25:V25)) -> 9 | X25: =IF(W125=0,"",W25/W125*100) -> 90 | Y25: =A25 -> 20
A26: 21 | B26: ='Encodage + Sav. parler'!B26 -> POHRCJF WH LGUZBRRY Sdzoi | C26: 10 | D26: 6 | E26: 14 | W26: =IF(W126=0,"",SUM(C26:V26)) -> 30 | X26: =IF(W126=0,"",W26/W126*100) -> 66.666667 | Y26: =A26 -> 21
A27: 22 | B27: ='Encodage + Sav. parler'!B27 -> 0 | W27: =IF(W127=0,"",SUM(C27:V27)) | X27: =IF(W127=0,"",W27/W127*100) | Y27: =A27 -> 22
A28: 23 | B28: ='Encodage + Sav. parler'!B28 -> 0 | W28: =IF(W128=0,"",SUM(C28:V28)) | X28: =IF(W128=0,"",W28/W128*100) | Y28: =A28 -> 23
A29: 24 | B29: ='Encodage + Sav. parler'!B29 -> 0 | W29: =IF(W129=0,"",SUM(C29:V29)) | X29: =IF(W129=0,"",W29/W129*100) | Y29: =A29 -> 24
A30: 25 | B30: ='Encodage + Sav. parler'!B30 -> 0 | W30: =IF(W130=0,"",SUM(C30:V30)) | X30: =IF(W130=0,"",W30/W130*100) | Y30: =A30 -> 25
A31: 26 | B31: ='Encodage + Sav. parler'!B31 -> 0 | W31: =IF(W131=0,"",SUM(C31:V31)) | X31: =IF(W131=0,"",W31/W131*100) | Y31: =A31 -> 26
A32: 27 | B32: ='Encodage + Sav. parler'!B32 -> 0 | W32: =IF(W132=0,"",SUM(C32:V32)) | X32: =IF(W132=0,"",W32/W132*100) | Y32: =A32 -> 27
A33: 28 | B33: ='Encodage + Sav. parler'!B33 -> 0 | W33: =IF(W133=0,"",SUM(C33:V33)) | X33: =IF(W133=0,"",W33/W133*100) | Y33: =A33 -> 28
A34: 29 | B34: ='Encodage + Sav. parler'!B34 -> 0 | W34: =IF(W134=0,"",SUM(C34:V34)) | X34: =IF(W134=0,"",W34/W134*100) | Y34: =A34 -> 29
A35: 30 | B35: ='Encodage + Sav. parler'!B35 -> 0 | W35: =IF(W135=0,"",SUM(C35:V35)) | X35: =IF(W135=0,"",W35/W135*100) | Y35: =A35 -> 30
A36: TOTAL | C36: =IF(C136=0,"",SUM(C6:C35)) -> 155 | D36: =IF(D136=0,"",SUM(D6:D35)) -> 208.5 | E36: =IF(E136=0,"",SUM(E6:E35)) -> 195 | F36: =IF(F136=0,"",SUM(F6:F35)) | G36: =IF(G136=0,"",SUM(G6:G35)) | H36: =IF(H136=0,"",SUM(H6:H35)) | I36: =IF(I136=0,"",SUM(I6:I35)) | J36: =IF(J136=0,"",SUM(J6:J35)) | ... V36: =IF(V136=0,"",SUM(V6:V35)) | W36: =IF(W136=0,"",SUM(C36:V36)) -> 558.5 | X36: =IF(W136=0,"",W36/W136*100) -> 67.69697 | Y36: =A36 -> TOTAL
A37: MOY. CLAS | C37: =IF(C36="","",C36/C137*100) -> 81.578947 | D37: =IF(D36="","",D36/D137*100) -> 81.764706 | E37: =IF(E36="","",E36/E137*100) -> 51.315789 | F37: =IF(F36="","",F36/F137*100) | G37: =IF(G36="","",G36/G137*100) | H37: =IF(H36="","",H36/H137*100) | I37: =IF(I36="","",I36/I137*100) | J37: =IF(J36="","",J36/J137*100) | ... V37: =IF(V36="","",V36/V137*100) | Y37: =A37 -> MOY. CLAS
C105: =C5 -> 10 | D105: =D5 -> 15 | E105: =E5 -> 20 | F105: =F5 -> 0 | G105: =G5 -> 0 | H105: =H5 -> 0 | I105: =I5 -> 0 | J105: =J5 -> 0 | ... W105: =W5 -> 0
C106: =IF(C6="","",$C$5) -> 10 | D106: =IF(D6="","",$D$5) | E106: =IF(E6="","",$E$5) -> 20 | F106: =IF(F6="","",$F$5) | G106: =IF(G6="","",$G$5) | H106: =IF(H6="","",$H$5) | I106: =IF(I6="","",$I$5) | J106: =IF(J6="","",$J$5) | K106: =IF(K6="","",$K$5) | L106: =IF(L6="","",$L$5) | M106: =IF(M6="","",$M$5) | N106: =IF(N6="","",$N$5) | O106: =IF(O6="","",$O$5) | P106: =IF(P6="","",$P$5) | Q106: =IF(Q6="","",$Q$5) | R106: =IF(R6="","",$R$5) | S106: =IF(S6="","",$S$5) | T106: =IF(T6="","",$T$5) | U106: =IF(U6="","",$U$5) | V106: =IF(V6="","",$V$5) | W106: =SUM(C106:V106) -> 30
C107: =IF(C7="","",$C$5) -> 10 | D107: =IF(D7="","",$D$5) -> 15 | E107: =IF(E7="","",$E$5) -> 20 | F107: =IF(F7="","",$F$5) | G107: =IF(G7="","",$G$5) | H107: =IF(H7="","",$H$5) | I107: =IF(I7="","",$I$5) | J107: =IF(J7="","",$J$5) | K107: =IF(K7="","",$K$5) | L107: =IF(L7="","",$L$5) | M107: =IF(M7="","",$M$5) | N107: =IF(N7="","",$N$5) | O107: =IF(O7="","",$O$5) | P107: =IF(P7="","",$P$5) | Q107: =IF(Q7="","",$Q$5) | R107: =IF(R7="","",$R$5) | S107: =IF(S7="","",$S$5) | T107: =IF(T7="","",$T$5) | U107: =IF(U7="","",$U$5) | V107: =IF(V7="","",$V$5) | W107: =SUM(C107:V107) -> 45
C108: =IF(C8="","",$C$5) -> 10 | D108: =IF(D8="","",$D$5) -> 15 | E108: =IF(E8="","",$E$5) -> 20 | F108: =IF(F8="","",$F$5) | G108: =IF(G8="","",$G$5) | H108: =IF(H8="","",$H$5) | I108: =IF(I8="","",$I$5) | J108: =IF(J8="","",$J$5) | K108: =IF(K8="","",$K$5) | L108: =IF(L8="","",$L$5) | M108: =IF(M8="","",$M$5) | N108: =IF(N8="","",$N$5) | O108: =IF(O8="","",$O$5) | P108: =IF(P8="","",$P$5) | Q108: =IF(Q8="","",$Q$5) | R108: =IF(R8="","",$R$5) | S108: =IF(S8="","",$S$5) | T108: =IF(T8="","",$T$5) | U108: =IF(U8="","",$U$5) | V108: =IF(V8="","",$V$5) | W108: =SUM(C108:V108) -> 45
...

Sheet Solides et figures
A1: ='Encodage + Sav. parler'!A1 -> Bulletin | C1: ='Encodage + Sav. parler'!C1 -> Classe de 4ème année | J1: ='Encodage + Sav. parler'!J1 -> De Samblanx Nicolas | R1: ='Encodage + Sav. parler'!R1 -> Année 2023/2024
B3: NOMS | C3: droites parallèles | D3: Carré rectangle | E3: Participation
C4: 1 | D4: 2 | E4: 3 | F4: 4 | G4: 5 | H4: 6 | I4: 7 | J4: 8 | K4: 9 | L4: 10 | M4: 11 | N4: 12 | O4: 13 | P4: 14 | Q4: 15 | R4: 16 | S4: 17 | T4: 18 | U4: 19 | V4: 20 | W4: PTS | X4: %
A5: TOTAL --> | C5: 10 | D5: 20 | E5: 10
A6: 1 | B6: ='Encodage + Sav. parler'!B6 -> MEUF Hfehfa | C6: 5.5 | D6: 11 | E6: 6 | W6: =IF(W106=0,"",SUM(C6:V6)) -> 22.5 | X6: =IF(W106=0,"",W6/W106*100) -> 56.25 | Y6: =A6 -> 1
A7: 2 | B7: ='Encodage + Sav. parler'!B7 -> QFCTDQ Cstji | C7: 0.5 | D7: 0 | E7: 0 | W7: =IF(W107=0,"",SUM(C7:V7)) -> 0.5 | X7: =IF(W107=0,"",W7/W107*100) -> 1.25 | Y7: =A7 -> 2
A8: 3 | B8: ='Encodage + Sav. parler'!B8 -> ZLPGW Mmvnufyn | C8: 5 | D8: 7.5 | E8: 5 | W8: =IF(W108=0,"",SUM(C8:V8)) -> 17.5 | X8: =IF(W108=0,"",W8/W108*100) -> 43.75 | Y8: =A8 -> 3
A9: 4 | B9: ='Encodage + Sav. parler'!B9 -> BYLGGRPWAFFM Fbeozwbe | C9: 4.5 | D9: 7.5 | E9: 5 | W9: =IF(W109=0,"",SUM(C9:V9)) -> 17 | X9: =IF(W109=0,"",W9/W109*100) -> 42.5 | Y9: =A9 -> 4
A10: 5 | B10: ='Encodage + Sav. parler'!B10 -> CZUWKE Dbzzvsz | C10: 5.5 | D10: 9 | E10: 7 | W10: =IF(W110=0,"",SUM(C10:V10)) -> 21.5 | X10: =IF(W110=0,"",W10/W110*100) -> 53.75 | Y10: =A10 -> 5
A11: 6 | B11: ='Encodage + Sav. parler'!B11 -> NGRPFYX Kzfmy | C11: 7 | D11: 10.5 | E11: 6 | W11: =IF(W111=0,"",SUM(C11:V11)) -> 23.5 | X11: =IF(W111=0,"",W11/W111*100) -> 58.75 | Y11: =A11 -> 6
A12: 7 | B12: ='Encodage + Sav. parler'!B12 -> JUF Omjvhjm | C12: 9.5 | D12: 20 | E12: 10 | W12: =IF(W112=0,"",SUM(C12:V12)) -> 39.5 | X12: =IF(W112=0,"",W12/W112*100) -> 98.75 | Y12: =A12 -> 7
A13: 8 | B13: ='Encodage + Sav. parler'!B13 -> FIWGYBFGJI Qchucznjx | C13: 1 | D13: 2 | E13: 3 | W13: =IF(W113=0,"",SUM(C13:V13)) -> 6 | X13: =IF(W113=0,"",W13/W113*100) -> 15 | Y13: =A13 -> 8
A14: 9 | B14: ='Encodage + Sav. parler'!B14 -> K&#600;MYPDD JAQDIGQ Kyznuzp | C14: 7 | D14: 14 | E14: 7 | W14: =IF(W114=0,"",SUM(C14:V14)) -> 28 | X14: =IF(W114=0,"",W14/W114*100) -> 70 | Y14: =A14 -> 9
A15: 10 | B15: ='Encodage + Sav. parler'!B15 -> JRQJGR Njrlyiue | C15: 7 | D15: 7.5 | E15: 5 | W15: =IF(W115=0,"",SUM(C15:V15)) -> 19.5 | X15: =IF(W115=0,"",W15/W115*100) -> 48.75 | Y15: =A15 -> 10
A16: 11 | B16: ='Encodage + Sav. parler'!B16 -> FJJYWAFA Svohnr | C16: 3 | D16: 20 | E16: 8 | W16: =IF(W116=0,"",SUM(C16:V16)) -> 31 | X16: =IF(W116=0,"",W16/W116*100) -> 77.5 | Y16: =A16 -> 11
A17: 12 | B17: ='Encodage + Sav. parler'!B17 -> PJILCBS Cujjz | D17: 5 | E17: 3 | W17: =IF(W117=0,"",SUM(C17:V17)) -> 8 | X17: =IF(W117=0,"",W17/W117*100) -> 26.666667 | Y17: =A17 -> 12
A18: 13 | B18: ='Encodage + Sav. parler'!B18 -> XUQUOVP Hanicij | W18: =IF(W118=0,"",SUM(C18:V18)) | X18: =IF(W118=0,"",W18/W118*100) | Y18: =A18 -> 13
A19: 14 | B19: ='Encodage + Sav. parler'!B19 -> VXZKW Pcljhw | C19: 2 | D19: 13 | E19: 5 | W19: =IF(W119=0,"",SUM(C19:V19)) -> 20 | X19: =IF(W119=0,"",W19/W119*100) -> 50 | Y19: =A19 -> 14
A20: 15 | B20: ='Encodage + Sav. parler'!B20 -> ANKBQZDX Mswnjbak | C20: 7 | D20: 8 | E20: 6 | W20: =IF(W120=0,"",SUM(C20:V20)) -> 21 | X20: =IF(W120=0,"",W20/W120*100) -> 52.5 | Y20: =A20 -> 15
A21: 16 | B21: ='Encodage + Sav. parler'!B21 -> DYTVXSTMX Qoyfpx | C21: 9.5 | D21: 19.5 | E21: 10 | W21: =IF(W121=0,"",SUM(C21:V21)) -> 39 | X21: =IF(W121=0,"",W21/W121*100) -> 97.5 | Y21: =A21 -> 16
A22: 17 | B22: ='Encodage + Sav. parler'!B22 -> MKJLB Hkfrxy | C22: 1.5 | D22: 2 | E22: 2 | W22: =IF(W122=0,"",SUM(C22:V22)) -> 5.5 | X22: =IF(W122=0,"",W22/W122*100) -> 13.75 | Y22: =A22 -> 17
A23: 18 | B23: ='Encodage + Sav. parler'!B23 -> VBEOU Lhlrygn-Roggj | C23: 9 | D23: 17 | E23: 10 | W23: =IF(W123=0,"",SUM(C23:V23)) -> 36 | X23: =IF(W123=0,"",W23/W123*100) -> 90 | Y23: =A23 -> 18
A24: 19 | B24: ='Encodage + Sav. parler'!B24 -> OLGZDCNSX Ckgeph | C24: 5 | D24: 7.5 | E24: 6 | W24: =IF(W124=0,"",SUM(C24:V24)) -> 18.5 | X24: =IF(W124=0,"",W24/W124*100) -> 46.25 | Y24: =A24 -> 19
A25: 20 | B25: ='Encodage + Sav. parler'!B25 -> TXHBZXHX Ovgalpu | E25: 6 | W25: =IF(W125=0,"",SUM(C25:V25)) -> 6 | X25: =IF(W125=0,"",W25/W125*100) -> 60 | Y25: =A25 -> 20
A26: 21 | B26: ='Encodage + Sav. parler'!B26 -> POHRCJF WH LGUZBRRY Sdzoi | C26: 4 | D26: 14 | E26: 7 | W26: =IF(W126=0,"",SUM(C26:V26)) -> 25 | X26: =IF(W126=0,"",W26/W126*100) -> 62.5 | Y26: =A26 -> 21
A27: 22 | B27: ='Encodage + Sav. parler'!B27 -> 0 | W27: =IF(W127=0,"",SUM(C27:V27)) | X27: =IF(W127=0,"",W27/W127*100) | Y27: =A27 -> 22
A28: 23 | B28: ='Encodage + Sav. parler'!B28 -> 0 | W28: =IF(W128=0,"",SUM(C28:V28)) | X28: =IF(W128=0,"",W28/W128*100) | Y28: =A28 -> 23
A29: 24 | B29: ='Encodage + Sav. parler'!B29 -> 0 | W29: =IF(W129=0,"",SUM(C29:V29)) | X29: =IF(W129=0,"",W29/W129*100) | Y29: =A29 -> 24
A30: 25 | B30: ='Encodage + Sav. parler'!B30 -> 0 | W30: =IF(W130=0,"",SUM(C30:V30)) | X30: =IF(W130=0,"",W30/W130*100) | Y30: =A30 -> 25
A31: 26 | B31: ='Encodage + Sav. parler'!B31 -> 0 | W31: =IF(W131=0,"",SUM(C31:V31)) | X31: =IF(W131=0,"",W31/W131*100) | Y31: =A31 -> 26
A32: 27 | B32: ='Encodage + Sav. parler'!B32 -> 0 | W32: =IF(W132=0,"",SUM(C32:V32)) | X32: =IF(W132=0,"",W32/W132*100) | Y32: =A32 -> 27
A33: 28 | B33: ='Encodage + Sav. parler'!B33 -> 0 | W33: =IF(W133=0,"",SUM(C33:V33)) | X33: =IF(W133=0,"",W33/W133*100) | Y33: =A33 -> 28
A34: 29 | B34: ='Encodage + Sav. parler'!B34 -> 0 | W34: =IF(W134=0,"",SUM(C34:V34)) | X34: =IF(W134=0,"",W34/W134*100) | Y34: =A34 -> 29
A35: 30 | B35: ='Encodage + Sav. parler'!B35 -> 0 | W35: =IF(W135=0,"",SUM(C35:V35)) | X35: =IF(W135=0,"",W35/W135*100) | Y35: =A35 -> 30
A36: TOTAL | C36: =IF(C136=0,"",SUM(C6:C35)) -> 93.5 | D36: =IF(D136=0,"",SUM(D6:D35)) -> 195 | E36: =IF(E136=0,"",SUM(E6:E35)) -> 117 | F36: =IF(F136=0,"",SUM(F6:F35)) | G36: =IF(G136=0,"",SUM(G6:G35)) | H36: =IF(H136=0,"",SUM(H6:H35)) | I36: =IF(I136=0,"",SUM(I6:I35)) | J36: =IF(J136=0,"",SUM(J6:J35)) | ... V36: =IF(V136=0,"",SUM(V6:V35)) | W36: =IF(W136=0,"",SUM(C36:V36)) -> 405.5 | X36: =IF(W136=0,"",W36/W136*100) -> 53.355263 | Y36: =A36 -> TOTAL
A37: MOY. CLAS | C37: =IF(C36="","",C36/C137*100) -> 51.944444 | D37: =IF(D36="","",D36/D137*100) -> 51.315789 | E37: =IF(E36="","",E36/E137*100) -> 58.5 | F37: =IF(F36="","",F36/F137*100) | G37: =IF(G36="","",G36/G137*100) | H37: =IF(H36="","",H36/H137*100) | I37: =IF(I36="","",I36/I137*100) | J37: =IF(J36="","",J36/J137*100) | ... V37: =IF(V36="","",V36/V137*100) | Y37: =A37 -> MOY. CLAS
C105: =C5 -> 10 | D105: =D5 -> 20 | E105: =E5 -> 10 | F105: =F5 -> 0 | G105: =G5 -> 0 | H105: =H5 -> 0 | I105: =I5 -> 0 | J105: =J5 -> 0 | ... W105: =W5 -> 0
