Workbook

Sheet Saisie
B1: Cible | D1: Classique
B2: TIREURS | D2: 1 | E2: 2 | F2: 3 | G2: 4 | H2: 5 | I2: 6 | J2: 7 | K2: 8 | L2: 9 | M2: 10 | O2: Total | P2: Place | R2: Record | S2: New Record
B3: LAURENT | O3: =SUM(D3:M3) -> 0 | P3: =RANK(O3,O$3:O$12) -> 1 | Q3: =+B3 -> LAURENT | R3: =IFERROR(VLOOKUP(B3,'Liste déroulantes'!$B$3:$C$23,2,FALSE),"") -> 285 | S3: =+IF(O3>R3,O3,"")
O4: =SUM(D4:M4) -> 0 | P4: =RANK(O4,O$3:O$12) -> 1 | Q4: =+B4 -> 0 | R4: =IFERROR(VLOOKUP(B4,'Liste déroulantes'!$B$3:$C$23,2,FALSE),"") | S4: =+IF(O4>R4,O4,"")
O5: =SUM(D5:M5) -> 0 | P5: =RANK(O5,O$3:O$12) -> 1 | Q5: =+B5 -> 0 | R5: =IFERROR(VLOOKUP(B5,'Liste déroulantes'!$B$3:$C$23,2,FALSE),"") | S5: =+IF(O5>R5,O5,"")
O6: =SUM(D6:M6) -> 0 | P6: =RANK(O6,O$3:O$12) -> 1 | Q6: =+B6 -> 0 | R6: =IFERROR(VLOOKUP(B6,'Liste déroulantes'!$B$3:$C$23,2,FALSE),"") | S6: =+IF(O6>R6,O6,"")
O7: =SUM(D7:M7) -> 0 | P7: =RANK(O7,O$3:O$12) -> 1 | Q7: =+B7 -> 0 | R7: =IFERROR(VLOOKUP(B7,'Liste déroulantes'!$B$3:$C$23,2,FALSE),"") | S7: =+IF(O7>R7,O7,"")
O8: =SUM(D8:M8) -> 0 | P8: =RANK(O8,O$3:O$12) -> 1 | Q8: =+B8 -> 0 | R8: =IFERROR(VLOOKUP(B8,'Liste déroulantes'!$B$3:$C$23,2,FALSE),"") | S8: =+IF(O8>R8,O8,"")
O9: =SUM(D9:M9) -> 0 | P9: =RANK(O9,O$3:O$12) -> 1 | Q9: =+B9 -> 0 | R9: =IFERROR(VLOOKUP(B9,'Liste déroulantes'!$B$3:$C$23,2,FALSE),"") | S9: =+IF(O9>R9,O9,"")
O10: =SUM(D10:M10) -> 0 | P10: =RANK(O10,O$3:O$12) -> 1 | Q10: =+B10 -> 0 | R10: =IFERROR(VLOOKUP(B10,'Liste déroulantes'!$B$3:$C$23,2,FALSE),"") | S10: =+IF(O10>R10,O10,"")
O11: =SUM(D11:M11) -> 0 | P11: =RANK(O11,O$3:O$12) -> 1 | Q11: =+B11 -> 0 | R11: =IFERROR(VLOOKUP(B11,'Liste déroulantes'!$B$3:$C$23,2,FALSE),"") | S11: =+IF(O11>R11,O11,"")
O12: =SUM(D12:M12) -> 0 | P12: =RANK(O12,O$3:O$12) -> 1 | Q12: =+B12 -> 0 | R12: =IFERROR(VLOOKUP(B12,'Liste déroulantes'!$B$3:$C$23,2,FALSE),"") | S12: =+IF(O12>R12,O12,"")
B13: Cible | D13: Tripod
B14: TIREURS | D14: 1 | E14: 2 | F14: 3 | G14: 4 | H14: 5 | I14: 6 | J14: 7 | K14: 8 | L14: 9 | M14: 10 | O14: Total | P14: Place | R14: Record | S14: New Record
B15: LAURENT | O15: =SUM(D15:M15) -> 0 | P15: =RANK(O15,O$15:O$24) -> 1 | Q15: =+B15 -> LAURENT | R15: =IFERROR(VLOOKUP(B15,'Liste déroulantes'!$B$3:$C$23,2,FALSE),"") -> 285 | S15: =+IF(O15>R15,O15,"")
O16: =SUM(D16:M16) -> 0 | P16: =RANK(O16,O$15:O$24) -> 1 | Q16: =+B16 -> 0 | R16: =IFERROR(VLOOKUP(B16,'Liste déroulantes'!$B$3:$C$23,2,FALSE),"") | S16: =+IF(O16>R16,O16,"")
O17: =SUM(D17:M17) -> 0 | P17: =RANK(O17,O$15:O$24) -> 1 | Q17: =+B17 -> 0 | R17: =IFERROR(VLOOKUP(B17,'Liste déroulantes'!$B$3:$C$23,2,FALSE),"") | S17: =+IF(O17>R17,O17,"")
O18: =SUM(D18:M18) -> 0 | P18: =RANK(O18,O$15:O$24) -> 1 | Q18: =+B18 -> 0 | R18: =IFERROR(VLOOKUP(B18,'Liste déroulantes'!$B$3:$C$23,2,FALSE),"") | S18: =+IF(O18>R18,O18,"")
O19: =SUM(D19:M19) -> 0 | P19: =RANK(O19,O$15:O$24) -> 1 | Q19: =+B19 -> 0 | R19: =IFERROR(VLOOKUP(B19,'Liste déroulantes'!$B$3:$C$23,2,FALSE),"") | S19: =+IF(O19>R19,O19,"")
O20: =SUM(D20:M20) -> 0 | P20: =RANK(O20,O$15:O$24) -> 1 | Q20: =+B20 -> 0 | R20: =IFERROR(VLOOKUP(B20,'Liste déroulantes'!$B$3:$C$23,2,FALSE),"") | S20: =+IF(O20>R20,O20,"")
O21: =SUM(D21:M21) -> 0 | P21: =RANK(O21,O$15:O$24) -> 1 | Q21: =+B21 -> 0 | R21: =IFERROR(VLOOKUP(B21,'Liste déroulantes'!$B$3:$C$23,2,FALSE),"") | S21: =+IF(O21>R21,O21,"")
O22: =SUM(D22:M22) -> 0 | P22: =RANK(O22,O$15:O$24) -> 1 | Q22: =+B22 -> 0 | R22: =IFERROR(VLOOKUP(B22,'Liste déroulantes'!$B$3:$C$23,2,FALSE),"") | S22: =+IF(O22>R22,O22,"")
O23: =SUM(D23:M23) -> 0 | P23: =RANK(O23,O$15:O$24) -> 1 | Q23: =+B23 -> 0 | R23: =IFERROR(VLOOKUP(B23,'Liste déroulantes'!$B$3:$C$23,2,FALSE),"") | S23: =+IF(O23>R23,O23,"")
O24: =SUM(D24:M24) -> 0 | P24: =RANK(O24,O$15:O$24) -> 1 | Q24: =+B24 -> 0 | R24: =IFERROR(VLOOKUP(B24,'Liste déroulantes'!$B$3:$C$23,2,FALSE),"") | S24: =+IF(O24>R24,O24,"")
B25: Cible | D25: Classique
B26: TIREURS | D26: 1 | E26: 2 | F26: 3 | G26: 4 | H26: 5 | I26: 6 | J26: 7 | K26: 8 | L26: 9 | M26: 10 | O26: Total | P26: Place | R26: Record | S26: New Record
O27: =SUM(D27:M27) -> 0 | P27: =RANK(O27,O$27:O$36) -> 1 | Q27: =+B27 -> 0 | R27: =IFERROR(VLOOKUP(B27,'Liste déroulantes'!$B$3:$C$23,2,FALSE),"") | S27: =+IF(O27>R27,O27,"")
O28: =SUM(D28:M28) -> 0 | P28: =RANK(O28,O$27:O$36) -> 1 | Q28: =+B28 -> 0 | R28: =IFERROR(VLOOKUP(B28,'Liste déroulantes'!$B$3:$C$23,2,FALSE),"") | S28: =+IF(O28>R28,O28,"")
O29: =SUM(D29:M29) -> 0 | P29: =RANK(O29,O$27:O$36) -> 1 | Q29: =+B29 -> 0 | R29: =IFERROR(VLOOKUP(B29,'Liste déroulantes'!$B$3:$C$23,2,FALSE),"") | S29: =+IF(O29>R29,O29,"")
O30: =SUM(D30:M30) -> 0 | P30: =RANK(O30,O$27:O$36) -> 1 | Q30: =+B30 -> 0 | R30: =IFERROR(VLOOKUP(B30,'Liste déroulantes'!$B$3:$C$23,2,FALSE),"") | S30: =+IF(O30>R30,O30,"")
O31: =SUM(D31:M31) -> 0 | P31: =RANK(O31,O$27:O$36) -> 1 | Q31: =+B31 -> 0 | R31: =IFERROR(VLOOKUP(B31,'Liste déroulantes'!$B$3:$C$23,2,FALSE),"") | S31: =+IF(O31>R31,O31,"")
O32: =SUM(D32:M32) -> 0 | P32: =RANK(O32,O$27:O$36) -> 1 | Q32: =+B32 -> 0 | R32: =IFERROR(VLOOKUP(B32,'Liste déroulantes'!$B$3:$C$23,2,FALSE),"") | S32: =+IF(O32>R32,O32,"")
O33: =SUM(D33:M33) -> 0 | P33: =RANK(O33,O$27:O$36) -> 1 | Q33: =+B33 -> 0 | R33: =IFERROR(VLOOKUP(B33,'Liste déroulantes'!$B$3:$C$23,2,FALSE),"") | S33: =+IF(O33>R33,O33,"")
O34: =SUM(D34:M34) -> 0 | P34: =RANK(O34,O$27:O$36) -> 1 | Q34: =+B34 -> 0 | R34: =IFERROR(VLOOKUP(B34,'Liste déroulantes'!$B$3:$C$23,2,FALSE),"") | S34: =+IF(O34>R34,O34,"")
O35: =SUM(D35:M35) -> 0 | P35: =RANK(O35,O$27:O$36) -> 1 | Q35: =+B35 -> 0 | R35: =IFERROR(VLOOKUP(B35,'Liste déroulantes'!$B$3:$C$23,2,FALSE),"") | S35: =+IF(O35>R35,O35,"")
O36: =SUM(D36:M36) -> 0 | P36: =RANK(O36,O$27:O$36) -> 1 | Q36: =+B36 -> 0 | R36: =IFERROR(VLOOKUP(B36,'Liste déroulantes'!$B$3:$C$23,2,FALSE),"") | S36: =+IF(O36>R36,O36,"")
B37: Cible | D37: Classique
B38: TIREURS | D38: 1 | E38: 2 | F38: 3 | G38: 4 | H38: 5 | I38: 6 | J38: 7 | K38: 8 | L38: 9 | M38: 10 | O38: Total | P38: Place | R38: Record | S38: New Record
O39: =SUM(D39:M39) -> 0 | P39: =RANK(O39,O$39:O$48) -> 1 | Q39: =+B39 | R39: =IFERROR(VLOOKUP(B39,'Liste déroulantes'!$B$3:$D$23,2,FALSE),"") | S39: =+IF(O39>R39,O39,"")
O40: =SUM(D40:M40) -> 0 | P40: =RANK(O40,O$39:O$48) -> 1 | Q40: =+B40 -> 0 | R40: =IFERROR(VLOOKUP(B40,'Liste déroulantes'!$B$3:$C$23,2,FALSE),"") | S40: =+IF(O40>R40,O40,"")
O41: =SUM(D41:M41) -> 0 | P41: =RANK(O41,O$39:O$48) -> 1 | Q41: =+B41 -> 0 | R41: =IFERROR(VLOOKUP(B41,'Liste déroulantes'!$B$3:$C$23,2,FALSE),"") | S41: =+IF(O41>R41,O41,"")
O42: =SUM(D42:M42) -> 0 | P42: =RANK(O42,O$39:O$48) -> 1 | Q42: =+B42 -> 0 | R42: =IFERROR(VLOOKUP(B42,'Liste déroulantes'!$B$3:$C$23,2,FALSE),"") | S42: =+IF(O42>R42,O42,"")
O43: =SUM(D43:M43) -> 0 | P43: =RANK(O43,O$39:O$48) -> 1 | Q43: =+B43 -> 0 | R43: =IFERROR(VLOOKUP(B43,'Liste déroulantes'!$B$3:$C$23,2,FALSE),"") | S43: =+IF(O43>R43,O43,"")
O44: =SUM(D44:M44) -> 0 | P44: =RANK(O44,O$39:O$48) -> 1 | Q44: =+B44 -> 0 | R44: =IFERROR(VLOOKUP(B44,'Liste déroulantes'!$B$3:$C$23,2,FALSE),"") | S44: =+IF(O44>R44,O44,"")
O45: =SUM(D45:M45) -> 0 | P45: =RANK(O45,O$39:O$48) -> 1 | Q45: =+B45 -> 0 | R45: =IFERROR(VLOOKUP(B45,'Liste déroulantes'!$B$3:$C$23,2,FALSE),"") | S45: =+IF(O45>R45,O45,"")
O46: =SUM(D46:M46) -> 0 | P46: =RANK(O46,O$39:O$48) -> 1 | Q46: =+B46 -> 0 | R46: =IFERROR(VLOOKUP(B46,'Liste déroulantes'!$B$3:$C$23,2,FALSE),"") | S46: =+IF(O46>R46,O46,"")
O47: =SUM(D47:M47) -> 0 | P47: =RANK(O47,O$39:O$48) -> 1 | Q47: =+B47 -> 0 | R47: =IFERROR(VLOOKUP(B47,'Liste déroulantes'!$B$3:$C$23,2,FALSE),"") | S47: =+IF(O47>R47,O47,"")
O48: =SUM(D48:M48) -> 0 | P48: =RANK(O48,O$39:O$48) -> 1 | Q48: =+B48 -> 0 | R48: =IFERROR(VLOOKUP(B48,'Liste déroulantes'!$B$3:$C$23,2,FALSE),"") | S48: =+IF(O48>R48,O48,"")
B49: Cible | D49: Classique
B50: TIREURS | D50: 1 | E50: 2 | F50: 3 | G50: 4 | H50: 5 | I50: 6 | J50: 7 | K50: 8 | L50: 9 | M50: 10 | O50: Total | P50: Place | R50: Record | S50: New Record
O51: =SUM(D51:M51) -> 0 | P51: =RANK(O51,O$39:O$48) -> 1 | Q51: =+B51 -> 0 | R51: =IFERROR(VLOOKUP(B51,'Liste déroulantes'!$B$3:$C$23,2,FALSE),"") | S51: =+IF(O51>R51,O51,"")
O52: =SUM(D52:M52) -> 0 | P52: =RANK(O52,O$39:O$48) -> 1 | Q52: =+B52 -> 0 | R52: =IFERROR(VLOOKUP(B52,'Liste déroulantes'!$B$3:$C$23,2,FALSE),"") | S52: =+IF(O52>R52,O52,"")
O53: =SUM(D53:M53) -> 0 | P53: =RANK(O53,O$39:O$48) -> 1 | Q53: =+B53 -> 0 | R53: =IFERROR(VLOOKUP(B53,'Liste déroulantes'!$B$3:$C$23,2,FALSE),"") | S53: =+IF(O53>R53,O53,"")
O54: =SUM(D54:M54) -> 0 | P54: =RANK(O54,O$39:O$48) -> 1 | Q54: =+B54 -> 0 | R54: =IFERROR(VLOOKUP(B54,'Liste déroulantes'!$B$3:$C$23,2,FALSE),"") | S54: =+IF(O54>R54,O54,"")
O55: =SUM(D55:M55) -> 0 | P55: =RANK(O55,O$39:O$48) -> 1 | Q55: =+B55 -> 0 | R55: =IFERROR(VLOOKUP(B55,'Liste déroulantes'!$B$3:$C$23,2,FALSE),"") | S55: =+IF(O55>R55,O55,"")
O56: =SUM(D56:M56) -> 0 | P56: =RANK(O56,O$39:O$48) -> 1 | Q56: =+B56 -> 0 | R56: =IFERROR(VLOOKUP(B56,'Liste déroulantes'!$B$3:$C$23,2,FALSE),"") | S56: =+IF(O56>R56,O56,"")
O57: =SUM(D57:M57) -> 0 | P57: =RANK(O57,O$39:O$48) -> 1 | Q57: =+B57 -> 0 | R57: =IFERROR(VLOOKUP(B57,'Liste déroulantes'!$B$3:$C$23,2,FALSE),"") | S57: =+IF(O57>R57,O57,"")
O58: =SUM(D58:M58) -> 0 | P58: =RANK(O58,O$39:O$48) -> 1 | Q58: =+B58 -> 0 | R58: =IFERROR(VLOOKUP(B58,'Liste déroulantes'!$B$3:$C$23,2,FALSE),"") | S58: =+IF(O58>R58,O58,"")
O59: =SUM(D59:M59) -> 0 | P59: =RANK(O59,O$39:O$48) -> 1 | Q59: =+B59 -> 0 | R59: =IFERROR(VLOOKUP(B59,'Liste déroulantes'!$B$3:$C$23,2,FALSE),"") | S59: =+IF(O59>R59,O59,"")
O60: =SUM(D60:M60) -> 0 | P60: =RANK(O60,O$39:O$48) -> 1 | Q60: =+B60 -> 0 | R60: =IFERROR(VLOOKUP(B60,'Liste déroulantes'!$B$3:$C$23,2,FALSE),"") | S60: =+IF(O60>R60,O60,"")

Sheet Liste déroulantes
B2: TIREURS | C2: Record Classique | D2: Record Tripod | F2: 0 | G2: 1 | H2: 2 | I2: 3 | J2: 4 | K2: 5 | L2: 6 | M2: 7 | N2: 8 | O2: 9 | P2: 10 | Q2: 11 | R2: 12 | S2: 13 | T2: 14 | U2: 15 | V2: 16 | W2: 17 | X2: 18 | Y2: 19 | Z2: 20 | AA2: 21 | AB2: 22 | AC2: 23 | AD2: 24 | AE2: 25 | AF2: 26 | AG2: 27 | AH2: 28 | AI2: 29 | AJ2: 30
B3: LAURENT | C3: 285 | D3: 277
B4: FABRICE | C4: 225 | D4: 210 | F4: Classique
B5: HERVE | C5: 250 | D5: 236 | F5: Tripod
B6: MYRIAM | C6: 254 | D6: 241
B7: MAXIME | C7: 255 | D7: 249
B8: NOEMIE | C8: 272 | D8: 256
B9: VINCENT | C9: 224 | D9: 164
B10: AZMA | C10: 181 | D10: 0
B11: CALYPSO | C11: 139 | D11: 0
B12: JADE | C12: 153 | D12: 0
B13: MAÏWEN | C13: 163 | D13: 14
B14: MARION | C14: 130 | D14: 49
B15: EMMANUEL | C15: 156 | D15: 65
B16: ISABELLE | C16: 175 | D16: 162
B17: MALO | C17: 68 | D17: 0
... B20: HUGOLIN | C20: 0 | D20: 0
