Workbook

Sheet Etude Thermique 3,0
B3: Désignations | C3: Epaisseur (m) | D3: l (W/m.K) | E3: R (m².K/W) | F3: U =1/R (W/m².K) | G3: R (m².K/W) | H3: ΔΘ par élément | I3: Température en °C | J3: Zone de Θ | K3: ΔΘ totale
B5: Rsi → | E5: =IFERROR(VLOOKUP(B5,'Nomenclature + Rsx Murs'!$A$242:$B$243,2,0)," ") -> 0.13 | F5: =IFERROR(1/E5," ") -> 7.6923077 | G5: =IFERROR(SUM(E5:E11)," ")+1 -> 8.1781065 | I5: 18 | J5: T°int | K5: =SUM(H6:H12) -> 25
B6: Placoplatre® BA13 | C6: =IFERROR(VLOOKUP(B6,'Nomenclature + Rsx Murs'!$A$4:$C$233,3,0)," ") -> 0.0125 | D6: =IFERROR(VLOOKUP(B6,'Nomenclature + Rsx Murs'!$A$4:$B$244,2,0)," ") -> 0.042 | E6: =IFERROR(C6/D6," ") -> 0.29761905 | F6: =IFERROR(1/E6," ") -> 3.36 | G6: =IFERROR(SUM(E5:E11)," ") -> 7.1781065 | H6: =IFERROR(E5*$K$14," ") -> 0.45276564 | I6: =IFERROR((I5-($K$14*E5))," ") -> 17.547234 | J6: T°si
B7: Laine de roche Rockciel 0,22 mm | C7: =IFERROR(VLOOKUP(B7,'Nomenclature + Rsx Murs'!$A$4:$C$233,3,0)," ") -> 0.22 | D7: =IFERROR(VLOOKUP(B7,'Nomenclature + Rsx Murs'!$A$4:$B$244,2,0)," ") -> 0.03548 | E7: =IFERROR(C7/D7," ") -> 6.2006764 | F7: =IFERROR(1/E7," ") -> 0.16127273 | G7: =IFERROR(SUM(E6:E11)," ") -> 7.0481065 | H7: =IFERROR(E6*$K$14," ") -> 1.0365514 | I7: =IFERROR((I6-($K$14*E6))," ") -> 16.510683 | J7: T°1
B8: Lame d'air 10 mm | C8: =IFERROR(VLOOKUP(B8,'Nomenclature + Rsx Murs'!$A$4:$C$233,3,0)," ") -> 0.01 | D8: =IFERROR(VLOOKUP(B8,'Nomenclature + Rsx Murs'!$A$4:$B$244,2,0)," ") -> 0.071 | E8: =IFERROR(C8/D8," ") -> 0.14084507 | F8: =IFERROR(1/E8," ") -> 7.1 | G8: =IFERROR(SUM(E7:E11)," ") -> 6.7504874 | H8: =IFERROR(E7*$K$14," ") -> 21.595794 | I8: =IFERROR((I7-($K$14*E7))," ") -> -5.0851113 | J8: T°2
B9: Bloc en béton creux B40 500x200x200 | C9: =IFERROR(VLOOKUP(B9,'Nomenclature + Rsx Murs'!$A$4:$C$233,3,0)," ") -> 0.2 | D9: =IFERROR(VLOOKUP(B9,'Nomenclature + Rsx Murs'!$A$4:$B$244,2,0)," ") -> 0.74 | E9: =IFERROR(C9/D9," ") -> 0.27027027 | F9: =IFERROR(1/E9," ") -> 3.7 | G9: =IFERROR(SUM(E8:E11)," ") -> 0.54981099 | H9: =IFERROR(E8*$K$14," ") -> 0.49053699 | I9: =IFERROR((I8-($K$14*E8))," ") -> -5.5756483 | J9: T°3 | AB9: Parevapeur
B10: Enduit extérieur 10 mm | C10: =IFERROR(VLOOKUP(B10,'Nomenclature + Rsx Murs'!$A$4:$C$233,3,0)," ") -> 0.01 | D10: =IFERROR(VLOOKUP(B10,'Nomenclature + Rsx Murs'!$A$4:$B$244,2,0)," ") -> 1.15 | E10: =IFERROR(C10/D10," ") -> 0.0086956522 | F10: =IFERROR(1/E10," ") -> 115 | G10: =IFERROR(SUM(E9:E11)," ") -> 0.40896592 | H10: =IFERROR(E9*$K$14," ") -> 0.94130071 | I10: =IFERROR((I9-($K$14*E9))," ") -> -6.516949 | J10: T°4 | AB10: =G7 -> 7.0481065 | AC10: =L19 -> 10.126022
B11: Rsi → | E11: =IFERROR(VLOOKUP(B11,'Nomenclature + Rsx Murs'!$A$242:$B$243,2,0)," ") -> 0.13 | F11: =IFERROR(1/E11," ") -> 7.6923077 | G11: =IFERROR(SUM(E10:E11)," ") -> 0.13869565 | H11: =IFERROR(E10*$K$14," ") -> 0.030285327 | I11: =IFERROR((I10-($K$14*E10))," ") -> -6.5472344 | J11: T°si2 | AB11: =G12 -> 0.13 | AC11: =L19 -> 10.126022
B12: RGlobal → | E12: =SUM(E5:E11) -> 7.1781065 | G12: =IFERROR(SUM(E11)," ") -> 0.13 | H12: =IFERROR(E11*$K$14," ") -> 0.45276564 | I12: -7 | J12: T°int2 | AB12: =G7 -> 7.0481065 | AC12: =I7 -> 16.510683
B13: U=1/R → | F13: =IFERROR(1/E12,0) -> 0.13931251 | AB13: =G12 -> 0.13 | AC13: =I7 -> 16.510683
I14: Φ=Ti-Te/RGlobal | K14: =IFERROR((I5-I12)/E12,0) -> 3.4828126 | AB14: =G5 -> 8.1781065 | AC14: =I6 -> 17.547234
C15: Épaisseur en m e=R x λ | I15: Gain en % | K15: =IFERROR(($K$17-F13)/$K$17,0) -> 0.69041665 | AB15: =G12 -> 0.13 | AC15: =I6 -> 17.547234
AB16: =G8 -> 6.7504874 | AC16: =I8 -> -5.0851113
B17: Épaisseur Doublage | C17: =SUM(C9:C10) -> 0.21 | I17: U Maxi | K17: 0.45 | AB17: =G12 -> 0.13 | AC17: =I8 -> -5.0851113
B18: Résistance thermique Doublage | C18: =SUM(E9:E10) -> 0.27896592 | I18: Humidité relative | K18: 0.6 | L18: 1 | AB18: =G9 -> 0.54981099 | AC18: =I9 -> -5.5756483
B19: Epaisseur du mur | C19: =SUM(C6:C10) -> 0.4525 | I19: Point de rosée | K19: =I5 -> 18 | L19: =IFERROR(((1779.75*I5)/(237.3+I5)+237.3*LOG($K$18))/(7.5-((7.5*I5)/(237.3+I5)+LOG($K$18))),0) -> 10.126022 | AB19: =G12 -> 0.13 | AC19: =I9 -> -5.5756483
AB20: =G10 -> 0.40896592 | AC20: =I10 -> -6.516949
B21: DPE = Diagnostique de performance énergétique
B22: B.B.C = Bâtiment Basse Consommation | N22: =SUM(M23:S24) -> 0.4525 | AB22: =G12 -> 0.13 | AC22: =I10 -> -6.516949
O23: =C7 -> 0.22
M24: =C6 -> 0.0125 | P24: =C8 -> 0.01 | Q24: =C9 -> 0.2 | S24: =C10 -> 0.01
O26: #VALUE! | Q26: #VALUE! | V26: 25
V27: 24
V28: 23
V29: 22
V30: 21
V31: 20
V32: 19
V33: 18
V34: 17 | Y34: T°int
V35: 16 | Y35: T°int2
V36: 15 | Y36: T°si2
V37: 14
V38: 13
V39: 12
V40: 11
V41: 10
V42: 9
V43: 8
V44: 7 | Y44: T°7
...

Sheet Température de point de rosée
A1: #VALUE! | C1: RH (%)
C2: 1 | D2: 0.9 | E2: 0.8 | F2: 0.7 | G2: 0.6 | H2: 0.5 | I2: 0.4 | J2: 0.3 | K2: 0.2 | L2: 0.1 | M2: 0
A3: Température | B3: 0 | C3: 0.0037880057 | D3: 0.0034071302 | E3: 0.003026718 | F3: 0.0026467683 | G3: 0.0022672803 | H3: 0.0018882531 | I3: 0.0015096858 | J3: 0.0011315778 | K3: 0.00075392798 | L3: 0.00037673567 | M3: 0
B4: 1 | C4: 0.0040749093 | D4: 0.0036650173 | E4: 0.0032556617 | F4: 0.0028468414 | G4: 0.0024385553 | H4: 0.0020308025 | I4: 0.0016235818 | J4: 0.0012168922 | K4: 0.00081073279 | L4: 0.00040510238 | M4: 0
B5: 2 | C5: 0.0043810601 | D5: 0.0039401788 | E5: 0.0034999177 | F5: 0.0030602755 | G5: 0.0026212509 | H5: 0.0021828426 | I5: 0.0017450493 | J5: 0.0013078696 | K5: 0.00087130239 | L5: 0.00043534628 | M5: 0
B6: 3 | C6: 0.0047075868 | D6: 0.0042336239 | E6: 0.0037603774 | F6: 0.0032878456 | G6: 0.0028160269 | H6: 0.0023449197 | I6: 0.0018745224 | J6: 0.0014048333 | K6: 0.000935851 | L6: 0.00046757375 | M6: 0
B7: 4 | C7: 0.0050556766 | D7: 0.0045464136 | E7: 0.0040379771 | F7: 0.0035303651 | G7: 0.0030235756 | H7: 0.0025176066 | I7: 0.0020124562 | J7: 0.0015081223 | K7: 0.0010046029 | L7: 0.00050189615 | M7: 0
B8: 5 | C8: 0.005426577 | D8: 0.0048796621 | E8: 0.0043336998 | F8: 0.0037886877 | G8: 0.0032446233 | H8: 0.002701504 | I8: 0.0021593275 | J8: 0.0016180913 | K8: 0.0010777929 | L8: 0.00053842997 | M8: 0
B9: 6 | C9: 0.0058215993 | D9: 0.0052345401 | E9: 0.0046485778 | F9: 0.0040637093 | G9: 0.0034799315 | H9: 0.0028972413 | I9: 0.0023156358 | J9: 0.001735112 | K9: 0.0011556667 | L9: 0.00057729705 | M9: 0
B10: 7 | C10: 0.0062421214 | D10: 0.005612277 | E10: 0.0049836943 | F10: 0.0043563694 | G10: 0.0037302986 | H10: 0.0031054781 | I10: 0.0024819042 | J10: 0.0018595731 | K10: 0.0012384812 | L10: 0.00061862472 | M10: 0
B11: 8 | C11: 0.0066895912 | D11: 0.0060141638 | E11: 0.0053401862 | F11: 0.0046676537 | G11: 0.0039965615 | H11: 0.0033269052 | I11: 0.0026586801 | J11: 0.0019918815 | K11: 0.001326505 | L11: 0.00066254602 | M11: 0
B12: 9 | C12: 0.0071655298 | D12: 0.0064415561 | E12: 0.0057192466 | F12: 0.0049985955 | G12: 0.0042795973 | H12: 0.0035622461 | I12: 0.0028465364 | J12: 0.0021324626 | K12: 0.0014200189 | L12: 0.00070919991 | M12: 0
B13: 10 | C13: 0.0076715357 | D13: 0.006895877 | E13: 0.0061221269 | F13: 0.0053502784 | G13: 0.0045803245 | H13: 0.0038122583 | I13: 0.0030460727 | J13: 0.002281761 | K13: 0.0015193162 | L13: 0.00075873143 | M13: 0
B14: 11 | C14: 0.0082092879 | D14: 0.0073786207 | E14: 0.0065501403 | F14: 0.0057238382 | G14: 0.0048997058 | H14: 0.0040777346 | I14: 0.003257916 | J14: 0.0024402416 | K14: 0.001624703 | L14: 0.00081129195 | M14: 0
B15: 12 | C15: 0.0087805508 | D15: 0.0078913558 | E15: 0.0070046642 | F15: 0.0061204654 | G15: 0.0052387491 | H15: 0.0043595046 | I15: 0.0034827217 | J15: 0.0026083901 | K15: 0.0017364993 | L15: 0.00086703937 | M15: 0
... B28: 25 | C28: 0.020245081 | D28: 0.01816146 | E28: 0.016091315 | F28: 0.014034516 | G28: 0.011990934 | H28: 0.0099604423 | I28: 0.007942915 | J28: 0.0059382285 | K28: 0.0039462607 | L28: 0.0019668909 | M28: 0

Sheet Nomenclature + Rsx Murs
A1: Désigantion murs | B1: l (W/m,K) | C1: Epaisseur en m
A3: Aluminium | B3: 210 | C3: 0.0003
A4: Ardoise | B4: 2.2 | C4: 0.003
A5: Ardoise | B5: 2.1 | C5: 0.004
A6: Asphalte sablé | B6: 1.15 | C6: 0.015
A7: Balsa | B7: 0.05 | C7: 0.012
A8: Basalte 04 | B8: 3.5 | C8: 0.037
A9: Basalte 08 | B9: 1.6 | C9: 0.08
A10: Béton armé et mortier | B10: 1.65 | C10: 0.2
A11: Béton banché | B11: 0.9 | C11: 0.2
A12: Béton caverneux - granulats de schistes expansés Granulex® | B12: 0.12 | C12: 0.15
A13: Béton cellulaire collé - EnergieBloc - Cellumat | B13: 0.09 | C13: 0.3
A14: Béton cellulaire collé - EnergieBloc - Cellumat | B14: 0.09 | C14: 0.365
... A26: Béton de vermiculite | B26: 0.068 | C26: 0.2
A27: Béton de vermiculite (préfa. Usine) | B27: 0.24 | C27: 0.05
A28: Béton fibragglo (plaque) - Knauf - Fibralith | B28: 0.0833 | C28: 0.025
A29: Béton fibragglo (plaque) - Knauf - Fibralith | B29: 0.0875 | C29: 0.035
A30: Béton fibragglo (plaque) - Knauf - Fibralith | B30: 0.125 | C30: 0.05
A31: Béton plein | B31: 2 | C31: 0.28
A32: Béton plein - Bétons de granulats lourds de laitier de hauts fourneaux de Lorraine | B32: 1.4 | C32: 0.2
A33: Béton plein - Bétons de granulats lourds siliceux, silico-calcaires et calcaires | B33: 1.75 | C33: 0.2
A34: Béton plein (laitier granulé) | B34: 0.8 | C34: 0.2
A35: Béton plein armé 20 cm | B35: 2.4 | C35: 0.2
A36: Béton plein armé 22 cm | B36: 1.75 | C36: 0.22
A37: Béton plein d'argile expansée | B37: 0.33 | C37: 0.2
A38: Béton traité à l'autoclave | B38: 0.16 | C38: 0.2
A39: Bitume | B39: 0.23 | C39: 0.003
... A43: Bloc de béton de bois - Isolabloc -TH36 + TH31 (graphité) 25+18 | B43: 0.032 | C43: 0.43
A44: Bloc de pierre ponce - Cogetherm | B44: 0.1241 | C44: 0,35
A45: Bloc de pierre ponce - Cogetherm | B45: 0.17 | C45: 0.2
A46: Bloc en béton creux (3L) B50 500x200x200 mm FABTHERM ECO | B46: 0.392 | C46: 0.2
A47: Bloc en béton creux 1 rangée d'alvéoles 500x100x200 mm | B47: 0.833 | C47: 0.1
A48: Bloc en béton creux 1 rangée d'alvéoles 500x125x200 mm | B48: 0.961538 | C48: 0.125
A49: Bloc en béton creux 1 rangée d'alvéoles 500x200x200 mm | B49: 1.42857 | C49: 0.2
A50: Bloc en béton creux 1 rangée d'alvéoles 500x250x200 mm | B50: 1.7857 | C50: 0.25
A51: Bloc en béton creux 1 rangée d'alvéoles 500x50x200 mm | B51: 0.714 | C51: 0.05
A52: Bloc en béton creux 1 rangée d'alvéoles 500x75x200 mm | B52: 0.75 | C52: 0.075
A53: Bloc en béton creux 500x225x200 mm | B53: 1.0741286 | C53: 0.225
A54: Bloc en béton creux mince 500x200x200 mm | B54: 0.95 | C54: 0.2
A55: Bloc en béton creux B40 500x200x200 | B55: 0.74 | C55: 0.2
...

Sheet Correspondance Diagramme
B1: 1 | C1: 0.9 | D1: 0.8 | E1: 0.7 | F1: 0.6 | G1: 0.5 | H1: 0.4 | I1: 0.3 | J1: 0.2 | K1: 0.1 | L1: 0
A2: 0 | B2: 0.0037880057 | C2: 0.0034071302 | D2: 0.003026718 | E2: 0.0026467683 | F2: 0.0022672803 | G2: 0.0018882531 | H2: 0.0015096858 | I2: 0.0011315778 | J2: 0.00075392798 | K2: 0.00037673567 | L2: 0
A3: 1 | B3: 0.0040749093 | C3: 0.0036650173 | D3: 0.0032556617 | E3: 0.0028468414 | F3: 0.0024385553 | G3: 0.0020308025 | H3: 0.0016235818 | I3: 0.0012168922 | J3: 0.00081073279 | K3: 0.00040510238 | L3: 0
A4: 2 | B4: 0.0043810601 | C4: 0.0039401788 | D4: 0.0034999177 | E4: 0.0030602755 | F4: 0.0026212509 | G4: 0.0021828426 | H4: 0.0017450493 | I4: 0.0013078696 | J4: 0.00087130239 | K4: 0.00043534628 | L4: 0
A5: 3 | B5: 0.0047075868 | C5: 0.0042336239 | D5: 0.0037603774 | E5: 0.0032878456 | F5: 0.0028160269 | G5: 0.0023449197 | H5: 0.0018745224 | I5: 0.0014048333 | J5: 0.000935851 | K5: 0.00046757375 | L5: 0
A6: 4 | B6: 0.0050556766 | C6: 0.0045464136 | D6: 0.0040379771 | E6: 0.0035303651 | F6: 0.0030235756 | G6: 0.0025176066 | H6: 0.0020124562 | I6: 0.0015081223 | J6: 0.0010046029 | K6: 0.00050189615 | L6: 0
A7: 5 | B7: 0.005426577 | C7: 0.0048796621 | D7: 0.0043336998 | E7: 0.0037886877 | F7: 0.0032446233 | G7: 0.002701504 | H7: 0.0021593275 | I7: 0.0016180913 | J7: 0.0010777929 | K7: 0.00053842997 | L7: 0
A8: 6 | B8: 0.0058215993 | C8: 0.0052345401 | D8: 0.0046485778 | E8: 0.0040637093 | F8: 0.0034799315 | G8: 0.0028972413 | H8: 0.0023156358 | I8: 0.001735112 | J8: 0.0011556667 | K8: 0.00057729705 | L8: 0
A9: 7 | B9: 0.0062421214 | C9: 0.005612277 | D9: 0.0049836943 | E9: 0.0043563694 | F9: 0.0037302986 | G9: 0.0031054781 | H9: 0.0024819042 | I9: 0.0018595731 | J9: 0.0012384812 | K9: 0.00061862472 | L9: 0
A10: 8 | B10: 0.0066895912 | C10: 0.0060141638 | D10: 0.0053401862 | E10: 0.0046676537 | F10: 0.0039965615 | G10: 0.0033269052 | H10: 0.0026586801 | I10: 0.0019918815 | J10: 0.001326505 | K10: 0.00066254602 | L10: 0
A11: 9 | B11: 0.0071655298 | C11: 0.0064415561 | D11: 0.0057192466 | E11: 0.0049985955 | F11: 0.0042795973 | G11: 0.0035622461 | H11: 0.0028465364 | I11: 0.0021324626 | J11: 0.0014200189 | K11: 0.00070919991 | L11: 0
A12: 10 | B12: 0.0076715357 | C12: 0.006895877 | D12: 0.0061221269 | E12: 0.0053502784 | F12: 0.0045803245 | G12: 0.0038122583 | H12: 0.0030460727 | I12: 0.002281761 | J12: 0.0015193162 | K12: 0.00075873143 | L12: 0
A13: 11 | B13: 0.0082092879 | C13: 0.0073786207 | D13: 0.0065501403 | E13: 0.0057238382 | F13: 0.0048997058 | G13: 0.0040777346 | H13: 0.003257916 | I13: 0.0024402416 | J13: 0.001624703 | K13: 0.00081129195 | L13: 0
... A27: 25 | B27: 0.020245081 | C27: 0.01816146 | D27: 0.016091315 | E27: 0.014034516 | F27: 0.011990934 | G27: 0.0099604423 | H27: 0.007942915 | I27: 0.0059382285 | J27: 0.0039462607 | K27: 0.0019668909 | L27: 0

Sheet Corresp Rosée
B1: 0 | C1: 1 | D1: 2 | E1: 3 | F1: 4 | G1: 5 | H1: 6 | I1: 7 | J1: 8 | K1: 9 | L1: 10 | M1: 11 | N1: 12 | O1: 13 | P1: 14 | Q1: 15 | R1: 16 | S1: 17 | T1: 18 | U1: 19 | V1: 20 | W1: 21 | X1: 22 | Y1: 23 | Z1: 24 | AA1: 25
A2: 1 | B2: 0.0037880057 | C2: 0.0040749093 | D2: 0.0043810601 | E2: 0.0047075868 | F2: 0.0050556766 | G2: 0.005426577 | H2: 0.0058215993 | I2: 0.0062421214 | J2: 0.0066895912 | K2: 0.0071655298 | L2: 0.0076715357 | M2: 0.0082092879 | N2: 0.0087805508 | O2: 0.009387178 | P2: 0.010031117 | Q2: 0.010714415 | R2: 0.011439223 | S2: 0.012207801 | T2: 0.013022528 | U2: 0.013885903 | V2: 0.014800555 | W2: 0.015769252 | X2: 0.016794904 | Y2: 0.017880578 | Z2: 0.019029503 | AA2: 0.020245081
A3: 0.9 | B3: 0.0034071302 | C3: 0.0036650173 | D3: 0.0039401788 | E3: 0.0042336239 | F3: 0.0045464136 | G3: 0.0048796621 | H3: 0.0052345401 | I3: 0.005612277 | J3: 0.0060141638 | K3: 0.0064415561 | L3: 0.006895877 | M3: 0.0073786207 | N3: 0.0078913558 | O3: 0.008435729 | P3: 0.0090134692 | Q3: 0.0096263912 | R3: 0.010276401 | S3: 0.010965499 | T3: 0.011695788 | U3: 0.012469475 | V3: 0.013288879 | W3: 0.014156436 | X3: 0.01507471 | Y3: 0.016046392 | Z3: 0.017074315 | AA3: 0.01816146
A4: 0.8 | B4: 0.003026718 | C4: 0.0032556617 | D4: 0.0034999177 | E4: 0.0037603774 | F4: 0.0040379771 | G4: 0.0043336998 | H4: 0.0046485778 | I4: 0.0049836943 | J4: 0.0053401862 | K4: 0.0057192466 | L4: 0.0061221269 | M4: 0.0065501403 | N4: 0.0070046642 | O4: 0.0074871433 | P4: 0.0079990931 | Q4: 0.0085421031 | R4: 0.0091178408 | S4: 0.009728055 | T4: 0.010374581 | U4: 0.011059343 | V4: 0.011784362 | W4: 0.012551758 | X4: 0.013363755 | Y4: 0.014222691 | Z4: 0.015131018 | AA4: 0.016091315
A5: 0.7 | B5: 0.0026467683 | C5: 0.0028468414 | D5: 0.0030602755 | E5: 0.0032878456 | F5: 0.0035303651 | G5: 0.0037886877 | H5: 0.0040637093 | I5: 0.0043563694 | J5: 0.0046676537 | K5: 0.0049985955 | L5: 0.0053502784 | M5: 0.0057238382 | N5: 0.0061204654 | O5: 0.0065414078 | P5: 0.006987973 | Q5: 0.0074615313 | R5: 0.0079635186 | S5: 0.0084954396 | T5: 0.0090588712 | U5: 0.0096554657 | V5: 0.010286955 | W5: 0.010955154 | X5: 0.011661966 | Y5: 0.012409385 | Z5: 0.013199504 | AA5: 0.014034516
A6: 0.6 | B6: 0.0022672803 | C6: 0.0024385553 | D6: 0.0026212509 | E6: 0.0028160269 | F6: 0.0030235756 | G6: 0.0032446233 | H6: 0.0034799315 | I6: 0.0037302986 | J6: 0.0039965615 | K6: 0.0042795973 | L6: 0.0045803245 | M6: 0.0048997058 | N6: 0.0052387491 | O6: 0.0055985099 | P6: 0.0059800934 | Q6: 0.0063846568 | R6: 0.0068134113 | S6: 0.0072676249 | T6: 0.007748625 | U6: 0.0082578009 | V6: 0.0087966067 | W6: 0.0093665647 | X6: 0.0099692686 | Y6: 0.010606387 | Z6: 0.011279665 | AA6: 0.011990934
A7: 0.5 | B7: 0.0018882531 | C7: 0.0020308025 | D7: 0.0021828426 | E7: 0.0023449197 | F7: 0.0025176066 | G7: 0.002701504 | H7: 0.0028972413 | I7: 0.0031054781 | J7: 0.0033269052 | K7: 0.0035622461 | L7: 0.0038122583 | M7: 0.0040777346 | N7: 0.0043595046 | O7: 0.0046584366 | P7: 0.0049754386 | Q7: 0.0053114605 | R7: 0.0056674957 | S7: 0.006044583 | T7: 0.0064438085 | U7: 0.0068663076 | V7: 0.0073132676 | W7: 0.0077859295 | X7: 0.0082855906 | Y7: 0.0088136071 | Z7: 0.0093713969 | AA7: 0.0099604423
A8: 0.4 | B8: 0.0015096858 | C8: 0.0016235818 | D8: 0.0017450493 | E8: 0.0018745224 | F8: 0.0020124562 | G8: 0.0021593275 | H8: 0.0023156358 | I8: 0.0024819042 | J8: 0.0026586801 | K8: 0.0028465364 | L8: 0.0030460727 | M8: 0.003257916 | N8: 0.0034827217 | O8: 0.0037211754 | P8: 0.0039739932 | Q8: 0.0042419238 | R8: 0.0045257491 | S8: 0.0048262861 | T8: 0.0051443878 | U8: 0.0054809452 | V8: 0.0058368885 | W8: 0.0062131888 | X8: 0.00661086 | Y8: 0.0070309603 | Z8: 0.0074745943 | AA8: 0.007942915
A9: 0.3 | B9: 0.0011315778 | C9: 0.0012168922 | D9: 0.0013078696 | E9: 0.0014048333 | F9: 0.0015081223 | G9: 0.0016180913 | H9: 0.001735112 | I9: 0.0018595731 | J9: 0.0019918815 | K9: 0.0021324626 | L9: 0.002281761 | M9: 0.0024402416 | N9: 0.0026083901 | O9: 0.0027867136 | P9: 0.0029757419 | Q9: 0.0031760279 | R9: 0.0033881487 | S9: 0.0036127065 | T9: 0.0038503296 | U9: 0.0041016731 | V9: 0.0043674203 | W9: 0.0046482836 | X9: 0.0049450056 | Y9: 0.0052583603 | Z9: 0.0055891544 | AA9: 0.0059382285
A10: 0.2 | B10: 0.00075392798 | C10: 0.00081073279 | D10: 0.00087130239 | E10: 0.000935851 | F10: 0.0010046029 | G10: 0.0010777929 | H10: 0.0011556667 | I10: 0.0012384812 | J10: 0.001326505 | K10: 0.0014200189 | L10: 0.0015193162 | M10: 0.001624703 | N10: 0.0017364993 | O10: 0.0018550387 | P10: 0.0019806693 | Q10: 0.0021137542 | R10: 0.0022546719 | S10: 0.0024038171 | T10: 0.0025616008 | U10: 0.0027284513 | V10: 0.0029048148 | W10: 0.0030911555 | X10: 0.0032879571 | Y10: 0.0034957227 | Z10: 0.0037149756 | AA10: 0.0039462607
A11: 0.1 | B11: 0.00037673567 | C11: 0.00040510238 | D11: 0.000935851 | E11: 0.00046757375 | F11: 0.00050189615 | G11: 0.00053842997 | H11: 0.00057729705 | I11: 0.00061862472 | J11: 0.00066254602 | K11: 0.00070919991 | L11: 0.00075873143 | M11: 0.00081129195 | N11: 0.00086703937 | O11: 0.00092613831 | P11: 0.00098876037 | Q11: 0.0010550843 | R11: 0.0011252964 | S11: 0.0011995905 | T11: 0.0012781684 | U11: 0.0013612401 | V11: 0.0014490238 | W11: 0.0015417468 | X11: 0.0016396449 | Y11: 0.0017429635 | Z11: 0.0018519573 | AA11: 0.0019668909
A12: 0 | B12: 0 | C12: 0 | D12: 0 | E12: 0 | F12: 0 | G12: 0 | H12: 0 | I12: 0 | J12: 0 | K12: 0 | L12: 0 | M12: 0 | N12: 0 | O12: 0 | P12: 0 | Q12: 0 | R12: 0 | S12: 0 | T12: 0 | U12: 0 | V12: 0 | W12: 0 | X12: 0 | Y12: 0 | Z12: 0 | AA12: 0
