Workbook
Name totalba: 'Feuille 1'!$F$50
Name totalcb: 'Feuille 1'!$C$50
Name totalcheques: 'Feuille 1'!$E$50
Name totalesp: 'Feuille 1'!$D$50
Name totalvente: 'Feuille 1'!$G$50:$G$51
Name totalventes: 'Feuille 1'!$G$50
Name versementchq: 'Feuille 1'!$C$58
Name Versementesp: 'Feuille 1'!$C$53

Sheet Inventaire
C1: Chiffre d'Affaire Decembre 2010 | J1: 40878
B2: Date | C2: Chèque | D2: Especes | E2: CB | F2: BA | G2: Total | H2: Ventes | I2: Versements espèces | J2: Versements chèques | K2: Dépenses
A3: Colonne1 | B3: Colonne2 | C3: Colonne3 | D3: Colonne5 | E3: Colonne6 | F3: Colonne62 | G3: Colonne7 | H3: Colonne8 | I3: Colonne9 | J3: Colonne10 | K3: Colonne11
A4: 1 | B4: =IF(WEEKDAY(J1,2)=7,J1+1,J1) -> 40878 | C4: =IF($B4='Feuille 1'!$B$3, totalcheques,"") -> 0 | D4: =IF($B4='Feuille 1'!$B$3, totalesp,"") -> 0 | E4: =IF($B4='Feuille 1'!$B$3, totalcb,"") -> 0 | F4: =IF($B4='Feuille 1'!$B$3, totalba,"") -> 0 | G4: =IF(ISBLANK(C4:F4),"",SUM(C4:F4)) -> 0 | H4: =IF($B6='Feuille 1'!$B$3, totalventes,"") | I4: =Versementesp -> 0 | J4: =versementchq -> 0
A5: 2 | B5: =IF(B4="","",IF(MONTH(B4+1)<>MONTH(B4),"",IF(WEEKDAY(B4,2)=6,B4+2,IF(WEEKDAY(B4+1)=7,B4+1,B4+1)))) -> 40879 | C5: =IF($B5='Feuille 1'!$B$3, totalcheques,"") | D5: =IF($B5='Feuille 1'!$B$3, totalesp,"") | E5: =IF($B5='Feuille 1'!$B$3, totalcb,"") | F5: =IF($B5='Feuille 1'!$B$3, totalba,"") | G5: =IF(ISBLANK(C5:F5),"",SUM(C5:F5)) -> 0 | H5: =totalventes -> 0 | I5: =Versementesp -> 0 | J5: =versementchq -> 0
A6: 3 | B6: =IF(B5="","",IF(MONTH(B5+1)<>MONTH(B5),"",IF(WEEKDAY(B5,2)=6,B5+2,IF(WEEKDAY(B5+1)=7,B5+1,B5+1)))) -> 40880 | C6: =IF($B6='Feuille 1'!$B$3, totalcheques,"") | D6: =IF($B6='Feuille 1'!$B$3, totalesp,"") | E6: =IF($B6='Feuille 1'!$B$3, totalcb,"") | F6: =IF($B6='Feuille 1'!$B$3, totalba,"") | G6: =IF(ISBLANK(C6:F6),"",SUM(C6:F6)) -> 0 | H6: =totalventes -> 0 | I6: =Versementesp -> 0 | J6: =versementchq -> 0
A7: 4 | B7: =IF(B6="","",IF(MONTH(B6+1)<>MONTH(B6),"",IF(WEEKDAY(B6,2)=6,B6+2,IF(WEEKDAY(B6+1)=7,B6+1,B6+1)))) -> 40882 | C7: =IF($B7='Feuille 1'!$B$3, totalcheques,"") | D7: =IF($B7='Feuille 1'!$B$3, totalesp,"") | E7: =IF($B7='Feuille 1'!$B$3, totalcb,"") | F7: =IF($B7='Feuille 1'!$B$3, totalba,"") | G7: =IF(ISBLANK(C7:F7),"",SUM(C7:F7)) -> 0 | H7: =totalventes -> 0 | I7: =Versementesp -> 0 | J7: =versementchq -> 0
A8: 5 | B8: =IF(B7="","",IF(MONTH(B7+1)<>MONTH(B7),"",IF(WEEKDAY(B7,2)=6,B7+2,IF(WEEKDAY(B7+1)=7,B7+1,B7+1)))) -> 40883 | C8: =IF($B8='Feuille 1'!$B$3, totalcheques,"") | D8: =IF($B8='Feuille 1'!$B$3, totalesp,"") | E8: =IF($B8='Feuille 1'!$B$3, totalcb,"") | F8: =IF($B8='Feuille 1'!$B$3, totalba,"") | G8: =IF(ISBLANK(C8:F8),"",SUM(C8:F8)) -> 0 | H8: =totalventes -> 0 | I8: =Versementesp -> 0 | J8: =versementchq -> 0
A9: 6 | B9: =IF(B8="","",IF(MONTH(B8+1)<>MONTH(B8),"",IF(WEEKDAY(B8,2)=6,B8+2,IF(WEEKDAY(B8+1)=7,B8+1,B8+1)))) -> 40884 | C9: =IF($B9='Feuille 1'!$B$3, totalcheques,"") | D9: =IF($B9='Feuille 1'!$B$3, totalesp,"") | E9: =IF($B9='Feuille 1'!$B$3, totalcb,"") | F9: =IF($B9='Feuille 1'!$B$3, totalba,"") | G9: =IF(ISBLANK(C9:F9),"",SUM(C9:F9)) -> 0 | H9: =totalventes -> 0 | I9: =Versementesp -> 0 | J9: =versementchq -> 0
A10: 7 | B10: =IF(B9="","",IF(MONTH(B9+1)<>MONTH(B9),"",IF(WEEKDAY(B9,2)=6,B9+2,IF(WEEKDAY(B9+1)=7,B9+1,B9+1)))) -> 40885 | C10: =IF($B10='Feuille 1'!$B$3, totalcheques,"") | D10: =IF($B10='Feuille 1'!$B$3, totalesp,"") | E10: =IF($B10='Feuille 1'!$B$3, totalcb,"") | F10: =IF($B10='Feuille 1'!$B$3, totalba,"") | G10: =IF(ISBLANK(C10:F10),"",SUM(C10:F10)) -> 0 | H10: =totalventes -> 0 | I10: =Versementesp -> 0 | J10: =versementchq -> 0
A11: 8 | B11: =IF(B10="","",IF(MONTH(B10+1)<>MONTH(B10),"",IF(WEEKDAY(B10,2)=6,B10+2,IF(WEEKDAY(B10+1)=7,B10+1,B10+1)))) -> 40886 | C11: =IF($B11='Feuille 1'!$B$3, totalcheques,"") | D11: =IF($B11='Feuille 1'!$B$3, totalesp,"") | E11: =IF($B11='Feuille 1'!$B$3, totalcb,"") | F11: =IF($B11='Feuille 1'!$B$3, totalba,"") | G11: =IF(ISBLANK(C11:F11),"",SUM(C11:F11)) -> 0 | H11: =totalventes -> 0 | I11: =Versementesp -> 0 | J11: =versementchq -> 0
A12: 9 | B12: =IF(B11="","",IF(MONTH(B11+1)<>MONTH(B11),"",IF(WEEKDAY(B11,2)=6,B11+2,IF(WEEKDAY(B11+1)=7,B11+1,B11+1)))) -> 40887 | C12: =IF($B12='Feuille 1'!$B$3, totalcheques,"") | D12: =IF($B12='Feuille 1'!$B$3, totalesp,"") | E12: =IF($B12='Feuille 1'!$B$3, totalcb,"") | F12: =IF($B12='Feuille 1'!$B$3, totalba,"") | G12: =IF(ISBLANK(C12:F12),"",SUM(C12:F12)) -> 0 | H12: =totalventes -> 0 | I12: =Versementesp -> 0 | J12: =versementchq -> 0
A13: 10 | B13: =IF(B12="","",IF(MONTH(B12+1)<>MONTH(B12),"",IF(WEEKDAY(B12,2)=6,B12+2,IF(WEEKDAY(B12+1)=7,B12+1,B12+1)))) -> 40889 | C13: =IF($B13='Feuille 1'!$B$3, totalcheques,"") | D13: =IF($B13='Feuille 1'!$B$3, totalesp,"") | E13: =IF($B13='Feuille 1'!$B$3, totalcb,"") | F13: =IF($B13='Feuille 1'!$B$3, totalba,"") | G13: =IF(ISBLANK(C13:F13),"",SUM(C13:F13)) -> 0 | H13: =totalventes -> 0 | I13: =Versementesp -> 0 | J13: =versementchq -> 0
A14: 11 | B14: =IF(B13="","",IF(MONTH(B13+1)<>MONTH(B13),"",IF(WEEKDAY(B13,2)=6,B13+2,IF(WEEKDAY(B13+1)=7,B13+1,B13+1)))) -> 40890 | C14: =IF($B14='Feuille 1'!$B$3, totalcheques,"") | D14: =IF($B14='Feuille 1'!$B$3, totalesp,"") | E14: =IF($B14='Feuille 1'!$B$3, totalcb,"") | F14: =IF($B14='Feuille 1'!$B$3, totalba,"") | G14: =IF(ISBLANK(C14:F14),"",SUM(C14:F14)) -> 0 | H14: =totalventes -> 0 | I14: =Versementesp -> 0 | J14: =versementchq -> 0
A15: 12 | B15: =IF(B14="","",IF(MONTH(B14+1)<>MONTH(B14),"",IF(WEEKDAY(B14,2)=6,B14+2,IF(WEEKDAY(B14+1)=7,B14+1,B14+1)))) -> 40891 | C15: =IF($B15='Feuille 1'!$B$3, totalcheques,"") | D15: =IF($B15='Feuille 1'!$B$3, totalesp,"") | E15: =IF($B15='Feuille 1'!$B$3, totalcb,"") | F15: =IF($B15='Feuille 1'!$B$3, totalba,"") | G15: =IF(ISBLANK(C15:F15),"",SUM(C15:F15)) -> 0 | H15: =totalventes -> 0 | I15: =Versementesp -> 0 | J15: =versementchq -> 0
A16: 13 | B16: =IF(B15="","",IF(MONTH(B15+1)<>MONTH(B15),"",IF(WEEKDAY(B15,2)=6,B15+2,IF(WEEKDAY(B15+1)=7,B15+1,B15+1)))) -> 40892 | C16: =IF($B16='Feuille 1'!$B$3, totalcheques,"") | E16: =IF($B16='Feuille 1'!$B$3, totalcb,"") | F16: =IF($B16='Feuille 1'!$B$3, totalba,"") | G16: =IF(ISBLANK(C16:F16),"",SUM(C16:F16)) -> 0 | H16: =totalventes -> 0 | I16: =Versementesp -> 0 | J16: =versementchq -> 0
A17: 14 | B17: =IF(B16="","",IF(MONTH(B16+1)<>MONTH(B16),"",IF(WEEKDAY(B16,2)=6,B16+2,IF(WEEKDAY(B16+1)=7,B16+1,B16+1)))) -> 40893 | C17: =IF($B17='Feuille 1'!$B$3, totalcheques,"") | D17: =IF($B17='Feuille 1'!$B$3, totalesp,"") | E17: =IF($B17='Feuille 1'!$B$3, totalcb,"") | F17: =IF($B17='Feuille 1'!$B$3, totalba,"") | G17: =IF(ISBLANK(C17:F17),"",SUM(C17:F17)) -> 0 | H17: =totalventes -> 0 | I17: =Versementesp -> 0 | J17: =versementchq -> 0
A18: 15 | B18: =IF(B17="","",IF(MONTH(B17+1)<>MONTH(B17),"",IF(WEEKDAY(B17,2)=6,B17+2,IF(WEEKDAY(B17+1)=7,B17+1,B17+1)))) -> 40894 | C18: =IF($B18='Feuille 1'!$B$3, totalcheques,"") | D18: =IF($B18='Feuille 1'!$B$3, totalesp,"") | E18: =IF($B18='Feuille 1'!$B$3, totalcb,"") | F18: =IF($B18='Feuille 1'!$B$3, totalba,"") | G18: =IF(ISBLANK(C18:F18),"",SUM(C18:F18)) -> 0 | H18: =totalventes -> 0 | I18: =Versementesp -> 0 | J18: =versementchq -> 0
A19: 16 | B19: =IF(B18="","",IF(MONTH(B18+1)<>MONTH(B18),"",IF(WEEKDAY(B18,2)=6,B18+2,IF(WEEKDAY(B18+1)=7,B18+1,B18+1)))) -> 40896 | C19: =IF($B19='Feuille 1'!$B$3, totalcheques,"") | D19: =IF($B19='Feuille 1'!$B$3, totalesp,"") | E19: =IF($B19='Feuille 1'!$B$3, totalcb,"") | F19: =IF($B19='Feuille 1'!$B$3, totalba,"") | G19: =IF(ISBLANK(C19:F19),"",SUM(C19:F19)) -> 0 | H19: =totalventes -> 0 | I19: =Versementesp -> 0 | J19: =versementchq -> 0
A20: 17 | B20: =IF(B19="","",IF(MONTH(B19+1)<>MONTH(B19),"",IF(WEEKDAY(B19,2)=6,B19+2,IF(WEEKDAY(B19+1)=7,B19+1,B19+1)))) -> 40897 | C20: =IF($B20='Feuille 1'!$B$3, totalcheques,"") | D20: =IF($B20='Feuille 1'!$B$3, totalesp,"") | E20: =IF($B20='Feuille 1'!$B$3, totalcb,"") | F20: =IF($B20='Feuille 1'!$B$3, totalba,"") | G20: =IF(ISBLANK(C20:F20),"",SUM(C20:F20)) -> 0 | H20: =totalventes -> 0 | I20: =Versementesp -> 0 | J20: =versementchq -> 0
A21: 18 | B21: =IF(B20="","",IF(MONTH(B20+1)<>MONTH(B20),"",IF(WEEKDAY(B20,2)=6,B20+2,IF(WEEKDAY(B20+1)=7,B20+1,B20+1)))) -> 40898 | C21: =IF($B21='Feuille 1'!$B$3, totalcheques,"") | D21: =IF($B21='Feuille 1'!$B$3, totalesp,"") | E21: =IF($B21='Feuille 1'!$B$3, totalcb,"") | F21: =IF($B21='Feuille 1'!$B$3, totalba,"") | G21: =IF(ISBLANK(C21:F21),"",SUM(C21:F21)) -> 0 | H21: =totalventes -> 0 | I21: =Versementesp -> 0 | J21: =versementchq -> 0
A22: 19 | B22: =IF(B21="","",IF(MONTH(B21+1)<>MONTH(B21),"",IF(WEEKDAY(B21,2)=6,B21+2,IF(WEEKDAY(B21+1)=7,B21+1,B21+1)))) -> 40899 | C22: =IF($B22='Feuille 1'!$B$3, totalcheques,"") | D22: =IF($B22='Feuille 1'!$B$3, totalesp,"") | E22: =IF($B22='Feuille 1'!$B$3, totalcb,"") | F22: =IF($B22='Feuille 1'!$B$3, totalba,"") | G22: =IF(ISBLANK(C22:F22),"",SUM(C22:F22)) -> 0 | H22: =totalventes -> 0 | I22: =Versementesp -> 0 | J22: =versementchq -> 0
A23: 20 | B23: =IF(B22="","",IF(MONTH(B22+1)<>MONTH(B22),"",IF(WEEKDAY(B22,2)=6,B22+2,IF(WEEKDAY(B22+1)=7,B22+1,B22+1)))) -> 40900 | C23: =IF($B23='Feuille 1'!$B$3, totalcheques,"") | D23: =IF($B23='Feuille 1'!$B$3, totalesp,"") | E23: =IF($B23='Feuille 1'!$B$3, totalcb,"") | F23: =IF($B23='Feuille 1'!$B$3, totalba,"") | G23: =IF(ISBLANK(C23:F23),"",SUM(C23:F23)) -> 0 | H23: =totalventes -> 0 | I23: =Versementesp -> 0 | J23: =versementchq -> 0
A24: 21 | B24: =IF(B23="","",IF(MONTH(B23+1)<>MONTH(B23),"",IF(WEEKDAY(B23,2)=6,B23+2,IF(WEEKDAY(B23+1)=7,B23+1,B23+1)))) -> 40901 | C24: =IF($B24='Feuille 1'!$B$3, totalcheques,"") | D24: =IF($B24='Feuille 1'!$B$3, totalesp,"") | E24: =IF($B24='Feuille 1'!$B$3, totalcb,"") | F24: =IF($B24='Feuille 1'!$B$3, totalba,"") | G24: =IF(ISBLANK(C24:F24),"",SUM(C24:F24)) -> 0 | H24: =totalventes -> 0 | I24: =Versementesp -> 0 | J24: =versementchq -> 0
A25: 22 | B25: =IF(B24="","",IF(MONTH(B24+1)<>MONTH(B24),"",IF(WEEKDAY(B24,2)=6,B24+2,IF(WEEKDAY(B24+1)=7,B24+1,B24+1)))) -> 40903 | C25: =IF($B25='Feuille 1'!$B$3, totalcheques,"") | D25: =IF($B25='Feuille 1'!$B$3, totalesp,"") | E25: =IF($B25='Feuille 1'!$B$3, totalcb,"") | F25: =IF($B25='Feuille 1'!$B$3, totalba,"") | G25: =IF(ISBLANK(C25:F25),"",SUM(C25:F25)) -> 0 | H25: =totalventes -> 0 | I25: =Versementesp -> 0 | J25: =versementchq -> 0
A26: 23 | B26: =IF(B25="","",IF(MONTH(B25+1)<>MONTH(B25),"",IF(WEEKDAY(B25,2)=6,B25+2,IF(WEEKDAY(B25+1)=7,B25+1,B25+1)))) -> 40904 | C26: =IF($B26='Feuille 1'!$B$3, totalcheques,"") | D26: =IF($B26='Feuille 1'!$B$3, totalesp,"") | E26: =IF($B26='Feuille 1'!$B$3, totalcb,"") | F26: =IF($B26='Feuille 1'!$B$3, totalba,"") | G26: =IF(ISBLANK(C26:F26),"",SUM(C26:F26)) -> 0 | H26: =totalventes -> 0 | I26: =Versementesp -> 0 | J26: =versementchq -> 0
A27: 24 | B27: =IF(B26="","",IF(MONTH(B26+1)<>MONTH(B26),"",IF(WEEKDAY(B26,2)=6,B26+2,IF(WEEKDAY(B26+1)=7,B26+1,B26+1)))) -> 40905 | C27: =IF($B27='Feuille 1'!$B$3, totalcheques,"") | D27: =IF($B27='Feuille 1'!$B$3, totalesp,"") | E27: =IF($B27='Feuille 1'!$B$3, totalcb,"") | F27: =IF($B27='Feuille 1'!$B$3, totalba,"") | G27: =IF(ISBLANK(C27:F27),"",SUM(C27:F27)) -> 0 | H27: =totalventes -> 0 | I27: =Versementesp -> 0 | J27: =versementchq -> 0
A28: 25 | B28: =IF(B27="","",IF(MONTH(B27+1)<>MONTH(B27),"",IF(WEEKDAY(B27,2)=6,B27+2,IF(WEEKDAY(B27+1)=7,B27+1,B27+1)))) -> 40906 | C28: =IF($B28='Feuille 1'!$B$3, totalcheques,"") | D28: =IF($B28='Feuille 1'!$B$3, totalesp,"") | E28: =IF($B28='Feuille 1'!$B$3, totalcb,"") | F28: =IF($B28='Feuille 1'!$B$3, totalba,"") | G28: =IF(ISBLANK(C28:F28),"",SUM(C28:F28)) -> 0 | H28: =totalventes -> 0 | I28: =Versementesp -> 0 | J28: =versementchq -> 0
... A30: 27 | B30: =IF(B29="","",IF(MONTH(B29+1)<>MONTH(B29),"",IF(WEEKDAY(B29,2)=6,B29+2,IF(WEEKDAY(B29+1)=7,B29+1,B29+1)))) -> 40908 | C30: =IF($B30='Feuille 1'!$B$3, totalcheques,"") | D30: =IF($B30='Feuille 1'!$B$3, totalesp,"") | E30: =IF($B30='Feuille 1'!$B$3, totalcb,"") | F30: =IF($B30='Feuille 1'!$B$3, totalba,"") | G30: =IF(ISBLANK(C30:F30),"",SUM(C30:F30)) -> 0 | H30: =totalventes -> 0 | I30: =Versementesp -> 0 | J30: =versementchq -> 0
B31: =IF(B30="","",IF(MONTH(B30+1)<>MONTH(B30),"",IF(WEEKDAY(B30,2)=6,B30+2,IF(WEEKDAY(B30+1)=7,B30+1,B30+1)))) | H31: =totalventes -> 0 | I31: =Versementesp -> 0 | J31: =versementchq -> 0
B32: =IF(B31="","",IF(MONTH(B31+1)<>MONTH(B31),"",IF(WEEKDAY(B31,2)=6,B31+2,IF(WEEKDAY(B31+1)=7,B31+1,B31+1)))) | H32: =totalventes -> 0 | I32: =Versementesp -> 0 | J32: =versementchq -> 0
B33: Totaux | C33: =SUM(C4:C30) -> 0 | D33: =SUM(D4:D30) -> 0 | E33: =SUM(E4:E30) -> 0 | F33: =SUM(F4:F30) -> 0 | G33: =SUM(G4:G30) -> 0 | H33: =SUM(H4:H30) -> 0 | I33: =SUM(I4:I30) -> 0 | J33: =SUM(J4:J30) -> 0 | K33: =SUM(K4:K30) -> 0

Sheet Feuille 1
B1: Chiffre d'affaire journalier EDEN LECOURBE
A3: Date: | B3: 40878
A5: Nom | B5: Prenom | C5: CB | D5: Especes | E5: Cheques | F5: BA | G5: Ventes
B50: TOTAUX | C50: =SUM(C6:C49) -> 0 | D50: =SUM(D6:D49) -> 0 | E50: =SUM(E6:E49) -> 0 | F50: =SUM(F6:F49) -> 0 | G50: =SUM(G6:G49) -> 0
A53: Versement especes
A58: Versement cheques

Sheet Feuil2
B1: Chiffre d'affaire journalier EDEN LECOURBE
A3: Date: | B3: 40878
A5: Nom | B5: Prenom | C5: CB | D5: Especes | E5: Cheques | F5: BA | G5: Ventes
B50: TOTAUX | C50: =SUM(C6:C49) -> 0 | D50: =SUM(D6:D49) -> 0 | E50: =SUM(E6:E49) -> 0 | F50: =SUM(F6:F49) -> 0 | G50: =SUM(G6:G49) -> 0
A53: Versement especes
A58: Versement cheques

Sheet Feuil3
B1: Chiffre d'affaire journalier EDEN LECOURBE
A3: Date: | B3: 40878
A5: Nom | B5: Prenom | C5: CB | D5: Especes | E5: Cheques | F5: BA | G5: Ventes
B50: TOTAUX | C50: =SUM(C6:C49) -> 0 | D50: =SUM(D6:D49) -> 0 | E50: =SUM(E6:E49) -> 0 | F50: =SUM(F6:F49) -> 0 | G50: =SUM(G6:G49) -> 0
A53: Versement especes
A58: Versement cheques

Sheet Feuil4
B1: Chiffre d'affaire journalier EDEN LECOURBE
A3: Date: | B3: 40878
A5: Nom | B5: Prenom | C5: CB | D5: Especes | E5: Cheques | F5: BA | G5: Ventes
B50: TOTAUX | C50: =SUM(C6:C49) -> 0 | D50: =SUM(D6:D49) -> 0 | E50: =SUM(E6:E49) -> 0 | F50: =SUM(F6:F49) -> 0 | G50: =SUM(G6:G49) -> 0
A53: Versement especes
A58: Versement cheques

Sheet Feuil5
B1: Chiffre d'affaire journalier EDEN LECOURBE
A3: Date: | B3: 40878
A5: Nom | B5: Prenom | C5: CB | D5: Especes | E5: Cheques | F5: BA | G5: Ventes
B50: TOTAUX | C50: =SUM(C6:C49) -> 0 | D50: =SUM(D6:D49) -> 0 | E50: =SUM(E6:E49) -> 0 | F50: =SUM(F6:F49) -> 0 | G50: =SUM(G6:G49) -> 0
A53: Versement especes
A58: Versement cheques

Sheet Feuil6
B1: Chiffre d'affaire journalier EDEN LECOURBE
A3: Date: | B3: 40878
A5: Nom | B5: Prenom | C5: CB | D5: Especes | E5: Cheques | F5: BA | G5: Ventes
B50: TOTAUX | C50: =SUM(C6:C49) -> 0 | D50: =SUM(D6:D49) -> 0 | E50: =SUM(E6:E49) -> 0 | F50: =SUM(F6:F49) -> 0 | G50: =SUM(G6:G49) -> 0
A53: Versement especes
A58: Versement cheques

Sheet Feuil7
B1: Chiffre d'affaire journalier EDEN LECOURBE
A3: Date: | B3: 40878
A5: Nom | B5: Prenom | C5: CB | D5: Especes | E5: Cheques | F5: BA | G5: Ventes
B50: TOTAUX | C50: =SUM(C6:C49) -> 0 | D50: =SUM(D6:D49) -> 0 | E50: =SUM(E6:E49) -> 0 | F50: =SUM(F6:F49) -> 0 | G50: =SUM(G6:G49) -> 0
A53: Versement especes
A58: Versement cheques

Sheet Feuil8
B1: Chiffre d'affaire journalier EDEN LECOURBE
A3: Date: | B3: 40878
A5: Nom | B5: Prenom | C5: CB | D5: Especes | E5: Cheques | F5: BA | G5: Ventes
B50: TOTAUX | C50: =SUM(C6:C49) -> 0 | D50: =SUM(D6:D49) -> 0 | E50: =SUM(E6:E49) -> 0 | F50: =SUM(F6:F49) -> 0 | G50: =SUM(G6:G49) -> 0
A53: Versement especes
A58: Versement cheques

Sheet Feuil9
B1: Chiffre d'affaire journalier EDEN LECOURBE
A3: Date: | B3: 40878
A5: Nom | B5: Prenom | C5: CB | D5: Especes | E5: Cheques | F5: BA | G5: Ventes
B50: TOTAUX | C50: =SUM(C6:C49) -> 0 | D50: =SUM(D6:D49) -> 0 | E50: =SUM(E6:E49) -> 0 | F50: =SUM(F6:F49) -> 0 | G50: =SUM(G6:G49) -> 0
A53: Versement especes
A58: Versement cheques

Sheet Feuil10
B1: Chiffre d'affaire journalier EDEN LECOURBE
A3: Date: | B3: 40878
A5: Nom | B5: Prenom | C5: CB | D5: Especes | E5: Cheques | F5: BA | G5: Ventes
B50: TOTAUX | C50: =SUM(C6:C49) -> 0 | D50: =SUM(D6:D49) -> 0 | E50: =SUM(E6:E49) -> 0 | F50: =SUM(F6:F49) -> 0 | G50: =SUM(G6:G49) -> 0
A53: Versement especes
A58: Versement cheques

Sheet Feuil11
B1: Chiffre d'affaire journalier EDEN LECOURBE
A3: Date: | B3: 40878
A5: Nom | B5: Prenom | C5: CB | D5: Especes | E5: Cheques | F5: BA | G5: Ventes
B50: TOTAUX | C50: =SUM(C6:C49) -> 0 | D50: =SUM(D6:D49) -> 0 | E50: =SUM(E6:E49) -> 0 | F50: =SUM(F6:F49) -> 0 | G50: =SUM(G6:G49) -> 0
A53: Versement especes
A58: Versement cheques

Sheet Feuil12
B1: Chiffre d'affaire journalier EDEN LECOURBE
A3: Date: | B3: 40878
A5: Nom | B5: Prenom | C5: CB | D5: Especes | E5: Cheques | F5: BA | G5: Ventes
B50: TOTAUX | C50: =SUM(C6:C49) -> 0 | D50: =SUM(D6:D49) -> 0 | E50: =SUM(E6:E49) -> 0 | F50: =SUM(F6:F49) -> 0 | G50: =SUM(G6:G49) -> 0
A53: Versement especes
A58: Versement cheques

Sheet Feuil13
B1: Chiffre d'affaire journalier EDEN LECOURBE
A3: Date: | B3: 40878
A5: Nom | B5: Prenom | C5: CB | D5: Especes | E5: Cheques | F5: BA | G5: Ventes
B50: TOTAUX | C50: =SUM(C6:C49) -> 0 | D50: =SUM(D6:D49) -> 0 | E50: =SUM(E6:E49) -> 0 | F50: =SUM(F6:F49) -> 0 | G50: =SUM(G6:G49) -> 0
A53: Versement especes
A58: Versement cheques

Sheet Feuil14
B1: Chiffre d'affaire journalier EDEN LECOURBE
A3: Date: | B3: 40878
A5: Nom | B5: Prenom | C5: CB | D5: Especes | E5: Cheques | F5: BA | G5: Ventes
B50: TOTAUX | C50: =SUM(C6:C49) -> 0 | D50: =SUM(D6:D49) -> 0 | E50: =SUM(E6:E49) -> 0 | F50: =SUM(F6:F49) -> 0 | G50: =SUM(G6:G49) -> 0
A53: Versement especes
A58: Versement cheques

Sheet Feuil15
B1: Chiffre d'affaire journalier EDEN LECOURBE
A3: Date: | B3: 40878
A5: Nom | B5: Prenom | C5: CB | D5: Especes | E5: Cheques | F5: BA | G5: Ventes
B50: TOTAUX | C50: =SUM(C6:C49) -> 0 | D50: =SUM(D6:D49) -> 0 | E50: =SUM(E6:E49) -> 0 | F50: =SUM(F6:F49) -> 0 | G50: =SUM(G6:G49) -> 0
A53: Versement especes
A58: Versement cheques

Sheet Feuil16
B1: Chiffre d'affaire journalier EDEN LECOURBE
A3: Date: | B3: 40878
A5: Nom | B5: Prenom | C5: CB | D5: Especes | E5: Cheques | F5: BA | G5: Ventes
B50: TOTAUX | C50: =SUM(C6:C49) -> 0 | D50: =SUM(D6:D49) -> 0 | E50: =SUM(E6:E49) -> 0 | F50: =SUM(F6:F49) -> 0 | G50: =SUM(G6:G49) -> 0
A53: Versement especes
A58: Versement cheques

Sheet Feuil17
B1: Chiffre d'affaire journalier EDEN LECOURBE
A3: Date: | B3: 40878
A5: Nom | B5: Prenom | C5: CB | D5: Especes | E5: Cheques | F5: BA | G5: Ventes
B50: TOTAUX | C50: =SUM(C6:C49) -> 0 | D50: =SUM(D6:D49) -> 0 | E50: =SUM(E6:E49) -> 0 | F50: =SUM(F6:F49) -> 0 | G50: =SUM(G6:G49) -> 0
A53: Versement especes
A58: Versement cheques

Sheet Feuil18
B1: Chiffre d'affaire journalier EDEN LECOURBE
A3: Date: | B3: 40878
A5: Nom | B5: Prenom | C5: CB | D5: Especes | E5: Cheques | F5: BA | G5: Ventes
B50: TOTAUX | C50: =SUM(C6:C49) -> 0 | D50: =SUM(D6:D49) -> 0 | E50: =SUM(E6:E49) -> 0 | F50: =SUM(F6:F49) -> 0 | G50: =SUM(G6:G49) -> 0
A53: Versement especes
A58: Versement cheques

Sheet Feuil19
B1: Chiffre d'affaire journalier EDEN LECOURBE
A3: Date: | B3: 40878
A5: Nom | B5: Prenom | C5: CB | D5: Especes | E5: Cheques | F5: BA | G5: Ventes
B50: TOTAUX | C50: =SUM(C6:C49) -> 0 | D50: =SUM(D6:D49) -> 0 | E50: =SUM(E6:E49) -> 0 | F50: =SUM(F6:F49) -> 0 | G50: =SUM(G6:G49) -> 0
A53: Versement especes
A58: Versement cheques

Sheet Feuil20
B1: Chiffre d'affaire journalier EDEN LECOURBE
A3: Date: | B3: 40878
A5: Nom | B5: Prenom | C5: CB | D5: Especes | E5: Cheques | F5: BA | G5: Ventes
B50: TOTAUX | C50: =SUM(C6:C49) -> 0 | D50: =SUM(D6:D49) -> 0 | E50: =SUM(E6:E49) -> 0 | F50: =SUM(F6:F49) -> 0 | G50: =SUM(G6:G49) -> 0
A53: Versement especes
A58: Versement cheques

Sheet Feuil21
B1: Chiffre d'affaire journalier EDEN LECOURBE
A3: Date: | B3: 40878
A5: Nom | B5: Prenom | C5: CB | D5: Especes | E5: Cheques | F5: BA | G5: Ventes
B50: TOTAUX | C50: =SUM(C6:C49) -> 0 | D50: =SUM(D6:D49) -> 0 | E50: =SUM(E6:E49) -> 0 | F50: =SUM(F6:F49) -> 0 | G50: =SUM(G6:G49) -> 0
A53: Versement especes
A58: Versement cheques

Sheet Feuil22
B1: Chiffre d'affaire journalier EDEN LECOURBE
A3: Date: | B3: 40878
A5: Nom | B5: Prenom | C5: CB | D5: Especes | E5: Cheques | F5: BA | G5: Ventes
B50: TOTAUX | C50: =SUM(C6:C49) -> 0 | D50: =SUM(D6:D49) -> 0 | E50: =SUM(E6:E49) -> 0 | F50: =SUM(F6:F49) -> 0 | G50: =SUM(G6:G49) -> 0
A53: Versement especes
A58: Versement cheques

Sheet Feuil23
B1: Chiffre d'affaire journalier EDEN LECOURBE
A3: Date: | B3: 40878
A5: Nom | B5: Prenom | C5: CB | D5: Especes | E5: Cheques | F5: BA | G5: Ventes
B50: TOTAUX | C50: =SUM(C6:C49) -> 0 | D50: =SUM(D6:D49) -> 0 | E50: =SUM(E6:E49) -> 0 | F50: =SUM(F6:F49) -> 0 | G50: =SUM(G6:G49) -> 0
A53: Versement especes
A58: Versement cheques

Sheet Feuil24
B1: Chiffre d'affaire journalier EDEN LECOURBE
A3: Date: | B3: 40878
A5: Nom | B5: Prenom | C5: CB | D5: Especes | E5: Cheques | F5: BA | G5: Ventes
B50: TOTAUX | C50: =SUM(C6:C49) -> 0 | D50: =SUM(D6:D49) -> 0 | E50: =SUM(E6:E49) -> 0 | F50: =SUM(F6:F49) -> 0 | G50: =SUM(G6:G49) -> 0
A53: Versement especes
A58: Versement cheques

Sheet Feuil25
B1: Chiffre d'affaire journalier EDEN LECOURBE
A3: Date: | B3: 40878
A5: Nom | B5: Prenom | C5: CB | D5: Especes | E5: Cheques | F5: BA | G5: Ventes
B50: TOTAUX | C50: =SUM(C6:C49) -> 0 | D50: =SUM(D6:D49) -> 0 | E50: =SUM(E6:E49) -> 0 | F50: =SUM(F6:F49) -> 0 | G50: =SUM(G6:G49) -> 0
A53: Versement especes
A58: Versement cheques

Sheet Feuil26
B1: Chiffre d'affaire journalier EDEN LECOURBE
A3: Date: | B3: 40878
A5: Nom | B5: Prenom | C5: CB | D5: Especes | E5: Cheques | F5: BA | G5: Ventes
B50: TOTAUX | C50: =SUM(C6:C49) -> 0 | D50: =SUM(D6:D49) -> 0 | E50: =SUM(E6:E49) -> 0 | F50: =SUM(F6:F49) -> 0 | G50: =SUM(G6:G49) -> 0
A53: Versement especes
A58: Versement cheques

Sheet Feuil27
B1: Chiffre d'affaire journalier EDEN LECOURBE
A3: Date: | B3: 40878
A5: Nom | B5: Prenom | C5: CB | D5: Especes | E5: Cheques | F5: BA | G5: Ventes
B50: TOTAUX | C50: =SUM(C6:C49) -> 0 | D50: =SUM(D6:D49) -> 0 | E50: =SUM(E6:E49) -> 0 | F50: =SUM(F6:F49) -> 0 | G50: =SUM(G6:G49) -> 0
A53: Versement especes
A58: Versement cheques
