Workbook

Sheet Feuil1
B4: reference | C4: désignation | D4: prix | E4: qt | F4: total
B5: 0608701018 | C5: =IF(B5="","",VLOOKUP(B5,Feuil2!$B$5:$E$25,3,FALSE)),IF(B5="","",VLOOKUP(B5,Feuil3!$B$5:$E$25,3,FALSE)),IF(B5="","",VLOOKUP(B5,Feuil3!$B$5:$E$25,3,FALSE)) -> #VALUE! | D5: =IF(B5="","",VLOOKUP(B5,Feuil2!$B$5:$E$25,4,FALSE)),IF(B5="","",VLOOKUP(B5,Feuil3!$B$5:$E$25,4,FALSE)),IF(B5="","",VLOOKUP(B5,Feuil3!$B$5:$E$25,4,FALSE)) -> #VALUE! | E5: 2 | F5: =IFERROR(SUM(D5*E5),"")
B6: 0608800031 | C6: =IF(B6="","",VLOOKUP(B6,Feuil2!$B$5:$E$25,3,FALSE)),IF(B6="","",VLOOKUP(B6,Feuil3!$B$5:$E$25,3,FALSE)),IF(B6="","",VLOOKUP(B6,Feuil3!$B$5:$E$25,3,FALSE)) -> #N/A | D6: =IF(B6="","",VLOOKUP(B6,Feuil2!$B$5:$E$25,4,FALSE)),IF(B6="","",VLOOKUP(B6,Feuil3!$B$5:$E$25,4,FALSE)),IF(B6="","",VLOOKUP(B6,Feuil3!$B$5:$E$25,4,FALSE)) -> #N/A | F6: =IFERROR(SUM(D6*E6),"")
B7: 0608800634 | C7: =IF(B7="","",VLOOKUP(B7,Feuil2!$B$5:$E$25,3,FALSE)),IF(B7="","",VLOOKUP(B7,Feuil3!$B$5:$E$25,3,FALSE)),IF(B7="","",VLOOKUP(B7,Feuil3!$B$5:$E$25,3,FALSE)) -> #N/A | D7: =IF(B7="","",VLOOKUP(B7,Feuil2!$B$5:$E$25,4,FALSE)),IF(B7="","",VLOOKUP(B7,Feuil3!$B$5:$E$25,4,FALSE)),IF(B7="","",VLOOKUP(B7,Feuil3!$B$5:$E$25,4,FALSE)) -> #N/A | F7: =IFERROR(SUM(D7*E7),"")
C8: =IF(B8="","",VLOOKUP(B8,Feuil2!$B$5:$E$25,3,FALSE)),IF(B8="","",VLOOKUP(B8,Feuil3!$B$5:$E$25,3,FALSE)),IF(B8="","",VLOOKUP(B8,Feuil3!$B$5:$E$25,3,FALSE)) -> #VALUE! | D8: =IF(B8="","",VLOOKUP(B8,Feuil2!$B$5:$E$25,4,FALSE)),IF(B8="","",VLOOKUP(B8,Feuil3!$B$5:$E$25,4,FALSE)),IF(B8="","",VLOOKUP(B8,Feuil3!$B$5:$E$25,4,FALSE)) -> #VALUE! | F8: =IFERROR(SUM(D8*E8),"")
C9: =IF(B9="","",VLOOKUP(B9,Feuil2!$B$5:$E$25,3,FALSE)),IF(B9="","",VLOOKUP(B9,Feuil3!$B$5:$E$25,3,FALSE)),IF(B9="","",VLOOKUP(B9,Feuil3!$B$5:$E$25,3,FALSE)) -> #VALUE! | D9: =IF(B9="","",VLOOKUP(B9,Feuil2!$B$5:$E$25,4,FALSE)),IF(B9="","",VLOOKUP(B9,Feuil3!$B$5:$E$25,4,FALSE)),IF(B9="","",VLOOKUP(B9,Feuil3!$B$5:$E$25,4,FALSE)) -> #VALUE! | F9: =IFERROR(SUM(D9*E9),"")
C10: =IF(B10="","",VLOOKUP(B10,Feuil2!$B$5:$E$25,3,FALSE)),IF(B10="","",VLOOKUP(B10,Feuil3!$B$5:$E$25,3,FALSE)),IF(B10="","",VLOOKUP(B10,Feuil3!$B$5:$E$25,3,FALSE)) -> #VALUE! | D10: =IF(B10="","",VLOOKUP(B10,Feuil2!$B$5:$E$25,4,FALSE)),IF(B10="","",VLOOKUP(B10,Feuil3!$B$5:$E$25,4,FALSE)),IF(B10="","",VLOOKUP(B10,Feuil3!$B$5:$E$25,4,FALSE)) -> #VALUE! | F10: =IFERROR(SUM(D10*E10),"")
C11: =IF(B11="","",VLOOKUP(B11,Feuil2!$B$5:$E$25,3,FALSE)),IF(B11="","",VLOOKUP(B11,Feuil3!$B$5:$E$25,3,FALSE)),IF(B11="","",VLOOKUP(B11,Feuil3!$B$5:$E$25,3,FALSE)) -> #VALUE! | D11: =IF(B11="","",VLOOKUP(B11,Feuil2!$B$5:$E$25,4,FALSE)),IF(B11="","",VLOOKUP(B11,Feuil3!$B$5:$E$25,4,FALSE)),IF(B11="","",VLOOKUP(B11,Feuil3!$B$5:$E$25,4,FALSE)) -> #VALUE! | F11: =IFERROR(SUM(D11*E11),"")
C12: =IF(B12="","",VLOOKUP(B12,Feuil2!$B$5:$E$25,3,FALSE)),IF(B12="","",VLOOKUP(B12,Feuil3!$B$5:$E$25,3,FALSE)),IF(B12="","",VLOOKUP(B12,Feuil3!$B$5:$E$25,3,FALSE)) -> #VALUE! | D12: =IF(B12="","",VLOOKUP(B12,Feuil2!$B$5:$E$25,4,FALSE)),IF(B12="","",VLOOKUP(B12,Feuil3!$B$5:$E$25,4,FALSE)),IF(B12="","",VLOOKUP(B12,Feuil3!$B$5:$E$25,4,FALSE)) -> #VALUE! | F12: =IFERROR(SUM(D12*E12),"")
C13: =IF(B13="","",VLOOKUP(B13,Feuil2!$B$5:$E$25,3,FALSE)),IF(B13="","",VLOOKUP(B13,Feuil3!$B$5:$E$25,3,FALSE)),IF(B13="","",VLOOKUP(B13,Feuil3!$B$5:$E$25,3,FALSE)) -> #VALUE! | D13: =IF(B13="","",VLOOKUP(B13,Feuil2!$B$5:$E$25,4,FALSE)),IF(B13="","",VLOOKUP(B13,Feuil3!$B$5:$E$25,4,FALSE)),IF(B13="","",VLOOKUP(B13,Feuil3!$B$5:$E$25,4,FALSE)) -> #VALUE! | F13: =IFERROR(SUM(D13*E13),"")
C14: =IF(B14="","",VLOOKUP(B14,Feuil2!$B$5:$E$25,3,FALSE)),IF(B14="","",VLOOKUP(B14,Feuil3!$B$5:$E$25,3,FALSE)),IF(B14="","",VLOOKUP(B14,Feuil3!$B$5:$E$25,3,FALSE)) -> #VALUE! | D14: =IF(B14="","",VLOOKUP(B14,Feuil2!$B$5:$E$25,4,FALSE)),IF(B14="","",VLOOKUP(B14,Feuil3!$B$5:$E$25,4,FALSE)),IF(B14="","",VLOOKUP(B14,Feuil3!$B$5:$E$25,4,FALSE)) -> #VALUE! | F14: =IFERROR(SUM(D14*E14),"")
C15: =IF(B15="","",VLOOKUP(B15,Feuil2!$B$5:$E$25,3,FALSE)),IF(B15="","",VLOOKUP(B15,Feuil3!$B$5:$E$25,3,FALSE)),IF(B15="","",VLOOKUP(B15,Feuil3!$B$5:$E$25,3,FALSE)) -> #VALUE! | D15: =IF(B15="","",VLOOKUP(B15,Feuil2!$B$5:$E$25,4,FALSE)),IF(B15="","",VLOOKUP(B15,Feuil3!$B$5:$E$25,4,FALSE)),IF(B15="","",VLOOKUP(B15,Feuil3!$B$5:$E$25,4,FALSE)) -> #VALUE! | F15: =IFERROR(SUM(D15*E15),"")
C16: =IF(B16="","",VLOOKUP(B16,Feuil2!$B$5:$E$25,3,FALSE)),IF(B16="","",VLOOKUP(B16,Feuil3!$B$5:$E$25,3,FALSE)),IF(B16="","",VLOOKUP(B16,Feuil3!$B$5:$E$25,3,FALSE)) -> #VALUE! | D16: =IF(B16="","",VLOOKUP(B16,Feuil2!$B$5:$E$25,4,FALSE)),IF(B16="","",VLOOKUP(B16,Feuil3!$B$5:$E$25,4,FALSE)),IF(B16="","",VLOOKUP(B16,Feuil3!$B$5:$E$25,4,FALSE)) -> #VALUE! | F16: =IFERROR(SUM(D16*E16),"")
C17: =IF(B17="","",VLOOKUP(B17,Feuil2!$B$5:$E$25,3,FALSE)),IF(B17="","",VLOOKUP(B17,Feuil3!$B$5:$E$25,3,FALSE)),IF(B17="","",VLOOKUP(B17,Feuil3!$B$5:$E$25,3,FALSE)) -> #VALUE! | D17: =IF(B17="","",VLOOKUP(B17,Feuil2!$B$5:$E$25,4,FALSE)),IF(B17="","",VLOOKUP(B17,Feuil3!$B$5:$E$25,4,FALSE)),IF(B17="","",VLOOKUP(B17,Feuil3!$B$5:$E$25,4,FALSE)) -> #VALUE! | F17: =IFERROR(SUM(D17*E17),"")
C18: =IF(B18="","",VLOOKUP(B18,Feuil2!$B$5:$E$25,3,FALSE)),IF(B18="","",VLOOKUP(B18,Feuil3!$B$5:$E$25,3,FALSE)),IF(B18="","",VLOOKUP(B18,Feuil3!$B$5:$E$25,3,FALSE)) -> #VALUE! | D18: =IF(B18="","",VLOOKUP(B18,Feuil2!$B$5:$E$25,4,FALSE)),IF(B18="","",VLOOKUP(B18,Feuil3!$B$5:$E$25,4,FALSE)),IF(B18="","",VLOOKUP(B18,Feuil3!$B$5:$E$25,4,FALSE)) -> #VALUE! | F18: =IFERROR(SUM(D18*E18),"")
C19: =IF(B19="","",VLOOKUP(B19,Feuil2!$B$5:$E$25,3,FALSE)),IF(B19="","",VLOOKUP(B19,Feuil3!$B$5:$E$25,3,FALSE)),IF(B19="","",VLOOKUP(B19,Feuil3!$B$5:$E$25,3,FALSE)) -> #VALUE! | D19: =IF(B19="","",VLOOKUP(B19,Feuil2!$B$5:$E$25,4,FALSE)),IF(B19="","",VLOOKUP(B19,Feuil3!$B$5:$E$25,4,FALSE)),IF(B19="","",VLOOKUP(B19,Feuil3!$B$5:$E$25,4,FALSE)) -> #VALUE! | F19: =IFERROR(SUM(D19*E19),"")
... C28: =IF(B28="","",VLOOKUP(B28,Feuil2!$B$5:$E$25,3,FALSE)),IF(B28="","",VLOOKUP(B28,Feuil3!$B$5:$E$25,3,FALSE)),IF(B28="","",VLOOKUP(B28,Feuil3!$B$5:$E$25,3,FALSE)) -> #VALUE! | D28: =IF(B28="","",VLOOKUP(B28,Feuil2!$B$5:$E$25,4,FALSE)),IF(B28="","",VLOOKUP(B28,Feuil3!$B$5:$E$25,4,FALSE)),IF(B28="","",VLOOKUP(B28,Feuil3!$B$5:$E$25,4,FALSE)) -> #VALUE! | F28: =IFERROR(SUM(D28*E28),"")

Sheet Feuil2
B4: reference | C4: type | D4: désignation | E4: prix | F4: famille
B5: 0608701016 | C5: EC302 | D5: EC MOTOR EC302 SZ2 | E5: 100 | F5: 1
B6: 0608701017 | C6: EC303 | D6: EC MOTOR EC303 SZ3 | E6: 100 | F6: 1
B7: 0608701018 | C7: EC304 | D7: EC MOTOR EC304 SZ4 | E7: 100 | F7: 1
B8: 0608701019 | C8: EC305 | D8: EC MOTOR EC305 SZ5 | E8: 100 | F8: 1
B9: 0608710027 | C9: 2P32 | D9: PNEUMATIC MOTOR 2P32 1.8–10NM | E9: 100 | F9: 1
B10: 0608710028 | C10: 2P20 | D10: PNEUMATIC MOTOR 2P20 1.3–8.5NM | E10: 100 | F10: 1
B11: 0608710029 | C11: 3P25 | D11: PNEUMATIC MOTOR 3P25 6–14NM | E11: 100 | F11: 1
B12: 0608710030 | C12: 3P39 | D12: PNEUMATIC MOTOR 3P39 8–20NM | E12: 100 | F12: 1
B13: 0608710031 | C13: 3P41 | D13: PNEUMATIC MOTOR 3P41 15–50NM | E13: 100 | F13: 1
B14: 0608720038 | C14: 2GE26 | D14: PLANETARY GEAR TRAIN 2GE26 SZ2 | E14: 100 | F14: 1
B15: 0608720039 | C15: 3GE67 | D15: PLANETARY GEAR TRAIN 3GE67 SZ3 | E15: 100 | F15: 1
B16: 0608720040 | C16: 4GE59 | D16: PLANETARY GEAR TRAIN 4GE59 SZ4 | E16: 100 | F16: 1
... B21: 0608720058 | C21: 5GE19 | D21: PLANETARY GEAR TRAIN 5GE19 SZ5 | E21: 100 | F21: 1
B22: 0608740100 | C22: S-003-S-A | D22: ="CABLE "&C22 -> CABLE S-003-S-A | E22: 100 | F22: 1
B23: 0608740101 | C23: S-005-S-A | D23: ="CABLE "&C23 -> CABLE S-005-S-A | E23: 100 | F23: 1
B24: 0608740102 | C24: S-007-S-A | D24: ="CABLE "&C24 -> CABLE S-007-S-A | E24: 100 | F24: 1
B25: 0608740103 | C25: S-010-S-A | D25: ="CABLE "&C25 -> CABLE S-010-S-A | E25: 100 | F25: 1
B26: 0608740104 | C26: S-015-S-A | D26: ="CABLE "&C26 -> CABLE S-015-S-A | E26: 100 | F26: 1
B27: 0608740105 | C27: S-020-S-A | D27: ="CABLE "&C27 -> CABLE S-020-S-A | E27: 100 | F27: 1
B28: 0608740110 | C28: S-003-A-A | D28: ="CABLE "&C28 -> CABLE S-003-A-A | E28: 100 | F28: 1
B29: 0608740111 | C29: S-005-A-A | D29: ="CABLE "&C29 -> CABLE S-005-A-A | E29: 100 | F29: 1
B30: 0608740112 | C30: S-007-A-A | D30: ="CABLE "&C30 -> CABLE S-007-A-A | E30: 100 | F30: 1

Sheet Feuil3
B4: reference | C4: type | D4: désignation | E4: prix | F4: famille
B5: 0608800001 | C5: GK1C156 | D5: STRAIGHT OUTPUT GK1C156 SZ4 1/2"SQP | E5: 200 | F5: 2
B6: 0608800006 | C6: GK2A181 | D6: STRAIGHT OUTPUT GK2A181 SZ4 1/2"SQ | E6: 200 | F6: 2
B7: 0608800008 | C7: GK2B181 | D7: STRAIGHT OUTPUT GK2B181 SZ4 7/16"QC | E7: 200 | F7: 2
B8: 0608800020 | C8: GK1B156 | D8: STRAIGHT OUTPUT GK1B156 SZ4 7/16"QC | E8: 200 | F8: 2
B9: 0608800021 | C9: GK2C181 | D9: STRAIGHT OUTPUT GK2C181 SZ4 1/2"SQP | E9: 200 | F9: 2
B10: 0608800027 | C10: GL2C319 | D10: STRAIGHT OUTPUT GL2C319 SZ4 1/2"SQP | E10: 200 | F10: 2
B11: 0608800031 | C11: GK1A156 | D11: STRAIGHT OUTPUT GK1A156 SZ4 1/2"SQ | E11: 200 | F11: 2
B12: 0608800048 | C12: GK2A251 | D12: STRAIGHT OUTPUT GK2A251 SZ4 1/2"SQ | E12: 200 | F12: 2
B13: 0608800049 | C13: GK2B251 | D13: STRAIGHT OUTPUT GK2B251 SZ4 7/16"QC | E13: 200 | F13: 2
B14: 0608800050 | C14: GK2C251 | D14: STRAIGHT OUTPUT GK2C251 SZ4 1/2"SQP | E14: 200 | F14: 2
B15: 0608800056 | C15: GL2A319 | D15: STRAIGHT OUTPUT GL2A319 SZ4 1/2"SQ | E15: 200 | F15: 2
B16: 0608800057 | C16: GL2B319 | D16: STRAIGHT OUTPUT GL2B319 SZ4 7/16"QC | E16: 200 | F16: 2
... B23: 0608800077 | C23: 2GA82 | D23: STRAIGHT OUTPUT 2GA82 SZ2 1/4"SQ | E23: 200 | F23: 2

Sheet Feuil4
B4: référence | C4: type | D4: désignation | E4: prix | F4: famille
B5: 0608800629 | C5: VNS2A152 | D5: OFFSET OUTPUT DRIVE VNS2A152 SZ3 3/8"SQ | E5: 300 | F5: 3
B6: 0608800630 | C6: VNS2B152 | D6: OFFSET OUTPUT DRIVE VNS2B152 SZ3 1/4"QC | E6: 300 | F6: 3
B7: 0608800631 | C7: VNS2C152 | D7: OFFSET OUTPUT DRIVE VNS2C152 SZ3 3/8"SQP | E7: 300 | F7: 3
B8: 0608800632 | C8: VNK2A181 | D8: OFFSET OUTPUT DRIVE VNK2A181 SZ4 1/2"SQ | E8: 300 | F8: 3
B9: 0608800633 | C9: VNK2A251 | D9: OFFSET OUTPUT DRIVE VNK2A251 SZ4 1/2"SQ | E9: 300 | F9: 3
B10: 0608800634 | C10: VNK2B181 | D10: OFFSET OUTPUT DRIVE VNK2B181 SZ4 7/16"QC | E10: 300 | F10: 3
B11: 0608800635 | C11: VNK2B251 | D11: OFFSET OUTPUT DRIVE VNK2B251 SZ4 7/16"QC | E11: 300 | F11: 3
B12: 0608800636 | C12: VNK2C181 | D12: OFFSET OUTPUT DRIVE VNK2C181 SZ4 1/2"SQP | E12: 300 | F12: 3
B13: 0608800637 | C13: VNK2C251 | D13: OFFSET OUTPUT DRIVE VNK2C251 SZ4 1/2"SQP | E13: 300 | F13: 3
B14: 0608800639 | C14: VNL2A319 | D14: OFFSET OUTPUT DRIVE VNL2A319 SZ4 1/2"SQ | E14: 300 | F14: 3
B15: 0608800643 | C15: VNL2C319 | D15: OFFSET OUTPUT DRIVE VNL2C319 SZ4 1/2"SQP | E15: 300 | F15: 3
B16: 0608800644 | C16: VUK2D186 | D16: OFFSET OUTPUT DRIVE VUK2D186 SZ4 3/4"SQ | E16: 300 | F16: 3
... B22: 0608800650 | C22: 4S1M8 | D22: FEED OUTPUT DRIVE 4S1M8 SZ4 1/2"SQP | E22: 300 | F22: 3
