Workbook

Sheet Data 1
D1: Prix Vente | F1: Lot Achat | G1: Date Achat | H1: Prix Lot
A2: Produit 1 | B2: 1994 | C2: 100 | E2: A | F2: 20231125NiCo | G2: 45255 | H2: 119.04
A3: Produit 2 | C3: 200 | E3: A | F3: 20231201Lad | G3: 45261 | H3: 416.64
A4: Produit 3 | C4: 300 | D4: 0 | E4: NFS | F4: 20231201Lad | G4: 45261 | H4: 416.64
A5: Produit 4 | B5: 2004 | C5: 100 | D5: 90 | E5: V | F5: 20231201Lad | G5: 45261 | H5: 416.64
A6: Produit 5 | B6: 2015 | C6: 60 | D6: 0 | E6: NFS | F6: 20231201Lad | G6: 45261 | H6: 416.64
A7: Produit 6 | B7: 2007 | C7: 80 | D7: 75 | E7: V | F7: 20231201Lad | G7: 45261 | H7: 416.64
A8: Produit 7 | B8: 2004 | C8: 165 | D8: 0 | E8: NFS | F8: 20231201Lad | G8: 45261 | H8: 416.64
A9: Produit 8 | B9: 1908 | C9: 200 | D9: 0 | E9: NFS | F9: 20231208LM | G9: 45268 | H9: 338
A10: Produit 9 | B10: 1927 | C10: 40 | D10: 0 | E10: NFS | F10: 20231208LM | G10: 45268 | H10: 338
A11: Produit 10 | B11: 1947 | C11: 40 | D11: 40 | E11: V | F11: 20231208LM | G11: 45268 | H11: 338
A12: Produit 11 | B12: 1923 | C12: 40 | D12: 35 | E12: V | F12: 20231208LM | G12: 45268 | H12: 338
A13: Produit 12 | B13: 1898 | C13: 150 | D13: 0 | E13: NFS | F13: 20231208LM | G13: 45268 | H13: 338
A14: Produit 13 | B14: 1906 | C14: 250 | D14: 0 | E14: NFS | F14: 20231208LM | G14: 45268 | H14: 338
A15: Produit 14 | B15: 1939 | E15: NR | F15: 20231208LM | G15: 45268 | H15: 338
A16: Produit 15 | B16: 1920 | C16: 200 | D16: 0 | E16: NFS | F16: 20231208LM | G16: 45268 | H16: 338
A17: Produit 16 | B17: 1966 | C17: 50 | D17: 0 | E17: NFS | F17: 20231208LM | G17: 45268 | H17: 338
A18: Produit 17 | B18: 1956 | C18: 15 | D18: 0 | E18: NFS | F18: 20231208LM | G18: 45268 | H18: 338
A19: Produit 18 | B19: 1961 | C19: 15 | D19: 0 | E19: NFS | F19: 20231208LM | G19: 45268 | H19: 338
A20: Produit 19 | B20: 1966 | C20: 20 | D20: 15 | E20: V | F20: 20231208LM | G20: 45268 | H20: 338
A21: Produit 20 | B21: 1955 | C21: 30 | D21: 0 | E21: NFS | F21: 20231208LM | G21: 45268 | H21: 338
A22: Produit 21 | B22: 1998 | C22: 30 | D22: 20 | E22: V | F22: 20231208LM | G22: 45268 | H22: 338
A23: Produit 22 | C23: 882 | D23: ='[1]Lot_Affiches LM'!#REF! -> #REF! | E23: R | F23: 20231208LM | G23: 45268 | H23: 338
A24: Produit 23 | B24: 1998 | C24: 150 | D24: 100 | E24: V | F24: 20231204LBC | G24: 45264 | H24: 150
A25: Produit 24 | B25: 1944 | C25: 5 | D25: 0 | E25: NFS | F25: 20231204LBC | G25: 45264 | H25: 150
A26: Produit 25 | B26: 1965 | C26: 50 | E26: A | F26: 20231204LBC | G26: 45264 | H26: 150

Sheet Data 2
D1: Prix Vente | F1: Lot Achat | G1: Date Achat | H1: Prix Lot
A2: Produit 120 | B2: 1994 | C2: 4 | D2: 2 | E2: V | F2: 20240927_LM | G2: 45562 | H2: 89
A3: Produit 121 | C3: 10 | D3: 10 | E3: V | F3: 20240927_LM | G3: 45562 | H3: 89
A4: Produit 122 | B4: 1970 | C4: 15 | D4: 10 | E4: V | F4: 20240927_LM | G4: 45562 | H4: 89
A5: Produit 123 | C5: 40 | D5: 20 | E5: V | F5: 20240913_Clar | G5: 45548 | H5: =142+22 -> 164
A6: Produit 124 | C6: 30 | D6: 30 | E6: V | F6: 20240913_Clar | G6: 45548 | H6: =142+22 -> 164
A7: Produit 125 | C7: 20 | E7: NR | F7: 20240913_Clar | G7: 45548 | H7: =142+22 -> 164
A8: Produit 126 | C8: 40 | E8: A | F8: 20240913_Clar | G8: 45548 | H8: =142+22 -> 164
A9: Produit 127 | C9: 100 | E9: A | F9: 20240913_Clar | G9: 45548 | H9: =142+22 -> 164
A10: Produit 128 | C10: 75 | E10: A | F10: 20240913_Clar | G10: 45548 | H10: =142+22 -> 164
A11: Produit 129 | C11: 25 | D11: 0 | E11: NFS | F11: 20240913_Clar | G11: 45548 | H11: =142+22 -> 164
A12: Produit 130 | C12: 25 | D12: 0 | E12: NFS | F12: 20240913_Clar | G12: 45548 | H12: =142+22 -> 164
A13: Produit 131 | C13: 25 | D13: 0 | E13: NFS | F13: 20240913_Clar | G13: 45548 | H13: =142+22 -> 164
A14: Produit 132 | C14: 25 | D14: 0 | E14: NFS | F14: 20240913_Clar | G14: 45548 | H14: =142+22 -> 164
A15: Produit 133 | B15: 1951 | C15: 25 | D15: 0 | E15: NFS | F15: 20240913_Clar | G15: 45548 | H15: =142+22 -> 164
A16: Produit 134 | C16: 350 | D16: 320 | E16: V | F16: 20241009_Gold | G16: 45574 | H16: =172+115+33 -> 320
A17: Produit 135 | C17: 15 | D17: 15 | E17: V | F17: 20241009_Gold | G17: 45574 | H17: =172+115+33 -> 320
A18: Produit 136 | C18: 400 | E18: R | F18: 20241009_Gold | G18: 45574 | H18: =172+115+33 -> 320
A19: Produit 137 | C19: 65 | D19: 65 | E19: V | F19: 20241009_Gold | G19: 45574 | H19: =172+115+33 -> 320
A20: Produit 138 | C20: 100 | D20: 60 | E20: V | F20: 20241009_Gold | G20: 45574 | H20: =172+115+33 -> 320
A21: Produit 139 | C21: 120 | D21: 60 | E21: V | F21: 20241009_Gold | G21: 45574 | H21: =172+115+33 -> 320
A22: Produit 140 | C22: 15 | D22: 14 | E22: V | F22: 20241009_Gold | G22: 45574 | H22: =172+115+33 -> 320
A23: Produit 141 | C23: 18 | D23: 15 | E23: V | F23: 20241009_Gold | G23: 45574 | H23: =172+115+33 -> 320
A24: Produit 142 | C24: 250 | E24: A | F24: 20241009_Gold | G24: 45574 | H24: =172+115+33 -> 320
A25: Produit 143 | C25: 75 | E25: A | F25: 20241009_Gold | G25: 45574 | H25: =172+115+33 -> 320
A26: Produit 144 | C26: 300 | D26: 0 | E26: NFS | F26: 20241009_Gold | G26: 45574 | H26: =172+115+33 -> 320
A27: Produit 145 | C27: 175 | E27: NR | F27: 20240919_Hans | G27: 45554 | H27: =56+100+20 -> 176
A28: Produit 146 | B28: 2013 | C28: 250 | E28: R | F28: 20241006_Lad | G28: 45571 | H28: =330.93+50 -> 380.93
A29: Produit 147 | B29: 1999 | C29: 50 | D29: 55 | E29: V | F29: 20241006_Lad | G29: 45571 | H29: =330.93+50 -> 380.93

Sheet Bilan
A1: Liste ventes 1 | G1: Fin1 | K1: Fin2 | O1: Liste ventes 2
A2: {=_xlfn._xlws.SORT(_xlfn.UNIQUE('Data 1'!F2:F26),1,1)} -> 20231125NiCo | B2: =IF(A2=0,"",(_xlfn.XLOOKUP(A2,'Data 1'!F:F,'Data 1'!H:H,""))) -> 119.04 | C2: =IF(A2=0,"",(_xlfn.XLOOKUP(A2,'Data 1'!F:F,'Data 1'!G:G,""))) -> 45255 | D2: =IF(A2="","",YEAR(C2)) -> 2023 | E2: =IF(A2="","",MONTH(C2)) -> 11 | G2: 44927 | H2: 44927 | I2: =SUMIFS(B:B,C:C,YEAR($G$2),C:C,MONTH(H2)) -> 0 | K2: 44927 | L2: 44927 | M2: =SUMIFS(B:B,D:D,YEAR($G$2),E:E,MONTH(L2)) -> 0 | O2: {=_xlfn._xlws.SORT(_xlfn.UNIQUE('Data 2'!F3:F27),1,1)} -> 20240913_Clar | P2: =IF(O2=0,"",(_xlfn.XLOOKUP(O2,'Data 2'!F:F,'Data 2'!H:H,""))) -> 164 | Q2: =IF(O2=0,"",(_xlfn.XLOOKUP(O2,'Data 2'!F:F,'Data 2'!G:G,""))) -> 45548 | R2: =IF(O2="","",YEAR(Q2)) -> 2024 | S2: =IF(O2="","",MONTH(Q2)) -> 9
A3: 20231201Lad | B3: =IF(A3=0,"",(_xlfn.XLOOKUP(A3,'Data 1'!F:F,'Data 1'!H:H,""))) -> 416.64 | C3: =IF(A3=0,"",(_xlfn.XLOOKUP(A3,'Data 1'!F:F,'Data 1'!G:G,""))) -> 45261 | D3: =IF(A3="","",YEAR(C3)) -> 2023 | E3: =IF(A3="","",MONTH(C3)) -> 12 | H3: 44958 | I3: =SUMIFS(B:B,C:C,YEAR($G$2),C:C,MONTH(H3)) -> 0 | L3: 44958 | M3: =SUMIFS(B:B,D:D,YEAR($G$2),E:E,MONTH(L3)) -> 0 | O3: 20240919_Hans | P3: =IF(O3=0,"",(_xlfn.XLOOKUP(O3,'Data 2'!F:F,'Data 2'!H:H,""))) -> 176 | Q3: =IF(O3=0,"",(_xlfn.XLOOKUP(O3,'Data 2'!F:F,'Data 2'!G:G,""))) -> 45554 | R3: =IF(O3="","",YEAR(Q3)) -> 2024 | S3: =IF(O3="","",MONTH(Q3)) -> 9
A4: 20231204LBC | B4: =IF(A4=0,"",(_xlfn.XLOOKUP(A4,'Data 1'!F:F,'Data 1'!H:H,""))) -> 150 | C4: =IF(A4=0,"",(_xlfn.XLOOKUP(A4,'Data 1'!F:F,'Data 1'!G:G,""))) -> 45264 | D4: =IF(A4="","",YEAR(C4)) -> 2023 | E4: =IF(A4="","",MONTH(C4)) -> 12 | H4: 44986 | I4: =SUMIFS(B:B,C:C,YEAR($G$2),C:C,MONTH(H4)) -> 0 | L4: 44986 | M4: =SUMIFS(B:B,D:D,YEAR($G$2),E:E,MONTH(L4)) -> 0 | O4: 20240927_LM | P4: =IF(O4=0,"",(_xlfn.XLOOKUP(O4,'Data 2'!F:F,'Data 2'!H:H,""))) -> 89 | Q4: =IF(O4=0,"",(_xlfn.XLOOKUP(O4,'Data 2'!F:F,'Data 2'!G:G,""))) -> 45562 | R4: =IF(O4="","",YEAR(Q4)) -> 2024 | S4: =IF(O4="","",MONTH(Q4)) -> 9
A5: 20231208LM | B5: =IF(A5=0,"",(_xlfn.XLOOKUP(A5,'Data 1'!F:F,'Data 1'!H:H,""))) -> 338 | C5: =IF(A5=0,"",(_xlfn.XLOOKUP(A5,'Data 1'!F:F,'Data 1'!G:G,""))) -> 45268 | D5: =IF(A5="","",YEAR(C5)) -> 2023 | E5: =IF(A5="","",MONTH(C5)) -> 12 | H5: 45017 | I5: =SUMIFS(B:B,C:C,YEAR($G$2),C:C,MONTH(H5)) -> 0 | L5: 45017 | M5: =SUMIFS(B:B,D:D,YEAR($G$2),E:E,MONTH(L5)) -> 0 | O5: 20241009_Gold | P5: =IF(O5=0,"",(_xlfn.XLOOKUP(O5,'Data 2'!F:F,'Data 2'!H:H,""))) -> 320 | Q5: =IF(O5=0,"",(_xlfn.XLOOKUP(O5,'Data 2'!F:F,'Data 2'!G:G,""))) -> 45574 | R5: =IF(O5="","",YEAR(Q5)) -> 2024 | S5: =IF(O5="","",MONTH(Q5)) -> 10
B6: =IF(A6=0,"",(_xlfn.XLOOKUP(A6,'Data 1'!F:F,'Data 1'!H:H,""))) | C6: =IF(A6=0,"",(_xlfn.XLOOKUP(A6,'Data 1'!F:F,'Data 1'!G:G,""))) | D6: =IF(A6="","",YEAR(C6)) | E6: =IF(A6="","",MONTH(C6)) | H6: 45047 | I6: =SUMIFS(B:B,C:C,YEAR($G$2),C:C,MONTH(H6)) -> 0 | L6: 45047 | M6: =SUMIFS(B:B,D:D,YEAR($G$2),E:E,MONTH(L6)) -> 0 | P6: =IF(O6=0,"",(_xlfn.XLOOKUP(O6,'Data 2'!F:F,'Data 2'!H:H,""))) | Q6: =IF(O6=0,"",(_xlfn.XLOOKUP(O6,'Data 2'!F:F,'Data 2'!G:G,"")))
B7: =IF(A7=0,"",(_xlfn.XLOOKUP(A7,'Data 1'!F:F,'Data 1'!H:H,""))) | C7: =IF(A7=0,"",(_xlfn.XLOOKUP(A7,'Data 1'!F:F,'Data 1'!G:G,""))) | D7: =IF(A7="","",YEAR(C7)) | E7: =IF(A7="","",MONTH(C7)) | H7: 45078 | I7: =SUMIFS(B:B,C:C,YEAR($G$2),C:C,MONTH(H7)) -> 0 | L7: 45078 | M7: =SUMIFS(B:B,D:D,YEAR($G$2),E:E,MONTH(L7)) -> 0 | P7: =IF(O7=0,"",(_xlfn.XLOOKUP(O7,'Data 2'!F:F,'Data 2'!H:H,""))) | Q7: =IF(O7=0,"",(_xlfn.XLOOKUP(O7,'Data 2'!F:F,'Data 2'!G:G,"")))
B8: =IF(A8=0,"",(_xlfn.XLOOKUP(A8,'Data 1'!F:F,'Data 1'!H:H,""))) | C8: =IF(A8=0,"",(_xlfn.XLOOKUP(A8,'Data 1'!F:F,'Data 1'!G:G,""))) | D8: =IF(A8="","",YEAR(C8)) | E8: =IF(A8="","",MONTH(C8)) | H8: 45108 | I8: =SUMIFS(B:B,C:C,YEAR($G$2),C:C,MONTH(H8)) -> 0 | L8: 45108 | M8: =SUMIFS(B:B,D:D,YEAR($G$2),E:E,MONTH(L8)) -> 0 | P8: =IF(O8=0,"",(_xlfn.XLOOKUP(O8,'Data 2'!F:F,'Data 2'!H:H,""))) | Q8: =IF(O8=0,"",(_xlfn.XLOOKUP(O8,'Data 2'!F:F,'Data 2'!G:G,"")))
B9: =IF(A9=0,"",(_xlfn.XLOOKUP(A9,'Data 1'!F:F,'Data 1'!H:H,""))) | C9: =IF(A9=0,"",(_xlfn.XLOOKUP(A9,'Data 1'!F:F,'Data 1'!G:G,""))) | D9: =IF(A9="","",YEAR(C9)) | E9: =IF(A9="","",MONTH(C9)) | H9: 45139 | I9: =SUMIFS(B:B,C:C,YEAR($G$2),C:C,MONTH(H9)) -> 0 | L9: 45139 | M9: =SUMIFS(B:B,D:D,YEAR($G$2),E:E,MONTH(L9)) -> 0 | P9: =IF(O9=0,"",(_xlfn.XLOOKUP(O9,'Data 2'!F:F,'Data 2'!H:H,"")))
B10: =IF(A10=0,"",(_xlfn.XLOOKUP(A10,'Data 1'!F:F,'Data 1'!H:H,""))) | C10: =IF(A10=0,"",(_xlfn.XLOOKUP(A10,'Data 1'!F:F,'Data 1'!G:G,""))) | D10: =IF(A10="","",YEAR(C10)) | E10: =IF(A10="","",MONTH(C10)) | H10: 45170 | I10: =SUMIFS(B:B,C:C,YEAR($G$2),C:C,MONTH(H10)) -> 0 | L10: 45170 | M10: =SUMIFS(B:B,D:D,YEAR($G$2),E:E,MONTH(L10)) -> 0 | P10: =IF(O10=0,"",(_xlfn.XLOOKUP(O10,'Data 2'!F:F,'Data 2'!H:H,"")))
B11: =IF(A11=0,"",(_xlfn.XLOOKUP(A11,'Data 1'!F:F,'Data 1'!H:H,""))) | C11: =IF(A11=0,"",(_xlfn.XLOOKUP(A11,'Data 1'!F:F,'Data 1'!G:G,""))) | D11: =IF(A11="","",YEAR(C11)) | E11: =IF(A11="","",MONTH(C11)) | H11: 45200 | I11: =SUMIFS(B:B,C:C,YEAR($G$2),C:C,MONTH(H11)) -> 0 | L11: 45200 | M11: =SUMIFS(B:B,D:D,YEAR($G$2),E:E,MONTH(L11)) -> 0 | P11: =IF(O11=0,"",(_xlfn.XLOOKUP(O11,'Data 2'!F:F,'Data 2'!H:H,"")))
B12: =IF(A12=0,"",(_xlfn.XLOOKUP(A12,'Data 1'!F:F,'Data 1'!H:H,""))) | C12: =IF(A12=0,"",(_xlfn.XLOOKUP(A12,'Data 1'!F:F,'Data 1'!G:G,""))) | D12: =IF(A12="","",YEAR(C12)) | E12: =IF(A12="","",MONTH(C12)) | H12: 45231 | I12: =SUMIFS(B:B,C:C,YEAR($G$2),C:C,MONTH(H12)) -> 0 | L12: 45231 | M12: =SUMIFS(B:B,D:D,YEAR($G$2),E:E,MONTH(L12)) -> 119.04 | P12: =IF(O12=0,"",(_xlfn.XLOOKUP(O12,'Data 2'!F:F,'Data 2'!H:H,"")))
B13: =IF(A13=0,"",(_xlfn.XLOOKUP(A13,'Data 1'!F:F,'Data 1'!H:H,""))) | C13: =IF(A13=0,"",(_xlfn.XLOOKUP(A13,'Data 1'!F:F,'Data 1'!G:G,""))) | D13: =IF(A13="","",YEAR(C13)) | E13: =IF(A13="","",MONTH(C13)) | H13: 45261 | I13: =SUMIFS(B:B,C:C,YEAR($G$2),C:C,MONTH(H13)) -> 0 | L13: 45261 | M13: =SUMIFS(B:B,D:D,YEAR($G$2),E:E,MONTH(L13)) -> 904.64
B14: =IF(A14=0,"",(_xlfn.XLOOKUP(A14,'Data 1'!F:F,'Data 1'!H:H,""))) | C14: =IF(A14=0,"",(_xlfn.XLOOKUP(A14,'Data 1'!F:F,'Data 1'!G:G,""))) | D14: =IF(A14="","",YEAR(C14)) | E14: =IF(A14="","",MONTH(C14))
B15: =IF(A15=0,"",(_xlfn.XLOOKUP(A15,'Data 1'!F:F,'Data 1'!H:H,""))) | C15: =IF(A15=0,"",(_xlfn.XLOOKUP(A15,'Data 1'!F:F,'Data 1'!G:G,""))) | D15: =IF(A15="","",YEAR(C15)) | E15: =IF(A15="","",MONTH(C15)) | G15: Total
B16: =IF(A16=0,"",(_xlfn.XLOOKUP(A16,'Data 1'!F:F,'Data 1'!H:H,""))) | C16: =IF(A16=0,"",(_xlfn.XLOOKUP(A16,'Data 1'!F:F,'Data 1'!G:G,""))) | D16: =IF(A16="","",YEAR(C16)) | E16: =IF(A16="","",MONTH(C16)) | G16: Vente | M16: Choix
B17: =IF(A17=0,"",(_xlfn.XLOOKUP(A17,'Data 1'!F:F,'Data 1'!H:H,""))) | C17: =IF(A17=0,"",(_xlfn.XLOOKUP(A17,'Data 1'!F:F,'Data 1'!G:G,""))) | D17: =IF(A17="","",YEAR(C17)) | E17: =IF(A17="","",MONTH(C17)) | G17: 20231125NiCo | M17: 1
B18: =IF(A18=0,"",(_xlfn.XLOOKUP(A18,'Data 1'!F:F,'Data 1'!H:H,""))) | C18: =IF(A18=0,"",(_xlfn.XLOOKUP(A18,'Data 1'!F:F,'Data 1'!G:G,""))) | D18: =IF(A18="","",YEAR(C18)) | E18: =IF(A18="","",MONTH(C18)) | M18: 2
M19: 1
M20: 1
M21: 2
