Workbook
Name CalendarYear: [1]Janvier!$AI$6
Name CléCongé: [1]Janvier!$D$4
Name CléMaladie: [1]Janvier!$K$4
Name CléPersonnalisée1: [1]Janvier!$O$4
Name CléPersonnalisée2: [1]Janvier!$T$4
Name CléPersonnel: [1]Janvier!$G$4
Name Titre1: [1]!Janvier[[#Headers],[Nom et prénom]]
Name Titre10: [1]!Octobre[[#Headers],[Nom et prénom]]
Name Titre11: [1]!Novembre[[#Headers],[Nom et prénom]]
Name Titre12: [1]!Décembre[[#Headers],[Nom et prénom]]
Name Titre2: [1]!Février[[#Headers],[Nom et prénom]]
Name Titre3: [1]!Mars[[#Headers],[Nom et prénom]]
Name Titre4: [1]!March5[[#Headers],[Nom et prénom]]
Name Titre5: [1]!March58[[#Headers],[Nom et prénom]]
Name Titre6: [1]!Juin[[#Headers],[Nom et prénom]]
Name Titre7: [1]!Juillet[[#Headers],[Nom et prénom]]
Name Titre8: [1]!Août[[#Headers],[Nom et prénom]]
Name Titre9: [1]!Septembre[[#Headers],[Nom et prénom]]
Name TitreColonne13: [1]!NomEmployé[[#Headers],[Noms ]]

Sheet Janvier
A2: =config!C9 -> 45658
A3: =config!D9 -> 45688
AD4: =A2 -> 45658 | AE4: =AD4+1 -> 45659 | AF4: =AE4+1 -> 45660 | AG4: =AF4+1 -> 45661 | AH4: =AG4+1 -> 45662 | AI4: =AH4+1 -> 45663 | AJ4: =AI4+1 -> 45664 | AK4: =AJ4+1 -> 45665 | AL4: =AK4+1 -> 45666 | ... BH4: =BG4+1 -> 45688
B6: Janvier
AG7: C | AK7: R | AO7: F | AS7: H | AW7: E | BA7: A | BE7: V
AF8: Congé | AJ8: RTT | AN8: Fractionné | AR8: Heures de récup. | AW8: CET | BA8: ASA | BD8: Congé volant
B9: Congés du personnel 2025
F10: Congé | I10: RTT | L10: Fractionné | O10: Heures de récup. | S10: CET | V10: ASA | Y10: Congé volant | AD10: =DAY(AD4) -> 1 | AE10: =DAY(AE4) -> 2 | AF10: =DAY(AF4) -> 3 | AG10: =DAY(AG4) -> 4 | AH10: =DAY(AH4) -> 5 | AI10: =DAY(AI4) -> 6 | AJ10: =DAY(AJ4) -> 7 | AK10: =DAY(AK4) -> 8 | ... BH10: =DAY(BH4) -> 31
AD11: Colonne1 | AE11: Colonne2 | AF11: Colonne3 | AG11: Colonne4 | AH11: Colonne5 | AI11: Colonne6 | AJ11: Colonne7 | AK11: Colonne8 | AL11: Colonne9 | AM11: Colonne10 | AN11: Colonne11 | AO11: Colonne12 | AP11: Colonne13 | AQ11: Colonne14 | AR11: Colonne15 | AS11: Colonne16 | AT11: Colonne17 | AU11: Colonne18 | AV11: Colonne19 | AW11: Colonne20 | AX11: Colonne21 | AY11: Colonne22 | AZ11: Colonne23 | BA11: Colonne24 | BB11: Colonne25 | BC11: Colonne26 | BD11: Colonne27 | BE11: Colonne28 | BF11: Colonne29 | BG11: Colonne30 | BH11: Colonne31
B12: Nom | C12: Temps de travail | D12: Service | E12: Colonne1 | F12: C | G12: C 0,5 | H12: Colonne5 | I12: R | J12: R 0,5 | K12: Colonne8 | L12: F | M12: F 0,5 | N12: Colonne11 | O12: H | P12: H 0,5 | Q12: H heures et min. | R12: Colonne14 | S12: E | T12: E 0,5 | U12: Colonne17 | V12: A | W12: A 0,5 | X12: Colonne20 | Y12: V | Z12: V 0,5 | AA12: V 0,6 | AB12: Précisions | AD12: =IFERROR(WEEKDAY(AD4),"") -> 4 | AE12: =IFERROR(WEEKDAY(AE4),"") -> 5 | AF12: =IFERROR(WEEKDAY(AF4),"") -> 6 | AG12: =IFERROR(WEEKDAY(AG4),"") -> 7 | AH12: =IFERROR(WEEKDAY(AH4),"") -> 1 | AI12: =IFERROR(WEEKDAY(AI4),"") -> 2 | AJ12: =IFERROR(WEEKDAY(AJ4),"") -> 3 | AK12: =IFERROR(WEEKDAY(AK4),"") -> 4 | ... BH12: =IFERROR(WEEKDAY(BH4),"") -> 6
B13: =IF(config!B25<>"",config!B25,"") -> Paul | C13: =IF(config!C25<>"",config!C25,"") -> Selon contrat | D13: =IF(config!D25<>"",config!D25,"") -> Familial | F13: =COUNTIF(AD13:BH13,"C") -> 0 | G13: =COUNTIF(AD13:BH13,"C 0,5") -> 0 | I13: =COUNTIF(AD13:BH13,"R") -> 0 | J13: =COUNTIF(AD13:BH13,"R 0,5") -> 0 | L13: =COUNTIF(AD13:BH13,"F") -> 0 | M13: =COUNTIF(AD13:BH13,"F 0,5") -> 0 | O13: =COUNTIF(AD13:BH13,"H") -> 0 | P13: =COUNTIF(AD13:BH13,"H 0,5") -> 0 | Q13: =SUM(AD13:BH13) -> 0 | S13: =COUNTIF(AD13:BH13,"E") -> 0 | T13: =COUNTIF(AD13:BH13,"E 0,5") -> 0 | V13: =COUNTIF(AD13:BH13,"A") -> 0 | W13: =COUNTIF(AD13:BH13,"A 0,5") -> 0 | Y13: =COUNTIF(AD13:BH13,"V") -> 0 | Z13: =COUNTIF(AD13:BH13,"V 0,5") -> 0
B14: =IF(config!B26<>"",config!B26,"") -> jacques | C14: =IF(config!C26<>"",config!C26,"") -> Temps plein | D14: =IF(config!D26<>"",config!D26,"") -> Cuisine / Entretien | F14: =COUNTIF(AD14:BH14,"C") -> 0 | G14: =COUNTIF(AD14:BH14,"C 0,5") -> 0 | I14: =COUNTIF(AD14:BH14,"R") -> 0 | J14: =COUNTIF(AD14:BH14,"R 0,5") -> 0 | L14: =COUNTIF(AD14:BH14,"F") -> 0 | M14: =COUNTIF(AD14:BH14,"F 0,5") -> 0 | O14: =COUNTIF(AD14:BH14,"H") -> 0 | P14: =COUNTIF(AD14:BH14,"H 0,5") -> 0 | Q14: =SUM(AD14:BH14) -> 0 | S14: =COUNTIF(AD14:BH14,"E") -> 0 | T14: =COUNTIF(AD14:BH14,"E 0,5") -> 0 | V14: =COUNTIF(AD14:BH14,"A") -> 0 | W14: =COUNTIF(AD14:BH14,"A 0,5") -> 0 | Y14: =COUNTIF(AD14:BH14,"V") -> 0 | Z14: =COUNTIF(AD14:BH14,"V 0,5") -> 0
B15: =IF(config!B27<>"",config!B27,"") -> Antoine | C15: =IF(config!C27<>"",config!C27,"") -> Temps plein | D15: =IF(config!D27<>"",config!D27,"") -> Lutins | F15: =COUNTIF(AD15:BH15,"C") -> 0 | G15: =COUNTIF(AD15:BH15,"C 0,5") -> 0 | I15: =COUNTIF(AD15:BH15,"R") -> 0 | J15: =COUNTIF(AD15:BH15,"R 0,5") -> 0 | L15: =COUNTIF(AD15:BH15,"F") -> 0 | M15: =COUNTIF(AD15:BH15,"F 0,5") -> 0 | O15: =COUNTIF(AD15:BH15,"H") -> 0 | P15: =COUNTIF(AD15:BH15,"H 0,5") -> 0 | Q15: =SUM(AD15:BH15) -> 0 | S15: =COUNTIF(AD15:BH15,"E") -> 0 | T15: =COUNTIF(AD15:BH15,"E 0,5") -> 0 | V15: =COUNTIF(AD15:BH15,"A") -> 0 | W15: =COUNTIF(AD15:BH15,"A 0,5") -> 0 | Y15: =COUNTIF(AD15:BH15,"V") -> 0 | Z15: =COUNTIF(AD15:BH15,"V 0,5") -> 0
B16: =IF(config!B28<>"",config!B28,"") -> Justine | C16: =IF(config!C28<>"",config!C28,"") -> Temps plein | D16: =IF(config!D28<>"",config!D28,"") -> Bout'choux | F16: =COUNTIF(AD16:BH16,"C") -> 0 | G16: =COUNTIF(AD16:BH16,"C 0,5") -> 0 | I16: =COUNTIF(AD16:BH16,"R") -> 0 | J16: =COUNTIF(AD16:BH16,"R 0,5") -> 0 | L16: =COUNTIF(AD16:BH16,"F") -> 0 | M16: =COUNTIF(AD16:BH16,"F 0,5") -> 0 | O16: =COUNTIF(AD16:BH16,"H") -> 0 | P16: =COUNTIF(AD16:BH16,"H 0,5") -> 0 | Q16: =SUM(AD16:BH16) -> 0 | S16: =COUNTIF(AD16:BH16,"E") -> 0 | T16: =COUNTIF(AD16:BH16,"E 0,5") -> 0 | V16: =COUNTIF(AD16:BH16,"A") -> 1 | W16: =COUNTIF(AD16:BH16,"A 0,5") -> 0 | Y16: =COUNTIF(AD16:BH16,"V") -> 0 | Z16: =COUNTIF(AD16:BH16,"V 0,5") -> 0 | AB16: 03/01 Déménagement | AF16: A
B17: =IF(config!B29<>"",config!B29,"") -> ariel | C17: =IF(config!C29<>"",config!C29,"") -> Temps plein | D17: =IF(config!D29<>"",config!D29,"") -> Calinoux | F17: =COUNTIF(AD17:BH17,"C") -> 0 | G17: =COUNTIF(AD17:BH17,"C 0,5") -> 0 | I17: =COUNTIF(AD17:BH17,"R") -> 0 | J17: =COUNTIF(AD17:BH17,"R 0,5") -> 0 | L17: =COUNTIF(AD17:BH17,"F") -> 0 | M17: =COUNTIF(AD17:BH17,"F 0,5") -> 0 | O17: =COUNTIF(AD17:BH17,"H") -> 0 | P17: =COUNTIF(AD17:BH17,"H 0,5") -> 0 | Q17: =SUM(AD17:BH17) -> 0 | S17: =COUNTIF(AD17:BH17,"E") -> 0 | T17: =COUNTIF(AD17:BH17,"E 0,5") -> 0 | V17: =COUNTIF(AD17:BH17,"A") -> 0 | W17: =COUNTIF(AD17:BH17,"A 0,5") -> 0 | Y17: =COUNTIF(AD17:BH17,"V") -> 0 | Z17: =COUNTIF(AD17:BH17,"V 0,5") -> 0
B18: =IF(config!B30<>"",config!B30,"") -> Sebastien | C18: =IF(config!C30<>"",config!C30,"") -> 80% mercredi | D18: =IF(config!D30<>"",config!D30,"") -> Ile | F18: =COUNTIF(AD18:BH18,"C") -> 0 | G18: =COUNTIF(AD18:BH18,"C 0,5") -> 0 | I18: =COUNTIF(AD18:BH18,"R") -> 0 | J18: =COUNTIF(AD18:BH18,"R 0,5") -> 0 | L18: =COUNTIF(AD18:BH18,"F") -> 0 | M18: =COUNTIF(AD18:BH18,"F 0,5") -> 0 | O18: =COUNTIF(AD18:BH18,"H") -> 0 | P18: =COUNTIF(AD18:BH18,"H 0,5") -> 0 | Q18: =SUM(AD18:BH18) -> 0 | S18: =COUNTIF(AD18:BH18,"E") -> 0 | T18: =COUNTIF(AD18:BH18,"E 0,5") -> 0 | V18: =COUNTIF(AD18:BH18,"A") -> 0 | W18: =COUNTIF(AD18:BH18,"A 0,5") -> 0 | Y18: =COUNTIF(AD18:BH18,"V") -> 0 | Z18: =COUNTIF(AD18:BH18,"V 0,5") -> 0
B19: =IF(config!B31<>"",config!B31,"") -> Rachide | C19: =IF(config!C31<>"",config!C31,"") -> Temps plein | D19: =IF(config!D31<>"",config!D31,"") -> Ile | F19: =COUNTIF(AD19:BH19,"C") -> 0 | G19: =COUNTIF(AD19:BH19,"C 0,5") -> 0 | I19: =COUNTIF(AD19:BH19,"R") -> 0 | J19: =COUNTIF(AD19:BH19,"R 0,5") -> 0 | L19: =COUNTIF(AD19:BH19,"F") -> 0 | M19: =COUNTIF(AD19:BH19,"F 0,5") -> 0 | O19: =COUNTIF(AD19:BH19,"H") -> 0 | P19: =COUNTIF(AD19:BH19,"H 0,5") -> 0 | Q19: =SUM(AD19:BH19) -> 0 | S19: =COUNTIF(AD19:BH19,"E") -> 0 | T19: =COUNTIF(AD19:BH19,"E 0,5") -> 0 | V19: =COUNTIF(AD19:BH19,"A") -> 0 | W19: =COUNTIF(AD19:BH19,"A 0,5") -> 0 | Y19: =COUNTIF(AD19:BH19,"V") -> 0 | Z19: =COUNTIF(AD19:BH19,"V 0,5") -> 0
B20: =IF(config!B32<>"",config!B32,"") -> Julie | C20: =IF(config!C32<>"",config!C32,"") -> Selon contrat | D20: =IF(config!D32<>"",config!D32,"") -> Familial | F20: =COUNTIF(AD20:BH20,"C") -> 0 | G20: =COUNTIF(AD20:BH20,"C 0,5") -> 1 | I20: =COUNTIF(AD20:BH20,"R") -> 0 | J20: =COUNTIF(AD20:BH20,"R 0,5") -> 0 | L20: =COUNTIF(AD20:BH20,"F") -> 0 | M20: =COUNTIF(AD20:BH20,"F 0,5") -> 0 | O20: =COUNTIF(AD20:BH20,"H") -> 0 | P20: =COUNTIF(AD20:BH20,"H 0,5") -> 0 | Q20: =SUM(AD20:BH20) -> 0 | S20: =COUNTIF(AD20:BH20,"E") -> 0 | T20: =COUNTIF(AD20:BH20,"E 0,5") -> 0 | V20: =COUNTIF(AD20:BH20,"A") -> 0 | W20: =COUNTIF(AD20:BH20,"A 0,5") -> 0 | Y20: =COUNTIF(AD20:BH20,"V") -> 0 | Z20: =COUNTIF(AD20:BH20,"V 0,5") -> 0 | AM20: C 0,5
B21: =IF(config!B33<>"",config!B33,"") -> Maryam | C21: =IF(config!C33<>"",config!C33,"") -> Mi tps : M, J (mat) et V | D21: =IF(config!D33<>"",config!D33,"") -> Lutins | F21: =COUNTIF(AD21:BH21,"C") -> 0 | G21: =COUNTIF(AD21:BH21,"C 0,5") -> 2 | I21: =COUNTIF(AD21:BH21,"R") -> 0 | J21: =COUNTIF(AD21:BH21,"R 0,5") -> 0 | L21: =COUNTIF(AD21:BH21,"F") -> 0 | M21: =COUNTIF(AD21:BH21,"F 0,5") -> 0 | O21: =COUNTIF(AD21:BH21,"H") -> 0 | P21: =COUNTIF(AD21:BH21,"H 0,5") -> 0 | Q21: =SUM(AD21:BH21) -> 0 | S21: =COUNTIF(AD21:BH21,"E") -> 0 | T21: =COUNTIF(AD21:BH21,"E 0,5") -> 0 | V21: =COUNTIF(AD21:BH21,"A") -> 0 | W21: =COUNTIF(AD21:BH21,"A 0,5") -> 0 | Y21: =COUNTIF(AD21:BH21,"V") -> 0 | Z21: =COUNTIF(AD21:BH21,"V 0,5") -> 0 | AL21: C 0,5 | AT21: C 0,5
B22: =IF(config!B34<>"",config!B34,"") -> Karl | C22: =IF(config!C34<>"",config!C34,"") -> Mi tps : M, J (mat) et V | D22: =IF(config!D34<>"",config!D34,"") -> Lutins | F22: =COUNTIF(AD22:BH22,"C") -> 1 | G22: =COUNTIF(AD22:BH22,"C 0,5") -> 0 | I22: =COUNTIF(AD22:BH22,"R") -> 0 | J22: =COUNTIF(AD22:BH22,"R 0,5") -> 0 | L22: =COUNTIF(AD22:BH22,"F") -> 0 | M22: =COUNTIF(AD22:BH22,"F 0,5") -> 0 | O22: =COUNTIF(AD22:BH22,"H") -> 0 | P22: =COUNTIF(AD22:BH22,"H 0,5") -> 0 | Q22: =SUM(AD22:BH22) -> 0 | S22: =COUNTIF(AD22:BH22,"E") -> 0 | T22: =COUNTIF(AD22:BH22,"E 0,5") -> 0 | V22: =COUNTIF(AD22:BH22,"A") -> 0 | W22: =COUNTIF(AD22:BH22,"A 0,5") -> 0 | Y22: =COUNTIF(AD22:BH22,"V") -> 0 | Z22: =COUNTIF(AD22:BH22,"V 0,5") -> 0 | AE22: C
B23: =IF(config!B35<>"",config!B35,"") -> Cindy | C23: =IF(config!C35<>"",config!C35,"") -> Temps plein | D23: =IF(config!D35<>"",config!D35,"") -> Lutins | F23: =COUNTIF(AD23:BH23,"C") -> 0 | G23: =COUNTIF(AD23:BH23,"C 0,5") -> 1 | I23: =COUNTIF(AD23:BH23,"R") -> 0 | J23: =COUNTIF(AD23:BH23,"R 0,5") -> 0 | L23: =COUNTIF(AD23:BH23,"F") -> 0 | M23: =COUNTIF(AD23:BH23,"F 0,5") -> 0 | O23: =COUNTIF(AD23:BH23,"H") -> 0 | P23: =COUNTIF(AD23:BH23,"H 0,5") -> 0 | Q23: =SUM(AD23:BH23) -> 0 | S23: =COUNTIF(AD23:BH23,"E") -> 0 | T23: =COUNTIF(AD23:BH23,"E 0,5") -> 0 | V23: =COUNTIF(AD23:BH23,"A") -> 0 | W23: =COUNTIF(AD23:BH23,"A 0,5") -> 0 | Y23: =COUNTIF(AD23:BH23,"V") -> 0 | Z23: =COUNTIF(AD23:BH23,"V 0,5") -> 0 | AS23: C 0,5
B24: =IF(config!B36<>"",config!B36,"") -> Samira | C24: =IF(config!C36<>"",config!C36,"") -> 80% vendredi | D24: =IF(config!D36<>"",config!D36,"") -> Lutins | F24: =COUNTIF(AD24:BH24,"C") -> 1 | G24: =COUNTIF(AD24:BH24,"C 0,5") -> 0 | I24: =COUNTIF(AD24:BH24,"R") -> 0 | J24: =COUNTIF(AD24:BH24,"R 0,5") -> 0 | L24: =COUNTIF(AD24:BH24,"F") -> 0 | M24: =COUNTIF(AD24:BH24,"F 0,5") -> 0 | O24: =COUNTIF(AD24:BH24,"H") -> 0 | P24: =COUNTIF(AD24:BH24,"H 0,5") -> 0 | Q24: =SUM(AD24:BH24) -> 0 | S24: =COUNTIF(AD24:BH24,"E") -> 0 | T24: =COUNTIF(AD24:BH24,"E 0,5") -> 0 | V24: =COUNTIF(AD24:BH24,"A") -> 0 | W24: =COUNTIF(AD24:BH24,"A 0,5") -> 0 | Y24: =COUNTIF(AD24:BH24,"V") -> 0 | Z24: =COUNTIF(AD24:BH24,"V 0,5") -> 0 | AT24: C
B25: =IF(config!B37<>"",config!B37,"") | C25: =IF(config!C37<>"",config!C37,"") | D25: =IF(config!D37<>"",config!D37,"") | F25: =COUNTIF(AD25:BH25,"C") -> 0 | G25: =COUNTIF(AD25:BH25,"C 0,5") -> 0 | I25: =COUNTIF(AD25:BH25,"R") -> 0 | J25: =COUNTIF(AD25:BH25,"R 0,5") -> 0 | L25: =COUNTIF(AD25:BH25,"F") -> 0 | M25: =COUNTIF(AD25:BH25,"F 0,5") -> 0 | O25: =COUNTIF(AD25:BH25,"H") -> 0 | P25: =COUNTIF(AD25:BH25,"H 0,5") -> 0 | Q25: =SUM(AD25:BH25) -> 0 | S25: =COUNTIF(AD25:BH25,"E") -> 0 | T25: =COUNTIF(AD25:BH25,"E 0,5") -> 0 | V25: =COUNTIF(AD25:BH25,"A") -> 0 | W25: =COUNTIF(AD25:BH25,"A 0,5") -> 0 | Y25: =COUNTIF(AD25:BH25,"V") -> 0 | Z25: =COUNTIF(AD25:BH25,"V 0,5") -> 0
B26: =IF(config!B38<>"",config!B38,"") | C26: =IF(config!C38<>"",config!C38,"") | D26: =IF(config!D38<>"",config!D38,"") | F26: =COUNTIF(AD26:BH26,"C") -> 0 | G26: =COUNTIF(AD26:BH26,"C 0,5") -> 0 | I26: =COUNTIF(AD26:BH26,"R") -> 0 | J26: =COUNTIF(AD26:BH26,"R 0,5") -> 0 | L26: =COUNTIF(AD26:BH26,"F") -> 0 | M26: =COUNTIF(AD26:BH26,"F 0,5") -> 0 | O26: =COUNTIF(AD26:BH26,"H") -> 0 | P26: =COUNTIF(AD26:BH26,"H 0,5") -> 0 | Q26: =SUM(AD26:BH26) -> 0 | S26: =COUNTIF(AD26:BH26,"E") -> 0 | T26: =COUNTIF(AD26:BH26,"E 0,5") -> 0 | V26: =COUNTIF(AD26:BH26,"A") -> 0 | W26: =COUNTIF(AD26:BH26,"A 0,5") -> 0 | Y26: =COUNTIF(AD26:BH26,"V") -> 0 | Z26: =COUNTIF(AD26:BH26,"V 0,5") -> 0
B27: =IF(config!B39<>"",config!B39,"") | C27: =IF(config!C39<>"",config!C39,"") | D27: =IF(config!D39<>"",config!D39,"") | G27: =COUNTIF(AD27:BH27,"C 0,5") -> 0 | I27: =COUNTIF(AD27:BH27,"R") -> 0 | J27: =COUNTIF(AD27:BH27,"R 0,5") -> 0 | L27: =COUNTIF(AD27:BH27,"F") -> 0 | M27: =COUNTIF(AD27:BH27,"F 0,5") -> 0 | P27: =COUNTIF(AD27:BH27,"H 0,5") -> 0 | Q27: =SUM(AD27:BH27) -> 0 | S27: =COUNTIF(AD27:BH27,"E") -> 0 | T27: =COUNTIF(AD27:BH27,"E 0,5") -> 0 | V27: =COUNTIF(AD27:BH27,"A") -> 0 | W27: =COUNTIF(AD27:BH27,"A 0,5") -> 0 | Y27: =COUNTIF(AD27:BH27,"V") -> 0 | Z27: =COUNTIF(AD27:BH27,"V 0,5") -> 0 | AE27: H | AR27: C
B28: =IF(config!B40<>"",config!B40,"") | C28: =IF(config!C40<>"",config!C40,"") | D28: =IF(config!D40<>"",config!D40,"") | F28: =COUNTIF(AD28:BH28,"C") -> 0 | G28: =COUNTIF(AD28:BH28,"C 0,5") -> 0 | I28: =COUNTIF(AD28:BH28,"R") -> 0 | J28: =COUNTIF(AD28:BH28,"R 0,5") -> 0 | L28: =COUNTIF(AD28:BH28,"F") -> 0 | M28: =COUNTIF(AD28:BH28,"F 0,5") -> 0 | O28: =COUNTIF(AD28:BH28,"H") -> 0 | P28: =COUNTIF(AD28:BH28,"H 0,5") -> 0 | Q28: =SUM(AD28:BH28) -> 0 | S28: =COUNTIF(AD28:BH28,"E") -> 0 | T28: =COUNTIF(AD28:BH28,"E 0,5") -> 0 | V28: =COUNTIF(AD28:BH28,"A") -> 0 | W28: =COUNTIF(AD28:BH28,"A 0,5") -> 0 | Y28: =COUNTIF(AD28:BH28,"V") -> 0 | Z28: =COUNTIF(AD28:BH28,"V 0,5") -> 0
B29: =IF(config!B41<>"",config!B41,"") | C29: =IF(config!C41<>"",config!C41,"") | D29: =IF(config!D41<>"",config!D41,"") | F29: =COUNTIF(AD29:BH29,"C") -> 0 | G29: =COUNTIF(AD29:BH29,"C 0,5") -> 0 | I29: =COUNTIF(AD29:BH29,"R") -> 0 | J29: =COUNTIF(AD29:BH29,"R 0,5") -> 0 | L29: =COUNTIF(AD29:BH29,"F") -> 0 | M29: =COUNTIF(AD29:BH29,"F 0,5") -> 0 | O29: =COUNTIF(AD29:BH29,"H") -> 0 | P29: =COUNTIF(AD29:BH29,"H 0,5") -> 0 | Q29: =SUM(AD29:BH29) -> 0 | S29: =COUNTIF(AD29:BH29,"E") -> 0 | T29: =COUNTIF(AD29:BH29,"E 0,5") -> 0 | V29: =COUNTIF(AD29:BH29,"A") -> 0 | W29: =COUNTIF(AD29:BH29,"A 0,5") -> 0 | Y29: =COUNTIF(AD29:BH29,"V") -> 0 | Z29: =COUNTIF(AD29:BH29,"V 0,5") -> 0
B30: =IF(config!B42<>"",config!B42,"") | C30: =IF(config!C42<>"",config!C42,"") | D30: =IF(config!D42<>"",config!D42,"") | F30: =COUNTIF(AD30:BH30,"C") -> 0 | G30: =COUNTIF(AD30:BH30,"C 0,5") -> 0 | I30: =COUNTIF(AD30:BH30,"R") -> 0 | J30: =COUNTIF(AD30:BH30,"R 0,5") -> 0 | L30: =COUNTIF(AD30:BH30,"F") -> 0 | M30: =COUNTIF(AD30:BH30,"F 0,5") -> 0 | O30: =COUNTIF(AD30:BH30,"H") -> 0 | P30: =COUNTIF(AD30:BH30,"H 0,5") -> 0 | Q30: =SUM(AD30:BH30) -> 0 | S30: =COUNTIF(AD30:BH30,"E") -> 0 | T30: =COUNTIF(AD30:BH30,"E 0,5") -> 0 | V30: =COUNTIF(AD30:BH30,"A") -> 0 | W30: =COUNTIF(AD30:BH30,"A 0,5") -> 0 | Y30: =COUNTIF(AD30:BH30,"V") -> 0 | Z30: =COUNTIF(AD30:BH30,"V 0,5") -> 0
B31: =IF(config!B43<>"",config!B43,"") | C31: =IF(config!C43<>"",config!C43,"") | D31: =IF(config!D43<>"",config!D43,"") | F31: =COUNTIF(AD31:BH31,"C") -> 0 | G31: =COUNTIF(AD31:BH31,"C 0,5") -> 0 | I31: =COUNTIF(AD31:BH31,"R") -> 0 | J31: =COUNTIF(AD31:BH31,"R 0,5") -> 0 | L31: =COUNTIF(AD31:BH31,"F") -> 0 | M31: =COUNTIF(AD31:BH31,"F 0,5") -> 0 | O31: =COUNTIF(AD31:BH31,"H") -> 0 | P31: =COUNTIF(AD31:BH31,"H 0,5") -> 0 | Q31: =SUM(AD31:BH31) -> 0 | S31: =COUNTIF(AD31:BH31,"E") -> 0 | T31: =COUNTIF(AD31:BH31,"E 0,5") -> 0 | V31: =COUNTIF(AD31:BH31,"A") -> 0 | W31: =COUNTIF(AD31:BH31,"A 0,5") -> 0 | Y31: =COUNTIF(AD31:BH31,"V") -> 0 | Z31: =COUNTIF(AD31:BH31,"V 0,5") -> 0
B32: =IF(config!B44<>"",config!B44,"") | C32: =IF(config!C44<>"",config!C44,"") | D32: =IF(config!D44<>"",config!D44,"") | F32: =COUNTIF(AD32:BH32,"C") -> 0 | G32: =COUNTIF(AD32:BH32,"C 0,5") -> 0 | I32: =COUNTIF(AD32:BH32,"R") -> 0 | J32: =COUNTIF(AD32:BH32,"R 0,5") -> 0 | L32: =COUNTIF(AD32:BH32,"F") -> 0 | M32: =COUNTIF(AD32:BH32,"F 0,5") -> 0 | O32: =COUNTIF(AD32:BH32,"H") -> 0 | P32: =COUNTIF(AD32:BH32,"H 0,5") -> 0 | Q32: =SUM(AD32:BH32) -> 0 | S32: =COUNTIF(AD32:BH32,"E") -> 0 | T32: =COUNTIF(AD32:BH32,"E 0,5") -> 0 | V32: =COUNTIF(AD32:BH32,"A") -> 0 | W32: =COUNTIF(AD32:BH32,"A 0,5") -> 0 | Y32: =COUNTIF(AD32:BH32,"V") -> 0 | Z32: =COUNTIF(AD32:BH32,"V 0,5") -> 0
B33: =IF(config!B45<>"",config!B45,"") | C33: =IF(config!C45<>"",config!C45,"") | D33: =IF(config!D45<>"",config!D45,"") | F33: =COUNTIF(AD33:BH33,"C") -> 2 | G33: =COUNTIF(AD33:BH33,"C 0,5") -> 0 | I33: =COUNTIF(AD33:BH33,"R") -> 1 | J33: =COUNTIF(AD33:BH33,"R 0,5") -> 0 | L33: =COUNTIF(AD33:BH33,"F") -> 0 | M33: =COUNTIF(AD33:BH33,"F 0,5") -> 0 | O33: =COUNTIF(AD33:BH33,"H") -> 0 | P33: =COUNTIF(AD33:BH33,"H 0,5") -> 0 | Q33: =SUM(AD33:BH33) -> 0 | S33: =COUNTIF(AD33:BH33,"E") -> 0 | T33: =COUNTIF(AD33:BH33,"E 0,5") -> 0 | V33: =COUNTIF(AD33:BH33,"A") -> 0 | W33: =COUNTIF(AD33:BH33,"A 0,5") -> 0 | Y33: =COUNTIF(AD33:BH33,"V") -> 0 | Z33: =COUNTIF(AD33:BH33,"V 0,5") -> 0 | AE33: C | AF33: C | AX33: R
B34: =IF(config!B46<>"",config!B46,"") | C34: =IF(config!C46<>"",config!C46,"") | D34: =IF(config!D46<>"",config!D46,"") | F34: =COUNTIF(AD34:BH34,"C") -> 0 | G34: =COUNTIF(AD34:BH34,"C 0,5") -> 0 | I34: =COUNTIF(AD34:BH34,"R") -> 0 | J34: =COUNTIF(AD34:BH34,"R 0,5") -> 0 | L34: =COUNTIF(AD34:BH34,"F") -> 0 | M34: =COUNTIF(AD34:BH34,"F 0,5") -> 0 | O34: =COUNTIF(AD34:BH34,"H") -> 0 | P34: =COUNTIF(AD34:BH34,"H 0,5") -> 0 | Q34: =SUM(AD34:BH34) -> 0 | S34: =COUNTIF(AD34:BH34,"E") -> 0 | T34: =COUNTIF(AD34:BH34,"E 0,5") -> 0 | V34: =COUNTIF(AD34:BH34,"A") -> 0 | W34: =COUNTIF(AD34:BH34,"A 0,5") -> 0 | Y34: =COUNTIF(AD34:BH34,"V") -> 0 | Z34: =COUNTIF(AD34:BH34,"V 0,5") -> 0
B35: =IF(config!B47<>"",config!B47,"") | C35: =IF(config!C47<>"",config!C47,"") | D35: =IF(config!D47<>"",config!D47,"") | F35: =COUNTIF(AD35:BH35,"C") -> 0 | G35: =COUNTIF(AD35:BH35,"C 0,5") -> 0 | I35: =COUNTIF(AD35:BH35,"R") -> 0 | J35: =COUNTIF(AD35:BH35,"R 0,5") -> 0 | L35: =COUNTIF(AD35:BH35,"F") -> 0 | M35: =COUNTIF(AD35:BH35,"F 0,5") -> 0 | O35: =COUNTIF(AD35:BH35,"H") -> 0 | P35: =COUNTIF(AD35:BH35,"H 0,5") -> 0 | Q35: =SUM(AD35:BH35) -> 0 | S35: =COUNTIF(AD35:BH35,"E") -> 0 | T35: =COUNTIF(AD35:BH35,"E 0,5") -> 0 | V35: =COUNTIF(AD35:BH35,"A") -> 0 | W35: =COUNTIF(AD35:BH35,"A 0,5") -> 0 | Y35: =COUNTIF(AD35:BH35,"V") -> 0 | Z35: =COUNTIF(AD35:BH35,"V 0,5") -> 0
B36: =IF(config!B48<>"",config!B48,"") | C36: =IF(config!C48<>"",config!C48,"") | D36: =IF(config!D48<>"",config!D48,"") | F36: =COUNTIF(AD36:BH36,"C") -> 0 | G36: =COUNTIF(AD36:BH36,"C 0,5") -> 0 | I36: =COUNTIF(AD36:BH36,"R") -> 0 | J36: =COUNTIF(AD36:BH36,"R 0,5") -> 0 | L36: =COUNTIF(AD36:BH36,"F") -> 0 | M36: =COUNTIF(AD36:BH36,"F 0,5") -> 0 | O36: =COUNTIF(AD36:BH36,"H") -> 0 | P36: =COUNTIF(AD36:BH36,"H 0,5") -> 0 | Q36: =SUM(AD36:BH36) -> 0 | S36: =COUNTIF(AD36:BH36,"E") -> 0 | T36: =COUNTIF(AD36:BH36,"E 0,5") -> 0 | V36: =COUNTIF(AD36:BH36,"A") -> 0 | W36: =COUNTIF(AD36:BH36,"A 0,5") -> 0 | Y36: =COUNTIF(AD36:BH36,"V") -> 0 | Z36: =COUNTIF(AD36:BH36,"V 0,5") -> 0
B37: =IF(config!B49<>"",config!B49,"") | C37: =IF(config!C49<>"",config!C49,"") | D37: =IF(config!D49<>"",config!D49,"") | F37: =COUNTIF(AD37:BH37,"C") -> 0 | G37: =COUNTIF(AD37:BH37,"C 0,5") -> 0 | I37: =COUNTIF(AD37:BH37,"R") -> 0 | J37: =COUNTIF(AD37:BH37,"R 0,5") -> 0 | L37: =COUNTIF(AD37:BH37,"F") -> 0 | M37: =COUNTIF(AD37:BH37,"F 0,5") -> 0 | O37: =COUNTIF(AD37:BH37,"H") -> 0 | P37: =COUNTIF(AD37:BH37,"H 0,5") -> 0 | Q37: =SUM(AD37:BH37) -> 0 | S37: =COUNTIF(AD37:BH37,"E") -> 0 | T37: =COUNTIF(AD37:BH37,"E 0,5") -> 0 | V37: =COUNTIF(AD37:BH37,"A") -> 0 | W37: =COUNTIF(AD37:BH37,"A 0,5") -> 0 | Y37: =COUNTIF(AD37:BH37,"V") -> 0 | Z37: =COUNTIF(AD37:BH37,"V 0,5") -> 0
B38: =IF(config!B50<>"",config!B50,"") | C38: =IF(config!C50<>"",config!C50,"") | D38: =IF(config!D50<>"",config!D50,"") | F38: =COUNTIF(AD38:BH38,"C") -> 0 | G38: =COUNTIF(AD38:BH38,"C 0,5") -> 0 | I38: =COUNTIF(AD38:BH38,"R") -> 0 | J38: =COUNTIF(AD38:BH38,"R 0,5") -> 0 | L38: =COUNTIF(AD38:BH38,"F") -> 0 | M38: =COUNTIF(AD38:BH38,"F 0,5") -> 0 | O38: =COUNTIF(AD38:BH38,"H") -> 0 | P38: =COUNTIF(AD38:BH38,"H 0,5") -> 0 | Q38: =SUM(AD38:BH38) -> 0 | S38: =COUNTIF(AD38:BH38,"E") -> 0 | T38: =COUNTIF(AD38:BH38,"E 0,5") -> 0 | V38: =COUNTIF(AD38:BH38,"A") -> 0 | W38: =COUNTIF(AD38:BH38,"A 0,5") -> 0 | Y38: =COUNTIF(AD38:BH38,"V") -> 0 | Z38: =COUNTIF(AD38:BH38,"V 0,5") -> 0
B39: =IF(config!B51<>"",config!B51,"") | C39: =IF(config!C51<>"",config!C51,"") | D39: =IF(config!D51<>"",config!D51,"") | F39: =COUNTIF(AD39:BH39,"C") -> 0 | G39: =COUNTIF(AD39:BH39,"C 0,5") -> 0 | I39: =COUNTIF(AD39:BH39,"R") -> 0 | J39: =COUNTIF(AD39:BH39,"R 0,5") -> 0 | L39: =COUNTIF(AD39:BH39,"F") -> 0 | M39: =COUNTIF(AD39:BH39,"F 0,5") -> 0 | O39: =COUNTIF(AD39:BH39,"H") -> 0 | P39: =COUNTIF(AD39:BH39,"H 0,5") -> 0 | Q39: =SUM(AD39:BH39) -> 0 | S39: =COUNTIF(AD39:BH39,"E") -> 0 | T39: =COUNTIF(AD39:BH39,"E 0,5") -> 0 | V39: =COUNTIF(AD39:BH39,"A") -> 0 | W39: =COUNTIF(AD39:BH39,"A 0,5") -> 0 | Y39: =COUNTIF(AD39:BH39,"V") -> 0 | Z39: =COUNTIF(AD39:BH39,"V 0,5") -> 0
B40: =IF(config!B52<>"",config!B52,"") | C40: =IF(config!C52<>"",config!C52,"") | D40: =IF(config!D52<>"",config!D52,"") | F40: =COUNTIF(AD40:BH40,"C") -> 0 | G40: =COUNTIF(AD40:BH40,"C 0,5") -> 0 | I40: =COUNTIF(AD40:BH40,"R") -> 1 | J40: =COUNTIF(AD40:BH40,"R 0,5") -> 0 | L40: =COUNTIF(AD40:BH40,"F") -> 0 | M40: =COUNTIF(AD40:BH40,"F 0,5") -> 0 | O40: =COUNTIF(AD40:BH40,"H") -> 0 | P40: =COUNTIF(AD40:BH40,"H 0,5") -> 0 | Q40: =SUM(AD40:BH40) -> 0 | S40: =COUNTIF(AD40:BH40,"E") -> 0 | T40: =COUNTIF(AD40:BH40,"E 0,5") -> 0 | V40: =COUNTIF(AD40:BH40,"A") -> 0 | W40: =COUNTIF(AD40:BH40,"A 0,5") -> 0 | Y40: =COUNTIF(AD40:BH40,"V") -> 0 | Z40: =COUNTIF(AD40:BH40,"V 0,5") -> 0 | AM40: R
B41: =IF(config!B53<>"",config!B53,"") | C41: =IF(config!C53<>"",config!C53,"") | D41: =IF(config!D53<>"",config!D53,"") | F41: =COUNTIF(AD41:BH41,"C") -> 0 | G41: =COUNTIF(AD41:BH41,"C 0,5") -> 0 | I41: =COUNTIF(AD41:BH41,"R") -> 0 | J41: =COUNTIF(AD41:BH41,"R 0,5") -> 0 | L41: =COUNTIF(AD41:BH41,"F") -> 0 | M41: =COUNTIF(AD41:BH41,"F 0,5") -> 0 | O41: =COUNTIF(AD41:BH41,"H") -> 0 | P41: =COUNTIF(AD41:BH41,"H 0,5") -> 0 | Q41: =SUM(AD41:BH41) -> 0 | S41: =COUNTIF(AD41:BH41,"E") -> 0 | T41: =COUNTIF(AD41:BH41,"E 0,5") -> 0 | V41: =COUNTIF(AD41:BH41,"A") -> 0 | W41: =COUNTIF(AD41:BH41,"A 0,5") -> 0 | Y41: =COUNTIF(AD41:BH41,"V") -> 0 | Z41: =COUNTIF(AD41:BH41,"V 0,5") -> 0
B42: =IF(config!B54<>"",config!B54,"") | C42: =IF(config!C54<>"",config!C54,"") | D42: =IF(config!D54<>"",config!D54,"") | F42: =COUNTIF(AD42:BH42,"C") -> 2 | G42: =COUNTIF(AD42:BH42,"C 0,5") -> 0 | I42: =COUNTIF(AD42:BH42,"R") -> 0 | J42: =COUNTIF(AD42:BH42,"R 0,5") -> 0 | L42: =COUNTIF(AD42:BH42,"F") -> 0 | M42: =COUNTIF(AD42:BH42,"F 0,5") -> 0 | O42: =COUNTIF(AD42:BH42,"H") -> 0 | P42: =COUNTIF(AD42:BH42,"H 0,5") -> 0 | Q42: =SUM(AD42:BH42) -> 0 | S42: =COUNTIF(AD42:BH42,"E") -> 0 | T42: =COUNTIF(AD42:BH42,"E 0,5") -> 0 | V42: =COUNTIF(AD42:BH42,"A") -> 0 | W42: =COUNTIF(AD42:BH42,"A 0,5") -> 0 | Y42: =COUNTIF(AD42:BH42,"V") -> 0 | Z42: =COUNTIF(AD42:BH42,"V 0,5") -> 0 | AE42: C | AF42: C
...

Sheet Totaux 2025
B2: Totaux congés du personnel 2025
F4: Congé | I4: RTT | L4: Fractionné | O4: Heures de récup. | S4: CET | V4: ASA | Y4: Congé volant
B6: Nom | C6: Temps de travail | D6: Service | F6: C | G6: C 0,5 | H6: Colonne5 | I6: R | J6: R 0,5 | K6: Colonne6 | L6: F | M6: F 0,5 | N6: Colonne4 | O6: H | P6: H 0,5 | Q6: H heures et min. | R6: Colonne3 | S6: E | T6: E 0,5 | U6: Colonne2 | V6: A | W6: A 0,5 | X6: Colonne1 | Y6: V | Z6: V 0,5
B7: =IF(config!B25<>"",config!B25,"") -> Paul | C7: =IF(config!C25<>"",config!C25,"") -> Selon contrat | D7: =IF(config!D25<>"",config!D25,"") -> Familial | F7: =SUM(Janvier!F13+#REF!+#REF!+#REF!+#REF!+#REF!+#REF!+#REF!+#REF!+#REF!+#REF!+#REF!) -> #REF! | G7: =SUM(Janvier!G13+#REF!+#REF!+#REF!+#REF!+#REF!+#REF!+#REF!+#REF!+#REF!+#REF!+#REF!) -> #REF! | I7: =SUM(Janvier!I13+#REF!+#REF!+#REF!+#REF!+#REF!+#REF!+#REF!+#REF!+#REF!+#REF!+#REF!) -> #REF! | J7: =SUM(Janvier!J13+#REF!+#REF!+#REF!+#REF!+#REF!+#REF!+#REF!+#REF!+#REF!+#REF!+#REF!) -> #REF! | L7: =SUM(Janvier!L13+#REF!+#REF!+#REF!+#REF!+#REF!+#REF!+#REF!+#REF!+#REF!+#REF!+#REF!) -> #REF! | M7: =SUM(Janvier!M13+#REF!+#REF!+#REF!+#REF!+#REF!+#REF!+#REF!+#REF!+#REF!+#REF!+#REF!) -> #REF! | O7: =SUM(Janvier!O13+#REF!+#REF!+#REF!+#REF!+#REF!+#REF!+#REF!+#REF!+#REF!+#REF!+#REF!) -> #REF! | P7: =SUM(Janvier!P13+#REF!+#REF!+#REF!+#REF!+#REF!+#REF!+#REF!+#REF!+#REF!+#REF!+#REF!) -> #REF! | Q7: =SUM(Janvier!Q13+#REF!+#REF!+#REF!+#REF!+#REF!+#REF!+#REF!+#REF!+#REF!+#REF!+#REF!) -> #REF! | S7: =SUM(Janvier!S13+#REF!+#REF!+#REF!+#REF!+#REF!+#REF!+#REF!+#REF!+#REF!+#REF!+#REF!) -> #REF! | T7: =SUM(Janvier!T13+#REF!+#REF!+#REF!+#REF!+#REF!+#REF!+#REF!+#REF!+#REF!+#REF!+#REF!) -> #REF! | V7: =SUM(Janvier!V13+#REF!+#REF!+#REF!+#REF!+#REF!+#REF!+#REF!+#REF!+#REF!+#REF!+#REF!) -> #REF! | W7: =SUM(Janvier!W13+#REF!+#REF!+#REF!+#REF!+#REF!+#REF!+#REF!+#REF!+#REF!+#REF!+#REF!) -> #REF! | Y7: =SUM(Janvier!Y13+#REF!+#REF!+#REF!+#REF!+#REF!+#REF!+#REF!+#REF!+#REF!+#REF!+#REF!) -> #REF! | Z7: =SUM(Janvier!Z13+#REF!+#REF!+#REF!+#REF!+#REF!+#REF!+#REF!+#REF!+#REF!+#REF!+#REF!) -> #REF!
B8: =IF(config!B26<>"",config!B26,"") -> jacques | C8: =IF(config!C26<>"",config!C26,"") -> Temps plein | D8: =IF(config!D26<>"",config!D26,"") -> Cuisine / Entretien | F8: =SUM(Janvier!F14+#REF!+#REF!+#REF!+#REF!+#REF!+#REF!+#REF!+#REF!+#REF!+#REF!+#REF!) -> #REF! | G8: =SUM(Janvier!G14+#REF!+#REF!+#REF!+#REF!+#REF!+#REF!+#REF!+#REF!+#REF!+#REF!+#REF!) -> #REF! | I8: =SUM(Janvier!I14+#REF!+#REF!+#REF!+#REF!+#REF!+#REF!+#REF!+#REF!+#REF!+#REF!+#REF!) -> #REF! | J8: =SUM(Janvier!J14+#REF!+#REF!+#REF!+#REF!+#REF!+#REF!+#REF!+#REF!+#REF!+#REF!+#REF!) -> #REF! | L8: =SUM(Janvier!L14+#REF!+#REF!+#REF!+#REF!+#REF!+#REF!+#REF!+#REF!+#REF!+#REF!+#REF!) -> #REF! | M8: =SUM(Janvier!M14+#REF!+#REF!+#REF!+#REF!+#REF!+#REF!+#REF!+#REF!+#REF!+#REF!+#REF!) -> #REF! | O8: =SUM(Janvier!O14+#REF!+#REF!+#REF!+#REF!+#REF!+#REF!+#REF!+#REF!+#REF!+#REF!+#REF!) -> #REF! | P8: =SUM(Janvier!P14+#REF!+#REF!+#REF!+#REF!+#REF!+#REF!+#REF!+#REF!+#REF!+#REF!+#REF!) -> #REF! | Q8: =SUM(Janvier!Q14+#REF!+#REF!+#REF!+#REF!+#REF!+#REF!+#REF!+#REF!+#REF!+#REF!+#REF!) -> #REF! | S8: =SUM(Janvier!S14+#REF!+#REF!+#REF!+#REF!+#REF!+#REF!+#REF!+#REF!+#REF!+#REF!+#REF!) -> #REF! | T8: =SUM(Janvier!T14+#REF!+#REF!+#REF!+#REF!+#REF!+#REF!+#REF!+#REF!+#REF!+#REF!+#REF!) -> #REF! | V8: =SUM(Janvier!V14+#REF!+#REF!+#REF!+#REF!+#REF!+#REF!+#REF!+#REF!+#REF!+#REF!+#REF!) -> #REF! | W8: =SUM(Janvier!W14+#REF!+#REF!+#REF!+#REF!+#REF!+#REF!+#REF!+#REF!+#REF!+#REF!+#REF!) -> #REF! | Y8: =SUM(Janvier!Y14+#REF!+#REF!+#REF!+#REF!+#REF!+#REF!+#REF!+#REF!+#REF!+#REF!+#REF!) -> #REF! | Z8: =SUM(Janvier!Z14+#REF!+#REF!+#REF!+#REF!+#REF!+#REF!+#REF!+#REF!+#REF!+#REF!+#REF!) -> #REF!
B9: =IF(config!B27<>"",config!B27,"") -> Antoine | C9: =IF(config!C27<>"",config!C27,"") -> Temps plein | D9: =IF(config!D27<>"",config!D27,"") -> Lutins | F9: =SUM(Janvier!F15+#REF!+#REF!+#REF!+#REF!+#REF!+#REF!+#REF!+#REF!+#REF!+#REF!+#REF!) -> #REF! | G9: =SUM(Janvier!G15+#REF!+#REF!+#REF!+#REF!+#REF!+#REF!+#REF!+#REF!+#REF!+#REF!+#REF!) -> #REF! | I9: =SUM(Janvier!I15+#REF!+#REF!+#REF!+#REF!+#REF!+#REF!+#REF!+#REF!+#REF!+#REF!+#REF!) -> #REF! | J9: =SUM(Janvier!J15+#REF!+#REF!+#REF!+#REF!+#REF!+#REF!+#REF!+#REF!+#REF!+#REF!+#REF!) -> #REF! | L9: =SUM(Janvier!L15+#REF!+#REF!+#REF!+#REF!+#REF!+#REF!+#REF!+#REF!+#REF!+#REF!+#REF!) -> #REF! | M9: =SUM(Janvier!M15+#REF!+#REF!+#REF!+#REF!+#REF!+#REF!+#REF!+#REF!+#REF!+#REF!+#REF!) -> #REF! | O9: =SUM(Janvier!O15+#REF!+#REF!+#REF!+#REF!+#REF!+#REF!+#REF!+#REF!+#REF!+#REF!+#REF!) -> #REF! | P9: =SUM(Janvier!P15+#REF!+#REF!+#REF!+#REF!+#REF!+#REF!+#REF!+#REF!+#REF!+#REF!+#REF!) -> #REF! | Q9: =SUM(Janvier!Q15+#REF!+#REF!+#REF!+#REF!+#REF!+#REF!+#REF!+#REF!+#REF!+#REF!+#REF!) -> #REF! | S9: =SUM(Janvier!S15+#REF!+#REF!+#REF!+#REF!+#REF!+#REF!+#REF!+#REF!+#REF!+#REF!+#REF!) -> #REF! | T9: =SUM(Janvier!T15+#REF!+#REF!+#REF!+#REF!+#REF!+#REF!+#REF!+#REF!+#REF!+#REF!+#REF!) -> #REF! | V9: =SUM(Janvier!V15+#REF!+#REF!+#REF!+#REF!+#REF!+#REF!+#REF!+#REF!+#REF!+#REF!+#REF!) -> #REF! | W9: =SUM(Janvier!W15+#REF!+#REF!+#REF!+#REF!+#REF!+#REF!+#REF!+#REF!+#REF!+#REF!+#REF!) -> #REF! | Y9: =SUM(Janvier!Y15+#REF!+#REF!+#REF!+#REF!+#REF!+#REF!+#REF!+#REF!+#REF!+#REF!+#REF!) -> #REF! | Z9: =SUM(Janvier!Z15+#REF!+#REF!+#REF!+#REF!+#REF!+#REF!+#REF!+#REF!+#REF!+#REF!+#REF!) -> #REF!
B10: =IF(config!B28<>"",config!B28,"") -> Justine | C10: =IF(config!C28<>"",config!C28,"") -> Temps plein | D10: =IF(config!D28<>"",config!D28,"") -> Bout'choux | F10: =SUM(Janvier!F16+#REF!+#REF!+#REF!+#REF!+#REF!+#REF!+#REF!+#REF!+#REF!+#REF!+#REF!) -> #REF! | G10: =SUM(Janvier!G16+#REF!+#REF!+#REF!+#REF!+#REF!+#REF!+#REF!+#REF!+#REF!+#REF!+#REF!) -> #REF! | I10: =SUM(Janvier!I16+#REF!+#REF!+#REF!+#REF!+#REF!+#REF!+#REF!+#REF!+#REF!+#REF!+#REF!) -> #REF! | J10: =SUM(Janvier!J16+#REF!+#REF!+#REF!+#REF!+#REF!+#REF!+#REF!+#REF!+#REF!+#REF!+#REF!) -> #REF! | L10: =SUM(Janvier!L16+#REF!+#REF!+#REF!+#REF!+#REF!+#REF!+#REF!+#REF!+#REF!+#REF!+#REF!) -> #REF! | M10: =SUM(Janvier!M16+#REF!+#REF!+#REF!+#REF!+#REF!+#REF!+#REF!+#REF!+#REF!+#REF!+#REF!) -> #REF! | O10: =SUM(Janvier!O16+#REF!+#REF!+#REF!+#REF!+#REF!+#REF!+#REF!+#REF!+#REF!+#REF!+#REF!) -> #REF! | P10: =SUM(Janvier!P16+#REF!+#REF!+#REF!+#REF!+#REF!+#REF!+#REF!+#REF!+#REF!+#REF!+#REF!) -> #REF! | Q10: =SUM(Janvier!Q16+#REF!+#REF!+#REF!+#REF!+#REF!+#REF!+#REF!+#REF!+#REF!+#REF!+#REF!) -> #REF! | S10: =SUM(Janvier!S16+#REF!+#REF!+#REF!+#REF!+#REF!+#REF!+#REF!+#REF!+#REF!+#REF!+#REF!) -> #REF! | T10: =SUM(Janvier!T16+#REF!+#REF!+#REF!+#REF!+#REF!+#REF!+#REF!+#REF!+#REF!+#REF!+#REF!) -> #REF! | V10: =SUM(Janvier!V16+#REF!+#REF!+#REF!+#REF!+#REF!+#REF!+#REF!+#REF!+#REF!+#REF!+#REF!) -> #REF! | W10: =SUM(Janvier!W16+#REF!+#REF!+#REF!+#REF!+#REF!+#REF!+#REF!+#REF!+#REF!+#REF!+#REF!) -> #REF! | Y10: =SUM(Janvier!Y16+#REF!+#REF!+#REF!+#REF!+#REF!+#REF!+#REF!+#REF!+#REF!+#REF!+#REF!) -> #REF! | Z10: =SUM(Janvier!Z16+#REF!+#REF!+#REF!+#REF!+#REF!+#REF!+#REF!+#REF!+#REF!+#REF!+#REF!) -> #REF!
B11: =IF(config!B29<>"",config!B29,"") -> ariel | C11: =IF(config!C29<>"",config!C29,"") -> Temps plein | D11: =IF(config!D29<>"",config!D29,"") -> Calinoux | F11: =SUM(Janvier!F17+#REF!+#REF!+#REF!+#REF!+#REF!+#REF!+#REF!+#REF!+#REF!+#REF!+#REF!) -> #REF! | G11: =SUM(Janvier!G17+#REF!+#REF!+#REF!+#REF!+#REF!+#REF!+#REF!+#REF!+#REF!+#REF!+#REF!) -> #REF! | I11: =SUM(Janvier!I17+#REF!+#REF!+#REF!+#REF!+#REF!+#REF!+#REF!+#REF!+#REF!+#REF!+#REF!) -> #REF! | J11: =SUM(Janvier!J17+#REF!+#REF!+#REF!+#REF!+#REF!+#REF!+#REF!+#REF!+#REF!+#REF!+#REF!) -> #REF! | L11: =SUM(Janvier!L17+#REF!+#REF!+#REF!+#REF!+#REF!+#REF!+#REF!+#REF!+#REF!+#REF!+#REF!) -> #REF! | M11: =SUM(Janvier!M17+#REF!+#REF!+#REF!+#REF!+#REF!+#REF!+#REF!+#REF!+#REF!+#REF!+#REF!) -> #REF! | O11: =SUM(Janvier!O17+#REF!+#REF!+#REF!+#REF!+#REF!+#REF!+#REF!+#REF!+#REF!+#REF!+#REF!) -> #REF! | P11: =SUM(Janvier!P17+#REF!+#REF!+#REF!+#REF!+#REF!+#REF!+#REF!+#REF!+#REF!+#REF!+#REF!) -> #REF! | Q11: =SUM(Janvier!Q17+#REF!+#REF!+#REF!+#REF!+#REF!+#REF!+#REF!+#REF!+#REF!+#REF!+#REF!) -> #REF! | S11: =SUM(Janvier!S17+#REF!+#REF!+#REF!+#REF!+#REF!+#REF!+#REF!+#REF!+#REF!+#REF!+#REF!) -> #REF! | T11: =SUM(Janvier!T17+#REF!+#REF!+#REF!+#REF!+#REF!+#REF!+#REF!+#REF!+#REF!+#REF!+#REF!) -> #REF! | V11: =SUM(Janvier!V17+#REF!+#REF!+#REF!+#REF!+#REF!+#REF!+#REF!+#REF!+#REF!+#REF!+#REF!) -> #REF! | W11: =SUM(Janvier!W17+#REF!+#REF!+#REF!+#REF!+#REF!+#REF!+#REF!+#REF!+#REF!+#REF!+#REF!) -> #REF! | Y11: =SUM(Janvier!Y17+#REF!+#REF!+#REF!+#REF!+#REF!+#REF!+#REF!+#REF!+#REF!+#REF!+#REF!) -> #REF! | Z11: =SUM(Janvier!Z17+#REF!+#REF!+#REF!+#REF!+#REF!+#REF!+#REF!+#REF!+#REF!+#REF!+#REF!) -> #REF!
B12: =IF(config!B30<>"",config!B30,"") -> Sebastien | C12: =IF(config!C30<>"",config!C30,"") -> 80% mercredi | D12: =IF(config!D30<>"",config!D30,"") -> Ile | F12: =SUM(Janvier!F18+#REF!+#REF!+#REF!+#REF!+#REF!+#REF!+#REF!+#REF!+#REF!+#REF!+#REF!) -> #REF! | G12: =SUM(Janvier!G18+#REF!+#REF!+#REF!+#REF!+#REF!+#REF!+#REF!+#REF!+#REF!+#REF!+#REF!) -> #REF! | I12: =SUM(Janvier!I18+#REF!+#REF!+#REF!+#REF!+#REF!+#REF!+#REF!+#REF!+#REF!+#REF!+#REF!) -> #REF! | J12: =SUM(Janvier!J18+#REF!+#REF!+#REF!+#REF!+#REF!+#REF!+#REF!+#REF!+#REF!+#REF!+#REF!) -> #REF! | L12: =SUM(Janvier!L18+#REF!+#REF!+#REF!+#REF!+#REF!+#REF!+#REF!+#REF!+#REF!+#REF!+#REF!) -> #REF! | M12: =SUM(Janvier!M18+#REF!+#REF!+#REF!+#REF!+#REF!+#REF!+#REF!+#REF!+#REF!+#REF!+#REF!) -> #REF! | O12: =SUM(Janvier!O18+#REF!+#REF!+#REF!+#REF!+#REF!+#REF!+#REF!+#REF!+#REF!+#REF!+#REF!) -> #REF! | P12: =SUM(Janvier!P18+#REF!+#REF!+#REF!+#REF!+#REF!+#REF!+#REF!+#REF!+#REF!+#REF!+#REF!) -> #REF! | Q12: =SUM(Janvier!Q18+#REF!+#REF!+#REF!+#REF!+#REF!+#REF!+#REF!+#REF!+#REF!+#REF!+#REF!) -> #REF! | S12: =SUM(Janvier!S18+#REF!+#REF!+#REF!+#REF!+#REF!+#REF!+#REF!+#REF!+#REF!+#REF!+#REF!) -> #REF! | T12: =SUM(Janvier!T18+#REF!+#REF!+#REF!+#REF!+#REF!+#REF!+#REF!+#REF!+#REF!+#REF!+#REF!) -> #REF! | V12: =SUM(Janvier!V18+#REF!+#REF!+#REF!+#REF!+#REF!+#REF!+#REF!+#REF!+#REF!+#REF!+#REF!) -> #REF! | W12: =SUM(Janvier!W18+#REF!+#REF!+#REF!+#REF!+#REF!+#REF!+#REF!+#REF!+#REF!+#REF!+#REF!) -> #REF! | Y12: =SUM(Janvier!Y18+#REF!+#REF!+#REF!+#REF!+#REF!+#REF!+#REF!+#REF!+#REF!+#REF!+#REF!) -> #REF! | Z12: =SUM(Janvier!Z18+#REF!+#REF!+#REF!+#REF!+#REF!+#REF!+#REF!+#REF!+#REF!+#REF!+#REF!) -> #REF!
B13: =IF(config!B31<>"",config!B31,"") -> Rachide | C13: =IF(config!C31<>"",config!C31,"") -> Temps plein | D13: =IF(config!D31<>"",config!D31,"") -> Ile | F13: =SUM(Janvier!F19+#REF!+#REF!+#REF!+#REF!+#REF!+#REF!+#REF!+#REF!+#REF!+#REF!+#REF!) -> #REF! | G13: =SUM(Janvier!G19+#REF!+#REF!+#REF!+#REF!+#REF!+#REF!+#REF!+#REF!+#REF!+#REF!+#REF!) -> #REF! | I13: =SUM(Janvier!I19+#REF!+#REF!+#REF!+#REF!+#REF!+#REF!+#REF!+#REF!+#REF!+#REF!+#REF!) -> #REF! | J13: =SUM(Janvier!J19+#REF!+#REF!+#REF!+#REF!+#REF!+#REF!+#REF!+#REF!+#REF!+#REF!+#REF!) -> #REF! | L13: =SUM(Janvier!L19+#REF!+#REF!+#REF!+#REF!+#REF!+#REF!+#REF!+#REF!+#REF!+#REF!+#REF!) -> #REF! | M13: =SUM(Janvier!M19+#REF!+#REF!+#REF!+#REF!+#REF!+#REF!+#REF!+#REF!+#REF!+#REF!+#REF!) -> #REF! | O13: =SUM(Janvier!O19+#REF!+#REF!+#REF!+#REF!+#REF!+#REF!+#REF!+#REF!+#REF!+#REF!+#REF!) -> #REF! | P13: =SUM(Janvier!P19+#REF!+#REF!+#REF!+#REF!+#REF!+#REF!+#REF!+#REF!+#REF!+#REF!+#REF!) -> #REF! | Q13: =SUM(Janvier!Q19+#REF!+#REF!+#REF!+#REF!+#REF!+#REF!+#REF!+#REF!+#REF!+#REF!+#REF!) -> #REF! | S13: =SUM(Janvier!S19+#REF!+#REF!+#REF!+#REF!+#REF!+#REF!+#REF!+#REF!+#REF!+#REF!+#REF!) -> #REF! | T13: =SUM(Janvier!T19+#REF!+#REF!+#REF!+#REF!+#REF!+#REF!+#REF!+#REF!+#REF!+#REF!+#REF!) -> #REF! | V13: =SUM(Janvier!V19+#REF!+#REF!+#REF!+#REF!+#REF!+#REF!+#REF!+#REF!+#REF!+#REF!+#REF!) -> #REF! | W13: =SUM(Janvier!W19+#REF!+#REF!+#REF!+#REF!+#REF!+#REF!+#REF!+#REF!+#REF!+#REF!+#REF!) -> #REF! | Y13: =SUM(Janvier!Y19+#REF!+#REF!+#REF!+#REF!+#REF!+#REF!+#REF!+#REF!+#REF!+#REF!+#REF!) -> #REF! | Z13: =SUM(Janvier!Z19+#REF!+#REF!+#REF!+#REF!+#REF!+#REF!+#REF!+#REF!+#REF!+#REF!+#REF!) -> #REF!
B14: =IF(config!B32<>"",config!B32,"") -> Julie | C14: =IF(config!C32<>"",config!C32,"") -> Selon contrat | D14: =IF(config!D32<>"",config!D32,"") -> Familial | F14: =SUM(Janvier!F20+#REF!+#REF!+#REF!+#REF!+#REF!+#REF!+#REF!+#REF!+#REF!+#REF!+#REF!) -> #REF! | G14: =SUM(Janvier!G20+#REF!+#REF!+#REF!+#REF!+#REF!+#REF!+#REF!+#REF!+#REF!+#REF!+#REF!) -> #REF! | I14: =SUM(Janvier!I20+#REF!+#REF!+#REF!+#REF!+#REF!+#REF!+#REF!+#REF!+#REF!+#REF!+#REF!) -> #REF! | J14: =SUM(Janvier!J20+#REF!+#REF!+#REF!+#REF!+#REF!+#REF!+#REF!+#REF!+#REF!+#REF!+#REF!) -> #REF! | L14: =SUM(Janvier!L20+#REF!+#REF!+#REF!+#REF!+#REF!+#REF!+#REF!+#REF!+#REF!+#REF!+#REF!) -> #REF! | M14: =SUM(Janvier!M20+#REF!+#REF!+#REF!+#REF!+#REF!+#REF!+#REF!+#REF!+#REF!+#REF!+#REF!) -> #REF! | O14: =SUM(Janvier!O20+#REF!+#REF!+#REF!+#REF!+#REF!+#REF!+#REF!+#REF!+#REF!+#REF!+#REF!) -> #REF! | P14: =SUM(Janvier!P20+#REF!+#REF!+#REF!+#REF!+#REF!+#REF!+#REF!+#REF!+#REF!+#REF!+#REF!) -> #REF! | Q14: =SUM(Janvier!Q20+#REF!+#REF!+#REF!+#REF!+#REF!+#REF!+#REF!+#REF!+#REF!+#REF!+#REF!) -> #REF! | S14: =SUM(Janvier!S20+#REF!+#REF!+#REF!+#REF!+#REF!+#REF!+#REF!+#REF!+#REF!+#REF!+#REF!) -> #REF! | T14: =SUM(Janvier!T20+#REF!+#REF!+#REF!+#REF!+#REF!+#REF!+#REF!+#REF!+#REF!+#REF!+#REF!) -> #REF! | V14: =SUM(Janvier!V20+#REF!+#REF!+#REF!+#REF!+#REF!+#REF!+#REF!+#REF!+#REF!+#REF!+#REF!) -> #REF! | W14: =SUM(Janvier!W20+#REF!+#REF!+#REF!+#REF!+#REF!+#REF!+#REF!+#REF!+#REF!+#REF!+#REF!) -> #REF! | Y14: =SUM(Janvier!Y20+#REF!+#REF!+#REF!+#REF!+#REF!+#REF!+#REF!+#REF!+#REF!+#REF!+#REF!) -> #REF! | Z14: =SUM(Janvier!Z20+#REF!+#REF!+#REF!+#REF!+#REF!+#REF!+#REF!+#REF!+#REF!+#REF!+#REF!) -> #REF!
B15: =IF(config!B33<>"",config!B33,"") -> Maryam | C15: =IF(config!C33<>"",config!C33,"") -> Mi tps : M, J (mat) et V | D15: =IF(config!D33<>"",config!D33,"") -> Lutins | F15: =SUM(Janvier!F21+#REF!+#REF!+#REF!+#REF!+#REF!+#REF!+#REF!+#REF!+#REF!+#REF!+#REF!) -> #REF! | G15: =SUM(Janvier!G21+#REF!+#REF!+#REF!+#REF!+#REF!+#REF!+#REF!+#REF!+#REF!+#REF!+#REF!) -> #REF! | I15: =SUM(Janvier!I21+#REF!+#REF!+#REF!+#REF!+#REF!+#REF!+#REF!+#REF!+#REF!+#REF!+#REF!) -> #REF! | J15: =SUM(Janvier!J21+#REF!+#REF!+#REF!+#REF!+#REF!+#REF!+#REF!+#REF!+#REF!+#REF!+#REF!) -> #REF! | L15: =SUM(Janvier!L21+#REF!+#REF!+#REF!+#REF!+#REF!+#REF!+#REF!+#REF!+#REF!+#REF!+#REF!) -> #REF! | M15: =SUM(Janvier!M21+#REF!+#REF!+#REF!+#REF!+#REF!+#REF!+#REF!+#REF!+#REF!+#REF!+#REF!) -> #REF! | O15: =SUM(Janvier!O21+#REF!+#REF!+#REF!+#REF!+#REF!+#REF!+#REF!+#REF!+#REF!+#REF!+#REF!) -> #REF! | P15: =SUM(Janvier!P21+#REF!+#REF!+#REF!+#REF!+#REF!+#REF!+#REF!+#REF!+#REF!+#REF!+#REF!) -> #REF! | Q15: =SUM(Janvier!Q21+#REF!+#REF!+#REF!+#REF!+#REF!+#REF!+#REF!+#REF!+#REF!+#REF!+#REF!) -> #REF! | S15: =SUM(Janvier!S21+#REF!+#REF!+#REF!+#REF!+#REF!+#REF!+#REF!+#REF!+#REF!+#REF!+#REF!) -> #REF! | T15: =SUM(Janvier!T21+#REF!+#REF!+#REF!+#REF!+#REF!+#REF!+#REF!+#REF!+#REF!+#REF!+#REF!) -> #REF! | V15: =SUM(Janvier!V21+#REF!+#REF!+#REF!+#REF!+#REF!+#REF!+#REF!+#REF!+#REF!+#REF!+#REF!) -> #REF! | W15: =SUM(Janvier!W21+#REF!+#REF!+#REF!+#REF!+#REF!+#REF!+#REF!+#REF!+#REF!+#REF!+#REF!) -> #REF! | Y15: =SUM(Janvier!Y21+#REF!+#REF!+#REF!+#REF!+#REF!+#REF!+#REF!+#REF!+#REF!+#REF!+#REF!) -> #REF! | Z15: =SUM(Janvier!Z21+#REF!+#REF!+#REF!+#REF!+#REF!+#REF!+#REF!+#REF!+#REF!+#REF!+#REF!) -> #REF!
B16: =IF(config!B35<>"",config!B35,"") -> Cindy | C16: =IF(config!C35<>"",config!C35,"") -> Temps plein | D16: =IF(config!D35<>"",config!D35,"") -> Lutins | F16: =SUM(Janvier!F22+#REF!+#REF!+#REF!+#REF!+#REF!+#REF!+#REF!+#REF!+#REF!+#REF!+#REF!) -> #REF! | G16: =SUM(Janvier!G22+#REF!+#REF!+#REF!+#REF!+#REF!+#REF!+#REF!+#REF!+#REF!+#REF!+#REF!) -> #REF! | I16: =SUM(Janvier!I22+#REF!+#REF!+#REF!+#REF!+#REF!+#REF!+#REF!+#REF!+#REF!+#REF!+#REF!) -> #REF! | J16: =SUM(Janvier!J22+#REF!+#REF!+#REF!+#REF!+#REF!+#REF!+#REF!+#REF!+#REF!+#REF!+#REF!) -> #REF! | L16: =SUM(Janvier!L22+#REF!+#REF!+#REF!+#REF!+#REF!+#REF!+#REF!+#REF!+#REF!+#REF!+#REF!) -> #REF! | M16: =SUM(Janvier!M22+#REF!+#REF!+#REF!+#REF!+#REF!+#REF!+#REF!+#REF!+#REF!+#REF!+#REF!) -> #REF! | O16: =SUM(Janvier!O22+#REF!+#REF!+#REF!+#REF!+#REF!+#REF!+#REF!+#REF!+#REF!+#REF!+#REF!) -> #REF! | P16: =SUM(Janvier!P22+#REF!+#REF!+#REF!+#REF!+#REF!+#REF!+#REF!+#REF!+#REF!+#REF!+#REF!) -> #REF! | Q16: =SUM(Janvier!Q22+#REF!+#REF!+#REF!+#REF!+#REF!+#REF!+#REF!+#REF!+#REF!+#REF!+#REF!) -> #REF! | S16: =SUM(Janvier!S22+#REF!+#REF!+#REF!+#REF!+#REF!+#REF!+#REF!+#REF!+#REF!+#REF!+#REF!) -> #REF! | T16: =SUM(Janvier!T22+#REF!+#REF!+#REF!+#REF!+#REF!+#REF!+#REF!+#REF!+#REF!+#REF!+#REF!) -> #REF! | V16: =SUM(Janvier!V22+#REF!+#REF!+#REF!+#REF!+#REF!+#REF!+#REF!+#REF!+#REF!+#REF!+#REF!) -> #REF! | W16: =SUM(Janvier!W22+#REF!+#REF!+#REF!+#REF!+#REF!+#REF!+#REF!+#REF!+#REF!+#REF!+#REF!) -> #REF! | Y16: =SUM(Janvier!Y22+#REF!+#REF!+#REF!+#REF!+#REF!+#REF!+#REF!+#REF!+#REF!+#REF!+#REF!) -> #REF! | Z16: =SUM(Janvier!Z22+#REF!+#REF!+#REF!+#REF!+#REF!+#REF!+#REF!+#REF!+#REF!+#REF!+#REF!) -> #REF!
B17: =IF(config!B36<>"",config!B36,"") -> Samira | C17: =IF(config!C36<>"",config!C36,"") -> 80% vendredi | D17: =IF(config!D36<>"",config!D36,"") -> Lutins | F17: =SUM(Janvier!F23+#REF!+#REF!+#REF!+#REF!+#REF!+#REF!+#REF!+#REF!+#REF!+#REF!+#REF!) -> #REF! | G17: =SUM(Janvier!G23+#REF!+#REF!+#REF!+#REF!+#REF!+#REF!+#REF!+#REF!+#REF!+#REF!+#REF!) -> #REF! | I17: =SUM(Janvier!I23+#REF!+#REF!+#REF!+#REF!+#REF!+#REF!+#REF!+#REF!+#REF!+#REF!+#REF!) -> #REF! | J17: =SUM(Janvier!J23+#REF!+#REF!+#REF!+#REF!+#REF!+#REF!+#REF!+#REF!+#REF!+#REF!+#REF!) -> #REF! | L17: =SUM(Janvier!L23+#REF!+#REF!+#REF!+#REF!+#REF!+#REF!+#REF!+#REF!+#REF!+#REF!+#REF!) -> #REF! | M17: =SUM(Janvier!M23+#REF!+#REF!+#REF!+#REF!+#REF!+#REF!+#REF!+#REF!+#REF!+#REF!+#REF!) -> #REF! | O17: =SUM(Janvier!O23+#REF!+#REF!+#REF!+#REF!+#REF!+#REF!+#REF!+#REF!+#REF!+#REF!+#REF!) -> #REF! | P17: =SUM(Janvier!P23+#REF!+#REF!+#REF!+#REF!+#REF!+#REF!+#REF!+#REF!+#REF!+#REF!+#REF!) -> #REF! | Q17: =SUM(Janvier!Q23+#REF!+#REF!+#REF!+#REF!+#REF!+#REF!+#REF!+#REF!+#REF!+#REF!+#REF!) -> #REF! | S17: =SUM(Janvier!S23+#REF!+#REF!+#REF!+#REF!+#REF!+#REF!+#REF!+#REF!+#REF!+#REF!+#REF!) -> #REF! | T17: =SUM(Janvier!T23+#REF!+#REF!+#REF!+#REF!+#REF!+#REF!+#REF!+#REF!+#REF!+#REF!+#REF!) -> #REF! | V17: =SUM(Janvier!V23+#REF!+#REF!+#REF!+#REF!+#REF!+#REF!+#REF!+#REF!+#REF!+#REF!+#REF!) -> #REF! | W17: =SUM(Janvier!W23+#REF!+#REF!+#REF!+#REF!+#REF!+#REF!+#REF!+#REF!+#REF!+#REF!+#REF!) -> #REF! | Y17: =SUM(Janvier!Y23+#REF!+#REF!+#REF!+#REF!+#REF!+#REF!+#REF!+#REF!+#REF!+#REF!+#REF!) -> #REF! | Z17: =SUM(Janvier!Z23+#REF!+#REF!+#REF!+#REF!+#REF!+#REF!+#REF!+#REF!+#REF!+#REF!+#REF!) -> #REF!
B18: =IF(config!#REF!<>"",config!#REF!,"") -> #REF! | C18: =IF(config!#REF!<>"",config!#REF!,"") -> #REF! | D18: =IF(config!#REF!<>"",config!#REF!,"") -> #REF! | F18: =SUM(Janvier!F24+#REF!+#REF!+#REF!+#REF!+#REF!+#REF!+#REF!+#REF!+#REF!+#REF!+#REF!) -> #REF! | G18: =SUM(Janvier!G24+#REF!+#REF!+#REF!+#REF!+#REF!+#REF!+#REF!+#REF!+#REF!+#REF!+#REF!) -> #REF! | I18: =SUM(Janvier!I24+#REF!+#REF!+#REF!+#REF!+#REF!+#REF!+#REF!+#REF!+#REF!+#REF!+#REF!) -> #REF! | J18: =SUM(Janvier!J24+#REF!+#REF!+#REF!+#REF!+#REF!+#REF!+#REF!+#REF!+#REF!+#REF!+#REF!) -> #REF! | L18: =SUM(Janvier!L24+#REF!+#REF!+#REF!+#REF!+#REF!+#REF!+#REF!+#REF!+#REF!+#REF!+#REF!) -> #REF! | M18: =SUM(Janvier!M24+#REF!+#REF!+#REF!+#REF!+#REF!+#REF!+#REF!+#REF!+#REF!+#REF!+#REF!) -> #REF! | O18: =SUM(Janvier!O24+#REF!+#REF!+#REF!+#REF!+#REF!+#REF!+#REF!+#REF!+#REF!+#REF!+#REF!) -> #REF! | P18: =SUM(Janvier!P24+#REF!+#REF!+#REF!+#REF!+#REF!+#REF!+#REF!+#REF!+#REF!+#REF!+#REF!) -> #REF! | Q18: =SUM(Janvier!Q24+#REF!+#REF!+#REF!+#REF!+#REF!+#REF!+#REF!+#REF!+#REF!+#REF!+#REF!) -> #REF! | S18: =SUM(Janvier!S24+#REF!+#REF!+#REF!+#REF!+#REF!+#REF!+#REF!+#REF!+#REF!+#REF!+#REF!) -> #REF! | T18: =SUM(Janvier!T24+#REF!+#REF!+#REF!+#REF!+#REF!+#REF!+#REF!+#REF!+#REF!+#REF!+#REF!) -> #REF! | V18: =SUM(Janvier!V24+#REF!+#REF!+#REF!+#REF!+#REF!+#REF!+#REF!+#REF!+#REF!+#REF!+#REF!) -> #REF! | W18: =SUM(Janvier!W24+#REF!+#REF!+#REF!+#REF!+#REF!+#REF!+#REF!+#REF!+#REF!+#REF!+#REF!) -> #REF! | Y18: =SUM(Janvier!Y24+#REF!+#REF!+#REF!+#REF!+#REF!+#REF!+#REF!+#REF!+#REF!+#REF!+#REF!) -> #REF! | Z18: =SUM(Janvier!Z24+#REF!+#REF!+#REF!+#REF!+#REF!+#REF!+#REF!+#REF!+#REF!+#REF!+#REF!) -> #REF!
B19: =IF(config!#REF!<>"",config!#REF!,"") -> #REF! | C19: =IF(config!#REF!<>"",config!#REF!,"") -> #REF! | D19: =IF(config!#REF!<>"",config!#REF!,"") -> #REF! | F19: =SUM(Janvier!F25+#REF!+#REF!+#REF!+#REF!+#REF!+#REF!+#REF!+#REF!+#REF!+#REF!+#REF!) -> #REF! | G19: =SUM(Janvier!G25+#REF!+#REF!+#REF!+#REF!+#REF!+#REF!+#REF!+#REF!+#REF!+#REF!+#REF!) -> #REF! | I19: =SUM(Janvier!I25+#REF!+#REF!+#REF!+#REF!+#REF!+#REF!+#REF!+#REF!+#REF!+#REF!+#REF!) -> #REF! | J19: =SUM(Janvier!J25+#REF!+#REF!+#REF!+#REF!+#REF!+#REF!+#REF!+#REF!+#REF!+#REF!+#REF!) -> #REF! | L19: =SUM(Janvier!L25+#REF!+#REF!+#REF!+#REF!+#REF!+#REF!+#REF!+#REF!+#REF!+#REF!+#REF!) -> #REF! | M19: =SUM(Janvier!M25+#REF!+#REF!+#REF!+#REF!+#REF!+#REF!+#REF!+#REF!+#REF!+#REF!+#REF!) -> #REF! | O19: =SUM(Janvier!O25+#REF!+#REF!+#REF!+#REF!+#REF!+#REF!+#REF!+#REF!+#REF!+#REF!+#REF!) -> #REF! | P19: =SUM(Janvier!P25+#REF!+#REF!+#REF!+#REF!+#REF!+#REF!+#REF!+#REF!+#REF!+#REF!+#REF!) -> #REF! | Q19: =SUM(Janvier!Q25+#REF!+#REF!+#REF!+#REF!+#REF!+#REF!+#REF!+#REF!+#REF!+#REF!+#REF!) -> #REF! | S19: =SUM(Janvier!S25+#REF!+#REF!+#REF!+#REF!+#REF!+#REF!+#REF!+#REF!+#REF!+#REF!+#REF!) -> #REF! | T19: =SUM(Janvier!T25+#REF!+#REF!+#REF!+#REF!+#REF!+#REF!+#REF!+#REF!+#REF!+#REF!+#REF!) -> #REF! | V19: =SUM(Janvier!V25+#REF!+#REF!+#REF!+#REF!+#REF!+#REF!+#REF!+#REF!+#REF!+#REF!+#REF!) -> #REF! | W19: =SUM(Janvier!W25+#REF!+#REF!+#REF!+#REF!+#REF!+#REF!+#REF!+#REF!+#REF!+#REF!+#REF!) -> #REF! | Y19: =SUM(Janvier!Y25+#REF!+#REF!+#REF!+#REF!+#REF!+#REF!+#REF!+#REF!+#REF!+#REF!+#REF!) -> #REF! | Z19: =SUM(Janvier!Z25+#REF!+#REF!+#REF!+#REF!+#REF!+#REF!+#REF!+#REF!+#REF!+#REF!+#REF!) -> #REF!
B20: =IF(config!#REF!<>"",config!#REF!,"") -> #REF! | C20: =IF(config!#REF!<>"",config!#REF!,"") -> #REF! | D20: =IF(config!#REF!<>"",config!#REF!,"") -> #REF! | F20: =SUM(Janvier!F26+#REF!+#REF!+#REF!+#REF!+#REF!+#REF!+#REF!+#REF!+#REF!+#REF!+#REF!) -> #REF! | G20: =SUM(Janvier!G26+#REF!+#REF!+#REF!+#REF!+#REF!+#REF!+#REF!+#REF!+#REF!+#REF!+#REF!) -> #REF! | I20: =SUM(Janvier!I26+#REF!+#REF!+#REF!+#REF!+#REF!+#REF!+#REF!+#REF!+#REF!+#REF!+#REF!) -> #REF! | J20: =SUM(Janvier!J26+#REF!+#REF!+#REF!+#REF!+#REF!+#REF!+#REF!+#REF!+#REF!+#REF!+#REF!) -> #REF! | L20: =SUM(Janvier!L26+#REF!+#REF!+#REF!+#REF!+#REF!+#REF!+#REF!+#REF!+#REF!+#REF!+#REF!) -> #REF! | M20: =SUM(Janvier!M26+#REF!+#REF!+#REF!+#REF!+#REF!+#REF!+#REF!+#REF!+#REF!+#REF!+#REF!) -> #REF! | O20: =SUM(Janvier!O26+#REF!+#REF!+#REF!+#REF!+#REF!+#REF!+#REF!+#REF!+#REF!+#REF!+#REF!) -> #REF! | P20: =SUM(Janvier!P26+#REF!+#REF!+#REF!+#REF!+#REF!+#REF!+#REF!+#REF!+#REF!+#REF!+#REF!) -> #REF! | Q20: =SUM(Janvier!Q26+#REF!+#REF!+#REF!+#REF!+#REF!+#REF!+#REF!+#REF!+#REF!+#REF!+#REF!) -> #REF! | S20: =SUM(Janvier!S26+#REF!+#REF!+#REF!+#REF!+#REF!+#REF!+#REF!+#REF!+#REF!+#REF!+#REF!) -> #REF! | T20: =SUM(Janvier!T26+#REF!+#REF!+#REF!+#REF!+#REF!+#REF!+#REF!+#REF!+#REF!+#REF!+#REF!) -> #REF! | V20: =SUM(Janvier!V26+#REF!+#REF!+#REF!+#REF!+#REF!+#REF!+#REF!+#REF!+#REF!+#REF!+#REF!) -> #REF! | W20: =SUM(Janvier!W26+#REF!+#REF!+#REF!+#REF!+#REF!+#REF!+#REF!+#REF!+#REF!+#REF!+#REF!) -> #REF! | Y20: =SUM(Janvier!Y26+#REF!+#REF!+#REF!+#REF!+#REF!+#REF!+#REF!+#REF!+#REF!+#REF!+#REF!) -> #REF! | Z20: =SUM(Janvier!Z26+#REF!+#REF!+#REF!+#REF!+#REF!+#REF!+#REF!+#REF!+#REF!+#REF!+#REF!) -> #REF!
B21: =IF(config!#REF!<>"",config!#REF!,"") -> #REF! | C21: =IF(config!#REF!<>"",config!#REF!,"") -> #REF! | D21: =IF(config!#REF!<>"",config!#REF!,"") -> #REF! | F21: =SUM(Janvier!F27+#REF!+#REF!+#REF!+#REF!+#REF!+#REF!+#REF!+#REF!+#REF!+#REF!+#REF!) -> #REF! | G21: =SUM(Janvier!G27+#REF!+#REF!+#REF!+#REF!+#REF!+#REF!+#REF!+#REF!+#REF!+#REF!+#REF!) -> #REF! | I21: =SUM(Janvier!I27+#REF!+#REF!+#REF!+#REF!+#REF!+#REF!+#REF!+#REF!+#REF!+#REF!+#REF!) -> #REF! | J21: =SUM(Janvier!J27+#REF!+#REF!+#REF!+#REF!+#REF!+#REF!+#REF!+#REF!+#REF!+#REF!+#REF!) -> #REF! | L21: =SUM(Janvier!L27+#REF!+#REF!+#REF!+#REF!+#REF!+#REF!+#REF!+#REF!+#REF!+#REF!+#REF!) -> #REF! | M21: =SUM(Janvier!M27+#REF!+#REF!+#REF!+#REF!+#REF!+#REF!+#REF!+#REF!+#REF!+#REF!+#REF!) -> #REF! | O21: =SUM(Janvier!O27+#REF!+#REF!+#REF!+#REF!+#REF!+#REF!+#REF!+#REF!+#REF!+#REF!+#REF!) -> #REF! | P21: =SUM(Janvier!P27+#REF!+#REF!+#REF!+#REF!+#REF!+#REF!+#REF!+#REF!+#REF!+#REF!+#REF!) -> #REF! | Q21: =SUM(Janvier!Q27+#REF!+#REF!+#REF!+#REF!+#REF!+#REF!+#REF!+#REF!+#REF!+#REF!+#REF!) -> #REF! | S21: =SUM(Janvier!S27+#REF!+#REF!+#REF!+#REF!+#REF!+#REF!+#REF!+#REF!+#REF!+#REF!+#REF!) -> #REF! | T21: =SUM(Janvier!T27+#REF!+#REF!+#REF!+#REF!+#REF!+#REF!+#REF!+#REF!+#REF!+#REF!+#REF!) -> #REF! | V21: =SUM(Janvier!V27+#REF!+#REF!+#REF!+#REF!+#REF!+#REF!+#REF!+#REF!+#REF!+#REF!+#REF!) -> #REF! | W21: =SUM(Janvier!W27+#REF!+#REF!+#REF!+#REF!+#REF!+#REF!+#REF!+#REF!+#REF!+#REF!+#REF!) -> #REF! | Y21: =SUM(Janvier!Y27+#REF!+#REF!+#REF!+#REF!+#REF!+#REF!+#REF!+#REF!+#REF!+#REF!+#REF!) -> #REF! | Z21: =SUM(Janvier!Z27+#REF!+#REF!+#REF!+#REF!+#REF!+#REF!+#REF!+#REF!+#REF!+#REF!+#REF!) -> #REF!
B22: =IF(config!#REF!<>"",config!#REF!,"") -> #REF! | C22: =IF(config!#REF!<>"",config!#REF!,"") -> #REF! | D22: =IF(config!#REF!<>"",config!#REF!,"") -> #REF! | F22: =SUM(Janvier!F28+#REF!+#REF!+#REF!+#REF!+#REF!+#REF!+#REF!+#REF!+#REF!+#REF!+#REF!) -> #REF! | G22: =SUM(Janvier!G28+#REF!+#REF!+#REF!+#REF!+#REF!+#REF!+#REF!+#REF!+#REF!+#REF!+#REF!) -> #REF! | I22: =SUM(Janvier!I28+#REF!+#REF!+#REF!+#REF!+#REF!+#REF!+#REF!+#REF!+#REF!+#REF!+#REF!) -> #REF! | J22: =SUM(Janvier!J28+#REF!+#REF!+#REF!+#REF!+#REF!+#REF!+#REF!+#REF!+#REF!+#REF!+#REF!) -> #REF! | L22: =SUM(Janvier!L28+#REF!+#REF!+#REF!+#REF!+#REF!+#REF!+#REF!+#REF!+#REF!+#REF!+#REF!) -> #REF! | M22: =SUM(Janvier!M28+#REF!+#REF!+#REF!+#REF!+#REF!+#REF!+#REF!+#REF!+#REF!+#REF!+#REF!) -> #REF! | O22: =SUM(Janvier!O28+#REF!+#REF!+#REF!+#REF!+#REF!+#REF!+#REF!+#REF!+#REF!+#REF!+#REF!) -> #REF! | P22: =SUM(Janvier!P28+#REF!+#REF!+#REF!+#REF!+#REF!+#REF!+#REF!+#REF!+#REF!+#REF!+#REF!) -> #REF! | Q22: =SUM(Janvier!Q28+#REF!+#REF!+#REF!+#REF!+#REF!+#REF!+#REF!+#REF!+#REF!+#REF!+#REF!) -> #REF! | S22: =SUM(Janvier!S28+#REF!+#REF!+#REF!+#REF!+#REF!+#REF!+#REF!+#REF!+#REF!+#REF!+#REF!) -> #REF! | T22: =SUM(Janvier!T28+#REF!+#REF!+#REF!+#REF!+#REF!+#REF!+#REF!+#REF!+#REF!+#REF!+#REF!) -> #REF! | V22: =SUM(Janvier!V28+#REF!+#REF!+#REF!+#REF!+#REF!+#REF!+#REF!+#REF!+#REF!+#REF!+#REF!) -> #REF! | W22: =SUM(Janvier!W28+#REF!+#REF!+#REF!+#REF!+#REF!+#REF!+#REF!+#REF!+#REF!+#REF!+#REF!) -> #REF! | Y22: =SUM(Janvier!Y28+#REF!+#REF!+#REF!+#REF!+#REF!+#REF!+#REF!+#REF!+#REF!+#REF!+#REF!) -> #REF! | Z22: =SUM(Janvier!Z28+#REF!+#REF!+#REF!+#REF!+#REF!+#REF!+#REF!+#REF!+#REF!+#REF!+#REF!) -> #REF!
B23: =IF(config!#REF!<>"",config!#REF!,"") -> #REF! | C23: =IF(config!#REF!<>"",config!#REF!,"") -> #REF! | D23: =IF(config!#REF!<>"",config!#REF!,"") -> #REF! | F23: =SUM(Janvier!F29+#REF!+#REF!+#REF!+#REF!+#REF!+#REF!+#REF!+#REF!+#REF!+#REF!+#REF!) -> #REF! | G23: =SUM(Janvier!G29+#REF!+#REF!+#REF!+#REF!+#REF!+#REF!+#REF!+#REF!+#REF!+#REF!+#REF!) -> #REF! | I23: =SUM(Janvier!I29+#REF!+#REF!+#REF!+#REF!+#REF!+#REF!+#REF!+#REF!+#REF!+#REF!+#REF!) -> #REF! | J23: =SUM(Janvier!J29+#REF!+#REF!+#REF!+#REF!+#REF!+#REF!+#REF!+#REF!+#REF!+#REF!+#REF!) -> #REF! | L23: =SUM(Janvier!L29+#REF!+#REF!+#REF!+#REF!+#REF!+#REF!+#REF!+#REF!+#REF!+#REF!+#REF!) -> #REF! | M23: =SUM(Janvier!M29+#REF!+#REF!+#REF!+#REF!+#REF!+#REF!+#REF!+#REF!+#REF!+#REF!+#REF!) -> #REF! | O23: =SUM(Janvier!O29+#REF!+#REF!+#REF!+#REF!+#REF!+#REF!+#REF!+#REF!+#REF!+#REF!+#REF!) -> #REF! | P23: =SUM(Janvier!P29+#REF!+#REF!+#REF!+#REF!+#REF!+#REF!+#REF!+#REF!+#REF!+#REF!+#REF!) -> #REF! | Q23: =SUM(Janvier!Q29+#REF!+#REF!+#REF!+#REF!+#REF!+#REF!+#REF!+#REF!+#REF!+#REF!+#REF!) -> #REF! | S23: =SUM(Janvier!S29+#REF!+#REF!+#REF!+#REF!+#REF!+#REF!+#REF!+#REF!+#REF!+#REF!+#REF!) -> #REF! | T23: =SUM(Janvier!T29+#REF!+#REF!+#REF!+#REF!+#REF!+#REF!+#REF!+#REF!+#REF!+#REF!+#REF!) -> #REF! | V23: =SUM(Janvier!V29+#REF!+#REF!+#REF!+#REF!+#REF!+#REF!+#REF!+#REF!+#REF!+#REF!+#REF!) -> #REF! | W23: =SUM(Janvier!W29+#REF!+#REF!+#REF!+#REF!+#REF!+#REF!+#REF!+#REF!+#REF!+#REF!+#REF!) -> #REF! | Y23: =SUM(Janvier!Y29+#REF!+#REF!+#REF!+#REF!+#REF!+#REF!+#REF!+#REF!+#REF!+#REF!+#REF!) -> #REF! | Z23: =SUM(Janvier!Z29+#REF!+#REF!+#REF!+#REF!+#REF!+#REF!+#REF!+#REF!+#REF!+#REF!+#REF!) -> #REF!
B24: =IF(config!#REF!<>"",config!#REF!,"") -> #REF! | C24: =IF(config!#REF!<>"",config!#REF!,"") -> #REF! | D24: =IF(config!#REF!<>"",config!#REF!,"") -> #REF! | F24: =SUM(Janvier!F30+#REF!+#REF!+#REF!+#REF!+#REF!+#REF!+#REF!+#REF!+#REF!+#REF!+#REF!) -> #REF! | G24: =SUM(Janvier!G30+#REF!+#REF!+#REF!+#REF!+#REF!+#REF!+#REF!+#REF!+#REF!+#REF!+#REF!) -> #REF! | I24: =SUM(Janvier!I30+#REF!+#REF!+#REF!+#REF!+#REF!+#REF!+#REF!+#REF!+#REF!+#REF!+#REF!) -> #REF! | J24: =SUM(Janvier!J30+#REF!+#REF!+#REF!+#REF!+#REF!+#REF!+#REF!+#REF!+#REF!+#REF!+#REF!) -> #REF! | L24: =SUM(Janvier!L30+#REF!+#REF!+#REF!+#REF!+#REF!+#REF!+#REF!+#REF!+#REF!+#REF!+#REF!) -> #REF! | M24: =SUM(Janvier!M30+#REF!+#REF!+#REF!+#REF!+#REF!+#REF!+#REF!+#REF!+#REF!+#REF!+#REF!) -> #REF! | O24: =SUM(Janvier!O30+#REF!+#REF!+#REF!+#REF!+#REF!+#REF!+#REF!+#REF!+#REF!+#REF!+#REF!) -> #REF! | P24: =SUM(Janvier!P30+#REF!+#REF!+#REF!+#REF!+#REF!+#REF!+#REF!+#REF!+#REF!+#REF!+#REF!) -> #REF! | Q24: =SUM(Janvier!Q30+#REF!+#REF!+#REF!+#REF!+#REF!+#REF!+#REF!+#REF!+#REF!+#REF!+#REF!) -> #REF! | S24: =SUM(Janvier!S30+#REF!+#REF!+#REF!+#REF!+#REF!+#REF!+#REF!+#REF!+#REF!+#REF!+#REF!) -> #REF! | T24: =SUM(Janvier!T30+#REF!+#REF!+#REF!+#REF!+#REF!+#REF!+#REF!+#REF!+#REF!+#REF!+#REF!) -> #REF! | V24: =SUM(Janvier!V30+#REF!+#REF!+#REF!+#REF!+#REF!+#REF!+#REF!+#REF!+#REF!+#REF!+#REF!) -> #REF! | W24: =SUM(Janvier!W30+#REF!+#REF!+#REF!+#REF!+#REF!+#REF!+#REF!+#REF!+#REF!+#REF!+#REF!) -> #REF! | Y24: =SUM(Janvier!Y30+#REF!+#REF!+#REF!+#REF!+#REF!+#REF!+#REF!+#REF!+#REF!+#REF!+#REF!) -> #REF! | Z24: =SUM(Janvier!Z30+#REF!+#REF!+#REF!+#REF!+#REF!+#REF!+#REF!+#REF!+#REF!+#REF!+#REF!) -> #REF!
B25: =IF(config!#REF!<>"",config!#REF!,"") -> #REF! | C25: =IF(config!#REF!<>"",config!#REF!,"") -> #REF! | D25: =IF(config!#REF!<>"",config!#REF!,"") -> #REF! | F25: =SUM(Janvier!F31+#REF!+#REF!+#REF!+#REF!+#REF!+#REF!+#REF!+#REF!+#REF!+#REF!+#REF!) -> #REF! | G25: =SUM(Janvier!G31+#REF!+#REF!+#REF!+#REF!+#REF!+#REF!+#REF!+#REF!+#REF!+#REF!+#REF!) -> #REF! | I25: =SUM(Janvier!I31+#REF!+#REF!+#REF!+#REF!+#REF!+#REF!+#REF!+#REF!+#REF!+#REF!+#REF!) -> #REF! | J25: =SUM(Janvier!J31+#REF!+#REF!+#REF!+#REF!+#REF!+#REF!+#REF!+#REF!+#REF!+#REF!+#REF!) -> #REF! | L25: =SUM(Janvier!L31+#REF!+#REF!+#REF!+#REF!+#REF!+#REF!+#REF!+#REF!+#REF!+#REF!+#REF!) -> #REF! | M25: =SUM(Janvier!M31+#REF!+#REF!+#REF!+#REF!+#REF!+#REF!+#REF!+#REF!+#REF!+#REF!+#REF!) -> #REF! | O25: =SUM(Janvier!O31+#REF!+#REF!+#REF!+#REF!+#REF!+#REF!+#REF!+#REF!+#REF!+#REF!+#REF!) -> #REF! | P25: =SUM(Janvier!P31+#REF!+#REF!+#REF!+#REF!+#REF!+#REF!+#REF!+#REF!+#REF!+#REF!+#REF!) -> #REF! | Q25: =SUM(Janvier!Q31+#REF!+#REF!+#REF!+#REF!+#REF!+#REF!+#REF!+#REF!+#REF!+#REF!+#REF!) -> #REF! | S25: =SUM(Janvier!S31+#REF!+#REF!+#REF!+#REF!+#REF!+#REF!+#REF!+#REF!+#REF!+#REF!+#REF!) -> #REF! | T25: =SUM(Janvier!T31+#REF!+#REF!+#REF!+#REF!+#REF!+#REF!+#REF!+#REF!+#REF!+#REF!+#REF!) -> #REF! | V25: =SUM(Janvier!V31+#REF!+#REF!+#REF!+#REF!+#REF!+#REF!+#REF!+#REF!+#REF!+#REF!+#REF!) -> #REF! | W25: =SUM(Janvier!W31+#REF!+#REF!+#REF!+#REF!+#REF!+#REF!+#REF!+#REF!+#REF!+#REF!+#REF!) -> #REF! | Y25: =SUM(Janvier!Y31+#REF!+#REF!+#REF!+#REF!+#REF!+#REF!+#REF!+#REF!+#REF!+#REF!+#REF!) -> #REF! | Z25: =SUM(Janvier!Z31+#REF!+#REF!+#REF!+#REF!+#REF!+#REF!+#REF!+#REF!+#REF!+#REF!+#REF!) -> #REF!
B26: =IF(config!#REF!<>"",config!#REF!,"") -> #REF! | C26: =IF(config!#REF!<>"",config!#REF!,"") -> #REF! | D26: =IF(config!#REF!<>"",config!#REF!,"") -> #REF! | F26: =SUM(Janvier!F32+#REF!+#REF!+#REF!+#REF!+#REF!+#REF!+#REF!+#REF!+#REF!+#REF!+#REF!) -> #REF! | G26: =SUM(Janvier!G32+#REF!+#REF!+#REF!+#REF!+#REF!+#REF!+#REF!+#REF!+#REF!+#REF!+#REF!) -> #REF! | I26: =SUM(Janvier!I32+#REF!+#REF!+#REF!+#REF!+#REF!+#REF!+#REF!+#REF!+#REF!+#REF!+#REF!) -> #REF! | J26: =SUM(Janvier!J32+#REF!+#REF!+#REF!+#REF!+#REF!+#REF!+#REF!+#REF!+#REF!+#REF!+#REF!) -> #REF! | L26: =SUM(Janvier!L32+#REF!+#REF!+#REF!+#REF!+#REF!+#REF!+#REF!+#REF!+#REF!+#REF!+#REF!) -> #REF! | M26: =SUM(Janvier!M32+#REF!+#REF!+#REF!+#REF!+#REF!+#REF!+#REF!+#REF!+#REF!+#REF!+#REF!) -> #REF! | O26: =SUM(Janvier!O32+#REF!+#REF!+#REF!+#REF!+#REF!+#REF!+#REF!+#REF!+#REF!+#REF!+#REF!) -> #REF! | P26: =SUM(Janvier!P32+#REF!+#REF!+#REF!+#REF!+#REF!+#REF!+#REF!+#REF!+#REF!+#REF!+#REF!) -> #REF! | Q26: =SUM(Janvier!Q32+#REF!+#REF!+#REF!+#REF!+#REF!+#REF!+#REF!+#REF!+#REF!+#REF!+#REF!) -> #REF! | S26: =SUM(Janvier!S32+#REF!+#REF!+#REF!+#REF!+#REF!+#REF!+#REF!+#REF!+#REF!+#REF!+#REF!) -> #REF! | T26: =SUM(Janvier!T32+#REF!+#REF!+#REF!+#REF!+#REF!+#REF!+#REF!+#REF!+#REF!+#REF!+#REF!) -> #REF! | V26: =SUM(Janvier!V32+#REF!+#REF!+#REF!+#REF!+#REF!+#REF!+#REF!+#REF!+#REF!+#REF!+#REF!) -> #REF! | W26: =SUM(Janvier!W32+#REF!+#REF!+#REF!+#REF!+#REF!+#REF!+#REF!+#REF!+#REF!+#REF!+#REF!) -> #REF! | Y26: =SUM(Janvier!Y32+#REF!+#REF!+#REF!+#REF!+#REF!+#REF!+#REF!+#REF!+#REF!+#REF!+#REF!) -> #REF! | Z26: =SUM(Janvier!Z32+#REF!+#REF!+#REF!+#REF!+#REF!+#REF!+#REF!+#REF!+#REF!+#REF!+#REF!) -> #REF!
B27: =IF(config!#REF!<>"",config!#REF!,"") -> #REF! | C27: =IF(config!#REF!<>"",config!#REF!,"") -> #REF! | D27: =IF(config!#REF!<>"",config!#REF!,"") -> #REF! | F27: =SUM(Janvier!F33+#REF!+#REF!+#REF!+#REF!+#REF!+#REF!+#REF!+#REF!+#REF!+#REF!+#REF!) -> #REF! | G27: =SUM(Janvier!G33+#REF!+#REF!+#REF!+#REF!+#REF!+#REF!+#REF!+#REF!+#REF!+#REF!+#REF!) -> #REF! | I27: =SUM(Janvier!I33+#REF!+#REF!+#REF!+#REF!+#REF!+#REF!+#REF!+#REF!+#REF!+#REF!+#REF!) -> #REF! | J27: =SUM(Janvier!J33+#REF!+#REF!+#REF!+#REF!+#REF!+#REF!+#REF!+#REF!+#REF!+#REF!+#REF!) -> #REF! | L27: =SUM(Janvier!L33+#REF!+#REF!+#REF!+#REF!+#REF!+#REF!+#REF!+#REF!+#REF!+#REF!+#REF!) -> #REF! | M27: =SUM(Janvier!M33+#REF!+#REF!+#REF!+#REF!+#REF!+#REF!+#REF!+#REF!+#REF!+#REF!+#REF!) -> #REF! | O27: =SUM(Janvier!O33+#REF!+#REF!+#REF!+#REF!+#REF!+#REF!+#REF!+#REF!+#REF!+#REF!+#REF!) -> #REF! | P27: =SUM(Janvier!P33+#REF!+#REF!+#REF!+#REF!+#REF!+#REF!+#REF!+#REF!+#REF!+#REF!+#REF!) -> #REF! | Q27: =SUM(Janvier!Q33+#REF!+#REF!+#REF!+#REF!+#REF!+#REF!+#REF!+#REF!+#REF!+#REF!+#REF!) -> #REF! | S27: =SUM(Janvier!S33+#REF!+#REF!+#REF!+#REF!+#REF!+#REF!+#REF!+#REF!+#REF!+#REF!+#REF!) -> #REF! | T27: =SUM(Janvier!T33+#REF!+#REF!+#REF!+#REF!+#REF!+#REF!+#REF!+#REF!+#REF!+#REF!+#REF!) -> #REF! | V27: =SUM(Janvier!V33+#REF!+#REF!+#REF!+#REF!+#REF!+#REF!+#REF!+#REF!+#REF!+#REF!+#REF!) -> #REF! | W27: =SUM(Janvier!W33+#REF!+#REF!+#REF!+#REF!+#REF!+#REF!+#REF!+#REF!+#REF!+#REF!+#REF!) -> #REF! | Y27: =SUM(Janvier!Y33+#REF!+#REF!+#REF!+#REF!+#REF!+#REF!+#REF!+#REF!+#REF!+#REF!+#REF!) -> #REF! | Z27: =SUM(Janvier!Z33+#REF!+#REF!+#REF!+#REF!+#REF!+#REF!+#REF!+#REF!+#REF!+#REF!+#REF!) -> #REF!
