Workbook

Sheet Triangulation
B2: Longueur : | D2: 1010 | G2: Relever et renseigner vos mesures de triangulation :
B4: Largeur : | D4: 665 | G4: Définir 2 points fixes "A" et "B". Cette droite AB doit mesurer au moins 2 mètres et être à minima distante du bassin d'un mètre.
G5: Faire des repères espacés d'environ 50 centimètres sur toute la périphérie du bassin en les numérotant 1, 2, 3, etc.
B6: Distance AB : | D6: 3240 | G6: Mesurer à partir du point "A" la distance en ligne droite avec tous les points repérés par un nombre (A1, A2, A3, etc).
G7: Faire de même avec le point "B" (B1, B2, B3, etc).
C8: A | D8: B | G8: Saisir vos mesures de triangulation en millimètres dans le tableau. Penser à renseigner la distance "AB".
B9: 1 | C9: 3778 | D9: 4212 | E9: =IF(C9>=1000,1,0) -> 1 | F9: =IF(D9>=1000,1,0) -> 1
B10: 2 | C10: 3774 | D10: 4436 | E10: =IF(C10>=1000,1,0) -> 1 | F10: =IF(D10>=1000,1,0) -> 1
B11: 3 | C11: 3946 | D11: 4742 | E11: =IF(C11>=1000,1,0) -> 1 | F11: =IF(D11>=1000,1,0) -> 1 | L11: Si le bassin présente des angles vifs, mettre
B12: 4 | C12: 4232 | D12: 5042 | E12: =IF(C12>=1000,1,0) -> 1 | F12: =IF(D12>=1000,1,0) -> 1 | L12: un point sur chaque angle.
B13: 5 | C13: 8516 | D13: 8944 | E13: =IF(C13>=1000,1,0) -> 1 | F13: =IF(D13>=1000,1,0) -> 1
B14: 6 | C14: 8822 | D14: 9204 | E14: =IF(C14>=1000,1,0) -> 1 | F14: =IF(D14>=1000,1,0) -> 1 | L14: Si les courbes sont petites, réduire l'intervalle
B15: 7 | C15: 9062 | D15: 9352 | E15: =IF(C15>=1000,1,0) -> 1 | F15: =IF(D15>=1000,1,0) -> 1 | L15: de façon à avoir un minium de 3 points par arc de cercle.
B16: 8 | C16: 9172 | D16: 9360 | E16: =IF(C16>=1000,1,0) -> 1 | F16: =IF(D16>=1000,1,0) -> 1
B17: 9 | C17: 11308 | D17: 9742 | E17: =IF(C17>=1000,1,0) -> 1 | F17: =IF(D17>=1000,1,0) -> 1 | L17: Pour les parties droites, ne prendre qu'un point
B18: 10 | C18: 11546 | D18: 9868 | E18: =IF(C18>=1000,1,0) -> 1 | F18: =IF(D18>=1000,1,0) -> 1 | L18: au début et à la fin de cette dernière.
B19: 11 | C19: 11734 | D19: 9936 | E19: =IF(C19>=1000,1,0) -> 1 | F19: =IF(D19>=1000,1,0) -> 1
B20: 12 | C20: 11850 | D20: 9948 | E20: =IF(C20>=1000,1,0) -> 1 | F20: =IF(D20>=1000,1,0) -> 1
B21: 13 | C21: 11900 | D21: 9892 | E21: =IF(C21>=1000,1,0) -> 1 | F21: =IF(D21>=1000,1,0) -> 1
B22: 14 | C22: 12296 | D22: 9692 | E22: =IF(C22>=1000,1,0) -> 1 | F22: =IF(D22>=1000,1,0) -> 1
B23: 15 | C23: 12288 | D23: 9650 | E23: =IF(C23>=1000,1,0) -> 1 | F23: =IF(D23>=1000,1,0) -> 1
B24: 16 | C24: 12126 | D24: 9444 | E24: =IF(C24>=1000,1,0) -> 1 | F24: =IF(D24>=1000,1,0) -> 1
B25: 17 | C25: 11860 | D25: 9152 | E25: =IF(C25>=1000,1,0) -> 1 | F25: =IF(D25>=1000,1,0) -> 1
B26: 18 | C26: 11128 | D26: 8398 | E26: =IF(C26>=1000,1,0) -> 1 | F26: =IF(D26>=1000,1,0) -> 1
B27: 19 | C27: 11174 | D27: 8382 | E27: =IF(C27>=1000,1,0) -> 1 | F27: =IF(D27>=1000,1,0) -> 1
B28: 20 | C28: 11148 | D28: 8288 | E28: =IF(C28>=1000,1,0) -> 1 | F28: =IF(D28>=1000,1,0) -> 1
B29: 21 | C29: 11012 | D29: 8096 | E29: =IF(C29>=1000,1,0) -> 1 | F29: =IF(D29>=1000,1,0) -> 1
B30: 22 | C30: 10782 | D30: 7824 | E30: =IF(C30>=1000,1,0) -> 1 | F30: =IF(D30>=1000,1,0) -> 1
... B46: 38 | C46: 5788 | D46: 3844 | E46: =IF(C46>=1000,1,0) -> 1 | F46: =IF(D46>=1000,1,0) -> 1
B47: 39 | E47: =IF(C47>=1000,1,0) -> 0 | F47: =IF(D47>=1000,1,0) -> 0
B48: 40 | E48: =IF(C48>=1000,1,0) -> 0 | F48: =IF(D48>=1000,1,0) -> 0
B49: 41 | E49: =IF(C49>=1000,1,0) -> 0 | F49: =IF(D49>=1000,1,0) -> 0 | G49: Ce visuel est à titre indicatif.
B50: 42 | E50: =IF(C50>=1000,1,0) -> 0 | F50: =IF(D50>=1000,1,0) -> 0 | G50: Il vous permet d'assurer la cohérence des mesures transmises,
B51: 43 | E51: =IF(C51>=1000,1,0) -> 0 | F51: =IF(D51>=1000,1,0) -> 0 | G51: mais peut déformer les proportions de votre bassin.
B52: 44 | E52: =IF(C52>=1000,1,0) -> 0 | F52: =IF(D52>=1000,1,0) -> 0 | G52: Les courbures seront lissées.
B53: 45 | E53: =IF(C53>=1000,1,0) -> 0 | F53: =IF(D53>=1000,1,0) -> 0
B54: 46 | E54: =IF(C54>=1000,1,0) -> 0 | F54: =IF(D54>=1000,1,0) -> 0
B55: 47 | E55: =IF(C55>=1000,1,0) -> 0 | F55: =IF(D55>=1000,1,0) -> 0
B56: 48 | E56: =IF(C56>=1000,1,0) -> 0 | F56: =IF(D56>=1000,1,0) -> 0
B57: 49 | E57: =IF(C57>=1000,1,0) -> 0 | F57: =IF(D57>=1000,1,0) -> 0
...

Sheet Feuil1
A2: α | C2: Cos α | E2: Sin α | G2: X | H2: Y
A3: =DEGREES(ACOS(-(Triangulation!D9^2-Triangulation!$D$6^2-Triangulation!C9^2)/(2*Triangulation!$D$6*Triangulation!C9))) -> 73.312362 | C3: =-(Triangulation!D9^2-Triangulation!$D$6^2-Triangulation!C9^2)/(2*Triangulation!$D$6*Triangulation!C9) -> 0.28715386 | E3: =SIN(RADIANS(A3)) -> 0.95788447 | G3: =C3*Triangulation!C9 -> 1084.8673 | H3: =E3*Triangulation!C9 -> 3618.8875
A4: =DEGREES(ACOS(-(Triangulation!D10^2-Triangulation!$D$6^2-Triangulation!C10^2)/(2*Triangulation!$D$6*Triangulation!C10))) -> 78.05271 | C4: =-(Triangulation!D10^2-Triangulation!$D$6^2-Triangulation!C10^2)/(2*Triangulation!$D$6*Triangulation!C10) -> 0.20701175 | E4: =SIN(RADIANS(A4)) -> 0.97833846 | G4: =IFERROR(C4*Triangulation!C10,$G$3) -> 781.26235 | H4: =IFERROR(E4*Triangulation!C10,$H$3) -> 3692.2493
A5: =DEGREES(ACOS(-(Triangulation!D11^2-Triangulation!$D$6^2-Triangulation!C11^2)/(2*Triangulation!$D$6*Triangulation!C11))) -> 81.947309 | C5: =-(Triangulation!D11^2-Triangulation!$D$6^2-Triangulation!C11^2)/(2*Triangulation!$D$6*Triangulation!C11) -> 0.14008372 | E5: =SIN(RADIANS(A5)) -> 0.99013966 | G5: =IFERROR(C5*Triangulation!C11,$G$3) -> 552.77037 | H5: =IFERROR(E5*Triangulation!C11,$H$3) -> 3907.0911
A6: =DEGREES(ACOS(-(Triangulation!D12^2-Triangulation!$D$6^2-Triangulation!C12^2)/(2*Triangulation!$D$6*Triangulation!C12))) -> 83.749654 | C6: =-(Triangulation!D12^2-Triangulation!$D$6^2-Triangulation!C12^2)/(2*Triangulation!$D$6*Triangulation!C12) -> 0.10887287 | E6: =SIN(RADIANS(A6)) -> 0.99405568 | G6: =IFERROR(C6*Triangulation!C12,$G$3) -> 460.75 | H6: =IFERROR(E6*Triangulation!C12,$H$3) -> 4206.8436
A7: =DEGREES(ACOS(-(Triangulation!D13^2-Triangulation!$D$6^2-Triangulation!C13^2)/(2*Triangulation!$D$6*Triangulation!C13))) -> 86.857937 | C7: =-(Triangulation!D13^2-Triangulation!$D$6^2-Triangulation!C13^2)/(2*Triangulation!$D$6*Triangulation!C13) -> 0.054811857 | E7: =SIN(RADIANS(A7)) -> 0.9984967 | G7: =IFERROR(C7*Triangulation!C13,$G$3) -> 466.77778 | H7: =IFERROR(E7*Triangulation!C13,$H$3) -> 8503.1979
A8: =DEGREES(ACOS(-(Triangulation!D14^2-Triangulation!$D$6^2-Triangulation!C14^2)/(2*Triangulation!$D$6*Triangulation!C14))) -> 86.377756 | C8: =-(Triangulation!D14^2-Triangulation!$D$6^2-Triangulation!C14^2)/(2*Triangulation!$D$6*Triangulation!C14) -> 0.063177984 | E8: =SIN(RADIANS(A8)) -> 0.99800228 | G8: =IFERROR(C8*Triangulation!C14,$G$3) -> 557.35617 | H8: =IFERROR(E8*Triangulation!C14,$H$3) -> 8804.3761
A9: =DEGREES(ACOS(-(Triangulation!D15^2-Triangulation!$D$6^2-Triangulation!C15^2)/(2*Triangulation!$D$6*Triangulation!C15))) -> 84.961212 | C9: =-(Triangulation!D15^2-Triangulation!$D$6^2-Triangulation!C15^2)/(2*Triangulation!$D$6*Triangulation!C15) -> 0.087830133 | E9: =SIN(RADIANS(A9)) -> 0.99613547 | G9: =IFERROR(C9*Triangulation!C15,$G$3) -> 795.91667 | H9: =IFERROR(E9*Triangulation!C15,$H$3) -> 9026.9796
A10: =DEGREES(ACOS(-(Triangulation!D16^2-Triangulation!$D$6^2-Triangulation!C16^2)/(2*Triangulation!$D$6*Triangulation!C16))) -> 83.223012 | C10: =-(Triangulation!D16^2-Triangulation!$D$6^2-Triangulation!C16^2)/(2*Triangulation!$D$6*Triangulation!C16) -> 0.11800515 | E10: =SIN(RADIANS(A10)) -> 0.99301298 | G10: =IFERROR(C10*Triangulation!C16,$G$3) -> 1082.3432 | H10: =IFERROR(E10*Triangulation!C16,$H$3) -> 9107.9151
A11: =DEGREES(ACOS(-(Triangulation!D17^2-Triangulation!$D$6^2-Triangulation!C17^2)/(2*Triangulation!$D$6*Triangulation!C17))) -> 53.620755 | C11: =-(Triangulation!D17^2-Triangulation!$D$6^2-Triangulation!C17^2)/(2*Triangulation!$D$6*Triangulation!C17) -> 0.59312728 | E11: =SIN(RADIANS(A11)) -> 0.8051087 | G11: =IFERROR(C11*Triangulation!C17,$G$3) -> 6707.0833 | H11: =IFERROR(E11*Triangulation!C17,$H$3) -> 9104.1692
A12: =DEGREES(ACOS(-(Triangulation!D18^2-Triangulation!$D$6^2-Triangulation!C18^2)/(2*Triangulation!$D$6*Triangulation!C18))) -> 51.641803 | C12: =-(Triangulation!D18^2-Triangulation!$D$6^2-Triangulation!C18^2)/(2*Triangulation!$D$6*Triangulation!C18) -> 0.62057583 | E12: =SIN(RADIANS(A12)) -> 0.78414644 | G12: =IFERROR(C12*Triangulation!C18,$G$3) -> 7165.1685 | H12: =IFERROR(E12*Triangulation!C18,$H$3) -> 9053.7548
A13: =DEGREES(ACOS(-(Triangulation!D19^2-Triangulation!$D$6^2-Triangulation!C19^2)/(2*Triangulation!$D$6*Triangulation!C19))) -> 49.422045 | C13: =-(Triangulation!D19^2-Triangulation!$D$6^2-Triangulation!C19^2)/(2*Triangulation!$D$6*Triangulation!C19) -> 0.65048203 | E13: =SIN(RADIANS(A13)) -> 0.75952164 | G13: =IFERROR(C13*Triangulation!C19,$G$3) -> 7632.7562 | H13: =IFERROR(E13*Triangulation!C19,$H$3) -> 8912.2269
A14: =DEGREES(ACOS(-(Triangulation!D20^2-Triangulation!$D$6^2-Triangulation!C20^2)/(2*Triangulation!$D$6*Triangulation!C20))) -> 47.418807 | C14: =-(Triangulation!D20^2-Triangulation!$D$6^2-Triangulation!C20^2)/(2*Triangulation!$D$6*Triangulation!C20) -> 0.67663432 | E14: =SIN(RADIANS(A14)) -> 0.73631922 | G14: =IFERROR(C14*Triangulation!C20,$G$3) -> 8018.1167 | H14: =IFERROR(E14*Triangulation!C20,$H$3) -> 8725.3828
A15: =DEGREES(ACOS(-(Triangulation!D21^2-Triangulation!$D$6^2-Triangulation!C21^2)/(2*Triangulation!$D$6*Triangulation!C21))) -> 45.283519 | C15: =-(Triangulation!D21^2-Triangulation!$D$6^2-Triangulation!C21^2)/(2*Triangulation!$D$6*Triangulation!C21) -> 0.70359913 | E15: =SIN(RADIANS(A15)) -> 0.71059712 | G15: =IFERROR(C15*Triangulation!C21,$G$3) -> 8372.8296 | H15: =IFERROR(E15*Triangulation!C21,$H$3) -> 8456.1057
... A152: =DEGREES(ACOS(-(Triangulation!D158^2-Triangulation!$D$6^2-Triangulation!C158^2)/(2*Triangulation!$D$6*Triangulation!C158))) -> #DIV/0! | C152: =-(Triangulation!D158^2-Triangulation!$D$6^2-Triangulation!C158^2)/(2*Triangulation!$D$6*Triangulation!C158) -> #DIV/0! | E152: =SIN(RADIANS(A152)) -> #DIV/0! | G152: =IFERROR(C152*Triangulation!C158,$G$3) -> 1084.8673 | H152: =IFERROR(E152*Triangulation!C158,$H$3) -> 3618.8875

Sheet Feuil2
A1: 3778 | B1: 4212 | C1: 8516 | D1: 8944
A2: 3774 | B2: 4436 | C2: 8822 | D2: 9204
A3: 3946 | B3: 4742 | C3: 9062 | D3: 9352
A4: 4232 | B4: 5042 | C4: 9172 | D4: 9360
A5: 8516 | B5: 8944 | C5: 11308 | D5: 9742
A6: 8822 | B6: 9204 | C6: 11546 | D6: 9868
A7: 9062 | B7: 9352 | C7: 11734 | D7: 9936
A8: 9172 | B8: 9360 | C8: 11850 | D8: 9948
A9: 11308 | B9: 9742 | C9: 11900 | D9: 9892
A10: 11546 | B10: 9868 | C10: 12296 | D10: 9692
A11: 11734 | B11: 9936 | C11: 12288 | D11: 9650
A12: 11850 | B12: 9948 | C12: 12126 | D12: 9444
... A38: 5788 | B38: 3844 | C38: 4232 | D38: 5042
