Workbook

Sheet Feuil1
A1: 45658 | B1: =SUMIF(Feuil2!$A:$A,Feuil1!A1,Feuil2!D:D) -> 1111 | C1: =SUMIF(Feuil2!$A:$A,Feuil1!A1,Feuil2!E:E) -> 0 | D1: =SUMIF(Feuil2!$A:$A,Feuil1!A1,Feuil2!F:F) -> 0
A2: 45689 | B2: =SUMIF(Feuil2!$A:$A,Feuil1!A2,Feuil2!D:D) -> 0 | C2: =SUMIF(Feuil2!$A:$A,Feuil1!A2,Feuil2!E:E) -> 2222 | D2: =SUMIF(Feuil2!$A:$A,Feuil1!A2,Feuil2!F:F) -> 0
A3: 45717 | B3: =SUMIF(Feuil2!$A:$A,Feuil1!A3,Feuil2!D:D) -> 0 | C3: =SUMIF(Feuil2!$A:$A,Feuil1!A3,Feuil2!E:E) -> 0 | D3: =SUMIF(Feuil2!$A:$A,Feuil1!A3,Feuil2!F:F) -> 3333
A4: 45748 | B4: =SUMIF(Feuil2!$A:$A,Feuil1!A4,Feuil2!D:D) -> 1111 | C4: =SUMIF(Feuil2!$A:$A,Feuil1!A4,Feuil2!E:E) -> 0 | D4: =SUMIF(Feuil2!$A:$A,Feuil1!A4,Feuil2!F:F) -> 0
A5: 45778 | B5: =SUMIF(Feuil2!$A:$A,Feuil1!A5,Feuil2!D:D) -> 0 | C5: =SUMIF(Feuil2!$A:$A,Feuil1!A5,Feuil2!E:E) -> 2222 | D5: =SUMIF(Feuil2!$A:$A,Feuil1!A5,Feuil2!F:F) -> 0
A6: 45809 | B6: =SUMIF(Feuil2!$A:$A,Feuil1!A6,Feuil2!D:D) -> 0 | C6: =SUMIF(Feuil2!$A:$A,Feuil1!A6,Feuil2!E:E) -> 0 | D6: =SUMIF(Feuil2!$A:$A,Feuil1!A6,Feuil2!F:F) -> 3333
A7: 45839 | B7: =SUMIF(Feuil2!$A:$A,Feuil1!A7,Feuil2!D:D) -> 1111 | C7: =SUMIF(Feuil2!$A:$A,Feuil1!A7,Feuil2!E:E) -> 0 | D7: =SUMIF(Feuil2!$A:$A,Feuil1!A7,Feuil2!F:F) -> 0
A8: 45870 | B8: =SUMIF(Feuil2!$A:$A,Feuil1!A8,Feuil2!D:D) -> 0 | C8: =SUMIF(Feuil2!$A:$A,Feuil1!A8,Feuil2!E:E) -> 2222 | D8: =SUMIF(Feuil2!$A:$A,Feuil1!A8,Feuil2!F:F) -> 0
A9: 45901 | B9: =SUMIF(Feuil2!$A:$A,Feuil1!A9,Feuil2!D:D) -> 0 | C9: =SUMIF(Feuil2!$A:$A,Feuil1!A9,Feuil2!E:E) -> 0 | D9: =SUMIF(Feuil2!$A:$A,Feuil1!A9,Feuil2!F:F) -> 3333
A10: 45931 | B10: =SUMIF(Feuil2!$A:$A,Feuil1!A10,Feuil2!D:D) -> 1111 | C10: =SUMIF(Feuil2!$A:$A,Feuil1!A10,Feuil2!E:E) -> 0 | D10: =SUMIF(Feuil2!$A:$A,Feuil1!A10,Feuil2!F:F) -> 0
A11: 45962 | B11: =SUMIF(Feuil2!$A:$A,Feuil1!A11,Feuil2!D:D) -> 0 | C11: =SUMIF(Feuil2!$A:$A,Feuil1!A11,Feuil2!E:E) -> 2222 | D11: =SUMIF(Feuil2!$A:$A,Feuil1!A11,Feuil2!F:F) -> 0
A12: 45992 | B12: =SUMIF(Feuil2!$A:$A,Feuil1!A12,Feuil2!D:D) -> 1111 | C12: =SUMIF(Feuil2!$A:$A,Feuil1!A12,Feuil2!E:E) -> 2222 | D12: =SUMIF(Feuil2!$A:$A,Feuil1!A12,Feuil2!F:F) -> 6666
A13: TOTAL | B13: =SUM(B1:B12) -> 5555 | C13: =SUM(C1:C12) -> 11110 | D13: =SUM(D1:D12) -> 16665
A14: CA / DAS | B14: En cours | C14: Validé | D14: Refus
A15: DAS 1 | B15: =SUMIF(Feuil2!$B:$B,Feuil1!A15,Feuil2!D:D) -> 0 | C15: =SUMIF(Feuil2!$B:$B,Feuil1!A15,Feuil2!E:E) -> 0 | D15: =SUMIF(Feuil2!$B:$B,Feuil1!A15,Feuil2!F:F) -> 0
A16: DAS 2 | B16: =SUMIF(Feuil2!$B:$B,Feuil1!A16,Feuil2!D:D) -> 0 | C16: =SUMIF(Feuil2!$B:$B,Feuil1!A16,Feuil2!E:E) -> 0 | D16: =SUMIF(Feuil2!$B:$B,Feuil1!A16,Feuil2!F:F) -> 0
A17: DAS 3 | B17: =SUMIF(Feuil2!$B:$B,Feuil1!A17,Feuil2!D:D) -> 0 | C17: =SUMIF(Feuil2!$B:$B,Feuil1!A17,Feuil2!E:E) -> 0 | D17: =SUMIF(Feuil2!$B:$B,Feuil1!A17,Feuil2!F:F) -> 0
A18: HT BT Standard | B18: =SUMIF(Feuil2!$B:$B,Feuil1!A18,Feuil2!D:D) -> 0 | C18: =SUMIF(Feuil2!$B:$B,Feuil1!A18,Feuil2!E:E) -> 0 | D18: =SUMIF(Feuil2!$B:$B,Feuil1!A18,Feuil2!F:F) -> 0
A19: HT BT Spécifique | B19: =SUMIF(Feuil2!$B:$B,Feuil1!A19,Feuil2!D:D) -> 0 | C19: =SUMIF(Feuil2!$B:$B,Feuil1!A19,Feuil2!E:E) -> 0 | D19: =SUMIF(Feuil2!$B:$B,Feuil1!A19,Feuil2!F:F) -> 0
A20: TOTAL | B20: =SUM(B15:B19) -> 0 | C20: =SUM(C15:C19) -> 0 | D20: =SUM(D15:D19) -> 0
A21: CA / DAS | B21: En cours | C21: Validé | D21: Refus
A22: Mobilité | B22: =SUMIF(Feuil2!$C:$C,Feuil1!A22,Feuil2!D:D) -> 3333 | C22: =SUMIF(Feuil2!$C:$C,Feuil1!A22,Feuil2!E:E) -> 0 | D22: =SUMIF(Feuil2!$C:$C,Feuil1!A22,Feuil2!F:F) -> 6666
A23: Infrastructure | B23: =SUMIF(Feuil2!$C:$C,Feuil1!A23,Feuil2!D:D) -> 1111 | C23: =SUMIF(Feuil2!$C:$C,Feuil1!A23,Feuil2!E:E) -> 2222 | D23: =SUMIF(Feuil2!$C:$C,Feuil1!A23,Feuil2!F:F) -> 3333
A24: Energie | B24: =SUMIF(Feuil2!$C:$C,Feuil1!A24,Feuil2!D:D) -> 0 | C24: =SUMIF(Feuil2!$C:$C,Feuil1!A24,Feuil2!E:E) -> 6666 | D24: =SUMIF(Feuil2!$C:$C,Feuil1!A24,Feuil2!F:F) -> 3333
A25: Machine | B25: =SUMIF(Feuil2!$C:$C,Feuil1!A25,Feuil2!D:D) -> 0 | C25: =SUMIF(Feuil2!$C:$C,Feuil1!A25,Feuil2!E:E) -> 0 | D25: =SUMIF(Feuil2!$C:$C,Feuil1!A25,Feuil2!F:F) -> 0
A26: TOTAL | B26: =SUM(B20:B25) -> 4444 | C26: =SUM(C20:C25) -> 8888 | D26: =SUM(D20:D25) -> 13332

Sheet Feuil2
A1: MOIS DE DEPOSE | B1: TYPE DAS | C1: DOMAINE | D1: CA EN ATTENTE | E1: CA VALIDE | F1: CA NON RETENU
A2: 45658 | B2: DAS 1 | C2: Mobilité | D2: 1111
A3: 45689 | B3: DAS 1 | C3: Infrastructure | E3: 2222
A4: 45717 | B4: DAS 1 | C4: Energie | F4: 3333
A5: 45748 | B5: DAS 2 | C5: Machine | D5: 1111
A6: 45778 | B6: DAS 2 | C6: Mobilité | E6: 2222
A7: 45809 | B7: DAS 2 | C7: Mobilité | F7: 3333
A8: 45839 | B8: DAS 3 | C8: Infrastructure | D8: 1111
A9: 45870 | B9: DAS 3 | C9: Energie | E9: 2222
A10: 45901 | B10: DAS 3 | C10: Infrastructure | F10: 3333
A11: 45931 | B11: HT BT Standart | C11: Mobilité | D11: 1111
A12: 45962 | B12: HT BT Standart | C12: Energie | E12: 2222
A13: 45992 | B13: HT BT Standart | C13: Mobilité | F13: 3333
A14: 45992 | B14: HT BT Spécifique | C14: Mobilité | D14: 1111
A15: 45992 | B15: HT BT Spécifique | C15: Energie | E15: 2222
A16: 45992 | B16: HT BT Spécifique | C16: Machine | F16: 3333
