Workbook

Sheet Feuil1
A1: SOINS | F1: FACTURE | N1: CPAM | R1: MUTUELLE moi | W1: MUTUELLE Rod
A2: Date des soins | B2: Bénéficiaire | C2: nom | D2: spécialité | E2: intervention | F2: total facture | G2: ALD | H2: part sécu | I2: sécu déduite | J2: mutuelle déduite | K2: € règlt | L2: date règlt | M2: mode de paiement | N2: Date transmi° CPAM | O2: rembt CPAM le | P2: € remb assuré | Q2: € remb tiers | R2: nom mutuelle | S2: date transmi° mutuelle 1 | T2: date rembt mutuelle 1 | U2: € remb mutuelle assuré | V2: € remb mutuelle tiers | W2: nom mutuelle | X2: date transmi° mutuelle 1 | Y2: date rembt mutuelle 1 | Z2: € remb mutuelle assuré | AA2: € remb mutuelle tiers | AB2: viremt Rod > Chrys le | AC2: € virés | AD2: reste à récupérer | AE2: reste à charge
G3: oui | H3: =F3 | I3: =H3 | N3: =Feuil1!$A3 -> 0 | Q3: =H3 | AE3: =Feuil1!$F3-Feuil1!$P3-Feuil1!$Q3-Feuil1!$U3-Feuil1!$V3 -> #VALUE!
I7: =IF(Tableau3[[#This Row],[ALD]]="oui",Tableau3[[#This Row],[part sécu]],0) -> 0 | K7: =Tableau3[[#This Row],[total facture]]-Tableau3[[#This Row],[sécu déduite]] -> 0 | L7: =Feuil1!$A7 -> 0 | N7: =Feuil1!$A7 -> 0 | Q7: =IF(Tableau3[[#This Row],[ALD]]="oui",Tableau3[[#This Row],[part sécu]],0) -> 0 | S7: =Feuil1!$N7 -> 0 | V7: =Feuil1!$J7 -> 0 | X7: =Feuil1!$N7 -> 0 | AA7: =Feuil1!$J7 -> 0 | AE7: =Feuil1!$F7-Feuil1!$P7-Feuil1!$Q7-Feuil1!$U7-Feuil1!$V7 -> 0
I8: =IF(Tableau3[[#This Row],[ALD]]="oui",Tableau3[[#This Row],[part sécu]],0) -> 0 | K8: =Tableau3[[#This Row],[total facture]]-Tableau3[[#This Row],[sécu déduite]] -> 0 | L8: =Feuil1!$A8 -> 0 | N8: =Feuil1!$A8 -> 0 | Q8: =IF(Tableau3[[#This Row],[ALD]]="oui",Tableau3[[#This Row],[part sécu]],0) -> 0 | S8: =Feuil1!$N8 -> 0 | V8: =Feuil1!$J8 -> 0 | X8: =Feuil1!$N8 -> 0 | AA8: =Feuil1!$J8 -> 0 | AE8: =Feuil1!$F8-Feuil1!$P8-Feuil1!$Q8-Feuil1!$U8-Feuil1!$V8 -> 0
I9: =IF(Tableau3[[#This Row],[ALD]]="oui",Tableau3[[#This Row],[part sécu]],0) -> 0 | K9: =Tableau3[[#This Row],[total facture]]-Tableau3[[#This Row],[sécu déduite]] -> 0 | L9: =Feuil1!$A9 -> 0 | N9: =Feuil1!$A9 -> 0 | Q9: =IF(Tableau3[[#This Row],[ALD]]="oui",Tableau3[[#This Row],[part sécu]],0) -> 0 | S9: =Feuil1!$N9 -> 0 | V9: =Feuil1!$J9 -> 0 | X9: =Feuil1!$N9 -> 0 | AA9: =Feuil1!$J9 -> 0 | AE9: =Feuil1!$F9-Feuil1!$P9-Feuil1!$Q9-Feuil1!$U9-Feuil1!$V9 -> 0
I10: =IF(Tableau3[[#This Row],[ALD]]="oui",Tableau3[[#This Row],[part sécu]],0) -> 0 | K10: =Tableau3[[#This Row],[total facture]]-Tableau3[[#This Row],[sécu déduite]] -> 0 | L10: =Feuil1!$A10 -> 0 | N10: =Feuil1!$A10 -> 0 | Q10: =IF(Tableau3[[#This Row],[ALD]]="oui",Tableau3[[#This Row],[part sécu]],0) -> 0 | S10: =Feuil1!$N10 -> 0 | V10: =Feuil1!$J10 -> 0 | X10: =Feuil1!$N10 -> 0 | AA10: =Feuil1!$J10 -> 0 | AE10: =Feuil1!$F10-Feuil1!$P10-Feuil1!$Q10-Feuil1!$U10-Feuil1!$V10 -> 0
I11: =IF(Tableau3[[#This Row],[ALD]]="oui",Tableau3[[#This Row],[part sécu]],0) -> 0 | K11: =Tableau3[[#This Row],[total facture]]-Tableau3[[#This Row],[sécu déduite]] -> 0 | L11: =Feuil1!$A11 -> 0 | N11: =Feuil1!$A11 -> 0 | Q11: =IF(Tableau3[[#This Row],[ALD]]="oui",Tableau3[[#This Row],[part sécu]],0) -> 0 | S11: =Feuil1!$N11 -> 0 | V11: =Feuil1!$J11 -> 0 | X11: =Feuil1!$N11 -> 0 | AA11: =Feuil1!$J11 -> 0 | AE11: =Feuil1!$F11-Feuil1!$P11-Feuil1!$Q11-Feuil1!$U11-Feuil1!$V11 -> 0
I12: =IF(Tableau3[[#This Row],[ALD]]="oui",Tableau3[[#This Row],[part sécu]],0) -> 0 | K12: =Tableau3[[#This Row],[total facture]]-Tableau3[[#This Row],[sécu déduite]] -> 0 | L12: =Feuil1!$A12 -> 0 | N12: =Feuil1!$A12 -> 0 | Q12: =IF(Tableau3[[#This Row],[ALD]]="oui",Tableau3[[#This Row],[part sécu]],0) -> 0 | S12: =Feuil1!$N12 -> 0 | V12: =Feuil1!$J12 -> 0 | X12: =Feuil1!$N12 -> 0 | AA12: =Feuil1!$J12 -> 0 | AE12: =Feuil1!$F12-Feuil1!$P12-Feuil1!$Q12-Feuil1!$U12-Feuil1!$V12 -> 0
I13: =IF(Tableau3[[#This Row],[ALD]]="oui",Tableau3[[#This Row],[part sécu]],0) -> 0 | K13: =Tableau3[[#This Row],[total facture]]-Tableau3[[#This Row],[sécu déduite]] -> 0 | L13: =Feuil1!$A13 -> 0 | N13: =Feuil1!$A13 -> 0 | Q13: =IF(Tableau3[[#This Row],[ALD]]="oui",Tableau3[[#This Row],[part sécu]],0) -> 0 | S13: =Feuil1!$N13 -> 0 | V13: =Feuil1!$J13 -> 0 | X13: =Feuil1!$N13 -> 0 | AA13: =Feuil1!$J13 -> 0 | AE13: =Feuil1!$F13-Feuil1!$P13-Feuil1!$Q13-Feuil1!$U13-Feuil1!$V13 -> 0
I14: =IF(Tableau3[[#This Row],[ALD]]="oui",Tableau3[[#This Row],[part sécu]],0) -> 0 | K14: =Tableau3[[#This Row],[total facture]]-Tableau3[[#This Row],[sécu déduite]] -> 0 | L14: =Feuil1!$A14 -> 0 | N14: =Feuil1!$A14 -> 0 | Q14: =IF(Tableau3[[#This Row],[ALD]]="oui",Tableau3[[#This Row],[part sécu]],0) -> 0 | S14: =Feuil1!$N14 -> 0 | V14: =Feuil1!$J14 -> 0 | X14: =Feuil1!$N14 -> 0 | AA14: =Feuil1!$J14 -> 0 | AE14: =Feuil1!$F14-Feuil1!$P14-Feuil1!$Q14-Feuil1!$U14-Feuil1!$V14 -> 0
I15: =IF(Tableau3[[#This Row],[ALD]]="oui",Tableau3[[#This Row],[part sécu]],0) -> 0 | K15: =Tableau3[[#This Row],[total facture]]-Tableau3[[#This Row],[sécu déduite]] -> 0 | L15: =Feuil1!$A15 -> 0 | N15: =Feuil1!$A15 -> 0 | Q15: =IF(Tableau3[[#This Row],[ALD]]="oui",Tableau3[[#This Row],[part sécu]],0) -> 0 | S15: =Feuil1!$N15 -> 0 | V15: =Feuil1!$J15 -> 0 | X15: =Feuil1!$N15 -> 0 | AA15: =Feuil1!$J15 -> 0 | AE15: =Feuil1!$F15-Feuil1!$P15-Feuil1!$Q15-Feuil1!$U15-Feuil1!$V15 -> 0
I16: =IF(Tableau3[[#This Row],[ALD]]="oui",Tableau3[[#This Row],[part sécu]],0) -> 0 | K16: =Tableau3[[#This Row],[total facture]]-Tableau3[[#This Row],[sécu déduite]] -> 0 | L16: =Feuil1!$A16 -> 0 | N16: =Feuil1!$A16 -> 0 | Q16: =IF(Tableau3[[#This Row],[ALD]]="oui",Tableau3[[#This Row],[part sécu]],0) -> 0 | S16: =Feuil1!$N16 -> 0 | V16: =Feuil1!$J16 -> 0 | X16: =Feuil1!$N16 -> 0 | AA16: =Feuil1!$J16 -> 0 | AE16: =Feuil1!$F16-Feuil1!$P16-Feuil1!$Q16-Feuil1!$U16-Feuil1!$V16 -> 0
I17: =IF(Tableau3[[#This Row],[ALD]]="oui",Tableau3[[#This Row],[part sécu]],0) -> 0 | K17: =Tableau3[[#This Row],[total facture]]-Tableau3[[#This Row],[sécu déduite]] -> 0 | L17: =Feuil1!$A17 -> 0 | N17: =Feuil1!$A17 -> 0 | Q17: =IF(Tableau3[[#This Row],[ALD]]="oui",Tableau3[[#This Row],[part sécu]],0) -> 0 | S17: =Feuil1!$N17 -> 0 | V17: =Feuil1!$J17 -> 0 | X17: =Feuil1!$N17 -> 0 | AA17: =Feuil1!$J17 -> 0 | AE17: =Feuil1!$F17-Feuil1!$P17-Feuil1!$Q17-Feuil1!$U17-Feuil1!$V17 -> 0
I18: =IF(Tableau3[[#This Row],[ALD]]="oui",Tableau3[[#This Row],[part sécu]],0) -> 0 | K18: =Tableau3[[#This Row],[total facture]]-Tableau3[[#This Row],[sécu déduite]] -> 0 | L18: =Feuil1!$A18 -> 0 | N18: =Feuil1!$A18 -> 0 | Q18: =IF(Tableau3[[#This Row],[ALD]]="oui",Tableau3[[#This Row],[part sécu]],0) -> 0 | S18: =Feuil1!$N18 -> 0 | V18: =Feuil1!$J18 -> 0 | X18: =Feuil1!$N18 -> 0 | AA18: =Feuil1!$J18 -> 0 | AE18: =Feuil1!$F18-Feuil1!$P18-Feuil1!$Q18-Feuil1!$U18-Feuil1!$V18 -> 0
... I675: =IF(Tableau3[[#This Row],[ALD]]="oui",Tableau3[[#This Row],[part sécu]],0) -> 0 | K675: =Tableau3[[#This Row],[total facture]]-Tableau3[[#This Row],[sécu déduite]] -> 0 | L675: =Feuil1!$A675 -> 0 | N675: =Feuil1!$A675 -> 0 | Q675: =IF(Tableau3[[#This Row],[ALD]]="oui",Tableau3[[#This Row],[part sécu]],0) -> 0 | S675: =Feuil1!$N675 -> 0 | V675: =Feuil1!$J675 -> 0 | X675: =Feuil1!$N675 -> 0 | AA675: =Feuil1!$J675 -> 0 | AE675: =Feuil1!$F675-Feuil1!$P675-Feuil1!$Q675-Feuil1!$U675-Feuil1!$V675 -> 0
