Workbook

Sheet Produit
C1: Famille | D1: EAN | E1: Test
C2: T Grattante1 | D2: Test | E2: Test
C3: T SDB | D3: Test | E3: Test
C4: T Aimantée | D4: Test | E4: Test
C5: T Slim | D5: Test | E5: Test
C6: T Plate | D6: Test | E6: Test
C7: ET | D7: Test | E7: Test
C8: Matière G | D8: Test | E8: Test
C9: Tissu | D9: Test | E9: Test
C10: T Grattante2 | D10: Test | E10: Test
C11: T Grattante3 | D11: Test | E11: Test

Sheet BOM
A1: Famille | B1: Composant | C1: Type produit | D1: Type Composant | E1: Consommation
A2: T Grattante1 | B2: ET | C2: =VLOOKUP(A2,Produit!$C:$E,3,FALSE) -> Test | D2: =VLOOKUP(B2,Produit!$C:$E,3,FALSE) -> Test | E2: 10
A3: T Grattante1 | B3: Tissu | C3: =VLOOKUP(A3,Produit!$C:$E,3,FALSE) -> Test | D3: =VLOOKUP(B3,Produit!$C:$E,3,FALSE) -> Test | E3: 0.1
A4: T Grattante2 | B4: Matière G | C4: =VLOOKUP(A4,Produit!$C:$E,3,FALSE) -> Test | D4: =VLOOKUP(B4,Produit!$C:$E,3,FALSE) -> Test | E4: 20
A5: T Grattante2 | B5: Tissu | C5: =VLOOKUP(A5,Produit!$C:$E,3,FALSE) -> Test | D5: =VLOOKUP(B5,Produit!$C:$E,3,FALSE) -> Test | E5: 0.2
A6: T Grattante3 | B6: ET | C6: =VLOOKUP(A6,Produit!$C:$E,3,FALSE) -> Test | D6: =VLOOKUP(B6,Produit!$C:$E,3,FALSE) -> Test | E6: 20
A7: T Grattante3 | B7: Tissu | C7: =VLOOKUP(A7,Produit!$C:$E,3,FALSE) -> Test | D7: =VLOOKUP(B7,Produit!$C:$E,3,FALSE) -> Test | E7: 0.2

Sheet 2 - Besoin F
A1: Famille | B1: 45658 | C1: 45689 | D1: 45717 | E1: 45748 | F1: 45778 | G1: 45809 | H1: 45839 | I1: 45870 | J1: 45901 | K1: 45931 | L1: 45962 | M1: 45992
A2: T Slim | B2: 1652.9126 | C2: 1719.0291 | D2: 1138.1163 | E2: 1192.0806 | F2: 967.49602 | G2: 1085.752 | H2: 1096.6083 | I2: 1329.0872 | J2: 1454.2457 | K2: 1581.7712 | L2: 1369.3521 | M2: 0
A3: T SDB | B3: 3111.0293 | C3: 2805.7417 | D3: 2587.6791 | E3: 2510.7989 | F3: 2866.9562 | G3: 1997.7064 | H3: 2130.4716 | I3: 3289.108 | J3: 2173.8224 | K3: 4036.3998 | L3: 1633.725 | M3: 0
A4: T SDB | B4: 167.12238 | C4: 173.80728 | D4: 115.07245 | E4: 120.52866 | F4: 97.821411 | G4: 109.77802 | H4: 110.87567 | I4: 134.3811 | J4: 147.03561 | K4: 159.92944 | L4: 138.45221 | M4: 0
A5: T Plate | B5: 175.35918 | C5: 229.9902 | D5: 2834.1673 | E5: 679.97551 | F5: 635.74694 | G5: 768.10612 | H5: 773.02041 | I5: 875.89388 | J5: 885.72245 | K5: 988.59592 | L5: 995.96735 | M5: 0
A6: T Plate | B6: 2480.2008 | C6: 2236.8168 | D6: 2062.9712 | E6: 2001.6801 | F6: 2285.6188 | G6: 1592.6282 | H6: 1698.4724 | I6: 2622.1701 | J6: 1733.0329 | K6: 3217.9324 | L6: 1302.4519 | M6: 0
A7: T Plate | B7: 142.36351 | C7: 148.05805 | D7: 98.024682 | E7: 102.67257 | F7: 83.32935 | G7: 93.514605 | H7: 94.449649 | I7: 114.47279 | J7: 125.25256 | K7: 136.23619 | L7: 117.94077 | M7: 0
A8: T Grattante3 | B8: 11080.606 | C8: 50213.23 | D8: 85287.944 | E8: 64209.714 | F8: 136619.72 | G8: 75348.216 | H8: 79554.944 | I8: 201488.84 | J8: 82706.798 | K8: 105693.06 | L8: 85717.723 | M8: 0
A9: T Grattante2 | B9: 10648.306 | C9: 9603.3796 | D9: 8857.0038 | E9: 8593.8615 | F9: 9812.9023 | G9: 6837.6689 | H9: 7292.0924 | I9: 11257.826 | J9: 7440.4719 | K9: 13815.627 | L9: 5591.8481 | M9: 0
A10: T Grattante1 | B10: 3560.1194 | C10: 3702.5242 | D10: 2451.3274 | E10: 2567.5581 | F10: 2083.8376 | G10: 2338.5428 | H10: 2361.9256 | I10: 2862.6493 | J10: 3132.2216 | K10: 3406.8919 | L10: 2949.3738 | M10: 0
A11: T Grattante1 | B11: 516.56523 | C11: 465.8743 | D11: 429.66649 | E11: 416.90106 | F11: 476.03855 | G11: 331.70554 | H11: 353.7503 | I11: 546.13398 | J11: 360.94841 | K11: 670.21669 | L11: 271.26891 | M11: 0
A12: ET | B12: 2808.9722 | C12: 2533.3257 | D12: 2336.4353 | E12: 2267.0196 | F12: 2588.5967 | G12: 1803.7444 | H12: 1923.6191 | I12: 2969.7608 | J12: 1962.7609 | K12: 3644.4963 | L12: 1475.1028 | M12: 0
A13: ET | B13: 229.53537 | C13: 238.71679 | D13: 158.04704 | E13: 165.54091 | F13: 134.35348 | G13: 150.77536 | H13: 152.28295 | I13: 184.56664 | J13: 201.94706 | K13: 219.65617 | L13: 190.15812 | M13: 0

Sheet 3 - Besoin M
A1: Composant | B1: 45658 | C1: 45689 | D1: 45717 | E1: 45748 | F1: 45778 | G1: 45809 | H1: 45839 | I1: 45870 | J1: 45901 | K1: 45931 | L1: 45962 | M1: 45992
A2: Matière G | B2: {=SUMPRODUCT( '2 - Besoin F'!B$2:B$100 *NOT(ISERROR(MATCH('2 - Besoin F'!A$2:A$100,BOM!$A$2:$A$100,0))) *NOT(ISERROR(INDEX(BOM!$B$2:$B$100,MATCH('2 - Besoin F'!$A$2:$A$100,BOM!$A$2:$A$100,0))=$A2)) )} -> 25805.596 | C2: {=SUMPRODUCT( '2 - Besoin F'!C$2:C$100 *NOT(ISERROR(MATCH('2 - Besoin F'!B$2:B$100,BOM!$A$2:$A$100,0))) *NOT(ISERROR(INDEX(BOM!$B$2:$B$100,MATCH('2 - Besoin F'!$A$2:$A$100,BOM!$A$2:$A$100,0))=$A2)) )} -> 0 | D2: {=SUMPRODUCT( '2 - Besoin F'!D$2:D$100 *NOT(ISERROR(MATCH('2 - Besoin F'!C$2:C$100,BOM!$A$2:$A$100,0))) *NOT(ISERROR(INDEX(BOM!$B$2:$B$100,MATCH('2 - Besoin F'!$A$2:$A$100,BOM!$A$2:$A$100,0))=$A2)) )} -> 0 | E2: {=SUMPRODUCT( '2 - Besoin F'!E$2:E$100 *NOT(ISERROR(MATCH('2 - Besoin F'!D$2:D$100,BOM!$A$2:$A$100,0))) *NOT(ISERROR(INDEX(BOM!$B$2:$B$100,MATCH('2 - Besoin F'!$A$2:$A$100,BOM!$A$2:$A$100,0))=$A2)) )} -> 0 | F2: {=SUMPRODUCT( '2 - Besoin F'!F$2:F$100 *NOT(ISERROR(MATCH('2 - Besoin F'!E$2:E$100,BOM!$A$2:$A$100,0))) *NOT(ISERROR(INDEX(BOM!$B$2:$B$100,MATCH('2 - Besoin F'!$A$2:$A$100,BOM!$A$2:$A$100,0))=$A2)) )} -> 0 | G2: {=SUMPRODUCT( '2 - Besoin F'!G$2:G$100 *NOT(ISERROR(MATCH('2 - Besoin F'!F$2:F$100,BOM!$A$2:$A$100,0))) *NOT(ISERROR(INDEX(BOM!$B$2:$B$100,MATCH('2 - Besoin F'!$A$2:$A$100,BOM!$A$2:$A$100,0))=$A2)) )} -> 0 | H2: {=SUMPRODUCT( '2 - Besoin F'!H$2:H$100 *NOT(ISERROR(MATCH('2 - Besoin F'!G$2:G$100,BOM!$A$2:$A$100,0))) *NOT(ISERROR(INDEX(BOM!$B$2:$B$100,MATCH('2 - Besoin F'!$A$2:$A$100,BOM!$A$2:$A$100,0))=$A2)) )} -> 0 | I2: {=SUMPRODUCT( '2 - Besoin F'!I$2:I$100 *NOT(ISERROR(MATCH('2 - Besoin F'!H$2:H$100,BOM!$A$2:$A$100,0))) *NOT(ISERROR(INDEX(BOM!$B$2:$B$100,MATCH('2 - Besoin F'!$A$2:$A$100,BOM!$A$2:$A$100,0))=$A2)) )} -> 0 | ... M2: {=SUMPRODUCT( '2 - Besoin F'!M$2:M$100 *NOT(ISERROR(MATCH('2 - Besoin F'!L$2:L$100,BOM!$A$2:$A$100,0))) *NOT(ISERROR(INDEX(BOM!$B$2:$B$100,MATCH('2 - Besoin F'!$A$2:$A$100,BOM!$A$2:$A$100,0))=$A2)) )} -> 0
A3: Tissu | B3: {=SUMPRODUCT( '2 - Besoin F'!B$2:B$100 *NOT(ISERROR(MATCH('2 - Besoin F'!A$2:A$100,BOM!$A$2:$A$100,0))) *NOT(ISERROR(INDEX(BOM!$B$2:$B$100,MATCH('2 - Besoin F'!$A$2:$A$100,BOM!$A$2:$A$100,0))=$A3)) )} -> 25805.596 | C3: {=SUMPRODUCT( '2 - Besoin F'!C$2:C$100 *NOT(ISERROR(MATCH('2 - Besoin F'!B$2:B$100,BOM!$A$2:$A$100,0))) *NOT(ISERROR(INDEX(BOM!$B$2:$B$100,MATCH('2 - Besoin F'!$A$2:$A$100,BOM!$A$2:$A$100,0))=$A3)) )} -> 0 | D3: {=SUMPRODUCT( '2 - Besoin F'!D$2:D$100 *NOT(ISERROR(MATCH('2 - Besoin F'!C$2:C$100,BOM!$A$2:$A$100,0))) *NOT(ISERROR(INDEX(BOM!$B$2:$B$100,MATCH('2 - Besoin F'!$A$2:$A$100,BOM!$A$2:$A$100,0))=$A3)) )} -> 0 | E3: {=SUMPRODUCT( '2 - Besoin F'!E$2:E$100 *NOT(ISERROR(MATCH('2 - Besoin F'!D$2:D$100,BOM!$A$2:$A$100,0))) *NOT(ISERROR(INDEX(BOM!$B$2:$B$100,MATCH('2 - Besoin F'!$A$2:$A$100,BOM!$A$2:$A$100,0))=$A3)) )} -> 0 | F3: {=SUMPRODUCT( '2 - Besoin F'!F$2:F$100 *NOT(ISERROR(MATCH('2 - Besoin F'!E$2:E$100,BOM!$A$2:$A$100,0))) *NOT(ISERROR(INDEX(BOM!$B$2:$B$100,MATCH('2 - Besoin F'!$A$2:$A$100,BOM!$A$2:$A$100,0))=$A3)) )} -> 0 | G3: {=SUMPRODUCT( '2 - Besoin F'!G$2:G$100 *NOT(ISERROR(MATCH('2 - Besoin F'!F$2:F$100,BOM!$A$2:$A$100,0))) *NOT(ISERROR(INDEX(BOM!$B$2:$B$100,MATCH('2 - Besoin F'!$A$2:$A$100,BOM!$A$2:$A$100,0))=$A3)) )} -> 0 | H3: {=SUMPRODUCT( '2 - Besoin F'!H$2:H$100 *NOT(ISERROR(MATCH('2 - Besoin F'!G$2:G$100,BOM!$A$2:$A$100,0))) *NOT(ISERROR(INDEX(BOM!$B$2:$B$100,MATCH('2 - Besoin F'!$A$2:$A$100,BOM!$A$2:$A$100,0))=$A3)) )} -> 0 | I3: {=SUMPRODUCT( '2 - Besoin F'!I$2:I$100 *NOT(ISERROR(MATCH('2 - Besoin F'!H$2:H$100,BOM!$A$2:$A$100,0))) *NOT(ISERROR(INDEX(BOM!$B$2:$B$100,MATCH('2 - Besoin F'!$A$2:$A$100,BOM!$A$2:$A$100,0))=$A3)) )} -> 0 | ... M3: {=SUMPRODUCT( '2 - Besoin F'!M$2:M$100 *NOT(ISERROR(MATCH('2 - Besoin F'!L$2:L$100,BOM!$A$2:$A$100,0))) *NOT(ISERROR(INDEX(BOM!$B$2:$B$100,MATCH('2 - Besoin F'!$A$2:$A$100,BOM!$A$2:$A$100,0))=$A3)) )} -> 0
A8: Composant | B8: 45658 | C8: 45689 | D8: 45717 | E8: 45748 | F8: 45778 | G8: 45809 | H8: 45839 | I8: 45870 | J8: 45901 | K8: 45931 | L8: 45962 | M8: 45992
A9: Matière G | B9: {=SUMPRODUCT('2 - Besoin F'!C$2:C$100*(BOM!$A$2:$A$100='2 - Besoin F'!$A$2:$A$100)*(BOM!$B$2:$B$100='3 - Besoin M'!$A9)*BOM!$E$2:$E$100)} -> 0 | C9: {=SUMPRODUCT('2 - Besoin F'!D$2:D$100*(BOM!$A$2:$A$100='2 - Besoin F'!$A$2:$A$100)*(BOM!$B$2:$B$100='3 - Besoin M'!$A9)*BOM!$E$2:$E$100)} -> 0 | D9: {=SUMPRODUCT('2 - Besoin F'!E$2:E$100*(BOM!$A$2:$A$100='2 - Besoin F'!$A$2:$A$100)*(BOM!$B$2:$B$100='3 - Besoin M'!$A9)*BOM!$E$2:$E$100)} -> 0 | E9: {=SUMPRODUCT('2 - Besoin F'!F$2:F$100*(BOM!$A$2:$A$100='2 - Besoin F'!$A$2:$A$100)*(BOM!$B$2:$B$100='3 - Besoin M'!$A9)*BOM!$E$2:$E$100)} -> 0 | F9: {=SUMPRODUCT('2 - Besoin F'!G$2:G$100*(BOM!$A$2:$A$100='2 - Besoin F'!$A$2:$A$100)*(BOM!$B$2:$B$100='3 - Besoin M'!$A9)*BOM!$E$2:$E$100)} -> 0 | G9: {=SUMPRODUCT('2 - Besoin F'!H$2:H$100*(BOM!$A$2:$A$100='2 - Besoin F'!$A$2:$A$100)*(BOM!$B$2:$B$100='3 - Besoin M'!$A9)*BOM!$E$2:$E$100)} -> 0 | H9: {=SUMPRODUCT('2 - Besoin F'!I$2:I$100*(BOM!$A$2:$A$100='2 - Besoin F'!$A$2:$A$100)*(BOM!$B$2:$B$100='3 - Besoin M'!$A9)*BOM!$E$2:$E$100)} -> 0 | I9: {=SUMPRODUCT('2 - Besoin F'!J$2:J$100*(BOM!$A$2:$A$100='2 - Besoin F'!$A$2:$A$100)*(BOM!$B$2:$B$100='3 - Besoin M'!$A9)*BOM!$E$2:$E$100)} -> 0 | ... M9: {=SUMPRODUCT('2 - Besoin F'!N$2:N$100*(BOM!$A$2:$A$100='2 - Besoin F'!$A$2:$A$100)*(BOM!$B$2:$B$100='3 - Besoin M'!$A9)*BOM!$E$2:$E$100)} -> 0
A10: Tissu | B10: {=SUMPRODUCT('2 - Besoin F'!C$2:C$100*(BOM!$A$2:$A$100='2 - Besoin F'!$A$2:$A$100)*(BOM!$B$2:$B$100='3 - Besoin M'!$A10)*BOM!$E$2:$E$100)} -> 0 | C10: {=SUMPRODUCT('2 - Besoin F'!D$2:D$100*(BOM!$A$2:$A$100='2 - Besoin F'!$A$2:$A$100)*(BOM!$B$2:$B$100='3 - Besoin M'!$A10)*BOM!$E$2:$E$100)} -> 0 | D10: {=SUMPRODUCT('2 - Besoin F'!E$2:E$100*(BOM!$A$2:$A$100='2 - Besoin F'!$A$2:$A$100)*(BOM!$B$2:$B$100='3 - Besoin M'!$A10)*BOM!$E$2:$E$100)} -> 0 | E10: {=SUMPRODUCT('2 - Besoin F'!F$2:F$100*(BOM!$A$2:$A$100='2 - Besoin F'!$A$2:$A$100)*(BOM!$B$2:$B$100='3 - Besoin M'!$A10)*BOM!$E$2:$E$100)} -> 0 | F10: {=SUMPRODUCT('2 - Besoin F'!G$2:G$100*(BOM!$A$2:$A$100='2 - Besoin F'!$A$2:$A$100)*(BOM!$B$2:$B$100='3 - Besoin M'!$A10)*BOM!$E$2:$E$100)} -> 0 | G10: {=SUMPRODUCT('2 - Besoin F'!H$2:H$100*(BOM!$A$2:$A$100='2 - Besoin F'!$A$2:$A$100)*(BOM!$B$2:$B$100='3 - Besoin M'!$A10)*BOM!$E$2:$E$100)} -> 0 | H10: {=SUMPRODUCT('2 - Besoin F'!I$2:I$100*(BOM!$A$2:$A$100='2 - Besoin F'!$A$2:$A$100)*(BOM!$B$2:$B$100='3 - Besoin M'!$A10)*BOM!$E$2:$E$100)} -> 0 | I10: {=SUMPRODUCT('2 - Besoin F'!J$2:J$100*(BOM!$A$2:$A$100='2 - Besoin F'!$A$2:$A$100)*(BOM!$B$2:$B$100='3 - Besoin M'!$A10)*BOM!$E$2:$E$100)} -> 0 | ... M10: {=SUMPRODUCT('2 - Besoin F'!N$2:N$100*(BOM!$A$2:$A$100='2 - Besoin F'!$A$2:$A$100)*(BOM!$B$2:$B$100='3 - Besoin M'!$A10)*BOM!$E$2:$E$100)} -> 0

Sheet Test
A1: Fruit | B1: Type arbre | C1: Cout | F1: Fruit | G1: Qté
A2: Pomme | B2: Fruitier | C2: 0.5 | F2: Pomme | G2: 10 | J2: Type arbre
A3: Poire | B3: Arbuste | C3: 0.7 | F3: Poire | G3: 10 | J3: Fruitier | K3: {=SUMPRODUCT(G2:G4*(A2:A4=F2:F4)*(B2:B4=J3)*C2:C4)} -> 9
A4: Cerise | B4: Fruitier | C4: 0.2 | F4: Cerise | G4: 20 | J4: Arbuste | K4: {=SUMPRODUCT(G2:G4*(A2:A4=F2:F4)*(B2:B4=J4)*C2:C4)} -> 7

Sheet Besoin test
A1: Fruit | B1: Qté
A2: Pomme | B2: 10
A3: Poire | B3: 10
A4: Cerise | B4: 10

Sheet Nom test
A1: Fruit | B1: Type arbre | C1: qté
A2: Pomme | B2: Fruitier | C2: 0.5
A3: Poire | B3: Arbuste | C3: 0.7
A4: Cerise | B4: Fruitier | C4: 0.2

Sheet Capa test
A1: Type arbre | D1: Type arbre
A2: Fruitier | B2: {=SUMPRODUCT('Besoin test'!B2:B4*('Nom test'!A2:A4='Besoin test'!A2:A4)*('Nom test'!B2:B4=A2)*'Nom test'!C2:C4)} -> 7 | D2: Fruitier | E2: {=SUMPRODUCT('Besoin test'!B:B*('Nom test'!A2:A4='Besoin test'!A:A)*('Nom test'!B:B=D2)*'Nom test'!C:C)} -> #VALUE!
