Workbook
Name b_crudités: #REF!
Name GEMRCN: #REF!
Name GRAMMAGES_GEMRCN: #REF!
Name NOM_CLIENT: #REF!
Name s: #REF!
Name S1_: #REF!
Name S2_: #REF!
Name S3_: #REF!
Name S4_: #REF!
Name S5_: #REF!
Name SOMMAIRE_FICHES_TECHNIQUES: SOMMAIRE!$B$1
Name TABLE_DE_CONVERSION_CODE_ET_PRIX: #REF!

Sheet SOMMAIRE
B1: SOMMAIRE FICHES TECHNIQUES
B3: HORS D'ŒUVRE
B4: SALADES VERTES LEGERES

Sheet SALADES VERTES LEGERES
C4: PRIX PORTION
A5: GEMRCN | B5: SALADE VERTE LEGERE | C5: Mater 1 | D5: Prim 2 | E5: Colle 3 | F5: Ado 4 | G5: Agé 5 | H5: Adu 6 | I5: 7
A6: ='SALADE D''AGRUMES ET MAIS'!A5 -> B | B6: ='SALADE D''AGRUMES ET MAIS'!B5 -> SALADE D'AGRUMES ET MAIS | C6: ='SALADE D''AGRUMES ET MAIS'!C5 -> 0.077928 | D6: ='SALADE D''AGRUMES ET MAIS'!D5 -> 0.112812 | E6: ='SALADE D''AGRUMES ET MAIS'!E5 -> 0.149736 | F6: ='SALADE D''AGRUMES ET MAIS'!F5 -> 0.18768 | G6: ='SALADE D''AGRUMES ET MAIS'!G5 -> 0.152796 | H6: ='SALADE D''AGRUMES ET MAIS'!H5 -> 0.18768 | I6: ='SALADE D''AGRUMES ET MAIS'!I5 -> 0

Sheet SALADE D'AGRUMES ET MAIS
E1: Fiche technique N° | M1: 222
A2: Mercuriale n° | B2: HORS D'ŒUVRE | E2: REDACTEUR | N2: =NOW() -> 40692.905
A3: =IF(A1="Mercuriale COTE RESTAURATION",2,IF(A1="Mercuriale UNE AUTRE TABLE",1,0)) -> 0 | B3: SALADES LEGERES | F3: Noter n° correspondant à la typologie | M3: 5
A4: Lettrage GEMRCN | C4: Prix unitaire par typologie
A5: B | B5: SALADE D'AGRUMES ET MAIS | C5: =SUM((C8*N8)+(C9*N9)+(C10*N10)+(C11*N11)+(C12*N12)+(C13*N13)+(C14*N14)+(C15*N15)+(C16*N16)+(C17*N17)+(C18*N18)+(C19*N19)+(C20*N20)+(C21*N21)+(C22*N22)+(C23*N23)+(C24*N24)+(C25*N25))/J5*O34 -> 0.077928 | D5: =SUM((D8*N8)+(D9*N9)+(D10*N10)+(D11*N11)+(D12*N12)+(D13*N13)+(D14*N14)+(D15*N15)+(D16*N16)+(D17*N17)+(D18*N18)+(D19*N19)+(D20*N20)+(D21*N21)+(D22*N22)+(D23*N23)+(D24*N24)+(D25*N25))/J5*O34 -> 0.112812 | E5: =SUM((E8*N8)+(E9*N9)+(E10*N10)+(E11*N11)+(E12*N12)+(E13*N13)+(E14*N14)+(E15*N15)+(E16*N16)+(E17*N17)+(E18*N18)+(E19*N19)+(E20*N20)+(E21*N21)+(E22*N22)+(E23*N23)+(E24*N24)+(E25*N25))/J5*O34 -> 0.149736 | F5: =SUM((F8*N8)+(F9*N9)+(F10*N10)+(F11*N11)+(F12*N12)+(F13*N13)+(F14*N14)+(F15*N15)+(F16*N16)+(F17*N17)+(F18*N18)+(F19*N19)+(F20*N20)+(F21*N21)+(F22*N22)+(F23*N23)+(F24*N24)+(F25*N25))/J5*O34 -> 0.18768 | G5: =SUM((G8*N8)+(G9*N9)+(G10*N10)+(G11*N11)+(G12*N12)+(G13*N13)+(G14*N14)+(G15*N15)+(G16*N16)+(G17*N17)+(G18*N18)+(G19*N19)+(G20*N20)+(G21*N21)+(G22*N22)+(G23*N23)+(G24*N24)+(G25*N25))/J5*O34 -> 0.152796 | H5: =SUM((H8*N8)+(H9*N9)+(H10*N10)+(H11*N11)+(H12*N12)+(H13*N13)+(H14*N14)+(H15*N15)+(H16*N16)+(H17*N17)+(H18*N18)+(H19*N19)+(H20*N20)+(H21*N21)+(H22*N22)+(H23*N23)+(H24*N24)+(H25*N25))/J5*O34 -> 0.18768 | I5: =SUM((I8*N8)+(I9*N9)+(I10*N10)+(I11*N11)+(I12*N12)+(I13*N13)+(I14*N14)+(I15*N15)+(I16*N16)+(I17*N17)+(I18*N18)+(I19*N19)+(I20*N20)+(I21*N21)+(I22*N22)+(I23*N23)+(I24*N24)+(I25*N25))/J5*O34 -> 0 | J5: 10 | K5: =O5/J5 -> 1 | L5: Noter total CVTS | O5: 10
A6: CODE MERCURIALE | B6: INGREDIENTS | C6: Mater 1 | D6: Prim 2 | E6: Colle 3 | F6: Ado 4 | G6: Agé 5 | H6: Adu 6 | I6: 7 | J6: X | K6: 1 | L6: QTE TOTALE | M6: Unité | N6: P.U. | O6: P.T.U | P6: Nombres de portions
C7: Noter quantités pour 10 PERSONNES | M7: KG
A8: d | B8: a | C8: =H8*0.4 -> 0.28 | D8: =H8*0.6 -> 0.42 | E8: =H8*0.8 -> 0.56 | F8: =H8*1 -> 0.7 | G8: =H8*0.8 -> 0.56 | H8: 0.7 | J8: X | K8: =O5/J5 -> 1 | L8: =IF(M3=1,(K8*C8),IF(M3=2,(K8*D8),IF(M3=3,(K8*E8),IF(M3=4,(K8*F8),IF(M3=5,(K8*G8),IF(M3=6,(K8*H8),IF(M3=7,(K8*I8)))))))) -> 0.56 | M8: G | N8: 1 | O8: =L8*N8 -> 0.56
A9: e | B9: b | C9: =H9*0.4 -> 0.072 | D9: =H9*0.6 -> 0.108 | E9: =H9*0.8 -> 0.144 | F9: =H9*1 -> 0.18 | G9: =H9*0.8 -> 0.144 | H9: 0.18 | J9: X | K9: =K8 -> 1 | L9: =IF(M3=1,(K9*C9),IF(M3=2,(K9*D9),IF(M3=3,(K9*E9),IF(M3=4,(K9*F9),IF(M3=5,(K9*G9),IF(M3=6,(K9*H9),IF(M3=7,(K9*I9)))))))) -> 0.144 | M9: G | N9: 1 | O9: =L9*N9 -> 0.144
A10: f | B10: c | C10: =H10*0.4 -> 0.08 | D10: =H10*0.6 -> 0.12 | E10: =H10*0.8 -> 0.16 | F10: =H10*1 -> 0.2 | G10: =H10*0.8 -> 0.16 | H10: 0.2 | J10: X | K10: =K9 -> 1 | L10: =IF(M3=1,(K10*C10),IF(M3=2,(K10*D10),IF(M3=3,(K10*E10),IF(M3=4,(K10*F10),IF(M3=5,(K10*G10),IF(M3=6,(K10*H10),IF(M3=7,(K10*I10)))))))) -> 0.16 | M10: G | N10: 1 | O10: =L10*N10 -> 0.16
A11: g | B11: d | C11: =H11*0.4 -> 0.012 | D11: =H11*0.6 -> 0.018 | E11: =H11*0.8 -> 0.024 | F11: =H11*1 -> 0.03 | G11: =H11*0.8 -> 0.024 | H11: 0.03 | J11: X | K11: =K10 -> 1 | L11: =IF(M3=1,(K11*C11),IF(M3=2,(K11*D11),IF(M3=3,(K11*E11),IF(M3=4,(K11*F11),IF(M3=5,(K11*G11),IF(M3=6,(K11*H11),IF(M3=7,(K11*I11)))))))) -> 0.024 | M11: G | N11: 1 | O11: =L11*N11 -> 0.024
A12: h | B12: e | C12: =H12*0.4 -> 0.24 | D12: =H12*0.6 -> 0.36 | E12: =H12*0.8 -> 0.48 | F12: =H12*1 -> 0.6 | G12: =H12*0.8 -> 0.48 | H12: 0.6 | J12: X | K12: =K11 -> 1 | L12: =IF(M3=1,(K12*C12),IF(M3=2,(K12*D12),IF(M3=3,(K12*E12),IF(M3=4,(K12*F12),IF(M3=5,(K12*G12),IF(M3=6,(K12*H12),IF(M3=7,(K12*I12)))))))) -> 0.48 | M12: G | N12: 1 | O12: =L12*N12 -> 0.48
A13: j | B13: f | C13: 0.04 | D13: 0.04 | E13: 0.05 | F13: 0.07 | G13: 0.07 | H13: 0.07 | J13: X | K13: =K12 -> 1 | L13: =IF(M3=1,(K13*C13),IF(M3=2,(K13*D13),IF(M3=3,(K13*E13),IF(M3=4,(K13*F13),IF(M3=5,(K13*G13),IF(M3=6,(K13*H13),IF(M3=7,(K13*I13)))))))) -> 0.07 | M13: G | N13: 1 | O13: =L13*N13 -> 0.07
A14: k | B14: g | C14: 0.04 | D14: 0.04 | E14: 0.05 | F14: 0.06 | G14: 0.06 | H14: 0.06 | J14: X | K14: =K13 -> 1 | L14: =IF(M3=1,(K14*C14),IF(M3=2,(K14*D14),IF(M3=3,(K14*E14),IF(M3=4,(K14*F14),IF(M3=5,(K14*G14),IF(M3=6,(K14*H14),IF(M3=7,(K14*I14)))))))) -> 0.06 | M14: G | N14: 1 | O14: =L14*N14 -> 0.06
J15: X | K15: =K14 -> 1 | L15: =IF(M3=1,(K15*C15),IF(M3=2,(K15*D15),IF(M3=3,(K15*E15),IF(M3=4,(K15*F15),IF(M3=5,(K15*G15),IF(M3=6,(K15*H15),IF(M3=7,(K15*I15)))))))) -> 0 | O15: =L15*N15 -> 0
J16: X | K16: =K15 -> 1 | L16: =IF(M3=1,(K16*C16),IF(M3=2,(K16*D16),IF(M3=3,(K16*E16),IF(M3=4,(K16*F16),IF(M3=5,(K16*G16),IF(M3=6,(K16*H16),IF(M3=7,(K16*I16)))))))) -> 0 | O16: =L16*N16 -> 0
J17: X | K17: =K16 -> 1 | L17: =IF(M3=1,(K17*C17),IF(M3=2,(K17*D17),IF(M3=3,(K17*E17),IF(M3=4,(K17*F17),IF(M3=5,(K17*G17),IF(M3=6,(K17*H17),IF(M3=7,(K17*I17)))))))) -> 0 | O17: =L17*N17 -> 0
J18: X | K18: =K17 -> 1 | L18: =IF(M3=1,(K18*C18),IF(M3=2,(K18*D18),IF(M3=3,(K18*E18),IF(M3=4,(K18*F18),IF(M3=5,(K18*G18),IF(M3=6,(K18*H18),IF(M3=7,(K18*I18)))))))) -> 0 | O18: =L18*N18 -> 0
J19: X | K19: =K18 -> 1 | L19: =IF(M3=1,(K19*C19),IF(M3=2,(K19*D19),IF(M3=3,(K19*E19),IF(M3=4,(K19*F19),IF(M3=5,(K19*G19),IF(M3=6,(K19*H19),IF(M3=7,(K19*I19)))))))) -> 0 | O19: =L19*N19 -> 0
J20: X | K20: =K19 -> 1 | L20: =IF(M3=1,(K20*C20),IF(M3=2,(K20*D20),IF(M3=3,(K20*E20),IF(M3=4,(K20*F20),IF(M3=5,(K20*G20),IF(M3=6,(K20*H20),IF(M3=7,(K20*I20)))))))) -> 0 | O20: =L20*N20 -> 0
J21: X | K21: =K20 -> 1 | L21: =IF(M3=1,(K21*C21),IF(M3=2,(K21*D21),IF(M3=3,(K21*E21),IF(M3=4,(K21*F21),IF(M3=5,(K21*G21),IF(M3=6,(K21*H21),IF(M3=7,(K21*I21)))))))) -> 0 | O21: =L21*N21 -> 0
J22: X | K22: =K21 -> 1 | L22: =IF(M3=1,(K22*C22),IF(M3=2,(K22*D22),IF(M3=3,(K22*E22),IF(M3=4,(K22*F22),IF(M3=5,(K22*G22),IF(M3=6,(K22*H22),IF(M3=7,(K22*I22)))))))) -> 0 | O22: =L22*N22 -> 0
J23: X | K23: =K22 -> 1 | L23: =IF(M3=1,(K23*C23),IF(M3=2,(K23*D23),IF(M3=3,(K23*E23),IF(M3=4,(K23*F23),IF(M3=5,(K23*G23),IF(M3=6,(K23*H23),IF(M3=7,(K23*I23)))))))) -> 0 | O23: =L23*N23 -> 0
J24: X | K24: =K23 -> 1 | L24: =IF(M3=1,(K24*C24),IF(M3=2,(K24*D24),IF(M3=3,(K24*E24),IF(M3=4,(K24*F24),IF(M3=5,(K24*G24),IF(M3=6,(K24*H24),IF(M3=7,(K24*I24)))))))) -> 0 | O24: =L24*N24 -> 0
B25: POIDS TOTAL DE LA RECETTE POUR 10 PERS | C25: =SUM(C8:C24) -> 0.764 | D25: =SUM(D8:D24) -> 1.106 | E25: =SUM(E8:E24) -> 1.468 | F25: =SUM(F8:F24) -> 1.84 | G25: =SUM(G8:G24) -> 1.498 | H25: =SUM(H8:H24) -> 1.84 | I25: =SUM(I8:I24) -> 0 | J25: X | K25: =K24 -> 1 | L25: =IF(M3=1,(K25*C25),IF(M3=2,(K25*D25),IF(M3=3,(K25*E25),IF(M3=4,(K25*F25),IF(M3=5,(K25*G25),IF(M3=6,(K25*H25),IF(M3=7,(K25*I25)))))))) -> 1.498 | O25: =L25*N25 -> 0
B27: PAIN | O27: =N27 -> 0
B28: REPAS DU PERSONNEL | O28: =N28 -> 0
B29: PERTES | K29: 3.00% | O29: =N29 -> 0
A30: COMMENTAIRES | J30: Coût Matière Fiche | O30: =SUM(O8:O25) -> 1.498
J31: Coût Matière / Personne | O31: =O30/O5 -> 0.1498
J32: Coût Annexe / Personne | O32: =O27+O28+O29 -> 0
J33: PR HT | O33: =O31+O32 -> 0.1498
J34: Ratio MP % | N34: 2 | O34: =N34/100+1 -> 1.02
J35: PRIX DE REVIENT HT | O35: =O33*O34 -> 0.152796
J36: PRIX DE REVIENT TTC | O36: =O35*1.055 -> 0.16119978
A42: PRIX UNITAIRE MERCURIALE AU
A43: 39814

Sheet Feuil3
A1: =#REF! -> #REF! | D1: S1
A2: =#REF! -> #REF! | C2: =#REF! -> #REF!
A3: =#REF! -> #REF! | B3: Du | C3: =#REF! -> #REF! | L3: Au | M3: =#REF! -> #REF!
C4: Nbr CVTS PREVUS | E4: 0 | F4: 0 | G4: 310 | H4: 0 | I4: 0 | J4: 0 | K4: =SUM(D4:J4) -> 310 | M4: Nbr CVTS PREVUS | N4: =D4 -> 0 | O4: =E4 -> 0 | P4: =F4 -> 0 | Q4: =G4 -> 310 | R4: =H4 -> 0 | S4: =I4 -> 0 | T4: =J4 -> 0 | U4: =SUM(N4:T4) -> 310
B5: =K9+K12+K15+#REF! -> #REF! | C5: NB ENTREES LUNDI MIDI | D5: =D8+D11+D14+D17+#REF!+#REF!+#REF!+#REF! -> #REF! | E5: =E8+E11+E14+E17+#REF!+#REF!+#REF!+#REF! -> #REF! | F5: =F8+F11+F14+F17+#REF!+#REF!+#REF!+#REF! -> #REF! | G5: =G8+G11+G14+G17+#REF!+#REF!+#REF!+#REF! -> #REF! | H5: =H8+H11+H14+H17+#REF!+#REF!+#REF!+#REF! -> #REF! | I5: =I8+I11+I14+I17+#REF!+#REF!+#REF!+#REF! -> #REF! | J5: =J8+J11+J14+J17+#REF!+#REF!+#REF!+#REF! -> #REF! | K5: =SUM(D5:J5) -> #REF! | L5: =U9+U12+U15+#REF! -> #REF! | M5: NB ENTREES MARDI MIDI | N5: =N8+N11+N14+N17+#REF!+#REF!+#REF!+#REF! -> #REF! | O5: =O8+O11+O14+O17+#REF!+#REF!+#REF!+#REF! -> #REF! | P5: =P8+P11+P14+P17+#REF!+#REF!+#REF!+#REF! -> #REF! | Q5: =Q8+Q11+Q14+Q17+#REF!+#REF!+#REF!+#REF! -> #REF! | R5: =R8+R11+R14+R17+#REF!+#REF!+#REF!+#REF! -> #REF! | S5: =S8+S11+S14+S17+#REF!+#REF!+#REF!+#REF! -> #REF! | T5: =T8+T11+T14+T17+#REF!+#REF!+#REF!+#REF! -> #REF! | U5: =SUM(N5:T5) -> #REF! | V5: =#REF!+#REF!+#REF!+#REF! -> #REF!
A6: MIDI | C6: LUNDI | D6: Mater 1 | E6: Prim 2 | F6: Colle 3 | G6: Ado 4 | H6: Agé 5 | I6: Adu 6 | J6: 7 | M6: MARDI | N6: Mater 1 | O6: Prim 2 | P6: Colle 3 | Q6: Ado 4 | R6: Agé 5 | S6: Adu 6 | T6: 7
A7: ENTREES | B7: B | C7: SALADE VERTE AUX NOIX ET POMMES | D7: 0.11518248 | E7: 0.16197192 | F7: 0.20876136 | G7: 0.2555508 | H7: 0.20876136 | I7: 0.2555508 | J7: 0 | L7: B | M7: CONCOMBRE BULGARE | N7: 0.24646872 | O7: 0.32867641 | P7: 0.37597744 | Q7: 0.42327847 | R7: 0.37597744 | S7: 0.42327847 | T7: 0
C8: PREVUS | D8: 0 | E8: 0 | F8: 0 | G8: 30 | H8: 0 | I8: 0 | J8: 0 | K8: =SUM(D8:J8) -> 30 | M8: PREVUS | N8: 0 | O8: 0 | P8: 0 | Q8: 35 | R8: 0 | S8: 0 | T8: 0 | U8: =SUM(N8:T8) -> 35
C9: % tx prise prévu | M9: % tx prise prévu
B10: B | C10: CAROTTES RAPEES VINAIGRETTE | D10: 0.0601596 | E10: 0.0760716 | F10: 0.0919836 | G10: 0.1146276 | H10: 0.0785196 | I10: 0.1146276 | J10: 0 | L10: B | M10: MELON | N10: 0.35088 | O10: 0.4386 | P10: 0.4386 | Q10: 0.58344 | R10: 0.4386 | S10: 0.58344 | T10: 0
C11: PREVUS | D11: 0 | E11: 0 | F11: 0 | G11: 50 | H11: 0 | I11: 0 | J11: 0 | K11: =SUM(D11:J11) -> 50 | M11: PREVUS | N11: 0 | O11: 0 | P11: 0 | Q11: 170 | R11: 0 | S11: 0 | T11: 0 | U11: =SUM(N11:T11) -> 170
C12: % tx prise prévu
B13: A | C13: SAUCISSON A L'AIL CORNICHON | D13: 0.096353005 | E13: 0.10034251 | F13: 0.12967001 | G13: 0.15899751 | H13: 0.15500801 | I13: 0.15899751 | J13: 0 | L13: E | M13: CREME DE SARDINE | N13: 0.13162525 | O13: 0.19743788 | P13: 0.2632505 | Q13: 0.32906313 | R13: 0.2632505 | S13: 0.32906313 | T13: 0
C14: PREVUS | D14: 0 | E14: 0 | F14: 0 | G14: 150 | H14: 0 | I14: 0 | J14: 0 | K14: =SUM(D14:J14) -> 150 | M14: PREVUS | N14: 0 | O14: 0 | P14: 0 | Q14: 19 | R14: 0 | S14: 0 | T14: 0 | U14: =SUM(N14:T14) -> 19
C15: % tx prise prévu | M15: % tx prise prévu
M16: ~
C17: PREVUS | D17: 0 | E17: 0 | F17: 0 | G17: 0 | H17: 0 | I17: 0 | J17: 0 | K17: =SUM(D17:J17) -> 0 | M17: PREVUS | N17: 0 | O17: 0 | P17: 0 | Q17: 0 | R17: 0 | S17: 0 | T17: 0 | U17: =SUM(N17:T17) -> 0
