Workbook

Sheet Locataires
A1: PROPRIETAIRE
A3: Prénom + nom : | B3: Sci | D3: Date début | E3: 45658
A4: Adresse : | B4: rue du stade | D4: Date de fin | E4: 45688
A5: Code postal et ville : | B5: 500000
A6: Téléphone : | B6: 01 02 03 04 05 06
A7: E-mail : | B7: sci@gmail.com
A10: LOCATAIRES
A12: Nom et Prénom | B12: Adresse du logement occupé | C12: N° Appartement | D12: Téléphone | E12: E-mail | F12: Montant loyer mensuel | G12: Montant charges mensuelles | H12: Montant dépôt de garantie | I12: Date entrée dans les lieux | J12: Date sortie des lieux
A13: Pierre | B13: 0 rue blum, 5600 | C13: 1 | D13: 00 01 00 00 00 | E13: test 01 @gmail.com | F13: 454.33 | G13: 40 | H13: 440 | I13: 45203
A14: Paul | B14: 1 rue blum, 5600 | C14: 2 | D14: 01 01 00 00 00 | E14: test 01 @gmail.com | F14: 490 | G14: 50 | H14: 490 | I14: 44835
A15: Jacques | B15: 2 rue blum, 5600 | C15: 3 | D15: 02 01 00 00 00 | E15: test 01 @gmail.com | F15: 550 | G15: 50 | H15: 500 | I15: 44713
A16: Henry | B16: 3 rue blum, 5600 | C16: 4 | D16: 03 01 00 00 00 | E16: test 01 @gmail.com | F16: 490 | G16: 50 | H16: 490 | I16: 45521
A17: Erwan | B17: 4 rue blum, 5600 | C17: 5 | D17: 04 01 00 00 00 | E17: test 01 @gmail.com | F17: 590 | G17: 50 | H17: 590 | I17: 45420
A18: Philippe | B18: 5 rue blum, 5600 | C18: 6 | D18: 05 01 00 00 00 | E18: test 01 @gmail.com | F18: 470 | G18: 50 | H18: 470 | I18: 44743
A19: Sharon | B19: 6 rue blum, 5600 | C19: 7 | D19: 06 01 00 00 00 | E19: test 01 @gmail.com | F19: 550 | G19: 50 | H19: 550 | I19: 45446
A20: Gwendal | B20: 7 rue blum, 5600 | C20: 8 | D20: 07 01 00 00 00 | E20: test 01 @gmail.com | F20: 470 | G20: 50 | H20: 470 | I20: 44691
A21: Sophie | B21: 8 rue blum, 5600 | C21: 9 | D21: 08 01 00 00 00 | E21: test 01 @gmail.com | F21: 520 | G21: 40 | H21: 520 | I21: 45352
A22: Marlène | B22: 9 rue blum, 5600 | C22: 10 | D22: 09 01 00 00 00 | E22: test 01 @gmail.com | F22: 560 | G22: 40 | H22: 560 | I22: 44682
A23: Alhassane | B23: 10 rue blum, 5600 | C23: 11 | D23: 10 01 00 00 00 | E23: test 01 @gmail.com | F23: =H23+G23 -> 700 | G23: 50 | H23: 650 | I23: 44652
A24: Stéphane | B24: 11 rue blum, 5600 | C24: 12 | D24: 11 01 00 00 00 | E24: test 01 @gmail.com | F24: 540 | G24: 50 | H24: 550 | I24: 45420
A25: Morgane | B25: 12 rue blum, 5600 | C25: 13 | D25: 12 01 00 00 00 | E25: test 01 @gmail.com | F25: 580 | G25: 40 | H25: 550 | I25: 44722
A26: Steven | B26: 13 rue blum, 5600 | C26: 14 | D26: 13 01 00 00 00 | E26: test 01 @gmail.com | F26: 490 | G26: 50 | H26: 490 | I26: 45170

Sheet 01
A1: QUITTANCE DE LOYER
A5: PROPRIETAIRE BAILLEUR
A7: =IF(ISBLANK(Locataires!B3),"",Locataires!B3) -> Sci
A8: =IF(ISBLANK(Locataires!B4),"",Locataires!B4) -> rue du stade
A9: =IF(ISBLANK(Locataires!B5),"",Locataires!B5) -> 500000
A10: =IF(ISBLANK(Locataires!B6),"",Locataires!B6) -> 01 02 03 04 05 06
A11: =IF(ISBLANK(Locataires!B7),"",Locataires!B7) -> sci@gmail.com
A12: =IF(ISBLANK(Locataires!B8),"",Locataires!B8)
A13: =IF(ISBLANK(Locataires!B9),"",Locataires!B9)
A17: PÉRIODE DU: | C17: =Locataires!E3 -> 45658 | E17: au | F17: =Locataires!E4 -> 45688
A20: LOCATAIRE
A21: NOM /PRENOM | C21: Pierre
A22: TELEPHONE: | C22: =IF(ISBLANK(VLOOKUP($C$21,Locataires!A13:I30,4,0)),"",VLOOKUP($C$21,Locataires!A13:I30,4,0)) -> 00 01 00 00 00
A23: MAIL: | C23: =IF(ISBLANK(VLOOKUP($C$21,Locataires!A13:I30,5,0)),"",VLOOKUP($C$21,Locataires!A13:I30,5,0)) -> test 01 @gmail.com
A25: LOGEMENT
A26: ADRESSE | C26: =IF(ISBLANK(VLOOKUP($C$21,Locataires!A13:I30,2,0)),"",VLOOKUP($C$21,Locataires!A13:I30,2,0)) -> 0 rue blum, 5600
A27: N° APPARTEMENT | C27: =IF(ISBLANK(VLOOKUP($C$21,Locataires!A13:I30,3,0)),"",VLOOKUP($C$21,Locataires!A13:I30,3,0)) -> 1
A31: LOYER
A32: LOYER: | C32: =IF(ISBLANK(VLOOKUP($C$21,Locataires!A13:I30,6,0)),"",VLOOKUP($C$21,Locataires!A13:I30,6,0)) -> 454.33
A33: CHARGES: | C33: =IF(ISBLANK(VLOOKUP($C$21,Locataires!A13:I30,7,0)),"",VLOOKUP($C$21,Locataires!A13:I30,7,0)) -> 40
A34: TOTAL LOYER: | C34: =SUM(C32:C33) -> 494.33
F37: Lorient le : | G37: =TODAY() -> 45679
F38: Signature du bailleur :
A47: Cette quittance vaut pour la période concernée. Elle annule tous les reçus qui auraient pu être établis précédemment en cas de paiement partiel du montant du présent terme. Elle est à conserver pendant trois ans par le locataire.

Sheet 02
A1: QUITTANCE DE LOYER
A5: PROPRIETAIRE BAILLEUR
A7: =IF(ISBLANK(Locataires!B3),"",Locataires!B3) -> Sci
A8: =IF(ISBLANK(Locataires!B4),"",Locataires!B4) -> rue du stade
A9: =IF(ISBLANK(Locataires!B5),"",Locataires!B5) -> 500000
A10: =IF(ISBLANK(Locataires!B6),"",Locataires!B6) -> 01 02 03 04 05 06
A11: =IF(ISBLANK(Locataires!B7),"",Locataires!B7) -> sci@gmail.com
A12: =IF(ISBLANK(Locataires!B8),"",Locataires!B8)
A13: =IF(ISBLANK(Locataires!B9),"",Locataires!B9)
A17: PÉRIODE DU: | C17: =Locataires!E3 -> 45658 | E17: au | F17: =Locataires!E4 -> 45688
A20: LOCATAIRE
A21: NOM /PRENOM | C21: Paul
A22: TELEPHONE: | C22: =IF(ISBLANK(VLOOKUP($C$21,Locataires!A13:I30,4,0)),"",VLOOKUP($C$21,Locataires!A13:I30,4,0)) -> 01 01 00 00 00
A23: MAIL: | C23: =IF(ISBLANK(VLOOKUP($C$21,Locataires!A13:I30,5,0)),"",VLOOKUP($C$21,Locataires!A13:I30,5,0)) -> test 01 @gmail.com
A25: LOGEMENT
A26: ADRESSE | C26: =IF(ISBLANK(VLOOKUP($C$21,Locataires!A13:I30,2,0)),"",VLOOKUP($C$21,Locataires!A13:I30,2,0)) -> 1 rue blum, 5600
A27: N° APPARTEMENT | C27: =IF(ISBLANK(VLOOKUP($C$21,Locataires!A13:I30,3,0)),"",VLOOKUP($C$21,Locataires!A13:I30,3,0)) -> 2
A31: LOYER
A32: LOYER: | C32: =IF(ISBLANK(VLOOKUP($C$21,Locataires!A13:I30,6,0)),"",VLOOKUP($C$21,Locataires!A13:I30,6,0)) -> 490
A33: CHARGES: | C33: =IF(ISBLANK(VLOOKUP($C$21,Locataires!A13:I30,7,0)),"",VLOOKUP($C$21,Locataires!A13:I30,7,0)) -> 50
A34: TOTAL LOYER: | C34: =SUM(C32:C33) -> 540
F37: Lorient le : | G37: =TODAY() -> 45679
F38: Signature du bailleur :
A47: Cette quittance vaut pour la période concernée. Elle annule tous les reçus qui auraient pu être établis précédemment en cas de paiement partiel du montant du présent terme. Elle est à conserver pendant trois ans par le locataire.

Sheet 03
A1: QUITTANCE DE LOYER
A5: PROPRIETAIRE BAILLEUR
A7: =IF(ISBLANK(Locataires!B3),"",Locataires!B3) -> Sci
A8: =IF(ISBLANK(Locataires!B4),"",Locataires!B4) -> rue du stade
A9: =IF(ISBLANK(Locataires!B5),"",Locataires!B5) -> 500000
A10: =IF(ISBLANK(Locataires!B6),"",Locataires!B6) -> 01 02 03 04 05 06
A11: =IF(ISBLANK(Locataires!B7),"",Locataires!B7) -> sci@gmail.com
A12: =IF(ISBLANK(Locataires!B8),"",Locataires!B8)
A13: =IF(ISBLANK(Locataires!B9),"",Locataires!B9)
A17: PÉRIODE DU: | C17: =Locataires!E3 -> 45658 | E17: au | F17: =Locataires!E4 -> 45688
A20: LOCATAIRE
A21: NOM /PRENOM | C21: Jacques
A22: TELEPHONE: | C22: =IF(ISBLANK(VLOOKUP($C$21,Locataires!A13:I30,4,0)),"",VLOOKUP($C$21,Locataires!A13:I30,4,0)) -> 02 01 00 00 00
A23: MAIL: | C23: =IF(ISBLANK(VLOOKUP($C$21,Locataires!A13:I30,5,0)),"",VLOOKUP($C$21,Locataires!A13:I30,5,0)) -> test 01 @gmail.com
A25: LOGEMENT
A26: ADRESSE | C26: =IF(ISBLANK(VLOOKUP($C$21,Locataires!A13:I30,2,0)),"",VLOOKUP($C$21,Locataires!A13:I30,2,0)) -> 2 rue blum, 5600
A27: N° APPARTEMENT | C27: =IF(ISBLANK(VLOOKUP($C$21,Locataires!A13:I30,3,0)),"",VLOOKUP($C$21,Locataires!A13:I30,3,0)) -> 3
A31: LOYER
A32: LOYER: | C32: =IF(ISBLANK(VLOOKUP($C$21,Locataires!A13:I30,6,0)),"",VLOOKUP($C$21,Locataires!A13:I30,6,0)) -> 550
A33: CHARGES: | C33: =IF(ISBLANK(VLOOKUP($C$21,Locataires!A13:I30,7,0)),"",VLOOKUP($C$21,Locataires!A13:I30,7,0)) -> 50
A34: TOTAL LOYER: | C34: =SUM(C32:C33) -> 600
F37: Lorient le : | G37: =TODAY() -> 45679
F38: Signature du bailleur :
A47: Cette quittance vaut pour la période concernée. Elle annule tous les reçus qui auraient pu être établis précédemment en cas de paiement partiel du montant du présent terme. Elle est à conserver pendant trois ans par le locataire.

Sheet 04
A1: QUITTANCE DE LOYER
A5: PROPRIETAIRE BAILLEUR
A7: =IF(ISBLANK(Locataires!B3),"",Locataires!B3) -> Sci
A8: =IF(ISBLANK(Locataires!B4),"",Locataires!B4) -> rue du stade
A9: =IF(ISBLANK(Locataires!B5),"",Locataires!B5) -> 500000
A10: =IF(ISBLANK(Locataires!B6),"",Locataires!B6) -> 01 02 03 04 05 06
A11: =IF(ISBLANK(Locataires!B7),"",Locataires!B7) -> sci@gmail.com
A12: =IF(ISBLANK(Locataires!B8),"",Locataires!B8)
A13: =IF(ISBLANK(Locataires!B9),"",Locataires!B9)
A17: PÉRIODE DU: | C17: =Locataires!E3 -> 45658 | E17: au | F17: =Locataires!E4 -> 45688
A20: LOCATAIRE
A21: NOM /PRENOM | C21: Henry
A22: TELEPHONE: | C22: =IF(ISBLANK(VLOOKUP($C$21,Locataires!A13:I30,4,0)),"",VLOOKUP($C$21,Locataires!A13:I30,4,0)) -> 03 01 00 00 00
A23: MAIL: | C23: =IF(ISBLANK(VLOOKUP($C$21,Locataires!A13:I30,5,0)),"",VLOOKUP($C$21,Locataires!A13:I30,5,0)) -> test 01 @gmail.com
A25: LOGEMENT
A26: ADRESSE | C26: =IF(ISBLANK(VLOOKUP($C$21,Locataires!A13:I30,2,0)),"",VLOOKUP($C$21,Locataires!A13:I30,2,0)) -> 3 rue blum, 5600
A27: N° APPARTEMENT | C27: =IF(ISBLANK(VLOOKUP($C$21,Locataires!A13:I30,3,0)),"",VLOOKUP($C$21,Locataires!A13:I30,3,0)) -> 4
A31: LOYER
A32: LOYER: | C32: =IF(ISBLANK(VLOOKUP($C$21,Locataires!A13:I30,6,0)),"",VLOOKUP($C$21,Locataires!A13:I30,6,0)) -> 490
A33: CHARGES: | C33: =IF(ISBLANK(VLOOKUP($C$21,Locataires!A13:I30,7,0)),"",VLOOKUP($C$21,Locataires!A13:I30,7,0)) -> 50
A34: TOTAL LOYER: | C34: =SUM(C32:C33) -> 540
F37: Lorient le : | G37: =TODAY() -> 45679
F38: Signature du bailleur :
A47: Cette quittance vaut pour la période concernée. Elle annule tous les reçus qui auraient pu être établis précédemment en cas de paiement partiel du montant du présent terme. Elle est à conserver pendant trois ans par le locataire.

Sheet 05
A1: QUITTANCE DE LOYER
A5: PROPRIETAIRE BAILLEUR
A7: =IF(ISBLANK(Locataires!B3),"",Locataires!B3) -> Sci
A8: =IF(ISBLANK(Locataires!B4),"",Locataires!B4) -> rue du stade
A9: =IF(ISBLANK(Locataires!B5),"",Locataires!B5) -> 500000
A10: =IF(ISBLANK(Locataires!B6),"",Locataires!B6) -> 01 02 03 04 05 06
A11: =IF(ISBLANK(Locataires!B7),"",Locataires!B7) -> sci@gmail.com
A12: =IF(ISBLANK(Locataires!B8),"",Locataires!B8)
A13: =IF(ISBLANK(Locataires!B9),"",Locataires!B9)
A17: PÉRIODE DU: | C17: =Locataires!E3 -> 45658 | E17: au | F17: =Locataires!E4 -> 45688
A20: LOCATAIRE
A21: NOM /PRENOM | C21: Erwan
A22: TELEPHONE: | C22: =IF(ISBLANK(VLOOKUP($C$21,Locataires!A13:I30,4,0)),"",VLOOKUP($C$21,Locataires!A13:I30,4,0)) -> 04 01 00 00 00
A23: MAIL: | C23: =IF(ISBLANK(VLOOKUP($C$21,Locataires!A13:I30,5,0)),"",VLOOKUP($C$21,Locataires!A13:I30,5,0)) -> test 01 @gmail.com
A25: LOGEMENT
A26: ADRESSE | C26: =IF(ISBLANK(VLOOKUP($C$21,Locataires!A13:I30,2,0)),"",VLOOKUP($C$21,Locataires!A13:I30,2,0)) -> 4 rue blum, 5600
A27: N° APPARTEMENT | C27: =IF(ISBLANK(VLOOKUP($C$21,Locataires!A13:I30,3,0)),"",VLOOKUP($C$21,Locataires!A13:I30,3,0)) -> 5
A31: LOYER
A32: LOYER: | C32: =IF(ISBLANK(VLOOKUP($C$21,Locataires!A13:I30,6,0)),"",VLOOKUP($C$21,Locataires!A13:I30,6,0)) -> 590
A33: CHARGES: | C33: =IF(ISBLANK(VLOOKUP($C$21,Locataires!A13:I30,7,0)),"",VLOOKUP($C$21,Locataires!A13:I30,7,0)) -> 50
A34: TOTAL LOYER: | C34: =SUM(C32:C33) -> 640
F37: Lorient le : | G37: =TODAY() -> 45679
F38: Signature du bailleur :
A47: Cette quittance vaut pour la période concernée. Elle annule tous les reçus qui auraient pu être établis précédemment en cas de paiement partiel du montant du présent terme. Elle est à conserver pendant trois ans par le locataire.

Sheet 06
A1: QUITTANCE DE LOYER
A5: PROPRIETAIRE BAILLEUR
A7: =IF(ISBLANK(Locataires!B3),"",Locataires!B3) -> Sci
A8: =IF(ISBLANK(Locataires!B4),"",Locataires!B4) -> rue du stade
A9: =IF(ISBLANK(Locataires!B5),"",Locataires!B5) -> 500000
A10: =IF(ISBLANK(Locataires!B6),"",Locataires!B6) -> 01 02 03 04 05 06
A11: =IF(ISBLANK(Locataires!B7),"",Locataires!B7) -> sci@gmail.com
A12: =IF(ISBLANK(Locataires!B8),"",Locataires!B8)
A13: =IF(ISBLANK(Locataires!B9),"",Locataires!B9)
A17: PÉRIODE DU: | C17: =Locataires!E3 -> 45658 | E17: au | F17: =Locataires!E4 -> 45688
A20: LOCATAIRE
A21: NOM /PRENOM | C21: Philippe
A22: TELEPHONE: | C22: =IF(ISBLANK(VLOOKUP($C$21,Locataires!A13:I30,4,0)),"",VLOOKUP($C$21,Locataires!A13:I30,4,0)) -> 05 01 00 00 00
A23: MAIL: | C23: =IF(ISBLANK(VLOOKUP($C$21,Locataires!A13:I30,5,0)),"",VLOOKUP($C$21,Locataires!A13:I30,5,0)) -> test 01 @gmail.com
A25: LOGEMENT
A26: ADRESSE | C26: =IF(ISBLANK(VLOOKUP($C$21,Locataires!A13:I30,2,0)),"",VLOOKUP($C$21,Locataires!A13:I30,2,0)) -> 5 rue blum, 5600
A27: N° APPARTEMENT | C27: =IF(ISBLANK(VLOOKUP($C$21,Locataires!A13:I30,3,0)),"",VLOOKUP($C$21,Locataires!A13:I30,3,0)) -> 6
A31: LOYER
A32: LOYER: | C32: =IF(ISBLANK(VLOOKUP($C$21,Locataires!A13:I30,6,0)),"",VLOOKUP($C$21,Locataires!A13:I30,6,0)) -> 470
A33: CHARGES: | C33: =IF(ISBLANK(VLOOKUP($C$21,Locataires!A13:I30,7,0)),"",VLOOKUP($C$21,Locataires!A13:I30,7,0)) -> 50
A34: TOTAL LOYER: | C34: =SUM(C32:C33) -> 520
F37: Lorient le : | G37: =TODAY() -> 45679
F38: Signature du bailleur :
A47: Cette quittance vaut pour la période concernée. Elle annule tous les reçus qui auraient pu être établis précédemment en cas de paiement partiel du montant du présent terme. Elle est à conserver pendant trois ans par le locataire.

Sheet 07
A1: QUITTANCE DE LOYER
A5: PROPRIETAIRE BAILLEUR
A7: =IF(ISBLANK(Locataires!B3),"",Locataires!B3) -> Sci
A8: =IF(ISBLANK(Locataires!B4),"",Locataires!B4) -> rue du stade
A9: =IF(ISBLANK(Locataires!B5),"",Locataires!B5) -> 500000
A10: =IF(ISBLANK(Locataires!B6),"",Locataires!B6) -> 01 02 03 04 05 06
A11: =IF(ISBLANK(Locataires!B7),"",Locataires!B7) -> sci@gmail.com
A12: =IF(ISBLANK(Locataires!B8),"",Locataires!B8)
A13: =IF(ISBLANK(Locataires!B9),"",Locataires!B9)
A17: PÉRIODE DU: | C17: =Locataires!E3 -> 45658 | E17: au | F17: =Locataires!E4 -> 45688
A20: LOCATAIRE
A21: NOM /PRENOM | C21: Sharon
A22: TELEPHONE: | C22: =IF(ISBLANK(VLOOKUP($C$21,Locataires!A13:I30,4,0)),"",VLOOKUP($C$21,Locataires!A13:I30,4,0)) -> 06 01 00 00 00
A23: MAIL: | C23: =IF(ISBLANK(VLOOKUP($C$21,Locataires!A13:I30,5,0)),"",VLOOKUP($C$21,Locataires!A13:I30,5,0)) -> test 01 @gmail.com
A25: LOGEMENT
A26: ADRESSE | C26: =IF(ISBLANK(VLOOKUP($C$21,Locataires!A13:I30,2,0)),"",VLOOKUP($C$21,Locataires!A13:I30,2,0)) -> 6 rue blum, 5600
A27: N° APPARTEMENT | C27: =IF(ISBLANK(VLOOKUP($C$21,Locataires!A13:I30,3,0)),"",VLOOKUP($C$21,Locataires!A13:I30,3,0)) -> 7
A31: LOYER
A32: LOYER: | C32: =IF(ISBLANK(VLOOKUP($C$21,Locataires!A13:I30,6,0)),"",VLOOKUP($C$21,Locataires!A13:I30,6,0)) -> 550
A33: CHARGES: | C33: =IF(ISBLANK(VLOOKUP($C$21,Locataires!A13:I30,7,0)),"",VLOOKUP($C$21,Locataires!A13:I30,7,0)) -> 50
A34: TOTAL LOYER: | C34: =SUM(C32:C33) -> 600
F37: Lorient le : | G37: =TODAY() -> 45679
F38: Signature du bailleur :
A47: Cette quittance vaut pour la période concernée. Elle annule tous les reçus qui auraient pu être établis précédemment en cas de paiement partiel du montant du présent terme. Elle est à conserver pendant trois ans par le locataire.

Sheet 08
A1: QUITTANCE DE LOYER
A5: PROPRIETAIRE BAILLEUR
A7: =IF(ISBLANK(Locataires!B3),"",Locataires!B3) -> Sci
A8: =IF(ISBLANK(Locataires!B4),"",Locataires!B4) -> rue du stade
A9: =IF(ISBLANK(Locataires!B5),"",Locataires!B5) -> 500000
A10: =IF(ISBLANK(Locataires!B6),"",Locataires!B6) -> 01 02 03 04 05 06
A11: =IF(ISBLANK(Locataires!B7),"",Locataires!B7) -> sci@gmail.com
A12: =IF(ISBLANK(Locataires!B8),"",Locataires!B8)
A13: =IF(ISBLANK(Locataires!B9),"",Locataires!B9)
A17: PÉRIODE DU: | C17: =Locataires!E3 -> 45658 | E17: au | F17: =Locataires!E4 -> 45688
A20: LOCATAIRE
A21: NOM /PRENOM | C21: Gwendal
A22: TELEPHONE: | C22: =IF(ISBLANK(VLOOKUP($C$21,Locataires!A13:I30,4,0)),"",VLOOKUP($C$21,Locataires!A13:I30,4,0)) -> 07 01 00 00 00
A23: MAIL: | C23: =IF(ISBLANK(VLOOKUP($C$21,Locataires!A13:I30,5,0)),"",VLOOKUP($C$21,Locataires!A13:I30,5,0)) -> test 01 @gmail.com
A25: LOGEMENT
A26: ADRESSE | C26: =IF(ISBLANK(VLOOKUP($C$21,Locataires!A13:I30,2,0)),"",VLOOKUP($C$21,Locataires!A13:I30,2,0)) -> 7 rue blum, 5600
A27: N° APPARTEMENT | C27: =IF(ISBLANK(VLOOKUP($C$21,Locataires!A13:I30,3,0)),"",VLOOKUP($C$21,Locataires!A13:I30,3,0)) -> 8
A31: LOYER
A32: LOYER: | C32: =IF(ISBLANK(VLOOKUP($C$21,Locataires!A13:I30,6,0)),"",VLOOKUP($C$21,Locataires!A13:I30,6,0)) -> 470
A33: CHARGES: | C33: =IF(ISBLANK(VLOOKUP($C$21,Locataires!A13:I30,7,0)),"",VLOOKUP($C$21,Locataires!A13:I30,7,0)) -> 50
A34: TOTAL LOYER: | C34: =SUM(C32:C33) -> 520
F37: Lorient le : | G37: =TODAY() -> 45679
F38: Signature du bailleur :
A47: Cette quittance vaut pour la période concernée. Elle annule tous les reçus qui auraient pu être établis précédemment en cas de paiement partiel du montant du présent terme. Elle est à conserver pendant trois ans par le locataire.

Sheet 09
A1: QUITTANCE DE LOYER
A5: PROPRIETAIRE BAILLEUR
A7: =IF(ISBLANK(Locataires!B3),"",Locataires!B3) -> Sci
A8: =IF(ISBLANK(Locataires!B4),"",Locataires!B4) -> rue du stade
A9: =IF(ISBLANK(Locataires!B5),"",Locataires!B5) -> 500000
A10: =IF(ISBLANK(Locataires!B6),"",Locataires!B6) -> 01 02 03 04 05 06
A11: =IF(ISBLANK(Locataires!B7),"",Locataires!B7) -> sci@gmail.com
A12: =IF(ISBLANK(Locataires!B8),"",Locataires!B8)
A13: =IF(ISBLANK(Locataires!B9),"",Locataires!B9)
A17: PÉRIODE DU: | C17: =Locataires!E3 -> 45658 | E17: au | F17: =Locataires!E4 -> 45688
A20: LOCATAIRE
A21: NOM /PRENOM | C21: Sophie
A22: TELEPHONE: | C22: =IF(ISBLANK(VLOOKUP($C$21,Locataires!A13:I30,4,0)),"",VLOOKUP($C$21,Locataires!A13:I30,4,0)) -> 08 01 00 00 00
A23: MAIL: | C23: =IF(ISBLANK(VLOOKUP($C$21,Locataires!A13:I30,5,0)),"",VLOOKUP($C$21,Locataires!A13:I30,5,0)) -> test 01 @gmail.com
A25: LOGEMENT
A26: ADRESSE | C26: =IF(ISBLANK(VLOOKUP($C$21,Locataires!A13:I30,2,0)),"",VLOOKUP($C$21,Locataires!A13:I30,2,0)) -> 8 rue blum, 5600
A27: N° APPARTEMENT | C27: =IF(ISBLANK(VLOOKUP($C$21,Locataires!A13:I30,3,0)),"",VLOOKUP($C$21,Locataires!A13:I30,3,0)) -> 9
A31: LOYER
A32: LOYER: | C32: =IF(ISBLANK(VLOOKUP($C$21,Locataires!A13:I30,6,0)),"",VLOOKUP($C$21,Locataires!A13:I30,6,0)) -> 520
A33: CHARGES: | C33: =IF(ISBLANK(VLOOKUP($C$21,Locataires!A13:I30,7,0)),"",VLOOKUP($C$21,Locataires!A13:I30,7,0)) -> 40
A34: TOTAL LOYER: | C34: =SUM(C32:C33) -> 560
F37: Lorient le : | G37: =TODAY() -> 45679
F38: Signature du bailleur :
A47: Cette quittance vaut pour la période concernée. Elle annule tous les reçus qui auraient pu être établis précédemment en cas de paiement partiel du montant du présent terme. Elle est à conserver pendant trois ans par le locataire.

Sheet 10
A1: QUITTANCE DE LOYER
A5: PROPRIETAIRE BAILLEUR
A7: =IF(ISBLANK(Locataires!B3),"",Locataires!B3) -> Sci
A8: =IF(ISBLANK(Locataires!B4),"",Locataires!B4) -> rue du stade
A9: =IF(ISBLANK(Locataires!B5),"",Locataires!B5) -> 500000
A10: =IF(ISBLANK(Locataires!B6),"",Locataires!B6) -> 01 02 03 04 05 06
A11: =IF(ISBLANK(Locataires!B7),"",Locataires!B7) -> sci@gmail.com
A12: =IF(ISBLANK(Locataires!B8),"",Locataires!B8)
A13: =IF(ISBLANK(Locataires!B9),"",Locataires!B9)
A17: PÉRIODE DU: | C17: =Locataires!E3 -> 45658 | E17: au | F17: =Locataires!E4 -> 45688
A20: LOCATAIRE
A21: NOM /PRENOM | C21: Marlène
A22: TELEPHONE: | C22: =IF(ISBLANK(VLOOKUP($C$21,Locataires!A13:I30,4,0)),"",VLOOKUP($C$21,Locataires!A13:I30,4,0)) -> 09 01 00 00 00
A23: MAIL: | C23: =IF(ISBLANK(VLOOKUP($C$21,Locataires!A13:I30,5,0)),"",VLOOKUP($C$21,Locataires!A13:I30,5,0)) -> test 01 @gmail.com
A25: LOGEMENT
A26: ADRESSE | C26: =IF(ISBLANK(VLOOKUP($C$21,Locataires!A13:I30,2,0)),"",VLOOKUP($C$21,Locataires!A13:I30,2,0)) -> 9 rue blum, 5600
A27: N° APPARTEMENT | C27: =IF(ISBLANK(VLOOKUP($C$21,Locataires!A13:I30,3,0)),"",VLOOKUP($C$21,Locataires!A13:I30,3,0)) -> 10
A31: LOYER
A32: LOYER: | C32: =IF(ISBLANK(VLOOKUP($C$21,Locataires!A13:I30,6,0)),"",VLOOKUP($C$21,Locataires!A13:I30,6,0)) -> 560
A33: CHARGES: | C33: =IF(ISBLANK(VLOOKUP($C$21,Locataires!A13:I30,7,0)),"",VLOOKUP($C$21,Locataires!A13:I30,7,0)) -> 40
A34: TOTAL LOYER: | C34: =SUM(C32:C33) -> 600
F37: Lorient le : | G37: =TODAY() -> 45679
F38: Signature du bailleur :
A47: Cette quittance vaut pour la période concernée. Elle annule tous les reçus qui auraient pu être établis précédemment en cas de paiement partiel du montant du présent terme. Elle est à conserver pendant trois ans par le locataire.

Sheet 11
A1: QUITTANCE DE LOYER
A5: PROPRIETAIRE BAILLEUR
A7: =IF(ISBLANK(Locataires!B3),"",Locataires!B3) -> Sci
A8: =IF(ISBLANK(Locataires!B4),"",Locataires!B4) -> rue du stade
A9: =IF(ISBLANK(Locataires!B5),"",Locataires!B5) -> 500000
A10: =IF(ISBLANK(Locataires!B6),"",Locataires!B6) -> 01 02 03 04 05 06
A11: =IF(ISBLANK(Locataires!B7),"",Locataires!B7) -> sci@gmail.com
A12: =IF(ISBLANK(Locataires!B8),"",Locataires!B8)
A13: =IF(ISBLANK(Locataires!B9),"",Locataires!B9)
A17: PÉRIODE DU: | C17: =Locataires!E3 -> 45658 | E17: au | F17: =Locataires!E4 -> 45688
A20: LOCATAIRE
A21: NOM /PRENOM | C21: Alhassane
A22: TELEPHONE: | C22: =IF(ISBLANK(VLOOKUP($C$21,Locataires!A13:I30,4,0)),"",VLOOKUP($C$21,Locataires!A13:I30,4,0)) -> 10 01 00 00 00
A23: MAIL: | C23: =IF(ISBLANK(VLOOKUP($C$21,Locataires!A13:I30,5,0)),"",VLOOKUP($C$21,Locataires!A13:I30,5,0)) -> test 01 @gmail.com
A25: LOGEMENT
A26: ADRESSE | C26: =IF(ISBLANK(VLOOKUP($C$21,Locataires!A13:I30,2,0)),"",VLOOKUP($C$21,Locataires!A13:I30,2,0)) -> 10 rue blum, 5600
A27: N° APPARTEMENT | C27: =IF(ISBLANK(VLOOKUP($C$21,Locataires!A13:I30,3,0)),"",VLOOKUP($C$21,Locataires!A13:I30,3,0)) -> 11
A31: LOYER
A32: LOYER: | C32: =IF(ISBLANK(VLOOKUP($C$21,Locataires!A13:I30,6,0)),"",VLOOKUP($C$21,Locataires!A13:I30,6,0)) -> 700
A33: CHARGES: | C33: =IF(ISBLANK(VLOOKUP($C$21,Locataires!A13:I30,7,0)),"",VLOOKUP($C$21,Locataires!A13:I30,7,0)) -> 50
A34: TOTAL LOYER: | C34: =SUM(C32:C33) -> 750
F37: Lorient le : | G37: =TODAY() -> 45679
F38: Signature du bailleur :
A47: Cette quittance vaut pour la période concernée. Elle annule tous les reçus qui auraient pu être établis précédemment en cas de paiement partiel du montant du présent terme. Elle est à conserver pendant trois ans par le locataire.

Sheet 12
A1: QUITTANCE DE LOYER
A5: PROPRIETAIRE BAILLEUR
A7: =IF(ISBLANK(Locataires!B3),"",Locataires!B3) -> Sci
A8: =IF(ISBLANK(Locataires!B4),"",Locataires!B4) -> rue du stade
A9: =IF(ISBLANK(Locataires!B5),"",Locataires!B5) -> 500000
A10: =IF(ISBLANK(Locataires!B6),"",Locataires!B6) -> 01 02 03 04 05 06
A11: =IF(ISBLANK(Locataires!B7),"",Locataires!B7) -> sci@gmail.com
A12: =IF(ISBLANK(Locataires!B8),"",Locataires!B8)
A13: =IF(ISBLANK(Locataires!B9),"",Locataires!B9)
A17: PÉRIODE DU: | C17: =Locataires!E3 -> 45658 | E17: au | F17: =Locataires!E4 -> 45688
A20: LOCATAIRE
A21: NOM /PRENOM | C21: Stéphane
A22: TELEPHONE: | C22: =IF(ISBLANK(VLOOKUP($C$21,Locataires!A13:I30,4,0)),"",VLOOKUP($C$21,Locataires!A13:I30,4,0)) -> 11 01 00 00 00
A23: MAIL: | C23: =IF(ISBLANK(VLOOKUP($C$21,Locataires!A13:I30,5,0)),"",VLOOKUP($C$21,Locataires!A13:I30,5,0)) -> test 01 @gmail.com
A25: LOGEMENT
A26: ADRESSE | C26: =IF(ISBLANK(VLOOKUP($C$21,Locataires!A13:I30,2,0)),"",VLOOKUP($C$21,Locataires!A13:I30,2,0)) -> 11 rue blum, 5600
A27: N° APPARTEMENT | C27: =IF(ISBLANK(VLOOKUP($C$21,Locataires!A13:I30,3,0)),"",VLOOKUP($C$21,Locataires!A13:I30,3,0)) -> 12
A31: LOYER
A32: LOYER: | C32: =IF(ISBLANK(VLOOKUP($C$21,Locataires!A13:I30,6,0)),"",VLOOKUP($C$21,Locataires!A13:I30,6,0)) -> 540
A33: CHARGES: | C33: =IF(ISBLANK(VLOOKUP($C$21,Locataires!A13:I30,7,0)),"",VLOOKUP($C$21,Locataires!A13:I30,7,0)) -> 50
A34: TOTAL LOYER: | C34: =SUM(C32:C33) -> 590
F37: Lorient le : | G37: =TODAY() -> 45679
F38: Signature du bailleur :
A47: Cette quittance vaut pour la période concernée. Elle annule tous les reçus qui auraient pu être établis précédemment en cas de paiement partiel du montant du présent terme. Elle est à conserver pendant trois ans par le locataire.

Sheet 13
A1: QUITTANCE DE LOYER
A5: PROPRIETAIRE BAILLEUR
A7: =IF(ISBLANK(Locataires!B3),"",Locataires!B3) -> Sci
A8: =IF(ISBLANK(Locataires!B4),"",Locataires!B4) -> rue du stade
A9: =IF(ISBLANK(Locataires!B5),"",Locataires!B5) -> 500000
A10: =IF(ISBLANK(Locataires!B6),"",Locataires!B6) -> 01 02 03 04 05 06
A11: =IF(ISBLANK(Locataires!B7),"",Locataires!B7) -> sci@gmail.com
A12: =IF(ISBLANK(Locataires!B8),"",Locataires!B8)
A13: =IF(ISBLANK(Locataires!B9),"",Locataires!B9)
A17: PÉRIODE DU: | C17: =Locataires!E3 -> 45658 | E17: au | F17: =Locataires!E4 -> 45688
A20: LOCATAIRE
A21: NOM /PRENOM | C21: Morgane
A22: TELEPHONE: | C22: =IF(ISBLANK(VLOOKUP($C$21,Locataires!A13:I30,4,0)),"",VLOOKUP($C$21,Locataires!A13:I30,4,0)) -> 12 01 00 00 00
A23: MAIL: | C23: =IF(ISBLANK(VLOOKUP($C$21,Locataires!A13:I30,5,0)),"",VLOOKUP($C$21,Locataires!A13:I30,5,0)) -> test 01 @gmail.com
A25: LOGEMENT
A26: ADRESSE | C26: =IF(ISBLANK(VLOOKUP($C$21,Locataires!A13:I30,2,0)),"",VLOOKUP($C$21,Locataires!A13:I30,2,0)) -> 12 rue blum, 5600
A27: N° APPARTEMENT | C27: =IF(ISBLANK(VLOOKUP($C$21,Locataires!A13:I30,3,0)),"",VLOOKUP($C$21,Locataires!A13:I30,3,0)) -> 13
A31: LOYER
A32: LOYER: | C32: =IF(ISBLANK(VLOOKUP($C$21,Locataires!A13:I30,6,0)),"",VLOOKUP($C$21,Locataires!A13:I30,6,0)) -> 580
A33: CHARGES: | C33: =IF(ISBLANK(VLOOKUP($C$21,Locataires!A13:I30,7,0)),"",VLOOKUP($C$21,Locataires!A13:I30,7,0)) -> 40
A34: TOTAL LOYER: | C34: =SUM(C32:C33) -> 620
F37: Lorient le : | G37: =TODAY() -> 45679
F38: Signature du bailleur :
A47: Cette quittance vaut pour la période concernée. Elle annule tous les reçus qui auraient pu être établis précédemment en cas de paiement partiel du montant du présent terme. Elle est à conserver pendant trois ans par le locataire.

Sheet 14
A1: QUITTANCE DE LOYER
A5: PROPRIETAIRE BAILLEUR
A7: =IF(ISBLANK(Locataires!B3),"",Locataires!B3) -> Sci
A8: =IF(ISBLANK(Locataires!B4),"",Locataires!B4) -> rue du stade
A9: =IF(ISBLANK(Locataires!B5),"",Locataires!B5) -> 500000
A10: =IF(ISBLANK(Locataires!B6),"",Locataires!B6) -> 01 02 03 04 05 06
A11: =IF(ISBLANK(Locataires!B7),"",Locataires!B7) -> sci@gmail.com
A12: =IF(ISBLANK(Locataires!B8),"",Locataires!B8)
A13: =IF(ISBLANK(Locataires!B9),"",Locataires!B9)
A17: PÉRIODE DU: | C17: =Locataires!E3 -> 45658 | E17: au | F17: =Locataires!E4 -> 45688
A20: LOCATAIRE
A21: NOM /PRENOM | C21: Steven
A22: TELEPHONE: | C22: =IF(ISBLANK(VLOOKUP($C$21,Locataires!A13:I30,4,0)),"",VLOOKUP($C$21,Locataires!A13:I30,4,0)) -> 13 01 00 00 00
A23: MAIL: | C23: =IF(ISBLANK(VLOOKUP($C$21,Locataires!A13:I30,5,0)),"",VLOOKUP($C$21,Locataires!A13:I30,5,0)) -> test 01 @gmail.com
A25: LOGEMENT
A26: ADRESSE | C26: =IF(ISBLANK(VLOOKUP($C$21,Locataires!A13:I30,2,0)),"",VLOOKUP($C$21,Locataires!A13:I30,2,0)) -> 13 rue blum, 5600
A27: N° APPARTEMENT | C27: =IF(ISBLANK(VLOOKUP($C$21,Locataires!A13:I30,3,0)),"",VLOOKUP($C$21,Locataires!A13:I30,3,0)) -> 14
A31: LOYER
A32: LOYER: | C32: =IF(ISBLANK(VLOOKUP($C$21,Locataires!A13:I30,6,0)),"",VLOOKUP($C$21,Locataires!A13:I30,6,0)) -> 490
A33: CHARGES: | C33: =IF(ISBLANK(VLOOKUP($C$21,Locataires!A13:I30,7,0)),"",VLOOKUP($C$21,Locataires!A13:I30,7,0)) -> 50
A34: TOTAL LOYER: | C34: =SUM(C32:C33) -> 540
F37: Lorient le : | G37: =TODAY() -> 45679
F38: Signature du bailleur :
A47: Cette quittance vaut pour la période concernée. Elle annule tous les reçus qui auraient pu être établis précédemment en cas de paiement partiel du montant du présent terme. Elle est à conserver pendant trois ans par le locataire.

Sheet Quittance modiffiable
A1: QUITTANCE DE LOYER
A5: PROPRIETAIRE BAILLEUR
A7: SCI CHOISEUL
A8: =IF(ISBLANK(Locataires!B4),"",Locataires!B4) -> rue du stade
A9: =IF(ISBLANK(Locataires!B5),"",Locataires!B5) -> 500000
A10: =IF(ISBLANK(Locataires!B6),"",Locataires!B6) -> 01 02 03 04 05 06
A11: =IF(ISBLANK(Locataires!B7),"",Locataires!B7) -> sci@gmail.com
A12: =IF(ISBLANK(Locataires!B8),"",Locataires!B8)
A13: =IF(ISBLANK(Locataires!B9),"",Locataires!B9)
D17: MOIS | F17: ANNÉE
A18: PÉRIODE DE: | D18: Mars | F18: 2024
A21: LOCATAIRE
A22: NOM /PRENOM | C22: Steven
A23: TELEPHONE: | C23: =IF(ISBLANK(VLOOKUP($C$22,Locataires!A13:I30,4,0)),"",VLOOKUP($C$22,Locataires!A13:I30,4,0)) -> 13 01 00 00 00
A24: MAIL: | C24: =IF(ISBLANK(VLOOKUP($C$22,Locataires!A13:I30,5,0)),"",VLOOKUP($C$22,Locataires!A13:I30,5,0)) -> test 01 @gmail.com
A26: LOGEMENT
A27: ADRESSE | C27: =IF(ISBLANK(VLOOKUP($C$22,Locataires!A13:I30,2,0)),"",VLOOKUP($C$22,Locataires!A13:I30,2,0)) -> 13 rue blum, 5600
A28: N° APPARTEMENT | C28: =IF(ISBLANK(VLOOKUP($C$22,Locataires!A13:I30,3,0)),"",VLOOKUP($C$22,Locataires!A13:I30,3,0)) -> 14
A32: LOYER
A33: LOYER: | C33: 290
A34: CHARGES: | C34: =IF(ISBLANK(VLOOKUP($C$22,Locataires!A13:I30,7,0)),"",VLOOKUP($C$22,Locataires!A13:I30,7,0)) -> 50
A35: TOTAL LOYER: | C35: =SUM(C33:C34) -> 340
F38: Lorient le : | G38: =TODAY() -> 45679
F39: Signature du bailleur :
A48: Cette quittance vaut pour la période concernée. Elle annule tous les reçus qui auraient pu être établis précédemment en cas de paiement partiel du montant du présent terme. Elle est à conserver pendant trois ans par le locataire.

Sheet Feuil3
B2: Janvier | C2: 2022
B3: Février | C3: 2023
B4: Mars | C4: 2024
B5: Avril | C5: 2025
B6: Mai | C6: 2026
B7: Juin | C7: 2027
B8: Juillet | C8: 2028
B9: Août | C9: 2029
B10: Septembre | C10: 2030
B11: Octobre | C11: 2031
B12: Novembre | C12: 2032
B13: Décembre | C13: 2033
