Workbook

Sheet test
A1: rang | C1: POINT | D1: TIME | E1: Stock Saw | G1: Standing block | I1: single buck | K1: underhand | M1: springboard | O1: hot saw
E2: time | F2: point | G2: time | H2: point | I2: time | J2: point | K2: time | L2: point | M2: time | N2: point | O2: time | P2: point
A3: =RANK(C3,C$3:C$17) -> 1 | B3: =participant!B3 -> ANTOINE | C3: =F3+H3+J3+L3+N3+P3 -> 56 | D3: =E3+G3+I3+K3+M3+O3 -> 0.22013889 | E3: =stock!E3 -> 0.01875 | F3: 13 | G3: =standing!E3 -> 0.040277778 | H3: 14 | I3: =single!E3 -> 0.040277778 | J3: 14 | K3: =under!E3 -> 0.040277778 | L3: 15 | M3: =springboard!E3 -> 0.040277778 | O3: ='hot saw'!E3 -> 0.040277778
A4: =RANK(C4,C$3:C$17) -> 2 | B4: =participant!B4 -> LEO | C4: =F4+H4+J4+L4+N4+P4 -> 51 | D4: =E4+G4+I4+K4+M4+O4 -> 1.1659722 | E4: =stock!E4 -> 0.55833333 | F4: 15 | G4: =standing!E4 -> 0.12152778 | H4: 13 | I4: =single!E4 -> 0.12152778 | J4: 11 | K4: =under!E4 -> 0.12152778 | L4: 12 | M4: =springboard!E4 -> 0.12152778 | O4: ='hot saw'!E4 -> 0.12152778
A5: =RANK(C5,C$3:C$17) -> 3 | B5: =participant!B2 -> TIM | C5: =F5+H5+J5+L5+N5+P5 -> 50 | D5: =E5+G5+I5+K5+M5+O5 -> 1.0673669 | E5: =stock!E5 -> 0.84791667 | F5: 15 | G5: =standing!E2 -> 0.035763889 | H5: 16 | I5: =single!E2 -> 0.035763889 | J5: 3 | K5: =under!E2 -> 0.053125 | L5: 16 | M5: =springboard!E2 -> 0.059033565 | O5: ='hot saw'!E2 -> 0.035763889
A6: =RANK(C6,C$3:C$17) -> 3 | B6: =participant!B5 -> FLORIAN | C6: =F6+H6+J6+L6+N6+P6 -> 50 | D6: =E6+G6+I6+K6+M6+O6 -> 0.86493056 | E6: =stock!E6 -> 0.7625 | F6: 8 | G6: =standing!E5 -> 0.020486111 | H6: 15 | I6: =single!E5 -> 0.020486111 | J6: 16 | K6: =under!E5 -> 0.020486111 | L6: 11 | M6: =springboard!E5 -> 0.020486111 | O6: ='hot saw'!E5 -> 0.020486111
A7: =RANK(C7,C$3:C$17) -> 5 | B7: =participant!B6 -> DORIAN | C7: =F7+H7+J7+L7+N7+P7 -> 47 | D7: =E7+G7+I7+K7+M7+O7 -> 0.81597222 | E7: =stock!E7 -> 0.67708333 | F7: 12 | G7: =standing!E6 -> 0.027777778 | H7: 7 | I7: =single!E6 -> 0.027777778 | J7: 15 | K7: =under!E6 -> 0.027777778 | L7: 13 | M7: =springboard!E6 -> 0.027777778 | O7: ='hot saw'!E6 -> 0.027777778
A8: =RANK(C8,C$3:C$17) -> 6 | B8: =participant!B7 -> TIM G | C8: =F8+H8+J8+L8+N8+P8 -> 43 | D8: =E8+G8+I8+K8+M8+O8 -> 0.85208333 | E8: =stock!E8 -> 0.59166667 | F8: 11 | G8: =standing!E7 -> 0.052083333 | H8: 12 | I8: =single!E7 -> 0.052083333 | J8: 13 | K8: =under!E7 -> 0.052083333 | L8: 7 | M8: =springboard!E7 -> 0.052083333 | O8: ='hot saw'!E7 -> 0.052083333
A9: =RANK(C9,C$3:C$17) -> 7 | B9: =participant!B8 -> NATHAN | C9: =F9+H9+J9+L9+N9+P9 -> 40 | D9: =E9+G9+I9+K9+M9+O9 -> 0.88819444 | E9: =stock!E9 -> 0.50625 | F9: 10 | G9: =standing!E8 -> 0.076388889 | H9: 11 | I9: =single!E8 -> 0.076388889 | J9: 5 | K9: =under!E8 -> 0.076388889 | L9: 14 | M9: =springboard!E8 -> 0.076388889 | O9: ='hot saw'!E8 -> 0.076388889
A10: =RANK(C10,C$3:C$17) -> 8 | B10: =participant!B9 -> THEO | C10: =F10+H10+J10+L10+N10+P10 -> 37 | D10: =E10+G10+I10+K10+M10+O10 -> 1.4243056 | E10: =stock!E10 -> 0.92083333 | F10: 16 | G10: =standing!E9 -> 0.10069444 | H10: 8 | I10: =single!E9 -> 0.10069444 | J10: 8 | K10: =under!E9 -> 0.10069444 | L10: 5 | M10: =springboard!E9 -> 0.10069444 | O10: ='hot saw'!E9 -> 0.10069444
A11: =RANK(C11,C$3:C$17) -> 9 | B11: =participant!B10 -> MATHIS | C11: =F11+H11+J11+L11+N11+P11 -> 33 | D11: =E11+G11+I11+K11+M11+O11 -> 1.4604167 | E11: =stock!E11 -> 0.83541667 | F11: 6 | G11: =standing!E10 -> 0.125 | H11: 10 | I11: =single!E10 -> 0.125 | J11: 7 | K11: =under!E10 -> 0.125 | L11: 10 | M11: =springboard!E10 -> 0.125 | O11: ='hot saw'!E10 -> 0.125
A12: =RANK(C12,C$3:C$17) -> 10 | B12: =participant!B11 -> VALENTIN | C12: =F12+H12+J12+L12+N12+P12 -> 20 | D12: =E12+G12+I12+K12+M12+O12 -> 1.4097222 | E12: =stock!E12 -> 0.75 | F12: 4 | G12: =standing!E11 -> 0.13194444 | H12: 9 | I12: =single!E11 -> 0.13194444 | J12: 3 | K12: =under!E11 -> 0.13194444 | L12: 4 | M12: =springboard!E11 -> 0.13194444 | O12: ='hot saw'!E11 -> 0.13194444
A13: =RANK(C13,C$3:C$17) -> 10 | B13: =participant!B12 -> CESAR | C13: =F13+H13+J13+L13+N13+P13 -> 20 | D13: =E13+G13+I13+K13+M13+O13 -> 1.4076389 | E13: =stock!E13 -> 0.66458333 | F13: 0 | G13: =standing!E12 -> 0.14861111 | H13: 6 | I13: =single!E12 -> 0.14861111 | J13: 6 | K13: =under!E12 -> 0.14861111 | L13: 8 | M13: =springboard!E12 -> 0.14861111 | O13: ='hot saw'!E12 -> 0.14861111
A14: =RANK(C14,C$3:C$17) -> 12 | B14: =participant!B14 -> BENJAMIN | C14: =F14+H14+J14+L14+N14+P14 -> 19 | D14: =E14+G14+I14+K14+M14+O14 -> 1.6121528 | E14: =stock!E14 -> 0.57916667 | F14: 9 | G14: =standing!E14 -> 0.20659722 | H14: 2 | I14: =single!E14 -> 0.20659722 | J14: 2 | K14: =under!E14 -> 0.20659722 | L14: 6 | M14: =springboard!E14 -> 0.20659722 | O14: ='hot saw'!E14 -> 0.20659722
A15: =RANK(C15,C$3:C$17) -> 12 | B15: =participant!B15 -> ENZO | C15: =F15+H15+J15+L15+N15+P15 -> 19 | D15: =E15+G15+I15+K15+M15+O15 -> 1.46875 | E15: =stock!E15 -> 0.49375 | F15: 5 | G15: =standing!E15 -> 0.21354167 | H15: 4 | I15: =single!E15 -> 0.21354167 | J15: 10 | K15: =under!E13 -> 0.18263889 | L15: 0 | M15: =springboard!E13 -> 0.18263889 | O15: ='hot saw'!E13 -> 0.18263889
A16: =RANK(C16,C$3:C$17) -> 12 | B16: =participant!B13 -> THIBAULT | C16: =F16+H16+J16+L16+N16+P16 -> 19 | D16: =E16+G16+I16+K16+M16+O16 -> 1.3215278 | E16: =stock!E16 -> 0.40833333 | F16: 3 | G16: =standing!E13 -> 0.18263889 | H16: 3 | I16: =single!E13 -> 0.18263889 | J16: 4 | K16: =under!E13 -> 0.18263889 | L16: 9 | M16: =springboard!E13 -> 0.18263889 | O16: ='hot saw'!E13 -> 0.18263889
A17: =RANK(C17,C$3:C$18) -> 15 | B17: =participant!B16 -> THOMAS | C17: =F17+H17+J17+L17+N17+P17 -> 14 | D17: =E17+G17+I17+K17+M17+O17 -> 2.0208333 | E17: =stock!E17 -> 0.82291667 | F17: 0 | G17: =standing!E16 -> 0.23958333 | H17: 5 | I17: =single!E16 -> 0.23958333 | J17: 9 | K17: =under!E16 -> 0.23958333 | L17: 0 | M17: =springboard!E16 -> 0.23958333 | O17: ='hot saw'!E16 -> 0.23958333
A18: =RANK(C18,C$3:C$18) -> 16 | B18: =participant!B17 -> ANTONY | C18: =F18+H18+J18+L18+N18+P18 -> 12 | D18: =E18+G18+I18+K18+M18+O18 -> 0 | E18: =stock!E18 -> 0 | F18: 7 | G18: =standing!E17 -> 0 | H18: 1 | I18: =single!E17 -> 0 | J18: 1 | K18: =under!E17 -> 0 | L18: 3 | M18: =springboard!E17 -> 0 | O18: ='hot saw'!E17 -> 0

Sheet ranking (2)
A1: rang | C1: POINT | D1: TIME | E1: Stock Saw | G1: Standing block | I1: single buck | K1: underhand | M1: springboard | O1: hot saw
E2: time | F2: point | G2: time | H2: point | I2: time | J2: point | K2: time | L2: point | M2: time | N2: point | O2: time | P2: point
A3: =RANK(C3,C$3:C$17) -> 1 | B3: =participant!B3 -> ANTOINE | C3: =F3+H3+J3+L3+N3+P3 -> 56 | D3: =E3+G3+I3+K3+M3+O3 -> 0.22013889 | E3: =stock!E3 -> 0.01875 | F3: 13 | G3: =standing!E3 -> 0.040277778 | H3: 14 | I3: =single!E3 -> 0.040277778 | J3: 14 | K3: =under!E3 -> 0.040277778 | L3: 15 | M3: =springboard!E3 -> 0.040277778 | O3: ='hot saw'!E3 -> 0.040277778
A4: =RANK(C4,C$3:C$17) -> 2 | B4: =participant!B4 -> LEO | C4: =F4+H4+J4+L4+N4+P4 -> 51 | D4: =E4+G4+I4+K4+M4+O4 -> 1.1659722 | E4: =stock!E4 -> 0.55833333 | F4: 15 | G4: =standing!E4 -> 0.12152778 | H4: 13 | I4: =single!E4 -> 0.12152778 | J4: 11 | K4: =under!E4 -> 0.12152778 | L4: 12 | M4: =springboard!E4 -> 0.12152778 | O4: ='hot saw'!E4 -> 0.12152778
A5: =RANK(C5,C$3:C$17) -> 3 | B5: =participant!B2 -> TIM | C5: =F5+H5+J5+L5+N5+P5 -> 50 | D5: =E5+G5+I5+K5+M5+O5 -> 0.30278356 | E5: =stock!E2 -> 0.083333333 | F5: 15 | G5: =standing!E2 -> 0.035763889 | H5: 16 | I5: =single!E2 -> 0.035763889 | J5: 3 | K5: =under!E2 -> 0.053125 | L5: 16 | M5: =springboard!E2 -> 0.059033565 | O5: ='hot saw'!E2 -> 0.035763889
A6: =RANK(C6,C$3:C$17) -> 3 | B6: =participant!B5 -> FLORIAN | C6: =F6+H6+J6+L6+N6+P6 -> 50 | D6: =E6+G6+I6+K6+M6+O6 -> 0.95034722 | E6: =stock!E5 -> 0.84791667 | F6: 8 | G6: =standing!E5 -> 0.020486111 | H6: 15 | I6: =single!E5 -> 0.020486111 | J6: 16 | K6: =under!E5 -> 0.020486111 | L6: 11 | M6: =springboard!E5 -> 0.020486111 | O6: ='hot saw'!E5 -> 0.020486111
A7: =RANK(C7,C$3:C$17) -> 5 | B7: =participant!B6 -> DORIAN | C7: =F7+H7+J7+L7+N7+P7 -> 47 | D7: =E7+G7+I7+K7+M7+O7 -> 0.90138889 | E7: =stock!E6 -> 0.7625 | F7: 12 | G7: =standing!E6 -> 0.027777778 | H7: 7 | I7: =single!E6 -> 0.027777778 | J7: 15 | K7: =under!E6 -> 0.027777778 | L7: 13 | M7: =springboard!E6 -> 0.027777778 | O7: ='hot saw'!E6 -> 0.027777778
A8: =RANK(C8,C$3:C$17) -> 6 | B8: =participant!B7 -> TIM G | C8: =F8+H8+J8+L8+N8+P8 -> 43 | D8: =E8+G8+I8+K8+M8+O8 -> 0.9375 | E8: =stock!E7 -> 0.67708333 | F8: 11 | G8: =standing!E7 -> 0.052083333 | H8: 12 | I8: =single!E7 -> 0.052083333 | J8: 13 | K8: =under!E7 -> 0.052083333 | L8: 7 | M8: =springboard!E7 -> 0.052083333 | O8: ='hot saw'!E7 -> 0.052083333
A9: =RANK(C9,C$3:C$17) -> 7 | B9: =participant!B8 -> NATHAN | C9: =F9+H9+J9+L9+N9+P9 -> 40 | D9: =E9+G9+I9+K9+M9+O9 -> 0.97361111 | E9: =stock!E8 -> 0.59166667 | F9: 10 | G9: =standing!E8 -> 0.076388889 | H9: 11 | I9: =single!E8 -> 0.076388889 | J9: 5 | K9: =under!E8 -> 0.076388889 | L9: 14 | M9: =springboard!E8 -> 0.076388889 | O9: ='hot saw'!E8 -> 0.076388889
A10: =RANK(C10,C$3:C$17) -> 8 | B10: =participant!B9 -> THEO | C10: =F10+H10+J10+L10+N10+P10 -> 37 | D10: =E10+G10+I10+K10+M10+O10 -> 1.0097222 | E10: =stock!E9 -> 0.50625 | F10: 16 | G10: =standing!E9 -> 0.10069444 | H10: 8 | I10: =single!E9 -> 0.10069444 | J10: 8 | K10: =under!E9 -> 0.10069444 | L10: 5 | M10: =springboard!E9 -> 0.10069444 | O10: ='hot saw'!E9 -> 0.10069444
A11: =RANK(C11,C$3:C$17) -> 9 | B11: =participant!B10 -> MATHIS | C11: =F11+H11+J11+L11+N11+P11 -> 33 | D11: =E11+G11+I11+K11+M11+O11 -> 1.5458333 | E11: =stock!E10 -> 0.92083333 | F11: 6 | G11: =standing!E10 -> 0.125 | H11: 10 | I11: =single!E10 -> 0.125 | J11: 7 | K11: =under!E10 -> 0.125 | L11: 10 | M11: =springboard!E10 -> 0.125 | O11: ='hot saw'!E10 -> 0.125
A12: =RANK(C12,C$3:C$17) -> 10 | B12: =participant!B11 -> VALENTIN | C12: =F12+H12+J12+L12+N12+P12 -> 20 | D12: =E12+G12+I12+K12+M12+O12 -> 1.4951389 | E12: =stock!E11 -> 0.83541667 | F12: 4 | G12: =standing!E11 -> 0.13194444 | H12: 9 | I12: =single!E11 -> 0.13194444 | J12: 3 | K12: =under!E11 -> 0.13194444 | L12: 4 | M12: =springboard!E11 -> 0.13194444 | O12: ='hot saw'!E11 -> 0.13194444
A13: =RANK(C13,C$3:C$17) -> 10 | B13: =participant!B12 -> CESAR | C13: =F13+H13+J13+L13+N13+P13 -> 20 | D13: =E13+G13+I13+K13+M13+O13 -> 1.4930556 | E13: =stock!E12 -> 0.75 | F13: 0 | G13: =standing!E12 -> 0.14861111 | H13: 6 | I13: =single!E12 -> 0.14861111 | J13: 6 | K13: =under!E12 -> 0.14861111 | L13: 8 | M13: =springboard!E12 -> 0.14861111 | O13: ='hot saw'!E12 -> 0.14861111
A14: =RANK(C14,C$3:C$17) -> 12 | B14: =participant!B14 -> BENJAMIN | C14: =F14+H14+J14+L14+N14+P14 -> 19 | D14: =E14+G14+I14+K14+M14+O14 -> 1.6121528 | E14: =stock!E14 -> 0.57916667 | F14: 9 | G14: =standing!E14 -> 0.20659722 | H14: 2 | I14: =single!E14 -> 0.20659722 | J14: 2 | K14: =under!E14 -> 0.20659722 | L14: 6 | M14: =springboard!E14 -> 0.20659722 | O14: ='hot saw'!E14 -> 0.20659722
A15: =RANK(C15,C$3:C$17) -> 12 | B15: =participant!B15 -> ENZO | C15: =F15+H15+J15+L15+N15+P15 -> 19 | D15: =E15+G15+I15+K15+M15+O15 -> 1.46875 | E15: =stock!E15 -> 0.49375 | F15: 5 | G15: =standing!E15 -> 0.21354167 | H15: 4 | I15: =single!E15 -> 0.21354167 | J15: 10 | K15: =under!E13 -> 0.18263889 | L15: 0 | M15: =springboard!E13 -> 0.18263889 | O15: ='hot saw'!E13 -> 0.18263889
A16: =RANK(C16,C$3:C$17) -> 12 | B16: =participant!B13 -> THIBAULT | C16: =F16+H16+J16+L16+N16+P16 -> 19 | D16: =E16+G16+I16+K16+M16+O16 -> 1.5777778 | E16: =stock!E13 -> 0.66458333 | F16: 3 | G16: =standing!E13 -> 0.18263889 | H16: 3 | I16: =single!E13 -> 0.18263889 | J16: 4 | K16: =under!E13 -> 0.18263889 | L16: 9 | M16: =springboard!E13 -> 0.18263889 | O16: ='hot saw'!E13 -> 0.18263889
A17: =RANK(C17,C$3:C$18) -> 15 | B17: =participant!B16 -> THOMAS | C17: =F17+H17+J17+L17+N17+P17 -> 14 | D17: =E17+G17+I17+K17+M17+O17 -> 1.60625 | E17: =stock!E16 -> 0.40833333 | F17: 0 | G17: =standing!E16 -> 0.23958333 | H17: 5 | I17: =single!E16 -> 0.23958333 | J17: 9 | K17: =under!E16 -> 0.23958333 | L17: 0 | M17: =springboard!E16 -> 0.23958333 | O17: ='hot saw'!E16 -> 0.23958333
A18: =RANK(C18,C$3:C$18) -> 16 | B18: =participant!B17 -> ANTONY | C18: =F18+H18+J18+L18+N18+P18 -> 12 | D18: =E18+G18+I18+K18+M18+O18 -> 0.82291667 | E18: =stock!E17 -> 0.82291667 | F18: 7 | G18: =standing!E17 -> 0 | H18: 1 | I18: =single!E17 -> 0 | J18: 1 | K18: =under!E17 -> 0 | L18: 3 | M18: =springboard!E17 -> 0 | O18: ='hot saw'!E17 -> 0

Sheet ranking
C2: POINT | D2: TEMPS | E2: DQ | F2: POINT
A3: PARTICIPANT | B3: =participant!B2 -> TIM | C3: =under!E2+standing!E2+stock!G2 -> 15.088889 | D3: =stock!C2+standing!C2+under!C2 -> 0.18472222 | F3: =under!E2+standing!E2+stock!G2 -> 15.088889
A4: PARTICIPANT | B4: =participant!B7 -> TIM G | C4: =under!E3+standing!E3+stock!G3 -> 13.080556 | D4: =stock!C7+standing!C7+under!C7 -> 0.59201389 | F4: =under!E7+standing!E7+stock!G7 -> 11.104167
A5: PARTICIPANT | B5: =participant!B8 -> NATHAN | C5: =under!E4+standing!E4+stock!G4 -> 15.243056 | D5: =stock!C8+standing!C8+under!C8 -> 0.52708333 | F5: =under!E8+standing!E8+stock!G8 -> 10.152778
A6: PARTICIPANT | B6: =participant!B3 -> ANTOINE | C6: =under!E5+standing!E5+stock!G5 -> 8.0409722 | D6: =stock!C3+standing!C3+under!C3 -> 0.10173611 | F6: =under!E3+standing!E3+stock!G3 -> 13.080556
A7: PARTICIPANT | B7: =participant!B4 -> LEO | C7: =under!E6+standing!E6+stock!G6 -> 12.055556 | D7: =stock!C4+standing!C4+under!C4 -> 0.35625 | F7: =under!E4+standing!E4+stock!G4 -> 15.243056
A8: PARTICIPANT | B8: =participant!B5 -> FLORIAN | C8: =under!E7+standing!E7+stock!G7 -> 11.104167 | D8: =stock!C5+standing!C5+under!C5 -> 0.78298611 | F8: =under!E5+standing!E5+stock!G5 -> 8.0409722
A9: PARTICIPANT | B9: =participant!B6 -> DORIAN | C9: =under!E8+standing!E8+stock!G8 -> 10.152778 | D9: =stock!C6+standing!C6+under!C6 -> 0.65694444 | F9: =under!E6+standing!E6+stock!G6 -> 12.055556
A10: PARTICIPANT | B10: =participant!B9 -> THEO | C10: =under!E9+standing!E9+stock!G9 -> 16.201389 | D10: =stock!C9+standing!C9+under!C9 -> 0.46215278 | F10: =under!E9+standing!E9+stock!G9 -> 16.201389
A11: PARTICIPANT | B11: =participant!B11 -> VALENTIN | C11: =under!E10+standing!E10+stock!G10 -> 6.25 | D11: =stock!C11+standing!C11+under!C11 -> 1.3322917 | F11: =under!E11+standing!E11+stock!G11 -> 4.2638889
A12: PARTICIPANT | B12: =participant!B10 -> MATHIS | C12: =under!E11+standing!E11+stock!G11 -> 4.2638889 | D12: =stock!C10+standing!C10+under!C10 -> 1.3972222 | F12: =under!E10+standing!E10+stock!G10 -> 6.25
A13: PARTICIPANT | B13: =participant!B12 -> CESAR | C13: =under!E12+standing!E12+stock!G12 -> 0.29722222 | D13: =stock!C12+standing!C12+under!C12 -> 1.2673611 | F13: =under!E12+standing!E12+stock!G12 -> 0.29722222
A14: PARTICIPANT | B14: =participant!B13 -> THIBAULT | C14: =under!E13+standing!E13+stock!G13 -> 3.3652778 | D14: =stock!C13+standing!C13+under!C13 -> 1.2024306 | F14: =under!E13+standing!E13+stock!G13 -> 3.3652778
A15: PARTICIPANT | B15: =participant!B14 -> BENJAMIN | C15: =under!E14+standing!E14+stock!G14 -> 9.4131944 | D15: =stock!C14+standing!C14+under!C14 -> 1.1375 | F15: =under!E14+standing!E14+stock!G14 -> 9.4131944
A16: PARTICIPANT | B16: =participant!B15 -> ENZO | C16: =under!E15+standing!E15+stock!G15 -> 5.4270833 | D16: =stock!C15+standing!C15+under!C15 -> 1.0725694 | F16: =under!E15+standing!E15+stock!G15 -> 5.4270833
A17: PARTICIPANT | B17: =participant!B16 -> THOMAS | C17: =under!E16+standing!E16+stock!G16 -> 0.47916667 | D17: =stock!C16+standing!C16+under!C16 -> 1.0076389 | F17: =under!E16+standing!E16+stock!G16 -> 0.47916667

Sheet final
B1: PARTICIPANT | C1: POINT | D1: TEMPS | E1: DQ | F1: POINT2 | G1: RANG
B2: =INDEX(t_Participants[],ROW()-1,2) -> TIM | C2: =under!E2+standing!E2+stock!G2 -> 15.088889 | D2: =stock!C2+standing!C2+under!C2 -> 0.18472222 | F2: =under!E2+standing!E2+stock!G2 -> 15.088889
B3: =INDEX(t_Participants[],ROW()-1,2) -> ANTOINE | C3: =under!E3+standing!E3+stock!G3 -> 13.080556 | D3: =stock!C7+standing!C7+under!C7 -> 0.59201389 | F3: =under!E7+standing!E7+stock!G7 -> 11.104167
B4: =INDEX(t_Participants[],ROW()-1,2) -> LEO | C4: =under!E4+standing!E4+stock!G4 -> 15.243056 | D4: =stock!C8+standing!C8+under!C8 -> 0.52708333 | F4: =under!E8+standing!E8+stock!G8 -> 10.152778
B5: =INDEX(t_Participants[],ROW()-1,2) -> FLORIAN | C5: =under!E5+standing!E5+stock!G5 -> 8.0409722 | D5: =stock!C3+standing!C3+under!C3 -> 0.10173611 | F5: =under!E3+standing!E3+stock!G3 -> 13.080556
B6: =INDEX(t_Participants[],ROW()-1,2) -> DORIAN | C6: =under!E6+standing!E6+stock!G6 -> 12.055556 | D6: =stock!C4+standing!C4+under!C4 -> 0.35625 | F6: =under!E4+standing!E4+stock!G4 -> 15.243056
B7: =INDEX(t_Participants[],ROW()-1,2) -> TIM G | C7: =under!E7+standing!E7+stock!G7 -> 11.104167 | D7: =stock!C5+standing!C5+under!C5 -> 0.78298611 | F7: =under!E5+standing!E5+stock!G5 -> 8.0409722
B8: =INDEX(t_Participants[],ROW()-1,2) -> NATHAN | C8: =under!E8+standing!E8+stock!G8 -> 10.152778 | D8: =stock!C6+standing!C6+under!C6 -> 0.65694444 | F8: =under!E6+standing!E6+stock!G6 -> 12.055556
B9: =INDEX(t_Participants[],ROW()-1,2) -> THEO | C9: =under!E9+standing!E9+stock!G9 -> 16.201389 | D9: =stock!C9+standing!C9+under!C9 -> 0.46215278 | F9: =under!E9+standing!E9+stock!G9 -> 16.201389
B10: =INDEX(t_Participants[],ROW()-1,2) -> MATHIS | C10: =under!E10+standing!E10+stock!G10 -> 6.25 | D10: =stock!C11+standing!C11+under!C11 -> 1.3322917 | F10: =under!E11+standing!E11+stock!G11 -> 4.2638889
B11: =INDEX(t_Participants[],ROW()-1,2) -> VALENTIN | C11: =under!E11+standing!E11+stock!G11 -> 4.2638889 | D11: =stock!C10+standing!C10+under!C10 -> 1.3972222 | F11: =under!E10+standing!E10+stock!G10 -> 6.25
B12: =INDEX(t_Participants[],ROW()-1,2) -> CESAR | C12: =under!E12+standing!E12+stock!G12 -> 0.29722222 | D12: =stock!C12+standing!C12+under!C12 -> 1.2673611 | F12: =under!E12+standing!E12+stock!G12 -> 0.29722222
B13: =INDEX(t_Participants[],ROW()-1,2) -> THIBAULT | C13: =under!E13+standing!E13+stock!G13 -> 3.3652778 | D13: =stock!C13+standing!C13+under!C13 -> 1.2024306 | F13: =under!E13+standing!E13+stock!G13 -> 3.3652778
B14: =INDEX(t_Participants[],ROW()-1,2) -> BENJAMIN | C14: =under!E14+standing!E14+stock!G14 -> 9.4131944 | D14: =stock!C14+standing!C14+under!C14 -> 1.1375 | F14: =under!E14+standing!E14+stock!G14 -> 9.4131944
B15: =INDEX(t_Participants[],ROW()-1,2) -> ENZO | C15: =under!E15+standing!E15+stock!G15 -> 5.4270833 | D15: =stock!C15+standing!C15+under!C15 -> 1.0725694 | F15: =under!E15+standing!E15+stock!G15 -> 5.4270833
B16: =INDEX(t_Participants[],ROW()-1,2) -> THOMAS | C16: =under!E16+standing!E16+stock!G16 -> 0.47916667 | D16: =stock!C16+standing!C16+under!C16 -> 1.0076389 | F16: =under!E16+standing!E16+stock!G16 -> 0.47916667
B17: =INDEX(t_Participants[],ROW()-1,2) -> ANTONY | C17: =under!E17+standing!E17+stock!G17 -> 7 | D17: =stock!C17+standing!C17+under!C17 -> 0.94270833 | F17: =under!E17+standing!E17+stock!G17 -> 7

Sheet under
B1: PARTICIPANT | C1: TEMPS1 | D1: temps 2 | E1: moyenne | F1: RANG
B2: =INDEX(t_Participants[],ROW()-1,2) -> TIM | C2: 0.029861111 | D2: 0.076388889 | E2: =AVERAGE(C2:D2) -> 0.053125
B3: =INDEX(t_Participants[],ROW()-1,2) -> ANTOINE | C3: 0.041666667 | D3: 0.038888889 | E3: =AVERAGE(C3:D3) -> 0.040277778
B4: =INDEX(t_Participants[],ROW()-1,2) -> LEO | C4: 0.11805556 | D4: 0.125 | E4: =AVERAGE(C4:D4) -> 0.12152778
B5: =INDEX(t_Participants[],ROW()-1,2) -> FLORIAN | C5: 0.030555556 | D5: 0.010416667 | E5: =AVERAGE(C5:D5) -> 0.020486111
B6: =INDEX(t_Participants[],ROW()-1,2) -> DORIAN | C6: 0.041666667 | D6: 0.013888889 | E6: =AVERAGE(C6:D6) -> 0.027777778
B7: =INDEX(t_Participants[],ROW()-1,2) -> TIM G | C7: 0.083333333 | D7: 0.020833333 | E7: =AVERAGE(C7:D7) -> 0.052083333
B8: =INDEX(t_Participants[],ROW()-1,2) -> NATHAN | C8: 0.125 | D8: 0.027777778 | E8: =AVERAGE(C8:D8) -> 0.076388889
B9: =INDEX(t_Participants[],ROW()-1,2) -> THEO | C9: 0.16666667 | D9: 0.034722222 | E9: =AVERAGE(C9:D9) -> 0.10069444
B10: =INDEX(t_Participants[],ROW()-1,2) -> MATHIS | C10: 0.20833333 | D10: 0.041666667 | E10: =AVERAGE(C10:D10) -> 0.125
B11: =INDEX(t_Participants[],ROW()-1,2) -> VALENTIN | C11: 0.25 | D11: 0.013888889 | E11: =AVERAGE(C11:D11) -> 0.13194444
B12: =INDEX(t_Participants[],ROW()-1,2) -> CESAR | C12: 0.29166667 | D12: 0.0055555556 | E12: =AVERAGE(C12:D12) -> 0.14861111
B13: =INDEX(t_Participants[],ROW()-1,2) -> THIBAULT | C13: 0.33333333 | D13: 0.031944444 | E13: =AVERAGE(C13:D13) -> 0.18263889
... B16: =INDEX(t_Participants[],ROW()-1,2) -> THOMAS | C16: 0.45833333 | D16: 0.020833333 | E16: =AVERAGE(C16:D16) -> 0.23958333
B17: =INDEX(t_Participants[],ROW()-1,2) -> ANTONY

Sheet standing
B1: PARTICIPANT | C1: TEMPS1 | D1: temps 2 | E1: moyenne | F1: RANG
B2: =INDEX(t_Participants[],ROW()-1,2) -> TIM | C2: 0.029861111 | D2: 0.041666667 | E2: =AVERAGE(C2:D2) -> 0.035763889
B3: =INDEX(t_Participants[],ROW()-1,2) -> ANTOINE | C3: 0.041666667 | D3: 0.038888889 | E3: =AVERAGE(C3:D3) -> 0.040277778
B4: =INDEX(t_Participants[],ROW()-1,2) -> LEO | C4: 0.11805556 | D4: 0.125 | E4: =AVERAGE(C4:D4) -> 0.12152778
B5: =INDEX(t_Participants[],ROW()-1,2) -> FLORIAN | C5: 0.030555556 | D5: 0.010416667 | E5: =AVERAGE(C5:D5) -> 0.020486111
B6: =INDEX(t_Participants[],ROW()-1,2) -> DORIAN | C6: 0.041666667 | D6: 0.013888889 | E6: =AVERAGE(C6:D6) -> 0.027777778
B7: =INDEX(t_Participants[],ROW()-1,2) -> TIM G | C7: 0.083333333 | D7: 0.020833333 | E7: =AVERAGE(C7:D7) -> 0.052083333
B8: =INDEX(t_Participants[],ROW()-1,2) -> NATHAN | C8: 0.125 | D8: 0.027777778 | E8: =AVERAGE(C8:D8) -> 0.076388889
B9: =INDEX(t_Participants[],ROW()-1,2) -> THEO | C9: 0.16666667 | D9: 0.034722222 | E9: =AVERAGE(C9:D9) -> 0.10069444
B10: =INDEX(t_Participants[],ROW()-1,2) -> MATHIS | C10: 0.20833333 | D10: 0.041666667 | E10: =AVERAGE(C10:D10) -> 0.125
B11: =INDEX(t_Participants[],ROW()-1,2) -> VALENTIN | C11: 0.25 | D11: 0.013888889 | E11: =AVERAGE(C11:D11) -> 0.13194444
B12: =INDEX(t_Participants[],ROW()-1,2) -> CESAR | C12: 0.29166667 | D12: 0.0055555556 | E12: =AVERAGE(C12:D12) -> 0.14861111
B13: =INDEX(t_Participants[],ROW()-1,2) -> THIBAULT | C13: 0.33333333 | D13: 0.031944444 | E13: =AVERAGE(C13:D13) -> 0.18263889
... B16: =INDEX(t_Participants[],ROW()-1,2) -> THOMAS | C16: 0.45833333 | D16: 0.020833333 | E16: =AVERAGE(C16:D16) -> 0.23958333
B17: =INDEX(t_Participants[],ROW()-1,2) -> ANTONY

Sheet stock
B1: PARTICIPANT | C1: TEMPS1 | D1: temps 2 | E1: moyenne | F1: DQ | G1: POINT | H1: RANG
B2: =INDEX(t_Participants[],ROW()-1,2) -> TIM | C2: 0.125 | D2: 0.041666667 | E2: =AVERAGE(C2:D2) -> 0.083333333 | G2: 15 | K2: TEMPS 1 | L2: 0.083333333
B3: =INDEX(t_Participants[],ROW()-1,2) -> ANTOINE | C3: 0.018402778 | D3: 0.019097222 | E3: =AVERAGE(C3:D3) -> 0.01875 | G3: 13 | K3: TEMPS 2 | L3: 0.041666667
B4: =INDEX(t_Participants[],ROW()-1,2) -> LEO | C4: 0.12013889 | D4: 0.99652778 | E4: =AVERAGE(C4:D4) -> 0.55833333 | G4: 15 | L4: =AVERAGE(L2:L3) -> 0.0625
B5: =INDEX(t_Participants[],ROW()-1,2) -> FLORIAN | C5: 0.721875 | D5: 0.97395833 | E5: =AVERAGE(C5:D5) -> 0.84791667 | G5: 8
B6: =INDEX(t_Participants[],ROW()-1,2) -> DORIAN | C6: 0.57361111 | D6: 0.95138889 | E6: =AVERAGE(C6:D6) -> 0.7625 | G6: 12 | K6: =AVERAGE(C5:D5) -> 0.84791667
B7: =INDEX(t_Participants[],ROW()-1,2) -> TIM G | C7: 0.42534722 | D7: 0.92881944 | E7: =AVERAGE(C7:D7) -> 0.67708333 | G7: 11
B8: =INDEX(t_Participants[],ROW()-1,2) -> NATHAN | C8: 0.27708333 | D8: 0.90625 | E8: =AVERAGE(C8:D8) -> 0.59166667 | G8: 10
B9: =INDEX(t_Participants[],ROW()-1,2) -> THEO | C9: 0.12881944 | D9: 0.88368056 | E9: =AVERAGE(C9:D9) -> 0.50625 | G9: 16
B10: =INDEX(t_Participants[],ROW()-1,2) -> MATHIS | C10: 0.98055556 | D10: 0.86111111 | E10: =AVERAGE(C10:D10) -> 0.92083333 | G10: 6
B11: =INDEX(t_Participants[],ROW()-1,2) -> VALENTIN | C11: 0.83229167 | D11: 0.83854167 | E11: =AVERAGE(C11:D11) -> 0.83541667 | G11: 4
B12: =INDEX(t_Participants[],ROW()-1,2) -> CESAR | C12: 0.68402778 | D12: 0.81597222 | E12: =AVERAGE(C12:D12) -> 0.75 | G12: 0
B13: =INDEX(t_Participants[],ROW()-1,2) -> THIBAULT | C13: 0.53576389 | D13: 0.79340278 | E13: =AVERAGE(C13:D13) -> 0.66458333 | G13: 3
B14: =INDEX(t_Participants[],ROW()-1,2) -> BENJAMIN | C14: 0.3875 | D14: 0.77083333 | E14: =AVERAGE(C14:D14) -> 0.57916667 | G14: 9
B15: =INDEX(t_Participants[],ROW()-1,2) -> ENZO | C15: 0.23923611 | D15: 0.74826389 | E15: =AVERAGE(C15:D15) -> 0.49375 | G15: 5
B16: =INDEX(t_Participants[],ROW()-1,2) -> THOMAS | C16: 0.090972222 | D16: 0.72569444 | E16: =AVERAGE(C16:D16) -> 0.40833333 | G16: 0
B17: =INDEX(t_Participants[],ROW()-1,2) -> ANTONY | C17: 0.94270833 | D17: 0.703125 | E17: =AVERAGE(C17:D17) -> 0.82291667 | G17: 7

Sheet hot saw
B1: PARTICIPANT | C1: TEMPS1 | D1: temps 2 | E1: moyenne | F1: RANG
B2: =INDEX(t_Participants[],ROW()-1,2) -> TIM | C2: 0.029861111 | D2: 0.041666667 | E2: =AVERAGE(C2:D2) -> 0.035763889
B3: =INDEX(t_Participants[],ROW()-1,2) -> ANTOINE | C3: 0.041666667 | D3: 0.038888889 | E3: =AVERAGE(C3:D3) -> 0.040277778
B4: =INDEX(t_Participants[],ROW()-1,2) -> LEO | C4: 0.11805556 | D4: 0.125 | E4: =AVERAGE(C4:D4) -> 0.12152778
B5: =INDEX(t_Participants[],ROW()-1,2) -> FLORIAN | C5: 0.030555556 | D5: 0.010416667 | E5: =AVERAGE(C5:D5) -> 0.020486111
B6: =INDEX(t_Participants[],ROW()-1,2) -> DORIAN | C6: 0.041666667 | D6: 0.013888889 | E6: =AVERAGE(C6:D6) -> 0.027777778
B7: =INDEX(t_Participants[],ROW()-1,2) -> TIM G | C7: 0.083333333 | D7: 0.020833333 | E7: =AVERAGE(C7:D7) -> 0.052083333
B8: =INDEX(t_Participants[],ROW()-1,2) -> NATHAN | C8: 0.125 | D8: 0.027777778 | E8: =AVERAGE(C8:D8) -> 0.076388889
B9: =INDEX(t_Participants[],ROW()-1,2) -> THEO | C9: 0.16666667 | D9: 0.034722222 | E9: =AVERAGE(C9:D9) -> 0.10069444
B10: =INDEX(t_Participants[],ROW()-1,2) -> MATHIS | C10: 0.20833333 | D10: 0.041666667 | E10: =AVERAGE(C10:D10) -> 0.125
B11: =INDEX(t_Participants[],ROW()-1,2) -> VALENTIN | C11: 0.25 | D11: 0.013888889 | E11: =AVERAGE(C11:D11) -> 0.13194444
B12: =INDEX(t_Participants[],ROW()-1,2) -> CESAR | C12: 0.29166667 | D12: 0.0055555556 | E12: =AVERAGE(C12:D12) -> 0.14861111
B13: =INDEX(t_Participants[],ROW()-1,2) -> THIBAULT | C13: 0.33333333 | D13: 0.031944444 | E13: =AVERAGE(C13:D13) -> 0.18263889
... B16: =INDEX(t_Participants[],ROW()-1,2) -> THOMAS | C16: 0.45833333 | D16: 0.020833333 | E16: =AVERAGE(C16:D16) -> 0.23958333
B17: =INDEX(t_Participants[],ROW()-1,2) -> ANTONY

Sheet springboard
B1: PARTICIPANT | C1: TEMPS1 | D1: temps 2 | E1: moyenne | F1: RANG
B2: =INDEX(t_Participants[],ROW()-1,2) -> TIM | C2: 0.076400463 | D2: 0.041666667 | E2: =AVERAGE(C2:D2) -> 0.059033565
B3: =INDEX(t_Participants[],ROW()-1,2) -> ANTOINE | C3: 0.041666667 | D3: 0.038888889 | E3: =AVERAGE(C3:D3) -> 0.040277778
B4: =INDEX(t_Participants[],ROW()-1,2) -> LEO | C4: 0.11805556 | D4: 0.125 | E4: =AVERAGE(C4:D4) -> 0.12152778
B5: =INDEX(t_Participants[],ROW()-1,2) -> FLORIAN | C5: 0.030555556 | D5: 0.010416667 | E5: =AVERAGE(C5:D5) -> 0.020486111
B6: =INDEX(t_Participants[],ROW()-1,2) -> DORIAN | C6: 0.041666667 | D6: 0.013888889 | E6: =AVERAGE(C6:D6) -> 0.027777778
B7: =INDEX(t_Participants[],ROW()-1,2) -> TIM G | C7: 0.083333333 | D7: 0.020833333 | E7: =AVERAGE(C7:D7) -> 0.052083333
B8: =INDEX(t_Participants[],ROW()-1,2) -> NATHAN | C8: 0.125 | D8: 0.027777778 | E8: =AVERAGE(C8:D8) -> 0.076388889
B9: =INDEX(t_Participants[],ROW()-1,2) -> THEO | C9: 0.16666667 | D9: 0.034722222 | E9: =AVERAGE(C9:D9) -> 0.10069444
B10: =INDEX(t_Participants[],ROW()-1,2) -> MATHIS | C10: 0.20833333 | D10: 0.041666667 | E10: =AVERAGE(C10:D10) -> 0.125
B11: =INDEX(t_Participants[],ROW()-1,2) -> VALENTIN | C11: 0.25 | D11: 0.013888889 | E11: =AVERAGE(C11:D11) -> 0.13194444
B12: =INDEX(t_Participants[],ROW()-1,2) -> CESAR | C12: 0.29166667 | D12: 0.0055555556 | E12: =AVERAGE(C12:D12) -> 0.14861111
B13: =INDEX(t_Participants[],ROW()-1,2) -> THIBAULT | C13: 0.33333333 | D13: 0.031944444 | E13: =AVERAGE(C13:D13) -> 0.18263889
... B16: =INDEX(t_Participants[],ROW()-1,2) -> THOMAS | C16: 0.45833333 | D16: 0.020833333 | E16: =AVERAGE(C16:D16) -> 0.23958333
B17: =INDEX(t_Participants[],ROW()-1,2) -> ANTONY

Sheet single
B1: PARTICIPANT | C1: TEMPS1 | D1: temps 2 | E1: moyenne | F1: RANG
B2: =INDEX(t_Participants[],ROW()-1,2) -> TIM | C2: 0.029861111 | D2: 0.041666667 | E2: =AVERAGE(C2:D2) -> 0.035763889
B3: =INDEX(t_Participants[],ROW()-1,2) -> ANTOINE | C3: 0.041666667 | D3: 0.038888889 | E3: =AVERAGE(C3:D3) -> 0.040277778
B4: =INDEX(t_Participants[],ROW()-1,2) -> LEO | C4: 0.11805556 | D4: 0.125 | E4: =AVERAGE(C4:D4) -> 0.12152778
B5: =INDEX(t_Participants[],ROW()-1,2) -> FLORIAN | C5: 0.030555556 | D5: 0.010416667 | E5: =AVERAGE(C5:D5) -> 0.020486111
B6: =INDEX(t_Participants[],ROW()-1,2) -> DORIAN | C6: 0.041666667 | D6: 0.013888889 | E6: =AVERAGE(C6:D6) -> 0.027777778
B7: =INDEX(t_Participants[],ROW()-1,2) -> TIM G | C7: 0.083333333 | D7: 0.020833333 | E7: =AVERAGE(C7:D7) -> 0.052083333
B8: =INDEX(t_Participants[],ROW()-1,2) -> NATHAN | C8: 0.125 | D8: 0.027777778 | E8: =AVERAGE(C8:D8) -> 0.076388889
B9: =INDEX(t_Participants[],ROW()-1,2) -> THEO | C9: 0.16666667 | D9: 0.034722222 | E9: =AVERAGE(C9:D9) -> 0.10069444
B10: =INDEX(t_Participants[],ROW()-1,2) -> MATHIS | C10: 0.20833333 | D10: 0.041666667 | E10: =AVERAGE(C10:D10) -> 0.125
B11: =INDEX(t_Participants[],ROW()-1,2) -> VALENTIN | C11: 0.25 | D11: 0.013888889 | E11: =AVERAGE(C11:D11) -> 0.13194444
B12: =INDEX(t_Participants[],ROW()-1,2) -> CESAR | C12: 0.29166667 | D12: 0.0055555556 | E12: =AVERAGE(C12:D12) -> 0.14861111
B13: =INDEX(t_Participants[],ROW()-1,2) -> THIBAULT | C13: 0.33333333 | D13: 0.031944444 | E13: =AVERAGE(C13:D13) -> 0.18263889
... B16: =INDEX(t_Participants[],ROW()-1,2) -> THOMAS | C16: 0.45833333 | D16: 0.020833333 | E16: =AVERAGE(C16:D16) -> 0.23958333
B17: =INDEX(t_Participants[],ROW()-1,2) -> ANTONY

Sheet participant
A1: ID | B1: Nom
A2: 1 | B2: TIM
A3: 2 | B3: ANTOINE
A4: 3 | B4: LEO
A5: 4 | B5: FLORIAN
A6: 5 | B6: DORIAN
A7: 6 | B7: TIM G
A8: 7 | B8: NATHAN
A9: 8 | B9: THEO
A10: 9 | B10: MATHIS
A11: 10 | B11: VALENTIN
A12: 11 | B12: CESAR
A13: 12 | B13: THIBAULT
... A17: 16 | B17: ANTONY
