Workbook
Name AprSun1: DATE(CalendarYear,4,1)-WEEKDAY(DATE(CalendarYear,4,1))
Name AugSun1: DATE(CalendarYear,8,1)-WEEKDAY(DATE(CalendarYear,8,1))
Name CalendarYear: 'PLANNING GLOBAL'!$AG$1
Name DecSun1: DATE(CalendarYear,12,1)-WEEKDAY(DATE(CalendarYear,12,1))
Name FebSun1: DATE(CalendarYear,2,1)-WEEKDAY(DATE(CalendarYear,2,1))
Name JanSun1: DATE(CalendarYear,1,1)-WEEKDAY(DATE(CalendarYear,1,1))
Name Job1_Pattern: '[1]Travaux et shifts'!$D$26
Name Job1_Shift1_Code: '[1]Travaux et shifts'!$D$8
Name Job1_Shift2_Code: '[1]Travaux et shifts'!$D$14
Name Job1_Shift3_Code: '[1]Travaux et shifts'!$D$20
Name Job1_StartDate: '[1]Travaux et shifts'!$D$25
Name Job2_Pattern: '[1]Travaux et shifts'!$E$26
Name Job2_Shift1_Code: '[1]Travaux et shifts'!$E$8
Name Job2_Shift2_Code: '[1]Travaux et shifts'!$E$14
Name Job2_Shift3_Code: '[1]Travaux et shifts'!$E$20
Name Job2_StartDate: '[1]Travaux et shifts'!$E$25
Name Job3_Pattern: '[1]Travaux et shifts'!$F$26
Name Job3_Shift1_Code: '[1]Travaux et shifts'!$F$8
Name Job3_Shift2_Code: '[1]Travaux et shifts'!$F$14
Name Job3_Shift3_Code: '[1]Travaux et shifts'!$F$20
Name Job3_StartDate: '[1]Travaux et shifts'!$F$25
Name JulSun1: DATE(CalendarYear,7,1)-WEEKDAY(DATE(CalendarYear,7,1))
Name JunSun1: DATE(CalendarYear,6,1)-WEEKDAY(DATE(CalendarYear,6,1))
Name MarSun1: DATE(CalendarYear,3,1)-WEEKDAY(DATE(CalendarYear,3,1))
Name MaySun1: DATE(CalendarYear,5,1)-WEEKDAY(DATE(CalendarYear,5,1))
Name NovSun1: DATE(CalendarYear,11,1)-WEEKDAY(DATE(CalendarYear,11,1))
Name OctSun1: DATE(CalendarYear,10,1)-WEEKDAY(DATE(CalendarYear,10,1))
Name Priority: #REF!
Name SepSun1: DATE(CalendarYear,9,1)-WEEKDAY(DATE(CalendarYear,9,1))
Name Status: #REF!
Name Type: '[2]Maintenance Work Order'!#REF!
Name YesNo: #REF!

Sheet PLANNING GLOBAL
A1: PLANNING GLOBAL | AG1: 2025
A2: Motif | B2: C | C2: Congé | F2: T | G2: Télétravail | J2: Y | K2: MAD machine | O2: Déplacement
A4: =DATE(CalendarYear,1,1) -> 45658 | B4: =IFERROR((WEEKNUM(B5)),"") | C4: =IFERROR((WEEKNUM(C5)),"") | D4: =IFERROR((WEEKNUM(D5)),"") | E4: =IFERROR((WEEKNUM(E5)),"") -> 1 | F4: =IFERROR((WEEKNUM(F5)),"") -> 1 | G4: =IFERROR((WEEKNUM(G5)),"") -> 1 | H4: =IFERROR((WEEKNUM(H5)),"") -> 1 | I4: =IFERROR((WEEKNUM(I5)),"") -> 2 | ... AL4: =IFERROR((WEEKNUM(AL5)),"")
B5: =IF(DAY(JanSun1)=1,"",IF(AND(YEAR(JanSun1+1)=CalendarYear,MONTH(JanSun1+1)=1),JanSun1+1,"")) | C5: =IF(DAY(JanSun1)=1,"",IF(AND(YEAR(JanSun1+2)=CalendarYear,MONTH(JanSun1+2)=1),JanSun1+2,"")) | D5: =IF(DAY(JanSun1)=1,"",IF(AND(YEAR(JanSun1+3)=CalendarYear,MONTH(JanSun1+3)=1),JanSun1+3,"")) | E5: =IF(DAY(JanSun1)=1,"",IF(AND(YEAR(JanSun1+4)=CalendarYear,MONTH(JanSun1+4)=1),JanSun1+4,"")) -> 45658 | F5: =IF(DAY(JanSun1)=1,"",IF(AND(YEAR(JanSun1+5)=CalendarYear,MONTH(JanSun1+5)=1),JanSun1+5,"")) -> 45659 | G5: =IF(DAY(JanSun1)=1,"",IF(AND(YEAR(JanSun1+6)=CalendarYear,MONTH(JanSun1+6)=1),JanSun1+6,"")) -> 45660 | H5: =IF(DAY(JanSun1)=1,IF(AND(YEAR(JanSun1)=CalendarYear,MONTH(JanSun1)=1),JanSun1,""),IF(AND(YEAR(JanSun1+7)=CalendarYear,MONTH(JanSun1+7)=1),JanSun1+7,"")) -> 45661 | I5: =IF(DAY(JanSun1)=1,IF(AND(YEAR(JanSun1+1)=CalendarYear,MONTH(JanSun1+1)=1),JanSun1+1,""),IF(AND(YEAR(JanSun1+8)=CalendarYear,MONTH(JanSun1+8)=1),JanSun1+8,"")) -> 45662 | J5: =IF(DAY(JanSun1)=1,IF(AND(YEAR(JanSun1+2)=CalendarYear,MONTH(JanSun1+2)=1),JanSun1+2,""),IF(AND(YEAR(JanSun1+9)=CalendarYear,MONTH(JanSun1+9)=1),JanSun1+9,"")) -> 45663 | K5: =IF(DAY(JanSun1)=1,IF(AND(YEAR(JanSun1+3)=CalendarYear,MONTH(JanSun1+3)=1),JanSun1+3,""),IF(AND(YEAR(JanSun1+10)=CalendarYear,MONTH(JanSun1+10)=1),JanSun1+10,"")) -> 45664 | L5: =IF(DAY(JanSun1)=1,IF(AND(YEAR(JanSun1+4)=CalendarYear,MONTH(JanSun1+4)=1),JanSun1+4,""),IF(AND(YEAR(JanSun1+11)=CalendarYear,MONTH(JanSun1+11)=1),JanSun1+11,"")) -> 45665 | M5: =IF(DAY(JanSun1)=1,IF(AND(YEAR(JanSun1+5)=CalendarYear,MONTH(JanSun1+5)=1),JanSun1+5,""),IF(AND(YEAR(JanSun1+12)=CalendarYear,MONTH(JanSun1+12)=1),JanSun1+12,"")) -> 45666 | N5: =IF(DAY(JanSun1)=1,IF(AND(YEAR(JanSun1+6)=CalendarYear,MONTH(JanSun1+6)=1),JanSun1+6,""),IF(AND(YEAR(JanSun1+13)=CalendarYear,MONTH(JanSun1+13)=1),JanSun1+13,"")) -> 45667 | O5: =IF(DAY(JanSun1)=1,IF(AND(YEAR(JanSun1+7)=CalendarYear,MONTH(JanSun1+7)=1),JanSun1+7,""),IF(AND(YEAR(JanSun1+14)=CalendarYear,MONTH(JanSun1+14)=1),JanSun1+14,"")) -> 45668 | P5: =IF(DAY(JanSun1)=1,IF(AND(YEAR(JanSun1+8)=CalendarYear,MONTH(JanSun1+8)=1),JanSun1+8,""),IF(AND(YEAR(JanSun1+15)=CalendarYear,MONTH(JanSun1+15)=1),JanSun1+15,"")) -> 45669 | Q5: =IF(DAY(JanSun1)=1,IF(AND(YEAR(JanSun1+9)=CalendarYear,MONTH(JanSun1+9)=1),JanSun1+9,""),IF(AND(YEAR(JanSun1+16)=CalendarYear,MONTH(JanSun1+16)=1),JanSun1+16,"")) -> 45670 | R5: =IF(DAY(JanSun1)=1,IF(AND(YEAR(JanSun1+10)=CalendarYear,MONTH(JanSun1+10)=1),JanSun1+10,""),IF(AND(YEAR(JanSun1+17)=CalendarYear,MONTH(JanSun1+17)=1),JanSun1+17,"")) -> 45671 | S5: =IF(DAY(JanSun1)=1,IF(AND(YEAR(JanSun1+11)=CalendarYear,MONTH(JanSun1+11)=1),JanSun1+11,""),IF(AND(YEAR(JanSun1+18)=CalendarYear,MONTH(JanSun1+18)=1),JanSun1+18,"")) -> 45672 | T5: =IF(DAY(JanSun1)=1,IF(AND(YEAR(JanSun1+12)=CalendarYear,MONTH(JanSun1+12)=1),JanSun1+12,""),IF(AND(YEAR(JanSun1+19)=CalendarYear,MONTH(JanSun1+19)=1),JanSun1+19,"")) -> 45673 | U5: =IF(DAY(JanSun1)=1,IF(AND(YEAR(JanSun1+13)=CalendarYear,MONTH(JanSun1+13)=1),JanSun1+13,""),IF(AND(YEAR(JanSun1+20)=CalendarYear,MONTH(JanSun1+20)=1),JanSun1+20,"")) -> 45674 | V5: =IF(DAY(JanSun1)=1,IF(AND(YEAR(JanSun1+14)=CalendarYear,MONTH(JanSun1+14)=1),JanSun1+14,""),IF(AND(YEAR(JanSun1+21)=CalendarYear,MONTH(JanSun1+21)=1),JanSun1+21,"")) -> 45675 | W5: =IF(DAY(JanSun1)=1,IF(AND(YEAR(JanSun1+15)=CalendarYear,MONTH(JanSun1+15)=1),JanSun1+15,""),IF(AND(YEAR(JanSun1+22)=CalendarYear,MONTH(JanSun1+22)=1),JanSun1+22,"")) -> 45676 | X5: =IF(DAY(JanSun1)=1,IF(AND(YEAR(JanSun1+16)=CalendarYear,MONTH(JanSun1+16)=1),JanSun1+16,""),IF(AND(YEAR(JanSun1+23)=CalendarYear,MONTH(JanSun1+23)=1),JanSun1+23,"")) -> 45677 | Y5: =IF(DAY(JanSun1)=1,IF(AND(YEAR(JanSun1+17)=CalendarYear,MONTH(JanSun1+17)=1),JanSun1+17,""),IF(AND(YEAR(JanSun1+24)=CalendarYear,MONTH(JanSun1+24)=1),JanSun1+24,"")) -> 45678 | Z5: =IF(DAY(JanSun1)=1,IF(AND(YEAR(JanSun1+18)=CalendarYear,MONTH(JanSun1+18)=1),JanSun1+18,""),IF(AND(YEAR(JanSun1+25)=CalendarYear,MONTH(JanSun1+25)=1),JanSun1+25,"")) -> 45679 | AA5: =IF(DAY(JanSun1)=1,IF(AND(YEAR(JanSun1+19)=CalendarYear,MONTH(JanSun1+19)=1),JanSun1+19,""),IF(AND(YEAR(JanSun1+26)=CalendarYear,MONTH(JanSun1+26)=1),JanSun1+26,"")) -> 45680 | AB5: =IF(DAY(JanSun1)=1,IF(AND(YEAR(JanSun1+20)=CalendarYear,MONTH(JanSun1+20)=1),JanSun1+20,""),IF(AND(YEAR(JanSun1+27)=CalendarYear,MONTH(JanSun1+27)=1),JanSun1+27,"")) -> 45681 | AC5: =IF(DAY(JanSun1)=1,IF(AND(YEAR(JanSun1+21)=CalendarYear,MONTH(JanSun1+21)=1),JanSun1+21,""),IF(AND(YEAR(JanSun1+28)=CalendarYear,MONTH(JanSun1+28)=1),JanSun1+28,"")) -> 45682 | AD5: =IF(DAY(JanSun1)=1,IF(AND(YEAR(JanSun1+22)=CalendarYear,MONTH(JanSun1+22)=1),JanSun1+22,""),IF(AND(YEAR(JanSun1+29)=CalendarYear,MONTH(JanSun1+29)=1),JanSun1+29,"")) -> 45683 | AE5: =IF(DAY(JanSun1)=1,IF(AND(YEAR(JanSun1+23)=CalendarYear,MONTH(JanSun1+23)=1),JanSun1+23,""),IF(AND(YEAR(JanSun1+30)=CalendarYear,MONTH(JanSun1+30)=1),JanSun1+30,"")) -> 45684 | AF5: =IF(DAY(JanSun1)=1,IF(AND(YEAR(JanSun1+24)=CalendarYear,MONTH(JanSun1+24)=1),JanSun1+24,""),IF(AND(YEAR(JanSun1+31)=CalendarYear,MONTH(JanSun1+31)=1),JanSun1+31,"")) -> 45685 | AG5: =IF(DAY(JanSun1)=1,IF(AND(YEAR(JanSun1+25)=CalendarYear,MONTH(JanSun1+25)=1),JanSun1+25,""),IF(AND(YEAR(JanSun1+32)=CalendarYear,MONTH(JanSun1+32)=1),JanSun1+32,"")) -> 45686 | AH5: =IF(DAY(JanSun1)=1,IF(AND(YEAR(JanSun1+26)=CalendarYear,MONTH(JanSun1+26)=1),JanSun1+26,""),IF(AND(YEAR(JanSun1+33)=CalendarYear,MONTH(JanSun1+33)=1),JanSun1+33,"")) -> 45687 | AI5: =IF(DAY(JanSun1)=1,IF(AND(YEAR(JanSun1+27)=CalendarYear,MONTH(JanSun1+27)=1),JanSun1+27,""),IF(AND(YEAR(JanSun1+34)=CalendarYear,MONTH(JanSun1+34)=1),JanSun1+34,"")) -> 45688 | AJ5: =IF(DAY(JanSun1)=1,IF(AND(YEAR(JanSun1+28)=CalendarYear,MONTH(JanSun1+28)=1),JanSun1+28,""),IF(AND(YEAR(JanSun1+35)=CalendarYear,MONTH(JanSun1+35)=1),JanSun1+35,"")) | AK5: =IF(DAY(JanSun1)=1,IF(AND(YEAR(JanSun1+29)=CalendarYear,MONTH(JanSun1+29)=1),JanSun1+29,""),IF(AND(YEAR(JanSun1+36)=CalendarYear,MONTH(JanSun1+36)=1),JanSun1+36,"")) | AL5: =IF(DAY(JanSun1)=1,IF(AND(YEAR(JanSun1+30)=CalendarYear,MONTH(JanSun1+30)=1),JanSun1+30,""),IF(AND(YEAR(JanSun1+37)=CalendarYear,MONTH(JanSun1+37)=1),JanSun1+37,""))
B6: Di | C6: Lu | D6: Ma | E6: Me | F6: Je | G6: Ve | H6: Sa | I6: Di | J6: Lu | K6: Ma | L6: Me | M6: Je | N6: Ve | O6: Sa | P6: Di | Q6: Lu | R6: Ma | S6: Me | T6: Je | U6: Ve | V6: Sa | W6: Di | X6: Lu | Y6: Ma | Z6: Me | AA6: Je | AB6: Ve | AC6: Sa | AD6: Di | AE6: Lu | AF6: Ma | AG6: Me | AH6: Je | AI6: Ve | AJ6: Sa | AK6: Di | AL6: Lu
A7: Machine | B7: =IFERROR(IF(VLOOKUP(B5,'TABLEAU MACHINE'!$E:$E,1,FALSE),"Y",0),"") | C7: =IFERROR(IF(VLOOKUP(C5,'TABLEAU MACHINE'!$E:$E,1,FALSE),"Y",0),"") | D7: =IFERROR(IF(VLOOKUP(D5,'TABLEAU MACHINE'!$E:$E,1,FALSE),"Y",0),"") | E7: =IFERROR(IF(VLOOKUP(E5,'TABLEAU MACHINE'!$E:$E,1,FALSE),"Y",0),"") | F7: =IFERROR(IF(VLOOKUP(F5,'TABLEAU MACHINE'!$E:$E,1,FALSE),"Y",0),"") | G7: =IFERROR(IF(VLOOKUP(G5,'TABLEAU MACHINE'!$E:$E,1,FALSE),"Y",0),"") | H7: =IFERROR(IF(VLOOKUP(H5,'TABLEAU MACHINE'!$E:$E,1,FALSE),"Y",0),"") | I7: =IFERROR(IF(VLOOKUP(I5,'TABLEAU MACHINE'!$E:$E,1,FALSE),"Y",0),"") | ... AL7: =IFERROR(IF(VLOOKUP(AL5,'TABLEAU MACHINE'!$E:$E,1,FALSE),"Y",0),"")
A8: Personnel | B8: 1300 | E8: C | F8: C | G8: C | H8: 0 | I8: 0 | J8: 0 | K8: 0 | L8: 0 | M8: 0 | N8: 0 | O8: 0 | P8: 0 | Q8: 0 | R8: 0 | S8: 0 | T8: 0 | U8: 0 | V8: 0 | W8: 0 | X8: 0 | Y8: 0 | Z8: 100 | AA8: 100 | AC8: 0 | AD8: 0 | AE8: 0 | AF8: 0 | AG8: 0 | AH8: 0 | AI8: 0 | AJ8: 1300 | AK8: 1300 | AL8: 1300
A9: =DATE(CalendarYear,2,1) -> 45689 | B9: =IFERROR((WEEKNUM(B10)),"") | C9: =IFERROR((WEEKNUM(C10)),"") | D9: =IFERROR((WEEKNUM(D10)),"") | E9: =IFERROR((WEEKNUM(E10)),"") | F9: =IFERROR((WEEKNUM(F10)),"") | G9: =IFERROR((WEEKNUM(G10)),"") | H9: =IFERROR((WEEKNUM(H10)),"") -> 5 | I9: =IFERROR((WEEKNUM(I10)),"") -> 6 | ... AL9: =IFERROR((WEEKNUM(AL10)),"")
B10: =IF(DAY(FebSun1)=1,"",IF(AND(YEAR(FebSun1+1)=CalendarYear,MONTH(FebSun1+1)=2),FebSun1+1,"")) | C10: =IF(DAY(FebSun1)=1,"",IF(AND(YEAR(FebSun1+2)=CalendarYear,MONTH(FebSun1+2)=2),FebSun1+2,"")) | D10: =IF(DAY(FebSun1)=1,"",IF(AND(YEAR(FebSun1+3)=CalendarYear,MONTH(FebSun1+3)=2),FebSun1+3,"")) | E10: =IF(DAY(FebSun1)=1,"",IF(AND(YEAR(FebSun1+4)=CalendarYear,MONTH(FebSun1+4)=2),FebSun1+4,"")) | F10: =IF(DAY(FebSun1)=1,"",IF(AND(YEAR(FebSun1+5)=CalendarYear,MONTH(FebSun1+5)=2),FebSun1+5,"")) | G10: =IF(DAY(FebSun1)=1,"",IF(AND(YEAR(FebSun1+6)=CalendarYear,MONTH(FebSun1+6)=2),FebSun1+6,"")) | H10: =IF(DAY(FebSun1)=1,IF(AND(YEAR(FebSun1)=CalendarYear,MONTH(FebSun1)=2),FebSun1,""),IF(AND(YEAR(FebSun1+7)=CalendarYear,MONTH(FebSun1+7)=2),FebSun1+7,"")) -> 45689 | I10: =IF(DAY(FebSun1)=1,IF(AND(YEAR(FebSun1+1)=CalendarYear,MONTH(FebSun1+1)=2),FebSun1+1,""),IF(AND(YEAR(FebSun1+8)=CalendarYear,MONTH(FebSun1+8)=2),FebSun1+8,"")) -> 45690 | J10: =IF(DAY(FebSun1)=1,IF(AND(YEAR(FebSun1+2)=CalendarYear,MONTH(FebSun1+2)=2),FebSun1+2,""),IF(AND(YEAR(FebSun1+9)=CalendarYear,MONTH(FebSun1+9)=2),FebSun1+9,"")) -> 45691 | K10: =IF(DAY(FebSun1)=1,IF(AND(YEAR(FebSun1+3)=CalendarYear,MONTH(FebSun1+3)=2),FebSun1+3,""),IF(AND(YEAR(FebSun1+10)=CalendarYear,MONTH(FebSun1+10)=2),FebSun1+10,"")) -> 45692 | L10: =IF(DAY(FebSun1)=1,IF(AND(YEAR(FebSun1+4)=CalendarYear,MONTH(FebSun1+4)=2),FebSun1+4,""),IF(AND(YEAR(FebSun1+11)=CalendarYear,MONTH(FebSun1+11)=2),FebSun1+11,"")) -> 45693 | M10: =IF(DAY(FebSun1)=1,IF(AND(YEAR(FebSun1+5)=CalendarYear,MONTH(FebSun1+5)=2),FebSun1+5,""),IF(AND(YEAR(FebSun1+12)=CalendarYear,MONTH(FebSun1+12)=2),FebSun1+12,"")) -> 45694 | N10: =IF(DAY(FebSun1)=1,IF(AND(YEAR(FebSun1+6)=CalendarYear,MONTH(FebSun1+6)=2),FebSun1+6,""),IF(AND(YEAR(FebSun1+13)=CalendarYear,MONTH(FebSun1+13)=2),FebSun1+13,"")) -> 45695 | O10: =IF(DAY(FebSun1)=1,IF(AND(YEAR(FebSun1+7)=CalendarYear,MONTH(FebSun1+7)=2),FebSun1+7,""),IF(AND(YEAR(FebSun1+14)=CalendarYear,MONTH(FebSun1+14)=2),FebSun1+14,"")) -> 45696 | P10: =IF(DAY(FebSun1)=1,IF(AND(YEAR(FebSun1+8)=CalendarYear,MONTH(FebSun1+8)=2),FebSun1+8,""),IF(AND(YEAR(FebSun1+15)=CalendarYear,MONTH(FebSun1+15)=2),FebSun1+15,"")) -> 45697 | Q10: =IF(DAY(FebSun1)=1,IF(AND(YEAR(FebSun1+9)=CalendarYear,MONTH(FebSun1+9)=2),FebSun1+9,""),IF(AND(YEAR(FebSun1+16)=CalendarYear,MONTH(FebSun1+16)=2),FebSun1+16,"")) -> 45698 | R10: =IF(DAY(FebSun1)=1,IF(AND(YEAR(FebSun1+10)=CalendarYear,MONTH(FebSun1+10)=2),FebSun1+10,""),IF(AND(YEAR(FebSun1+17)=CalendarYear,MONTH(FebSun1+17)=2),FebSun1+17,"")) -> 45699 | S10: =IF(DAY(FebSun1)=1,IF(AND(YEAR(FebSun1+11)=CalendarYear,MONTH(FebSun1+11)=2),FebSun1+11,""),IF(AND(YEAR(FebSun1+18)=CalendarYear,MONTH(FebSun1+18)=2),FebSun1+18,"")) -> 45700 | T10: =IF(DAY(FebSun1)=1,IF(AND(YEAR(FebSun1+12)=CalendarYear,MONTH(FebSun1+12)=2),FebSun1+12,""),IF(AND(YEAR(FebSun1+19)=CalendarYear,MONTH(FebSun1+19)=2),FebSun1+19,"")) -> 45701 | U10: =IF(DAY(FebSun1)=1,IF(AND(YEAR(FebSun1+13)=CalendarYear,MONTH(FebSun1+13)=2),FebSun1+13,""),IF(AND(YEAR(FebSun1+20)=CalendarYear,MONTH(FebSun1+20)=2),FebSun1+20,"")) -> 45702 | V10: =IF(DAY(FebSun1)=1,IF(AND(YEAR(FebSun1+14)=CalendarYear,MONTH(FebSun1+14)=2),FebSun1+14,""),IF(AND(YEAR(FebSun1+21)=CalendarYear,MONTH(FebSun1+21)=2),FebSun1+21,"")) -> 45703 | W10: =IF(DAY(FebSun1)=1,IF(AND(YEAR(FebSun1+15)=CalendarYear,MONTH(FebSun1+15)=2),FebSun1+15,""),IF(AND(YEAR(FebSun1+22)=CalendarYear,MONTH(FebSun1+22)=2),FebSun1+22,"")) -> 45704 | X10: =IF(DAY(FebSun1)=1,IF(AND(YEAR(FebSun1+16)=CalendarYear,MONTH(FebSun1+16)=2),FebSun1+16,""),IF(AND(YEAR(FebSun1+23)=CalendarYear,MONTH(FebSun1+23)=2),FebSun1+23,"")) -> 45705 | Y10: =IF(DAY(FebSun1)=1,IF(AND(YEAR(FebSun1+17)=CalendarYear,MONTH(FebSun1+17)=2),FebSun1+17,""),IF(AND(YEAR(FebSun1+24)=CalendarYear,MONTH(FebSun1+24)=2),FebSun1+24,"")) -> 45706 | Z10: =IF(DAY(FebSun1)=1,IF(AND(YEAR(FebSun1+18)=CalendarYear,MONTH(FebSun1+18)=2),FebSun1+18,""),IF(AND(YEAR(FebSun1+25)=CalendarYear,MONTH(FebSun1+25)=2),FebSun1+25,"")) -> 45707 | AA10: =IF(DAY(FebSun1)=1,IF(AND(YEAR(FebSun1+19)=CalendarYear,MONTH(FebSun1+19)=2),FebSun1+19,""),IF(AND(YEAR(FebSun1+26)=CalendarYear,MONTH(FebSun1+26)=2),FebSun1+26,"")) -> 45708 | AB10: =IF(DAY(FebSun1)=1,IF(AND(YEAR(FebSun1+20)=CalendarYear,MONTH(FebSun1+20)=2),FebSun1+20,""),IF(AND(YEAR(FebSun1+27)=CalendarYear,MONTH(FebSun1+27)=2),FebSun1+27,"")) -> 45709 | AC10: =IF(DAY(FebSun1)=1,IF(AND(YEAR(FebSun1+21)=CalendarYear,MONTH(FebSun1+21)=2),FebSun1+21,""),IF(AND(YEAR(FebSun1+28)=CalendarYear,MONTH(FebSun1+28)=2),FebSun1+28,"")) -> 45710 | AD10: =IF(DAY(FebSun1)=1,IF(AND(YEAR(FebSun1+22)=CalendarYear,MONTH(FebSun1+22)=2),FebSun1+22,""),IF(AND(YEAR(FebSun1+29)=CalendarYear,MONTH(FebSun1+29)=2),FebSun1+29,"")) -> 45711 | AE10: =IF(DAY(FebSun1)=1,IF(AND(YEAR(FebSun1+23)=CalendarYear,MONTH(FebSun1+23)=2),FebSun1+23,""),IF(AND(YEAR(FebSun1+30)=CalendarYear,MONTH(FebSun1+30)=2),FebSun1+30,"")) -> 45712 | AF10: =IF(DAY(FebSun1)=1,IF(AND(YEAR(FebSun1+24)=CalendarYear,MONTH(FebSun1+24)=2),FebSun1+24,""),IF(AND(YEAR(FebSun1+31)=CalendarYear,MONTH(FebSun1+31)=2),FebSun1+31,"")) -> 45713 | AG10: =IF(DAY(FebSun1)=1,IF(AND(YEAR(FebSun1+25)=CalendarYear,MONTH(FebSun1+25)=2),FebSun1+25,""),IF(AND(YEAR(FebSun1+32)=CalendarYear,MONTH(FebSun1+32)=2),FebSun1+32,"")) -> 45714 | AH10: =IF(DAY(FebSun1)=1,IF(AND(YEAR(FebSun1+26)=CalendarYear,MONTH(FebSun1+26)=2),FebSun1+26,""),IF(AND(YEAR(FebSun1+33)=CalendarYear,MONTH(FebSun1+33)=2),FebSun1+33,"")) -> 45715 | AI10: =IF(DAY(FebSun1)=1,IF(AND(YEAR(FebSun1+27)=CalendarYear,MONTH(FebSun1+27)=2),FebSun1+27,""),IF(AND(YEAR(FebSun1+34)=CalendarYear,MONTH(FebSun1+34)=2),FebSun1+34,"")) -> 45716 | AJ10: =IF(DAY(FebSun1)=1,IF(AND(YEAR(FebSun1+28)=CalendarYear,MONTH(FebSun1+28)=2),FebSun1+28,""),IF(AND(YEAR(FebSun1+35)=CalendarYear,MONTH(FebSun1+35)=2),FebSun1+35,"")) | AK10: =IF(DAY(FebSun1)=1,IF(AND(YEAR(FebSun1+29)=CalendarYear,MONTH(FebSun1+29)=2),FebSun1+29,""),IF(AND(YEAR(FebSun1+36)=CalendarYear,MONTH(FebSun1+36)=2),FebSun1+36,"")) | AL10: =IF(DAY(FebSun1)=1,IF(AND(YEAR(FebSun1+30)=CalendarYear,MONTH(FebSun1+30)=2),FebSun1+30,""),IF(AND(YEAR(FebSun1+37)=CalendarYear,MONTH(FebSun1+37)=2),FebSun1+37,""))
B11: Di | C11: Lu | D11: Ma | E11: Me | F11: Je | G11: Ve | H11: Sa | I11: Di | J11: Lu | K11: Ma | L11: Me | M11: Je | N11: Ve | O11: Sa | P11: Di | Q11: Lu | R11: Ma | S11: Me | T11: Je | U11: Ve | V11: Sa | W11: Di | X11: Lu | Y11: Ma | Z11: Me | AA11: Je | AB11: Ve | AC11: Sa | AD11: Di | AE11: Lu | AF11: Ma | AG11: Me | AH11: Je | AI11: Ve | AJ11: Sa | AK11: Di | AL11: Lu
A12: Machine | B12: =IFERROR(IF(VLOOKUP(B10,'TABLEAU MACHINE'!$E:$E,1,FALSE),"Y",0),"") | C12: =IFERROR(IF(VLOOKUP(C10,'TABLEAU MACHINE'!$E:$E,1,FALSE),"Y",0),"") | D12: =IFERROR(IF(VLOOKUP(D10,'TABLEAU MACHINE'!$E:$E,1,FALSE),"Y",0),"") | E12: =IFERROR(IF(VLOOKUP(E10,'TABLEAU MACHINE'!$E:$E,1,FALSE),"Y",0),"") | F12: =IFERROR(IF(VLOOKUP(F10,'TABLEAU MACHINE'!$E:$E,1,FALSE),"Y",0),"") | G12: =IFERROR(IF(VLOOKUP(G10,'TABLEAU MACHINE'!$E:$E,1,FALSE),"Y",0),"") | H12: =IFERROR(IF(VLOOKUP(H10,'TABLEAU MACHINE'!$E:$E,1,FALSE),"Y",0),"") | I12: =IFERROR(IF(VLOOKUP(I10,'TABLEAU MACHINE'!$E:$E,1,FALSE),"Y",0),"") | ... AL12: =IFERROR(IF(VLOOKUP(AL10,'TABLEAU MACHINE'!$E:$E,1,FALSE),"Y",0),"")
A13: Personnel | B13: ='TABLEAU PERSONNEL D ETAT'!B15 -> 2700 | C13: ='TABLEAU PERSONNEL D ETAT'!C15 -> 2700 | D13: ='TABLEAU PERSONNEL D ETAT'!D15 -> 2700 | E13: ='TABLEAU PERSONNEL D ETAT'!E15 -> 2700 | F13: ='TABLEAU PERSONNEL D ETAT'!F15 -> 2700 | G13: ='TABLEAU PERSONNEL D ETAT'!G15 -> 2700 | H13: C | I13: C | J13: C | K13: C | L13: C | M13: C | N13: C | O13: C | P13: C | Q13: ='TABLEAU PERSONNEL D ETAT'!Q15 -> 0 | R13: ='TABLEAU PERSONNEL D ETAT'!R15 -> 0 | S13: ='TABLEAU PERSONNEL D ETAT'!S15 -> 0 | T13: ='TABLEAU PERSONNEL D ETAT'!T15 -> 0 | U13: ='TABLEAU PERSONNEL D ETAT'!U15 -> 0 | V13: ='TABLEAU PERSONNEL D ETAT'!V15 -> 0 | W13: ='TABLEAU PERSONNEL D ETAT'!W15 -> 0 | X13: ='TABLEAU PERSONNEL D ETAT'!X15 -> 0 | ... AH13: ='TABLEAU PERSONNEL D ETAT'!AH15 -> 100 | AI13: 100 | AJ13: 2500 | AK13: ='TABLEAU PERSONNEL D ETAT'!AK15 -> 2700 | AL13: ='TABLEAU PERSONNEL D ETAT'!AL15 -> 2700
A14: =DATE(CalendarYear,3,1) -> 45717 | B14: =IFERROR((WEEKNUM(B15)),"") | C14: =IFERROR((WEEKNUM(C15)),"") | D14: =IFERROR((WEEKNUM(D15)),"") | E14: =IFERROR((WEEKNUM(E15)),"") | F14: =IFERROR((WEEKNUM(F15)),"") | G14: =IFERROR((WEEKNUM(G15)),"") | H14: =IFERROR((WEEKNUM(H15)),"") -> 9 | I14: =IFERROR((WEEKNUM(I15)),"") -> 10 | ... AL14: =IFERROR((WEEKNUM(AL15)),"") -> 14
B15: =IF(DAY(MarSun1)=1,"",IF(AND(YEAR(MarSun1+1)=CalendarYear,MONTH(MarSun1+1)=3),MarSun1+1,"")) | C15: =IF(DAY(MarSun1)=1,"",IF(AND(YEAR(MarSun1+2)=CalendarYear,MONTH(MarSun1+2)=3),MarSun1+2,"")) | D15: =IF(DAY(MarSun1)=1,"",IF(AND(YEAR(MarSun1+3)=CalendarYear,MONTH(MarSun1+3)=3),MarSun1+3,"")) | E15: =IF(DAY(MarSun1)=1,"",IF(AND(YEAR(MarSun1+4)=CalendarYear,MONTH(MarSun1+4)=3),MarSun1+4,"")) | F15: =IF(DAY(MarSun1)=1,"",IF(AND(YEAR(MarSun1+5)=CalendarYear,MONTH(MarSun1+5)=3),MarSun1+5,"")) | G15: =IF(DAY(MarSun1)=1,"",IF(AND(YEAR(MarSun1+6)=CalendarYear,MONTH(MarSun1+6)=3),MarSun1+6,"")) | H15: =IF(DAY(MarSun1)=1,IF(AND(YEAR(MarSun1)=CalendarYear,MONTH(MarSun1)=3),MarSun1,""),IF(AND(YEAR(MarSun1+7)=CalendarYear,MONTH(MarSun1+7)=3),MarSun1+7,"")) -> 45717 | I15: =IF(DAY(MarSun1)=1,IF(AND(YEAR(MarSun1+1)=CalendarYear,MONTH(MarSun1+1)=3),MarSun1+1,""),IF(AND(YEAR(MarSun1+8)=CalendarYear,MONTH(MarSun1+8)=3),MarSun1+8,"")) -> 45718 | J15: =IF(DAY(MarSun1)=1,IF(AND(YEAR(MarSun1+2)=CalendarYear,MONTH(MarSun1+2)=3),MarSun1+2,""),IF(AND(YEAR(MarSun1+9)=CalendarYear,MONTH(MarSun1+9)=3),MarSun1+9,"")) -> 45719 | K15: =IF(DAY(MarSun1)=1,IF(AND(YEAR(MarSun1+3)=CalendarYear,MONTH(MarSun1+3)=3),MarSun1+3,""),IF(AND(YEAR(MarSun1+10)=CalendarYear,MONTH(MarSun1+10)=3),MarSun1+10,"")) -> 45720 | L15: =IF(DAY(MarSun1)=1,IF(AND(YEAR(MarSun1+4)=CalendarYear,MONTH(MarSun1+4)=3),MarSun1+4,""),IF(AND(YEAR(MarSun1+11)=CalendarYear,MONTH(MarSun1+11)=3),MarSun1+11,"")) -> 45721 | M15: =IF(DAY(MarSun1)=1,IF(AND(YEAR(MarSun1+5)=CalendarYear,MONTH(MarSun1+5)=3),MarSun1+5,""),IF(AND(YEAR(MarSun1+12)=CalendarYear,MONTH(MarSun1+12)=3),MarSun1+12,"")) -> 45722 | N15: =IF(DAY(MarSun1)=1,IF(AND(YEAR(MarSun1+6)=CalendarYear,MONTH(MarSun1+6)=3),MarSun1+6,""),IF(AND(YEAR(MarSun1+13)=CalendarYear,MONTH(MarSun1+13)=3),MarSun1+13,"")) -> 45723 | O15: =IF(DAY(MarSun1)=1,IF(AND(YEAR(MarSun1+7)=CalendarYear,MONTH(MarSun1+7)=3),MarSun1+7,""),IF(AND(YEAR(MarSun1+14)=CalendarYear,MONTH(MarSun1+14)=3),MarSun1+14,"")) -> 45724 | P15: =IF(DAY(MarSun1)=1,IF(AND(YEAR(MarSun1+8)=CalendarYear,MONTH(MarSun1+8)=3),MarSun1+8,""),IF(AND(YEAR(MarSun1+15)=CalendarYear,MONTH(MarSun1+15)=3),MarSun1+15,"")) -> 45725 | Q15: =IF(DAY(MarSun1)=1,IF(AND(YEAR(MarSun1+9)=CalendarYear,MONTH(MarSun1+9)=3),MarSun1+9,""),IF(AND(YEAR(MarSun1+16)=CalendarYear,MONTH(MarSun1+16)=3),MarSun1+16,"")) -> 45726 | R15: =IF(DAY(MarSun1)=1,IF(AND(YEAR(MarSun1+10)=CalendarYear,MONTH(MarSun1+10)=3),MarSun1+10,""),IF(AND(YEAR(MarSun1+17)=CalendarYear,MONTH(MarSun1+17)=3),MarSun1+17,"")) -> 45727 | S15: =IF(DAY(MarSun1)=1,IF(AND(YEAR(MarSun1+11)=CalendarYear,MONTH(MarSun1+11)=3),MarSun1+11,""),IF(AND(YEAR(MarSun1+18)=CalendarYear,MONTH(MarSun1+18)=3),MarSun1+18,"")) -> 45728 | T15: =IF(DAY(MarSun1)=1,IF(AND(YEAR(MarSun1+12)=CalendarYear,MONTH(MarSun1+12)=3),MarSun1+12,""),IF(AND(YEAR(MarSun1+19)=CalendarYear,MONTH(MarSun1+19)=3),MarSun1+19,"")) -> 45729 | U15: =IF(DAY(MarSun1)=1,IF(AND(YEAR(MarSun1+13)=CalendarYear,MONTH(MarSun1+13)=3),MarSun1+13,""),IF(AND(YEAR(MarSun1+20)=CalendarYear,MONTH(MarSun1+20)=3),MarSun1+20,"")) -> 45730 | V15: =IF(DAY(MarSun1)=1,IF(AND(YEAR(MarSun1+14)=CalendarYear,MONTH(MarSun1+14)=3),MarSun1+14,""),IF(AND(YEAR(MarSun1+21)=CalendarYear,MONTH(MarSun1+21)=3),MarSun1+21,"")) -> 45731 | W15: =IF(DAY(MarSun1)=1,IF(AND(YEAR(MarSun1+15)=CalendarYear,MONTH(MarSun1+15)=3),MarSun1+15,""),IF(AND(YEAR(MarSun1+22)=CalendarYear,MONTH(MarSun1+22)=3),MarSun1+22,"")) -> 45732 | X15: =IF(DAY(MarSun1)=1,IF(AND(YEAR(MarSun1+16)=CalendarYear,MONTH(MarSun1+16)=3),MarSun1+16,""),IF(AND(YEAR(MarSun1+23)=CalendarYear,MONTH(MarSun1+23)=3),MarSun1+23,"")) -> 45733 | Y15: =IF(DAY(MarSun1)=1,IF(AND(YEAR(MarSun1+17)=CalendarYear,MONTH(MarSun1+17)=3),MarSun1+17,""),IF(AND(YEAR(MarSun1+24)=CalendarYear,MONTH(MarSun1+24)=3),MarSun1+24,"")) -> 45734 | Z15: =IF(DAY(MarSun1)=1,IF(AND(YEAR(MarSun1+18)=CalendarYear,MONTH(MarSun1+18)=3),MarSun1+18,""),IF(AND(YEAR(MarSun1+25)=CalendarYear,MONTH(MarSun1+25)=3),MarSun1+25,"")) -> 45735 | AA15: =IF(DAY(MarSun1)=1,IF(AND(YEAR(MarSun1+19)=CalendarYear,MONTH(MarSun1+19)=3),MarSun1+19,""),IF(AND(YEAR(MarSun1+26)=CalendarYear,MONTH(MarSun1+26)=3),MarSun1+26,"")) -> 45736 | AB15: =IF(DAY(MarSun1)=1,IF(AND(YEAR(MarSun1+20)=CalendarYear,MONTH(MarSun1+20)=3),MarSun1+20,""),IF(AND(YEAR(MarSun1+27)=CalendarYear,MONTH(MarSun1+27)=3),MarSun1+27,"")) -> 45737 | AC15: =IF(DAY(MarSun1)=1,IF(AND(YEAR(MarSun1+21)=CalendarYear,MONTH(MarSun1+21)=3),MarSun1+21,""),IF(AND(YEAR(MarSun1+28)=CalendarYear,MONTH(MarSun1+28)=3),MarSun1+28,"")) -> 45738 | AD15: =IF(DAY(MarSun1)=1,IF(AND(YEAR(MarSun1+22)=CalendarYear,MONTH(MarSun1+22)=3),MarSun1+22,""),IF(AND(YEAR(MarSun1+29)=CalendarYear,MONTH(MarSun1+29)=3),MarSun1+29,"")) -> 45739 | AE15: =IF(DAY(MarSun1)=1,IF(AND(YEAR(MarSun1+23)=CalendarYear,MONTH(MarSun1+23)=3),MarSun1+23,""),IF(AND(YEAR(MarSun1+30)=CalendarYear,MONTH(MarSun1+30)=3),MarSun1+30,"")) -> 45740 | AF15: =IF(DAY(MarSun1)=1,IF(AND(YEAR(MarSun1+24)=CalendarYear,MONTH(MarSun1+24)=3),MarSun1+24,""),IF(AND(YEAR(MarSun1+31)=CalendarYear,MONTH(MarSun1+31)=3),MarSun1+31,"")) -> 45741 | AG15: =IF(DAY(MarSun1)=1,IF(AND(YEAR(MarSun1+25)=CalendarYear,MONTH(MarSun1+25)=3),MarSun1+25,""),IF(AND(YEAR(MarSun1+32)=CalendarYear,MONTH(MarSun1+32)=3),MarSun1+32,"")) -> 45742 | AH15: =IF(DAY(MarSun1)=1,IF(AND(YEAR(MarSun1+26)=CalendarYear,MONTH(MarSun1+26)=3),MarSun1+26,""),IF(AND(YEAR(MarSun1+33)=CalendarYear,MONTH(MarSun1+33)=3),MarSun1+33,"")) -> 45743 | AI15: =IF(DAY(MarSun1)=1,IF(AND(YEAR(MarSun1+27)=CalendarYear,MONTH(MarSun1+27)=3),MarSun1+27,""),IF(AND(YEAR(MarSun1+34)=CalendarYear,MONTH(MarSun1+34)=3),MarSun1+34,"")) -> 45744 | AJ15: =IF(DAY(MarSun1)=1,IF(AND(YEAR(MarSun1+28)=CalendarYear,MONTH(MarSun1+28)=3),MarSun1+28,""),IF(AND(YEAR(MarSun1+35)=CalendarYear,MONTH(MarSun1+35)=3),MarSun1+35,"")) -> 45745 | AK15: =IF(DAY(MarSun1)=1,IF(AND(YEAR(MarSun1+29)=CalendarYear,MONTH(MarSun1+29)=3),MarSun1+29,""),IF(AND(YEAR(MarSun1+36)=CalendarYear,MONTH(MarSun1+36)=3),MarSun1+36,"")) -> 45746 | AL15: =IF(DAY(MarSun1)=1,IF(AND(YEAR(MarSun1+30)=CalendarYear,MONTH(MarSun1+30)=3),MarSun1+30,""),IF(AND(YEAR(MarSun1+37)=CalendarYear,MONTH(MarSun1+37)=3),MarSun1+37,"")) -> 45747
B16: Di | C16: Lu | D16: Ma | E16: Me | F16: Je | G16: Ve | H16: Sa | I16: Di | J16: Lu | K16: Ma | L16: Me | M16: Je | N16: Ve | O16: Sa | P16: Di | Q16: Lu | R16: Ma | S16: Me | T16: Je | U16: Ve | V16: Sa | W16: Di | X16: Lu | Y16: Ma | Z16: Me | AA16: Je | AB16: Ve | AC16: Sa | AD16: Di | AE16: Lu | AF16: Ma | AG16: Me | AH16: Je | AI16: Ve | AJ16: Sa | AK16: Di | AL16: Lu
A17: Machine | B17: =IFERROR(IF(VLOOKUP(B15,'TABLEAU MACHINE'!$E:$E,1,FALSE),"Y",0),"") | C17: =IFERROR(IF(VLOOKUP(C15,'TABLEAU MACHINE'!$E:$E,1,FALSE),"Y",0),"") | D17: =IFERROR(IF(VLOOKUP(D15,'TABLEAU MACHINE'!$E:$E,1,FALSE),"Y",0),"") | E17: =IFERROR(IF(VLOOKUP(E15,'TABLEAU MACHINE'!$E:$E,1,FALSE),"Y",0),"") | F17: =IFERROR(IF(VLOOKUP(F15,'TABLEAU MACHINE'!$E:$E,1,FALSE),"Y",0),"") | G17: =IFERROR(IF(VLOOKUP(G15,'TABLEAU MACHINE'!$E:$E,1,FALSE),"Y",0),"") | H17: =IFERROR(IF(VLOOKUP(H15,'TABLEAU MACHINE'!$E:$E,1,FALSE),"Y",0),"") | I17: =IFERROR(IF(VLOOKUP(I15,'TABLEAU MACHINE'!$E:$E,1,FALSE),"Y",0),"") | ... AL17: =IFERROR(IF(VLOOKUP(AL15,'TABLEAU MACHINE'!$E:$E,1,FALSE),"Y",0),"")
A18: Personnel | B18: 1300 | C18: 1300 | D18: 1300 | E18: 1300 | F18: 1300 | G18: 1300 | H18: 100 | I18: 0 | J18: 0 | K18: 0 | L18: 0 | M18: 0 | N18: 0 | O18: 0 | P18: 0 | Q18: 0 | R18: 0 | S18: 0 | T18: 0 | U18: 0 | V18: 0 | W18: 0 | X18: 100 | Y18: 100 | Z18: 100 | AA18: 100 | AB18: 100 | AC18: 100 | AD18: 50 | AE18: 50 | AF18: 50 | AG18: 50 | AH18: 50 | AI18: 0 | AJ18: 0 | AK18: 0 | AL18: 0
A19: =DATE(CalendarYear,4,1) -> 45748 | B19: =IFERROR((WEEKNUM(B20)),"") | C19: =IFERROR((WEEKNUM(C20)),"") | D19: =IFERROR((WEEKNUM(D20)),"") -> 14 | E19: =IFERROR((WEEKNUM(E20)),"") -> 14 | F19: =IFERROR((WEEKNUM(F20)),"") -> 14 | G19: =IFERROR((WEEKNUM(G20)),"") -> 14 | H19: =IFERROR((WEEKNUM(H20)),"") -> 14 | I19: =IFERROR((WEEKNUM(I20)),"") -> 15 | ... AL19: =IFERROR((WEEKNUM(AL20)),"")
B20: =IF(DAY(AprSun1)=1,"",IF(AND(YEAR(AprSun1+1)=CalendarYear,MONTH(AprSun1+1)=4),AprSun1+1,"")) | C20: =IF(DAY(AprSun1)=1,"",IF(AND(YEAR(AprSun1+2)=CalendarYear,MONTH(AprSun1+2)=4),AprSun1+2,"")) | D20: =IF(DAY(AprSun1)=1,"",IF(AND(YEAR(AprSun1+3)=CalendarYear,MONTH(AprSun1+3)=4),AprSun1+3,"")) -> 45748 | E20: =IF(DAY(AprSun1)=1,"",IF(AND(YEAR(AprSun1+4)=CalendarYear,MONTH(AprSun1+4)=4),AprSun1+4,"")) -> 45749 | F20: =IF(DAY(AprSun1)=1,"",IF(AND(YEAR(AprSun1+5)=CalendarYear,MONTH(AprSun1+5)=4),AprSun1+5,"")) -> 45750 | G20: =IF(DAY(AprSun1)=1,"",IF(AND(YEAR(AprSun1+6)=CalendarYear,MONTH(AprSun1+6)=4),AprSun1+6,"")) -> 45751 | H20: =IF(DAY(AprSun1)=1,IF(AND(YEAR(AprSun1)=CalendarYear,MONTH(AprSun1)=4),AprSun1,""),IF(AND(YEAR(AprSun1+7)=CalendarYear,MONTH(AprSun1+7)=4),AprSun1+7,"")) -> 45752 | I20: =IF(DAY(AprSun1)=1,IF(AND(YEAR(AprSun1+1)=CalendarYear,MONTH(AprSun1+1)=4),AprSun1+1,""),IF(AND(YEAR(AprSun1+8)=CalendarYear,MONTH(AprSun1+8)=4),AprSun1+8,"")) -> 45753 | J20: =IF(DAY(AprSun1)=1,IF(AND(YEAR(AprSun1+2)=CalendarYear,MONTH(AprSun1+2)=4),AprSun1+2,""),IF(AND(YEAR(AprSun1+9)=CalendarYear,MONTH(AprSun1+9)=4),AprSun1+9,"")) -> 45754 | K20: =IF(DAY(AprSun1)=1,IF(AND(YEAR(AprSun1+3)=CalendarYear,MONTH(AprSun1+3)=4),AprSun1+3,""),IF(AND(YEAR(AprSun1+10)=CalendarYear,MONTH(AprSun1+10)=4),AprSun1+10,"")) -> 45755 | L20: =IF(DAY(AprSun1)=1,IF(AND(YEAR(AprSun1+4)=CalendarYear,MONTH(AprSun1+4)=4),AprSun1+4,""),IF(AND(YEAR(AprSun1+11)=CalendarYear,MONTH(AprSun1+11)=4),AprSun1+11,"")) -> 45756 | M20: =IF(DAY(AprSun1)=1,IF(AND(YEAR(AprSun1+5)=CalendarYear,MONTH(AprSun1+5)=4),AprSun1+5,""),IF(AND(YEAR(AprSun1+12)=CalendarYear,MONTH(AprSun1+12)=4),AprSun1+12,"")) -> 45757 | N20: =IF(DAY(AprSun1)=1,IF(AND(YEAR(AprSun1+6)=CalendarYear,MONTH(AprSun1+6)=4),AprSun1+6,""),IF(AND(YEAR(AprSun1+13)=CalendarYear,MONTH(AprSun1+13)=4),AprSun1+13,"")) -> 45758 | O20: =IF(DAY(AprSun1)=1,IF(AND(YEAR(AprSun1+7)=CalendarYear,MONTH(AprSun1+7)=4),AprSun1+7,""),IF(AND(YEAR(AprSun1+14)=CalendarYear,MONTH(AprSun1+14)=4),AprSun1+14,"")) -> 45759 | P20: =IF(DAY(AprSun1)=1,IF(AND(YEAR(AprSun1+8)=CalendarYear,MONTH(AprSun1+8)=4),AprSun1+8,""),IF(AND(YEAR(AprSun1+15)=CalendarYear,MONTH(AprSun1+15)=4),AprSun1+15,"")) -> 45760 | Q20: =IF(DAY(AprSun1)=1,IF(AND(YEAR(AprSun1+9)=CalendarYear,MONTH(AprSun1+9)=4),AprSun1+9,""),IF(AND(YEAR(AprSun1+16)=CalendarYear,MONTH(AprSun1+16)=4),AprSun1+16,"")) -> 45761 | R20: =IF(DAY(AprSun1)=1,IF(AND(YEAR(AprSun1+10)=CalendarYear,MONTH(AprSun1+10)=4),AprSun1+10,""),IF(AND(YEAR(AprSun1+17)=CalendarYear,MONTH(AprSun1+17)=4),AprSun1+17,"")) -> 45762 | S20: =IF(DAY(AprSun1)=1,IF(AND(YEAR(AprSun1+11)=CalendarYear,MONTH(AprSun1+11)=4),AprSun1+11,""),IF(AND(YEAR(AprSun1+18)=CalendarYear,MONTH(AprSun1+18)=4),AprSun1+18,"")) -> 45763 | T20: =IF(DAY(AprSun1)=1,IF(AND(YEAR(AprSun1+12)=CalendarYear,MONTH(AprSun1+12)=4),AprSun1+12,""),IF(AND(YEAR(AprSun1+19)=CalendarYear,MONTH(AprSun1+19)=4),AprSun1+19,"")) -> 45764 | U20: =IF(DAY(AprSun1)=1,IF(AND(YEAR(AprSun1+13)=CalendarYear,MONTH(AprSun1+13)=4),AprSun1+13,""),IF(AND(YEAR(AprSun1+20)=CalendarYear,MONTH(AprSun1+20)=4),AprSun1+20,"")) -> 45765 | V20: =IF(DAY(AprSun1)=1,IF(AND(YEAR(AprSun1+14)=CalendarYear,MONTH(AprSun1+14)=4),AprSun1+14,""),IF(AND(YEAR(AprSun1+21)=CalendarYear,MONTH(AprSun1+21)=4),AprSun1+21,"")) -> 45766 | W20: =IF(DAY(AprSun1)=1,IF(AND(YEAR(AprSun1+15)=CalendarYear,MONTH(AprSun1+15)=4),AprSun1+15,""),IF(AND(YEAR(AprSun1+22)=CalendarYear,MONTH(AprSun1+22)=4),AprSun1+22,"")) -> 45767 | X20: =IF(DAY(AprSun1)=1,IF(AND(YEAR(AprSun1+16)=CalendarYear,MONTH(AprSun1+16)=4),AprSun1+16,""),IF(AND(YEAR(AprSun1+23)=CalendarYear,MONTH(AprSun1+23)=4),AprSun1+23,"")) -> 45768 | Y20: =IF(DAY(AprSun1)=1,IF(AND(YEAR(AprSun1+17)=CalendarYear,MONTH(AprSun1+17)=4),AprSun1+17,""),IF(AND(YEAR(AprSun1+24)=CalendarYear,MONTH(AprSun1+24)=4),AprSun1+24,"")) -> 45769 | Z20: =IF(DAY(AprSun1)=1,IF(AND(YEAR(AprSun1+18)=CalendarYear,MONTH(AprSun1+18)=4),AprSun1+18,""),IF(AND(YEAR(AprSun1+25)=CalendarYear,MONTH(AprSun1+25)=4),AprSun1+25,"")) -> 45770 | AA20: =IF(DAY(AprSun1)=1,IF(AND(YEAR(AprSun1+19)=CalendarYear,MONTH(AprSun1+19)=4),AprSun1+19,""),IF(AND(YEAR(AprSun1+26)=CalendarYear,MONTH(AprSun1+26)=4),AprSun1+26,"")) -> 45771 | AB20: =IF(DAY(AprSun1)=1,IF(AND(YEAR(AprSun1+20)=CalendarYear,MONTH(AprSun1+20)=4),AprSun1+20,""),IF(AND(YEAR(AprSun1+27)=CalendarYear,MONTH(AprSun1+27)=4),AprSun1+27,"")) -> 45772 | AC20: =IF(DAY(AprSun1)=1,IF(AND(YEAR(AprSun1+21)=CalendarYear,MONTH(AprSun1+21)=4),AprSun1+21,""),IF(AND(YEAR(AprSun1+28)=CalendarYear,MONTH(AprSun1+28)=4),AprSun1+28,"")) -> 45773 | AD20: =IF(DAY(AprSun1)=1,IF(AND(YEAR(AprSun1+22)=CalendarYear,MONTH(AprSun1+22)=4),AprSun1+22,""),IF(AND(YEAR(AprSun1+29)=CalendarYear,MONTH(AprSun1+29)=4),AprSun1+29,"")) -> 45774 | AE20: =IF(DAY(AprSun1)=1,IF(AND(YEAR(AprSun1+23)=CalendarYear,MONTH(AprSun1+23)=4),AprSun1+23,""),IF(AND(YEAR(AprSun1+30)=CalendarYear,MONTH(AprSun1+30)=4),AprSun1+30,"")) -> 45775 | AF20: =IF(DAY(AprSun1)=1,IF(AND(YEAR(AprSun1+24)=CalendarYear,MONTH(AprSun1+24)=4),AprSun1+24,""),IF(AND(YEAR(AprSun1+31)=CalendarYear,MONTH(AprSun1+31)=4),AprSun1+31,"")) -> 45776 | AG20: =IF(DAY(AprSun1)=1,IF(AND(YEAR(AprSun1+25)=CalendarYear,MONTH(AprSun1+25)=4),AprSun1+25,""),IF(AND(YEAR(AprSun1+32)=CalendarYear,MONTH(AprSun1+32)=4),AprSun1+32,"")) -> 45777 | AH20: =IF(DAY(AprSun1)=1,IF(AND(YEAR(AprSun1+26)=CalendarYear,MONTH(AprSun1+26)=4),AprSun1+26,""),IF(AND(YEAR(AprSun1+33)=CalendarYear,MONTH(AprSun1+33)=4),AprSun1+33,"")) | AI20: =IF(DAY(AprSun1)=1,IF(AND(YEAR(AprSun1+27)=CalendarYear,MONTH(AprSun1+27)=4),AprSun1+27,""),IF(AND(YEAR(AprSun1+34)=CalendarYear,MONTH(AprSun1+34)=4),AprSun1+34,"")) | AJ20: =IF(DAY(AprSun1)=1,IF(AND(YEAR(AprSun1+28)=CalendarYear,MONTH(AprSun1+28)=4),AprSun1+28,""),IF(AND(YEAR(AprSun1+35)=CalendarYear,MONTH(AprSun1+35)=4),AprSun1+35,"")) | AK20: =IF(DAY(AprSun1)=1,IF(AND(YEAR(AprSun1+29)=CalendarYear,MONTH(AprSun1+29)=4),AprSun1+29,""),IF(AND(YEAR(AprSun1+36)=CalendarYear,MONTH(AprSun1+36)=4),AprSun1+36,"")) | AL20: =IF(DAY(AprSun1)=1,IF(AND(YEAR(AprSun1+30)=CalendarYear,MONTH(AprSun1+30)=4),AprSun1+30,""),IF(AND(YEAR(AprSun1+37)=CalendarYear,MONTH(AprSun1+37)=4),AprSun1+37,""))
B21: Di | C21: Lu | D21: Ma | E21: Me | F21: Je | G21: Ve | H21: Sa | I21: Di | J21: Lu | K21: Ma | L21: Me | M21: Je | N21: Ve | O21: Sa | P21: Di | Q21: Lu | R21: Ma | S21: Me | T21: Je | U21: Ve | V21: Sa | W21: Di | X21: Lu | Y21: Ma | Z21: Me | AA21: Je | AB21: Ve | AC21: Sa | AD21: Di | AE21: Lu | AF21: Ma | AG21: Me | AH21: Je | AI21: Ve | AJ21: Sa | AK21: Di | AL21: Lu
A22: Machine | B22: =IFERROR(IF(VLOOKUP(B20,'TABLEAU MACHINE'!$E:$E,1,FALSE),"Y",0),"") | C22: =IFERROR(IF(VLOOKUP(C20,'TABLEAU MACHINE'!$E:$E,1,FALSE),"Y",0),"") | D22: =IFERROR(IF(VLOOKUP(D20,'TABLEAU MACHINE'!$E:$E,1,FALSE),"Y",0),"") | E22: =IFERROR(IF(VLOOKUP(E20,'TABLEAU MACHINE'!$E:$E,1,FALSE),"Y",0),"") | F22: =IFERROR(IF(VLOOKUP(F20,'TABLEAU MACHINE'!$E:$E,1,FALSE),"Y",0),"") | G22: =IFERROR(IF(VLOOKUP(G20,'TABLEAU MACHINE'!$E:$E,1,FALSE),"Y",0),"") | H22: =IFERROR(IF(VLOOKUP(H20,'TABLEAU MACHINE'!$E:$E,1,FALSE),"Y",0),"") | I22: =IFERROR(IF(VLOOKUP(I20,'TABLEAU MACHINE'!$E:$E,1,FALSE),"Y",0),"") | ... AL22: =IFERROR(IF(VLOOKUP(AL20,'TABLEAU MACHINE'!$E:$E,1,FALSE),"Y",0),"")
A23: Personnel | Q23: 100 | R23: 100 | S23: 100 | T23: 100 | U23: 100 | V23: 100 | W23: 0 | X23: 0
A24: =DATE(CalendarYear,5,1) -> 45778 | B24: =IFERROR((WEEKNUM(B25)),"") | C24: =IFERROR((WEEKNUM(C25)),"") | D24: =IFERROR((WEEKNUM(D25)),"") | E24: =IFERROR((WEEKNUM(E25)),"") | F24: =IFERROR((WEEKNUM(F25)),"") -> 18 | G24: =IFERROR((WEEKNUM(G25)),"") -> 18 | H24: =IFERROR((WEEKNUM(H25)),"") -> 18 | I24: =IFERROR((WEEKNUM(I25)),"") -> 19 | ... AL24: =IFERROR((WEEKNUM(AL25)),"")
B25: =IF(DAY(MaySun1)=1,"",IF(AND(YEAR(MaySun1+1)=CalendarYear,MONTH(MaySun1+1)=5),MaySun1+1,"")) | C25: =IF(DAY(MaySun1)=1,"",IF(AND(YEAR(MaySun1+2)=CalendarYear,MONTH(MaySun1+2)=5),MaySun1+2,"")) | D25: =IF(DAY(MaySun1)=1,"",IF(AND(YEAR(MaySun1+3)=CalendarYear,MONTH(MaySun1+3)=5),MaySun1+3,"")) | E25: =IF(DAY(MaySun1)=1,"",IF(AND(YEAR(MaySun1+4)=CalendarYear,MONTH(MaySun1+4)=5),MaySun1+4,"")) | F25: =IF(DAY(MaySun1)=1,"",IF(AND(YEAR(MaySun1+5)=CalendarYear,MONTH(MaySun1+5)=5),MaySun1+5,"")) -> 45778 | G25: =IF(DAY(MaySun1)=1,"",IF(AND(YEAR(MaySun1+6)=CalendarYear,MONTH(MaySun1+6)=5),MaySun1+6,"")) -> 45779 | H25: =IF(DAY(MaySun1)=1,IF(AND(YEAR(MaySun1)=CalendarYear,MONTH(MaySun1)=5),MaySun1,""),IF(AND(YEAR(MaySun1+7)=CalendarYear,MONTH(MaySun1+7)=5),MaySun1+7,"")) -> 45780 | I25: =IF(DAY(MaySun1)=1,IF(AND(YEAR(MaySun1+1)=CalendarYear,MONTH(MaySun1+1)=5),MaySun1+1,""),IF(AND(YEAR(MaySun1+8)=CalendarYear,MONTH(MaySun1+8)=5),MaySun1+8,"")) -> 45781 | J25: =IF(DAY(MaySun1)=1,IF(AND(YEAR(MaySun1+2)=CalendarYear,MONTH(MaySun1+2)=5),MaySun1+2,""),IF(AND(YEAR(MaySun1+9)=CalendarYear,MONTH(MaySun1+9)=5),MaySun1+9,"")) -> 45782 | K25: =IF(DAY(MaySun1)=1,IF(AND(YEAR(MaySun1+3)=CalendarYear,MONTH(MaySun1+3)=5),MaySun1+3,""),IF(AND(YEAR(MaySun1+10)=CalendarYear,MONTH(MaySun1+10)=5),MaySun1+10,"")) -> 45783 | L25: =IF(DAY(MaySun1)=1,IF(AND(YEAR(MaySun1+4)=CalendarYear,MONTH(MaySun1+4)=5),MaySun1+4,""),IF(AND(YEAR(MaySun1+11)=CalendarYear,MONTH(MaySun1+11)=5),MaySun1+11,"")) -> 45784 | M25: =IF(DAY(MaySun1)=1,IF(AND(YEAR(MaySun1+5)=CalendarYear,MONTH(MaySun1+5)=5),MaySun1+5,""),IF(AND(YEAR(MaySun1+12)=CalendarYear,MONTH(MaySun1+12)=5),MaySun1+12,"")) -> 45785 | N25: =IF(DAY(MaySun1)=1,IF(AND(YEAR(MaySun1+6)=CalendarYear,MONTH(MaySun1+6)=5),MaySun1+6,""),IF(AND(YEAR(MaySun1+13)=CalendarYear,MONTH(MaySun1+13)=5),MaySun1+13,"")) -> 45786 | O25: =IF(DAY(MaySun1)=1,IF(AND(YEAR(MaySun1+7)=CalendarYear,MONTH(MaySun1+7)=5),MaySun1+7,""),IF(AND(YEAR(MaySun1+14)=CalendarYear,MONTH(MaySun1+14)=5),MaySun1+14,"")) -> 45787 | P25: =IF(DAY(MaySun1)=1,IF(AND(YEAR(MaySun1+8)=CalendarYear,MONTH(MaySun1+8)=5),MaySun1+8,""),IF(AND(YEAR(MaySun1+15)=CalendarYear,MONTH(MaySun1+15)=5),MaySun1+15,"")) -> 45788 | Q25: =IF(DAY(MaySun1)=1,IF(AND(YEAR(MaySun1+9)=CalendarYear,MONTH(MaySun1+9)=5),MaySun1+9,""),IF(AND(YEAR(MaySun1+16)=CalendarYear,MONTH(MaySun1+16)=5),MaySun1+16,"")) -> 45789 | R25: =IF(DAY(MaySun1)=1,IF(AND(YEAR(MaySun1+10)=CalendarYear,MONTH(MaySun1+10)=5),MaySun1+10,""),IF(AND(YEAR(MaySun1+17)=CalendarYear,MONTH(MaySun1+17)=5),MaySun1+17,"")) -> 45790 | S25: =IF(DAY(MaySun1)=1,IF(AND(YEAR(MaySun1+11)=CalendarYear,MONTH(MaySun1+11)=5),MaySun1+11,""),IF(AND(YEAR(MaySun1+18)=CalendarYear,MONTH(MaySun1+18)=5),MaySun1+18,"")) -> 45791 | T25: =IF(DAY(MaySun1)=1,IF(AND(YEAR(MaySun1+12)=CalendarYear,MONTH(MaySun1+12)=5),MaySun1+12,""),IF(AND(YEAR(MaySun1+19)=CalendarYear,MONTH(MaySun1+19)=5),MaySun1+19,"")) -> 45792 | U25: =IF(DAY(MaySun1)=1,IF(AND(YEAR(MaySun1+13)=CalendarYear,MONTH(MaySun1+13)=5),MaySun1+13,""),IF(AND(YEAR(MaySun1+20)=CalendarYear,MONTH(MaySun1+20)=5),MaySun1+20,"")) -> 45793 | V25: =IF(DAY(MaySun1)=1,IF(AND(YEAR(MaySun1+14)=CalendarYear,MONTH(MaySun1+14)=5),MaySun1+14,""),IF(AND(YEAR(MaySun1+21)=CalendarYear,MONTH(MaySun1+21)=5),MaySun1+21,"")) -> 45794 | W25: =IF(DAY(MaySun1)=1,IF(AND(YEAR(MaySun1+15)=CalendarYear,MONTH(MaySun1+15)=5),MaySun1+15,""),IF(AND(YEAR(MaySun1+22)=CalendarYear,MONTH(MaySun1+22)=5),MaySun1+22,"")) -> 45795 | X25: =IF(DAY(MaySun1)=1,IF(AND(YEAR(MaySun1+16)=CalendarYear,MONTH(MaySun1+16)=5),MaySun1+16,""),IF(AND(YEAR(MaySun1+23)=CalendarYear,MONTH(MaySun1+23)=5),MaySun1+23,"")) -> 45796 | Y25: =IF(DAY(MaySun1)=1,IF(AND(YEAR(MaySun1+17)=CalendarYear,MONTH(MaySun1+17)=5),MaySun1+17,""),IF(AND(YEAR(MaySun1+24)=CalendarYear,MONTH(MaySun1+24)=5),MaySun1+24,"")) -> 45797 | Z25: =IF(DAY(MaySun1)=1,IF(AND(YEAR(MaySun1+18)=CalendarYear,MONTH(MaySun1+18)=5),MaySun1+18,""),IF(AND(YEAR(MaySun1+25)=CalendarYear,MONTH(MaySun1+25)=5),MaySun1+25,"")) -> 45798 | AA25: =IF(DAY(MaySun1)=1,IF(AND(YEAR(MaySun1+19)=CalendarYear,MONTH(MaySun1+19)=5),MaySun1+19,""),IF(AND(YEAR(MaySun1+26)=CalendarYear,MONTH(MaySun1+26)=5),MaySun1+26,"")) -> 45799 | AB25: =IF(DAY(MaySun1)=1,IF(AND(YEAR(MaySun1+20)=CalendarYear,MONTH(MaySun1+20)=5),MaySun1+20,""),IF(AND(YEAR(MaySun1+27)=CalendarYear,MONTH(MaySun1+27)=5),MaySun1+27,"")) -> 45800 | AC25: =IF(DAY(MaySun1)=1,IF(AND(YEAR(MaySun1+21)=CalendarYear,MONTH(MaySun1+21)=5),MaySun1+21,""),IF(AND(YEAR(MaySun1+28)=CalendarYear,MONTH(MaySun1+28)=5),MaySun1+28,"")) -> 45801 | AD25: =IF(DAY(MaySun1)=1,IF(AND(YEAR(MaySun1+22)=CalendarYear,MONTH(MaySun1+22)=5),MaySun1+22,""),IF(AND(YEAR(MaySun1+29)=CalendarYear,MONTH(MaySun1+29)=5),MaySun1+29,"")) -> 45802 | AE25: =IF(DAY(MaySun1)=1,IF(AND(YEAR(MaySun1+23)=CalendarYear,MONTH(MaySun1+23)=5),MaySun1+23,""),IF(AND(YEAR(MaySun1+30)=CalendarYear,MONTH(MaySun1+30)=5),MaySun1+30,"")) -> 45803 | AF25: =IF(DAY(MaySun1)=1,IF(AND(YEAR(MaySun1+24)=CalendarYear,MONTH(MaySun1+24)=5),MaySun1+24,""),IF(AND(YEAR(MaySun1+31)=CalendarYear,MONTH(MaySun1+31)=5),MaySun1+31,"")) -> 45804 | AG25: =IF(DAY(MaySun1)=1,IF(AND(YEAR(MaySun1+25)=CalendarYear,MONTH(MaySun1+25)=5),MaySun1+25,""),IF(AND(YEAR(MaySun1+32)=CalendarYear,MONTH(MaySun1+32)=5),MaySun1+32,"")) -> 45805 | AH25: =IF(DAY(MaySun1)=1,IF(AND(YEAR(MaySun1+26)=CalendarYear,MONTH(MaySun1+26)=5),MaySun1+26,""),IF(AND(YEAR(MaySun1+33)=CalendarYear,MONTH(MaySun1+33)=5),MaySun1+33,"")) -> 45806 | AI25: =IF(DAY(MaySun1)=1,IF(AND(YEAR(MaySun1+27)=CalendarYear,MONTH(MaySun1+27)=5),MaySun1+27,""),IF(AND(YEAR(MaySun1+34)=CalendarYear,MONTH(MaySun1+34)=5),MaySun1+34,"")) -> 45807 | AJ25: =IF(DAY(MaySun1)=1,IF(AND(YEAR(MaySun1+28)=CalendarYear,MONTH(MaySun1+28)=5),MaySun1+28,""),IF(AND(YEAR(MaySun1+35)=CalendarYear,MONTH(MaySun1+35)=5),MaySun1+35,"")) -> 45808 | AK25: =IF(DAY(MaySun1)=1,IF(AND(YEAR(MaySun1+29)=CalendarYear,MONTH(MaySun1+29)=5),MaySun1+29,""),IF(AND(YEAR(MaySun1+36)=CalendarYear,MONTH(MaySun1+36)=5),MaySun1+36,"")) | AL25: =IF(DAY(MaySun1)=1,IF(AND(YEAR(MaySun1+30)=CalendarYear,MONTH(MaySun1+30)=5),MaySun1+30,""),IF(AND(YEAR(MaySun1+37)=CalendarYear,MONTH(MaySun1+37)=5),MaySun1+37,""))
B26: Di | C26: Lu | D26: Ma | E26: Me | F26: Je | G26: Ve | H26: Sa | I26: Di | J26: Lu | K26: Ma | L26: Me | M26: Je | N26: Ve | O26: Sa | P26: Di | Q26: Lu | R26: Ma | S26: Me | T26: Je | U26: Ve | V26: Sa | W26: Di | X26: Lu | Y26: Ma | Z26: Me | AA26: Je | AB26: Ve | AC26: Sa | AD26: Di | AE26: Lu | AF26: Ma | AG26: Me | AH26: Je | AI26: Ve | AJ26: Sa | AK26: Di | AL26: Lu
A27: Machine | B27: =IFERROR(IF(VLOOKUP(B25,'TABLEAU MACHINE'!$E:$E,1,FALSE),"Y",0),"") | C27: =IFERROR(IF(VLOOKUP(C25,'TABLEAU MACHINE'!$E:$E,1,FALSE),"Y",0),"") | D27: =IFERROR(IF(VLOOKUP(D25,'TABLEAU MACHINE'!$E:$E,1,FALSE),"Y",0),"") | E27: =IFERROR(IF(VLOOKUP(E25,'TABLEAU MACHINE'!$E:$E,1,FALSE),"Y",0),"") | F27: =IFERROR(IF(VLOOKUP(F25,'TABLEAU MACHINE'!$E:$E,1,FALSE),"Y",0),"") | G27: =IFERROR(IF(VLOOKUP(G25,'TABLEAU MACHINE'!$E:$E,1,FALSE),"Y",0),"") | H27: =IFERROR(IF(VLOOKUP(H25,'TABLEAU MACHINE'!$E:$E,1,FALSE),"Y",0),"") | I27: =IFERROR(IF(VLOOKUP(I25,'TABLEAU MACHINE'!$E:$E,1,FALSE),"Y",0),"") | ... AL27: =IFERROR(IF(VLOOKUP(AL25,'TABLEAU MACHINE'!$E:$E,1,FALSE),"Y",0),"")
A28: Personnel | F28: C | M28: C | AH28: C
A29: =DATE(CalendarYear,6,1) -> 45809 | B29: =IFERROR((WEEKNUM(B30)),"") -> 23 | C29: =IFERROR((WEEKNUM(C30)),"") -> 23 | D29: =IFERROR((WEEKNUM(D30)),"") -> 23 | E29: =IFERROR((WEEKNUM(E30)),"") -> 23 | F29: =IFERROR((WEEKNUM(F30)),"") -> 23 | G29: =IFERROR((WEEKNUM(G30)),"") -> 23 | H29: =IFERROR((WEEKNUM(H30)),"") -> 23 | I29: =IFERROR((WEEKNUM(I30)),"") -> 24 | ... AL29: =IFERROR((WEEKNUM(AL30)),"")
B30: =IF(DAY(JunSun1)=1,"",IF(AND(YEAR(JunSun1+1)=CalendarYear,MONTH(JunSun1+1)=6),JunSun1+1,"")) -> 45809 | C30: =IF(DAY(JunSun1)=1,"",IF(AND(YEAR(JunSun1+2)=CalendarYear,MONTH(JunSun1+2)=6),JunSun1+2,"")) -> 45810 | D30: =IF(DAY(JunSun1)=1,"",IF(AND(YEAR(JunSun1+3)=CalendarYear,MONTH(JunSun1+3)=6),JunSun1+3,"")) -> 45811 | E30: =IF(DAY(JunSun1)=1,"",IF(AND(YEAR(JunSun1+4)=CalendarYear,MONTH(JunSun1+4)=6),JunSun1+4,"")) -> 45812 | F30: =IF(DAY(JunSun1)=1,"",IF(AND(YEAR(JunSun1+5)=CalendarYear,MONTH(JunSun1+5)=6),JunSun1+5,"")) -> 45813 | G30: =IF(DAY(JunSun1)=1,"",IF(AND(YEAR(JunSun1+6)=CalendarYear,MONTH(JunSun1+6)=6),JunSun1+6,"")) -> 45814 | H30: =IF(DAY(JunSun1)=1,IF(AND(YEAR(JunSun1)=CalendarYear,MONTH(JunSun1)=6),JunSun1,""),IF(AND(YEAR(JunSun1+7)=CalendarYear,MONTH(JunSun1+7)=6),JunSun1+7,"")) -> 45815 | I30: =IF(DAY(JunSun1)=1,IF(AND(YEAR(JunSun1+1)=CalendarYear,MONTH(JunSun1+1)=6),JunSun1+1,""),IF(AND(YEAR(JunSun1+8)=CalendarYear,MONTH(JunSun1+8)=6),JunSun1+8,"")) -> 45816 | J30: =IF(DAY(JunSun1)=1,IF(AND(YEAR(JunSun1+2)=CalendarYear,MONTH(JunSun1+2)=6),JunSun1+2,""),IF(AND(YEAR(JunSun1+9)=CalendarYear,MONTH(JunSun1+9)=6),JunSun1+9,"")) -> 45817 | K30: =IF(DAY(JunSun1)=1,IF(AND(YEAR(JunSun1+3)=CalendarYear,MONTH(JunSun1+3)=6),JunSun1+3,""),IF(AND(YEAR(JunSun1+10)=CalendarYear,MONTH(JunSun1+10)=6),JunSun1+10,"")) -> 45818 | L30: =IF(DAY(JunSun1)=1,IF(AND(YEAR(JunSun1+4)=CalendarYear,MONTH(JunSun1+4)=6),JunSun1+4,""),IF(AND(YEAR(JunSun1+11)=CalendarYear,MONTH(JunSun1+11)=6),JunSun1+11,"")) -> 45819 | M30: =IF(DAY(JunSun1)=1,IF(AND(YEAR(JunSun1+5)=CalendarYear,MONTH(JunSun1+5)=6),JunSun1+5,""),IF(AND(YEAR(JunSun1+12)=CalendarYear,MONTH(JunSun1+12)=6),JunSun1+12,"")) -> 45820 | N30: =IF(DAY(JunSun1)=1,IF(AND(YEAR(JunSun1+6)=CalendarYear,MONTH(JunSun1+6)=6),JunSun1+6,""),IF(AND(YEAR(JunSun1+13)=CalendarYear,MONTH(JunSun1+13)=6),JunSun1+13,"")) -> 45821 | O30: =IF(DAY(JunSun1)=1,IF(AND(YEAR(JunSun1+7)=CalendarYear,MONTH(JunSun1+7)=6),JunSun1+7,""),IF(AND(YEAR(JunSun1+14)=CalendarYear,MONTH(JunSun1+14)=6),JunSun1+14,"")) -> 45822 | P30: =IF(DAY(JunSun1)=1,IF(AND(YEAR(JunSun1+8)=CalendarYear,MONTH(JunSun1+8)=6),JunSun1+8,""),IF(AND(YEAR(JunSun1+15)=CalendarYear,MONTH(JunSun1+15)=6),JunSun1+15,"")) -> 45823 | Q30: =IF(DAY(JunSun1)=1,IF(AND(YEAR(JunSun1+9)=CalendarYear,MONTH(JunSun1+9)=6),JunSun1+9,""),IF(AND(YEAR(JunSun1+16)=CalendarYear,MONTH(JunSun1+16)=6),JunSun1+16,"")) -> 45824 | R30: =IF(DAY(JunSun1)=1,IF(AND(YEAR(JunSun1+10)=CalendarYear,MONTH(JunSun1+10)=6),JunSun1+10,""),IF(AND(YEAR(JunSun1+17)=CalendarYear,MONTH(JunSun1+17)=6),JunSun1+17,"")) -> 45825 | S30: =IF(DAY(JunSun1)=1,IF(AND(YEAR(JunSun1+11)=CalendarYear,MONTH(JunSun1+11)=6),JunSun1+11,""),IF(AND(YEAR(JunSun1+18)=CalendarYear,MONTH(JunSun1+18)=6),JunSun1+18,"")) -> 45826 | T30: =IF(DAY(JunSun1)=1,IF(AND(YEAR(JunSun1+12)=CalendarYear,MONTH(JunSun1+12)=6),JunSun1+12,""),IF(AND(YEAR(JunSun1+19)=CalendarYear,MONTH(JunSun1+19)=6),JunSun1+19,"")) -> 45827 | U30: =IF(DAY(JunSun1)=1,IF(AND(YEAR(JunSun1+13)=CalendarYear,MONTH(JunSun1+13)=6),JunSun1+13,""),IF(AND(YEAR(JunSun1+20)=CalendarYear,MONTH(JunSun1+20)=6),JunSun1+20,"")) -> 45828 | V30: =IF(DAY(JunSun1)=1,IF(AND(YEAR(JunSun1+14)=CalendarYear,MONTH(JunSun1+14)=6),JunSun1+14,""),IF(AND(YEAR(JunSun1+21)=CalendarYear,MONTH(JunSun1+21)=6),JunSun1+21,"")) -> 45829 | W30: =IF(DAY(JunSun1)=1,IF(AND(YEAR(JunSun1+15)=CalendarYear,MONTH(JunSun1+15)=6),JunSun1+15,""),IF(AND(YEAR(JunSun1+22)=CalendarYear,MONTH(JunSun1+22)=6),JunSun1+22,"")) -> 45830 | X30: =IF(DAY(JunSun1)=1,IF(AND(YEAR(JunSun1+16)=CalendarYear,MONTH(JunSun1+16)=6),JunSun1+16,""),IF(AND(YEAR(JunSun1+23)=CalendarYear,MONTH(JunSun1+23)=6),JunSun1+23,"")) -> 45831 | Y30: =IF(DAY(JunSun1)=1,IF(AND(YEAR(JunSun1+17)=CalendarYear,MONTH(JunSun1+17)=6),JunSun1+17,""),IF(AND(YEAR(JunSun1+24)=CalendarYear,MONTH(JunSun1+24)=6),JunSun1+24,"")) -> 45832 | Z30: =IF(DAY(JunSun1)=1,IF(AND(YEAR(JunSun1+18)=CalendarYear,MONTH(JunSun1+18)=6),JunSun1+18,""),IF(AND(YEAR(JunSun1+25)=CalendarYear,MONTH(JunSun1+25)=6),JunSun1+25,"")) -> 45833 | AA30: =IF(DAY(JunSun1)=1,IF(AND(YEAR(JunSun1+19)=CalendarYear,MONTH(JunSun1+19)=6),JunSun1+19,""),IF(AND(YEAR(JunSun1+26)=CalendarYear,MONTH(JunSun1+26)=6),JunSun1+26,"")) -> 45834 | AB30: =IF(DAY(JunSun1)=1,IF(AND(YEAR(JunSun1+20)=CalendarYear,MONTH(JunSun1+20)=6),JunSun1+20,""),IF(AND(YEAR(JunSun1+27)=CalendarYear,MONTH(JunSun1+27)=6),JunSun1+27,"")) -> 45835 | AC30: =IF(DAY(JunSun1)=1,IF(AND(YEAR(JunSun1+21)=CalendarYear,MONTH(JunSun1+21)=6),JunSun1+21,""),IF(AND(YEAR(JunSun1+28)=CalendarYear,MONTH(JunSun1+28)=6),JunSun1+28,"")) -> 45836 | AD30: =IF(DAY(JunSun1)=1,IF(AND(YEAR(JunSun1+22)=CalendarYear,MONTH(JunSun1+22)=6),JunSun1+22,""),IF(AND(YEAR(JunSun1+29)=CalendarYear,MONTH(JunSun1+29)=6),JunSun1+29,"")) -> 45837 | AE30: =IF(DAY(JunSun1)=1,IF(AND(YEAR(JunSun1+23)=CalendarYear,MONTH(JunSun1+23)=6),JunSun1+23,""),IF(AND(YEAR(JunSun1+30)=CalendarYear,MONTH(JunSun1+30)=6),JunSun1+30,"")) -> 45838 | AF30: =IF(DAY(JunSun1)=1,IF(AND(YEAR(JunSun1+24)=CalendarYear,MONTH(JunSun1+24)=6),JunSun1+24,""),IF(AND(YEAR(JunSun1+31)=CalendarYear,MONTH(JunSun1+31)=6),JunSun1+31,"")) | AG30: =IF(DAY(JunSun1)=1,IF(AND(YEAR(JunSun1+25)=CalendarYear,MONTH(JunSun1+25)=6),JunSun1+25,""),IF(AND(YEAR(JunSun1+32)=CalendarYear,MONTH(JunSun1+32)=6),JunSun1+32,"")) | AH30: =IF(DAY(JunSun1)=1,IF(AND(YEAR(JunSun1+26)=CalendarYear,MONTH(JunSun1+26)=6),JunSun1+26,""),IF(AND(YEAR(JunSun1+33)=CalendarYear,MONTH(JunSun1+33)=6),JunSun1+33,"")) | AI30: =IF(DAY(JunSun1)=1,IF(AND(YEAR(JunSun1+27)=CalendarYear,MONTH(JunSun1+27)=6),JunSun1+27,""),IF(AND(YEAR(JunSun1+34)=CalendarYear,MONTH(JunSun1+34)=6),JunSun1+34,"")) | AJ30: =IF(DAY(JunSun1)=1,IF(AND(YEAR(JunSun1+28)=CalendarYear,MONTH(JunSun1+28)=6),JunSun1+28,""),IF(AND(YEAR(JunSun1+35)=CalendarYear,MONTH(JunSun1+35)=6),JunSun1+35,"")) | AK30: =IF(DAY(JunSun1)=1,IF(AND(YEAR(JunSun1+29)=CalendarYear,MONTH(JunSun1+29)=6),JunSun1+29,""),IF(AND(YEAR(JunSun1+36)=CalendarYear,MONTH(JunSun1+36)=6),JunSun1+36,"")) | AL30: =IF(DAY(JunSun1)=1,IF(AND(YEAR(JunSun1+30)=CalendarYear,MONTH(JunSun1+30)=6),JunSun1+30,""),IF(AND(YEAR(JunSun1+37)=CalendarYear,MONTH(JunSun1+37)=6),JunSun1+37,""))
B31: Di | C31: Lu | D31: Ma | E31: Me | F31: Je | G31: Ve | H31: Sa | I31: Di | J31: Lu | K31: Ma | L31: Me | M31: Je | N31: Ve | O31: Sa | P31: Di | Q31: Lu | R31: Ma | S31: Me | T31: Je | U31: Ve | V31: Sa | W31: Di | X31: Lu | Y31: Ma | Z31: Me | AA31: Je | AB31: Ve | AC31: Sa | AD31: Di | AE31: Lu | AF31: Ma | AG31: Me | AH31: Je | AI31: Ve | AJ31: Sa | AK31: Di | AL31: Lu
A32: Machine | B32: =IFERROR(IF(VLOOKUP(B30,'TABLEAU MACHINE'!$E:$E,1,FALSE),"Y",0),"") | C32: =IFERROR(IF(VLOOKUP(C30,'TABLEAU MACHINE'!$E:$E,1,FALSE),"Y",0),"") | D32: =IFERROR(IF(VLOOKUP(D30,'TABLEAU MACHINE'!$E:$E,1,FALSE),"Y",0),"") | E32: =IFERROR(IF(VLOOKUP(E30,'TABLEAU MACHINE'!$E:$E,1,FALSE),"Y",0),"") | F32: =IFERROR(IF(VLOOKUP(F30,'TABLEAU MACHINE'!$E:$E,1,FALSE),"Y",0),"") | G32: =IFERROR(IF(VLOOKUP(G30,'TABLEAU MACHINE'!$E:$E,1,FALSE),"Y",0),"") | H32: =IFERROR(IF(VLOOKUP(H30,'TABLEAU MACHINE'!$E:$E,1,FALSE),"Y",0),"") | I32: =IFERROR(IF(VLOOKUP(I30,'TABLEAU MACHINE'!$E:$E,1,FALSE),"Y",0),"") | ... AL32: =IFERROR(IF(VLOOKUP(AL30,'TABLEAU MACHINE'!$E:$E,1,FALSE),"Y",0),"")
A33: Personnel | J33: C | P33: 0 | Q33: 100 | R33: 100 | S33: 100 | T33: 100 | U33: 100 | V33: 100 | W33: 100 | X33: 100 | Y33: 100 | Z33: 100 | AA33: 0
A34: =DATE(CalendarYear,7,1) -> 45839 | B34: =IFERROR((WEEKNUM(B35)),"") | C34: =IFERROR((WEEKNUM(C35)),"") | D34: =IFERROR((WEEKNUM(D35)),"") -> 27 | E34: =IFERROR((WEEKNUM(E35)),"") -> 27 | F34: =IFERROR((WEEKNUM(F35)),"") -> 27 | G34: =IFERROR((WEEKNUM(G35)),"") -> 27 | H34: =IFERROR((WEEKNUM(H35)),"") -> 27 | I34: =IFERROR((WEEKNUM(I35)),"") -> 28 | ... AL34: =IFERROR((WEEKNUM(AL35)),"")
B35: =IF(DAY(JulSun1)=1,"",IF(AND(YEAR(JulSun1+1)=CalendarYear,MONTH(JulSun1+1)=7),JulSun1+1,"")) | C35: =IF(DAY(JulSun1)=1,"",IF(AND(YEAR(JulSun1+2)=CalendarYear,MONTH(JulSun1+2)=7),JulSun1+2,"")) | D35: =IF(DAY(JulSun1)=1,"",IF(AND(YEAR(JulSun1+3)=CalendarYear,MONTH(JulSun1+3)=7),JulSun1+3,"")) -> 45839 | E35: =IF(DAY(JulSun1)=1,"",IF(AND(YEAR(JulSun1+4)=CalendarYear,MONTH(JulSun1+4)=7),JulSun1+4,"")) -> 45840 | F35: =IF(DAY(JulSun1)=1,"",IF(AND(YEAR(JulSun1+5)=CalendarYear,MONTH(JulSun1+5)=7),JulSun1+5,"")) -> 45841 | G35: =IF(DAY(JulSun1)=1,"",IF(AND(YEAR(JulSun1+6)=CalendarYear,MONTH(JulSun1+6)=7),JulSun1+6,"")) -> 45842 | H35: =IF(DAY(JulSun1)=1,IF(AND(YEAR(JulSun1)=CalendarYear,MONTH(JulSun1)=7),JulSun1,""),IF(AND(YEAR(JulSun1+7)=CalendarYear,MONTH(JulSun1+7)=7),JulSun1+7,"")) -> 45843 | I35: =IF(DAY(JulSun1)=1,IF(AND(YEAR(JulSun1+1)=CalendarYear,MONTH(JulSun1+1)=7),JulSun1+1,""),IF(AND(YEAR(JulSun1+8)=CalendarYear,MONTH(JulSun1+8)=7),JulSun1+8,"")) -> 45844 | J35: =IF(DAY(JulSun1)=1,IF(AND(YEAR(JulSun1+2)=CalendarYear,MONTH(JulSun1+2)=7),JulSun1+2,""),IF(AND(YEAR(JulSun1+9)=CalendarYear,MONTH(JulSun1+9)=7),JulSun1+9,"")) -> 45845 | K35: =IF(DAY(JulSun1)=1,IF(AND(YEAR(JulSun1+3)=CalendarYear,MONTH(JulSun1+3)=7),JulSun1+3,""),IF(AND(YEAR(JulSun1+10)=CalendarYear,MONTH(JulSun1+10)=7),JulSun1+10,"")) -> 45846 | L35: =IF(DAY(JulSun1)=1,IF(AND(YEAR(JulSun1+4)=CalendarYear,MONTH(JulSun1+4)=7),JulSun1+4,""),IF(AND(YEAR(JulSun1+11)=CalendarYear,MONTH(JulSun1+11)=7),JulSun1+11,"")) -> 45847 | M35: =IF(DAY(JulSun1)=1,IF(AND(YEAR(JulSun1+5)=CalendarYear,MONTH(JulSun1+5)=7),JulSun1+5,""),IF(AND(YEAR(JulSun1+12)=CalendarYear,MONTH(JulSun1+12)=7),JulSun1+12,"")) -> 45848 | N35: =IF(DAY(JulSun1)=1,IF(AND(YEAR(JulSun1+6)=CalendarYear,MONTH(JulSun1+6)=7),JulSun1+6,""),IF(AND(YEAR(JulSun1+13)=CalendarYear,MONTH(JulSun1+13)=7),JulSun1+13,"")) -> 45849 | O35: =IF(DAY(JulSun1)=1,IF(AND(YEAR(JulSun1+7)=CalendarYear,MONTH(JulSun1+7)=7),JulSun1+7,""),IF(AND(YEAR(JulSun1+14)=CalendarYear,MONTH(JulSun1+14)=7),JulSun1+14,"")) -> 45850 | P35: =IF(DAY(JulSun1)=1,IF(AND(YEAR(JulSun1+8)=CalendarYear,MONTH(JulSun1+8)=7),JulSun1+8,""),IF(AND(YEAR(JulSun1+15)=CalendarYear,MONTH(JulSun1+15)=7),JulSun1+15,"")) -> 45851 | Q35: =IF(DAY(JulSun1)=1,IF(AND(YEAR(JulSun1+9)=CalendarYear,MONTH(JulSun1+9)=7),JulSun1+9,""),IF(AND(YEAR(JulSun1+16)=CalendarYear,MONTH(JulSun1+16)=7),JulSun1+16,"")) -> 45852 | R35: =IF(DAY(JulSun1)=1,IF(AND(YEAR(JulSun1+10)=CalendarYear,MONTH(JulSun1+10)=7),JulSun1+10,""),IF(AND(YEAR(JulSun1+17)=CalendarYear,MONTH(JulSun1+17)=7),JulSun1+17,"")) -> 45853 | S35: =IF(DAY(JulSun1)=1,IF(AND(YEAR(JulSun1+11)=CalendarYear,MONTH(JulSun1+11)=7),JulSun1+11,""),IF(AND(YEAR(JulSun1+18)=CalendarYear,MONTH(JulSun1+18)=7),JulSun1+18,"")) -> 45854 | T35: =IF(DAY(JulSun1)=1,IF(AND(YEAR(JulSun1+12)=CalendarYear,MONTH(JulSun1+12)=7),JulSun1+12,""),IF(AND(YEAR(JulSun1+19)=CalendarYear,MONTH(JulSun1+19)=7),JulSun1+19,"")) -> 45855 | U35: =IF(DAY(JulSun1)=1,IF(AND(YEAR(JulSun1+13)=CalendarYear,MONTH(JulSun1+13)=7),JulSun1+13,""),IF(AND(YEAR(JulSun1+20)=CalendarYear,MONTH(JulSun1+20)=7),JulSun1+20,"")) -> 45856 | V35: =IF(DAY(JulSun1)=1,IF(AND(YEAR(JulSun1+14)=CalendarYear,MONTH(JulSun1+14)=7),JulSun1+14,""),IF(AND(YEAR(JulSun1+21)=CalendarYear,MONTH(JulSun1+21)=7),JulSun1+21,"")) -> 45857 | W35: =IF(DAY(JulSun1)=1,IF(AND(YEAR(JulSun1+15)=CalendarYear,MONTH(JulSun1+15)=7),JulSun1+15,""),IF(AND(YEAR(JulSun1+22)=CalendarYear,MONTH(JulSun1+22)=7),JulSun1+22,"")) -> 45858 | X35: =IF(DAY(JulSun1)=1,IF(AND(YEAR(JulSun1+16)=CalendarYear,MONTH(JulSun1+16)=7),JulSun1+16,""),IF(AND(YEAR(JulSun1+23)=CalendarYear,MONTH(JulSun1+23)=7),JulSun1+23,"")) -> 45859 | Y35: =IF(DAY(JulSun1)=1,IF(AND(YEAR(JulSun1+17)=CalendarYear,MONTH(JulSun1+17)=7),JulSun1+17,""),IF(AND(YEAR(JulSun1+24)=CalendarYear,MONTH(JulSun1+24)=7),JulSun1+24,"")) -> 45860 | Z35: =IF(DAY(JulSun1)=1,IF(AND(YEAR(JulSun1+18)=CalendarYear,MONTH(JulSun1+18)=7),JulSun1+18,""),IF(AND(YEAR(JulSun1+25)=CalendarYear,MONTH(JulSun1+25)=7),JulSun1+25,"")) -> 45861 | AA35: =IF(DAY(JulSun1)=1,IF(AND(YEAR(JulSun1+19)=CalendarYear,MONTH(JulSun1+19)=7),JulSun1+19,""),IF(AND(YEAR(JulSun1+26)=CalendarYear,MONTH(JulSun1+26)=7),JulSun1+26,"")) -> 45862 | AB35: =IF(DAY(JulSun1)=1,IF(AND(YEAR(JulSun1+20)=CalendarYear,MONTH(JulSun1+20)=7),JulSun1+20,""),IF(AND(YEAR(JulSun1+27)=CalendarYear,MONTH(JulSun1+27)=7),JulSun1+27,"")) -> 45863 | AC35: =IF(DAY(JulSun1)=1,IF(AND(YEAR(JulSun1+21)=CalendarYear,MONTH(JulSun1+21)=7),JulSun1+21,""),IF(AND(YEAR(JulSun1+28)=CalendarYear,MONTH(JulSun1+28)=7),JulSun1+28,"")) -> 45864 | AD35: =IF(DAY(JulSun1)=1,IF(AND(YEAR(JulSun1+22)=CalendarYear,MONTH(JulSun1+22)=7),JulSun1+22,""),IF(AND(YEAR(JulSun1+29)=CalendarYear,MONTH(JulSun1+29)=7),JulSun1+29,"")) -> 45865 | AE35: =IF(DAY(JulSun1)=1,IF(AND(YEAR(JulSun1+23)=CalendarYear,MONTH(JulSun1+23)=7),JulSun1+23,""),IF(AND(YEAR(JulSun1+30)=CalendarYear,MONTH(JulSun1+30)=7),JulSun1+30,"")) -> 45866 | AF35: =IF(DAY(JulSun1)=1,IF(AND(YEAR(JulSun1+24)=CalendarYear,MONTH(JulSun1+24)=7),JulSun1+24,""),IF(AND(YEAR(JulSun1+31)=CalendarYear,MONTH(JulSun1+31)=7),JulSun1+31,"")) -> 45867 | AG35: =IF(DAY(JulSun1)=1,IF(AND(YEAR(JulSun1+25)=CalendarYear,MONTH(JulSun1+25)=7),JulSun1+25,""),IF(AND(YEAR(JulSun1+32)=CalendarYear,MONTH(JulSun1+32)=7),JulSun1+32,"")) -> 45868 | AH35: =IF(DAY(JulSun1)=1,IF(AND(YEAR(JulSun1+26)=CalendarYear,MONTH(JulSun1+26)=7),JulSun1+26,""),IF(AND(YEAR(JulSun1+33)=CalendarYear,MONTH(JulSun1+33)=7),JulSun1+33,"")) -> 45869 | AI35: =IF(DAY(JulSun1)=1,IF(AND(YEAR(JulSun1+27)=CalendarYear,MONTH(JulSun1+27)=7),JulSun1+27,""),IF(AND(YEAR(JulSun1+34)=CalendarYear,MONTH(JulSun1+34)=7),JulSun1+34,"")) | AJ35: =IF(DAY(JulSun1)=1,IF(AND(YEAR(JulSun1+28)=CalendarYear,MONTH(JulSun1+28)=7),JulSun1+28,""),IF(AND(YEAR(JulSun1+35)=CalendarYear,MONTH(JulSun1+35)=7),JulSun1+35,"")) | AK35: =IF(DAY(JulSun1)=1,IF(AND(YEAR(JulSun1+29)=CalendarYear,MONTH(JulSun1+29)=7),JulSun1+29,""),IF(AND(YEAR(JulSun1+36)=CalendarYear,MONTH(JulSun1+36)=7),JulSun1+36,"")) | AL35: =IF(DAY(JulSun1)=1,IF(AND(YEAR(JulSun1+30)=CalendarYear,MONTH(JulSun1+30)=7),JulSun1+30,""),IF(AND(YEAR(JulSun1+37)=CalendarYear,MONTH(JulSun1+37)=7),JulSun1+37,""))
B36: Di | C36: Lu | D36: Ma | E36: Me | F36: Je | G36: Ve | H36: Sa | I36: Di | J36: Lu | K36: Ma | L36: Me | M36: Je | N36: Ve | O36: Sa | P36: Di | Q36: Lu | R36: Ma | S36: Me | T36: Je | U36: Ve | V36: Sa | W36: Di | X36: Lu | Y36: Ma | Z36: Me | AA36: Je | AB36: Ve | AC36: Sa | AD36: Di | AE36: Lu | AF36: Ma | AG36: Me | AH36: Je | AI36: Ve | AJ36: Sa | AK36: Di | AL36: Lu
A37: Machine | B37: =IFERROR(IF(VLOOKUP(B35,'TABLEAU MACHINE'!$E:$E,1,FALSE),"Y",0),"") | C37: =IFERROR(IF(VLOOKUP(C35,'TABLEAU MACHINE'!$E:$E,1,FALSE),"Y",0),"") | D37: =IFERROR(IF(VLOOKUP(D35,'TABLEAU MACHINE'!$E:$E,1,FALSE),"Y",0),"") | E37: =IFERROR(IF(VLOOKUP(E35,'TABLEAU MACHINE'!$E:$E,1,FALSE),"Y",0),"") | F37: =IFERROR(IF(VLOOKUP(F35,'TABLEAU MACHINE'!$E:$E,1,FALSE),"Y",0),"") | G37: =IFERROR(IF(VLOOKUP(G35,'TABLEAU MACHINE'!$E:$E,1,FALSE),"Y",0),"") | H37: =IFERROR(IF(VLOOKUP(H35,'TABLEAU MACHINE'!$E:$E,1,FALSE),"Y",0),"") | I37: =IFERROR(IF(VLOOKUP(I35,'TABLEAU MACHINE'!$E:$E,1,FALSE),"Y",0),"") | ... AL37: =IFERROR(IF(VLOOKUP(AL35,'TABLEAU MACHINE'!$E:$E,1,FALSE),"Y",0),"")
A38: Personnel | Q38: C
A39: =DATE(CalendarYear,8,1) -> 45870 | B39: =IFERROR((WEEKNUM(B40)),"") | C39: =IFERROR((WEEKNUM(C40)),"") | D39: =IFERROR((WEEKNUM(D40)),"") | E39: =IFERROR((WEEKNUM(E40)),"") | F39: =IFERROR((WEEKNUM(F40)),"") | G39: =IFERROR((WEEKNUM(G40)),"") -> 31 | H39: =IFERROR((WEEKNUM(H40)),"") -> 31 | I39: =IFERROR((WEEKNUM(I40)),"") -> 32 | ... AL39: =IFERROR((WEEKNUM(AL40)),"")
B40: =IF(DAY(AugSun1)=1,"",IF(AND(YEAR(AugSun1+1)=CalendarYear,MONTH(AugSun1+1)=8),AugSun1+1,"")) | C40: =IF(DAY(AugSun1)=1,"",IF(AND(YEAR(AugSun1+2)=CalendarYear,MONTH(AugSun1+2)=8),AugSun1+2,"")) | D40: =IF(DAY(AugSun1)=1,"",IF(AND(YEAR(AugSun1+3)=CalendarYear,MONTH(AugSun1+3)=8),AugSun1+3,"")) | E40: =IF(DAY(AugSun1)=1,"",IF(AND(YEAR(AugSun1+4)=CalendarYear,MONTH(AugSun1+4)=8),AugSun1+4,"")) | F40: =IF(DAY(AugSun1)=1,"",IF(AND(YEAR(AugSun1+5)=CalendarYear,MONTH(AugSun1+5)=8),AugSun1+5,"")) | G40: =IF(DAY(AugSun1)=1,"",IF(AND(YEAR(AugSun1+6)=CalendarYear,MONTH(AugSun1+6)=8),AugSun1+6,"")) -> 45870 | H40: =IF(DAY(AugSun1)=1,IF(AND(YEAR(AugSun1)=CalendarYear,MONTH(AugSun1)=8),AugSun1,""),IF(AND(YEAR(AugSun1+7)=CalendarYear,MONTH(AugSun1+7)=8),AugSun1+7,"")) -> 45871 | I40: =IF(DAY(AugSun1)=1,IF(AND(YEAR(AugSun1+1)=CalendarYear,MONTH(AugSun1+1)=8),AugSun1+1,""),IF(AND(YEAR(AugSun1+8)=CalendarYear,MONTH(AugSun1+8)=8),AugSun1+8,"")) -> 45872 | J40: =IF(DAY(AugSun1)=1,IF(AND(YEAR(AugSun1+2)=CalendarYear,MONTH(AugSun1+2)=8),AugSun1+2,""),IF(AND(YEAR(AugSun1+9)=CalendarYear,MONTH(AugSun1+9)=8),AugSun1+9,"")) -> 45873 | K40: =IF(DAY(AugSun1)=1,IF(AND(YEAR(AugSun1+3)=CalendarYear,MONTH(AugSun1+3)=8),AugSun1+3,""),IF(AND(YEAR(AugSun1+10)=CalendarYear,MONTH(AugSun1+10)=8),AugSun1+10,"")) -> 45874 | L40: =IF(DAY(AugSun1)=1,IF(AND(YEAR(AugSun1+4)=CalendarYear,MONTH(AugSun1+4)=8),AugSun1+4,""),IF(AND(YEAR(AugSun1+11)=CalendarYear,MONTH(AugSun1+11)=8),AugSun1+11,"")) -> 45875 | M40: =IF(DAY(AugSun1)=1,IF(AND(YEAR(AugSun1+5)=CalendarYear,MONTH(AugSun1+5)=8),AugSun1+5,""),IF(AND(YEAR(AugSun1+12)=CalendarYear,MONTH(AugSun1+12)=8),AugSun1+12,"")) -> 45876 | N40: =IF(DAY(AugSun1)=1,IF(AND(YEAR(AugSun1+6)=CalendarYear,MONTH(AugSun1+6)=8),AugSun1+6,""),IF(AND(YEAR(AugSun1+13)=CalendarYear,MONTH(AugSun1+13)=8),AugSun1+13,"")) -> 45877 | O40: =IF(DAY(AugSun1)=1,IF(AND(YEAR(AugSun1+7)=CalendarYear,MONTH(AugSun1+7)=8),AugSun1+7,""),IF(AND(YEAR(AugSun1+14)=CalendarYear,MONTH(AugSun1+14)=8),AugSun1+14,"")) -> 45878 | P40: =IF(DAY(AugSun1)=1,IF(AND(YEAR(AugSun1+8)=CalendarYear,MONTH(AugSun1+8)=8),AugSun1+8,""),IF(AND(YEAR(AugSun1+15)=CalendarYear,MONTH(AugSun1+15)=8),AugSun1+15,"")) -> 45879 | Q40: =IF(DAY(AugSun1)=1,IF(AND(YEAR(AugSun1+9)=CalendarYear,MONTH(AugSun1+9)=8),AugSun1+9,""),IF(AND(YEAR(AugSun1+16)=CalendarYear,MONTH(AugSun1+16)=8),AugSun1+16,"")) -> 45880 | R40: =IF(DAY(AugSun1)=1,IF(AND(YEAR(AugSun1+10)=CalendarYear,MONTH(AugSun1+10)=8),AugSun1+10,""),IF(AND(YEAR(AugSun1+17)=CalendarYear,MONTH(AugSun1+17)=8),AugSun1+17,"")) -> 45881 | S40: =IF(DAY(AugSun1)=1,IF(AND(YEAR(AugSun1+11)=CalendarYear,MONTH(AugSun1+11)=8),AugSun1+11,""),IF(AND(YEAR(AugSun1+18)=CalendarYear,MONTH(AugSun1+18)=8),AugSun1+18,"")) -> 45882 | T40: =IF(DAY(AugSun1)=1,IF(AND(YEAR(AugSun1+12)=CalendarYear,MONTH(AugSun1+12)=8),AugSun1+12,""),IF(AND(YEAR(AugSun1+19)=CalendarYear,MONTH(AugSun1+19)=8),AugSun1+19,"")) -> 45883 | U40: =IF(DAY(AugSun1)=1,IF(AND(YEAR(AugSun1+13)=CalendarYear,MONTH(AugSun1+13)=8),AugSun1+13,""),IF(AND(YEAR(AugSun1+20)=CalendarYear,MONTH(AugSun1+20)=8),AugSun1+20,"")) -> 45884 | V40: =IF(DAY(AugSun1)=1,IF(AND(YEAR(AugSun1+14)=CalendarYear,MONTH(AugSun1+14)=8),AugSun1+14,""),IF(AND(YEAR(AugSun1+21)=CalendarYear,MONTH(AugSun1+21)=8),AugSun1+21,"")) -> 45885 | W40: =IF(DAY(AugSun1)=1,IF(AND(YEAR(AugSun1+15)=CalendarYear,MONTH(AugSun1+15)=8),AugSun1+15,""),IF(AND(YEAR(AugSun1+22)=CalendarYear,MONTH(AugSun1+22)=8),AugSun1+22,"")) -> 45886 | X40: =IF(DAY(AugSun1)=1,IF(AND(YEAR(AugSun1+16)=CalendarYear,MONTH(AugSun1+16)=8),AugSun1+16,""),IF(AND(YEAR(AugSun1+23)=CalendarYear,MONTH(AugSun1+23)=8),AugSun1+23,"")) -> 45887 | Y40: =IF(DAY(AugSun1)=1,IF(AND(YEAR(AugSun1+17)=CalendarYear,MONTH(AugSun1+17)=8),AugSun1+17,""),IF(AND(YEAR(AugSun1+24)=CalendarYear,MONTH(AugSun1+24)=8),AugSun1+24,"")) -> 45888 | Z40: =IF(DAY(AugSun1)=1,IF(AND(YEAR(AugSun1+18)=CalendarYear,MONTH(AugSun1+18)=8),AugSun1+18,""),IF(AND(YEAR(AugSun1+25)=CalendarYear,MONTH(AugSun1+25)=8),AugSun1+25,"")) -> 45889 | AA40: =IF(DAY(AugSun1)=1,IF(AND(YEAR(AugSun1+19)=CalendarYear,MONTH(AugSun1+19)=8),AugSun1+19,""),IF(AND(YEAR(AugSun1+26)=CalendarYear,MONTH(AugSun1+26)=8),AugSun1+26,"")) -> 45890 | AB40: =IF(DAY(AugSun1)=1,IF(AND(YEAR(AugSun1+20)=CalendarYear,MONTH(AugSun1+20)=8),AugSun1+20,""),IF(AND(YEAR(AugSun1+27)=CalendarYear,MONTH(AugSun1+27)=8),AugSun1+27,"")) -> 45891 | AC40: =IF(DAY(AugSun1)=1,IF(AND(YEAR(AugSun1+21)=CalendarYear,MONTH(AugSun1+21)=8),AugSun1+21,""),IF(AND(YEAR(AugSun1+28)=CalendarYear,MONTH(AugSun1+28)=8),AugSun1+28,"")) -> 45892 | AD40: =IF(DAY(AugSun1)=1,IF(AND(YEAR(AugSun1+22)=CalendarYear,MONTH(AugSun1+22)=8),AugSun1+22,""),IF(AND(YEAR(AugSun1+29)=CalendarYear,MONTH(AugSun1+29)=8),AugSun1+29,"")) -> 45893 | AE40: =IF(DAY(AugSun1)=1,IF(AND(YEAR(AugSun1+23)=CalendarYear,MONTH(AugSun1+23)=8),AugSun1+23,""),IF(AND(YEAR(AugSun1+30)=CalendarYear,MONTH(AugSun1+30)=8),AugSun1+30,"")) -> 45894 | AF40: =IF(DAY(AugSun1)=1,IF(AND(YEAR(AugSun1+24)=CalendarYear,MONTH(AugSun1+24)=8),AugSun1+24,""),IF(AND(YEAR(AugSun1+31)=CalendarYear,MONTH(AugSun1+31)=8),AugSun1+31,"")) -> 45895 | AG40: =IF(DAY(AugSun1)=1,IF(AND(YEAR(AugSun1+25)=CalendarYear,MONTH(AugSun1+25)=8),AugSun1+25,""),IF(AND(YEAR(AugSun1+32)=CalendarYear,MONTH(AugSun1+32)=8),AugSun1+32,"")) -> 45896 | AH40: =IF(DAY(AugSun1)=1,IF(AND(YEAR(AugSun1+26)=CalendarYear,MONTH(AugSun1+26)=8),AugSun1+26,""),IF(AND(YEAR(AugSun1+33)=CalendarYear,MONTH(AugSun1+33)=8),AugSun1+33,"")) -> 45897 | AI40: =IF(DAY(AugSun1)=1,IF(AND(YEAR(AugSun1+27)=CalendarYear,MONTH(AugSun1+27)=8),AugSun1+27,""),IF(AND(YEAR(AugSun1+34)=CalendarYear,MONTH(AugSun1+34)=8),AugSun1+34,"")) -> 45898 | AJ40: =IF(DAY(AugSun1)=1,IF(AND(YEAR(AugSun1+28)=CalendarYear,MONTH(AugSun1+28)=8),AugSun1+28,""),IF(AND(YEAR(AugSun1+35)=CalendarYear,MONTH(AugSun1+35)=8),AugSun1+35,"")) -> 45899 | AK40: =IF(DAY(AugSun1)=1,IF(AND(YEAR(AugSun1+29)=CalendarYear,MONTH(AugSun1+29)=8),AugSun1+29,""),IF(AND(YEAR(AugSun1+36)=CalendarYear,MONTH(AugSun1+36)=8),AugSun1+36,"")) -> 45900 | AL40: =IF(DAY(AugSun1)=1,IF(AND(YEAR(AugSun1+30)=CalendarYear,MONTH(AugSun1+30)=8),AugSun1+30,""),IF(AND(YEAR(AugSun1+37)=CalendarYear,MONTH(AugSun1+37)=8),AugSun1+37,""))
B41: Di | C41: Lu | D41: Ma | E41: Me | F41: Je | G41: Ve | H41: Sa | I41: Di | J41: Lu | K41: Ma | L41: Me | M41: Je | N41: Ve | O41: Sa | P41: Di | Q41: Lu | R41: Ma | S41: Me | T41: Je | U41: Ve | V41: Sa | W41: Di | X41: Lu | Y41: Ma | Z41: Me | AA41: Je | AB41: Ve | AC41: Sa | AD41: Di | AE41: Lu | AF41: Ma | AG41: Me | AH41: Je | AI41: Ve | AJ41: Sa | AK41: Di | AL41: Lu
A42: Machine | B42: =IFERROR(IF(VLOOKUP(B40,'TABLEAU MACHINE'!$E:$E,1,FALSE),"Y",0),"") | C42: =IFERROR(IF(VLOOKUP(C40,'TABLEAU MACHINE'!$E:$E,1,FALSE),"Y",0),"") | D42: =IFERROR(IF(VLOOKUP(D40,'TABLEAU MACHINE'!$E:$E,1,FALSE),"Y",0),"") | E42: =IFERROR(IF(VLOOKUP(E40,'TABLEAU MACHINE'!$E:$E,1,FALSE),"Y",0),"") | F42: =IFERROR(IF(VLOOKUP(F40,'TABLEAU MACHINE'!$E:$E,1,FALSE),"Y",0),"") | G42: =IFERROR(IF(VLOOKUP(G40,'TABLEAU MACHINE'!$E:$E,1,FALSE),"Y",0),"") | H42: =IFERROR(IF(VLOOKUP(H40,'TABLEAU MACHINE'!$E:$E,1,FALSE),"Y",0),"") | I42: =IFERROR(IF(VLOOKUP(I40,'TABLEAU MACHINE'!$E:$E,1,FALSE),"Y",0),"") | ... AL42: =IFERROR(IF(VLOOKUP(AL40,'TABLEAU MACHINE'!$E:$E,1,FALSE),"Y",0),"")
A43: Personnel | N43: C | O43: C | P43: C | Q43: C | R43: C | S43: C | T43: C | U43: C | V43: C | W43: C | X43: C | Y43: C | Z43: C | AA43: C | AB43: C | AC43: C | AD43: C
A44: =DATE(CalendarYear,9,1) -> 45901 | B44: =IFERROR((WEEKNUM(B45)),"") | C44: =IFERROR((WEEKNUM(C45)),"") -> 36 | D44: =IFERROR((WEEKNUM(D45)),"") -> 36 | E44: =IFERROR((WEEKNUM(E45)),"") -> 36 | F44: =IFERROR((WEEKNUM(F45)),"") -> 36 | G44: =IFERROR((WEEKNUM(G45)),"") -> 36 | H44: =IFERROR((WEEKNUM(H45)),"") -> 36 | I44: =IFERROR((WEEKNUM(I45)),"") -> 37 | ... AL44: =IFERROR((WEEKNUM(AL45)),"")
B45: =IF(DAY(SepSun1)=1,"",IF(AND(YEAR(SepSun1+1)=CalendarYear,MONTH(SepSun1+1)=9),SepSun1+1,"")) | C45: =IF(DAY(SepSun1)=1,"",IF(AND(YEAR(SepSun1+2)=CalendarYear,MONTH(SepSun1+2)=9),SepSun1+2,"")) -> 45901 | D45: =IF(DAY(SepSun1)=1,"",IF(AND(YEAR(SepSun1+3)=CalendarYear,MONTH(SepSun1+3)=9),SepSun1+3,"")) -> 45902 | E45: =IF(DAY(SepSun1)=1,"",IF(AND(YEAR(SepSun1+4)=CalendarYear,MONTH(SepSun1+4)=9),SepSun1+4,"")) -> 45903 | F45: =IF(DAY(SepSun1)=1,"",IF(AND(YEAR(SepSun1+5)=CalendarYear,MONTH(SepSun1+5)=9),SepSun1+5,"")) -> 45904 | G45: =IF(DAY(SepSun1)=1,"",IF(AND(YEAR(SepSun1+6)=CalendarYear,MONTH(SepSun1+6)=9),SepSun1+6,"")) -> 45905 | H45: =IF(DAY(SepSun1)=1,IF(AND(YEAR(SepSun1)=CalendarYear,MONTH(SepSun1)=9),SepSun1,""),IF(AND(YEAR(SepSun1+7)=CalendarYear,MONTH(SepSun1+7)=9),SepSun1+7,"")) -> 45906 | I45: =IF(DAY(SepSun1)=1,IF(AND(YEAR(SepSun1+1)=CalendarYear,MONTH(SepSun1+1)=9),SepSun1+1,""),IF(AND(YEAR(SepSun1+8)=CalendarYear,MONTH(SepSun1+8)=9),SepSun1+8,"")) -> 45907 | J45: =IF(DAY(SepSun1)=1,IF(AND(YEAR(SepSun1+2)=CalendarYear,MONTH(SepSun1+2)=9),SepSun1+2,""),IF(AND(YEAR(SepSun1+9)=CalendarYear,MONTH(SepSun1+9)=9),SepSun1+9,"")) -> 45908 | K45: =IF(DAY(SepSun1)=1,IF(AND(YEAR(SepSun1+3)=CalendarYear,MONTH(SepSun1+3)=9),SepSun1+3,""),IF(AND(YEAR(SepSun1+10)=CalendarYear,MONTH(SepSun1+10)=9),SepSun1+10,"")) -> 45909 | L45: =IF(DAY(SepSun1)=1,IF(AND(YEAR(SepSun1+4)=CalendarYear,MONTH(SepSun1+4)=9),SepSun1+4,""),IF(AND(YEAR(SepSun1+11)=CalendarYear,MONTH(SepSun1+11)=9),SepSun1+11,"")) -> 45910 | M45: =IF(DAY(SepSun1)=1,IF(AND(YEAR(SepSun1+5)=CalendarYear,MONTH(SepSun1+5)=9),SepSun1+5,""),IF(AND(YEAR(SepSun1+12)=CalendarYear,MONTH(SepSun1+12)=9),SepSun1+12,"")) -> 45911 | N45: =IF(DAY(SepSun1)=1,IF(AND(YEAR(SepSun1+6)=CalendarYear,MONTH(SepSun1+6)=9),SepSun1+6,""),IF(AND(YEAR(SepSun1+13)=CalendarYear,MONTH(SepSun1+13)=9),SepSun1+13,"")) -> 45912 | O45: =IF(DAY(SepSun1)=1,IF(AND(YEAR(SepSun1+7)=CalendarYear,MONTH(SepSun1+7)=9),SepSun1+7,""),IF(AND(YEAR(SepSun1+14)=CalendarYear,MONTH(SepSun1+14)=9),SepSun1+14,"")) -> 45913 | P45: =IF(DAY(SepSun1)=1,IF(AND(YEAR(SepSun1+8)=CalendarYear,MONTH(SepSun1+8)=9),SepSun1+8,""),IF(AND(YEAR(SepSun1+15)=CalendarYear,MONTH(SepSun1+15)=9),SepSun1+15,"")) -> 45914 | Q45: =IF(DAY(SepSun1)=1,IF(AND(YEAR(SepSun1+9)=CalendarYear,MONTH(SepSun1+9)=9),SepSun1+9,""),IF(AND(YEAR(SepSun1+16)=CalendarYear,MONTH(SepSun1+16)=9),SepSun1+16,"")) -> 45915 | R45: =IF(DAY(SepSun1)=1,IF(AND(YEAR(SepSun1+10)=CalendarYear,MONTH(SepSun1+10)=9),SepSun1+10,""),IF(AND(YEAR(SepSun1+17)=CalendarYear,MONTH(SepSun1+17)=9),SepSun1+17,"")) -> 45916 | S45: =IF(DAY(SepSun1)=1,IF(AND(YEAR(SepSun1+11)=CalendarYear,MONTH(SepSun1+11)=9),SepSun1+11,""),IF(AND(YEAR(SepSun1+18)=CalendarYear,MONTH(SepSun1+18)=9),SepSun1+18,"")) -> 45917 | T45: =IF(DAY(SepSun1)=1,IF(AND(YEAR(SepSun1+12)=CalendarYear,MONTH(SepSun1+12)=9),SepSun1+12,""),IF(AND(YEAR(SepSun1+19)=CalendarYear,MONTH(SepSun1+19)=9),SepSun1+19,"")) -> 45918 | U45: =IF(DAY(SepSun1)=1,IF(AND(YEAR(SepSun1+13)=CalendarYear,MONTH(SepSun1+13)=9),SepSun1+13,""),IF(AND(YEAR(SepSun1+20)=CalendarYear,MONTH(SepSun1+20)=9),SepSun1+20,"")) -> 45919 | V45: =IF(DAY(SepSun1)=1,IF(AND(YEAR(SepSun1+14)=CalendarYear,MONTH(SepSun1+14)=9),SepSun1+14,""),IF(AND(YEAR(SepSun1+21)=CalendarYear,MONTH(SepSun1+21)=9),SepSun1+21,"")) -> 45920 | W45: =IF(DAY(SepSun1)=1,IF(AND(YEAR(SepSun1+15)=CalendarYear,MONTH(SepSun1+15)=9),SepSun1+15,""),IF(AND(YEAR(SepSun1+22)=CalendarYear,MONTH(SepSun1+22)=9),SepSun1+22,"")) -> 45921 | X45: =IF(DAY(SepSun1)=1,IF(AND(YEAR(SepSun1+16)=CalendarYear,MONTH(SepSun1+16)=9),SepSun1+16,""),IF(AND(YEAR(SepSun1+23)=CalendarYear,MONTH(SepSun1+23)=9),SepSun1+23,"")) -> 45922 | Y45: =IF(DAY(SepSun1)=1,IF(AND(YEAR(SepSun1+17)=CalendarYear,MONTH(SepSun1+17)=9),SepSun1+17,""),IF(AND(YEAR(SepSun1+24)=CalendarYear,MONTH(SepSun1+24)=9),SepSun1+24,"")) -> 45923 | Z45: =IF(DAY(SepSun1)=1,IF(AND(YEAR(SepSun1+18)=CalendarYear,MONTH(SepSun1+18)=9),SepSun1+18,""),IF(AND(YEAR(SepSun1+25)=CalendarYear,MONTH(SepSun1+25)=9),SepSun1+25,"")) -> 45924 | AA45: =IF(DAY(SepSun1)=1,IF(AND(YEAR(SepSun1+19)=CalendarYear,MONTH(SepSun1+19)=9),SepSun1+19,""),IF(AND(YEAR(SepSun1+26)=CalendarYear,MONTH(SepSun1+26)=9),SepSun1+26,"")) -> 45925 | AB45: =IF(DAY(SepSun1)=1,IF(AND(YEAR(SepSun1+20)=CalendarYear,MONTH(SepSun1+20)=9),SepSun1+20,""),IF(AND(YEAR(SepSun1+27)=CalendarYear,MONTH(SepSun1+27)=9),SepSun1+27,"")) -> 45926 | AC45: =IF(DAY(SepSun1)=1,IF(AND(YEAR(SepSun1+21)=CalendarYear,MONTH(SepSun1+21)=9),SepSun1+21,""),IF(AND(YEAR(SepSun1+28)=CalendarYear,MONTH(SepSun1+28)=9),SepSun1+28,"")) -> 45927 | AD45: =IF(DAY(SepSun1)=1,IF(AND(YEAR(SepSun1+22)=CalendarYear,MONTH(SepSun1+22)=9),SepSun1+22,""),IF(AND(YEAR(SepSun1+29)=CalendarYear,MONTH(SepSun1+29)=9),SepSun1+29,"")) -> 45928 | AE45: =IF(DAY(SepSun1)=1,IF(AND(YEAR(SepSun1+23)=CalendarYear,MONTH(SepSun1+23)=9),SepSun1+23,""),IF(AND(YEAR(SepSun1+30)=CalendarYear,MONTH(SepSun1+30)=9),SepSun1+30,"")) -> 45929 | AF45: =IF(DAY(SepSun1)=1,IF(AND(YEAR(SepSun1+24)=CalendarYear,MONTH(SepSun1+24)=9),SepSun1+24,""),IF(AND(YEAR(SepSun1+31)=CalendarYear,MONTH(SepSun1+31)=9),SepSun1+31,"")) -> 45930 | AG45: =IF(DAY(SepSun1)=1,IF(AND(YEAR(SepSun1+25)=CalendarYear,MONTH(SepSun1+25)=9),SepSun1+25,""),IF(AND(YEAR(SepSun1+32)=CalendarYear,MONTH(SepSun1+32)=9),SepSun1+32,"")) | AH45: =IF(DAY(SepSun1)=1,IF(AND(YEAR(SepSun1+26)=CalendarYear,MONTH(SepSun1+26)=9),SepSun1+26,""),IF(AND(YEAR(SepSun1+33)=CalendarYear,MONTH(SepSun1+33)=9),SepSun1+33,"")) | AI45: =IF(DAY(SepSun1)=1,IF(AND(YEAR(SepSun1+27)=CalendarYear,MONTH(SepSun1+27)=9),SepSun1+27,""),IF(AND(YEAR(SepSun1+34)=CalendarYear,MONTH(SepSun1+34)=9),SepSun1+34,"")) | AJ45: =IF(DAY(SepSun1)=1,IF(AND(YEAR(SepSun1+28)=CalendarYear,MONTH(SepSun1+28)=9),SepSun1+28,""),IF(AND(YEAR(SepSun1+35)=CalendarYear,MONTH(SepSun1+35)=9),SepSun1+35,"")) | AK45: =IF(DAY(SepSun1)=1,IF(AND(YEAR(SepSun1+29)=CalendarYear,MONTH(SepSun1+29)=9),SepSun1+29,""),IF(AND(YEAR(SepSun1+36)=CalendarYear,MONTH(SepSun1+36)=9),SepSun1+36,"")) | AL45: =IF(DAY(SepSun1)=1,IF(AND(YEAR(SepSun1+30)=CalendarYear,MONTH(SepSun1+30)=9),SepSun1+30,""),IF(AND(YEAR(SepSun1+37)=CalendarYear,MONTH(SepSun1+37)=9),SepSun1+37,""))
B46: Di | C46: Lu | D46: Ma | E46: Me | F46: Je | G46: Ve | H46: Sa | I46: Di | J46: Lu | K46: Ma | L46: Me | M46: Je | N46: Ve | O46: Sa | P46: Di | Q46: Lu | R46: Ma | S46: Me | T46: Je | U46: Ve | V46: Sa | W46: Di | X46: Lu | Y46: Ma | Z46: Me | AA46: Je | AB46: Ve | AC46: Sa | AD46: Di | AE46: Lu | AF46: Ma | AG46: Me | AH46: Je | AI46: Ve | AJ46: Sa | AK46: Di | AL46: Lu
A47: Machine | B47: =IFERROR(IF(VLOOKUP(B45,'TABLEAU MACHINE'!$E:$E,1,FALSE),"Y",0),"") | C47: =IFERROR(IF(VLOOKUP(C45,'TABLEAU MACHINE'!$E:$E,1,FALSE),"Y",0),"") | D47: =IFERROR(IF(VLOOKUP(D45,'TABLEAU MACHINE'!$E:$E,1,FALSE),"Y",0),"") | E47: =IFERROR(IF(VLOOKUP(E45,'TABLEAU MACHINE'!$E:$E,1,FALSE),"Y",0),"") | F47: =IFERROR(IF(VLOOKUP(F45,'TABLEAU MACHINE'!$E:$E,1,FALSE),"Y",0),"") | G47: =IFERROR(IF(VLOOKUP(G45,'TABLEAU MACHINE'!$E:$E,1,FALSE),"Y",0),"") | H47: =IFERROR(IF(VLOOKUP(H45,'TABLEAU MACHINE'!$E:$E,1,FALSE),"Y",0),"") | I47: =IFERROR(IF(VLOOKUP(I45,'TABLEAU MACHINE'!$E:$E,1,FALSE),"Y",0),"") | ... AL47: =IFERROR(IF(VLOOKUP(AL45,'TABLEAU MACHINE'!$E:$E,1,FALSE),"Y",0),"")
A48: Personnel
A49: =DATE(CalendarYear,10,1) -> 45931 | B49: =IFERROR((WEEKNUM(B50)),"") | C49: =IFERROR((WEEKNUM(C50)),"") | D49: =IFERROR((WEEKNUM(D50)),"") | E49: =IFERROR((WEEKNUM(E50)),"") -> 40 | F49: =IFERROR((WEEKNUM(F50)),"") -> 40 | G49: =IFERROR((WEEKNUM(G50)),"") -> 40 | H49: =IFERROR((WEEKNUM(H50)),"") -> 40 | I49: =IFERROR((WEEKNUM(I50)),"") -> 41 | ... AL49: =IFERROR((WEEKNUM(AL50)),"")
B50: =IF(DAY(OctSun1)=1,"",IF(AND(YEAR(OctSun1+1)=CalendarYear,MONTH(OctSun1+1)=10),OctSun1+1,"")) | C50: =IF(DAY(OctSun1)=1,"",IF(AND(YEAR(OctSun1+2)=CalendarYear,MONTH(OctSun1+2)=10),OctSun1+2,"")) | D50: =IF(DAY(OctSun1)=1,"",IF(AND(YEAR(OctSun1+3)=CalendarYear,MONTH(OctSun1+3)=10),OctSun1+3,"")) | E50: =IF(DAY(OctSun1)=1,"",IF(AND(YEAR(OctSun1+4)=CalendarYear,MONTH(OctSun1+4)=10),OctSun1+4,"")) -> 45931 | F50: =IF(DAY(OctSun1)=1,"",IF(AND(YEAR(OctSun1+5)=CalendarYear,MONTH(OctSun1+5)=10),OctSun1+5,"")) -> 45932 | G50: =IF(DAY(OctSun1)=1,"",IF(AND(YEAR(OctSun1+6)=CalendarYear,MONTH(OctSun1+6)=10),OctSun1+6,"")) -> 45933 | H50: =IF(DAY(OctSun1)=1,IF(AND(YEAR(OctSun1)=CalendarYear,MONTH(OctSun1)=10),OctSun1,""),IF(AND(YEAR(OctSun1+7)=CalendarYear,MONTH(OctSun1+7)=10),OctSun1+7,"")) -> 45934 | I50: =IF(DAY(OctSun1)=1,IF(AND(YEAR(OctSun1+1)=CalendarYear,MONTH(OctSun1+1)=10),OctSun1+1,""),IF(AND(YEAR(OctSun1+8)=CalendarYear,MONTH(OctSun1+8)=10),OctSun1+8,"")) -> 45935 | J50: =IF(DAY(OctSun1)=1,IF(AND(YEAR(OctSun1+2)=CalendarYear,MONTH(OctSun1+2)=10),OctSun1+2,""),IF(AND(YEAR(OctSun1+9)=CalendarYear,MONTH(OctSun1+9)=10),OctSun1+9,"")) -> 45936 | K50: =IF(DAY(OctSun1)=1,IF(AND(YEAR(OctSun1+3)=CalendarYear,MONTH(OctSun1+3)=10),OctSun1+3,""),IF(AND(YEAR(OctSun1+10)=CalendarYear,MONTH(OctSun1+10)=10),OctSun1+10,"")) -> 45937 | L50: =IF(DAY(OctSun1)=1,IF(AND(YEAR(OctSun1+4)=CalendarYear,MONTH(OctSun1+4)=10),OctSun1+4,""),IF(AND(YEAR(OctSun1+11)=CalendarYear,MONTH(OctSun1+11)=10),OctSun1+11,"")) -> 45938 | M50: =IF(DAY(OctSun1)=1,IF(AND(YEAR(OctSun1+5)=CalendarYear,MONTH(OctSun1+5)=10),OctSun1+5,""),IF(AND(YEAR(OctSun1+12)=CalendarYear,MONTH(OctSun1+12)=10),OctSun1+12,"")) -> 45939 | N50: =IF(DAY(OctSun1)=1,IF(AND(YEAR(OctSun1+6)=CalendarYear,MONTH(OctSun1+6)=10),OctSun1+6,""),IF(AND(YEAR(OctSun1+13)=CalendarYear,MONTH(OctSun1+13)=10),OctSun1+13,"")) -> 45940 | O50: =IF(DAY(OctSun1)=1,IF(AND(YEAR(OctSun1+7)=CalendarYear,MONTH(OctSun1+7)=10),OctSun1+7,""),IF(AND(YEAR(OctSun1+14)=CalendarYear,MONTH(OctSun1+14)=10),OctSun1+14,"")) -> 45941 | P50: =IF(DAY(OctSun1)=1,IF(AND(YEAR(OctSun1+8)=CalendarYear,MONTH(OctSun1+8)=10),OctSun1+8,""),IF(AND(YEAR(OctSun1+15)=CalendarYear,MONTH(OctSun1+15)=10),OctSun1+15,"")) -> 45942 | Q50: =IF(DAY(OctSun1)=1,IF(AND(YEAR(OctSun1+9)=CalendarYear,MONTH(OctSun1+9)=10),OctSun1+9,""),IF(AND(YEAR(OctSun1+16)=CalendarYear,MONTH(OctSun1+16)=10),OctSun1+16,"")) -> 45943 | R50: =IF(DAY(OctSun1)=1,IF(AND(YEAR(OctSun1+10)=CalendarYear,MONTH(OctSun1+10)=10),OctSun1+10,""),IF(AND(YEAR(OctSun1+17)=CalendarYear,MONTH(OctSun1+17)=10),OctSun1+17,"")) -> 45944 | S50: =IF(DAY(OctSun1)=1,IF(AND(YEAR(OctSun1+11)=CalendarYear,MONTH(OctSun1+11)=10),OctSun1+11,""),IF(AND(YEAR(OctSun1+18)=CalendarYear,MONTH(OctSun1+18)=10),OctSun1+18,"")) -> 45945 | T50: =IF(DAY(OctSun1)=1,IF(AND(YEAR(OctSun1+12)=CalendarYear,MONTH(OctSun1+12)=10),OctSun1+12,""),IF(AND(YEAR(OctSun1+19)=CalendarYear,MONTH(OctSun1+19)=10),OctSun1+19,"")) -> 45946 | U50: =IF(DAY(OctSun1)=1,IF(AND(YEAR(OctSun1+13)=CalendarYear,MONTH(OctSun1+13)=10),OctSun1+13,""),IF(AND(YEAR(OctSun1+20)=CalendarYear,MONTH(OctSun1+20)=10),OctSun1+20,"")) -> 45947 | V50: =IF(DAY(OctSun1)=1,IF(AND(YEAR(OctSun1+14)=CalendarYear,MONTH(OctSun1+14)=10),OctSun1+14,""),IF(AND(YEAR(OctSun1+21)=CalendarYear,MONTH(OctSun1+21)=10),OctSun1+21,"")) -> 45948 | W50: =IF(DAY(OctSun1)=1,IF(AND(YEAR(OctSun1+15)=CalendarYear,MONTH(OctSun1+15)=10),OctSun1+15,""),IF(AND(YEAR(OctSun1+22)=CalendarYear,MONTH(OctSun1+22)=10),OctSun1+22,"")) -> 45949 | X50: =IF(DAY(OctSun1)=1,IF(AND(YEAR(OctSun1+16)=CalendarYear,MONTH(OctSun1+16)=10),OctSun1+16,""),IF(AND(YEAR(OctSun1+23)=CalendarYear,MONTH(OctSun1+23)=10),OctSun1+23,"")) -> 45950 | Y50: =IF(DAY(OctSun1)=1,IF(AND(YEAR(OctSun1+17)=CalendarYear,MONTH(OctSun1+17)=10),OctSun1+17,""),IF(AND(YEAR(OctSun1+24)=CalendarYear,MONTH(OctSun1+24)=10),OctSun1+24,"")) -> 45951 | Z50: =IF(DAY(OctSun1)=1,IF(AND(YEAR(OctSun1+18)=CalendarYear,MONTH(OctSun1+18)=10),OctSun1+18,""),IF(AND(YEAR(OctSun1+25)=CalendarYear,MONTH(OctSun1+25)=10),OctSun1+25,"")) -> 45952 | AA50: =IF(DAY(OctSun1)=1,IF(AND(YEAR(OctSun1+19)=CalendarYear,MONTH(OctSun1+19)=10),OctSun1+19,""),IF(AND(YEAR(OctSun1+26)=CalendarYear,MONTH(OctSun1+26)=10),OctSun1+26,"")) -> 45953 | AB50: =IF(DAY(OctSun1)=1,IF(AND(YEAR(OctSun1+20)=CalendarYear,MONTH(OctSun1+20)=10),OctSun1+20,""),IF(AND(YEAR(OctSun1+27)=CalendarYear,MONTH(OctSun1+27)=10),OctSun1+27,"")) -> 45954 | AC50: =IF(DAY(OctSun1)=1,IF(AND(YEAR(OctSun1+21)=CalendarYear,MONTH(OctSun1+21)=10),OctSun1+21,""),IF(AND(YEAR(OctSun1+28)=CalendarYear,MONTH(OctSun1+28)=10),OctSun1+28,"")) -> 45955 | AD50: =IF(DAY(OctSun1)=1,IF(AND(YEAR(OctSun1+22)=CalendarYear,MONTH(OctSun1+22)=10),OctSun1+22,""),IF(AND(YEAR(OctSun1+29)=CalendarYear,MONTH(OctSun1+29)=10),OctSun1+29,"")) -> 45956 | AE50: =IF(DAY(OctSun1)=1,IF(AND(YEAR(OctSun1+23)=CalendarYear,MONTH(OctSun1+23)=10),OctSun1+23,""),IF(AND(YEAR(OctSun1+30)=CalendarYear,MONTH(OctSun1+30)=10),OctSun1+30,"")) -> 45957 | AF50: =IF(DAY(OctSun1)=1,IF(AND(YEAR(OctSun1+24)=CalendarYear,MONTH(OctSun1+24)=10),OctSun1+24,""),IF(AND(YEAR(OctSun1+31)=CalendarYear,MONTH(OctSun1+31)=10),OctSun1+31,"")) -> 45958 | AG50: =IF(DAY(OctSun1)=1,IF(AND(YEAR(OctSun1+25)=CalendarYear,MONTH(OctSun1+25)=10),OctSun1+25,""),IF(AND(YEAR(OctSun1+32)=CalendarYear,MONTH(OctSun1+32)=10),OctSun1+32,"")) -> 45959 | AH50: =IF(DAY(OctSun1)=1,IF(AND(YEAR(OctSun1+26)=CalendarYear,MONTH(OctSun1+26)=10),OctSun1+26,""),IF(AND(YEAR(OctSun1+33)=CalendarYear,MONTH(OctSun1+33)=10),OctSun1+33,"")) -> 45960 | AI50: =IF(DAY(OctSun1)=1,IF(AND(YEAR(OctSun1+27)=CalendarYear,MONTH(OctSun1+27)=10),OctSun1+27,""),IF(AND(YEAR(OctSun1+34)=CalendarYear,MONTH(OctSun1+34)=10),OctSun1+34,"")) -> 45961 | AJ50: =IF(DAY(OctSun1)=1,IF(AND(YEAR(OctSun1+28)=CalendarYear,MONTH(OctSun1+28)=10),OctSun1+28,""),IF(AND(YEAR(OctSun1+35)=CalendarYear,MONTH(OctSun1+35)=10),OctSun1+35,"")) | AK50: =IF(DAY(OctSun1)=1,IF(AND(YEAR(OctSun1+29)=CalendarYear,MONTH(OctSun1+29)=10),OctSun1+29,""),IF(AND(YEAR(OctSun1+36)=CalendarYear,MONTH(OctSun1+36)=10),OctSun1+36,"")) | AL50: =IF(DAY(OctSun1)=1,IF(AND(YEAR(OctSun1+30)=CalendarYear,MONTH(OctSun1+30)=10),OctSun1+30,""),IF(AND(YEAR(OctSun1+37)=CalendarYear,MONTH(OctSun1+37)=10),OctSun1+37,""))
B51: Di | C51: Lu | D51: Ma | E51: Me | F51: Je | G51: Ve | H51: Sa | I51: Di | J51: Lu | K51: Ma | L51: Me | M51: Je | N51: Ve | O51: Sa | P51: Di | Q51: Lu | R51: Ma | S51: Me | T51: Je | U51: Ve | V51: Sa | W51: Di | X51: Lu | Y51: Ma | Z51: Me | AA51: Je | AB51: Ve | AC51: Sa | AD51: Di | AE51: Lu | AF51: Ma | AG51: Me | AH51: Je | AI51: Ve | AJ51: Sa | AK51: Di | AL51: Lu
A52: Machine | B52: =IFERROR(IF(VLOOKUP(B50,'TABLEAU MACHINE'!$E:$E,1,FALSE),"Y",0),"") | C52: =IFERROR(IF(VLOOKUP(C50,'TABLEAU MACHINE'!$E:$E,1,FALSE),"Y",0),"") | D52: =IFERROR(IF(VLOOKUP(D50,'TABLEAU MACHINE'!$E:$E,1,FALSE),"Y",0),"") | E52: =IFERROR(IF(VLOOKUP(E50,'TABLEAU MACHINE'!$E:$E,1,FALSE),"Y",0),"") | F52: =IFERROR(IF(VLOOKUP(F50,'TABLEAU MACHINE'!$E:$E,1,FALSE),"Y",0),"") | G52: =IFERROR(IF(VLOOKUP(G50,'TABLEAU MACHINE'!$E:$E,1,FALSE),"Y",0),"") | H52: =IFERROR(IF(VLOOKUP(H50,'TABLEAU MACHINE'!$E:$E,1,FALSE),"Y",0),"") | I52: =IFERROR(IF(VLOOKUP(I50,'TABLEAU MACHINE'!$E:$E,1,FALSE),"Y",0),"") | ... AL52: =IFERROR(IF(VLOOKUP(AL50,'TABLEAU MACHINE'!$E:$E,1,FALSE),"Y",0),"")
A53: Personnel | X53: 0 | Y53: 0 | Z53: 0 | AA53: 0 | AB53: 0 | AC53: 0 | AD53: 0
A54: =DATE(CalendarYear,11,1) -> 45962 | B54: =IFERROR((WEEKNUM(B55)),"") | C54: =IFERROR((WEEKNUM(C55)),"") | D54: =IFERROR((WEEKNUM(D55)),"") | E54: =IFERROR((WEEKNUM(E55)),"") | F54: =IFERROR((WEEKNUM(F55)),"") | G54: =IFERROR((WEEKNUM(G55)),"") | H54: =IFERROR((WEEKNUM(H55)),"") -> 44 | I54: =IFERROR((WEEKNUM(I55)),"") -> 45 | ... AL54: =IFERROR((WEEKNUM(AL55)),"")
B55: =IF(DAY(NovSun1)=1,"",IF(AND(YEAR(NovSun1+1)=CalendarYear,MONTH(NovSun1+1)=11),NovSun1+1,"")) | C55: =IF(DAY(NovSun1)=1,"",IF(AND(YEAR(NovSun1+2)=CalendarYear,MONTH(NovSun1+2)=11),NovSun1+2,"")) | D55: =IF(DAY(NovSun1)=1,"",IF(AND(YEAR(NovSun1+3)=CalendarYear,MONTH(NovSun1+3)=11),NovSun1+3,"")) | E55: =IF(DAY(NovSun1)=1,"",IF(AND(YEAR(NovSun1+4)=CalendarYear,MONTH(NovSun1+4)=11),NovSun1+4,"")) | F55: =IF(DAY(NovSun1)=1,"",IF(AND(YEAR(NovSun1+5)=CalendarYear,MONTH(NovSun1+5)=11),NovSun1+5,"")) | G55: =IF(DAY(NovSun1)=1,"",IF(AND(YEAR(NovSun1+6)=CalendarYear,MONTH(NovSun1+6)=11),NovSun1+6,"")) | H55: =IF(DAY(NovSun1)=1,IF(AND(YEAR(NovSun1)=CalendarYear,MONTH(NovSun1)=11),NovSun1,""),IF(AND(YEAR(NovSun1+7)=CalendarYear,MONTH(NovSun1+7)=11),NovSun1+7,"")) -> 45962 | I55: =IF(DAY(NovSun1)=1,IF(AND(YEAR(NovSun1+1)=CalendarYear,MONTH(NovSun1+1)=11),NovSun1+1,""),IF(AND(YEAR(NovSun1+8)=CalendarYear,MONTH(NovSun1+8)=11),NovSun1+8,"")) -> 45963 | J55: =IF(DAY(NovSun1)=1,IF(AND(YEAR(NovSun1+2)=CalendarYear,MONTH(NovSun1+2)=11),NovSun1+2,""),IF(AND(YEAR(NovSun1+9)=CalendarYear,MONTH(NovSun1+9)=11),NovSun1+9,"")) -> 45964 | K55: =IF(DAY(NovSun1)=1,IF(AND(YEAR(NovSun1+3)=CalendarYear,MONTH(NovSun1+3)=11),NovSun1+3,""),IF(AND(YEAR(NovSun1+10)=CalendarYear,MONTH(NovSun1+10)=11),NovSun1+10,"")) -> 45965 | L55: =IF(DAY(NovSun1)=1,IF(AND(YEAR(NovSun1+4)=CalendarYear,MONTH(NovSun1+4)=11),NovSun1+4,""),IF(AND(YEAR(NovSun1+11)=CalendarYear,MONTH(NovSun1+11)=11),NovSun1+11,"")) -> 45966 | M55: =IF(DAY(NovSun1)=1,IF(AND(YEAR(NovSun1+5)=CalendarYear,MONTH(NovSun1+5)=11),NovSun1+5,""),IF(AND(YEAR(NovSun1+12)=CalendarYear,MONTH(NovSun1+12)=11),NovSun1+12,"")) -> 45967 | N55: =IF(DAY(NovSun1)=1,IF(AND(YEAR(NovSun1+6)=CalendarYear,MONTH(NovSun1+6)=11),NovSun1+6,""),IF(AND(YEAR(NovSun1+13)=CalendarYear,MONTH(NovSun1+13)=11),NovSun1+13,"")) -> 45968 | O55: =IF(DAY(NovSun1)=1,IF(AND(YEAR(NovSun1+7)=CalendarYear,MONTH(NovSun1+7)=11),NovSun1+7,""),IF(AND(YEAR(NovSun1+14)=CalendarYear,MONTH(NovSun1+14)=11),NovSun1+14,"")) -> 45969 | P55: =IF(DAY(NovSun1)=1,IF(AND(YEAR(NovSun1+8)=CalendarYear,MONTH(NovSun1+8)=11),NovSun1+8,""),IF(AND(YEAR(NovSun1+15)=CalendarYear,MONTH(NovSun1+15)=11),NovSun1+15,"")) -> 45970 | Q55: =IF(DAY(NovSun1)=1,IF(AND(YEAR(NovSun1+9)=CalendarYear,MONTH(NovSun1+9)=11),NovSun1+9,""),IF(AND(YEAR(NovSun1+16)=CalendarYear,MONTH(NovSun1+16)=11),NovSun1+16,"")) -> 45971 | R55: =IF(DAY(NovSun1)=1,IF(AND(YEAR(NovSun1+10)=CalendarYear,MONTH(NovSun1+10)=11),NovSun1+10,""),IF(AND(YEAR(NovSun1+17)=CalendarYear,MONTH(NovSun1+17)=11),NovSun1+17,"")) -> 45972 | S55: =IF(DAY(NovSun1)=1,IF(AND(YEAR(NovSun1+11)=CalendarYear,MONTH(NovSun1+11)=11),NovSun1+11,""),IF(AND(YEAR(NovSun1+18)=CalendarYear,MONTH(NovSun1+18)=11),NovSun1+18,"")) -> 45973 | T55: =IF(DAY(NovSun1)=1,IF(AND(YEAR(NovSun1+12)=CalendarYear,MONTH(NovSun1+12)=11),NovSun1+12,""),IF(AND(YEAR(NovSun1+19)=CalendarYear,MONTH(NovSun1+19)=11),NovSun1+19,"")) -> 45974 | U55: =IF(DAY(NovSun1)=1,IF(AND(YEAR(NovSun1+13)=CalendarYear,MONTH(NovSun1+13)=11),NovSun1+13,""),IF(AND(YEAR(NovSun1+20)=CalendarYear,MONTH(NovSun1+20)=11),NovSun1+20,"")) -> 45975 | V55: =IF(DAY(NovSun1)=1,IF(AND(YEAR(NovSun1+14)=CalendarYear,MONTH(NovSun1+14)=11),NovSun1+14,""),IF(AND(YEAR(NovSun1+21)=CalendarYear,MONTH(NovSun1+21)=11),NovSun1+21,"")) -> 45976 | W55: =IF(DAY(NovSun1)=1,IF(AND(YEAR(NovSun1+15)=CalendarYear,MONTH(NovSun1+15)=11),NovSun1+15,""),IF(AND(YEAR(NovSun1+22)=CalendarYear,MONTH(NovSun1+22)=11),NovSun1+22,"")) -> 45977 | X55: =IF(DAY(NovSun1)=1,IF(AND(YEAR(NovSun1+16)=CalendarYear,MONTH(NovSun1+16)=11),NovSun1+16,""),IF(AND(YEAR(NovSun1+23)=CalendarYear,MONTH(NovSun1+23)=11),NovSun1+23,"")) -> 45978 | Y55: =IF(DAY(NovSun1)=1,IF(AND(YEAR(NovSun1+17)=CalendarYear,MONTH(NovSun1+17)=11),NovSun1+17,""),IF(AND(YEAR(NovSun1+24)=CalendarYear,MONTH(NovSun1+24)=11),NovSun1+24,"")) -> 45979 | Z55: =IF(DAY(NovSun1)=1,IF(AND(YEAR(NovSun1+18)=CalendarYear,MONTH(NovSun1+18)=11),NovSun1+18,""),IF(AND(YEAR(NovSun1+25)=CalendarYear,MONTH(NovSun1+25)=11),NovSun1+25,"")) -> 45980 | AA55: =IF(DAY(NovSun1)=1,IF(AND(YEAR(NovSun1+19)=CalendarYear,MONTH(NovSun1+19)=11),NovSun1+19,""),IF(AND(YEAR(NovSun1+26)=CalendarYear,MONTH(NovSun1+26)=11),NovSun1+26,"")) -> 45981 | AB55: =IF(DAY(NovSun1)=1,IF(AND(YEAR(NovSun1+20)=CalendarYear,MONTH(NovSun1+20)=11),NovSun1+20,""),IF(AND(YEAR(NovSun1+27)=CalendarYear,MONTH(NovSun1+27)=11),NovSun1+27,"")) -> 45982 | AC55: =IF(DAY(NovSun1)=1,IF(AND(YEAR(NovSun1+21)=CalendarYear,MONTH(NovSun1+21)=11),NovSun1+21,""),IF(AND(YEAR(NovSun1+28)=CalendarYear,MONTH(NovSun1+28)=11),NovSun1+28,"")) -> 45983 | AD55: =IF(DAY(NovSun1)=1,IF(AND(YEAR(NovSun1+22)=CalendarYear,MONTH(NovSun1+22)=11),NovSun1+22,""),IF(AND(YEAR(NovSun1+29)=CalendarYear,MONTH(NovSun1+29)=11),NovSun1+29,"")) -> 45984 | AE55: =IF(DAY(NovSun1)=1,IF(AND(YEAR(NovSun1+23)=CalendarYear,MONTH(NovSun1+23)=11),NovSun1+23,""),IF(AND(YEAR(NovSun1+30)=CalendarYear,MONTH(NovSun1+30)=11),NovSun1+30,"")) -> 45985 | AF55: =IF(DAY(NovSun1)=1,IF(AND(YEAR(NovSun1+24)=CalendarYear,MONTH(NovSun1+24)=11),NovSun1+24,""),IF(AND(YEAR(NovSun1+31)=CalendarYear,MONTH(NovSun1+31)=11),NovSun1+31,"")) -> 45986 | AG55: =IF(DAY(NovSun1)=1,IF(AND(YEAR(NovSun1+25)=CalendarYear,MONTH(NovSun1+25)=11),NovSun1+25,""),IF(AND(YEAR(NovSun1+32)=CalendarYear,MONTH(NovSun1+32)=11),NovSun1+32,"")) -> 45987 | AH55: =IF(DAY(NovSun1)=1,IF(AND(YEAR(NovSun1+26)=CalendarYear,MONTH(NovSun1+26)=11),NovSun1+26,""),IF(AND(YEAR(NovSun1+33)=CalendarYear,MONTH(NovSun1+33)=11),NovSun1+33,"")) -> 45988 | AI55: =IF(DAY(NovSun1)=1,IF(AND(YEAR(NovSun1+27)=CalendarYear,MONTH(NovSun1+27)=11),NovSun1+27,""),IF(AND(YEAR(NovSun1+34)=CalendarYear,MONTH(NovSun1+34)=11),NovSun1+34,"")) -> 45989 | AJ55: =IF(DAY(NovSun1)=1,IF(AND(YEAR(NovSun1+28)=CalendarYear,MONTH(NovSun1+28)=11),NovSun1+28,""),IF(AND(YEAR(NovSun1+35)=CalendarYear,MONTH(NovSun1+35)=11),NovSun1+35,"")) -> 45990 | AK55: =IF(DAY(NovSun1)=1,IF(AND(YEAR(NovSun1+29)=CalendarYear,MONTH(NovSun1+29)=11),NovSun1+29,""),IF(AND(YEAR(NovSun1+36)=CalendarYear,MONTH(NovSun1+36)=11),NovSun1+36,"")) -> 45991 | AL55: =IF(DAY(NovSun1)=1,IF(AND(YEAR(NovSun1+30)=CalendarYear,MONTH(NovSun1+30)=11),NovSun1+30,""),IF(AND(YEAR(NovSun1+37)=CalendarYear,MONTH(NovSun1+37)=11),NovSun1+37,""))
B56: Di | C56: Lu | D56: Ma | E56: Me | F56: Je | G56: Ve | H56: Sa | I56: Di | J56: Lu | K56: Ma | L56: Me | M56: Je | N56: Ve | O56: Sa | P56: Di | Q56: Lu | R56: Ma | S56: Me | T56: Je | U56: Ve | V56: Sa | W56: Di | X56: Lu | Y56: Ma | Z56: Me | AA56: Je | AB56: Ve | AC56: Sa | AD56: Di | AE56: Lu | AF56: Ma | AG56: Me | AH56: Je | AI56: Ve | AJ56: Sa | AK56: Di | AL56: Lu
A57: Machine | B57: =IFERROR(IF(VLOOKUP(B55,'TABLEAU MACHINE'!$E:$E,1,FALSE),"Y",0),"") | C57: =IFERROR(IF(VLOOKUP(C55,'TABLEAU MACHINE'!$E:$E,1,FALSE),"Y",0),"") | D57: =IFERROR(IF(VLOOKUP(D55,'TABLEAU MACHINE'!$E:$E,1,FALSE),"Y",0),"") | E57: =IFERROR(IF(VLOOKUP(E55,'TABLEAU MACHINE'!$E:$E,1,FALSE),"Y",0),"") | F57: =IFERROR(IF(VLOOKUP(F55,'TABLEAU MACHINE'!$E:$E,1,FALSE),"Y",0),"") | G57: =IFERROR(IF(VLOOKUP(G55,'TABLEAU MACHINE'!$E:$E,1,FALSE),"Y",0),"") | H57: =IFERROR(IF(VLOOKUP(H55,'TABLEAU MACHINE'!$E:$E,1,FALSE),"Y",0),"") | I57: =IFERROR(IF(VLOOKUP(I55,'TABLEAU MACHINE'!$E:$E,1,FALSE),"Y",0),"") | ... AL57: =IFERROR(IF(VLOOKUP(AL55,'TABLEAU MACHINE'!$E:$E,1,FALSE),"Y",0),"")
A58: Personnel | R58: C
A59: =DATE(CalendarYear,12,1) -> 45992 | B59: =IFERROR((WEEKNUM(B60)),"") | C59: =IFERROR((WEEKNUM(C60)),"") -> 49 | D59: =IFERROR((WEEKNUM(D60)),"") -> 49 | E59: =IFERROR((WEEKNUM(E60)),"") -> 49 | F59: =IFERROR((WEEKNUM(F60)),"") -> 49 | G59: =IFERROR((WEEKNUM(G60)),"") -> 49 | H59: =IFERROR((WEEKNUM(H60)),"") -> 49 | I59: =IFERROR((WEEKNUM(I60)),"") -> 50 | ... AL59: =IFERROR((WEEKNUM(AL60)),"")
B60: =IF(DAY(DecSun1)=1,"",IF(AND(YEAR(DecSun1+1)=CalendarYear,MONTH(DecSun1+1)=12),DecSun1+1,"")) | C60: =IF(DAY(DecSun1)=1,"",IF(AND(YEAR(DecSun1+2)=CalendarYear,MONTH(DecSun1+2)=12),DecSun1+2,"")) -> 45992 | D60: =IF(DAY(DecSun1)=1,"",IF(AND(YEAR(DecSun1+3)=CalendarYear,MONTH(DecSun1+3)=12),DecSun1+3,"")) -> 45993 | E60: =IF(DAY(DecSun1)=1,"",IF(AND(YEAR(DecSun1+4)=CalendarYear,MONTH(DecSun1+4)=12),DecSun1+4,"")) -> 45994 | F60: =IF(DAY(DecSun1)=1,"",IF(AND(YEAR(DecSun1+5)=CalendarYear,MONTH(DecSun1+5)=12),DecSun1+5,"")) -> 45995 | G60: =IF(DAY(DecSun1)=1,"",IF(AND(YEAR(DecSun1+6)=CalendarYear,MONTH(DecSun1+6)=12),DecSun1+6,"")) -> 45996 | H60: =IF(DAY(DecSun1)=1,IF(AND(YEAR(DecSun1)=CalendarYear,MONTH(DecSun1)=12),DecSun1,""),IF(AND(YEAR(DecSun1+7)=CalendarYear,MONTH(DecSun1+7)=12),DecSun1+7,"")) -> 45997 | I60: =IF(DAY(DecSun1)=1,IF(AND(YEAR(DecSun1+1)=CalendarYear,MONTH(DecSun1+1)=12),DecSun1+1,""),IF(AND(YEAR(DecSun1+8)=CalendarYear,MONTH(DecSun1+8)=12),DecSun1+8,"")) -> 45998 | J60: =IF(DAY(DecSun1)=1,IF(AND(YEAR(DecSun1+2)=CalendarYear,MONTH(DecSun1+2)=12),DecSun1+2,""),IF(AND(YEAR(DecSun1+9)=CalendarYear,MONTH(DecSun1+9)=12),DecSun1+9,"")) -> 45999 | K60: =IF(DAY(DecSun1)=1,IF(AND(YEAR(DecSun1+3)=CalendarYear,MONTH(DecSun1+3)=12),DecSun1+3,""),IF(AND(YEAR(DecSun1+10)=CalendarYear,MONTH(DecSun1+10)=12),DecSun1+10,"")) -> 46000 | L60: =IF(DAY(DecSun1)=1,IF(AND(YEAR(DecSun1+4)=CalendarYear,MONTH(DecSun1+4)=12),DecSun1+4,""),IF(AND(YEAR(DecSun1+11)=CalendarYear,MONTH(DecSun1+11)=12),DecSun1+11,"")) -> 46001 | M60: =IF(DAY(DecSun1)=1,IF(AND(YEAR(DecSun1+5)=CalendarYear,MONTH(DecSun1+5)=12),DecSun1+5,""),IF(AND(YEAR(DecSun1+12)=CalendarYear,MONTH(DecSun1+12)=12),DecSun1+12,"")) -> 46002 | N60: =IF(DAY(DecSun1)=1,IF(AND(YEAR(DecSun1+6)=CalendarYear,MONTH(DecSun1+6)=12),DecSun1+6,""),IF(AND(YEAR(DecSun1+13)=CalendarYear,MONTH(DecSun1+13)=12),DecSun1+13,"")) -> 46003 | O60: =IF(DAY(DecSun1)=1,IF(AND(YEAR(DecSun1+7)=CalendarYear,MONTH(DecSun1+7)=12),DecSun1+7,""),IF(AND(YEAR(DecSun1+14)=CalendarYear,MONTH(DecSun1+14)=12),DecSun1+14,"")) -> 46004 | P60: =IF(DAY(DecSun1)=1,IF(AND(YEAR(DecSun1+8)=CalendarYear,MONTH(DecSun1+8)=12),DecSun1+8,""),IF(AND(YEAR(DecSun1+15)=CalendarYear,MONTH(DecSun1+15)=12),DecSun1+15,"")) -> 46005 | Q60: =IF(DAY(DecSun1)=1,IF(AND(YEAR(DecSun1+9)=CalendarYear,MONTH(DecSun1+9)=12),DecSun1+9,""),IF(AND(YEAR(DecSun1+16)=CalendarYear,MONTH(DecSun1+16)=12),DecSun1+16,"")) -> 46006 | R60: =IF(DAY(DecSun1)=1,IF(AND(YEAR(DecSun1+10)=CalendarYear,MONTH(DecSun1+10)=12),DecSun1+10,""),IF(AND(YEAR(DecSun1+17)=CalendarYear,MONTH(DecSun1+17)=12),DecSun1+17,"")) -> 46007 | S60: =IF(DAY(DecSun1)=1,IF(AND(YEAR(DecSun1+11)=CalendarYear,MONTH(DecSun1+11)=12),DecSun1+11,""),IF(AND(YEAR(DecSun1+18)=CalendarYear,MONTH(DecSun1+18)=12),DecSun1+18,"")) -> 46008 | T60: =IF(DAY(DecSun1)=1,IF(AND(YEAR(DecSun1+12)=CalendarYear,MONTH(DecSun1+12)=12),DecSun1+12,""),IF(AND(YEAR(DecSun1+19)=CalendarYear,MONTH(DecSun1+19)=12),DecSun1+19,"")) -> 46009 | U60: =IF(DAY(DecSun1)=1,IF(AND(YEAR(DecSun1+13)=CalendarYear,MONTH(DecSun1+13)=12),DecSun1+13,""),IF(AND(YEAR(DecSun1+20)=CalendarYear,MONTH(DecSun1+20)=12),DecSun1+20,"")) -> 46010 | V60: =IF(DAY(DecSun1)=1,IF(AND(YEAR(DecSun1+14)=CalendarYear,MONTH(DecSun1+14)=12),DecSun1+14,""),IF(AND(YEAR(DecSun1+21)=CalendarYear,MONTH(DecSun1+21)=12),DecSun1+21,"")) -> 46011 | W60: =IF(DAY(DecSun1)=1,IF(AND(YEAR(DecSun1+15)=CalendarYear,MONTH(DecSun1+15)=12),DecSun1+15,""),IF(AND(YEAR(DecSun1+22)=CalendarYear,MONTH(DecSun1+22)=12),DecSun1+22,"")) -> 46012 | X60: =IF(DAY(DecSun1)=1,IF(AND(YEAR(DecSun1+16)=CalendarYear,MONTH(DecSun1+16)=12),DecSun1+16,""),IF(AND(YEAR(DecSun1+23)=CalendarYear,MONTH(DecSun1+23)=12),DecSun1+23,"")) -> 46013 | Y60: =IF(DAY(DecSun1)=1,IF(AND(YEAR(DecSun1+17)=CalendarYear,MONTH(DecSun1+17)=12),DecSun1+17,""),IF(AND(YEAR(DecSun1+24)=CalendarYear,MONTH(DecSun1+24)=12),DecSun1+24,"")) -> 46014 | Z60: =IF(DAY(DecSun1)=1,IF(AND(YEAR(DecSun1+18)=CalendarYear,MONTH(DecSun1+18)=12),DecSun1+18,""),IF(AND(YEAR(DecSun1+25)=CalendarYear,MONTH(DecSun1+25)=12),DecSun1+25,"")) -> 46015 | AA60: =IF(DAY(DecSun1)=1,IF(AND(YEAR(DecSun1+19)=CalendarYear,MONTH(DecSun1+19)=12),DecSun1+19,""),IF(AND(YEAR(DecSun1+26)=CalendarYear,MONTH(DecSun1+26)=12),DecSun1+26,"")) -> 46016 | AB60: =IF(DAY(DecSun1)=1,IF(AND(YEAR(DecSun1+20)=CalendarYear,MONTH(DecSun1+20)=12),DecSun1+20,""),IF(AND(YEAR(DecSun1+27)=CalendarYear,MONTH(DecSun1+27)=12),DecSun1+27,"")) -> 46017 | AC60: =IF(DAY(DecSun1)=1,IF(AND(YEAR(DecSun1+21)=CalendarYear,MONTH(DecSun1+21)=12),DecSun1+21,""),IF(AND(YEAR(DecSun1+28)=CalendarYear,MONTH(DecSun1+28)=12),DecSun1+28,"")) -> 46018 | AD60: =IF(DAY(DecSun1)=1,IF(AND(YEAR(DecSun1+22)=CalendarYear,MONTH(DecSun1+22)=12),DecSun1+22,""),IF(AND(YEAR(DecSun1+29)=CalendarYear,MONTH(DecSun1+29)=12),DecSun1+29,"")) -> 46019 | AE60: =IF(DAY(DecSun1)=1,IF(AND(YEAR(DecSun1+23)=CalendarYear,MONTH(DecSun1+23)=12),DecSun1+23,""),IF(AND(YEAR(DecSun1+30)=CalendarYear,MONTH(DecSun1+30)=12),DecSun1+30,"")) -> 46020 | AF60: =IF(DAY(DecSun1)=1,IF(AND(YEAR(DecSun1+24)=CalendarYear,MONTH(DecSun1+24)=12),DecSun1+24,""),IF(AND(YEAR(DecSun1+31)=CalendarYear,MONTH(DecSun1+31)=12),DecSun1+31,"")) -> 46021 | AG60: =IF(DAY(DecSun1)=1,IF(AND(YEAR(DecSun1+25)=CalendarYear,MONTH(DecSun1+25)=12),DecSun1+25,""),IF(AND(YEAR(DecSun1+32)=CalendarYear,MONTH(DecSun1+32)=12),DecSun1+32,"")) -> 46022 | AH60: =IF(DAY(DecSun1)=1,IF(AND(YEAR(DecSun1+26)=CalendarYear,MONTH(DecSun1+26)=12),DecSun1+26,""),IF(AND(YEAR(DecSun1+33)=CalendarYear,MONTH(DecSun1+33)=12),DecSun1+33,"")) | AI60: =IF(DAY(DecSun1)=1,IF(AND(YEAR(DecSun1+27)=CalendarYear,MONTH(DecSun1+27)=12),DecSun1+27,""),IF(AND(YEAR(DecSun1+34)=CalendarYear,MONTH(DecSun1+34)=12),DecSun1+34,"")) | AJ60: =IF(DAY(DecSun1)=1,IF(AND(YEAR(DecSun1+28)=CalendarYear,MONTH(DecSun1+28)=12),DecSun1+28,""),IF(AND(YEAR(DecSun1+35)=CalendarYear,MONTH(DecSun1+35)=12),DecSun1+35,"")) | AK60: =IF(DAY(DecSun1)=1,IF(AND(YEAR(DecSun1+29)=CalendarYear,MONTH(DecSun1+29)=12),DecSun1+29,""),IF(AND(YEAR(DecSun1+36)=CalendarYear,MONTH(DecSun1+36)=12),DecSun1+36,"")) | AL60: =IF(DAY(DecSun1)=1,IF(AND(YEAR(DecSun1+30)=CalendarYear,MONTH(DecSun1+30)=12),DecSun1+30,""),IF(AND(YEAR(DecSun1+37)=CalendarYear,MONTH(DecSun1+37)=12),DecSun1+37,""))
B61: Di | C61: Lu | D61: Ma | E61: Me | F61: Je | G61: Ve | H61: Sa | I61: Di | J61: Lu | K61: Ma | L61: Me | M61: Je | N61: Ve | O61: Sa | P61: Di | Q61: Lu | R61: Ma | S61: Me | T61: Je | U61: Ve | V61: Sa | W61: Di | X61: Lu | Y61: Ma | Z61: Me | AA61: Je | AB61: Ve | AC61: Sa | AD61: Di | AE61: Lu | AF61: Ma | AG61: Me | AH61: Je | AI61: Ve | AJ61: Sa | AK61: Di | AL61: Lu
A62: Machine | B62: =IFERROR(IF(VLOOKUP(B60,'TABLEAU MACHINE'!$E:$E,1,FALSE),"Y",0),"") | C62: =IFERROR(IF(VLOOKUP(C60,'TABLEAU MACHINE'!$E:$E,1,FALSE),"Y",0),"") | D62: =IFERROR(IF(VLOOKUP(D60,'TABLEAU MACHINE'!$E:$E,1,FALSE),"Y",0),"") | E62: =IFERROR(IF(VLOOKUP(E60,'TABLEAU MACHINE'!$E:$E,1,FALSE),"Y",0),"") | F62: =IFERROR(IF(VLOOKUP(F60,'TABLEAU MACHINE'!$E:$E,1,FALSE),"Y",0),"") | G62: =IFERROR(IF(VLOOKUP(G60,'TABLEAU MACHINE'!$E:$E,1,FALSE),"Y",0),"") | H62: =IFERROR(IF(VLOOKUP(H60,'TABLEAU MACHINE'!$E:$E,1,FALSE),"Y",0),"") | I62: =IFERROR(IF(VLOOKUP(I60,'TABLEAU MACHINE'!$E:$E,1,FALSE),"Y",0),"") | ... AL62: =IFERROR(IF(VLOOKUP(AL60,'TABLEAU MACHINE'!$E:$E,1,FALSE),"Y",0),"")
A63: Personnel | AA63: C | AB63: C | AC63: C | AD63: C | AE63: C | AF63: C | AG63: C

Sheet TABLEAU MACHINE
B2: PLANNING ANNUEL DE VERIFICATION DE MACHINE
B3: N° SERIE | C3: REFERENCE | D3: PAYS / AGENT / CLIENT | E3: DATE | F3: TECH | G3: COM
B4: 000001 | C4: MACHINE 01 | D4: FRANCE / PARIS | E4: 45663 | F4: TECH 1 | G4: COM 1
B5: 000002 | C5: MACHINE 02 | D5: ETATS UNIS / NEW YORK | E5: 45678 | F5: TECH 2 | G5: COM 2
B6: 000003 | C6: MACHINE 03 | D6: CHINE / SHANGHAI | E6: 45678 | F6: TECH 3 | G6: COM 3
B7: 000004 | C7: MACHINE 04 | D7: BRESIL / RIO | E7: 45677 | F7: TECH 4 | G7: COM 4

Sheet TABLEAU PERSONNEL
B2: PLANNING ANNUEL DEPLACEMENT
B3: MOTIF | C3: PAYS / VILLE | D3: DEBUT | E3: FIN | F3: DUREE
B4: DEPLACEMENT 1 | C4: FRANCE / PARIS | D4: 45679 | E4: 45680 | F4: =IF(E4-D4=0,"",E4-D4+1) -> 2
B5: DEPLACEMENT 2 | C5: ETATS UNIS / NEW YORK | D5: 45710 | E5: 45717 | F5: =IF(E5-D5=0,"",E5-D5+1) -> 8
B6: DEPLACEMENT 3 | C6: CHINE / SHANGHAI | D6: 45733 | E6: 45738 | F6: =IF(E6-D6=0,"",E6-D6+1) -> 6
B7: DEPLACEMENT 4 | C7: BRESIL / RIO | D7: 45761 | E7: 45766 | F7: =IF(E7-D7=0,"",E7-D7+1) -> 6
F8: =IF(E8-D8=0,"",E8-D8+1)
F9: =IF(E9-D9=0,"",E9-D9+1)
F10: =IF(E10-D10=0,"",E10-D10+1)
F11: =IF(E11-D11=0,"",E11-D11+1)
F12: =IF(E12-D12=0,"",E12-D12+1)
F13: =IF(E13-D13=0,"",E13-D13+1)
F14: =IF(E14-D14=0,"",E14-D14+1)
F15: =IF(E15-D15=0,"",E15-D15+1)
F16: =IF(E16-D16=0,"",E16-D16+1)
F17: =IF(E17-D17=0,"",E17-D17+1)
F18: =IF(E18-D18=0,"",E18-D18+1)
F19: =IF(E19-D19=0,"",E19-D19+1)
... F37: =IF(E37-D37=0,"",E37-D37+1)

Sheet TABLEAU PERSONNEL D ETAT
A1: PLANNING PERSONNEL | AG1: =CalendarYear -> 2025
A2: Motif | B2: C | C2: Congé | F2: T | G2: Télétravail | J2: Y | K2: MAD machine | O2: Déplacement
A4: =DATE(CalendarYear,1,1) -> 45658 | B4: =IFERROR((WEEKNUM(B5)),"") | C4: =IFERROR((WEEKNUM(C5)),"") | D4: =IFERROR((WEEKNUM(D5)),"") | E4: =IFERROR((WEEKNUM(E5)),"") -> 1 | F4: =IFERROR((WEEKNUM(F5)),"") -> 1 | G4: =IFERROR((WEEKNUM(G5)),"") -> 1 | H4: =IFERROR((WEEKNUM(H5)),"") -> 1 | I4: =IFERROR((WEEKNUM(I5)),"") -> 2 | ... AL4: =IFERROR((WEEKNUM(AL5)),"")
B5: =IF(DAY(JanSun1)=1,"",IF(AND(YEAR(JanSun1+1)=CalendarYear,MONTH(JanSun1+1)=1),JanSun1+1,"")) | C5: =IF(DAY(JanSun1)=1,"",IF(AND(YEAR(JanSun1+2)=CalendarYear,MONTH(JanSun1+2)=1),JanSun1+2,"")) | D5: =IF(DAY(JanSun1)=1,"",IF(AND(YEAR(JanSun1+3)=CalendarYear,MONTH(JanSun1+3)=1),JanSun1+3,"")) | E5: =IF(DAY(JanSun1)=1,"",IF(AND(YEAR(JanSun1+4)=CalendarYear,MONTH(JanSun1+4)=1),JanSun1+4,"")) -> 45658 | F5: =IF(DAY(JanSun1)=1,"",IF(AND(YEAR(JanSun1+5)=CalendarYear,MONTH(JanSun1+5)=1),JanSun1+5,"")) -> 45659 | G5: =IF(DAY(JanSun1)=1,"",IF(AND(YEAR(JanSun1+6)=CalendarYear,MONTH(JanSun1+6)=1),JanSun1+6,"")) -> 45660 | H5: =IF(DAY(JanSun1)=1,IF(AND(YEAR(JanSun1)=CalendarYear,MONTH(JanSun1)=1),JanSun1,""),IF(AND(YEAR(JanSun1+7)=CalendarYear,MONTH(JanSun1+7)=1),JanSun1+7,"")) -> 45661 | I5: =IF(DAY(JanSun1)=1,IF(AND(YEAR(JanSun1+1)=CalendarYear,MONTH(JanSun1+1)=1),JanSun1+1,""),IF(AND(YEAR(JanSun1+8)=CalendarYear,MONTH(JanSun1+8)=1),JanSun1+8,"")) -> 45662 | J5: =IF(DAY(JanSun1)=1,IF(AND(YEAR(JanSun1+2)=CalendarYear,MONTH(JanSun1+2)=1),JanSun1+2,""),IF(AND(YEAR(JanSun1+9)=CalendarYear,MONTH(JanSun1+9)=1),JanSun1+9,"")) -> 45663 | K5: =IF(DAY(JanSun1)=1,IF(AND(YEAR(JanSun1+3)=CalendarYear,MONTH(JanSun1+3)=1),JanSun1+3,""),IF(AND(YEAR(JanSun1+10)=CalendarYear,MONTH(JanSun1+10)=1),JanSun1+10,"")) -> 45664 | L5: =IF(DAY(JanSun1)=1,IF(AND(YEAR(JanSun1+4)=CalendarYear,MONTH(JanSun1+4)=1),JanSun1+4,""),IF(AND(YEAR(JanSun1+11)=CalendarYear,MONTH(JanSun1+11)=1),JanSun1+11,"")) -> 45665 | M5: =IF(DAY(JanSun1)=1,IF(AND(YEAR(JanSun1+5)=CalendarYear,MONTH(JanSun1+5)=1),JanSun1+5,""),IF(AND(YEAR(JanSun1+12)=CalendarYear,MONTH(JanSun1+12)=1),JanSun1+12,"")) -> 45666 | N5: =IF(DAY(JanSun1)=1,IF(AND(YEAR(JanSun1+6)=CalendarYear,MONTH(JanSun1+6)=1),JanSun1+6,""),IF(AND(YEAR(JanSun1+13)=CalendarYear,MONTH(JanSun1+13)=1),JanSun1+13,"")) -> 45667 | O5: =IF(DAY(JanSun1)=1,IF(AND(YEAR(JanSun1+7)=CalendarYear,MONTH(JanSun1+7)=1),JanSun1+7,""),IF(AND(YEAR(JanSun1+14)=CalendarYear,MONTH(JanSun1+14)=1),JanSun1+14,"")) -> 45668 | P5: =IF(DAY(JanSun1)=1,IF(AND(YEAR(JanSun1+8)=CalendarYear,MONTH(JanSun1+8)=1),JanSun1+8,""),IF(AND(YEAR(JanSun1+15)=CalendarYear,MONTH(JanSun1+15)=1),JanSun1+15,"")) -> 45669 | Q5: =IF(DAY(JanSun1)=1,IF(AND(YEAR(JanSun1+9)=CalendarYear,MONTH(JanSun1+9)=1),JanSun1+9,""),IF(AND(YEAR(JanSun1+16)=CalendarYear,MONTH(JanSun1+16)=1),JanSun1+16,"")) -> 45670 | R5: =IF(DAY(JanSun1)=1,IF(AND(YEAR(JanSun1+10)=CalendarYear,MONTH(JanSun1+10)=1),JanSun1+10,""),IF(AND(YEAR(JanSun1+17)=CalendarYear,MONTH(JanSun1+17)=1),JanSun1+17,"")) -> 45671 | S5: =IF(DAY(JanSun1)=1,IF(AND(YEAR(JanSun1+11)=CalendarYear,MONTH(JanSun1+11)=1),JanSun1+11,""),IF(AND(YEAR(JanSun1+18)=CalendarYear,MONTH(JanSun1+18)=1),JanSun1+18,"")) -> 45672 | T5: =IF(DAY(JanSun1)=1,IF(AND(YEAR(JanSun1+12)=CalendarYear,MONTH(JanSun1+12)=1),JanSun1+12,""),IF(AND(YEAR(JanSun1+19)=CalendarYear,MONTH(JanSun1+19)=1),JanSun1+19,"")) -> 45673 | U5: =IF(DAY(JanSun1)=1,IF(AND(YEAR(JanSun1+13)=CalendarYear,MONTH(JanSun1+13)=1),JanSun1+13,""),IF(AND(YEAR(JanSun1+20)=CalendarYear,MONTH(JanSun1+20)=1),JanSun1+20,"")) -> 45674 | V5: =IF(DAY(JanSun1)=1,IF(AND(YEAR(JanSun1+14)=CalendarYear,MONTH(JanSun1+14)=1),JanSun1+14,""),IF(AND(YEAR(JanSun1+21)=CalendarYear,MONTH(JanSun1+21)=1),JanSun1+21,"")) -> 45675 | W5: =IF(DAY(JanSun1)=1,IF(AND(YEAR(JanSun1+15)=CalendarYear,MONTH(JanSun1+15)=1),JanSun1+15,""),IF(AND(YEAR(JanSun1+22)=CalendarYear,MONTH(JanSun1+22)=1),JanSun1+22,"")) -> 45676 | X5: =IF(DAY(JanSun1)=1,IF(AND(YEAR(JanSun1+16)=CalendarYear,MONTH(JanSun1+16)=1),JanSun1+16,""),IF(AND(YEAR(JanSun1+23)=CalendarYear,MONTH(JanSun1+23)=1),JanSun1+23,"")) -> 45677 | Y5: =IF(DAY(JanSun1)=1,IF(AND(YEAR(JanSun1+17)=CalendarYear,MONTH(JanSun1+17)=1),JanSun1+17,""),IF(AND(YEAR(JanSun1+24)=CalendarYear,MONTH(JanSun1+24)=1),JanSun1+24,"")) -> 45678 | Z5: =IF(DAY(JanSun1)=1,IF(AND(YEAR(JanSun1+18)=CalendarYear,MONTH(JanSun1+18)=1),JanSun1+18,""),IF(AND(YEAR(JanSun1+25)=CalendarYear,MONTH(JanSun1+25)=1),JanSun1+25,"")) -> 45679 | AA5: =IF(DAY(JanSun1)=1,IF(AND(YEAR(JanSun1+19)=CalendarYear,MONTH(JanSun1+19)=1),JanSun1+19,""),IF(AND(YEAR(JanSun1+26)=CalendarYear,MONTH(JanSun1+26)=1),JanSun1+26,"")) -> 45680 | AB5: =IF(DAY(JanSun1)=1,IF(AND(YEAR(JanSun1+20)=CalendarYear,MONTH(JanSun1+20)=1),JanSun1+20,""),IF(AND(YEAR(JanSun1+27)=CalendarYear,MONTH(JanSun1+27)=1),JanSun1+27,"")) -> 45681 | AC5: =IF(DAY(JanSun1)=1,IF(AND(YEAR(JanSun1+21)=CalendarYear,MONTH(JanSun1+21)=1),JanSun1+21,""),IF(AND(YEAR(JanSun1+28)=CalendarYear,MONTH(JanSun1+28)=1),JanSun1+28,"")) -> 45682 | AD5: =IF(DAY(JanSun1)=1,IF(AND(YEAR(JanSun1+22)=CalendarYear,MONTH(JanSun1+22)=1),JanSun1+22,""),IF(AND(YEAR(JanSun1+29)=CalendarYear,MONTH(JanSun1+29)=1),JanSun1+29,"")) -> 45683 | AE5: =IF(DAY(JanSun1)=1,IF(AND(YEAR(JanSun1+23)=CalendarYear,MONTH(JanSun1+23)=1),JanSun1+23,""),IF(AND(YEAR(JanSun1+30)=CalendarYear,MONTH(JanSun1+30)=1),JanSun1+30,"")) -> 45684 | AF5: =IF(DAY(JanSun1)=1,IF(AND(YEAR(JanSun1+24)=CalendarYear,MONTH(JanSun1+24)=1),JanSun1+24,""),IF(AND(YEAR(JanSun1+31)=CalendarYear,MONTH(JanSun1+31)=1),JanSun1+31,"")) -> 45685 | AG5: =IF(DAY(JanSun1)=1,IF(AND(YEAR(JanSun1+25)=CalendarYear,MONTH(JanSun1+25)=1),JanSun1+25,""),IF(AND(YEAR(JanSun1+32)=CalendarYear,MONTH(JanSun1+32)=1),JanSun1+32,"")) -> 45686 | AH5: =IF(DAY(JanSun1)=1,IF(AND(YEAR(JanSun1+26)=CalendarYear,MONTH(JanSun1+26)=1),JanSun1+26,""),IF(AND(YEAR(JanSun1+33)=CalendarYear,MONTH(JanSun1+33)=1),JanSun1+33,"")) -> 45687 | AI5: =IF(DAY(JanSun1)=1,IF(AND(YEAR(JanSun1+27)=CalendarYear,MONTH(JanSun1+27)=1),JanSun1+27,""),IF(AND(YEAR(JanSun1+34)=CalendarYear,MONTH(JanSun1+34)=1),JanSun1+34,"")) -> 45688 | AJ5: =IF(DAY(JanSun1)=1,IF(AND(YEAR(JanSun1+28)=CalendarYear,MONTH(JanSun1+28)=1),JanSun1+28,""),IF(AND(YEAR(JanSun1+35)=CalendarYear,MONTH(JanSun1+35)=1),JanSun1+35,"")) | AK5: =IF(DAY(JanSun1)=1,IF(AND(YEAR(JanSun1+29)=CalendarYear,MONTH(JanSun1+29)=1),JanSun1+29,""),IF(AND(YEAR(JanSun1+36)=CalendarYear,MONTH(JanSun1+36)=1),JanSun1+36,"")) | AL5: =IF(DAY(JanSun1)=1,IF(AND(YEAR(JanSun1+30)=CalendarYear,MONTH(JanSun1+30)=1),JanSun1+30,""),IF(AND(YEAR(JanSun1+37)=CalendarYear,MONTH(JanSun1+37)=1),JanSun1+37,""))
B6: Di | C6: Lu | D6: Ma | E6: Me | F6: Je | G6: Ve | H6: Sa | I6: Di | J6: Lu | K6: Ma | L6: Me | M6: Je | N6: Ve | O6: Sa | P6: Di | Q6: Lu | R6: Ma | S6: Me | T6: Je | U6: Ve | V6: Sa | W6: Di | X6: Lu | Y6: Ma | Z6: Me | AA6: Je | AB6: Ve | AC6: Sa | AD6: Di | AE6: Lu | AF6: Ma | AG6: Me | AH6: Je | AI6: Ve | AJ6: Sa | AK6: Di | AL6: Lu
A7: Congé | B7: C | C7: C | D7: C | E7: C | F7: C | G7: C | H7: C | I7: C | J7: C | K7: C | L7: C | M7: C | N7: C | O7: C | P7: C | Q7: C | R7: C | S7: C | T7: C | U7: C | V7: C | W7: C | X7: C | Y7: C | Z7: C | AA7: C | AB7: C | AC7: C | AD7: C | AE7: C | AF7: C | AG7: C | AH7: C | AI7: C | AJ7: C | AK7: C | AL7: C
A8: Télétravail | B8: T | C8: T | D8: T | E8: T | F8: T | G8: T | H8: T | I8: T | J8: T | K8: T | L8: T | M8: T | N8: T | O8: T | P8: T | Q8: T | R8: T | S8: T | T8: T | U8: T | V8: T | W8: T | X8: T | Y8: T | Z8: T | AA8: T | AB8: T | AC8: T | AD8: T | AE8: T | AF8: T | AG8: T | AH8: T | AI8: T | AJ8: T | AK8: T | AL8: T
A9: Déplacement | B9: =IF(AND(B5>='TABLEAU PERSONNEL'!$D$4,B5<='TABLEAU PERSONNEL'!$E$4),100,0) +IF(AND(B5>='TABLEAU PERSONNEL'!$D$5,B5<='TABLEAU PERSONNEL'!$E$5),100,0) +IF(AND(B5>='TABLEAU PERSONNEL'!$D$6,B5<='TABLEAU PERSONNEL'!$E$6),100,0) +IF(AND(B5>='TABLEAU PERSONNEL'!$D$7,B5<='TABLEAU PERSONNEL'!$E$7),100,0) +IF(AND(B5>='TABLEAU PERSONNEL'!$D$8,B5<='TABLEAU PERSONNEL'!$E$8),100,0) +IF(AND(B5>='TABLEAU PERSONNEL'!$D$9,B5<='TABLEAU PERSONNEL'!$E$9),100,0) +IF(AND(B5>='TABLEAU PERSONNEL'!$D$10,B5<='TABLEAU PERSONNEL'!$E$10),100,0) +IF(AND(B5>='TABLEAU PERSONNEL'!$D$11,B5<='TABLEAU PERSONNEL'!$E$11),100,0) +IF(AND(B5>='TABLEAU PERSONNEL'!$D$12,B5<='TABLEAU PERSONNEL'!$E$12),100,0) +IF(AND(B5>='TABLEAU PERSONNEL'!$D$13,B5<='TABLEAU PERSONNEL'!$E$13),100,0) +IF(AND(B5>='TABLEAU PERSONNEL'!$D$14,B5<='TABLEAU PERSONNEL'!$E$14),100,0) +IF(AND(B5>='TABLEAU PERSONNEL'!$D$15,B5<='TABLEAU PERSONNEL'!$E$15),100,0) +IF(AND(B5>='TABLEAU PERSONNEL'!$D$16,B5<='TABLEAU PERSONNEL'!$E$16),100,0) +IF(AND(B5>='TABLEAU PERSONNEL'!$D$17,B5<='TABLEAU PERSONNEL'!$E$17),100,0) +IF(AND(B5>='TABLEAU PERSONNEL'!$D$18,B5<='TABLEAU PERSONNEL'!$E$18),100,0) +IF(AND(B5>='TABLEAU PERSONNEL'!$D$19,B5<='TABLEAU PERSONNEL'!$E$19),100,0) +IF(AND(B5>='TABLEAU PERSONNEL'!$D$20,B5<='TABLEAU PERSONNEL'!$E$20),100,0) +IF(AND(B5>='TABLEAU PERSONNEL'!$D$21,B5<='TABLEAU PERSONNEL'!$E$21),100,0) +IF(AND(B5>='TABLEAU PERSONNEL'!$D$22,B5<='TABLEAU PERSONNEL'!$E$22),100,0) +IF(AND(B5>='TABLEAU PERSONNEL'!$D$23,B5<='TABLEAU PERSONNEL'!$E$23),100,0) +IF(AND(B5>='TABLEAU PERSONNEL'!$D$24,B5<='TABLEAU PERSONNEL'!$E$24),100,0) +IF(AND(B5>='TABLEAU PERSONNEL'!$D$25,B5<='TABLEAU PERSONNEL'!$E$25),100,0) +IF(AND(B5>='TABLEAU PERSONNEL'!$D$26,B5<='TABLEAU PERSONNEL'!$E$26),100,0) +IF(AND(B5>='TABLEAU PERSONNEL'!$D$27,B5<='TABLEAU PERSONNEL'!$E$27),100,0) +IF(AND(B5>='TABLEAU PERSONNEL'!$D$28,B5<='TABLEAU PERSONNEL'!$E$28),100,0) +IF(AND(B5>='TABLEAU PERSONNEL'!$D$29,B5<='TABLEAU PERSONNEL'!$E$29),100,0) +IF(AND(B5>='TABLEAU PERSONNEL'!$D$30,B5<='TABLEAU PERSONNEL'!$E$30),100,0) +IF(AND(B5>='TABLEAU PERSONNEL'!$D$31,B5<='TABLEAU PERSONNEL'!$E$31),100,0) +IF(AND(B5>='TABLEAU PERSONNEL'!$D$32,B5<='TABLEAU PERSONNEL'!$E$32),100,0) +IF(AND(B5>='TABLEAU PERSONNEL'!$D$33,B5<='TABLEAU PERSONNEL'!$E$33),100,0) +IF(AND(B5>='TABLEAU PERSONNEL'!$D$34,B5<='TABLEAU PERSONNEL'!$E$34),100,0) -> 2700 | C9: =IF(AND(C5>='TABLEAU PERSONNEL'!$D$4,C5<='TABLEAU PERSONNEL'!$E$4),100,0) +IF(AND(C5>='TABLEAU PERSONNEL'!$D$5,C5<='TABLEAU PERSONNEL'!$E$5),100,0) +IF(AND(C5>='TABLEAU PERSONNEL'!$D$6,C5<='TABLEAU PERSONNEL'!$E$6),100,0) +IF(AND(C5>='TABLEAU PERSONNEL'!$D$7,C5<='TABLEAU PERSONNEL'!$E$7),100,0) +IF(AND(C5>='TABLEAU PERSONNEL'!$D$8,C5<='TABLEAU PERSONNEL'!$E$8),100,0) +IF(AND(C5>='TABLEAU PERSONNEL'!$D$9,C5<='TABLEAU PERSONNEL'!$E$9),100,0) +IF(AND(C5>='TABLEAU PERSONNEL'!$D$10,C5<='TABLEAU PERSONNEL'!$E$10),100,0) +IF(AND(C5>='TABLEAU PERSONNEL'!$D$11,C5<='TABLEAU PERSONNEL'!$E$11),100,0) +IF(AND(C5>='TABLEAU PERSONNEL'!$D$12,C5<='TABLEAU PERSONNEL'!$E$12),100,0) +IF(AND(C5>='TABLEAU PERSONNEL'!$D$13,C5<='TABLEAU PERSONNEL'!$E$13),100,0) +IF(AND(C5>='TABLEAU PERSONNEL'!$D$14,C5<='TABLEAU PERSONNEL'!$E$14),100,0) +IF(AND(C5>='TABLEAU PERSONNEL'!$D$15,C5<='TABLEAU PERSONNEL'!$E$15),100,0) +IF(AND(C5>='TABLEAU PERSONNEL'!$D$16,C5<='TABLEAU PERSONNEL'!$E$16),100,0) +IF(AND(C5>='TABLEAU PERSONNEL'!$D$17,C5<='TABLEAU PERSONNEL'!$E$17),100,0) +IF(AND(C5>='TABLEAU PERSONNEL'!$D$18,C5<='TABLEAU PERSONNEL'!$E$18),100,0) +IF(AND(C5>='TABLEAU PERSONNEL'!$D$19,C5<='TABLEAU PERSONNEL'!$E$19),100,0) +IF(AND(C5>='TABLEAU PERSONNEL'!$D$20,C5<='TABLEAU PERSONNEL'!$E$20),100,0) +IF(AND(C5>='TABLEAU PERSONNEL'!$D$21,C5<='TABLEAU PERSONNEL'!$E$21),100,0) +IF(AND(C5>='TABLEAU PERSONNEL'!$D$22,C5<='TABLEAU PERSONNEL'!$E$22),100,0) +IF(AND(C5>='TABLEAU PERSONNEL'!$D$23,C5<='TABLEAU PERSONNEL'!$E$23),100,0) +IF(AND(C5>='TABLEAU PERSONNEL'!$D$24,C5<='TABLEAU PERSONNEL'!$E$24),100,0) +IF(AND(C5>='TABLEAU PERSONNEL'!$D$25,C5<='TABLEAU PERSONNEL'!$E$25),100,0) +IF(AND(C5>='TABLEAU PERSONNEL'!$D$26,C5<='TABLEAU PERSONNEL'!$E$26),100,0) +IF(AND(C5>='TABLEAU PERSONNEL'!$D$27,C5<='TABLEAU PERSONNEL'!$E$27),100,0) +IF(AND(C5>='TABLEAU PERSONNEL'!$D$28,C5<='TABLEAU PERSONNEL'!$E$28),100,0) +IF(AND(C5>='TABLEAU PERSONNEL'!$D$29,C5<='TABLEAU PERSONNEL'!$E$29),100,0) +IF(AND(C5>='TABLEAU PERSONNEL'!$D$30,C5<='TABLEAU PERSONNEL'!$E$30),100,0) +IF(AND(C5>='TABLEAU PERSONNEL'!$D$31,C5<='TABLEAU PERSONNEL'!$E$31),100,0) +IF(AND(C5>='TABLEAU PERSONNEL'!$D$32,C5<='TABLEAU PERSONNEL'!$E$32),100,0) +IF(AND(C5>='TABLEAU PERSONNEL'!$D$33,C5<='TABLEAU PERSONNEL'!$E$33),100,0) +IF(AND(C5>='TABLEAU PERSONNEL'!$D$34,C5<='TABLEAU PERSONNEL'!$E$34),100,0) -> 2700 | D9: =IF(AND(D5>='TABLEAU PERSONNEL'!$D$4,D5<='TABLEAU PERSONNEL'!$E$4),100,0) +IF(AND(D5>='TABLEAU PERSONNEL'!$D$5,D5<='TABLEAU PERSONNEL'!$E$5),100,0) +IF(AND(D5>='TABLEAU PERSONNEL'!$D$6,D5<='TABLEAU PERSONNEL'!$E$6),100,0) +IF(AND(D5>='TABLEAU PERSONNEL'!$D$7,D5<='TABLEAU PERSONNEL'!$E$7),100,0) +IF(AND(D5>='TABLEAU PERSONNEL'!$D$8,D5<='TABLEAU PERSONNEL'!$E$8),100,0) +IF(AND(D5>='TABLEAU PERSONNEL'!$D$9,D5<='TABLEAU PERSONNEL'!$E$9),100,0) +IF(AND(D5>='TABLEAU PERSONNEL'!$D$10,D5<='TABLEAU PERSONNEL'!$E$10),100,0) +IF(AND(D5>='TABLEAU PERSONNEL'!$D$11,D5<='TABLEAU PERSONNEL'!$E$11),100,0) +IF(AND(D5>='TABLEAU PERSONNEL'!$D$12,D5<='TABLEAU PERSONNEL'!$E$12),100,0) +IF(AND(D5>='TABLEAU PERSONNEL'!$D$13,D5<='TABLEAU PERSONNEL'!$E$13),100,0) +IF(AND(D5>='TABLEAU PERSONNEL'!$D$14,D5<='TABLEAU PERSONNEL'!$E$14),100,0) +IF(AND(D5>='TABLEAU PERSONNEL'!$D$15,D5<='TABLEAU PERSONNEL'!$E$15),100,0) +IF(AND(D5>='TABLEAU PERSONNEL'!$D$16,D5<='TABLEAU PERSONNEL'!$E$16),100,0) +IF(AND(D5>='TABLEAU PERSONNEL'!$D$17,D5<='TABLEAU PERSONNEL'!$E$17),100,0) +IF(AND(D5>='TABLEAU PERSONNEL'!$D$18,D5<='TABLEAU PERSONNEL'!$E$18),100,0) +IF(AND(D5>='TABLEAU PERSONNEL'!$D$19,D5<='TABLEAU PERSONNEL'!$E$19),100,0) +IF(AND(D5>='TABLEAU PERSONNEL'!$D$20,D5<='TABLEAU PERSONNEL'!$E$20),100,0) +IF(AND(D5>='TABLEAU PERSONNEL'!$D$21,D5<='TABLEAU PERSONNEL'!$E$21),100,0) +IF(AND(D5>='TABLEAU PERSONNEL'!$D$22,D5<='TABLEAU PERSONNEL'!$E$22),100,0) +IF(AND(D5>='TABLEAU PERSONNEL'!$D$23,D5<='TABLEAU PERSONNEL'!$E$23),100,0) +IF(AND(D5>='TABLEAU PERSONNEL'!$D$24,D5<='TABLEAU PERSONNEL'!$E$24),100,0) +IF(AND(D5>='TABLEAU PERSONNEL'!$D$25,D5<='TABLEAU PERSONNEL'!$E$25),100,0) +IF(AND(D5>='TABLEAU PERSONNEL'!$D$26,D5<='TABLEAU PERSONNEL'!$E$26),100,0) +IF(AND(D5>='TABLEAU PERSONNEL'!$D$27,D5<='TABLEAU PERSONNEL'!$E$27),100,0) +IF(AND(D5>='TABLEAU PERSONNEL'!$D$28,D5<='TABLEAU PERSONNEL'!$E$28),100,0) +IF(AND(D5>='TABLEAU PERSONNEL'!$D$29,D5<='TABLEAU PERSONNEL'!$E$29),100,0) +IF(AND(D5>='TABLEAU PERSONNEL'!$D$30,D5<='TABLEAU PERSONNEL'!$E$30),100,0) +IF(AND(D5>='TABLEAU PERSONNEL'!$D$31,D5<='TABLEAU PERSONNEL'!$E$31),100,0) +IF(AND(D5>='TABLEAU PERSONNEL'!$D$32,D5<='TABLEAU PERSONNEL'!$E$32),100,0) +IF(AND(D5>='TABLEAU PERSONNEL'!$D$33,D5<='TABLEAU PERSONNEL'!$E$33),100,0) +IF(AND(D5>='TABLEAU PERSONNEL'!$D$34,D5<='TABLEAU PERSONNEL'!$E$34),100,0) -> 2700 | E9: =IF(AND(E5>='TABLEAU PERSONNEL'!$D$4,E5<='TABLEAU PERSONNEL'!$E$4),100,0) +IF(AND(E5>='TABLEAU PERSONNEL'!$D$5,E5<='TABLEAU PERSONNEL'!$E$5),100,0) +IF(AND(E5>='TABLEAU PERSONNEL'!$D$6,E5<='TABLEAU PERSONNEL'!$E$6),100,0) +IF(AND(E5>='TABLEAU PERSONNEL'!$D$7,E5<='TABLEAU PERSONNEL'!$E$7),100,0) +IF(AND(E5>='TABLEAU PERSONNEL'!$D$8,E5<='TABLEAU PERSONNEL'!$E$8),100,0) +IF(AND(E5>='TABLEAU PERSONNEL'!$D$9,E5<='TABLEAU PERSONNEL'!$E$9),100,0) +IF(AND(E5>='TABLEAU PERSONNEL'!$D$10,E5<='TABLEAU PERSONNEL'!$E$10),100,0) +IF(AND(E5>='TABLEAU PERSONNEL'!$D$11,E5<='TABLEAU PERSONNEL'!$E$11),100,0) +IF(AND(E5>='TABLEAU PERSONNEL'!$D$12,E5<='TABLEAU PERSONNEL'!$E$12),100,0) +IF(AND(E5>='TABLEAU PERSONNEL'!$D$13,E5<='TABLEAU PERSONNEL'!$E$13),100,0) +IF(AND(E5>='TABLEAU PERSONNEL'!$D$14,E5<='TABLEAU PERSONNEL'!$E$14),100,0) +IF(AND(E5>='TABLEAU PERSONNEL'!$D$15,E5<='TABLEAU PERSONNEL'!$E$15),100,0) +IF(AND(E5>='TABLEAU PERSONNEL'!$D$16,E5<='TABLEAU PERSONNEL'!$E$16),100,0) +IF(AND(E5>='TABLEAU PERSONNEL'!$D$17,E5<='TABLEAU PERSONNEL'!$E$17),100,0) +IF(AND(E5>='TABLEAU PERSONNEL'!$D$18,E5<='TABLEAU PERSONNEL'!$E$18),100,0) +IF(AND(E5>='TABLEAU PERSONNEL'!$D$19,E5<='TABLEAU PERSONNEL'!$E$19),100,0) +IF(AND(E5>='TABLEAU PERSONNEL'!$D$20,E5<='TABLEAU PERSONNEL'!$E$20),100,0) +IF(AND(E5>='TABLEAU PERSONNEL'!$D$21,E5<='TABLEAU PERSONNEL'!$E$21),100,0) +IF(AND(E5>='TABLEAU PERSONNEL'!$D$22,E5<='TABLEAU PERSONNEL'!$E$22),100,0) +IF(AND(E5>='TABLEAU PERSONNEL'!$D$23,E5<='TABLEAU PERSONNEL'!$E$23),100,0) +IF(AND(E5>='TABLEAU PERSONNEL'!$D$24,E5<='TABLEAU PERSONNEL'!$E$24),100,0) +IF(AND(E5>='TABLEAU PERSONNEL'!$D$25,E5<='TABLEAU PERSONNEL'!$E$25),100,0) +IF(AND(E5>='TABLEAU PERSONNEL'!$D$26,E5<='TABLEAU PERSONNEL'!$E$26),100,0) +IF(AND(E5>='TABLEAU PERSONNEL'!$D$27,E5<='TABLEAU PERSONNEL'!$E$27),100,0) +IF(AND(E5>='TABLEAU PERSONNEL'!$D$28,E5<='TABLEAU PERSONNEL'!$E$28),100,0) +IF(AND(E5>='TABLEAU PERSONNEL'!$D$29,E5<='TABLEAU PERSONNEL'!$E$29),100,0) +IF(AND(E5>='TABLEAU PERSONNEL'!$D$30,E5<='TABLEAU PERSONNEL'!$E$30),100,0) +IF(AND(E5>='TABLEAU PERSONNEL'!$D$31,E5<='TABLEAU PERSONNEL'!$E$31),100,0) +IF(AND(E5>='TABLEAU PERSONNEL'!$D$32,E5<='TABLEAU PERSONNEL'!$E$32),100,0) +IF(AND(E5>='TABLEAU PERSONNEL'!$D$33,E5<='TABLEAU PERSONNEL'!$E$33),100,0) +IF(AND(E5>='TABLEAU PERSONNEL'!$D$34,E5<='TABLEAU PERSONNEL'!$E$34),100,0) -> 0 | F9: =IF(AND(F5>='TABLEAU PERSONNEL'!$D$4,F5<='TABLEAU PERSONNEL'!$E$4),100,0) +IF(AND(F5>='TABLEAU PERSONNEL'!$D$5,F5<='TABLEAU PERSONNEL'!$E$5),100,0) +IF(AND(F5>='TABLEAU PERSONNEL'!$D$6,F5<='TABLEAU PERSONNEL'!$E$6),100,0) +IF(AND(F5>='TABLEAU PERSONNEL'!$D$7,F5<='TABLEAU PERSONNEL'!$E$7),100,0) +IF(AND(F5>='TABLEAU PERSONNEL'!$D$8,F5<='TABLEAU PERSONNEL'!$E$8),100,0) +IF(AND(F5>='TABLEAU PERSONNEL'!$D$9,F5<='TABLEAU PERSONNEL'!$E$9),100,0) +IF(AND(F5>='TABLEAU PERSONNEL'!$D$10,F5<='TABLEAU PERSONNEL'!$E$10),100,0) +IF(AND(F5>='TABLEAU PERSONNEL'!$D$11,F5<='TABLEAU PERSONNEL'!$E$11),100,0) +IF(AND(F5>='TABLEAU PERSONNEL'!$D$12,F5<='TABLEAU PERSONNEL'!$E$12),100,0) +IF(AND(F5>='TABLEAU PERSONNEL'!$D$13,F5<='TABLEAU PERSONNEL'!$E$13),100,0) +IF(AND(F5>='TABLEAU PERSONNEL'!$D$14,F5<='TABLEAU PERSONNEL'!$E$14),100,0) +IF(AND(F5>='TABLEAU PERSONNEL'!$D$15,F5<='TABLEAU PERSONNEL'!$E$15),100,0) +IF(AND(F5>='TABLEAU PERSONNEL'!$D$16,F5<='TABLEAU PERSONNEL'!$E$16),100,0) +IF(AND(F5>='TABLEAU PERSONNEL'!$D$17,F5<='TABLEAU PERSONNEL'!$E$17),100,0) +IF(AND(F5>='TABLEAU PERSONNEL'!$D$18,F5<='TABLEAU PERSONNEL'!$E$18),100,0) +IF(AND(F5>='TABLEAU PERSONNEL'!$D$19,F5<='TABLEAU PERSONNEL'!$E$19),100,0) +IF(AND(F5>='TABLEAU PERSONNEL'!$D$20,F5<='TABLEAU PERSONNEL'!$E$20),100,0) +IF(AND(F5>='TABLEAU PERSONNEL'!$D$21,F5<='TABLEAU PERSONNEL'!$E$21),100,0) +IF(AND(F5>='TABLEAU PERSONNEL'!$D$22,F5<='TABLEAU PERSONNEL'!$E$22),100,0) +IF(AND(F5>='TABLEAU PERSONNEL'!$D$23,F5<='TABLEAU PERSONNEL'!$E$23),100,0) +IF(AND(F5>='TABLEAU PERSONNEL'!$D$24,F5<='TABLEAU PERSONNEL'!$E$24),100,0) +IF(AND(F5>='TABLEAU PERSONNEL'!$D$25,F5<='TABLEAU PERSONNEL'!$E$25),100,0) +IF(AND(F5>='TABLEAU PERSONNEL'!$D$26,F5<='TABLEAU PERSONNEL'!$E$26),100,0) +IF(AND(F5>='TABLEAU PERSONNEL'!$D$27,F5<='TABLEAU PERSONNEL'!$E$27),100,0) +IF(AND(F5>='TABLEAU PERSONNEL'!$D$28,F5<='TABLEAU PERSONNEL'!$E$28),100,0) +IF(AND(F5>='TABLEAU PERSONNEL'!$D$29,F5<='TABLEAU PERSONNEL'!$E$29),100,0) +IF(AND(F5>='TABLEAU PERSONNEL'!$D$30,F5<='TABLEAU PERSONNEL'!$E$30),100,0) +IF(AND(F5>='TABLEAU PERSONNEL'!$D$31,F5<='TABLEAU PERSONNEL'!$E$31),100,0) +IF(AND(F5>='TABLEAU PERSONNEL'!$D$32,F5<='TABLEAU PERSONNEL'!$E$32),100,0) +IF(AND(F5>='TABLEAU PERSONNEL'!$D$33,F5<='TABLEAU PERSONNEL'!$E$33),100,0) +IF(AND(F5>='TABLEAU PERSONNEL'!$D$34,F5<='TABLEAU PERSONNEL'!$E$34),100,0) -> 0 | G9: =IF(AND(G5>='TABLEAU PERSONNEL'!$D$4,G5<='TABLEAU PERSONNEL'!$E$4),100,0) +IF(AND(G5>='TABLEAU PERSONNEL'!$D$5,G5<='TABLEAU PERSONNEL'!$E$5),100,0) +IF(AND(G5>='TABLEAU PERSONNEL'!$D$6,G5<='TABLEAU PERSONNEL'!$E$6),100,0) +IF(AND(G5>='TABLEAU PERSONNEL'!$D$7,G5<='TABLEAU PERSONNEL'!$E$7),100,0) +IF(AND(G5>='TABLEAU PERSONNEL'!$D$8,G5<='TABLEAU PERSONNEL'!$E$8),100,0) +IF(AND(G5>='TABLEAU PERSONNEL'!$D$9,G5<='TABLEAU PERSONNEL'!$E$9),100,0) +IF(AND(G5>='TABLEAU PERSONNEL'!$D$10,G5<='TABLEAU PERSONNEL'!$E$10),100,0) +IF(AND(G5>='TABLEAU PERSONNEL'!$D$11,G5<='TABLEAU PERSONNEL'!$E$11),100,0) +IF(AND(G5>='TABLEAU PERSONNEL'!$D$12,G5<='TABLEAU PERSONNEL'!$E$12),100,0) +IF(AND(G5>='TABLEAU PERSONNEL'!$D$13,G5<='TABLEAU PERSONNEL'!$E$13),100,0) +IF(AND(G5>='TABLEAU PERSONNEL'!$D$14,G5<='TABLEAU PERSONNEL'!$E$14),100,0) +IF(AND(G5>='TABLEAU PERSONNEL'!$D$15,G5<='TABLEAU PERSONNEL'!$E$15),100,0) +IF(AND(G5>='TABLEAU PERSONNEL'!$D$16,G5<='TABLEAU PERSONNEL'!$E$16),100,0) +IF(AND(G5>='TABLEAU PERSONNEL'!$D$17,G5<='TABLEAU PERSONNEL'!$E$17),100,0) +IF(AND(G5>='TABLEAU PERSONNEL'!$D$18,G5<='TABLEAU PERSONNEL'!$E$18),100,0) +IF(AND(G5>='TABLEAU PERSONNEL'!$D$19,G5<='TABLEAU PERSONNEL'!$E$19),100,0) +IF(AND(G5>='TABLEAU PERSONNEL'!$D$20,G5<='TABLEAU PERSONNEL'!$E$20),100,0) +IF(AND(G5>='TABLEAU PERSONNEL'!$D$21,G5<='TABLEAU PERSONNEL'!$E$21),100,0) +IF(AND(G5>='TABLEAU PERSONNEL'!$D$22,G5<='TABLEAU PERSONNEL'!$E$22),100,0) +IF(AND(G5>='TABLEAU PERSONNEL'!$D$23,G5<='TABLEAU PERSONNEL'!$E$23),100,0) +IF(AND(G5>='TABLEAU PERSONNEL'!$D$24,G5<='TABLEAU PERSONNEL'!$E$24),100,0) +IF(AND(G5>='TABLEAU PERSONNEL'!$D$25,G5<='TABLEAU PERSONNEL'!$E$25),100,0) +IF(AND(G5>='TABLEAU PERSONNEL'!$D$26,G5<='TABLEAU PERSONNEL'!$E$26),100,0) +IF(AND(G5>='TABLEAU PERSONNEL'!$D$27,G5<='TABLEAU PERSONNEL'!$E$27),100,0) +IF(AND(G5>='TABLEAU PERSONNEL'!$D$28,G5<='TABLEAU PERSONNEL'!$E$28),100,0) +IF(AND(G5>='TABLEAU PERSONNEL'!$D$29,G5<='TABLEAU PERSONNEL'!$E$29),100,0) +IF(AND(G5>='TABLEAU PERSONNEL'!$D$30,G5<='TABLEAU PERSONNEL'!$E$30),100,0) +IF(AND(G5>='TABLEAU PERSONNEL'!$D$31,G5<='TABLEAU PERSONNEL'!$E$31),100,0) +IF(AND(G5>='TABLEAU PERSONNEL'!$D$32,G5<='TABLEAU PERSONNEL'!$E$32),100,0) +IF(AND(G5>='TABLEAU PERSONNEL'!$D$33,G5<='TABLEAU PERSONNEL'!$E$33),100,0) +IF(AND(G5>='TABLEAU PERSONNEL'!$D$34,G5<='TABLEAU PERSONNEL'!$E$34),100,0) -> 0 | H9: =IF(AND(H5>='TABLEAU PERSONNEL'!$D$4,H5<='TABLEAU PERSONNEL'!$E$4),100,0) +IF(AND(H5>='TABLEAU PERSONNEL'!$D$5,H5<='TABLEAU PERSONNEL'!$E$5),100,0) +IF(AND(H5>='TABLEAU PERSONNEL'!$D$6,H5<='TABLEAU PERSONNEL'!$E$6),100,0) +IF(AND(H5>='TABLEAU PERSONNEL'!$D$7,H5<='TABLEAU PERSONNEL'!$E$7),100,0) +IF(AND(H5>='TABLEAU PERSONNEL'!$D$8,H5<='TABLEAU PERSONNEL'!$E$8),100,0) +IF(AND(H5>='TABLEAU PERSONNEL'!$D$9,H5<='TABLEAU PERSONNEL'!$E$9),100,0) +IF(AND(H5>='TABLEAU PERSONNEL'!$D$10,H5<='TABLEAU PERSONNEL'!$E$10),100,0) +IF(AND(H5>='TABLEAU PERSONNEL'!$D$11,H5<='TABLEAU PERSONNEL'!$E$11),100,0) +IF(AND(H5>='TABLEAU PERSONNEL'!$D$12,H5<='TABLEAU PERSONNEL'!$E$12),100,0) +IF(AND(H5>='TABLEAU PERSONNEL'!$D$13,H5<='TABLEAU PERSONNEL'!$E$13),100,0) +IF(AND(H5>='TABLEAU PERSONNEL'!$D$14,H5<='TABLEAU PERSONNEL'!$E$14),100,0) +IF(AND(H5>='TABLEAU PERSONNEL'!$D$15,H5<='TABLEAU PERSONNEL'!$E$15),100,0) +IF(AND(H5>='TABLEAU PERSONNEL'!$D$16,H5<='TABLEAU PERSONNEL'!$E$16),100,0) +IF(AND(H5>='TABLEAU PERSONNEL'!$D$17,H5<='TABLEAU PERSONNEL'!$E$17),100,0) +IF(AND(H5>='TABLEAU PERSONNEL'!$D$18,H5<='TABLEAU PERSONNEL'!$E$18),100,0) +IF(AND(H5>='TABLEAU PERSONNEL'!$D$19,H5<='TABLEAU PERSONNEL'!$E$19),100,0) +IF(AND(H5>='TABLEAU PERSONNEL'!$D$20,H5<='TABLEAU PERSONNEL'!$E$20),100,0) +IF(AND(H5>='TABLEAU PERSONNEL'!$D$21,H5<='TABLEAU PERSONNEL'!$E$21),100,0) +IF(AND(H5>='TABLEAU PERSONNEL'!$D$22,H5<='TABLEAU PERSONNEL'!$E$22),100,0) +IF(AND(H5>='TABLEAU PERSONNEL'!$D$23,H5<='TABLEAU PERSONNEL'!$E$23),100,0) +IF(AND(H5>='TABLEAU PERSONNEL'!$D$24,H5<='TABLEAU PERSONNEL'!$E$24),100,0) +IF(AND(H5>='TABLEAU PERSONNEL'!$D$25,H5<='TABLEAU PERSONNEL'!$E$25),100,0) +IF(AND(H5>='TABLEAU PERSONNEL'!$D$26,H5<='TABLEAU PERSONNEL'!$E$26),100,0) +IF(AND(H5>='TABLEAU PERSONNEL'!$D$27,H5<='TABLEAU PERSONNEL'!$E$27),100,0) +IF(AND(H5>='TABLEAU PERSONNEL'!$D$28,H5<='TABLEAU PERSONNEL'!$E$28),100,0) +IF(AND(H5>='TABLEAU PERSONNEL'!$D$29,H5<='TABLEAU PERSONNEL'!$E$29),100,0) +IF(AND(H5>='TABLEAU PERSONNEL'!$D$30,H5<='TABLEAU PERSONNEL'!$E$30),100,0) +IF(AND(H5>='TABLEAU PERSONNEL'!$D$31,H5<='TABLEAU PERSONNEL'!$E$31),100,0) +IF(AND(H5>='TABLEAU PERSONNEL'!$D$32,H5<='TABLEAU PERSONNEL'!$E$32),100,0) +IF(AND(H5>='TABLEAU PERSONNEL'!$D$33,H5<='TABLEAU PERSONNEL'!$E$33),100,0) +IF(AND(H5>='TABLEAU PERSONNEL'!$D$34,H5<='TABLEAU PERSONNEL'!$E$34),100,0) -> 0 | I9: =IF(AND(I5>='TABLEAU PERSONNEL'!$D$4,I5<='TABLEAU PERSONNEL'!$E$4),100,0) +IF(AND(I5>='TABLEAU PERSONNEL'!$D$5,I5<='TABLEAU PERSONNEL'!$E$5),100,0) +IF(AND(I5>='TABLEAU PERSONNEL'!$D$6,I5<='TABLEAU PERSONNEL'!$E$6),100,0) +IF(AND(I5>='TABLEAU PERSONNEL'!$D$7,I5<='TABLEAU PERSONNEL'!$E$7),100,0) +IF(AND(I5>='TABLEAU PERSONNEL'!$D$8,I5<='TABLEAU PERSONNEL'!$E$8),100,0) +IF(AND(I5>='TABLEAU PERSONNEL'!$D$9,I5<='TABLEAU PERSONNEL'!$E$9),100,0) +IF(AND(I5>='TABLEAU PERSONNEL'!$D$10,I5<='TABLEAU PERSONNEL'!$E$10),100,0) +IF(AND(I5>='TABLEAU PERSONNEL'!$D$11,I5<='TABLEAU PERSONNEL'!$E$11),100,0) +IF(AND(I5>='TABLEAU PERSONNEL'!$D$12,I5<='TABLEAU PERSONNEL'!$E$12),100,0) +IF(AND(I5>='TABLEAU PERSONNEL'!$D$13,I5<='TABLEAU PERSONNEL'!$E$13),100,0) +IF(AND(I5>='TABLEAU PERSONNEL'!$D$14,I5<='TABLEAU PERSONNEL'!$E$14),100,0) +IF(AND(I5>='TABLEAU PERSONNEL'!$D$15,I5<='TABLEAU PERSONNEL'!$E$15),100,0) +IF(AND(I5>='TABLEAU PERSONNEL'!$D$16,I5<='TABLEAU PERSONNEL'!$E$16),100,0) +IF(AND(I5>='TABLEAU PERSONNEL'!$D$17,I5<='TABLEAU PERSONNEL'!$E$17),100,0) +IF(AND(I5>='TABLEAU PERSONNEL'!$D$18,I5<='TABLEAU PERSONNEL'!$E$18),100,0) +IF(AND(I5>='TABLEAU PERSONNEL'!$D$19,I5<='TABLEAU PERSONNEL'!$E$19),100,0) +IF(AND(I5>='TABLEAU PERSONNEL'!$D$20,I5<='TABLEAU PERSONNEL'!$E$20),100,0) +IF(AND(I5>='TABLEAU PERSONNEL'!$D$21,I5<='TABLEAU PERSONNEL'!$E$21),100,0) +IF(AND(I5>='TABLEAU PERSONNEL'!$D$22,I5<='TABLEAU PERSONNEL'!$E$22),100,0) +IF(AND(I5>='TABLEAU PERSONNEL'!$D$23,I5<='TABLEAU PERSONNEL'!$E$23),100,0) +IF(AND(I5>='TABLEAU PERSONNEL'!$D$24,I5<='TABLEAU PERSONNEL'!$E$24),100,0) +IF(AND(I5>='TABLEAU PERSONNEL'!$D$25,I5<='TABLEAU PERSONNEL'!$E$25),100,0) +IF(AND(I5>='TABLEAU PERSONNEL'!$D$26,I5<='TABLEAU PERSONNEL'!$E$26),100,0) +IF(AND(I5>='TABLEAU PERSONNEL'!$D$27,I5<='TABLEAU PERSONNEL'!$E$27),100,0) +IF(AND(I5>='TABLEAU PERSONNEL'!$D$28,I5<='TABLEAU PERSONNEL'!$E$28),100,0) +IF(AND(I5>='TABLEAU PERSONNEL'!$D$29,I5<='TABLEAU PERSONNEL'!$E$29),100,0) +IF(AND(I5>='TABLEAU PERSONNEL'!$D$30,I5<='TABLEAU PERSONNEL'!$E$30),100,0) +IF(AND(I5>='TABLEAU PERSONNEL'!$D$31,I5<='TABLEAU PERSONNEL'!$E$31),100,0) +IF(AND(I5>='TABLEAU PERSONNEL'!$D$32,I5<='TABLEAU PERSONNEL'!$E$32),100,0) +IF(AND(I5>='TABLEAU PERSONNEL'!$D$33,I5<='TABLEAU PERSONNEL'!$E$33),100,0) +IF(AND(I5>='TABLEAU PERSONNEL'!$D$34,I5<='TABLEAU PERSONNEL'!$E$34),100,0) -> 0 | ... AL9: =IF(AND(AL5>='TABLEAU PERSONNEL'!$D$4,AL5<='TABLEAU PERSONNEL'!$E$4),100,0) +IF(AND(AL5>='TABLEAU PERSONNEL'!$D$5,AL5<='TABLEAU PERSONNEL'!$E$5),100,0) +IF(AND(AL5>='TABLEAU PERSONNEL'!$D$6,AL5<='TABLEAU PERSONNEL'!$E$6),100,0) +IF(AND(AL5>='TABLEAU PERSONNEL'!$D$7,AL5<='TABLEAU PERSONNEL'!$E$7),100,0) +IF(AND(AL5>='TABLEAU PERSONNEL'!$D$8,AL5<='TABLEAU PERSONNEL'!$E$8),100,0) +IF(AND(AL5>='TABLEAU PERSONNEL'!$D$9,AL5<='TABLEAU PERSONNEL'!$E$9),100,0) +IF(AND(AL5>='TABLEAU PERSONNEL'!$D$10,AL5<='TABLEAU PERSONNEL'!$E$10),100,0) +IF(AND(AL5>='TABLEAU PERSONNEL'!$D$11,AL5<='TABLEAU PERSONNEL'!$E$11),100,0) +IF(AND(AL5>='TABLEAU PERSONNEL'!$D$12,AL5<='TABLEAU PERSONNEL'!$E$12),100,0) +IF(AND(AL5>='TABLEAU PERSONNEL'!$D$13,AL5<='TABLEAU PERSONNEL'!$E$13),100,0) +IF(AND(AL5>='TABLEAU PERSONNEL'!$D$14,AL5<='TABLEAU PERSONNEL'!$E$14),100,0) +IF(AND(AL5>='TABLEAU PERSONNEL'!$D$15,AL5<='TABLEAU PERSONNEL'!$E$15),100,0) +IF(AND(AL5>='TABLEAU PERSONNEL'!$D$16,AL5<='TABLEAU PERSONNEL'!$E$16),100,0) +IF(AND(AL5>='TABLEAU PERSONNEL'!$D$17,AL5<='TABLEAU PERSONNEL'!$E$17),100,0) +IF(AND(AL5>='TABLEAU PERSONNEL'!$D$18,AL5<='TABLEAU PERSONNEL'!$E$18),100,0) +IF(AND(AL5>='TABLEAU PERSONNEL'!$D$19,AL5<='TABLEAU PERSONNEL'!$E$19),100,0) +IF(AND(AL5>='TABLEAU PERSONNEL'!$D$20,AL5<='TABLEAU PERSONNEL'!$E$20),100,0) +IF(AND(AL5>='TABLEAU PERSONNEL'!$D$21,AL5<='TABLEAU PERSONNEL'!$E$21),100,0) +IF(AND(AL5>='TABLEAU PERSONNEL'!$D$22,AL5<='TABLEAU PERSONNEL'!$E$22),100,0) +IF(AND(AL5>='TABLEAU PERSONNEL'!$D$23,AL5<='TABLEAU PERSONNEL'!$E$23),100,0) +IF(AND(AL5>='TABLEAU PERSONNEL'!$D$24,AL5<='TABLEAU PERSONNEL'!$E$24),100,0) +IF(AND(AL5>='TABLEAU PERSONNEL'!$D$25,AL5<='TABLEAU PERSONNEL'!$E$25),100,0) +IF(AND(AL5>='TABLEAU PERSONNEL'!$D$26,AL5<='TABLEAU PERSONNEL'!$E$26),100,0) +IF(AND(AL5>='TABLEAU PERSONNEL'!$D$27,AL5<='TABLEAU PERSONNEL'!$E$27),100,0) +IF(AND(AL5>='TABLEAU PERSONNEL'!$D$28,AL5<='TABLEAU PERSONNEL'!$E$28),100,0) +IF(AND(AL5>='TABLEAU PERSONNEL'!$D$29,AL5<='TABLEAU PERSONNEL'!$E$29),100,0) +IF(AND(AL5>='TABLEAU PERSONNEL'!$D$30,AL5<='TABLEAU PERSONNEL'!$E$30),100,0) +IF(AND(AL5>='TABLEAU PERSONNEL'!$D$31,AL5<='TABLEAU PERSONNEL'!$E$31),100,0) +IF(AND(AL5>='TABLEAU PERSONNEL'!$D$32,AL5<='TABLEAU PERSONNEL'!$E$32),100,0) +IF(AND(AL5>='TABLEAU PERSONNEL'!$D$33,AL5<='TABLEAU PERSONNEL'!$E$33),100,0) +IF(AND(AL5>='TABLEAU PERSONNEL'!$D$34,AL5<='TABLEAU PERSONNEL'!$E$34),100,0) -> 2700
A10: =DATE(CalendarYear,2,1) -> 45689 | B10: =IFERROR((WEEKNUM(B11)),"") | C10: =IFERROR((WEEKNUM(C11)),"") | D10: =IFERROR((WEEKNUM(D11)),"") | E10: =IFERROR((WEEKNUM(E11)),"") | F10: =IFERROR((WEEKNUM(F11)),"") | G10: =IFERROR((WEEKNUM(G11)),"") | H10: =IFERROR((WEEKNUM(H11)),"") -> 5 | I10: =IFERROR((WEEKNUM(I11)),"") -> 6 | ... AL10: =IFERROR((WEEKNUM(AL11)),"")
B11: =IF(DAY(FebSun1)=1,"",IF(AND(YEAR(FebSun1+1)=CalendarYear,MONTH(FebSun1+1)=2),FebSun1+1,"")) | C11: =IF(DAY(FebSun1)=1,"",IF(AND(YEAR(FebSun1+2)=CalendarYear,MONTH(FebSun1+2)=2),FebSun1+2,"")) | D11: =IF(DAY(FebSun1)=1,"",IF(AND(YEAR(FebSun1+3)=CalendarYear,MONTH(FebSun1+3)=2),FebSun1+3,"")) | E11: =IF(DAY(FebSun1)=1,"",IF(AND(YEAR(FebSun1+4)=CalendarYear,MONTH(FebSun1+4)=2),FebSun1+4,"")) | F11: =IF(DAY(FebSun1)=1,"",IF(AND(YEAR(FebSun1+5)=CalendarYear,MONTH(FebSun1+5)=2),FebSun1+5,"")) | G11: =IF(DAY(FebSun1)=1,"",IF(AND(YEAR(FebSun1+6)=CalendarYear,MONTH(FebSun1+6)=2),FebSun1+6,"")) | H11: =IF(DAY(FebSun1)=1,IF(AND(YEAR(FebSun1)=CalendarYear,MONTH(FebSun1)=2),FebSun1,""),IF(AND(YEAR(FebSun1+7)=CalendarYear,MONTH(FebSun1+7)=2),FebSun1+7,"")) -> 45689 | I11: =IF(DAY(FebSun1)=1,IF(AND(YEAR(FebSun1+1)=CalendarYear,MONTH(FebSun1+1)=2),FebSun1+1,""),IF(AND(YEAR(FebSun1+8)=CalendarYear,MONTH(FebSun1+8)=2),FebSun1+8,"")) -> 45690 | J11: =IF(DAY(FebSun1)=1,IF(AND(YEAR(FebSun1+2)=CalendarYear,MONTH(FebSun1+2)=2),FebSun1+2,""),IF(AND(YEAR(FebSun1+9)=CalendarYear,MONTH(FebSun1+9)=2),FebSun1+9,"")) -> 45691 | K11: =IF(DAY(FebSun1)=1,IF(AND(YEAR(FebSun1+3)=CalendarYear,MONTH(FebSun1+3)=2),FebSun1+3,""),IF(AND(YEAR(FebSun1+10)=CalendarYear,MONTH(FebSun1+10)=2),FebSun1+10,"")) -> 45692 | L11: =IF(DAY(FebSun1)=1,IF(AND(YEAR(FebSun1+4)=CalendarYear,MONTH(FebSun1+4)=2),FebSun1+4,""),IF(AND(YEAR(FebSun1+11)=CalendarYear,MONTH(FebSun1+11)=2),FebSun1+11,"")) -> 45693 | M11: =IF(DAY(FebSun1)=1,IF(AND(YEAR(FebSun1+5)=CalendarYear,MONTH(FebSun1+5)=2),FebSun1+5,""),IF(AND(YEAR(FebSun1+12)=CalendarYear,MONTH(FebSun1+12)=2),FebSun1+12,"")) -> 45694 | N11: =IF(DAY(FebSun1)=1,IF(AND(YEAR(FebSun1+6)=CalendarYear,MONTH(FebSun1+6)=2),FebSun1+6,""),IF(AND(YEAR(FebSun1+13)=CalendarYear,MONTH(FebSun1+13)=2),FebSun1+13,"")) -> 45695 | O11: =IF(DAY(FebSun1)=1,IF(AND(YEAR(FebSun1+7)=CalendarYear,MONTH(FebSun1+7)=2),FebSun1+7,""),IF(AND(YEAR(FebSun1+14)=CalendarYear,MONTH(FebSun1+14)=2),FebSun1+14,"")) -> 45696 | P11: =IF(DAY(FebSun1)=1,IF(AND(YEAR(FebSun1+8)=CalendarYear,MONTH(FebSun1+8)=2),FebSun1+8,""),IF(AND(YEAR(FebSun1+15)=CalendarYear,MONTH(FebSun1+15)=2),FebSun1+15,"")) -> 45697 | Q11: =IF(DAY(FebSun1)=1,IF(AND(YEAR(FebSun1+9)=CalendarYear,MONTH(FebSun1+9)=2),FebSun1+9,""),IF(AND(YEAR(FebSun1+16)=CalendarYear,MONTH(FebSun1+16)=2),FebSun1+16,"")) -> 45698 | R11: =IF(DAY(FebSun1)=1,IF(AND(YEAR(FebSun1+10)=CalendarYear,MONTH(FebSun1+10)=2),FebSun1+10,""),IF(AND(YEAR(FebSun1+17)=CalendarYear,MONTH(FebSun1+17)=2),FebSun1+17,"")) -> 45699 | S11: =IF(DAY(FebSun1)=1,IF(AND(YEAR(FebSun1+11)=CalendarYear,MONTH(FebSun1+11)=2),FebSun1+11,""),IF(AND(YEAR(FebSun1+18)=CalendarYear,MONTH(FebSun1+18)=2),FebSun1+18,"")) -> 45700 | T11: =IF(DAY(FebSun1)=1,IF(AND(YEAR(FebSun1+12)=CalendarYear,MONTH(FebSun1+12)=2),FebSun1+12,""),IF(AND(YEAR(FebSun1+19)=CalendarYear,MONTH(FebSun1+19)=2),FebSun1+19,"")) -> 45701 | U11: =IF(DAY(FebSun1)=1,IF(AND(YEAR(FebSun1+13)=CalendarYear,MONTH(FebSun1+13)=2),FebSun1+13,""),IF(AND(YEAR(FebSun1+20)=CalendarYear,MONTH(FebSun1+20)=2),FebSun1+20,"")) -> 45702 | V11: =IF(DAY(FebSun1)=1,IF(AND(YEAR(FebSun1+14)=CalendarYear,MONTH(FebSun1+14)=2),FebSun1+14,""),IF(AND(YEAR(FebSun1+21)=CalendarYear,MONTH(FebSun1+21)=2),FebSun1+21,"")) -> 45703 | W11: =IF(DAY(FebSun1)=1,IF(AND(YEAR(FebSun1+15)=CalendarYear,MONTH(FebSun1+15)=2),FebSun1+15,""),IF(AND(YEAR(FebSun1+22)=CalendarYear,MONTH(FebSun1+22)=2),FebSun1+22,"")) -> 45704 | X11: =IF(DAY(FebSun1)=1,IF(AND(YEAR(FebSun1+16)=CalendarYear,MONTH(FebSun1+16)=2),FebSun1+16,""),IF(AND(YEAR(FebSun1+23)=CalendarYear,MONTH(FebSun1+23)=2),FebSun1+23,"")) -> 45705 | Y11: =IF(DAY(FebSun1)=1,IF(AND(YEAR(FebSun1+17)=CalendarYear,MONTH(FebSun1+17)=2),FebSun1+17,""),IF(AND(YEAR(FebSun1+24)=CalendarYear,MONTH(FebSun1+24)=2),FebSun1+24,"")) -> 45706 | Z11: =IF(DAY(FebSun1)=1,IF(AND(YEAR(FebSun1+18)=CalendarYear,MONTH(FebSun1+18)=2),FebSun1+18,""),IF(AND(YEAR(FebSun1+25)=CalendarYear,MONTH(FebSun1+25)=2),FebSun1+25,"")) -> 45707 | AA11: =IF(DAY(FebSun1)=1,IF(AND(YEAR(FebSun1+19)=CalendarYear,MONTH(FebSun1+19)=2),FebSun1+19,""),IF(AND(YEAR(FebSun1+26)=CalendarYear,MONTH(FebSun1+26)=2),FebSun1+26,"")) -> 45708 | AB11: =IF(DAY(FebSun1)=1,IF(AND(YEAR(FebSun1+20)=CalendarYear,MONTH(FebSun1+20)=2),FebSun1+20,""),IF(AND(YEAR(FebSun1+27)=CalendarYear,MONTH(FebSun1+27)=2),FebSun1+27,"")) -> 45709 | AC11: =IF(DAY(FebSun1)=1,IF(AND(YEAR(FebSun1+21)=CalendarYear,MONTH(FebSun1+21)=2),FebSun1+21,""),IF(AND(YEAR(FebSun1+28)=CalendarYear,MONTH(FebSun1+28)=2),FebSun1+28,"")) -> 45710 | AD11: =IF(DAY(FebSun1)=1,IF(AND(YEAR(FebSun1+22)=CalendarYear,MONTH(FebSun1+22)=2),FebSun1+22,""),IF(AND(YEAR(FebSun1+29)=CalendarYear,MONTH(FebSun1+29)=2),FebSun1+29,"")) -> 45711 | AE11: =IF(DAY(FebSun1)=1,IF(AND(YEAR(FebSun1+23)=CalendarYear,MONTH(FebSun1+23)=2),FebSun1+23,""),IF(AND(YEAR(FebSun1+30)=CalendarYear,MONTH(FebSun1+30)=2),FebSun1+30,"")) -> 45712 | AF11: =IF(DAY(FebSun1)=1,IF(AND(YEAR(FebSun1+24)=CalendarYear,MONTH(FebSun1+24)=2),FebSun1+24,""),IF(AND(YEAR(FebSun1+31)=CalendarYear,MONTH(FebSun1+31)=2),FebSun1+31,"")) -> 45713 | AG11: =IF(DAY(FebSun1)=1,IF(AND(YEAR(FebSun1+25)=CalendarYear,MONTH(FebSun1+25)=2),FebSun1+25,""),IF(AND(YEAR(FebSun1+32)=CalendarYear,MONTH(FebSun1+32)=2),FebSun1+32,"")) -> 45714 | AH11: =IF(DAY(FebSun1)=1,IF(AND(YEAR(FebSun1+26)=CalendarYear,MONTH(FebSun1+26)=2),FebSun1+26,""),IF(AND(YEAR(FebSun1+33)=CalendarYear,MONTH(FebSun1+33)=2),FebSun1+33,"")) -> 45715 | AI11: =IF(DAY(FebSun1)=1,IF(AND(YEAR(FebSun1+27)=CalendarYear,MONTH(FebSun1+27)=2),FebSun1+27,""),IF(AND(YEAR(FebSun1+34)=CalendarYear,MONTH(FebSun1+34)=2),FebSun1+34,"")) -> 45716 | AJ11: =IF(DAY(FebSun1)=1,IF(AND(YEAR(FebSun1+28)=CalendarYear,MONTH(FebSun1+28)=2),FebSun1+28,""),IF(AND(YEAR(FebSun1+35)=CalendarYear,MONTH(FebSun1+35)=2),FebSun1+35,"")) | AK11: =IF(DAY(FebSun1)=1,IF(AND(YEAR(FebSun1+29)=CalendarYear,MONTH(FebSun1+29)=2),FebSun1+29,""),IF(AND(YEAR(FebSun1+36)=CalendarYear,MONTH(FebSun1+36)=2),FebSun1+36,"")) | AL11: =IF(DAY(FebSun1)=1,IF(AND(YEAR(FebSun1+30)=CalendarYear,MONTH(FebSun1+30)=2),FebSun1+30,""),IF(AND(YEAR(FebSun1+37)=CalendarYear,MONTH(FebSun1+37)=2),FebSun1+37,""))
B12: Di | C12: Lu | D12: Ma | E12: Me | F12: Je | G12: Ve | H12: Sa | I12: Di | J12: Lu | K12: Ma | L12: Me | M12: Je | N12: Ve | O12: Sa | P12: Di | Q12: Lu | R12: Ma | S12: Me | T12: Je | U12: Ve | V12: Sa | W12: Di | X12: Lu | Y12: Ma | Z12: Me | AA12: Je | AB12: Ve | AC12: Sa | AD12: Di | AE12: Lu | AF12: Ma | AG12: Me | AH12: Je | AI12: Ve | AJ12: Sa | AK12: Di | AL12: Lu
A13: Congé | B13: C | C13: C | D13: C | E13: C | F13: C | G13: C | H13: C | I13: C | J13: C | K13: C | L13: C | M13: C | N13: C | O13: C | P13: C | Q13: C | R13: C | S13: C | T13: C | U13: C | V13: C | W13: C | X13: C | Y13: C | Z13: C | AA13: C | AB13: C | AC13: C | AD13: C | AE13: C | AF13: C | AG13: C | AH13: C | AI13: C | AJ13: C | AK13: C | AL13: C
A14: Télétravail | B14: T | C14: T | D14: T | E14: T | F14: T | G14: T | H14: T | I14: T | J14: T | K14: T | L14: T | M14: T | N14: T | O14: T | P14: T | Q14: T | R14: T | S14: T | T14: T | U14: T | V14: T | W14: T | X14: T | Y14: T | Z14: T | AA14: T | AB14: T | AC14: T | AD14: T | AE14: T | AF14: T | AG14: T | AH14: T | AI14: T | AJ14: T | AK14: T | AL14: T
A15: Déplacement | B15: =IF(AND(B11>='TABLEAU PERSONNEL'!$D$4,B11<='TABLEAU PERSONNEL'!$E$4),100,0) +IF(AND(B11>='TABLEAU PERSONNEL'!$D$5,B11<='TABLEAU PERSONNEL'!$E$5),100,0) +IF(AND(B11>='TABLEAU PERSONNEL'!$D$6,B11<='TABLEAU PERSONNEL'!$E$6),100,0) +IF(AND(B11>='TABLEAU PERSONNEL'!$D$7,B11<='TABLEAU PERSONNEL'!$E$7),100,0) +IF(AND(B11>='TABLEAU PERSONNEL'!$D$8,B11<='TABLEAU PERSONNEL'!$E$8),100,0) +IF(AND(B11>='TABLEAU PERSONNEL'!$D$9,B11<='TABLEAU PERSONNEL'!$E$9),100,0) +IF(AND(B11>='TABLEAU PERSONNEL'!$D$10,B11<='TABLEAU PERSONNEL'!$E$10),100,0) +IF(AND(B11>='TABLEAU PERSONNEL'!$D$11,B11<='TABLEAU PERSONNEL'!$E$11),100,0) +IF(AND(B11>='TABLEAU PERSONNEL'!$D$12,B11<='TABLEAU PERSONNEL'!$E$12),100,0) +IF(AND(B11>='TABLEAU PERSONNEL'!$D$13,B11<='TABLEAU PERSONNEL'!$E$13),100,0) +IF(AND(B11>='TABLEAU PERSONNEL'!$D$14,B11<='TABLEAU PERSONNEL'!$E$14),100,0) +IF(AND(B11>='TABLEAU PERSONNEL'!$D$15,B11<='TABLEAU PERSONNEL'!$E$15),100,0) +IF(AND(B11>='TABLEAU PERSONNEL'!$D$16,B11<='TABLEAU PERSONNEL'!$E$16),100,0) +IF(AND(B11>='TABLEAU PERSONNEL'!$D$17,B11<='TABLEAU PERSONNEL'!$E$17),100,0) +IF(AND(B11>='TABLEAU PERSONNEL'!$D$18,B11<='TABLEAU PERSONNEL'!$E$18),100,0) +IF(AND(B11>='TABLEAU PERSONNEL'!$D$19,B11<='TABLEAU PERSONNEL'!$E$19),100,0) +IF(AND(B11>='TABLEAU PERSONNEL'!$D$20,B11<='TABLEAU PERSONNEL'!$E$20),100,0) +IF(AND(B11>='TABLEAU PERSONNEL'!$D$21,B11<='TABLEAU PERSONNEL'!$E$21),100,0) +IF(AND(B11>='TABLEAU PERSONNEL'!$D$22,B11<='TABLEAU PERSONNEL'!$E$22),100,0) +IF(AND(B11>='TABLEAU PERSONNEL'!$D$23,B11<='TABLEAU PERSONNEL'!$E$23),100,0) +IF(AND(B11>='TABLEAU PERSONNEL'!$D$24,B11<='TABLEAU PERSONNEL'!$E$24),100,0) +IF(AND(B11>='TABLEAU PERSONNEL'!$D$25,B11<='TABLEAU PERSONNEL'!$E$25),100,0) +IF(AND(B11>='TABLEAU PERSONNEL'!$D$26,B11<='TABLEAU PERSONNEL'!$E$26),100,0) +IF(AND(B11>='TABLEAU PERSONNEL'!$D$27,B11<='TABLEAU PERSONNEL'!$E$27),100,0) +IF(AND(B11>='TABLEAU PERSONNEL'!$D$28,B11<='TABLEAU PERSONNEL'!$E$28),100,0) +IF(AND(B11>='TABLEAU PERSONNEL'!$D$29,B11<='TABLEAU PERSONNEL'!$E$29),100,0) +IF(AND(B11>='TABLEAU PERSONNEL'!$D$30,B11<='TABLEAU PERSONNEL'!$E$30),100,0) +IF(AND(B11>='TABLEAU PERSONNEL'!$D$31,B11<='TABLEAU PERSONNEL'!$E$31),100,0) +IF(AND(B11>='TABLEAU PERSONNEL'!$D$32,B11<='TABLEAU PERSONNEL'!$E$32),100,0) +IF(AND(B11>='TABLEAU PERSONNEL'!$D$33,B11<='TABLEAU PERSONNEL'!$E$33),100,0) +IF(AND(B11>='TABLEAU PERSONNEL'!$D$34,B11<='TABLEAU PERSONNEL'!$E$34),100,0) -> 2700 | C15: =IF(AND(C11>='TABLEAU PERSONNEL'!$D$4,C11<='TABLEAU PERSONNEL'!$E$4),100,0) +IF(AND(C11>='TABLEAU PERSONNEL'!$D$5,C11<='TABLEAU PERSONNEL'!$E$5),100,0) +IF(AND(C11>='TABLEAU PERSONNEL'!$D$6,C11<='TABLEAU PERSONNEL'!$E$6),100,0) +IF(AND(C11>='TABLEAU PERSONNEL'!$D$7,C11<='TABLEAU PERSONNEL'!$E$7),100,0) +IF(AND(C11>='TABLEAU PERSONNEL'!$D$8,C11<='TABLEAU PERSONNEL'!$E$8),100,0) +IF(AND(C11>='TABLEAU PERSONNEL'!$D$9,C11<='TABLEAU PERSONNEL'!$E$9),100,0) +IF(AND(C11>='TABLEAU PERSONNEL'!$D$10,C11<='TABLEAU PERSONNEL'!$E$10),100,0) +IF(AND(C11>='TABLEAU PERSONNEL'!$D$11,C11<='TABLEAU PERSONNEL'!$E$11),100,0) +IF(AND(C11>='TABLEAU PERSONNEL'!$D$12,C11<='TABLEAU PERSONNEL'!$E$12),100,0) +IF(AND(C11>='TABLEAU PERSONNEL'!$D$13,C11<='TABLEAU PERSONNEL'!$E$13),100,0) +IF(AND(C11>='TABLEAU PERSONNEL'!$D$14,C11<='TABLEAU PERSONNEL'!$E$14),100,0) +IF(AND(C11>='TABLEAU PERSONNEL'!$D$15,C11<='TABLEAU PERSONNEL'!$E$15),100,0) +IF(AND(C11>='TABLEAU PERSONNEL'!$D$16,C11<='TABLEAU PERSONNEL'!$E$16),100,0) +IF(AND(C11>='TABLEAU PERSONNEL'!$D$17,C11<='TABLEAU PERSONNEL'!$E$17),100,0) +IF(AND(C11>='TABLEAU PERSONNEL'!$D$18,C11<='TABLEAU PERSONNEL'!$E$18),100,0) +IF(AND(C11>='TABLEAU PERSONNEL'!$D$19,C11<='TABLEAU PERSONNEL'!$E$19),100,0) +IF(AND(C11>='TABLEAU PERSONNEL'!$D$20,C11<='TABLEAU PERSONNEL'!$E$20),100,0) +IF(AND(C11>='TABLEAU PERSONNEL'!$D$21,C11<='TABLEAU PERSONNEL'!$E$21),100,0) +IF(AND(C11>='TABLEAU PERSONNEL'!$D$22,C11<='TABLEAU PERSONNEL'!$E$22),100,0) +IF(AND(C11>='TABLEAU PERSONNEL'!$D$23,C11<='TABLEAU PERSONNEL'!$E$23),100,0) +IF(AND(C11>='TABLEAU PERSONNEL'!$D$24,C11<='TABLEAU PERSONNEL'!$E$24),100,0) +IF(AND(C11>='TABLEAU PERSONNEL'!$D$25,C11<='TABLEAU PERSONNEL'!$E$25),100,0) +IF(AND(C11>='TABLEAU PERSONNEL'!$D$26,C11<='TABLEAU PERSONNEL'!$E$26),100,0) +IF(AND(C11>='TABLEAU PERSONNEL'!$D$27,C11<='TABLEAU PERSONNEL'!$E$27),100,0) +IF(AND(C11>='TABLEAU PERSONNEL'!$D$28,C11<='TABLEAU PERSONNEL'!$E$28),100,0) +IF(AND(C11>='TABLEAU PERSONNEL'!$D$29,C11<='TABLEAU PERSONNEL'!$E$29),100,0) +IF(AND(C11>='TABLEAU PERSONNEL'!$D$30,C11<='TABLEAU PERSONNEL'!$E$30),100,0) +IF(AND(C11>='TABLEAU PERSONNEL'!$D$31,C11<='TABLEAU PERSONNEL'!$E$31),100,0) +IF(AND(C11>='TABLEAU PERSONNEL'!$D$32,C11<='TABLEAU PERSONNEL'!$E$32),100,0) +IF(AND(C11>='TABLEAU PERSONNEL'!$D$33,C11<='TABLEAU PERSONNEL'!$E$33),100,0) +IF(AND(C11>='TABLEAU PERSONNEL'!$D$34,C11<='TABLEAU PERSONNEL'!$E$34),100,0) -> 2700 | D15: =IF(AND(D11>='TABLEAU PERSONNEL'!$D$4,D11<='TABLEAU PERSONNEL'!$E$4),100,0) +IF(AND(D11>='TABLEAU PERSONNEL'!$D$5,D11<='TABLEAU PERSONNEL'!$E$5),100,0) +IF(AND(D11>='TABLEAU PERSONNEL'!$D$6,D11<='TABLEAU PERSONNEL'!$E$6),100,0) +IF(AND(D11>='TABLEAU PERSONNEL'!$D$7,D11<='TABLEAU PERSONNEL'!$E$7),100,0) +IF(AND(D11>='TABLEAU PERSONNEL'!$D$8,D11<='TABLEAU PERSONNEL'!$E$8),100,0) +IF(AND(D11>='TABLEAU PERSONNEL'!$D$9,D11<='TABLEAU PERSONNEL'!$E$9),100,0) +IF(AND(D11>='TABLEAU PERSONNEL'!$D$10,D11<='TABLEAU PERSONNEL'!$E$10),100,0) +IF(AND(D11>='TABLEAU PERSONNEL'!$D$11,D11<='TABLEAU PERSONNEL'!$E$11),100,0) +IF(AND(D11>='TABLEAU PERSONNEL'!$D$12,D11<='TABLEAU PERSONNEL'!$E$12),100,0) +IF(AND(D11>='TABLEAU PERSONNEL'!$D$13,D11<='TABLEAU PERSONNEL'!$E$13),100,0) +IF(AND(D11>='TABLEAU PERSONNEL'!$D$14,D11<='TABLEAU PERSONNEL'!$E$14),100,0) +IF(AND(D11>='TABLEAU PERSONNEL'!$D$15,D11<='TABLEAU PERSONNEL'!$E$15),100,0) +IF(AND(D11>='TABLEAU PERSONNEL'!$D$16,D11<='TABLEAU PERSONNEL'!$E$16),100,0) +IF(AND(D11>='TABLEAU PERSONNEL'!$D$17,D11<='TABLEAU PERSONNEL'!$E$17),100,0) +IF(AND(D11>='TABLEAU PERSONNEL'!$D$18,D11<='TABLEAU PERSONNEL'!$E$18),100,0) +IF(AND(D11>='TABLEAU PERSONNEL'!$D$19,D11<='TABLEAU PERSONNEL'!$E$19),100,0) +IF(AND(D11>='TABLEAU PERSONNEL'!$D$20,D11<='TABLEAU PERSONNEL'!$E$20),100,0) +IF(AND(D11>='TABLEAU PERSONNEL'!$D$21,D11<='TABLEAU PERSONNEL'!$E$21),100,0) +IF(AND(D11>='TABLEAU PERSONNEL'!$D$22,D11<='TABLEAU PERSONNEL'!$E$22),100,0) +IF(AND(D11>='TABLEAU PERSONNEL'!$D$23,D11<='TABLEAU PERSONNEL'!$E$23),100,0) +IF(AND(D11>='TABLEAU PERSONNEL'!$D$24,D11<='TABLEAU PERSONNEL'!$E$24),100,0) +IF(AND(D11>='TABLEAU PERSONNEL'!$D$25,D11<='TABLEAU PERSONNEL'!$E$25),100,0) +IF(AND(D11>='TABLEAU PERSONNEL'!$D$26,D11<='TABLEAU PERSONNEL'!$E$26),100,0) +IF(AND(D11>='TABLEAU PERSONNEL'!$D$27,D11<='TABLEAU PERSONNEL'!$E$27),100,0) +IF(AND(D11>='TABLEAU PERSONNEL'!$D$28,D11<='TABLEAU PERSONNEL'!$E$28),100,0) +IF(AND(D11>='TABLEAU PERSONNEL'!$D$29,D11<='TABLEAU PERSONNEL'!$E$29),100,0) +IF(AND(D11>='TABLEAU PERSONNEL'!$D$30,D11<='TABLEAU PERSONNEL'!$E$30),100,0) +IF(AND(D11>='TABLEAU PERSONNEL'!$D$31,D11<='TABLEAU PERSONNEL'!$E$31),100,0) +IF(AND(D11>='TABLEAU PERSONNEL'!$D$32,D11<='TABLEAU PERSONNEL'!$E$32),100,0) +IF(AND(D11>='TABLEAU PERSONNEL'!$D$33,D11<='TABLEAU PERSONNEL'!$E$33),100,0) +IF(AND(D11>='TABLEAU PERSONNEL'!$D$34,D11<='TABLEAU PERSONNEL'!$E$34),100,0) -> 2700 | E15: =IF(AND(E11>='TABLEAU PERSONNEL'!$D$4,E11<='TABLEAU PERSONNEL'!$E$4),100,0) +IF(AND(E11>='TABLEAU PERSONNEL'!$D$5,E11<='TABLEAU PERSONNEL'!$E$5),100,0) +IF(AND(E11>='TABLEAU PERSONNEL'!$D$6,E11<='TABLEAU PERSONNEL'!$E$6),100,0) +IF(AND(E11>='TABLEAU PERSONNEL'!$D$7,E11<='TABLEAU PERSONNEL'!$E$7),100,0) +IF(AND(E11>='TABLEAU PERSONNEL'!$D$8,E11<='TABLEAU PERSONNEL'!$E$8),100,0) +IF(AND(E11>='TABLEAU PERSONNEL'!$D$9,E11<='TABLEAU PERSONNEL'!$E$9),100,0) +IF(AND(E11>='TABLEAU PERSONNEL'!$D$10,E11<='TABLEAU PERSONNEL'!$E$10),100,0) +IF(AND(E11>='TABLEAU PERSONNEL'!$D$11,E11<='TABLEAU PERSONNEL'!$E$11),100,0) +IF(AND(E11>='TABLEAU PERSONNEL'!$D$12,E11<='TABLEAU PERSONNEL'!$E$12),100,0) +IF(AND(E11>='TABLEAU PERSONNEL'!$D$13,E11<='TABLEAU PERSONNEL'!$E$13),100,0) +IF(AND(E11>='TABLEAU PERSONNEL'!$D$14,E11<='TABLEAU PERSONNEL'!$E$14),100,0) +IF(AND(E11>='TABLEAU PERSONNEL'!$D$15,E11<='TABLEAU PERSONNEL'!$E$15),100,0) +IF(AND(E11>='TABLEAU PERSONNEL'!$D$16,E11<='TABLEAU PERSONNEL'!$E$16),100,0) +IF(AND(E11>='TABLEAU PERSONNEL'!$D$17,E11<='TABLEAU PERSONNEL'!$E$17),100,0) +IF(AND(E11>='TABLEAU PERSONNEL'!$D$18,E11<='TABLEAU PERSONNEL'!$E$18),100,0) +IF(AND(E11>='TABLEAU PERSONNEL'!$D$19,E11<='TABLEAU PERSONNEL'!$E$19),100,0) +IF(AND(E11>='TABLEAU PERSONNEL'!$D$20,E11<='TABLEAU PERSONNEL'!$E$20),100,0) +IF(AND(E11>='TABLEAU PERSONNEL'!$D$21,E11<='TABLEAU PERSONNEL'!$E$21),100,0) +IF(AND(E11>='TABLEAU PERSONNEL'!$D$22,E11<='TABLEAU PERSONNEL'!$E$22),100,0) +IF(AND(E11>='TABLEAU PERSONNEL'!$D$23,E11<='TABLEAU PERSONNEL'!$E$23),100,0) +IF(AND(E11>='TABLEAU PERSONNEL'!$D$24,E11<='TABLEAU PERSONNEL'!$E$24),100,0) +IF(AND(E11>='TABLEAU PERSONNEL'!$D$25,E11<='TABLEAU PERSONNEL'!$E$25),100,0) +IF(AND(E11>='TABLEAU PERSONNEL'!$D$26,E11<='TABLEAU PERSONNEL'!$E$26),100,0) +IF(AND(E11>='TABLEAU PERSONNEL'!$D$27,E11<='TABLEAU PERSONNEL'!$E$27),100,0) +IF(AND(E11>='TABLEAU PERSONNEL'!$D$28,E11<='TABLEAU PERSONNEL'!$E$28),100,0) +IF(AND(E11>='TABLEAU PERSONNEL'!$D$29,E11<='TABLEAU PERSONNEL'!$E$29),100,0) +IF(AND(E11>='TABLEAU PERSONNEL'!$D$30,E11<='TABLEAU PERSONNEL'!$E$30),100,0) +IF(AND(E11>='TABLEAU PERSONNEL'!$D$31,E11<='TABLEAU PERSONNEL'!$E$31),100,0) +IF(AND(E11>='TABLEAU PERSONNEL'!$D$32,E11<='TABLEAU PERSONNEL'!$E$32),100,0) +IF(AND(E11>='TABLEAU PERSONNEL'!$D$33,E11<='TABLEAU PERSONNEL'!$E$33),100,0) +IF(AND(E11>='TABLEAU PERSONNEL'!$D$34,E11<='TABLEAU PERSONNEL'!$E$34),100,0) -> 2700 | F15: =IF(AND(F11>='TABLEAU PERSONNEL'!$D$4,F11<='TABLEAU PERSONNEL'!$E$4),100,0) +IF(AND(F11>='TABLEAU PERSONNEL'!$D$5,F11<='TABLEAU PERSONNEL'!$E$5),100,0) +IF(AND(F11>='TABLEAU PERSONNEL'!$D$6,F11<='TABLEAU PERSONNEL'!$E$6),100,0) +IF(AND(F11>='TABLEAU PERSONNEL'!$D$7,F11<='TABLEAU PERSONNEL'!$E$7),100,0) +IF(AND(F11>='TABLEAU PERSONNEL'!$D$8,F11<='TABLEAU PERSONNEL'!$E$8),100,0) +IF(AND(F11>='TABLEAU PERSONNEL'!$D$9,F11<='TABLEAU PERSONNEL'!$E$9),100,0) +IF(AND(F11>='TABLEAU PERSONNEL'!$D$10,F11<='TABLEAU PERSONNEL'!$E$10),100,0) +IF(AND(F11>='TABLEAU PERSONNEL'!$D$11,F11<='TABLEAU PERSONNEL'!$E$11),100,0) +IF(AND(F11>='TABLEAU PERSONNEL'!$D$12,F11<='TABLEAU PERSONNEL'!$E$12),100,0) +IF(AND(F11>='TABLEAU PERSONNEL'!$D$13,F11<='TABLEAU PERSONNEL'!$E$13),100,0) +IF(AND(F11>='TABLEAU PERSONNEL'!$D$14,F11<='TABLEAU PERSONNEL'!$E$14),100,0) +IF(AND(F11>='TABLEAU PERSONNEL'!$D$15,F11<='TABLEAU PERSONNEL'!$E$15),100,0) +IF(AND(F11>='TABLEAU PERSONNEL'!$D$16,F11<='TABLEAU PERSONNEL'!$E$16),100,0) +IF(AND(F11>='TABLEAU PERSONNEL'!$D$17,F11<='TABLEAU PERSONNEL'!$E$17),100,0) +IF(AND(F11>='TABLEAU PERSONNEL'!$D$18,F11<='TABLEAU PERSONNEL'!$E$18),100,0) +IF(AND(F11>='TABLEAU PERSONNEL'!$D$19,F11<='TABLEAU PERSONNEL'!$E$19),100,0) +IF(AND(F11>='TABLEAU PERSONNEL'!$D$20,F11<='TABLEAU PERSONNEL'!$E$20),100,0) +IF(AND(F11>='TABLEAU PERSONNEL'!$D$21,F11<='TABLEAU PERSONNEL'!$E$21),100,0) +IF(AND(F11>='TABLEAU PERSONNEL'!$D$22,F11<='TABLEAU PERSONNEL'!$E$22),100,0) +IF(AND(F11>='TABLEAU PERSONNEL'!$D$23,F11<='TABLEAU PERSONNEL'!$E$23),100,0) +IF(AND(F11>='TABLEAU PERSONNEL'!$D$24,F11<='TABLEAU PERSONNEL'!$E$24),100,0) +IF(AND(F11>='TABLEAU PERSONNEL'!$D$25,F11<='TABLEAU PERSONNEL'!$E$25),100,0) +IF(AND(F11>='TABLEAU PERSONNEL'!$D$26,F11<='TABLEAU PERSONNEL'!$E$26),100,0) +IF(AND(F11>='TABLEAU PERSONNEL'!$D$27,F11<='TABLEAU PERSONNEL'!$E$27),100,0) +IF(AND(F11>='TABLEAU PERSONNEL'!$D$28,F11<='TABLEAU PERSONNEL'!$E$28),100,0) +IF(AND(F11>='TABLEAU PERSONNEL'!$D$29,F11<='TABLEAU PERSONNEL'!$E$29),100,0) +IF(AND(F11>='TABLEAU PERSONNEL'!$D$30,F11<='TABLEAU PERSONNEL'!$E$30),100,0) +IF(AND(F11>='TABLEAU PERSONNEL'!$D$31,F11<='TABLEAU PERSONNEL'!$E$31),100,0) +IF(AND(F11>='TABLEAU PERSONNEL'!$D$32,F11<='TABLEAU PERSONNEL'!$E$32),100,0) +IF(AND(F11>='TABLEAU PERSONNEL'!$D$33,F11<='TABLEAU PERSONNEL'!$E$33),100,0) +IF(AND(F11>='TABLEAU PERSONNEL'!$D$34,F11<='TABLEAU PERSONNEL'!$E$34),100,0) -> 2700 | G15: =IF(AND(G11>='TABLEAU PERSONNEL'!$D$4,G11<='TABLEAU PERSONNEL'!$E$4),100,0) +IF(AND(G11>='TABLEAU PERSONNEL'!$D$5,G11<='TABLEAU PERSONNEL'!$E$5),100,0) +IF(AND(G11>='TABLEAU PERSONNEL'!$D$6,G11<='TABLEAU PERSONNEL'!$E$6),100,0) +IF(AND(G11>='TABLEAU PERSONNEL'!$D$7,G11<='TABLEAU PERSONNEL'!$E$7),100,0) +IF(AND(G11>='TABLEAU PERSONNEL'!$D$8,G11<='TABLEAU PERSONNEL'!$E$8),100,0) +IF(AND(G11>='TABLEAU PERSONNEL'!$D$9,G11<='TABLEAU PERSONNEL'!$E$9),100,0) +IF(AND(G11>='TABLEAU PERSONNEL'!$D$10,G11<='TABLEAU PERSONNEL'!$E$10),100,0) +IF(AND(G11>='TABLEAU PERSONNEL'!$D$11,G11<='TABLEAU PERSONNEL'!$E$11),100,0) +IF(AND(G11>='TABLEAU PERSONNEL'!$D$12,G11<='TABLEAU PERSONNEL'!$E$12),100,0) +IF(AND(G11>='TABLEAU PERSONNEL'!$D$13,G11<='TABLEAU PERSONNEL'!$E$13),100,0) +IF(AND(G11>='TABLEAU PERSONNEL'!$D$14,G11<='TABLEAU PERSONNEL'!$E$14),100,0) +IF(AND(G11>='TABLEAU PERSONNEL'!$D$15,G11<='TABLEAU PERSONNEL'!$E$15),100,0) +IF(AND(G11>='TABLEAU PERSONNEL'!$D$16,G11<='TABLEAU PERSONNEL'!$E$16),100,0) +IF(AND(G11>='TABLEAU PERSONNEL'!$D$17,G11<='TABLEAU PERSONNEL'!$E$17),100,0) +IF(AND(G11>='TABLEAU PERSONNEL'!$D$18,G11<='TABLEAU PERSONNEL'!$E$18),100,0) +IF(AND(G11>='TABLEAU PERSONNEL'!$D$19,G11<='TABLEAU PERSONNEL'!$E$19),100,0) +IF(AND(G11>='TABLEAU PERSONNEL'!$D$20,G11<='TABLEAU PERSONNEL'!$E$20),100,0) +IF(AND(G11>='TABLEAU PERSONNEL'!$D$21,G11<='TABLEAU PERSONNEL'!$E$21),100,0) +IF(AND(G11>='TABLEAU PERSONNEL'!$D$22,G11<='TABLEAU PERSONNEL'!$E$22),100,0) +IF(AND(G11>='TABLEAU PERSONNEL'!$D$23,G11<='TABLEAU PERSONNEL'!$E$23),100,0) +IF(AND(G11>='TABLEAU PERSONNEL'!$D$24,G11<='TABLEAU PERSONNEL'!$E$24),100,0) +IF(AND(G11>='TABLEAU PERSONNEL'!$D$25,G11<='TABLEAU PERSONNEL'!$E$25),100,0) +IF(AND(G11>='TABLEAU PERSONNEL'!$D$26,G11<='TABLEAU PERSONNEL'!$E$26),100,0) +IF(AND(G11>='TABLEAU PERSONNEL'!$D$27,G11<='TABLEAU PERSONNEL'!$E$27),100,0) +IF(AND(G11>='TABLEAU PERSONNEL'!$D$28,G11<='TABLEAU PERSONNEL'!$E$28),100,0) +IF(AND(G11>='TABLEAU PERSONNEL'!$D$29,G11<='TABLEAU PERSONNEL'!$E$29),100,0) +IF(AND(G11>='TABLEAU PERSONNEL'!$D$30,G11<='TABLEAU PERSONNEL'!$E$30),100,0) +IF(AND(G11>='TABLEAU PERSONNEL'!$D$31,G11<='TABLEAU PERSONNEL'!$E$31),100,0) +IF(AND(G11>='TABLEAU PERSONNEL'!$D$32,G11<='TABLEAU PERSONNEL'!$E$32),100,0) +IF(AND(G11>='TABLEAU PERSONNEL'!$D$33,G11<='TABLEAU PERSONNEL'!$E$33),100,0) +IF(AND(G11>='TABLEAU PERSONNEL'!$D$34,G11<='TABLEAU PERSONNEL'!$E$34),100,0) -> 2700 | H15: =IF(AND(H11>='TABLEAU PERSONNEL'!$D$4,H11<='TABLEAU PERSONNEL'!$E$4),100,0) +IF(AND(H11>='TABLEAU PERSONNEL'!$D$5,H11<='TABLEAU PERSONNEL'!$E$5),100,0) +IF(AND(H11>='TABLEAU PERSONNEL'!$D$6,H11<='TABLEAU PERSONNEL'!$E$6),100,0) +IF(AND(H11>='TABLEAU PERSONNEL'!$D$7,H11<='TABLEAU PERSONNEL'!$E$7),100,0) +IF(AND(H11>='TABLEAU PERSONNEL'!$D$8,H11<='TABLEAU PERSONNEL'!$E$8),100,0) +IF(AND(H11>='TABLEAU PERSONNEL'!$D$9,H11<='TABLEAU PERSONNEL'!$E$9),100,0) +IF(AND(H11>='TABLEAU PERSONNEL'!$D$10,H11<='TABLEAU PERSONNEL'!$E$10),100,0) +IF(AND(H11>='TABLEAU PERSONNEL'!$D$11,H11<='TABLEAU PERSONNEL'!$E$11),100,0) +IF(AND(H11>='TABLEAU PERSONNEL'!$D$12,H11<='TABLEAU PERSONNEL'!$E$12),100,0) +IF(AND(H11>='TABLEAU PERSONNEL'!$D$13,H11<='TABLEAU PERSONNEL'!$E$13),100,0) +IF(AND(H11>='TABLEAU PERSONNEL'!$D$14,H11<='TABLEAU PERSONNEL'!$E$14),100,0) +IF(AND(H11>='TABLEAU PERSONNEL'!$D$15,H11<='TABLEAU PERSONNEL'!$E$15),100,0) +IF(AND(H11>='TABLEAU PERSONNEL'!$D$16,H11<='TABLEAU PERSONNEL'!$E$16),100,0) +IF(AND(H11>='TABLEAU PERSONNEL'!$D$17,H11<='TABLEAU PERSONNEL'!$E$17),100,0) +IF(AND(H11>='TABLEAU PERSONNEL'!$D$18,H11<='TABLEAU PERSONNEL'!$E$18),100,0) +IF(AND(H11>='TABLEAU PERSONNEL'!$D$19,H11<='TABLEAU PERSONNEL'!$E$19),100,0) +IF(AND(H11>='TABLEAU PERSONNEL'!$D$20,H11<='TABLEAU PERSONNEL'!$E$20),100,0) +IF(AND(H11>='TABLEAU PERSONNEL'!$D$21,H11<='TABLEAU PERSONNEL'!$E$21),100,0) +IF(AND(H11>='TABLEAU PERSONNEL'!$D$22,H11<='TABLEAU PERSONNEL'!$E$22),100,0) +IF(AND(H11>='TABLEAU PERSONNEL'!$D$23,H11<='TABLEAU PERSONNEL'!$E$23),100,0) +IF(AND(H11>='TABLEAU PERSONNEL'!$D$24,H11<='TABLEAU PERSONNEL'!$E$24),100,0) +IF(AND(H11>='TABLEAU PERSONNEL'!$D$25,H11<='TABLEAU PERSONNEL'!$E$25),100,0) +IF(AND(H11>='TABLEAU PERSONNEL'!$D$26,H11<='TABLEAU PERSONNEL'!$E$26),100,0) +IF(AND(H11>='TABLEAU PERSONNEL'!$D$27,H11<='TABLEAU PERSONNEL'!$E$27),100,0) +IF(AND(H11>='TABLEAU PERSONNEL'!$D$28,H11<='TABLEAU PERSONNEL'!$E$28),100,0) +IF(AND(H11>='TABLEAU PERSONNEL'!$D$29,H11<='TABLEAU PERSONNEL'!$E$29),100,0) +IF(AND(H11>='TABLEAU PERSONNEL'!$D$30,H11<='TABLEAU PERSONNEL'!$E$30),100,0) +IF(AND(H11>='TABLEAU PERSONNEL'!$D$31,H11<='TABLEAU PERSONNEL'!$E$31),100,0) +IF(AND(H11>='TABLEAU PERSONNEL'!$D$32,H11<='TABLEAU PERSONNEL'!$E$32),100,0) +IF(AND(H11>='TABLEAU PERSONNEL'!$D$33,H11<='TABLEAU PERSONNEL'!$E$33),100,0) +IF(AND(H11>='TABLEAU PERSONNEL'!$D$34,H11<='TABLEAU PERSONNEL'!$E$34),100,0) -> 0 | I15: =IF(AND(I11>='TABLEAU PERSONNEL'!$D$4,I11<='TABLEAU PERSONNEL'!$E$4),100,0) +IF(AND(I11>='TABLEAU PERSONNEL'!$D$5,I11<='TABLEAU PERSONNEL'!$E$5),100,0) +IF(AND(I11>='TABLEAU PERSONNEL'!$D$6,I11<='TABLEAU PERSONNEL'!$E$6),100,0) +IF(AND(I11>='TABLEAU PERSONNEL'!$D$7,I11<='TABLEAU PERSONNEL'!$E$7),100,0) +IF(AND(I11>='TABLEAU PERSONNEL'!$D$8,I11<='TABLEAU PERSONNEL'!$E$8),100,0) +IF(AND(I11>='TABLEAU PERSONNEL'!$D$9,I11<='TABLEAU PERSONNEL'!$E$9),100,0) +IF(AND(I11>='TABLEAU PERSONNEL'!$D$10,I11<='TABLEAU PERSONNEL'!$E$10),100,0) +IF(AND(I11>='TABLEAU PERSONNEL'!$D$11,I11<='TABLEAU PERSONNEL'!$E$11),100,0) +IF(AND(I11>='TABLEAU PERSONNEL'!$D$12,I11<='TABLEAU PERSONNEL'!$E$12),100,0) +IF(AND(I11>='TABLEAU PERSONNEL'!$D$13,I11<='TABLEAU PERSONNEL'!$E$13),100,0) +IF(AND(I11>='TABLEAU PERSONNEL'!$D$14,I11<='TABLEAU PERSONNEL'!$E$14),100,0) +IF(AND(I11>='TABLEAU PERSONNEL'!$D$15,I11<='TABLEAU PERSONNEL'!$E$15),100,0) +IF(AND(I11>='TABLEAU PERSONNEL'!$D$16,I11<='TABLEAU PERSONNEL'!$E$16),100,0) +IF(AND(I11>='TABLEAU PERSONNEL'!$D$17,I11<='TABLEAU PERSONNEL'!$E$17),100,0) +IF(AND(I11>='TABLEAU PERSONNEL'!$D$18,I11<='TABLEAU PERSONNEL'!$E$18),100,0) +IF(AND(I11>='TABLEAU PERSONNEL'!$D$19,I11<='TABLEAU PERSONNEL'!$E$19),100,0) +IF(AND(I11>='TABLEAU PERSONNEL'!$D$20,I11<='TABLEAU PERSONNEL'!$E$20),100,0) +IF(AND(I11>='TABLEAU PERSONNEL'!$D$21,I11<='TABLEAU PERSONNEL'!$E$21),100,0) +IF(AND(I11>='TABLEAU PERSONNEL'!$D$22,I11<='TABLEAU PERSONNEL'!$E$22),100,0) +IF(AND(I11>='TABLEAU PERSONNEL'!$D$23,I11<='TABLEAU PERSONNEL'!$E$23),100,0) +IF(AND(I11>='TABLEAU PERSONNEL'!$D$24,I11<='TABLEAU PERSONNEL'!$E$24),100,0) +IF(AND(I11>='TABLEAU PERSONNEL'!$D$25,I11<='TABLEAU PERSONNEL'!$E$25),100,0) +IF(AND(I11>='TABLEAU PERSONNEL'!$D$26,I11<='TABLEAU PERSONNEL'!$E$26),100,0) +IF(AND(I11>='TABLEAU PERSONNEL'!$D$27,I11<='TABLEAU PERSONNEL'!$E$27),100,0) +IF(AND(I11>='TABLEAU PERSONNEL'!$D$28,I11<='TABLEAU PERSONNEL'!$E$28),100,0) +IF(AND(I11>='TABLEAU PERSONNEL'!$D$29,I11<='TABLEAU PERSONNEL'!$E$29),100,0) +IF(AND(I11>='TABLEAU PERSONNEL'!$D$30,I11<='TABLEAU PERSONNEL'!$E$30),100,0) +IF(AND(I11>='TABLEAU PERSONNEL'!$D$31,I11<='TABLEAU PERSONNEL'!$E$31),100,0) +IF(AND(I11>='TABLEAU PERSONNEL'!$D$32,I11<='TABLEAU PERSONNEL'!$E$32),100,0) +IF(AND(I11>='TABLEAU PERSONNEL'!$D$33,I11<='TABLEAU PERSONNEL'!$E$33),100,0) +IF(AND(I11>='TABLEAU PERSONNEL'!$D$34,I11<='TABLEAU PERSONNEL'!$E$34),100,0) -> 0 | ... AL15: =IF(AND(AL11>='TABLEAU PERSONNEL'!$D$4,AL11<='TABLEAU PERSONNEL'!$E$4),100,0) +IF(AND(AL11>='TABLEAU PERSONNEL'!$D$5,AL11<='TABLEAU PERSONNEL'!$E$5),100,0) +IF(AND(AL11>='TABLEAU PERSONNEL'!$D$6,AL11<='TABLEAU PERSONNEL'!$E$6),100,0) +IF(AND(AL11>='TABLEAU PERSONNEL'!$D$7,AL11<='TABLEAU PERSONNEL'!$E$7),100,0) +IF(AND(AL11>='TABLEAU PERSONNEL'!$D$8,AL11<='TABLEAU PERSONNEL'!$E$8),100,0) +IF(AND(AL11>='TABLEAU PERSONNEL'!$D$9,AL11<='TABLEAU PERSONNEL'!$E$9),100,0) +IF(AND(AL11>='TABLEAU PERSONNEL'!$D$10,AL11<='TABLEAU PERSONNEL'!$E$10),100,0) +IF(AND(AL11>='TABLEAU PERSONNEL'!$D$11,AL11<='TABLEAU PERSONNEL'!$E$11),100,0) +IF(AND(AL11>='TABLEAU PERSONNEL'!$D$12,AL11<='TABLEAU PERSONNEL'!$E$12),100,0) +IF(AND(AL11>='TABLEAU PERSONNEL'!$D$13,AL11<='TABLEAU PERSONNEL'!$E$13),100,0) +IF(AND(AL11>='TABLEAU PERSONNEL'!$D$14,AL11<='TABLEAU PERSONNEL'!$E$14),100,0) +IF(AND(AL11>='TABLEAU PERSONNEL'!$D$15,AL11<='TABLEAU PERSONNEL'!$E$15),100,0) +IF(AND(AL11>='TABLEAU PERSONNEL'!$D$16,AL11<='TABLEAU PERSONNEL'!$E$16),100,0) +IF(AND(AL11>='TABLEAU PERSONNEL'!$D$17,AL11<='TABLEAU PERSONNEL'!$E$17),100,0) +IF(AND(AL11>='TABLEAU PERSONNEL'!$D$18,AL11<='TABLEAU PERSONNEL'!$E$18),100,0) +IF(AND(AL11>='TABLEAU PERSONNEL'!$D$19,AL11<='TABLEAU PERSONNEL'!$E$19),100,0) +IF(AND(AL11>='TABLEAU PERSONNEL'!$D$20,AL11<='TABLEAU PERSONNEL'!$E$20),100,0) +IF(AND(AL11>='TABLEAU PERSONNEL'!$D$21,AL11<='TABLEAU PERSONNEL'!$E$21),100,0) +IF(AND(AL11>='TABLEAU PERSONNEL'!$D$22,AL11<='TABLEAU PERSONNEL'!$E$22),100,0) +IF(AND(AL11>='TABLEAU PERSONNEL'!$D$23,AL11<='TABLEAU PERSONNEL'!$E$23),100,0) +IF(AND(AL11>='TABLEAU PERSONNEL'!$D$24,AL11<='TABLEAU PERSONNEL'!$E$24),100,0) +IF(AND(AL11>='TABLEAU PERSONNEL'!$D$25,AL11<='TABLEAU PERSONNEL'!$E$25),100,0) +IF(AND(AL11>='TABLEAU PERSONNEL'!$D$26,AL11<='TABLEAU PERSONNEL'!$E$26),100,0) +IF(AND(AL11>='TABLEAU PERSONNEL'!$D$27,AL11<='TABLEAU PERSONNEL'!$E$27),100,0) +IF(AND(AL11>='TABLEAU PERSONNEL'!$D$28,AL11<='TABLEAU PERSONNEL'!$E$28),100,0) +IF(AND(AL11>='TABLEAU PERSONNEL'!$D$29,AL11<='TABLEAU PERSONNEL'!$E$29),100,0) +IF(AND(AL11>='TABLEAU PERSONNEL'!$D$30,AL11<='TABLEAU PERSONNEL'!$E$30),100,0) +IF(AND(AL11>='TABLEAU PERSONNEL'!$D$31,AL11<='TABLEAU PERSONNEL'!$E$31),100,0) +IF(AND(AL11>='TABLEAU PERSONNEL'!$D$32,AL11<='TABLEAU PERSONNEL'!$E$32),100,0) +IF(AND(AL11>='TABLEAU PERSONNEL'!$D$33,AL11<='TABLEAU PERSONNEL'!$E$33),100,0) +IF(AND(AL11>='TABLEAU PERSONNEL'!$D$34,AL11<='TABLEAU PERSONNEL'!$E$34),100,0) -> 2700
A16: =DATE(CalendarYear,3,1) -> 45717 | B16: =IFERROR((WEEKNUM(B17)),"") | C16: =IFERROR((WEEKNUM(C17)),"") | D16: =IFERROR((WEEKNUM(D17)),"") | E16: =IFERROR((WEEKNUM(E17)),"") | F16: =IFERROR((WEEKNUM(F17)),"") | G16: =IFERROR((WEEKNUM(G17)),"") | H16: =IFERROR((WEEKNUM(H17)),"") -> 9 | I16: =IFERROR((WEEKNUM(I17)),"") -> 10 | ... AL16: =IFERROR((WEEKNUM(AL17)),"") -> 14
B17: =IF(DAY(MarSun1)=1,"",IF(AND(YEAR(MarSun1+1)=CalendarYear,MONTH(MarSun1+1)=3),MarSun1+1,"")) | C17: =IF(DAY(MarSun1)=1,"",IF(AND(YEAR(MarSun1+2)=CalendarYear,MONTH(MarSun1+2)=3),MarSun1+2,"")) | D17: =IF(DAY(MarSun1)=1,"",IF(AND(YEAR(MarSun1+3)=CalendarYear,MONTH(MarSun1+3)=3),MarSun1+3,"")) | E17: =IF(DAY(MarSun1)=1,"",IF(AND(YEAR(MarSun1+4)=CalendarYear,MONTH(MarSun1+4)=3),MarSun1+4,"")) | F17: =IF(DAY(MarSun1)=1,"",IF(AND(YEAR(MarSun1+5)=CalendarYear,MONTH(MarSun1+5)=3),MarSun1+5,"")) | G17: =IF(DAY(MarSun1)=1,"",IF(AND(YEAR(MarSun1+6)=CalendarYear,MONTH(MarSun1+6)=3),MarSun1+6,"")) | H17: =IF(DAY(MarSun1)=1,IF(AND(YEAR(MarSun1)=CalendarYear,MONTH(MarSun1)=3),MarSun1,""),IF(AND(YEAR(MarSun1+7)=CalendarYear,MONTH(MarSun1+7)=3),MarSun1+7,"")) -> 45717 | I17: =IF(DAY(MarSun1)=1,IF(AND(YEAR(MarSun1+1)=CalendarYear,MONTH(MarSun1+1)=3),MarSun1+1,""),IF(AND(YEAR(MarSun1+8)=CalendarYear,MONTH(MarSun1+8)=3),MarSun1+8,"")) -> 45718 | J17: =IF(DAY(MarSun1)=1,IF(AND(YEAR(MarSun1+2)=CalendarYear,MONTH(MarSun1+2)=3),MarSun1+2,""),IF(AND(YEAR(MarSun1+9)=CalendarYear,MONTH(MarSun1+9)=3),MarSun1+9,"")) -> 45719 | K17: =IF(DAY(MarSun1)=1,IF(AND(YEAR(MarSun1+3)=CalendarYear,MONTH(MarSun1+3)=3),MarSun1+3,""),IF(AND(YEAR(MarSun1+10)=CalendarYear,MONTH(MarSun1+10)=3),MarSun1+10,"")) -> 45720 | L17: =IF(DAY(MarSun1)=1,IF(AND(YEAR(MarSun1+4)=CalendarYear,MONTH(MarSun1+4)=3),MarSun1+4,""),IF(AND(YEAR(MarSun1+11)=CalendarYear,MONTH(MarSun1+11)=3),MarSun1+11,"")) -> 45721 | M17: =IF(DAY(MarSun1)=1,IF(AND(YEAR(MarSun1+5)=CalendarYear,MONTH(MarSun1+5)=3),MarSun1+5,""),IF(AND(YEAR(MarSun1+12)=CalendarYear,MONTH(MarSun1+12)=3),MarSun1+12,"")) -> 45722 | N17: =IF(DAY(MarSun1)=1,IF(AND(YEAR(MarSun1+6)=CalendarYear,MONTH(MarSun1+6)=3),MarSun1+6,""),IF(AND(YEAR(MarSun1+13)=CalendarYear,MONTH(MarSun1+13)=3),MarSun1+13,"")) -> 45723 | O17: =IF(DAY(MarSun1)=1,IF(AND(YEAR(MarSun1+7)=CalendarYear,MONTH(MarSun1+7)=3),MarSun1+7,""),IF(AND(YEAR(MarSun1+14)=CalendarYear,MONTH(MarSun1+14)=3),MarSun1+14,"")) -> 45724 | P17: =IF(DAY(MarSun1)=1,IF(AND(YEAR(MarSun1+8)=CalendarYear,MONTH(MarSun1+8)=3),MarSun1+8,""),IF(AND(YEAR(MarSun1+15)=CalendarYear,MONTH(MarSun1+15)=3),MarSun1+15,"")) -> 45725 | Q17: =IF(DAY(MarSun1)=1,IF(AND(YEAR(MarSun1+9)=CalendarYear,MONTH(MarSun1+9)=3),MarSun1+9,""),IF(AND(YEAR(MarSun1+16)=CalendarYear,MONTH(MarSun1+16)=3),MarSun1+16,"")) -> 45726 | R17: =IF(DAY(MarSun1)=1,IF(AND(YEAR(MarSun1+10)=CalendarYear,MONTH(MarSun1+10)=3),MarSun1+10,""),IF(AND(YEAR(MarSun1+17)=CalendarYear,MONTH(MarSun1+17)=3),MarSun1+17,"")) -> 45727 | S17: =IF(DAY(MarSun1)=1,IF(AND(YEAR(MarSun1+11)=CalendarYear,MONTH(MarSun1+11)=3),MarSun1+11,""),IF(AND(YEAR(MarSun1+18)=CalendarYear,MONTH(MarSun1+18)=3),MarSun1+18,"")) -> 45728 | T17: =IF(DAY(MarSun1)=1,IF(AND(YEAR(MarSun1+12)=CalendarYear,MONTH(MarSun1+12)=3),MarSun1+12,""),IF(AND(YEAR(MarSun1+19)=CalendarYear,MONTH(MarSun1+19)=3),MarSun1+19,"")) -> 45729 | U17: =IF(DAY(MarSun1)=1,IF(AND(YEAR(MarSun1+13)=CalendarYear,MONTH(MarSun1+13)=3),MarSun1+13,""),IF(AND(YEAR(MarSun1+20)=CalendarYear,MONTH(MarSun1+20)=3),MarSun1+20,"")) -> 45730 | V17: =IF(DAY(MarSun1)=1,IF(AND(YEAR(MarSun1+14)=CalendarYear,MONTH(MarSun1+14)=3),MarSun1+14,""),IF(AND(YEAR(MarSun1+21)=CalendarYear,MONTH(MarSun1+21)=3),MarSun1+21,"")) -> 45731 | W17: =IF(DAY(MarSun1)=1,IF(AND(YEAR(MarSun1+15)=CalendarYear,MONTH(MarSun1+15)=3),MarSun1+15,""),IF(AND(YEAR(MarSun1+22)=CalendarYear,MONTH(MarSun1+22)=3),MarSun1+22,"")) -> 45732 | X17: =IF(DAY(MarSun1)=1,IF(AND(YEAR(MarSun1+16)=CalendarYear,MONTH(MarSun1+16)=3),MarSun1+16,""),IF(AND(YEAR(MarSun1+23)=CalendarYear,MONTH(MarSun1+23)=3),MarSun1+23,"")) -> 45733 | Y17: =IF(DAY(MarSun1)=1,IF(AND(YEAR(MarSun1+17)=CalendarYear,MONTH(MarSun1+17)=3),MarSun1+17,""),IF(AND(YEAR(MarSun1+24)=CalendarYear,MONTH(MarSun1+24)=3),MarSun1+24,"")) -> 45734 | Z17: =IF(DAY(MarSun1)=1,IF(AND(YEAR(MarSun1+18)=CalendarYear,MONTH(MarSun1+18)=3),MarSun1+18,""),IF(AND(YEAR(MarSun1+25)=CalendarYear,MONTH(MarSun1+25)=3),MarSun1+25,"")) -> 45735 | AA17: =IF(DAY(MarSun1)=1,IF(AND(YEAR(MarSun1+19)=CalendarYear,MONTH(MarSun1+19)=3),MarSun1+19,""),IF(AND(YEAR(MarSun1+26)=CalendarYear,MONTH(MarSun1+26)=3),MarSun1+26,"")) -> 45736 | AB17: =IF(DAY(MarSun1)=1,IF(AND(YEAR(MarSun1+20)=CalendarYear,MONTH(MarSun1+20)=3),MarSun1+20,""),IF(AND(YEAR(MarSun1+27)=CalendarYear,MONTH(MarSun1+27)=3),MarSun1+27,"")) -> 45737 | AC17: =IF(DAY(MarSun1)=1,IF(AND(YEAR(MarSun1+21)=CalendarYear,MONTH(MarSun1+21)=3),MarSun1+21,""),IF(AND(YEAR(MarSun1+28)=CalendarYear,MONTH(MarSun1+28)=3),MarSun1+28,"")) -> 45738 | AD17: =IF(DAY(MarSun1)=1,IF(AND(YEAR(MarSun1+22)=CalendarYear,MONTH(MarSun1+22)=3),MarSun1+22,""),IF(AND(YEAR(MarSun1+29)=CalendarYear,MONTH(MarSun1+29)=3),MarSun1+29,"")) -> 45739 | AE17: =IF(DAY(MarSun1)=1,IF(AND(YEAR(MarSun1+23)=CalendarYear,MONTH(MarSun1+23)=3),MarSun1+23,""),IF(AND(YEAR(MarSun1+30)=CalendarYear,MONTH(MarSun1+30)=3),MarSun1+30,"")) -> 45740 | AF17: =IF(DAY(MarSun1)=1,IF(AND(YEAR(MarSun1+24)=CalendarYear,MONTH(MarSun1+24)=3),MarSun1+24,""),IF(AND(YEAR(MarSun1+31)=CalendarYear,MONTH(MarSun1+31)=3),MarSun1+31,"")) -> 45741 | AG17: =IF(DAY(MarSun1)=1,IF(AND(YEAR(MarSun1+25)=CalendarYear,MONTH(MarSun1+25)=3),MarSun1+25,""),IF(AND(YEAR(MarSun1+32)=CalendarYear,MONTH(MarSun1+32)=3),MarSun1+32,"")) -> 45742 | AH17: =IF(DAY(MarSun1)=1,IF(AND(YEAR(MarSun1+26)=CalendarYear,MONTH(MarSun1+26)=3),MarSun1+26,""),IF(AND(YEAR(MarSun1+33)=CalendarYear,MONTH(MarSun1+33)=3),MarSun1+33,"")) -> 45743 | AI17: =IF(DAY(MarSun1)=1,IF(AND(YEAR(MarSun1+27)=CalendarYear,MONTH(MarSun1+27)=3),MarSun1+27,""),IF(AND(YEAR(MarSun1+34)=CalendarYear,MONTH(MarSun1+34)=3),MarSun1+34,"")) -> 45744 | AJ17: =IF(DAY(MarSun1)=1,IF(AND(YEAR(MarSun1+28)=CalendarYear,MONTH(MarSun1+28)=3),MarSun1+28,""),IF(AND(YEAR(MarSun1+35)=CalendarYear,MONTH(MarSun1+35)=3),MarSun1+35,"")) -> 45745 | AK17: =IF(DAY(MarSun1)=1,IF(AND(YEAR(MarSun1+29)=CalendarYear,MONTH(MarSun1+29)=3),MarSun1+29,""),IF(AND(YEAR(MarSun1+36)=CalendarYear,MONTH(MarSun1+36)=3),MarSun1+36,"")) -> 45746 | AL17: =IF(DAY(MarSun1)=1,IF(AND(YEAR(MarSun1+30)=CalendarYear,MONTH(MarSun1+30)=3),MarSun1+30,""),IF(AND(YEAR(MarSun1+37)=CalendarYear,MONTH(MarSun1+37)=3),MarSun1+37,"")) -> 45747
B18: Di | C18: Lu | D18: Ma | E18: Me | F18: Je | G18: Ve | H18: Sa | I18: Di | J18: Lu | K18: Ma | L18: Me | M18: Je | N18: Ve | O18: Sa | P18: Di | Q18: Lu | R18: Ma | S18: Me | T18: Je | U18: Ve | V18: Sa | W18: Di | X18: Lu | Y18: Ma | Z18: Me | AA18: Je | AB18: Ve | AC18: Sa | AD18: Di | AE18: Lu | AF18: Ma | AG18: Me | AH18: Je | AI18: Ve | AJ18: Sa | AK18: Di | AL18: Lu
A19: Congé | B19: C | C19: C | D19: C | E19: C | F19: C | G19: C | H19: C | I19: C | J19: C | K19: C | L19: C | M19: C | N19: C | O19: C | P19: C | Q19: C | R19: C | S19: C | T19: C | U19: C | V19: C | W19: C | X19: C | Y19: C | Z19: C | AA19: C | AB19: C | AC19: C | AD19: C | AE19: C | AF19: C | AG19: C | AH19: C | AI19: C | AJ19: C | AK19: C | AL19: C
A20: Télétravail | B20: T | C20: T | D20: T | E20: T | F20: T | G20: T | H20: T | I20: T | J20: T | K20: T | L20: T | M20: T | N20: T | O20: T | P20: T | Q20: T | R20: T | S20: T | T20: T | U20: T | V20: T | W20: T | X20: T | Y20: T | Z20: T | AA20: T | AB20: T | AC20: T | AD20: T | AE20: T | AF20: T | AG20: T | AH20: T | AI20: T | AJ20: T | AK20: T | AL20: T
A21: Déplacement | B21: =IF(AND(B17>='TABLEAU PERSONNEL'!$D$4,B17<='TABLEAU PERSONNEL'!$E$4),100,0) +IF(AND(B17>='TABLEAU PERSONNEL'!$D$5,B17<='TABLEAU PERSONNEL'!$E$5),100,0) +IF(AND(B17>='TABLEAU PERSONNEL'!$D$6,B17<='TABLEAU PERSONNEL'!$E$6),100,0) +IF(AND(B17>='TABLEAU PERSONNEL'!$D$7,B17<='TABLEAU PERSONNEL'!$E$7),100,0) +IF(AND(B17>='TABLEAU PERSONNEL'!$D$8,B17<='TABLEAU PERSONNEL'!$E$8),100,0) +IF(AND(B17>='TABLEAU PERSONNEL'!$D$9,B17<='TABLEAU PERSONNEL'!$E$9),100,0) +IF(AND(B17>='TABLEAU PERSONNEL'!$D$10,B17<='TABLEAU PERSONNEL'!$E$10),100,0) +IF(AND(B17>='TABLEAU PERSONNEL'!$D$11,B17<='TABLEAU PERSONNEL'!$E$11),100,0) +IF(AND(B17>='TABLEAU PERSONNEL'!$D$12,B17<='TABLEAU PERSONNEL'!$E$12),100,0) +IF(AND(B17>='TABLEAU PERSONNEL'!$D$13,B17<='TABLEAU PERSONNEL'!$E$13),100,0) +IF(AND(B17>='TABLEAU PERSONNEL'!$D$14,B17<='TABLEAU PERSONNEL'!$E$14),100,0) +IF(AND(B17>='TABLEAU PERSONNEL'!$D$15,B17<='TABLEAU PERSONNEL'!$E$15),100,0) +IF(AND(B17>='TABLEAU PERSONNEL'!$D$16,B17<='TABLEAU PERSONNEL'!$E$16),100,0) +IF(AND(B17>='TABLEAU PERSONNEL'!$D$17,B17<='TABLEAU PERSONNEL'!$E$17),100,0) +IF(AND(B17>='TABLEAU PERSONNEL'!$D$18,B17<='TABLEAU PERSONNEL'!$E$18),100,0) +IF(AND(B17>='TABLEAU PERSONNEL'!$D$19,B17<='TABLEAU PERSONNEL'!$E$19),100,0) +IF(AND(B17>='TABLEAU PERSONNEL'!$D$20,B17<='TABLEAU PERSONNEL'!$E$20),100,0) +IF(AND(B17>='TABLEAU PERSONNEL'!$D$21,B17<='TABLEAU PERSONNEL'!$E$21),100,0) +IF(AND(B17>='TABLEAU PERSONNEL'!$D$22,B17<='TABLEAU PERSONNEL'!$E$22),100,0) +IF(AND(B17>='TABLEAU PERSONNEL'!$D$23,B17<='TABLEAU PERSONNEL'!$E$23),100,0) +IF(AND(B17>='TABLEAU PERSONNEL'!$D$24,B17<='TABLEAU PERSONNEL'!$E$24),100,0) +IF(AND(B17>='TABLEAU PERSONNEL'!$D$25,B17<='TABLEAU PERSONNEL'!$E$25),100,0) +IF(AND(B17>='TABLEAU PERSONNEL'!$D$26,B17<='TABLEAU PERSONNEL'!$E$26),100,0) +IF(AND(B17>='TABLEAU PERSONNEL'!$D$27,B17<='TABLEAU PERSONNEL'!$E$27),100,0) +IF(AND(B17>='TABLEAU PERSONNEL'!$D$28,B17<='TABLEAU PERSONNEL'!$E$28),100,0) +IF(AND(B17>='TABLEAU PERSONNEL'!$D$29,B17<='TABLEAU PERSONNEL'!$E$29),100,0) +IF(AND(B17>='TABLEAU PERSONNEL'!$D$30,B17<='TABLEAU PERSONNEL'!$E$30),100,0) +IF(AND(B17>='TABLEAU PERSONNEL'!$D$31,B17<='TABLEAU PERSONNEL'!$E$31),100,0) +IF(AND(B17>='TABLEAU PERSONNEL'!$D$32,B17<='TABLEAU PERSONNEL'!$E$32),100,0) +IF(AND(B17>='TABLEAU PERSONNEL'!$D$33,B17<='TABLEAU PERSONNEL'!$E$33),100,0) +IF(AND(B17>='TABLEAU PERSONNEL'!$D$34,B17<='TABLEAU PERSONNEL'!$E$34),100,0) -> 2700 | C21: =IF(AND(C17>='TABLEAU PERSONNEL'!$D$4,C17<='TABLEAU PERSONNEL'!$E$4),100,0) +IF(AND(C17>='TABLEAU PERSONNEL'!$D$5,C17<='TABLEAU PERSONNEL'!$E$5),100,0) +IF(AND(C17>='TABLEAU PERSONNEL'!$D$6,C17<='TABLEAU PERSONNEL'!$E$6),100,0) +IF(AND(C17>='TABLEAU PERSONNEL'!$D$7,C17<='TABLEAU PERSONNEL'!$E$7),100,0) +IF(AND(C17>='TABLEAU PERSONNEL'!$D$8,C17<='TABLEAU PERSONNEL'!$E$8),100,0) +IF(AND(C17>='TABLEAU PERSONNEL'!$D$9,C17<='TABLEAU PERSONNEL'!$E$9),100,0) +IF(AND(C17>='TABLEAU PERSONNEL'!$D$10,C17<='TABLEAU PERSONNEL'!$E$10),100,0) +IF(AND(C17>='TABLEAU PERSONNEL'!$D$11,C17<='TABLEAU PERSONNEL'!$E$11),100,0) +IF(AND(C17>='TABLEAU PERSONNEL'!$D$12,C17<='TABLEAU PERSONNEL'!$E$12),100,0) +IF(AND(C17>='TABLEAU PERSONNEL'!$D$13,C17<='TABLEAU PERSONNEL'!$E$13),100,0) +IF(AND(C17>='TABLEAU PERSONNEL'!$D$14,C17<='TABLEAU PERSONNEL'!$E$14),100,0) +IF(AND(C17>='TABLEAU PERSONNEL'!$D$15,C17<='TABLEAU PERSONNEL'!$E$15),100,0) +IF(AND(C17>='TABLEAU PERSONNEL'!$D$16,C17<='TABLEAU PERSONNEL'!$E$16),100,0) +IF(AND(C17>='TABLEAU PERSONNEL'!$D$17,C17<='TABLEAU PERSONNEL'!$E$17),100,0) +IF(AND(C17>='TABLEAU PERSONNEL'!$D$18,C17<='TABLEAU PERSONNEL'!$E$18),100,0) +IF(AND(C17>='TABLEAU PERSONNEL'!$D$19,C17<='TABLEAU PERSONNEL'!$E$19),100,0) +IF(AND(C17>='TABLEAU PERSONNEL'!$D$20,C17<='TABLEAU PERSONNEL'!$E$20),100,0) +IF(AND(C17>='TABLEAU PERSONNEL'!$D$21,C17<='TABLEAU PERSONNEL'!$E$21),100,0) +IF(AND(C17>='TABLEAU PERSONNEL'!$D$22,C17<='TABLEAU PERSONNEL'!$E$22),100,0) +IF(AND(C17>='TABLEAU PERSONNEL'!$D$23,C17<='TABLEAU PERSONNEL'!$E$23),100,0) +IF(AND(C17>='TABLEAU PERSONNEL'!$D$24,C17<='TABLEAU PERSONNEL'!$E$24),100,0) +IF(AND(C17>='TABLEAU PERSONNEL'!$D$25,C17<='TABLEAU PERSONNEL'!$E$25),100,0) +IF(AND(C17>='TABLEAU PERSONNEL'!$D$26,C17<='TABLEAU PERSONNEL'!$E$26),100,0) +IF(AND(C17>='TABLEAU PERSONNEL'!$D$27,C17<='TABLEAU PERSONNEL'!$E$27),100,0) +IF(AND(C17>='TABLEAU PERSONNEL'!$D$28,C17<='TABLEAU PERSONNEL'!$E$28),100,0) +IF(AND(C17>='TABLEAU PERSONNEL'!$D$29,C17<='TABLEAU PERSONNEL'!$E$29),100,0) +IF(AND(C17>='TABLEAU PERSONNEL'!$D$30,C17<='TABLEAU PERSONNEL'!$E$30),100,0) +IF(AND(C17>='TABLEAU PERSONNEL'!$D$31,C17<='TABLEAU PERSONNEL'!$E$31),100,0) +IF(AND(C17>='TABLEAU PERSONNEL'!$D$32,C17<='TABLEAU PERSONNEL'!$E$32),100,0) +IF(AND(C17>='TABLEAU PERSONNEL'!$D$33,C17<='TABLEAU PERSONNEL'!$E$33),100,0) +IF(AND(C17>='TABLEAU PERSONNEL'!$D$34,C17<='TABLEAU PERSONNEL'!$E$34),100,0) -> 2700 | D21: =IF(AND(D17>='TABLEAU PERSONNEL'!$D$4,D17<='TABLEAU PERSONNEL'!$E$4),100,0) +IF(AND(D17>='TABLEAU PERSONNEL'!$D$5,D17<='TABLEAU PERSONNEL'!$E$5),100,0) +IF(AND(D17>='TABLEAU PERSONNEL'!$D$6,D17<='TABLEAU PERSONNEL'!$E$6),100,0) +IF(AND(D17>='TABLEAU PERSONNEL'!$D$7,D17<='TABLEAU PERSONNEL'!$E$7),100,0) +IF(AND(D17>='TABLEAU PERSONNEL'!$D$8,D17<='TABLEAU PERSONNEL'!$E$8),100,0) +IF(AND(D17>='TABLEAU PERSONNEL'!$D$9,D17<='TABLEAU PERSONNEL'!$E$9),100,0) +IF(AND(D17>='TABLEAU PERSONNEL'!$D$10,D17<='TABLEAU PERSONNEL'!$E$10),100,0) +IF(AND(D17>='TABLEAU PERSONNEL'!$D$11,D17<='TABLEAU PERSONNEL'!$E$11),100,0) +IF(AND(D17>='TABLEAU PERSONNEL'!$D$12,D17<='TABLEAU PERSONNEL'!$E$12),100,0) +IF(AND(D17>='TABLEAU PERSONNEL'!$D$13,D17<='TABLEAU PERSONNEL'!$E$13),100,0) +IF(AND(D17>='TABLEAU PERSONNEL'!$D$14,D17<='TABLEAU PERSONNEL'!$E$14),100,0) +IF(AND(D17>='TABLEAU PERSONNEL'!$D$15,D17<='TABLEAU PERSONNEL'!$E$15),100,0) +IF(AND(D17>='TABLEAU PERSONNEL'!$D$16,D17<='TABLEAU PERSONNEL'!$E$16),100,0) +IF(AND(D17>='TABLEAU PERSONNEL'!$D$17,D17<='TABLEAU PERSONNEL'!$E$17),100,0) +IF(AND(D17>='TABLEAU PERSONNEL'!$D$18,D17<='TABLEAU PERSONNEL'!$E$18),100,0) +IF(AND(D17>='TABLEAU PERSONNEL'!$D$19,D17<='TABLEAU PERSONNEL'!$E$19),100,0) +IF(AND(D17>='TABLEAU PERSONNEL'!$D$20,D17<='TABLEAU PERSONNEL'!$E$20),100,0) +IF(AND(D17>='TABLEAU PERSONNEL'!$D$21,D17<='TABLEAU PERSONNEL'!$E$21),100,0) +IF(AND(D17>='TABLEAU PERSONNEL'!$D$22,D17<='TABLEAU PERSONNEL'!$E$22),100,0) +IF(AND(D17>='TABLEAU PERSONNEL'!$D$23,D17<='TABLEAU PERSONNEL'!$E$23),100,0) +IF(AND(D17>='TABLEAU PERSONNEL'!$D$24,D17<='TABLEAU PERSONNEL'!$E$24),100,0) +IF(AND(D17>='TABLEAU PERSONNEL'!$D$25,D17<='TABLEAU PERSONNEL'!$E$25),100,0) +IF(AND(D17>='TABLEAU PERSONNEL'!$D$26,D17<='TABLEAU PERSONNEL'!$E$26),100,0) +IF(AND(D17>='TABLEAU PERSONNEL'!$D$27,D17<='TABLEAU PERSONNEL'!$E$27),100,0) +IF(AND(D17>='TABLEAU PERSONNEL'!$D$28,D17<='TABLEAU PERSONNEL'!$E$28),100,0) +IF(AND(D17>='TABLEAU PERSONNEL'!$D$29,D17<='TABLEAU PERSONNEL'!$E$29),100,0) +IF(AND(D17>='TABLEAU PERSONNEL'!$D$30,D17<='TABLEAU PERSONNEL'!$E$30),100,0) +IF(AND(D17>='TABLEAU PERSONNEL'!$D$31,D17<='TABLEAU PERSONNEL'!$E$31),100,0) +IF(AND(D17>='TABLEAU PERSONNEL'!$D$32,D17<='TABLEAU PERSONNEL'!$E$32),100,0) +IF(AND(D17>='TABLEAU PERSONNEL'!$D$33,D17<='TABLEAU PERSONNEL'!$E$33),100,0) +IF(AND(D17>='TABLEAU PERSONNEL'!$D$34,D17<='TABLEAU PERSONNEL'!$E$34),100,0) -> 2700 | E21: =IF(AND(E17>='TABLEAU PERSONNEL'!$D$4,E17<='TABLEAU PERSONNEL'!$E$4),100,0) +IF(AND(E17>='TABLEAU PERSONNEL'!$D$5,E17<='TABLEAU PERSONNEL'!$E$5),100,0) +IF(AND(E17>='TABLEAU PERSONNEL'!$D$6,E17<='TABLEAU PERSONNEL'!$E$6),100,0) +IF(AND(E17>='TABLEAU PERSONNEL'!$D$7,E17<='TABLEAU PERSONNEL'!$E$7),100,0) +IF(AND(E17>='TABLEAU PERSONNEL'!$D$8,E17<='TABLEAU PERSONNEL'!$E$8),100,0) +IF(AND(E17>='TABLEAU PERSONNEL'!$D$9,E17<='TABLEAU PERSONNEL'!$E$9),100,0) +IF(AND(E17>='TABLEAU PERSONNEL'!$D$10,E17<='TABLEAU PERSONNEL'!$E$10),100,0) +IF(AND(E17>='TABLEAU PERSONNEL'!$D$11,E17<='TABLEAU PERSONNEL'!$E$11),100,0) +IF(AND(E17>='TABLEAU PERSONNEL'!$D$12,E17<='TABLEAU PERSONNEL'!$E$12),100,0) +IF(AND(E17>='TABLEAU PERSONNEL'!$D$13,E17<='TABLEAU PERSONNEL'!$E$13),100,0) +IF(AND(E17>='TABLEAU PERSONNEL'!$D$14,E17<='TABLEAU PERSONNEL'!$E$14),100,0) +IF(AND(E17>='TABLEAU PERSONNEL'!$D$15,E17<='TABLEAU PERSONNEL'!$E$15),100,0) +IF(AND(E17>='TABLEAU PERSONNEL'!$D$16,E17<='TABLEAU PERSONNEL'!$E$16),100,0) +IF(AND(E17>='TABLEAU PERSONNEL'!$D$17,E17<='TABLEAU PERSONNEL'!$E$17),100,0) +IF(AND(E17>='TABLEAU PERSONNEL'!$D$18,E17<='TABLEAU PERSONNEL'!$E$18),100,0) +IF(AND(E17>='TABLEAU PERSONNEL'!$D$19,E17<='TABLEAU PERSONNEL'!$E$19),100,0) +IF(AND(E17>='TABLEAU PERSONNEL'!$D$20,E17<='TABLEAU PERSONNEL'!$E$20),100,0) +IF(AND(E17>='TABLEAU PERSONNEL'!$D$21,E17<='TABLEAU PERSONNEL'!$E$21),100,0) +IF(AND(E17>='TABLEAU PERSONNEL'!$D$22,E17<='TABLEAU PERSONNEL'!$E$22),100,0) +IF(AND(E17>='TABLEAU PERSONNEL'!$D$23,E17<='TABLEAU PERSONNEL'!$E$23),100,0) +IF(AND(E17>='TABLEAU PERSONNEL'!$D$24,E17<='TABLEAU PERSONNEL'!$E$24),100,0) +IF(AND(E17>='TABLEAU PERSONNEL'!$D$25,E17<='TABLEAU PERSONNEL'!$E$25),100,0) +IF(AND(E17>='TABLEAU PERSONNEL'!$D$26,E17<='TABLEAU PERSONNEL'!$E$26),100,0) +IF(AND(E17>='TABLEAU PERSONNEL'!$D$27,E17<='TABLEAU PERSONNEL'!$E$27),100,0) +IF(AND(E17>='TABLEAU PERSONNEL'!$D$28,E17<='TABLEAU PERSONNEL'!$E$28),100,0) +IF(AND(E17>='TABLEAU PERSONNEL'!$D$29,E17<='TABLEAU PERSONNEL'!$E$29),100,0) +IF(AND(E17>='TABLEAU PERSONNEL'!$D$30,E17<='TABLEAU PERSONNEL'!$E$30),100,0) +IF(AND(E17>='TABLEAU PERSONNEL'!$D$31,E17<='TABLEAU PERSONNEL'!$E$31),100,0) +IF(AND(E17>='TABLEAU PERSONNEL'!$D$32,E17<='TABLEAU PERSONNEL'!$E$32),100,0) +IF(AND(E17>='TABLEAU PERSONNEL'!$D$33,E17<='TABLEAU PERSONNEL'!$E$33),100,0) +IF(AND(E17>='TABLEAU PERSONNEL'!$D$34,E17<='TABLEAU PERSONNEL'!$E$34),100,0) -> 2700 | F21: =IF(AND(F17>='TABLEAU PERSONNEL'!$D$4,F17<='TABLEAU PERSONNEL'!$E$4),100,0) +IF(AND(F17>='TABLEAU PERSONNEL'!$D$5,F17<='TABLEAU PERSONNEL'!$E$5),100,0) +IF(AND(F17>='TABLEAU PERSONNEL'!$D$6,F17<='TABLEAU PERSONNEL'!$E$6),100,0) +IF(AND(F17>='TABLEAU PERSONNEL'!$D$7,F17<='TABLEAU PERSONNEL'!$E$7),100,0) +IF(AND(F17>='TABLEAU PERSONNEL'!$D$8,F17<='TABLEAU PERSONNEL'!$E$8),100,0) +IF(AND(F17>='TABLEAU PERSONNEL'!$D$9,F17<='TABLEAU PERSONNEL'!$E$9),100,0) +IF(AND(F17>='TABLEAU PERSONNEL'!$D$10,F17<='TABLEAU PERSONNEL'!$E$10),100,0) +IF(AND(F17>='TABLEAU PERSONNEL'!$D$11,F17<='TABLEAU PERSONNEL'!$E$11),100,0) +IF(AND(F17>='TABLEAU PERSONNEL'!$D$12,F17<='TABLEAU PERSONNEL'!$E$12),100,0) +IF(AND(F17>='TABLEAU PERSONNEL'!$D$13,F17<='TABLEAU PERSONNEL'!$E$13),100,0) +IF(AND(F17>='TABLEAU PERSONNEL'!$D$14,F17<='TABLEAU PERSONNEL'!$E$14),100,0) +IF(AND(F17>='TABLEAU PERSONNEL'!$D$15,F17<='TABLEAU PERSONNEL'!$E$15),100,0) +IF(AND(F17>='TABLEAU PERSONNEL'!$D$16,F17<='TABLEAU PERSONNEL'!$E$16),100,0) +IF(AND(F17>='TABLEAU PERSONNEL'!$D$17,F17<='TABLEAU PERSONNEL'!$E$17),100,0) +IF(AND(F17>='TABLEAU PERSONNEL'!$D$18,F17<='TABLEAU PERSONNEL'!$E$18),100,0) +IF(AND(F17>='TABLEAU PERSONNEL'!$D$19,F17<='TABLEAU PERSONNEL'!$E$19),100,0) +IF(AND(F17>='TABLEAU PERSONNEL'!$D$20,F17<='TABLEAU PERSONNEL'!$E$20),100,0) +IF(AND(F17>='TABLEAU PERSONNEL'!$D$21,F17<='TABLEAU PERSONNEL'!$E$21),100,0) +IF(AND(F17>='TABLEAU PERSONNEL'!$D$22,F17<='TABLEAU PERSONNEL'!$E$22),100,0) +IF(AND(F17>='TABLEAU PERSONNEL'!$D$23,F17<='TABLEAU PERSONNEL'!$E$23),100,0) +IF(AND(F17>='TABLEAU PERSONNEL'!$D$24,F17<='TABLEAU PERSONNEL'!$E$24),100,0) +IF(AND(F17>='TABLEAU PERSONNEL'!$D$25,F17<='TABLEAU PERSONNEL'!$E$25),100,0) +IF(AND(F17>='TABLEAU PERSONNEL'!$D$26,F17<='TABLEAU PERSONNEL'!$E$26),100,0) +IF(AND(F17>='TABLEAU PERSONNEL'!$D$27,F17<='TABLEAU PERSONNEL'!$E$27),100,0) +IF(AND(F17>='TABLEAU PERSONNEL'!$D$28,F17<='TABLEAU PERSONNEL'!$E$28),100,0) +IF(AND(F17>='TABLEAU PERSONNEL'!$D$29,F17<='TABLEAU PERSONNEL'!$E$29),100,0) +IF(AND(F17>='TABLEAU PERSONNEL'!$D$30,F17<='TABLEAU PERSONNEL'!$E$30),100,0) +IF(AND(F17>='TABLEAU PERSONNEL'!$D$31,F17<='TABLEAU PERSONNEL'!$E$31),100,0) +IF(AND(F17>='TABLEAU PERSONNEL'!$D$32,F17<='TABLEAU PERSONNEL'!$E$32),100,0) +IF(AND(F17>='TABLEAU PERSONNEL'!$D$33,F17<='TABLEAU PERSONNEL'!$E$33),100,0) +IF(AND(F17>='TABLEAU PERSONNEL'!$D$34,F17<='TABLEAU PERSONNEL'!$E$34),100,0) -> 2700 | G21: =IF(AND(G17>='TABLEAU PERSONNEL'!$D$4,G17<='TABLEAU PERSONNEL'!$E$4),100,0) +IF(AND(G17>='TABLEAU PERSONNEL'!$D$5,G17<='TABLEAU PERSONNEL'!$E$5),100,0) +IF(AND(G17>='TABLEAU PERSONNEL'!$D$6,G17<='TABLEAU PERSONNEL'!$E$6),100,0) +IF(AND(G17>='TABLEAU PERSONNEL'!$D$7,G17<='TABLEAU PERSONNEL'!$E$7),100,0) +IF(AND(G17>='TABLEAU PERSONNEL'!$D$8,G17<='TABLEAU PERSONNEL'!$E$8),100,0) +IF(AND(G17>='TABLEAU PERSONNEL'!$D$9,G17<='TABLEAU PERSONNEL'!$E$9),100,0) +IF(AND(G17>='TABLEAU PERSONNEL'!$D$10,G17<='TABLEAU PERSONNEL'!$E$10),100,0) +IF(AND(G17>='TABLEAU PERSONNEL'!$D$11,G17<='TABLEAU PERSONNEL'!$E$11),100,0) +IF(AND(G17>='TABLEAU PERSONNEL'!$D$12,G17<='TABLEAU PERSONNEL'!$E$12),100,0) +IF(AND(G17>='TABLEAU PERSONNEL'!$D$13,G17<='TABLEAU PERSONNEL'!$E$13),100,0) +IF(AND(G17>='TABLEAU PERSONNEL'!$D$14,G17<='TABLEAU PERSONNEL'!$E$14),100,0) +IF(AND(G17>='TABLEAU PERSONNEL'!$D$15,G17<='TABLEAU PERSONNEL'!$E$15),100,0) +IF(AND(G17>='TABLEAU PERSONNEL'!$D$16,G17<='TABLEAU PERSONNEL'!$E$16),100,0) +IF(AND(G17>='TABLEAU PERSONNEL'!$D$17,G17<='TABLEAU PERSONNEL'!$E$17),100,0) +IF(AND(G17>='TABLEAU PERSONNEL'!$D$18,G17<='TABLEAU PERSONNEL'!$E$18),100,0) +IF(AND(G17>='TABLEAU PERSONNEL'!$D$19,G17<='TABLEAU PERSONNEL'!$E$19),100,0) +IF(AND(G17>='TABLEAU PERSONNEL'!$D$20,G17<='TABLEAU PERSONNEL'!$E$20),100,0) +IF(AND(G17>='TABLEAU PERSONNEL'!$D$21,G17<='TABLEAU PERSONNEL'!$E$21),100,0) +IF(AND(G17>='TABLEAU PERSONNEL'!$D$22,G17<='TABLEAU PERSONNEL'!$E$22),100,0) +IF(AND(G17>='TABLEAU PERSONNEL'!$D$23,G17<='TABLEAU PERSONNEL'!$E$23),100,0) +IF(AND(G17>='TABLEAU PERSONNEL'!$D$24,G17<='TABLEAU PERSONNEL'!$E$24),100,0) +IF(AND(G17>='TABLEAU PERSONNEL'!$D$25,G17<='TABLEAU PERSONNEL'!$E$25),100,0) +IF(AND(G17>='TABLEAU PERSONNEL'!$D$26,G17<='TABLEAU PERSONNEL'!$E$26),100,0) +IF(AND(G17>='TABLEAU PERSONNEL'!$D$27,G17<='TABLEAU PERSONNEL'!$E$27),100,0) +IF(AND(G17>='TABLEAU PERSONNEL'!$D$28,G17<='TABLEAU PERSONNEL'!$E$28),100,0) +IF(AND(G17>='TABLEAU PERSONNEL'!$D$29,G17<='TABLEAU PERSONNEL'!$E$29),100,0) +IF(AND(G17>='TABLEAU PERSONNEL'!$D$30,G17<='TABLEAU PERSONNEL'!$E$30),100,0) +IF(AND(G17>='TABLEAU PERSONNEL'!$D$31,G17<='TABLEAU PERSONNEL'!$E$31),100,0) +IF(AND(G17>='TABLEAU PERSONNEL'!$D$32,G17<='TABLEAU PERSONNEL'!$E$32),100,0) +IF(AND(G17>='TABLEAU PERSONNEL'!$D$33,G17<='TABLEAU PERSONNEL'!$E$33),100,0) +IF(AND(G17>='TABLEAU PERSONNEL'!$D$34,G17<='TABLEAU PERSONNEL'!$E$34),100,0) -> 2700 | H21: =IF(AND(H17>='TABLEAU PERSONNEL'!$D$4,H17<='TABLEAU PERSONNEL'!$E$4),100,0) +IF(AND(H17>='TABLEAU PERSONNEL'!$D$5,H17<='TABLEAU PERSONNEL'!$E$5),100,0) +IF(AND(H17>='TABLEAU PERSONNEL'!$D$6,H17<='TABLEAU PERSONNEL'!$E$6),100,0) +IF(AND(H17>='TABLEAU PERSONNEL'!$D$7,H17<='TABLEAU PERSONNEL'!$E$7),100,0) +IF(AND(H17>='TABLEAU PERSONNEL'!$D$8,H17<='TABLEAU PERSONNEL'!$E$8),100,0) +IF(AND(H17>='TABLEAU PERSONNEL'!$D$9,H17<='TABLEAU PERSONNEL'!$E$9),100,0) +IF(AND(H17>='TABLEAU PERSONNEL'!$D$10,H17<='TABLEAU PERSONNEL'!$E$10),100,0) +IF(AND(H17>='TABLEAU PERSONNEL'!$D$11,H17<='TABLEAU PERSONNEL'!$E$11),100,0) +IF(AND(H17>='TABLEAU PERSONNEL'!$D$12,H17<='TABLEAU PERSONNEL'!$E$12),100,0) +IF(AND(H17>='TABLEAU PERSONNEL'!$D$13,H17<='TABLEAU PERSONNEL'!$E$13),100,0) +IF(AND(H17>='TABLEAU PERSONNEL'!$D$14,H17<='TABLEAU PERSONNEL'!$E$14),100,0) +IF(AND(H17>='TABLEAU PERSONNEL'!$D$15,H17<='TABLEAU PERSONNEL'!$E$15),100,0) +IF(AND(H17>='TABLEAU PERSONNEL'!$D$16,H17<='TABLEAU PERSONNEL'!$E$16),100,0) +IF(AND(H17>='TABLEAU PERSONNEL'!$D$17,H17<='TABLEAU PERSONNEL'!$E$17),100,0) +IF(AND(H17>='TABLEAU PERSONNEL'!$D$18,H17<='TABLEAU PERSONNEL'!$E$18),100,0) +IF(AND(H17>='TABLEAU PERSONNEL'!$D$19,H17<='TABLEAU PERSONNEL'!$E$19),100,0) +IF(AND(H17>='TABLEAU PERSONNEL'!$D$20,H17<='TABLEAU PERSONNEL'!$E$20),100,0) +IF(AND(H17>='TABLEAU PERSONNEL'!$D$21,H17<='TABLEAU PERSONNEL'!$E$21),100,0) +IF(AND(H17>='TABLEAU PERSONNEL'!$D$22,H17<='TABLEAU PERSONNEL'!$E$22),100,0) +IF(AND(H17>='TABLEAU PERSONNEL'!$D$23,H17<='TABLEAU PERSONNEL'!$E$23),100,0) +IF(AND(H17>='TABLEAU PERSONNEL'!$D$24,H17<='TABLEAU PERSONNEL'!$E$24),100,0) +IF(AND(H17>='TABLEAU PERSONNEL'!$D$25,H17<='TABLEAU PERSONNEL'!$E$25),100,0) +IF(AND(H17>='TABLEAU PERSONNEL'!$D$26,H17<='TABLEAU PERSONNEL'!$E$26),100,0) +IF(AND(H17>='TABLEAU PERSONNEL'!$D$27,H17<='TABLEAU PERSONNEL'!$E$27),100,0) +IF(AND(H17>='TABLEAU PERSONNEL'!$D$28,H17<='TABLEAU PERSONNEL'!$E$28),100,0) +IF(AND(H17>='TABLEAU PERSONNEL'!$D$29,H17<='TABLEAU PERSONNEL'!$E$29),100,0) +IF(AND(H17>='TABLEAU PERSONNEL'!$D$30,H17<='TABLEAU PERSONNEL'!$E$30),100,0) +IF(AND(H17>='TABLEAU PERSONNEL'!$D$31,H17<='TABLEAU PERSONNEL'!$E$31),100,0) +IF(AND(H17>='TABLEAU PERSONNEL'!$D$32,H17<='TABLEAU PERSONNEL'!$E$32),100,0) +IF(AND(H17>='TABLEAU PERSONNEL'!$D$33,H17<='TABLEAU PERSONNEL'!$E$33),100,0) +IF(AND(H17>='TABLEAU PERSONNEL'!$D$34,H17<='TABLEAU PERSONNEL'!$E$34),100,0) -> 100 | I21: =IF(AND(I17>='TABLEAU PERSONNEL'!$D$4,I17<='TABLEAU PERSONNEL'!$E$4),100,0) +IF(AND(I17>='TABLEAU PERSONNEL'!$D$5,I17<='TABLEAU PERSONNEL'!$E$5),100,0) +IF(AND(I17>='TABLEAU PERSONNEL'!$D$6,I17<='TABLEAU PERSONNEL'!$E$6),100,0) +IF(AND(I17>='TABLEAU PERSONNEL'!$D$7,I17<='TABLEAU PERSONNEL'!$E$7),100,0) +IF(AND(I17>='TABLEAU PERSONNEL'!$D$8,I17<='TABLEAU PERSONNEL'!$E$8),100,0) +IF(AND(I17>='TABLEAU PERSONNEL'!$D$9,I17<='TABLEAU PERSONNEL'!$E$9),100,0) +IF(AND(I17>='TABLEAU PERSONNEL'!$D$10,I17<='TABLEAU PERSONNEL'!$E$10),100,0) +IF(AND(I17>='TABLEAU PERSONNEL'!$D$11,I17<='TABLEAU PERSONNEL'!$E$11),100,0) +IF(AND(I17>='TABLEAU PERSONNEL'!$D$12,I17<='TABLEAU PERSONNEL'!$E$12),100,0) +IF(AND(I17>='TABLEAU PERSONNEL'!$D$13,I17<='TABLEAU PERSONNEL'!$E$13),100,0) +IF(AND(I17>='TABLEAU PERSONNEL'!$D$14,I17<='TABLEAU PERSONNEL'!$E$14),100,0) +IF(AND(I17>='TABLEAU PERSONNEL'!$D$15,I17<='TABLEAU PERSONNEL'!$E$15),100,0) +IF(AND(I17>='TABLEAU PERSONNEL'!$D$16,I17<='TABLEAU PERSONNEL'!$E$16),100,0) +IF(AND(I17>='TABLEAU PERSONNEL'!$D$17,I17<='TABLEAU PERSONNEL'!$E$17),100,0) +IF(AND(I17>='TABLEAU PERSONNEL'!$D$18,I17<='TABLEAU PERSONNEL'!$E$18),100,0) +IF(AND(I17>='TABLEAU PERSONNEL'!$D$19,I17<='TABLEAU PERSONNEL'!$E$19),100,0) +IF(AND(I17>='TABLEAU PERSONNEL'!$D$20,I17<='TABLEAU PERSONNEL'!$E$20),100,0) +IF(AND(I17>='TABLEAU PERSONNEL'!$D$21,I17<='TABLEAU PERSONNEL'!$E$21),100,0) +IF(AND(I17>='TABLEAU PERSONNEL'!$D$22,I17<='TABLEAU PERSONNEL'!$E$22),100,0) +IF(AND(I17>='TABLEAU PERSONNEL'!$D$23,I17<='TABLEAU PERSONNEL'!$E$23),100,0) +IF(AND(I17>='TABLEAU PERSONNEL'!$D$24,I17<='TABLEAU PERSONNEL'!$E$24),100,0) +IF(AND(I17>='TABLEAU PERSONNEL'!$D$25,I17<='TABLEAU PERSONNEL'!$E$25),100,0) +IF(AND(I17>='TABLEAU PERSONNEL'!$D$26,I17<='TABLEAU PERSONNEL'!$E$26),100,0) +IF(AND(I17>='TABLEAU PERSONNEL'!$D$27,I17<='TABLEAU PERSONNEL'!$E$27),100,0) +IF(AND(I17>='TABLEAU PERSONNEL'!$D$28,I17<='TABLEAU PERSONNEL'!$E$28),100,0) +IF(AND(I17>='TABLEAU PERSONNEL'!$D$29,I17<='TABLEAU PERSONNEL'!$E$29),100,0) +IF(AND(I17>='TABLEAU PERSONNEL'!$D$30,I17<='TABLEAU PERSONNEL'!$E$30),100,0) +IF(AND(I17>='TABLEAU PERSONNEL'!$D$31,I17<='TABLEAU PERSONNEL'!$E$31),100,0) +IF(AND(I17>='TABLEAU PERSONNEL'!$D$32,I17<='TABLEAU PERSONNEL'!$E$32),100,0) +IF(AND(I17>='TABLEAU PERSONNEL'!$D$33,I17<='TABLEAU PERSONNEL'!$E$33),100,0) +IF(AND(I17>='TABLEAU PERSONNEL'!$D$34,I17<='TABLEAU PERSONNEL'!$E$34),100,0) -> 0 | ... AL21: =IF(AND(AL17>='TABLEAU PERSONNEL'!$D$4,AL17<='TABLEAU PERSONNEL'!$E$4),100,0) +IF(AND(AL17>='TABLEAU PERSONNEL'!$D$5,AL17<='TABLEAU PERSONNEL'!$E$5),100,0) +IF(AND(AL17>='TABLEAU PERSONNEL'!$D$6,AL17<='TABLEAU PERSONNEL'!$E$6),100,0) +IF(AND(AL17>='TABLEAU PERSONNEL'!$D$7,AL17<='TABLEAU PERSONNEL'!$E$7),100,0) +IF(AND(AL17>='TABLEAU PERSONNEL'!$D$8,AL17<='TABLEAU PERSONNEL'!$E$8),100,0) +IF(AND(AL17>='TABLEAU PERSONNEL'!$D$9,AL17<='TABLEAU PERSONNEL'!$E$9),100,0) +IF(AND(AL17>='TABLEAU PERSONNEL'!$D$10,AL17<='TABLEAU PERSONNEL'!$E$10),100,0) +IF(AND(AL17>='TABLEAU PERSONNEL'!$D$11,AL17<='TABLEAU PERSONNEL'!$E$11),100,0) +IF(AND(AL17>='TABLEAU PERSONNEL'!$D$12,AL17<='TABLEAU PERSONNEL'!$E$12),100,0) +IF(AND(AL17>='TABLEAU PERSONNEL'!$D$13,AL17<='TABLEAU PERSONNEL'!$E$13),100,0) +IF(AND(AL17>='TABLEAU PERSONNEL'!$D$14,AL17<='TABLEAU PERSONNEL'!$E$14),100,0) +IF(AND(AL17>='TABLEAU PERSONNEL'!$D$15,AL17<='TABLEAU PERSONNEL'!$E$15),100,0) +IF(AND(AL17>='TABLEAU PERSONNEL'!$D$16,AL17<='TABLEAU PERSONNEL'!$E$16),100,0) +IF(AND(AL17>='TABLEAU PERSONNEL'!$D$17,AL17<='TABLEAU PERSONNEL'!$E$17),100,0) +IF(AND(AL17>='TABLEAU PERSONNEL'!$D$18,AL17<='TABLEAU PERSONNEL'!$E$18),100,0) +IF(AND(AL17>='TABLEAU PERSONNEL'!$D$19,AL17<='TABLEAU PERSONNEL'!$E$19),100,0) +IF(AND(AL17>='TABLEAU PERSONNEL'!$D$20,AL17<='TABLEAU PERSONNEL'!$E$20),100,0) +IF(AND(AL17>='TABLEAU PERSONNEL'!$D$21,AL17<='TABLEAU PERSONNEL'!$E$21),100,0) +IF(AND(AL17>='TABLEAU PERSONNEL'!$D$22,AL17<='TABLEAU PERSONNEL'!$E$22),100,0) +IF(AND(AL17>='TABLEAU PERSONNEL'!$D$23,AL17<='TABLEAU PERSONNEL'!$E$23),100,0) +IF(AND(AL17>='TABLEAU PERSONNEL'!$D$24,AL17<='TABLEAU PERSONNEL'!$E$24),100,0) +IF(AND(AL17>='TABLEAU PERSONNEL'!$D$25,AL17<='TABLEAU PERSONNEL'!$E$25),100,0) +IF(AND(AL17>='TABLEAU PERSONNEL'!$D$26,AL17<='TABLEAU PERSONNEL'!$E$26),100,0) +IF(AND(AL17>='TABLEAU PERSONNEL'!$D$27,AL17<='TABLEAU PERSONNEL'!$E$27),100,0) +IF(AND(AL17>='TABLEAU PERSONNEL'!$D$28,AL17<='TABLEAU PERSONNEL'!$E$28),100,0) +IF(AND(AL17>='TABLEAU PERSONNEL'!$D$29,AL17<='TABLEAU PERSONNEL'!$E$29),100,0) +IF(AND(AL17>='TABLEAU PERSONNEL'!$D$30,AL17<='TABLEAU PERSONNEL'!$E$30),100,0) +IF(AND(AL17>='TABLEAU PERSONNEL'!$D$31,AL17<='TABLEAU PERSONNEL'!$E$31),100,0) +IF(AND(AL17>='TABLEAU PERSONNEL'!$D$32,AL17<='TABLEAU PERSONNEL'!$E$32),100,0) +IF(AND(AL17>='TABLEAU PERSONNEL'!$D$33,AL17<='TABLEAU PERSONNEL'!$E$33),100,0) +IF(AND(AL17>='TABLEAU PERSONNEL'!$D$34,AL17<='TABLEAU PERSONNEL'!$E$34),100,0) -> 0
A22: =DATE(CalendarYear,4,1) -> 45748 | B22: =IFERROR((WEEKNUM(B23)),"") | C22: =IFERROR((WEEKNUM(C23)),"") | D22: =IFERROR((WEEKNUM(D23)),"") -> 14 | E22: =IFERROR((WEEKNUM(E23)),"") -> 14 | F22: =IFERROR((WEEKNUM(F23)),"") -> 14 | G22: =IFERROR((WEEKNUM(G23)),"") -> 14 | H22: =IFERROR((WEEKNUM(H23)),"") -> 14 | I22: =IFERROR((WEEKNUM(I23)),"") -> 15 | ... AL22: =IFERROR((WEEKNUM(AL23)),"")
B23: =IF(DAY(AprSun1)=1,"",IF(AND(YEAR(AprSun1+1)=CalendarYear,MONTH(AprSun1+1)=4),AprSun1+1,"")) | C23: =IF(DAY(AprSun1)=1,"",IF(AND(YEAR(AprSun1+2)=CalendarYear,MONTH(AprSun1+2)=4),AprSun1+2,"")) | D23: =IF(DAY(AprSun1)=1,"",IF(AND(YEAR(AprSun1+3)=CalendarYear,MONTH(AprSun1+3)=4),AprSun1+3,"")) -> 45748 | E23: =IF(DAY(AprSun1)=1,"",IF(AND(YEAR(AprSun1+4)=CalendarYear,MONTH(AprSun1+4)=4),AprSun1+4,"")) -> 45749 | F23: =IF(DAY(AprSun1)=1,"",IF(AND(YEAR(AprSun1+5)=CalendarYear,MONTH(AprSun1+5)=4),AprSun1+5,"")) -> 45750 | G23: =IF(DAY(AprSun1)=1,"",IF(AND(YEAR(AprSun1+6)=CalendarYear,MONTH(AprSun1+6)=4),AprSun1+6,"")) -> 45751 | H23: =IF(DAY(AprSun1)=1,IF(AND(YEAR(AprSun1)=CalendarYear,MONTH(AprSun1)=4),AprSun1,""),IF(AND(YEAR(AprSun1+7)=CalendarYear,MONTH(AprSun1+7)=4),AprSun1+7,"")) -> 45752 | I23: =IF(DAY(AprSun1)=1,IF(AND(YEAR(AprSun1+1)=CalendarYear,MONTH(AprSun1+1)=4),AprSun1+1,""),IF(AND(YEAR(AprSun1+8)=CalendarYear,MONTH(AprSun1+8)=4),AprSun1+8,"")) -> 45753 | J23: =IF(DAY(AprSun1)=1,IF(AND(YEAR(AprSun1+2)=CalendarYear,MONTH(AprSun1+2)=4),AprSun1+2,""),IF(AND(YEAR(AprSun1+9)=CalendarYear,MONTH(AprSun1+9)=4),AprSun1+9,"")) -> 45754 | K23: =IF(DAY(AprSun1)=1,IF(AND(YEAR(AprSun1+3)=CalendarYear,MONTH(AprSun1+3)=4),AprSun1+3,""),IF(AND(YEAR(AprSun1+10)=CalendarYear,MONTH(AprSun1+10)=4),AprSun1+10,"")) -> 45755 | L23: =IF(DAY(AprSun1)=1,IF(AND(YEAR(AprSun1+4)=CalendarYear,MONTH(AprSun1+4)=4),AprSun1+4,""),IF(AND(YEAR(AprSun1+11)=CalendarYear,MONTH(AprSun1+11)=4),AprSun1+11,"")) -> 45756 | M23: =IF(DAY(AprSun1)=1,IF(AND(YEAR(AprSun1+5)=CalendarYear,MONTH(AprSun1+5)=4),AprSun1+5,""),IF(AND(YEAR(AprSun1+12)=CalendarYear,MONTH(AprSun1+12)=4),AprSun1+12,"")) -> 45757 | N23: =IF(DAY(AprSun1)=1,IF(AND(YEAR(AprSun1+6)=CalendarYear,MONTH(AprSun1+6)=4),AprSun1+6,""),IF(AND(YEAR(AprSun1+13)=CalendarYear,MONTH(AprSun1+13)=4),AprSun1+13,"")) -> 45758 | O23: =IF(DAY(AprSun1)=1,IF(AND(YEAR(AprSun1+7)=CalendarYear,MONTH(AprSun1+7)=4),AprSun1+7,""),IF(AND(YEAR(AprSun1+14)=CalendarYear,MONTH(AprSun1+14)=4),AprSun1+14,"")) -> 45759 | P23: =IF(DAY(AprSun1)=1,IF(AND(YEAR(AprSun1+8)=CalendarYear,MONTH(AprSun1+8)=4),AprSun1+8,""),IF(AND(YEAR(AprSun1+15)=CalendarYear,MONTH(AprSun1+15)=4),AprSun1+15,"")) -> 45760 | Q23: =IF(DAY(AprSun1)=1,IF(AND(YEAR(AprSun1+9)=CalendarYear,MONTH(AprSun1+9)=4),AprSun1+9,""),IF(AND(YEAR(AprSun1+16)=CalendarYear,MONTH(AprSun1+16)=4),AprSun1+16,"")) -> 45761 | R23: =IF(DAY(AprSun1)=1,IF(AND(YEAR(AprSun1+10)=CalendarYear,MONTH(AprSun1+10)=4),AprSun1+10,""),IF(AND(YEAR(AprSun1+17)=CalendarYear,MONTH(AprSun1+17)=4),AprSun1+17,"")) -> 45762 | S23: =IF(DAY(AprSun1)=1,IF(AND(YEAR(AprSun1+11)=CalendarYear,MONTH(AprSun1+11)=4),AprSun1+11,""),IF(AND(YEAR(AprSun1+18)=CalendarYear,MONTH(AprSun1+18)=4),AprSun1+18,"")) -> 45763 | T23: =IF(DAY(AprSun1)=1,IF(AND(YEAR(AprSun1+12)=CalendarYear,MONTH(AprSun1+12)=4),AprSun1+12,""),IF(AND(YEAR(AprSun1+19)=CalendarYear,MONTH(AprSun1+19)=4),AprSun1+19,"")) -> 45764 | U23: =IF(DAY(AprSun1)=1,IF(AND(YEAR(AprSun1+13)=CalendarYear,MONTH(AprSun1+13)=4),AprSun1+13,""),IF(AND(YEAR(AprSun1+20)=CalendarYear,MONTH(AprSun1+20)=4),AprSun1+20,"")) -> 45765 | V23: =IF(DAY(AprSun1)=1,IF(AND(YEAR(AprSun1+14)=CalendarYear,MONTH(AprSun1+14)=4),AprSun1+14,""),IF(AND(YEAR(AprSun1+21)=CalendarYear,MONTH(AprSun1+21)=4),AprSun1+21,"")) -> 45766 | W23: =IF(DAY(AprSun1)=1,IF(AND(YEAR(AprSun1+15)=CalendarYear,MONTH(AprSun1+15)=4),AprSun1+15,""),IF(AND(YEAR(AprSun1+22)=CalendarYear,MONTH(AprSun1+22)=4),AprSun1+22,"")) -> 45767 | X23: =IF(DAY(AprSun1)=1,IF(AND(YEAR(AprSun1+16)=CalendarYear,MONTH(AprSun1+16)=4),AprSun1+16,""),IF(AND(YEAR(AprSun1+23)=CalendarYear,MONTH(AprSun1+23)=4),AprSun1+23,"")) -> 45768 | Y23: =IF(DAY(AprSun1)=1,IF(AND(YEAR(AprSun1+17)=CalendarYear,MONTH(AprSun1+17)=4),AprSun1+17,""),IF(AND(YEAR(AprSun1+24)=CalendarYear,MONTH(AprSun1+24)=4),AprSun1+24,"")) -> 45769 | Z23: =IF(DAY(AprSun1)=1,IF(AND(YEAR(AprSun1+18)=CalendarYear,MONTH(AprSun1+18)=4),AprSun1+18,""),IF(AND(YEAR(AprSun1+25)=CalendarYear,MONTH(AprSun1+25)=4),AprSun1+25,"")) -> 45770 | AA23: =IF(DAY(AprSun1)=1,IF(AND(YEAR(AprSun1+19)=CalendarYear,MONTH(AprSun1+19)=4),AprSun1+19,""),IF(AND(YEAR(AprSun1+26)=CalendarYear,MONTH(AprSun1+26)=4),AprSun1+26,"")) -> 45771 | AB23: =IF(DAY(AprSun1)=1,IF(AND(YEAR(AprSun1+20)=CalendarYear,MONTH(AprSun1+20)=4),AprSun1+20,""),IF(AND(YEAR(AprSun1+27)=CalendarYear,MONTH(AprSun1+27)=4),AprSun1+27,"")) -> 45772 | AC23: =IF(DAY(AprSun1)=1,IF(AND(YEAR(AprSun1+21)=CalendarYear,MONTH(AprSun1+21)=4),AprSun1+21,""),IF(AND(YEAR(AprSun1+28)=CalendarYear,MONTH(AprSun1+28)=4),AprSun1+28,"")) -> 45773 | AD23: =IF(DAY(AprSun1)=1,IF(AND(YEAR(AprSun1+22)=CalendarYear,MONTH(AprSun1+22)=4),AprSun1+22,""),IF(AND(YEAR(AprSun1+29)=CalendarYear,MONTH(AprSun1+29)=4),AprSun1+29,"")) -> 45774 | AE23: =IF(DAY(AprSun1)=1,IF(AND(YEAR(AprSun1+23)=CalendarYear,MONTH(AprSun1+23)=4),AprSun1+23,""),IF(AND(YEAR(AprSun1+30)=CalendarYear,MONTH(AprSun1+30)=4),AprSun1+30,"")) -> 45775 | AF23: =IF(DAY(AprSun1)=1,IF(AND(YEAR(AprSun1+24)=CalendarYear,MONTH(AprSun1+24)=4),AprSun1+24,""),IF(AND(YEAR(AprSun1+31)=CalendarYear,MONTH(AprSun1+31)=4),AprSun1+31,"")) -> 45776 | AG23: =IF(DAY(AprSun1)=1,IF(AND(YEAR(AprSun1+25)=CalendarYear,MONTH(AprSun1+25)=4),AprSun1+25,""),IF(AND(YEAR(AprSun1+32)=CalendarYear,MONTH(AprSun1+32)=4),AprSun1+32,"")) -> 45777 | AH23: =IF(DAY(AprSun1)=1,IF(AND(YEAR(AprSun1+26)=CalendarYear,MONTH(AprSun1+26)=4),AprSun1+26,""),IF(AND(YEAR(AprSun1+33)=CalendarYear,MONTH(AprSun1+33)=4),AprSun1+33,"")) | AI23: =IF(DAY(AprSun1)=1,IF(AND(YEAR(AprSun1+27)=CalendarYear,MONTH(AprSun1+27)=4),AprSun1+27,""),IF(AND(YEAR(AprSun1+34)=CalendarYear,MONTH(AprSun1+34)=4),AprSun1+34,"")) | AJ23: =IF(DAY(AprSun1)=1,IF(AND(YEAR(AprSun1+28)=CalendarYear,MONTH(AprSun1+28)=4),AprSun1+28,""),IF(AND(YEAR(AprSun1+35)=CalendarYear,MONTH(AprSun1+35)=4),AprSun1+35,"")) | AK23: =IF(DAY(AprSun1)=1,IF(AND(YEAR(AprSun1+29)=CalendarYear,MONTH(AprSun1+29)=4),AprSun1+29,""),IF(AND(YEAR(AprSun1+36)=CalendarYear,MONTH(AprSun1+36)=4),AprSun1+36,"")) | AL23: =IF(DAY(AprSun1)=1,IF(AND(YEAR(AprSun1+30)=CalendarYear,MONTH(AprSun1+30)=4),AprSun1+30,""),IF(AND(YEAR(AprSun1+37)=CalendarYear,MONTH(AprSun1+37)=4),AprSun1+37,""))
B24: Di | C24: Lu | D24: Ma | E24: Me | F24: Je | G24: Ve | H24: Sa | I24: Di | J24: Lu | K24: Ma | L24: Me | M24: Je | N24: Ve | O24: Sa | P24: Di | Q24: Lu | R24: Ma | S24: Me | T24: Je | U24: Ve | V24: Sa | W24: Di | X24: Lu | Y24: Ma | Z24: Me | AA24: Je | AB24: Ve | AC24: Sa | AD24: Di | AE24: Lu | AF24: Ma | AG24: Me | AH24: Je | AI24: Ve | AJ24: Sa | AK24: Di | AL24: Lu
A25: Congé | B25: C | C25: C | D25: C | E25: C | F25: C | G25: C | H25: C | I25: C | J25: C | K25: C | L25: C | M25: C | N25: C | O25: C | P25: C | Q25: C | R25: C | S25: C | T25: C | U25: C | V25: C | W25: C | X25: C | Y25: C | Z25: C | AA25: C | AB25: C | AC25: C | AD25: C | AE25: C | AF25: C | AG25: C | AH25: C | AI25: C | AJ25: C | AK25: C | AL25: C
A26: Télétravail | B26: T | C26: T | D26: T | E26: T | F26: T | G26: T | H26: T | I26: T | J26: T | K26: T | L26: T | M26: T | N26: T | O26: T | P26: T | Q26: T | R26: T | S26: T | T26: T | U26: T | V26: T | W26: T | X26: T | Y26: T | Z26: T | AA26: T | AB26: T | AC26: T | AD26: T | AE26: T | AF26: T | AG26: T | AH26: T | AI26: T | AJ26: T | AK26: T | AL26: T
