Workbook
Name AprSun1: DATE(CalendarYear,4,1)-WEEKDAY(DATE(CalendarYear,4,1))
Name AugSun1: DATE(CalendarYear,8,1)-WEEKDAY(DATE(CalendarYear,8,1))
Name CalendarYear: 'PLANNING GLOBAL'!$AG$1
Name DecSun1: DATE(CalendarYear,12,1)-WEEKDAY(DATE(CalendarYear,12,1))
Name FebSun1: DATE(CalendarYear,2,1)-WEEKDAY(DATE(CalendarYear,2,1))
Name JanSun1: DATE(CalendarYear,1,1)-WEEKDAY(DATE(CalendarYear,1,1))
Name Job1_Pattern: '[1]Travaux et shifts'!$D$26
Name Job1_Shift1_Code: '[1]Travaux et shifts'!$D$8
Name Job1_Shift2_Code: '[1]Travaux et shifts'!$D$14
Name Job1_Shift3_Code: '[1]Travaux et shifts'!$D$20
Name Job1_StartDate: '[1]Travaux et shifts'!$D$25
Name Job2_Pattern: '[1]Travaux et shifts'!$E$26
Name Job2_Shift1_Code: '[1]Travaux et shifts'!$E$8
Name Job2_Shift2_Code: '[1]Travaux et shifts'!$E$14
Name Job2_Shift3_Code: '[1]Travaux et shifts'!$E$20
Name Job2_StartDate: '[1]Travaux et shifts'!$E$25
Name Job3_Pattern: '[1]Travaux et shifts'!$F$26
Name Job3_Shift1_Code: '[1]Travaux et shifts'!$F$8
Name Job3_Shift2_Code: '[1]Travaux et shifts'!$F$14
Name Job3_Shift3_Code: '[1]Travaux et shifts'!$F$20
Name Job3_StartDate: '[1]Travaux et shifts'!$F$25
Name JulSun1: DATE(CalendarYear,7,1)-WEEKDAY(DATE(CalendarYear,7,1))
Name JunSun1: DATE(CalendarYear,6,1)-WEEKDAY(DATE(CalendarYear,6,1))
Name MarSun1: DATE(CalendarYear,3,1)-WEEKDAY(DATE(CalendarYear,3,1))
Name MaySun1: DATE(CalendarYear,5,1)-WEEKDAY(DATE(CalendarYear,5,1))
Name NovSun1: DATE(CalendarYear,11,1)-WEEKDAY(DATE(CalendarYear,11,1))
Name OctSun1: DATE(CalendarYear,10,1)-WEEKDAY(DATE(CalendarYear,10,1))
Name Priority: #REF!
Name SepSun1: DATE(CalendarYear,9,1)-WEEKDAY(DATE(CalendarYear,9,1))
Name Status: #REF!
Name Type: '[2]Maintenance Work Order'!#REF!
Name YesNo: #REF!

Sheet PLANNING GLOBAL
A1: PLANNING GLOBAL | AG1: 2025
A2: Motif | B2: C | C2: Congé | F2: T | G2: Télétravail | J2: Y | K2: MAD machine | O2: Déplacement
A4: =DATE(CalendarYear,1,1) -> 45658 | B4: =IFERROR((WEEKNUM(B5)),"") | C4: =IFERROR((WEEKNUM(C5)),"") | D4: =IFERROR((WEEKNUM(D5)),"") | E4: =IFERROR((WEEKNUM(E5)),"") -> 1 | F4: =IFERROR((WEEKNUM(F5)),"") -> 1 | G4: =IFERROR((WEEKNUM(G5)),"") -> 1 | H4: =IFERROR((WEEKNUM(H5)),"") -> 1 | I4: =IFERROR((WEEKNUM(I5)),"") -> 2 | ... AL4: =IFERROR((WEEKNUM(AL5)),"")
B5: =IF(DAY(JanSun1)=1,"",IF(AND(YEAR(JanSun1+1)=CalendarYear,MONTH(JanSun1+1)=1),JanSun1+1,"")) | C5: =IF(DAY(JanSun1)=1,"",IF(AND(YEAR(JanSun1+2)=CalendarYear,MONTH(JanSun1+2)=1),JanSun1+2,"")) | D5: =IF(DAY(JanSun1)=1,"",IF(AND(YEAR(JanSun1+3)=CalendarYear,MONTH(JanSun1+3)=1),JanSun1+3,"")) | E5: =IF(DAY(JanSun1)=1,"",IF(AND(YEAR(JanSun1+4)=CalendarYear,MONTH(JanSun1+4)=1),JanSun1+4,"")) -> 45658 | F5: =IF(DAY(JanSun1)=1,"",IF(AND(YEAR(JanSun1+5)=CalendarYear,MONTH(JanSun1+5)=1),JanSun1+5,"")) -> 45659 | G5: =IF(DAY(JanSun1)=1,"",IF(AND(YEAR(JanSun1+6)=CalendarYear,MONTH(JanSun1+6)=1),JanSun1+6,"")) -> 45660 | H5: =IF(DAY(JanSun1)=1,IF(AND(YEAR(JanSun1)=CalendarYear,MONTH(JanSun1)=1),JanSun1,""),IF(AND(YEAR(JanSun1+7)=CalendarYear,MONTH(JanSun1+7)=1),JanSun1+7,"")) -> 45661 | I5: =IF(DAY(JanSun1)=1,IF(AND(YEAR(JanSun1+1)=CalendarYear,MONTH(JanSun1+1)=1),JanSun1+1,""),IF(AND(YEAR(JanSun1+8)=CalendarYear,MONTH(JanSun1+8)=1),JanSun1+8,"")) -> 45662 | J5: =IF(DAY(JanSun1)=1,IF(AND(YEAR(JanSun1+2)=CalendarYear,MONTH(JanSun1+2)=1),JanSun1+2,""),IF(AND(YEAR(JanSun1+9)=CalendarYear,MONTH(JanSun1+9)=1),JanSun1+9,"")) -> 45663 | K5: =IF(DAY(JanSun1)=1,IF(AND(YEAR(JanSun1+3)=CalendarYear,MONTH(JanSun1+3)=1),JanSun1+3,""),IF(AND(YEAR(JanSun1+10)=CalendarYear,MONTH(JanSun1+10)=1),JanSun1+10,"")) -> 45664 | L5: =IF(DAY(JanSun1)=1,IF(AND(YEAR(JanSun1+4)=CalendarYear,MONTH(JanSun1+4)=1),JanSun1+4,""),IF(AND(YEAR(JanSun1+11)=CalendarYear,MONTH(JanSun1+11)=1),JanSun1+11,"")) -> 45665 | M5: =IF(DAY(JanSun1)=1,IF(AND(YEAR(JanSun1+5)=CalendarYear,MONTH(JanSun1+5)=1),JanSun1+5,""),IF(AND(YEAR(JanSun1+12)=CalendarYear,MONTH(JanSun1+12)=1),JanSun1+12,"")) -> 45666 | N5: =IF(DAY(JanSun1)=1,IF(AND(YEAR(JanSun1+6)=CalendarYear,MONTH(JanSun1+6)=1),JanSun1+6,""),IF(AND(YEAR(JanSun1+13)=CalendarYear,MONTH(JanSun1+13)=1),JanSun1+13,"")) -> 45667 | O5: =IF(DAY(JanSun1)=1,IF(AND(YEAR(JanSun1+7)=CalendarYear,MONTH(JanSun1+7)=1),JanSun1+7,""),IF(AND(YEAR(JanSun1+14)=CalendarYear,MONTH(JanSun1+14)=1),JanSun1+14,"")) -> 45668 | P5: =IF(DAY(JanSun1)=1,IF(AND(YEAR(JanSun1+8)=CalendarYear,MONTH(JanSun1+8)=1),JanSun1+8,""),IF(AND(YEAR(JanSun1+15)=CalendarYear,MONTH(JanSun1+15)=1),JanSun1+15,"")) -> 45669 | Q5: =IF(DAY(JanSun1)=1,IF(AND(YEAR(JanSun1+9)=CalendarYear,MONTH(JanSun1+9)=1),JanSun1+9,""),IF(AND(YEAR(JanSun1+16)=CalendarYear,MONTH(JanSun1+16)=1),JanSun1+16,"")) -> 45670 | R5: =IF(DAY(JanSun1)=1,IF(AND(YEAR(JanSun1+10)=CalendarYear,MONTH(JanSun1+10)=1),JanSun1+10,""),IF(AND(YEAR(JanSun1+17)=CalendarYear,MONTH(JanSun1+17)=1),JanSun1+17,"")) -> 45671 | S5: =IF(DAY(JanSun1)=1,IF(AND(YEAR(JanSun1+11)=CalendarYear,MONTH(JanSun1+11)=1),JanSun1+11,""),IF(AND(YEAR(JanSun1+18)=CalendarYear,MONTH(JanSun1+18)=1),JanSun1+18,"")) -> 45672 | T5: =IF(DAY(JanSun1)=1,IF(AND(YEAR(JanSun1+12)=CalendarYear,MONTH(JanSun1+12)=1),JanSun1+12,""),IF(AND(YEAR(JanSun1+19)=CalendarYear,MONTH(JanSun1+19)=1),JanSun1+19,"")) -> 45673 | U5: =IF(DAY(JanSun1)=1,IF(AND(YEAR(JanSun1+13)=CalendarYear,MONTH(JanSun1+13)=1),JanSun1+13,""),IF(AND(YEAR(JanSun1+20)=CalendarYear,MONTH(JanSun1+20)=1),JanSun1+20,"")) -> 45674 | V5: =IF(DAY(JanSun1)=1,IF(AND(YEAR(JanSun1+14)=CalendarYear,MONTH(JanSun1+14)=1),JanSun1+14,""),IF(AND(YEAR(JanSun1+21)=CalendarYear,MONTH(JanSun1+21)=1),JanSun1+21,"")) -> 45675 | W5: =IF(DAY(JanSun1)=1,IF(AND(YEAR(JanSun1+15)=CalendarYear,MONTH(JanSun1+15)=1),JanSun1+15,""),IF(AND(YEAR(JanSun1+22)=CalendarYear,MONTH(JanSun1+22)=1),JanSun1+22,"")) -> 45676 | X5: =IF(DAY(JanSun1)=1,IF(AND(YEAR(JanSun1+16)=CalendarYear,MONTH(JanSun1+16)=1),JanSun1+16,""),IF(AND(YEAR(JanSun1+23)=CalendarYear,MONTH(JanSun1+23)=1),JanSun1+23,"")) -> 45677 | Y5: =IF(DAY(JanSun1)=1,IF(AND(YEAR(JanSun1+17)=CalendarYear,MONTH(JanSun1+17)=1),JanSun1+17,""),IF(AND(YEAR(JanSun1+24)=CalendarYear,MONTH(JanSun1+24)=1),JanSun1+24,"")) -> 45678 | Z5: =IF(DAY(JanSun1)=1,IF(AND(YEAR(JanSun1+18)=CalendarYear,MONTH(JanSun1+18)=1),JanSun1+18,""),IF(AND(YEAR(JanSun1+25)=CalendarYear,MONTH(JanSun1+25)=1),JanSun1+25,"")) -> 45679 | AA5: =IF(DAY(JanSun1)=1,IF(AND(YEAR(JanSun1+19)=CalendarYear,MONTH(JanSun1+19)=1),JanSun1+19,""),IF(AND(YEAR(JanSun1+26)=CalendarYear,MONTH(JanSun1+26)=1),JanSun1+26,"")) -> 45680 | AB5: =IF(DAY(JanSun1)=1,IF(AND(YEAR(JanSun1+20)=CalendarYear,MONTH(JanSun1+20)=1),JanSun1+20,""),IF(AND(YEAR(JanSun1+27)=CalendarYear,MONTH(JanSun1+27)=1),JanSun1+27,"")) -> 45681 | AC5: =IF(DAY(JanSun1)=1,IF(AND(YEAR(JanSun1+21)=CalendarYear,MONTH(JanSun1+21)=1),JanSun1+21,""),IF(AND(YEAR(JanSun1+28)=CalendarYear,MONTH(JanSun1+28)=1),JanSun1+28,"")) -> 45682 | AD5: =IF(DAY(JanSun1)=1,IF(AND(YEAR(JanSun1+22)=CalendarYear,MONTH(JanSun1+22)=1),JanSun1+22,""),IF(AND(YEAR(JanSun1+29)=CalendarYear,MONTH(JanSun1+29)=1),JanSun1+29,"")) -> 45683 | AE5: =IF(DAY(JanSun1)=1,IF(AND(YEAR(JanSun1+23)=CalendarYear,MONTH(JanSun1+23)=1),JanSun1+23,""),IF(AND(YEAR(JanSun1+30)=CalendarYear,MONTH(JanSun1+30)=1),JanSun1+30,"")) -> 45684 | AF5: =IF(DAY(JanSun1)=1,IF(AND(YEAR(JanSun1+24)=CalendarYear,MONTH(JanSun1+24)=1),JanSun1+24,""),IF(AND(YEAR(JanSun1+31)=CalendarYear,MONTH(JanSun1+31)=1),JanSun1+31,"")) -> 45685 | AG5: =IF(DAY(JanSun1)=1,IF(AND(YEAR(JanSun1+25)=CalendarYear,MONTH(JanSun1+25)=1),JanSun1+25,""),IF(AND(YEAR(JanSun1+32)=CalendarYear,MONTH(JanSun1+32)=1),JanSun1+32,"")) -> 45686 | AH5: =IF(DAY(JanSun1)=1,IF(AND(YEAR(JanSun1+26)=CalendarYear,MONTH(JanSun1+26)=1),JanSun1+26,""),IF(AND(YEAR(JanSun1+33)=CalendarYear,MONTH(JanSun1+33)=1),JanSun1+33,"")) -> 45687 | AI5: =IF(DAY(JanSun1)=1,IF(AND(YEAR(JanSun1+27)=CalendarYear,MONTH(JanSun1+27)=1),JanSun1+27,""),IF(AND(YEAR(JanSun1+34)=CalendarYear,MONTH(JanSun1+34)=1),JanSun1+34,"")) -> 45688 | AJ5: =IF(DAY(JanSun1)=1,IF(AND(YEAR(JanSun1+28)=CalendarYear,MONTH(JanSun1+28)=1),JanSun1+28,""),IF(AND(YEAR(JanSun1+35)=CalendarYear,MONTH(JanSun1+35)=1),JanSun1+35,"")) | AK5: =IF(DAY(JanSun1)=1,IF(AND(YEAR(JanSun1+29)=CalendarYear,MONTH(JanSun1+29)=1),JanSun1+29,""),IF(AND(YEAR(JanSun1+36)=CalendarYear,MONTH(JanSun1+36)=1),JanSun1+36,"")) | AL5: =IF(DAY(JanSun1)=1,IF(AND(YEAR(JanSun1+30)=CalendarYear,MONTH(JanSun1+30)=1),JanSun1+30,""),IF(AND(YEAR(JanSun1+37)=CalendarYear,MONTH(JanSun1+37)=1),JanSun1+37,""))
B6: Di | C6: Lu | D6: Ma | E6: Me | F6: Je | G6: Ve | H6: Sa | I6: Di | J6: Lu | K6: Ma | L6: Me | M6: Je | N6: Ve | O6: Sa | P6: Di | Q6: Lu | R6: Ma | S6: Me | T6: Je | U6: Ve | V6: Sa | W6: Di | X6: Lu | Y6: Ma | Z6: Me | AA6: Je | AB6: Ve | AC6: Sa | AD6: Di | AE6: Lu | AF6: Ma | AG6: Me | AH6: Je | AI6: Ve | AJ6: Sa | AK6: Di | AL6: Lu
A7: Machine | B7: =IFERROR(IF(VLOOKUP(B5,'TABLEAU MACHINE'!$E:$E,1,FALSE),"Y",0),"") | C7: =IFERROR(IF(VLOOKUP(C5,'TABLEAU MACHINE'!$E:$E,1,FALSE),"Y",0),"") | D7: =IFERROR(IF(VLOOKUP(D5,'TABLEAU MACHINE'!$E:$E,1,FALSE),"Y",0),"") | E7: =IFERROR(IF(VLOOKUP(E5,'TABLEAU MACHINE'!$E:$E,1,FALSE),"Y",0),"") | F7: =IFERROR(IF(VLOOKUP(F5,'TABLEAU MACHINE'!$E:$E,1,FALSE),"Y",0),"") | G7: =IFERROR(IF(VLOOKUP(G5,'TABLEAU MACHINE'!$E:$E,1,FALSE),"Y",0),"") | H7: =IFERROR(IF(VLOOKUP(H5,'TABLEAU MACHINE'!$E:$E,1,FALSE),"Y",0),"") | I7: =IFERROR(IF(VLOOKUP(I5,'TABLEAU MACHINE'!$E:$E,1,FALSE),"Y",0),"") | ... AL7: =IFERROR(IF(VLOOKUP(AL5,'TABLEAU MACHINE'!$E:$E,1,FALSE),"Y",0),"")
A8: Personnel | B8: 1300 | E8: C | F8: C | G8: C | H8: 0 | I8: 0 | J8: 0 | K8: 0 | L8: 0 | M8: 0 | N8: 0 | O8: 0 | P8: 0 | Q8: 0 | R8: 0 | S8: 0 | T8: 0 | U8: 0 | V8: 0 | W8: 0 | X8: 0 | Y8: 0 | Z8: 100 | AA8: 100 | AC8: 0 | AD8: 0 | AE8: 0 | AF8: 0 | AG8: 0 | AH8: 0 | AI8: 0 | AJ8: 1300 | AK8: 1300 | AL8: 1300
A9: =DATE(CalendarYear,2,1) -> 45689 | B9: =IFERROR((WEEKNUM(B10)),"") | C9: =IFERROR((WEEKNUM(C10)),"") | D9: =IFERROR((WEEKNUM(D10)),"") | E9: =IFERROR((WEEKNUM(E10)),"") | F9: =IFERROR((WEEKNUM(F10)),"") | G9: =IFERROR((WEEKNUM(G10)),"") | H9: =IFERROR((WEEKNUM(H10)),"") -> 5 | I9: =IFERROR((WEEKNUM(I10)),"") -> 6 | ... AL9: =IFERROR((WEEKNUM(AL10)),"")
B10: =IF(DAY(FebSun1)=1,"",IF(AND(YEAR(FebSun1+1)=CalendarYear,MONTH(FebSun1+1)=2),FebSun1+1,"")) | C10: =IF(DAY(FebSun1)=1,"",IF(AND(YEAR(FebSun1+2)=CalendarYear,MONTH(FebSun1+2)=2),FebSun1+2,"")) | D10: =IF(DAY(FebSun1)=1,"",IF(AND(YEAR(FebSun1+3)=CalendarYear,MONTH(FebSun1+3)=2),FebSun1+3,"")) | E10: =IF(DAY(FebSun1)=1,"",IF(AND(YEAR(FebSun1+4)=CalendarYear,MONTH(FebSun1+4)=2),FebSun1+4,"")) | F10: =IF(DAY(FebSun1)=1,"",IF(AND(YEAR(FebSun1+5)=CalendarYear,MONTH(FebSun1+5)=2),FebSun1+5,"")) | G10: =IF(DAY(FebSun1)=1,"",IF(AND(YEAR(FebSun1+6)=CalendarYear,MONTH(FebSun1+6)=2),FebSun1+6,"")) | H10: =IF(DAY(FebSun1)=1,IF(AND(YEAR(FebSun1)=CalendarYear,MONTH(FebSun1)=2),FebSun1,""),IF(AND(YEAR(FebSun1+7)=CalendarYear,MONTH(FebSun1+7)=2),FebSun1+7,"")) -> 45689 | I10: =IF(DAY(FebSun1)=1,IF(AND(YEAR(FebSun1+1)=CalendarYear,MONTH(FebSun1+1)=2),FebSun1+1,""),IF(AND(YEAR(FebSun1+8)=CalendarYear,MONTH(FebSun1+8)=2),FebSun1+8,"")) -> 45690 | J10: =IF(DAY(FebSun1)=1,IF(AND(YEAR(FebSun1+2)=CalendarYear,MONTH(FebSun1+2)=2),FebSun1+2,""),IF(AND(YEAR(FebSun1+9)=CalendarYear,MONTH(FebSun1+9)=2),FebSun1+9,"")) -> 45691 | K10: =IF(DAY(FebSun1)=1,IF(AND(YEAR(FebSun1+3)=CalendarYear,MONTH(FebSun1+3)=2),FebSun1+3,""),IF(AND(YEAR(FebSun1+10)=CalendarYear,MONTH(FebSun1+10)=2),FebSun1+10,"")) -> 45692 | L10: =IF(DAY(FebSun1)=1,IF(AND(YEAR(FebSun1+4)=CalendarYear,MONTH(FebSun1+4)=2),FebSun1+4,""),IF(AND(YEAR(FebSun1+11)=CalendarYear,MONTH(FebSun1+11)=2),FebSun1+11,"")) -> 45693 | M10: =IF(DAY(FebSun1)=1,IF(AND(YEAR(FebSun1+5)=CalendarYear,MONTH(FebSun1+5)=2),FebSun1+5,""),IF(AND(YEAR(FebSun1+12)=CalendarYear,MONTH(FebSun1+12)=2),FebSun1+12,"")) -> 45694 | N10: =IF(DAY(FebSun1)=1,IF(AND(YEAR(FebSun1+6)=CalendarYear,MONTH(FebSun1+6)=2),FebSun1+6,""),IF(AND(YEAR(FebSun1+13)=CalendarYear,MONTH(FebSun1+13)=2),FebSun1+13,"")) -> 45695 | O10: =IF(DAY(FebSun1)=1,IF(AND(YEAR(FebSun1+7)=CalendarYear,MONTH(FebSun1+7)=2),FebSun1+7,""),IF(AND(YEAR(FebSun1+14)=CalendarYear,MONTH(FebSun1+14)=2),FebSun1+14,"")) -> 45696 | P10: =IF(DAY(FebSun1)=1,IF(AND(YEAR(FebSun1+8)=CalendarYear,MONTH(FebSun1+8)=2),FebSun1+8,""),IF(AND(YEAR(FebSun1+15)=CalendarYear,MONTH(FebSun1+15)=2),FebSun1+15,"")) -> 45697 | Q10: =IF(DAY(FebSun1)=1,IF(AND(YEAR(FebSun1+9)=CalendarYear,MONTH(FebSun1+9)=2),FebSun1+9,""),IF(AND(YEAR(FebSun1+16)=CalendarYear,MONTH(FebSun1+16)=2),FebSun1+16,"")) -> 45698 | R10: =IF(DAY(FebSun1)=1,IF(AND(YEAR(FebSun1+10)=CalendarYear,MONTH(FebSun1+10)=2),FebSun1+10,""),IF(AND(YEAR(FebSun1+17)=CalendarYear,MONTH(FebSun1+17)=2),FebSun1+17,"")) -> 45699 | S10: =IF(DAY(FebSun1)=1,IF(AND(YEAR(FebSun1+11)=CalendarYear,MONTH(FebSun1+11)=2),FebSun1+11,""),IF(AND(YEAR(FebSun1+18)=CalendarYear,MONTH(FebSun1+18)=2),FebSun1+18,"")) -> 45700 | T10: =IF(DAY(FebSun1)=1,IF(AND(YEAR(FebSun1+12)=CalendarYear,MONTH(FebSun1+12)=2),FebSun1+12,""),IF(AND(YEAR(FebSun1+19)=CalendarYear,MONTH(FebSun1+19)=2),FebSun1+19,"")) -> 45701 | U10: =IF(DAY(FebSun1)=1,IF(AND(YEAR(FebSun1+13)=CalendarYear,MONTH(FebSun1+13)=2),FebSun1+13,""),IF(AND(YEAR(FebSun1+20)=CalendarYear,MONTH(FebSun1+20)=2),FebSun1+20,"")) -> 45702 | V10: =IF(DAY(FebSun1)=1,IF(AND(YEAR(FebSun1+14)=CalendarYear,MONTH(FebSun1+14)=2),FebSun1+14,""),IF(AND(YEAR(FebSun1+21)=CalendarYear,MONTH(FebSun1+21)=2),FebSun1+21,"")) -> 45703 | W10: =IF(DAY(FebSun1)=1,IF(AND(YEAR(FebSun1+15)=CalendarYear,MONTH(FebSun1+15)=2),FebSun1+15,""),IF(AND(YEAR(FebSun1+22)=CalendarYear,MONTH(FebSun1+22)=2),FebSun1+22,"")) -> 45704 | X10: =IF(DAY(FebSun1)=1,IF(AND(YEAR(FebSun1+16)=CalendarYear,MONTH(FebSun1+16)=2),FebSun1+16,""),IF(AND(YEAR(FebSun1+23)=CalendarYear,MONTH(FebSun1+23)=2),FebSun1+23,"")) -> 45705 | Y10: =IF(DAY(FebSun1)=1,IF(AND(YEAR(FebSun1+17)=CalendarYear,MONTH(FebSun1+17)=2),FebSun1+17,""),IF(AND(YEAR(FebSun1+24)=CalendarYear,MONTH(FebSun1+24)=2),FebSun1+24,"")) -> 45706 | Z10: =IF(DAY(FebSun1)=1,IF(AND(YEAR(FebSun1+18)=CalendarYear,MONTH(FebSun1+18)=2),FebSun1+18,""),IF(AND(YEAR(FebSun1+25)=CalendarYear,MONTH(FebSun1+25)=2),FebSun1+25,"")) -> 45707 | AA10: =IF(DAY(FebSun1)=1,IF(AND(YEAR(FebSun1+19)=CalendarYear,MONTH(FebSun1+19)=2),FebSun1+19,""),IF(AND(YEAR(FebSun1+26)=CalendarYear,MONTH(FebSun1+26)=2),FebSun1+26,"")) -> 45708 | AB10: =IF(DAY(FebSun1)=1,IF(AND(YEAR(FebSun1+20)=CalendarYear,MONTH(FebSun1+20)=2),FebSun1+20,""),IF(AND(YEAR(FebSun1+27)=CalendarYear,MONTH(FebSun1+27)=2),FebSun1+27,"")) -> 45709 | AC10: =IF(DAY(FebSun1)=1,IF(AND(YEAR(FebSun1+21)=CalendarYear,MONTH(FebSun1+21)=2),FebSun1+21,""),IF(AND(YEAR(FebSun1+28)=CalendarYear,MONTH(FebSun1+28)=2),FebSun1+28,"")) -> 45710 | AD10: =IF(DAY(FebSun1)=1,IF(AND(YEAR(FebSun1+22)=CalendarYear,MONTH(FebSun1+22)=2),FebSun1+22,""),IF(AND(YEAR(FebSun1+29)=CalendarYear,MONTH(FebSun1+29)=2),FebSun1+29,"")) -> 45711 | AE10: =IF(DAY(FebSun1)=1,IF(AND(YEAR(FebSun1+23)=CalendarYear,MONTH(FebSun1+23)=2),FebSun1+23,""),IF(AND(YEAR(FebSun1+30)=CalendarYear,MONTH(FebSun1+30)=2),FebSun1+30,"")) -> 45712 | AF10: =IF(DAY(FebSun1)=1,IF(AND(YEAR(FebSun1+24)=CalendarYear,MONTH(FebSun1+24)=2),FebSun1+24,""),IF(AND(YEAR(FebSun1+31)=CalendarYear,MONTH(FebSun1+31)=2),FebSun1+31,"")) -> 45713 | AG10: =IF(DAY(FebSun1)=1,IF(AND(YEAR(FebSun1+25)=CalendarYear,MONTH(FebSun1+25)=2),FebSun1+25,""),IF(AND(YEAR(FebSun1+32)=CalendarYear,MONTH(FebSun1+32)=2),FebSun1+32,"")) -> 45714 | AH10: =IF(DAY(FebSun1)=1,IF(AND(YEAR(FebSun1+26)=CalendarYear,MONTH(FebSun1+26)=2),FebSun1+26,""),IF(AND(YEAR(FebSun1+33)=CalendarYear,MONTH(FebSun1+33)=2),FebSun1+33,"")) -> 45715 | AI10: =IF(DAY(FebSun1)=1,IF(AND(YEAR(FebSun1+27)=CalendarYear,MONTH(FebSun1+27)=2),FebSun1+27,""),IF(AND(YEAR(FebSun1+34)=CalendarYear,MONTH(FebSun1+34)=2),FebSun1+34,"")) -> 45716 | AJ10: =IF(DAY(FebSun1)=1,IF(AND(YEAR(FebSun1+28)=CalendarYear,MONTH(FebSun1+28)=2),FebSun1+28,""),IF(AND(YEAR(FebSun1+35)=CalendarYear,MONTH(FebSun1+35)=2),FebSun1+35,"")) | AK10: =IF(DAY(FebSun1)=1,IF(AND(YEAR(FebSun1+29)=CalendarYear,MONTH(FebSun1+29)=2),FebSun1+29,""),IF(AND(YEAR(FebSun1+36)=CalendarYear,MONTH(FebSun1+36)=2),FebSun1+36,"")) | AL10: =IF(DAY(FebSun1)=1,IF(AND(YEAR(FebSun1+30)=CalendarYear,MONTH(FebSun1+30)=2),FebSun1+30,""),IF(AND(YEAR(FebSun1+37)=CalendarYear,MONTH(FebSun1+37)=2),FebSun1+37,""))
B11: Di | C11: Lu | D11: Ma | E11: Me | F11: Je | G11: Ve | H11: Sa | I11: Di | J11: Lu | K11: Ma | L11: Me | M11: Je | N11: Ve | O11: Sa | P11: Di | Q11: Lu | R11: Ma | S11: Me | T11: Je | U11: Ve | V11: Sa | W11: Di | X11: Lu | Y11: Ma | Z11: Me | AA11: Je | AB11: Ve | AC11: Sa | AD11: Di | AE11: Lu | AF11: Ma | AG11: Me | AH11: Je | AI11: Ve | AJ11: Sa | AK11: Di | AL11: Lu
A12: Machine | B12: =IFERROR(IF(VLOOKUP(B10,'TABLEAU MACHINE'!$E:$E,1,FALSE),"Y",0),"") | C12: =IFERROR(IF(VLOOKUP(C10,'TABLEAU MACHINE'!$E:$E,1,FALSE),"Y",0),"") | D12: =IFERROR(IF(VLOOKUP(D10,'TABLEAU MACHINE'!$E:$E,1,FALSE),"Y",0),"") | E12: =IFERROR(IF(VLOOKUP(E10,'TABLEAU MACHINE'!$E:$E,1,FALSE),"Y",0),"") | F12: =IFERROR(IF(VLOOKUP(F10,'TABLEAU MACHINE'!$E:$E,1,FALSE),"Y",0),"") | G12: =IFERROR(IF(VLOOKUP(G10,'TABLEAU MACHINE'!$E:$E,1,FALSE),"Y",0),"") | H12: =IFERROR(IF(VLOOKUP(H10,'TABLEAU MACHINE'!$E:$E,1,FALSE),"Y",0),"") | I12: =IFERROR(IF(VLOOKUP(I10,'TABLEAU MACHINE'!$E:$E,1,FALSE),"Y",0),"") | ... AL12: =IFERROR(IF(VLOOKUP(AL10,'TABLEAU MACHINE'!$E:$E,1,FALSE),"Y",0),"")
A13: Personnel | B13: ='TABLEAU PERSONNEL D ETAT'!B15 -> 2700 | C13: ='TABLEAU PERSONNEL D ETAT'!C15 -> 2700 | D13: ='TABLEAU PERSONNEL D ETAT'!D15 -> 2700 | E13: ='TABLEAU PERSONNEL D ETAT'!E15 -> 2700 | F13: ='TABLEAU PERSONNEL D ETAT'!F15 -> 2700 | G13: ='TABLEAU PERSONNEL D ETAT'!G15 -> 2700 | H13: C | I13: C | J13: C | K13: C | L13: C | M13: C | N13: C | O13: C | P13: C | Q13: ='TABLEAU PERSONNEL D ETAT'!Q15 -> 0 | R13: ='TABLEAU PERSONNEL D ETAT'!R15 -> 0 | S13: ='TABLEAU PERSONNEL D ETAT'!S15 -> 0 | T13: ='TABLEAU PERSONNEL D ETAT'!T15 -> 0 | U13: ='TABLEAU PERSONNEL D ETAT'!U15 -> 0 | V13: ='TABLEAU PERSONNEL D ETAT'!V15 -> 0 | W13: ='TABLEAU PERSONNEL D ETAT'!W15 -> 0 | X13: ='TABLEAU PERSONNEL D ETAT'!X15 -> 0 | ... AH13: ='TABLEAU PERSONNEL D ETAT'!AH15 -> 100 | AI13: 100 | AJ13: 2500 | AK13: ='TABLEAU PERSONNEL D ETAT'!AK15 -> 2700 | AL13: ='TABLEAU PERSONNEL D ETAT'!AL15 -> 2700
A14: =DATE(CalendarYear,3,1) -> 45717 | B14: =IFERROR((WEEKNUM(B15)),"") | C14: =IFERROR((WEEKNUM(C15)),"") | D14: =IFERROR((WEEKNUM(D15)),"") | E14: =IFERROR((WEEKNUM(E15)),"") | F14: =IFERROR((WEEKNUM(F15)),"") | G14: =IFERROR((WEEKNUM(G15)),"") | H14: =IFERROR((WEEKNUM(H15)),"") -> 9 | I14: =IFERROR((WEEKNUM(I15)),"") -> 10 | ... AL14: =IFERROR((WEEKNUM(AL15)),"") -> 14
B15: =IF(DAY(MarSun1)=1,"",IF(AND(YEAR(MarSun1+1)=CalendarYear,MONTH(MarSun1+1)=3),MarSun1+1,"")) | C15: =IF(DAY(MarSun1)=1,"",IF(AND(YEAR(MarSun1+2)=CalendarYear,MONTH(MarSun1+2)=3),MarSun1+2,"")) | D15: =IF(DAY(MarSun1)=1,"",IF(AND(YEAR(MarSun1+3)=CalendarYear,MONTH(MarSun1+3)=3),MarSun1+3,"")) | E15: =IF(DAY(MarSun1)=1,"",IF(AND(YEAR(MarSun1+4)=CalendarYear,MONTH(MarSun1+4)=3),MarSun1+4,"")) | F15: =IF(DAY(MarSun1)=1,"",IF(AND(YEAR(MarSun1+5)=CalendarYear,MONTH(MarSun1+5)=3),MarSun1+5,"")) | G15: =IF(DAY(MarSun1)=1,"",IF(AND(YEAR(MarSun1+6)=CalendarYear,MONTH(MarSun1+6)=3),MarSun1+6,"")) | H15: =IF(DAY(MarSun1)=1,IF(AND(YEAR(MarSun1)=CalendarYear,MONTH(MarSun1)=3),MarSun1,""),IF(AND(YEAR(MarSun1+7)=CalendarYear,MONTH(MarSun1+7)=3),MarSun1+7,"")) -> 45717 | I15: =IF(DAY(MarSun1)=1,IF(AND(YEAR(MarSun1+1)=CalendarYear,MONTH(MarSun1+1)=3),MarSun1+1,""),IF(AND(YEAR(MarSun1+8)=CalendarYear,MONTH(MarSun1+8)=3),MarSun1+8,"")) -> 45718 | J15: =IF(DAY(MarSun1)=1,IF(AND(YEAR(MarSun1+2)=CalendarYear,MONTH(MarSun1+2)=3),MarSun1+2,""),IF(AND(YEAR(MarSun1+9)=CalendarYear,MONTH(MarSun1+9)=3),MarSun1+9,"")) -> 45719 | K15: =IF(DAY(MarSun1)=1,IF(AND(YEAR(MarSun1+3)=CalendarYear,MONTH(MarSun1+3)=3),MarSun1+3,""),IF(AND(YEAR(MarSun1+10)=CalendarYear,MONTH(MarSun1+10)=3),MarSun1+10,"")) -> 45720 | L15: =IF(DAY(MarSun1)=1,IF(AND(YEAR(MarSun1+4)=CalendarYear,MONTH(MarSun1+4)=3),MarSun1+4,""),IF(AND(YEAR(MarSun1+11)=CalendarYear,MONTH(MarSun1+11)=3),MarSun1+11,"")) -> 45721 | M15: =IF(DAY(MarSun1)=1,IF(AND(YEAR(MarSun1+5)=CalendarYear,MONTH(MarSun1+5)=3),MarSun1+5,""),IF(AND(YEAR(MarSun1+12)=CalendarYear,MONTH(MarSun1+12)=3),MarSun1+12,"")) -> 45722 | N15: =IF(DAY(MarSun1)=1,IF(AND(YEAR(MarSun1+6)=CalendarYear,MONTH(MarSun1+6)=3),MarSun1+6,""),IF(AND(YEAR(MarSun1+13)=CalendarYear,MONTH(MarSun1+13)=3),MarSun1+13,"")) -> 45723 | O15: =IF(DAY(MarSun1)=1,IF(AND(YEAR(MarSun1+7)=CalendarYear,MONTH(MarSun1+7)=3),MarSun1+7,""),IF(AND(YEAR(MarSun1+14)=CalendarYear,MONTH(MarSun1+14)=3),MarSun1+14,"")) -> 45724 | P15: =IF(DAY(MarSun1)=1,IF(AND(YEAR(MarSun1+8)=CalendarYear,MONTH(MarSun1+8)=3),MarSun1+8,""),IF(AND(YEAR(MarSun1+15)=CalendarYear,MONTH(MarSun1+15)=3),MarSun1+15,"")) -> 45725 | Q15: =IF(DAY(MarSun1)=1,IF(AND(YEAR(MarSun1+9)=CalendarYear,MONTH(MarSun1+9)=3),MarSun1+9,""),IF(AND(YEAR(MarSun1+16)=CalendarYear,MONTH(MarSun1+16)=3),MarSun1+16,"")) -> 45726 | R15: =IF(DAY(MarSun1)=1,IF(AND(YEAR(MarSun1+10)=CalendarYear,MONTH(MarSun1+10)=3),MarSun1+10,""),IF(AND(YEAR(MarSun1+17)=CalendarYear,MONTH(MarSun1+17)=3),MarSun1+17,"")) -> 45727 | S15: =IF(DAY(MarSun1)=1,IF(AND(YEAR(MarSun1+11)=CalendarYear,MONTH(MarSun1+11)=3),MarSun1+11,""),IF(AND(YEAR(MarSun1+18)=CalendarYear,MONTH(MarSun1+18)=3),MarSun1+18,"")) -> 45728 | T15: =IF(DAY(MarSun1)=1,IF(AND(YEAR(MarSun1+12)=CalendarYear,MONTH(MarSun1+12)=3),MarSun1+12,""),IF(AND(YEAR(MarSun1+19)=CalendarYear,MONTH(MarSun1+19)=3),MarSun1+19,"")) -> 45729 | U15: =IF(DAY(MarSun1)=1,IF(AND(YEAR(MarSun1+13)=CalendarYear,MONTH(MarSun1+13)=3),MarSun1+13,""),IF(AND(YEAR(MarSun1+20)=CalendarYear,MONTH(MarSun1+20)=3),MarSun1+20,"")) -> 45730 | V15: =IF(DAY(MarSun1)=1,IF(AND(YEAR(MarSun1+14)=CalendarYear,MONTH(MarSun1+14)=3),MarSun1+14,""),IF(AND(YEAR(MarSun1+21)=CalendarYear,MONTH(MarSun1+21)=3),MarSun1+21,"")) -> 45731 | W15: =IF(DAY(MarSun1)=1,IF(AND(YEAR(MarSun1+15)=CalendarYear,MONTH(MarSun1+15)=3),MarSun1+15,""),IF(AND(YEAR(MarSun1+22)=CalendarYear,MONTH(MarSun1+22)=3),MarSun1+22,"")) -> 45732 | X15: =IF(DAY(MarSun1)=1,IF(AND(YEAR(MarSun1+16)=CalendarYear,MONTH(MarSun1+16)=3),MarSun1+16,""),IF(AND(YEAR(MarSun1+23)=CalendarYear,MONTH(MarSun1+23)=3),MarSun1+23,"")) -> 45733 | Y15: =IF(DAY(MarSun1)=1,IF(AND(YEAR(MarSun1+17)=CalendarYear,MONTH(MarSun1+17)=3),MarSun1+17,""),IF(AND(YEAR(MarSun1+24)=CalendarYear,MONTH(MarSun1+24)=3),MarSun1+24,"")) -> 45734 | Z15: =IF(DAY(MarSun1)=1,IF(AND(YEAR(MarSun1+18)=CalendarYear,MONTH(MarSun1+18)=3),MarSun1+18,""),IF(AND(YEAR(MarSun1+25)=CalendarYear,MONTH(MarSun1+25)=3),MarSun1+25,"")) -> 45735 | AA15: =IF(DAY(MarSun1)=1,IF(AND(YEAR(MarSun1+19)=CalendarYear,MONTH(MarSun1+19)=3),MarSun1+19,""),IF(AND(YEAR(MarSun1+26)=CalendarYear,MONTH(MarSun1+26)=3),MarSun1+26,"")) -> 45736 | AB15: =IF(DAY(MarSun1)=1,IF(AND(YEAR(MarSun1+20)=CalendarYear,MONTH(MarSun1+20)=3),MarSun1+20,""),IF(AND(YEAR(MarSun1+27)=CalendarYear,MONTH(MarSun1+27)=3),MarSun1+27,"")) -> 45737 | AC15: =IF(DAY(MarSun1)=1,IF(AND(YEAR(MarSun1+21)=CalendarYear,MONTH(MarSun1+21)=3),MarSun1+21,""),IF(AND(YEAR(MarSun1+28)=CalendarYear,MONTH(MarSun1+28)=3),MarSun1+28,"")) -> 45738 | AD15: =IF(DAY(MarSun1)=1,IF(AND(YEAR(MarSun1+22)=CalendarYear,MONTH(MarSun1+22)=3),MarSun1+22,""),IF(AND(YEAR(MarSun1+29)=CalendarYear,MONTH(MarSun1+29)=3),MarSun1+29,"")) -> 45739 | AE15: =IF(DAY(MarSun1)=1,IF(AND(YEAR(MarSun1+23)=CalendarYear,MONTH(MarSun1+23)=3),MarSun1+23,""),IF(AND(YEAR(MarSun1+30)=CalendarYear,MONTH(MarSun1+30)=3),MarSun1+30,"")) -> 45740 | AF15: =IF(DAY(MarSun1)=1,IF(AND(YEAR(MarSun1+24)=CalendarYear,MONTH(MarSun1+24)=3),MarSun1+24,""),IF(AND(YEAR(MarSun1+31)=CalendarYear,MONTH(MarSun1+31)=3),MarSun1+31,"")) -> 45741 | AG15: =IF(DAY(MarSun1)=1,IF(AND(YEAR(MarSun1+25)=CalendarYear,MONTH(MarSun1+25)=3),MarSun1+25,""),IF(AND(YEAR(MarSun1+32)=CalendarYear,MONTH(MarSun1+32)=3),MarSun1+32,"")) -> 45742 | AH15: =IF(DAY(MarSun1)=1,IF(AND(YEAR(MarSun1+26)=CalendarYear,MONTH(MarSun1+26)=3),MarSun1+26,""),IF(AND(YEAR(MarSun1+33)=CalendarYear,MONTH(MarSun1+33)=3),MarSun1+33,"")) -> 45743 | AI15: =IF(DAY(MarSun1)=1,IF(AND(YEAR(MarSun1+27)=CalendarYear,MONTH(MarSun1+27)=3),MarSun1+27,""),IF(AND(YEAR(MarSun1+34)=CalendarYear,MONTH(MarSun1+34)=3),MarSun1+34,"")) -> 45744 | AJ15: =IF(DAY(MarSun1)=1,IF(AND(YEAR(MarSun1+28)=CalendarYear,MONTH(MarSun1+28)=3),MarSun1+28,""),IF(AND(YEAR(MarSun1+35)=CalendarYear,MONTH(MarSun1+35)=3),MarSun1+35,"")) -> 45745 | AK15: =IF(DAY(MarSun1)=1,IF(AND(YEAR(MarSun1+29)=CalendarYear,MONTH(MarSun1+29)=3),MarSun1+29,""),IF(AND(YEAR(MarSun1+36)=CalendarYear,MONTH(MarSun1+36)=3),MarSun1+36,"")) -> 45746 | AL15: =IF(DAY(MarSun1)=1,IF(AND(YEAR(MarSun1+30)=CalendarYear,MONTH(MarSun1+30)=3),MarSun1+30,""),IF(AND(YEAR(MarSun1+37)=CalendarYear,MONTH(MarSun1+37)=3),MarSun1+37,"")) -> 45747
B16: Di | C16: Lu | D16: Ma | E16: Me | F16: Je | G16: Ve | H16: Sa | I16: Di | J16: Lu | K16: Ma | L16: Me | M16: Je | N16: Ve | O16: Sa | P16: Di | Q16: Lu | R16: Ma | S16: Me | T16: Je | U16: Ve | V16: Sa | W16: Di | X16: Lu | Y16: Ma | Z16: Me | AA16: Je | AB16: Ve | AC16: Sa | AD16: Di | AE16: Lu | AF16: Ma | AG16: Me | AH16: Je | AI16: Ve | AJ16: Sa | AK16: Di | AL16: Lu
A17: Machine | B17: =IFERROR(IF(VLOOKUP(B15,'TABLEAU MACHINE'!$E:$E,1,FALSE),"Y",0),"") | C17: =IFERROR(IF(VLOOKUP(C15,'TABLEAU MACHINE'!$E:$E,1,FALSE),"Y",0),"") | D17: =IFERROR(IF(VLOOKUP(D15,'TABLEAU MACHINE'!$E:$E,1,FALSE),"Y",0),"") | E17: =IFERROR(IF(VLOOKUP(E15,'TABLEAU MACHINE'!$E:$E,1,FALSE),"Y",0),"") | F17: =IFERROR(IF(VLOOKUP(F15,'TABLEAU MACHINE'!$E:$E,1,FALSE),"Y",0),"") | G17: =IFERROR(IF(VLOOKUP(G15,'TABLEAU MACHINE'!$E:$E,1,FALSE),"Y",0),"") | H17: =IFERROR(IF(VLOOKUP(H15,'TABLEAU MACHINE'!$E:$E,1,FALSE),"Y",0),"") | I17: =IFERROR(IF(VLOOKUP(I15,'TABLEAU MACHINE'!$E:$E,1,FALSE),"Y",0),"") | ... AL17: =IFERROR(IF(VLOOKUP(AL15,'TABLEAU MACHINE'!$E:$E,1,FALSE),"Y",0),"")
A18: Personnel | B18: 1300 | C18: 1300 | D18: 1300 | E18: 1300 | F18: 1300 | G18: 1300 | H18: 100 | I18: 0 | J18: 0 | K18: 0 | L18: 0 | M18: 0 | N18: 0 | O18: 0 | P18: 0 | Q18: 0 | R18: 0 | S18: 0 | T18: 0 | U18: 0 | V18: 0 | W18: 0 | X18: 100 | Y18: 100 | Z18: 100 | AA18: 100 | AB18: 100 | AC18: 100 | AD18: 50 | AE18: 50 | AF18: 50 | AG18: 50 | AH18: 50 | AI18: 0 | AJ18: 0 | AK18: 0 | AL18: 0
A19: =DATE(CalendarYear,4,1) -> 45748 | B19: =IFERROR((WEEKNUM(B20)),"") | C19: =IFERROR((WEEKNUM(C20)),"") | D19: =IFERROR((WEEKNUM(D20)),"") -> 14 | E19: =IFERROR((WEEKNUM(E20)),"") -> 14 | F19: =IFERROR((WEEKNUM(F20)),"") -> 14 | G19: =IFERROR((WEEKNUM(G20)),"") -> 14 | H19: =IFERROR((WEEKNUM(H20)),"") -> 14 | I19: =IFERROR((WEEKNUM(I20)),"") -> 15 | ... AL19: =IFERROR((WEEKNUM(AL20)),"")
B20: =IF(DAY(AprSun1)=1,"",IF(AND(YEAR(AprSun1+1)=CalendarYear,MONTH(AprSun1+1)=4),AprSun1+1,"")) | C20: =IF(DAY(AprSun1)=1,"",IF(AND(YEAR(AprSun1+2)=CalendarYear,MONTH(AprSun1+2)=4),AprSun1+2,"")) | D20: =IF(DAY(AprSun1)=1,"",IF(AND(YEAR(AprSun1+3)=CalendarYear,MONTH(AprSun1+3)=4),AprSun1+3,"")) -> 45748 | E20: =IF(DAY(AprSun1)=1,"",IF(AND(YEAR(AprSun1+4)=CalendarYear,MONTH(AprSun1+4)=4),AprSun1+4,"")) -> 45749 | F20: =IF(DAY(AprSun1)=1,"",IF(AND(YEAR(AprSun1+5)=CalendarYear,MONTH(AprSun1+5)=4),AprSun1+5,"")) -> 45750 | G20: =IF(DAY(AprSun1)=1,"",IF(AND(YEAR(AprSun1+6)=CalendarYear,MONTH(AprSun1+6)=4),AprSun1+6,"")) -> 45751 | H20: =IF(DAY(AprSun1)=1,IF(AND(YEAR(AprSun1)=CalendarYear,MONTH(AprSun1)=4),AprSun1,""),IF(AND(YEAR(AprSun1+7)=CalendarYear,MONTH(AprSun1+7)=4),AprSun1+7,"")) -> 45752 | I20: =IF(DAY(AprSun1)=1,IF(AND(YEAR(AprSun1+1)=CalendarYear,MONTH(AprSun1+1)=4),AprSun1+1,""),IF(AND(YEAR(AprSun1+8)=CalendarYear,MONTH(AprSun1+8)=4),AprSun1+8,"")) -> 45753 | J20: =IF(DAY(AprSun1)=1,IF(AND(YEAR(AprSun1+2)=CalendarYear,MONTH(AprSun1+2)=4),AprSun1+2,""),IF(AND(YEAR(AprSun1+9)=CalendarYear,MONTH(AprSun1+9)=4),AprSun1+9,"")) -> 45754 | K20: =IF(DAY(AprSun1)=1,IF(AND(YEAR(AprSun1+3)=CalendarYear,MONTH(AprSun1+3)=4),AprSun1+3,""),IF(AND(YEAR(AprSun1+10)=CalendarYear,MONTH(AprSun1+10)=4),AprSun1+10,"")) -> 45755 | L20: =IF(DAY(AprSun1)=1,IF(AND(YEAR(AprSun1+4)=CalendarYear,MONTH(AprSun1+4)=4),AprSun1+4,""),IF(AND(YEAR(AprSun1+11)=CalendarYear,MONTH(AprSun1+11)=4),AprSun1+11,"")) -> 45756 | M20: =IF(DAY(AprSun1)=1,IF(AND(YEAR(AprSun1+5)=CalendarYear,MONTH(AprSun1+5)=4),AprSun1+5,""),IF(AND(YEAR(AprSun1+12)=CalendarYear,MONTH(AprSun1+12)=4),AprSun1+12,"")) -> 45757 | N20: =IF(DAY(AprSun1)=1,IF(AND(YEAR(AprSun1+6)=CalendarYear,MONTH(AprSun1+6)=4),AprSun1+6,""),IF(AND(YEAR(AprSun1+13)=CalendarYear,MONTH(AprSun1+13)=4),AprSun1+13,"")) -> 45758 | O20: =IF(DAY(AprSun1)=1,IF(AND(YEAR(AprSun1+7)=CalendarYear,MONTH(AprSun1+7)=4),AprSun1+7,""),IF(AND(YEAR(AprSun1+14)=CalendarYear,MONTH(AprSun1+14)=4),AprSun1+14,"")) -> 45759 | P20: =IF(DAY(AprSun1)=1,IF(AND(YEAR(AprSun1+8)=CalendarYear,MONTH(AprSun1+8)=4),AprSun1+8,""),IF(AND(YEAR(AprSun1+15)=CalendarYear,MONTH(AprSun1+15)=4),AprSun1+15,"")) -> 45760 | Q20: =IF(DAY(AprSun1)=1,IF(AND(YEAR(AprSun1+9)=CalendarYear,MONTH(AprSun1+9)=4),AprSun1+9,""),IF(AND(YEAR(AprSun1+16)=CalendarYear,MONTH(AprSun1+16)=4),AprSun1+16,"")) -> 45761 | R20: =IF(DAY(AprSun1)=1,IF(AND(YEAR(AprSun1+10)=CalendarYear,MONTH(AprSun1+10)=4),AprSun1+10,""),IF(AND(YEAR(AprSun1+17)=CalendarYear,MONTH(AprSun1+17)=4),AprSun1+17,"")) -> 45762 | S20: =IF(DAY(AprSun1)=1,IF(AND(YEAR(AprSun1+11)=CalendarYear,MONTH(AprSun1+11)=4),AprSun1+11,""),IF(AND(YEAR(AprSun1+18)=CalendarYear,MONTH(AprSun1+18)=4),AprSun1+18,"")) -> 45763 | T20: =IF(DAY(AprSun1)=1,IF(AND(YEAR(AprSun1+12)=CalendarYear,MONTH(AprSun1+12)=4),AprSun1+12,""),IF(AND(YEAR(AprSun1+19)=CalendarYear,MONTH(AprSun1+19)=4),AprSun1+19,"")) -> 45764 | U20: =IF(DAY(AprSun1)=1,IF(AND(YEAR(AprSun1+13)=CalendarYear,MONTH(AprSun1+13)=4),AprSun1+13,""),IF(AND(YEAR(AprSun1+20)=CalendarYear,MONTH(AprSun1+20)=4),AprSun1+20,"")) -> 45765 | V20: =IF(DAY(AprSun1)=1,IF(AND(YEAR(AprSun1+14)=CalendarYear,MONTH(AprSun1+14)=4),AprSun1+14,""),IF(AND(YEAR(AprSun1+21)=CalendarYear,MONTH(AprSun1+21)=4),AprSun1+21,"")) -> 45766 | W20: =IF(DAY(AprSun1)=1,IF(AND(YEAR(AprSun1+15)=CalendarYear,MONTH(AprSun1+15)=4),AprSun1+15,""),IF(AND(YEAR(AprSun1+22)=CalendarYear,MONTH(AprSun1+22)=4),AprSun1+22,"")) -> 45767 | X20: =IF(DAY(AprSun1)=1,IF(AND(YEAR(AprSun1+16)=CalendarYear,MONTH(AprSun1+16)=4),AprSun1+16,""),IF(AND(YEAR(AprSun1+23)=CalendarYear,MONTH(AprSun1+23)=4),AprSun1+23,"")) -> 45768 | Y20: =IF(DAY(AprSun1)=1,IF(AND(YEAR(AprSun1+17)=CalendarYear,MONTH(AprSun1+17)=4),AprSun1+17,""),IF(AND(YEAR(AprSun1+24)=CalendarYear,MONTH(AprSun1+24)=4),AprSun1+24,"")) -> 45769 | Z20: =IF(DAY(AprSun1)=1,IF(AND(YEAR(AprSun1+18)=CalendarYear,MONTH(AprSun1+18)=4),AprSun1+18,""),IF(AND(YEAR(AprSun1+25)=CalendarYear,MONTH(AprSun1+25)=4),AprSun1+25,"")) -> 45770 | AA20: =IF(DAY(AprSun1)=1,IF(AND(YEAR(AprSun1+19)=CalendarYear,MONTH(AprSun1+19)=4),AprSun1+19,""),IF(AND(YEAR(AprSun1+26)=CalendarYear,MONTH(AprSun1+26)=4),AprSun1+26,"")) -> 45771 | AB20: =IF(DAY(AprSun1)=1,IF(AND(YEAR(AprSun1+20)=CalendarYear,MONTH(AprSun1+20)=4),AprSun1+20,""),IF(AND(YEAR(AprSun1+27)=CalendarYear,MONTH(AprSun1+27)=4),AprSun1+27,"")) -> 45772 | AC20: =IF(DAY(AprSun1)=1,IF(AND(YEAR(AprSun1+21)=CalendarYear,MONTH(AprSun1+21)=4),AprSun1+21,""),IF(AND(YEAR(AprSun1+28)=CalendarYear,MONTH(AprSun1+28)=4),AprSun1+28,"")) -> 45773 | AD20: =IF(DAY(AprSun1)=1,IF(AND(YEAR(AprSun1+22)=CalendarYear,MONTH(AprSun1+22)=4),AprSun1+22,""),IF(AND(YEAR(AprSun1+29)=CalendarYear,MONTH(AprSun1+29)=4),AprSun1+29,"")) -> 45774 | AE20: =IF(DAY(AprSun1)=1,IF(AND(YEAR(AprSun1+23)=CalendarYear,MONTH(AprSun1+23)=4),AprSun1+23,""),IF(AND(YEAR(AprSun1+30)=CalendarYear,MONTH(AprSun1+30)=4),AprSun1+30,"")) -> 45775 | AF20: =IF(DAY(AprSun1)=1,IF(AND(YEAR(AprSun1+24)=CalendarYear,MONTH(AprSun1+24)=4),AprSun1+24,""),IF(AND(YEAR(AprSun1+31)=CalendarYear,MONTH(AprSun1+31)=4),AprSun1+31,"")) -> 45776 | AG20: =IF(DAY(AprSun1)=1,IF(AND(YEAR(AprSun1+25)=CalendarYear,MONTH(AprSun1+25)=4),AprSun1+25,""),IF(AND(YEAR(AprSun1+32)=CalendarYear,MONTH(AprSun1+32)=4),AprSun1+32,"")) -> 45777 | AH20: =IF(DAY(AprSun1)=1,IF(AND(YEAR(AprSun1+26)=CalendarYear,MONTH(AprSun1+26)=4),AprSun1+26,""),IF(AND(YEAR(AprSun1+33)=CalendarYear,MONTH(AprSun1+33)=4),AprSun1+33,"")) | AI20: =IF(DAY(AprSun1)=1,IF(AND(YEAR(AprSun1+27)=CalendarYear,MONTH(AprSun1+27)=4),AprSun1+27,""),IF(AND(YEAR(AprSun1+34)=CalendarYear,MONTH(AprSun1+34)=4),AprSun1+34,"")) | AJ20: =IF(DAY(AprSun1)=1,IF(AND(YEAR(AprSun1+28)=CalendarYear,MONTH(AprSun1+28)=4),AprSun1+28,""),IF(AND(YEAR(AprSun1+35)=CalendarYear,MONTH(AprSun1+35)=4),AprSun1+35,"")) | AK20: =IF(DAY(AprSun1)=1,IF(AND(YEAR(AprSun1+29)=CalendarYear,MONTH(AprSun1+29)=4),AprSun1+29,""),IF(AND(YEAR(AprSun1+36)=CalendarYear,MONTH(AprSun1+36)=4),AprSun1+36,"")) | AL20: =IF(DAY(AprSun1)=1,IF(AND(YEAR(AprSun1+30)=CalendarYear,MONTH(AprSun1+30)=4),AprSun1+30,""),IF(AND(YEAR(AprSun1+37)=CalendarYear,MONTH(AprSun1+37)=4),AprSun1+37,""))
B21: Di | C21: Lu | D21: Ma | E21: Me | F21: Je | G21: Ve | H21: Sa | I21: Di | J21: Lu | K21: Ma | L21: Me | M21: Je | N21: Ve | O21: Sa | P21: Di | Q21: Lu | R21: Ma | S21: Me | T21: Je | U21: Ve | V21: Sa | W21: Di | X21: Lu | Y21: Ma | Z21: Me | AA21: Je | AB21: Ve | AC21: Sa | AD21: Di | AE21: Lu | AF21: Ma | AG21: Me | AH21: Je | AI21: Ve | AJ21: Sa | AK21: Di | AL21: Lu
A22: Machine | B22: =IFERROR(IF(VLOOKUP(B20,'TABLEAU MACHINE'!$E:$E,1,FALSE),"Y",0),"") | C22: =IFERROR(IF(VLOOKUP(C20,'TABLEAU MACHINE'!$E:$E,1,FALSE),"Y",0),"") | D22: =IFERROR(IF(VLOOKUP(D20,'TABLEAU MACHINE'!$E:$E,1,FALSE),"Y",0),"") | E22: =IFERROR(IF(VLOOKUP(E20,'TABLEAU MACHINE'!$E:$E,1,FALSE),"Y",0),"") | F22: =IFERROR(IF(VLOOKUP(F20,'TABLEAU MACHINE'!$E:$E,1,FALSE),"Y",0),"") | G22: =IFERROR(IF(VLOOKUP(G20,'TABLEAU MACHINE'!$E:$E,1,FALSE),"Y",0),"") | H22: =IFERROR(IF(VLOOKUP(H20,'TABLEAU MACHINE'!$E:$E,1,FALSE),"Y",0),"") | I22: =IFERROR(IF(VLOOKUP(I20,'TABLEAU MACHINE'!$E:$E,1,FALSE),"Y",0),"") | ... AL22: =IFERROR(IF(VLOOKUP(AL20,'TABLEAU MACHINE'!$E:$E,1,FALSE),"Y",0),"")
A23: Personnel | Q23: 100 | R23: 100 | S23: 100 | T23: 100 | U23: 100 | V23: 100 | W23: 0 | X23: 0
A24: =DATE(CalendarYear,5,1) -> 45778 | B24: =IFERROR((WEEKNUM(B25)),"") | C24: =IFERROR((WEEKNUM(C25)),"") | D24: =IFERROR((WEEKNUM(D25)),"") | E24: =IFERROR((WEEKNUM(E25)),"") | F24: =IFERROR((WEEKNUM(F25)),"") -> 18 | G24: =IFERROR((WEEKNUM(G25)),"") -> 18 | H24: =IFERROR((WEEKNUM(H25)),"") -> 18 | I24: =IFERROR((WEEKNUM(I25)),"") -> 19 | ... AL24: =IFERROR((WEEKNUM(AL25)),"")
B25: =IF(DAY(MaySun1)=1,"",IF(AND(YEAR(MaySun1+1)=CalendarYear,MONTH(MaySun1+1)=5),MaySun1+1,"")) | C25: =IF(DAY(MaySun1)=1,"",IF(AND(YEAR(MaySun1+2)=CalendarYear,MONTH(MaySun1+2)=5),MaySun1+2,"")) | D25: =IF(DAY(MaySun1)=1,"",IF(AND(YEAR(MaySun1+3)=CalendarYear,MONTH(MaySun1+3)=5),MaySun1+3,"")) | E25: =IF(DAY(MaySun1)=1,"",IF(AND(YEAR(MaySun1+4)=CalendarYear,MONTH(MaySun1+4)=5),MaySun1+4,"")) | F25: =IF(DAY(MaySun1)=1,"",IF(AND(YEAR(MaySun1+5)=CalendarYear,MONTH(MaySun1+5)=5),MaySun1+5,"")) -> 45778 | G25: =IF(DAY(MaySun1)=1,"",IF(AND(YEAR(MaySun1+6)=CalendarYear,MONTH(MaySun1+6)=5),MaySun1+6,"")) -> 45779 | H25: =IF(DAY(MaySun1)=1,IF(AND(YEAR(MaySun1)=CalendarYear,MONTH(MaySun1)=5),MaySun1,""),IF(AND(YEAR(MaySun1+7)=CalendarYear,MONTH(MaySun1+7)=5),MaySun1+7,"")) -> 45780 | I25: =IF(DAY(MaySun1)=1,IF(AND(YEAR(MaySun1+1)=CalendarYear,MONTH(MaySun1+1)=5),MaySun1+1,""),IF(AND(YEAR(MaySun1+8)=CalendarYear,MONTH(MaySun1+8)=5),MaySun1+8,"")) -> 45781 | J25: =IF(DAY(MaySun1)=1,IF(AND(YEAR(MaySun1+2)=CalendarYear,MONTH(MaySun1+2)=5),MaySun1+2,""),IF(AND(YEAR(MaySun1+9)=CalendarYear,MONTH(MaySun1+9)=5),MaySun1+9,"")) -> 45782 | K25: =IF(DAY(MaySun1)=1,IF(AND(YEAR(MaySun1+3)=CalendarYear,MONTH(MaySun1+3)=5),MaySun1+3,""),IF(AND(YEAR(MaySun1+10)=CalendarYear,MONTH(MaySun1+10)=5),MaySun1+10,"")) -> 45783 | L25: =IF(DAY(MaySun1)=1,IF(AND(YEAR(MaySun1+4)=CalendarYear,MONTH(MaySun1+4)=5),MaySun1+4,""),IF(AND(YEAR(MaySun1+11)=CalendarYear,MONTH(MaySun1+11)=5),MaySun1+11,"")) -> 45784 | M25: =IF(DAY(MaySun1)=1,IF(AND(YEAR(MaySun1+5)=CalendarYear,MONTH(MaySun1+5)=5),MaySun1+5,""),IF(AND(YEAR(MaySun1+12)=CalendarYear,MONTH(MaySun1+12)=5),MaySun1+12,"")) -> 45785 | N25: =IF(DAY(MaySun1)=1,IF(AND(YEAR(MaySun1+6)=CalendarYear,MONTH(MaySun1+6)=5),MaySun1+6,""),IF(AND(YEAR(MaySun1+13)=CalendarYear,MONTH(MaySun1+13)=5),MaySun1+13,"")) -> 45786 | O25: =IF(DAY(MaySun1)=1,IF(AND(YEAR(MaySun1+7)=CalendarYear,MONTH(MaySun1+7)=5),MaySun1+7,""),IF(AND(YEAR(MaySun1+14)=CalendarYear,MONTH(MaySun1+14)=5),MaySun1+14,"")) -> 45787 | P25: =IF(DAY(MaySun1)=1,IF(AND(YEAR(MaySun1+8)=CalendarYear,MONTH(MaySun1+8)=5),MaySun1+8,""),IF(AND(YEAR(MaySun1+15)=CalendarYear,MONTH(MaySun1+15)=5),MaySun1+15,"")) -> 45788 | Q25: =IF(DAY(MaySun1)=1,IF(AND(YEAR(MaySun1+9)=CalendarYear,MONTH(MaySun1+9)=5),MaySun1+9,""),IF(AND(YEAR(MaySun1+16)=CalendarYear,MONTH(MaySun1+16)=5),MaySun1+16,"")) -> 45789 | R25: =IF(DAY(MaySun1)=1,IF(AND(YEAR(MaySun1+10)=CalendarYear,MONTH(MaySun1+10)=5),MaySun1+10,""),IF(AND(YEAR(MaySun1+17)=CalendarYear,MONTH(MaySun1+17)=5),MaySun1+17,"")) -> 45790 | S25: =IF(DAY(MaySun1)=1,IF(AND(YEAR(MaySun1+11)=CalendarYear,MONTH(MaySun1+11)=5),MaySun1+11,""),IF(AND(YEAR(MaySun1+18)=CalendarYear,MONTH(MaySun1+18)=5),MaySun1+18,"")) -> 45791 | T25: =IF(DAY(MaySun1)=1,IF(AND(YEAR(MaySun1+12)=CalendarYear,MONTH(MaySun1+12)=5),MaySun1+12,""),IF(AND(YEAR(MaySun1+19)=CalendarYear,MONTH(MaySun1+19)=5),MaySun1+19,"")) -> 45792 | U25: =IF(DAY(MaySun1)=1,IF(AND(YEAR(MaySun1+13)=CalendarYear,MONTH(MaySun1+13)=5),MaySun1+13,""),IF(AND(YEAR(MaySun1+20)=CalendarYear,MONTH(MaySun1+20)=5),MaySun1+20,"")) -> 45793 | V25: =IF(DAY(MaySun1)=1,IF(AND(YEAR(MaySun1+14)=CalendarYear,MONTH(MaySun1+14)=5),MaySun1+14,""),IF(AND(YEAR(MaySun1+21)=CalendarYear,MONTH(MaySun1+21)=5),MaySun1+21,"")) -> 45794 | W25: =IF(DAY(MaySun1)=1,IF(AND(YEAR(MaySun1+15)=CalendarYear,MONTH(MaySun1+15)=5),MaySun1+15,""),IF(AND(YEAR(MaySun1+22)=CalendarYear,MONTH(MaySun1+22)=5),MaySun1+22,"")) -> 45795 | X25: =IF(DAY(MaySun1)=1,IF(AND(YEAR(MaySun1+16)=CalendarYear,MONTH(MaySun1+16)=5),MaySun1+16,""),IF(AND(YEAR(MaySun1+23)=CalendarYear,MONTH(MaySun1+23)=5),MaySun1+23,"")) -> 45796 | Y25: =IF(DAY(MaySun1)=1,IF(AND(YEAR(MaySun1+17)=CalendarYear,MONTH(MaySun1+17)=5),MaySun1+17,""),IF(AND(YEAR(MaySun1+24)=CalendarYear,MONTH(MaySun1+24)=5),MaySun1+24,"")) -> 45797 | Z25: =IF(DAY(MaySun1)=1,IF(AND(YEAR(MaySun1+18)=CalendarYear,MONTH(MaySun1+18)=5),MaySun1+18,""),IF(AND(YEAR(MaySun1+25)=CalendarYear,MONTH(MaySun1+25)=5),MaySun1+25,"")) -> 45798 | AA25: =IF(DAY(MaySun1)=1,IF(AND(YEAR(MaySun1+19)=CalendarYear,MONTH(MaySun1+19)=5),MaySun1+19,""),IF(AND(YEAR(MaySun1+26)=CalendarYear,MONTH(MaySun1+26)=5),MaySun1+26,"")) -> 45799 | AB25: =IF(DAY(MaySun1)=1,IF(AND(YEAR(MaySun1+20)=CalendarYear,MONTH(MaySun1+20)=5),MaySun1+20,""),IF(AND(YEAR(MaySun1+27)=CalendarYear,MONTH(MaySun1+27)=5),MaySun1+27,"")) -> 45800 | AC25: =IF(DAY(MaySun1)=1,IF(AND(YEAR(MaySun1+21)=CalendarYear,MONTH(MaySun1+21)=5),MaySun1+21,""),IF(AND(YEAR(MaySun1+28)=CalendarYear,MONTH(MaySun1+28)=5),MaySun1+28,"")) -> 45801 | AD25: =IF(DAY(MaySun1)=1,IF(AND(YEAR(MaySun1+22)=CalendarYear,MONTH(MaySun1+22)=5),MaySun1+22,""),IF(AND(YEAR(MaySun1+29)=CalendarYear,MONTH(MaySun1+29)=5),MaySun1+29,"")) -> 45802 | AE25: =IF(DAY(MaySun1)=1,IF(AND(YEAR(MaySun1+23)=CalendarYear,MONTH(MaySun1+23)=5),MaySun1+23,""),IF(AND(YEAR(MaySun1+30)=CalendarYear,MONTH(MaySun1+30)=5),MaySun1+30,"")) -> 45803 | AF25: =IF(DAY(MaySun1)=1,IF(AND(YEAR(MaySun1+24)=CalendarYear,MONTH(MaySun1+24)=5),MaySun1+24,""),IF(AND(YEAR(MaySun1+31)=CalendarYear,MONTH(MaySun1+31)=5),MaySun1+31,"")) -> 45804 | AG25: =IF(DAY(MaySun1)=1,IF(AND(YEAR(MaySun1+25)=CalendarYear,MONTH(MaySun1+25)=5),MaySun1+25,""),IF(AND(YEAR(MaySun1+32)=CalendarYear,MONTH(MaySun1+32)=5),MaySun1+32,"")) -> 45805 | AH25: =IF(DAY(MaySun1)=1,IF(AND(YEAR(MaySun1+26)=CalendarYear,MONTH(MaySun1+26)=5),MaySun1+26,""),IF(AND(YEAR(MaySun1+33)=CalendarYear,MONTH(MaySun1+33)=5),MaySun1+33,"")) -> 45806 | AI25: =IF(DAY(MaySun1)=1,IF(AND(YEAR(MaySun1+27)=CalendarYear,MONTH(MaySun1+27)=5),MaySun1+27,""),IF(AND(YEAR(MaySun1+34)=CalendarYear,MONTH(MaySun1+34)=5),MaySun1+34,"")) -> 45807 | AJ25: =IF(DAY(MaySun1)=1,IF(AND(YEAR(MaySun1+28)=CalendarYear,MONTH(MaySun1+28)=5),MaySun1+28,""),IF(AND(YEAR(MaySun1+35)=CalendarYear,MONTH(MaySun1+35)=5),MaySun1+35,"")) -> 45808 | AK25: =IF(DAY(MaySun1)=1,IF(AND(YEAR(MaySun1+29)=CalendarYear,MONTH(MaySun1+29)=5),MaySun1+29,""),IF(AND(YEAR(MaySun1+36)=CalendarYear,MONTH(MaySun1+36)=5),MaySun1+36,"")) | AL25: =IF(DAY(MaySun1)=1,IF(AND(YEAR(MaySun1+30)=CalendarYear,MONTH(MaySun1+30)=5),MaySun1+30,""),IF(AND(YEAR(MaySun1+37)=CalendarYear,MONTH(MaySun1+37)=5),MaySun1+37,""))
B26: Di | C26: Lu | D26: Ma | E26: Me | F26: Je | G26: Ve | H26: Sa | I26: Di | J26: Lu | K26: Ma | L26: Me | M26: Je | N26: Ve | O26: Sa | P26: Di | Q26: Lu | R26: Ma | S26: Me | T26: Je | U26: Ve | V26: Sa | W26: Di | X26: Lu | Y26: Ma | Z26: Me | AA26: Je | AB26: Ve | AC26: Sa | AD26: Di | AE26: Lu | AF26: Ma | AG26: Me | AH26: Je | AI26: Ve | AJ26: Sa | AK26: Di | AL26: Lu
A27: Machine | B27: =IFERROR(IF(VLOOKUP(B25,'TABLEAU MACHINE'!$E:$E,1,FALSE),"Y",0),"") | C27: =IFERROR(IF(VLOOKUP(C25,'TABLEAU MACHINE'!$E:$E,1,FALSE),"Y",0),"") | D27: =IFERROR(IF(VLOOKUP(D25,'TABLEAU MACHINE'!$E:$E,1,FALSE),"Y",0),"") | E27: =IFERROR(IF(VLOOKUP(E25,'TABLEAU MACHINE'!$E:$E,1,FALSE),"Y",0),"") | F27: =IFERROR(IF(VLOOKUP(F25,'TABLEAU MACHINE'!$E:$E,1,FALSE),"Y",0),"") | G27: =IFERROR(IF(VLOOKUP(G25,'TABLEAU MACHINE'!$E:$E,1,FALSE),"Y",0),"") | H27: =IFERROR(IF(VLOOKUP(H25,'TABLEAU MACHINE'!$E:$E,1,FALSE),"Y",0),"") | I27: =IFERROR(IF(VLOOKUP(I25,'TABLEAU MACHINE'!$E:$E,1,FALSE),"Y",0),"") | ... AL27: =IFERROR(IF(VLOOKUP(AL25,'TABLEAU MACHINE'!$E:$E,1,FALSE),"Y",0),"")
A28: Personnel | F28: C | M28: C | AH28: C
A29: =DATE(CalendarYear,6,1) -> 45809 | B29: =IFERROR((WEEKNUM(B30)),"") -> 23 | C29: =IFERROR((WEEKNUM(C30)),"") -> 23 | D29: =IFERROR((WEEKNUM(D30)),"") -> 23 | E29: =IFERROR((WEEKNUM(E30)),"") -> 23 | F29: =IFERROR((WEEKNUM(F30)),"") -> 23 | G29: =IFERROR((WEEKNUM(G30)),"") -> 23 | H29: =IFERROR((WEEKNUM(H30)),"") -> 23 | I29: =IFERROR((WEEKNUM(I30)),"") -> 24 | ... AL29: =IFERROR((WEEKNUM(AL30)),"")
B30: =IF(DAY(JunSun1)=1,"",IF(AND(YEAR(JunSun1+1)=CalendarYear,MONTH(JunSun1+1)=6),JunSun1+1,"")) -> 45809 | C30: =IF(DAY(JunSun1)=1,"",IF(AND(YEAR(JunSun1+2)=CalendarYear,MONTH(JunSun1+2)=6),JunSun1+2,"")) -> 45810 | D30: =IF(DAY(JunSun1)=1,"",IF(AND(YEAR(JunSun1+3)=CalendarYear,MONTH(JunSun1+3)=6),JunSun1+3,"")) -> 45811 | E30: =IF(DAY(JunSun1)=1,"",IF(AND(YEAR(JunSun1+4)=CalendarYear,MONTH(JunSun1+4)=6),JunSun1+4,"")) -> 45812 | F30: =IF(DAY(JunSun1)=1,"",IF(AND(YEAR(JunSun1+5)=CalendarYear,MONTH(JunSun1+5)=6),JunSun1+5,"")) -> 45813 | G30: =IF(DAY(JunSun1)=1,"",IF(AND(YEAR(JunSun1+6)=CalendarYear,MONTH(JunSun1+6)=6),JunSun1+6,"")) -> 45814 | H30: =IF(DAY(JunSun1)=1,IF(AND(YEAR(JunSun1)=CalendarYear,MONTH(JunSun1)=6),JunSun1,""),IF(AND(YEAR(JunSun1+7)=CalendarYear,MONTH(JunSun1+7)=6),JunSun1+7,"")) -> 45815 | I30: =IF(DAY(JunSun1)=1,IF(AND(YEAR(JunSun1+1)=CalendarYear,MONTH(JunSun1+1)=6),JunSun1+1,""),IF(AND(YEAR(JunSun1+8)=CalendarYear,MONTH(JunSun1+8)=6),JunSun1+8,"")) -> 45816 | J30: =IF(DAY(JunSun1)=1,IF(AND(YEAR(JunSun1+2)=CalendarYear,MONTH(JunSun1+2)=6),JunSun1+2,""),IF(AND(YEAR(JunSun1+9)=CalendarYear,MONTH(JunSun1+9)=6),JunSun1+9,"")) -> 45817 | K30: =IF(DAY(JunSun1)=1,IF(AND(YEAR(JunSun1+3)=CalendarYear,MONTH(JunSun1+3)=6),JunSun1+3,""),IF(AND(YEAR(JunSun1+10)=CalendarYear,MONTH(JunSun1+10)=6),JunSun1+10,"")) -> 45818 | L30: =IF(DAY(JunSun1)=1,IF(AND(YEAR(JunSun1+4)=CalendarYear,MONTH(JunSun1+4)=6),JunSun1+4,""),IF(AND(YEAR(JunSun1+11)=CalendarYear,MONTH(JunSun1+11)=6),JunSun1+11,"")) -> 45819 | M30: =IF(DAY(JunSun1)=1,IF(AND(YEAR(JunSun1+5)=CalendarYear,MONTH(JunSun1+5)=6),JunSun1+5,""),IF(AND(YEAR(JunSun1+12)=CalendarYear,MONTH(JunSun1+12)=6),JunSun1+12,"")) -> 45820 | N30: =IF(DAY(JunSun1)=1,IF(AND(YEAR(JunSun1+6)=CalendarYear,MONTH(JunSun1+6)=6),JunSun1+6,""),IF(AND(YEAR(JunSun1+13)=CalendarYear,MONTH(JunSun1+13)=6),JunSun1+13,"")) -> 45821 | O30: =IF(DAY(JunSun1)=1,IF(AND(YEAR(JunSun1+7)=CalendarYear,MONTH(JunSun1+7)=6),JunSun1+7,""),IF(AND(YEAR(JunSun1+14)=CalendarYear,MONTH(JunSun1+14)=6),JunSun1+14,"")) -> 45822 | P30: =IF(DAY(JunSun1)=1,IF(AND(YEAR(JunSun1+8)=CalendarYear,MONTH(JunSun1+8)=6),JunSun1+8,""),IF(AND(YEAR(JunSun1+15)=CalendarYear,MONTH(JunSun1+15)=6),JunSun1+15,"")) -> 45823 | Q30: =IF(DAY(JunSun1)=1,IF(AND(YEAR(JunSun1+9)=CalendarYear,MONTH(JunSun1+9)=6),JunSun1+9,""),IF(AND(YEAR(JunSun1+16)=CalendarYear,MONTH(JunSun1+16)=6),JunSun1+16,"")) -> 45824 | R30: =IF(DAY(JunSun1)=1,IF(AND(YEAR(JunSun1+10)=CalendarYear,MONTH(JunSun1+10)=6),JunSun1+10,""),IF(AND(YEAR(JunSun1+17)=CalendarYear,MONTH(JunSun1+17)=6),JunSun1+17,"")) -> 45825 | S30: =IF(DAY(JunSun1)=1,IF(AND(YEAR(JunSun1+11)=CalendarYear,MONTH(JunSun1+11)=6),JunSun1+11,""),IF(AND(YEAR(JunSun1+18)=CalendarYear,MONTH(JunSun1+18)=6),JunSun1+18,"")) -> 45826 | T30: =IF(DAY(JunSun1)=1,IF(AND(YEAR(JunSun1+12)=CalendarYear,MONTH(JunSun1+12)=6),JunSun1+12,""),IF(AND(YEAR(JunSun1+19)=CalendarYear,MONTH(JunSun1+19)=6),JunSun1+19,"")) -> 45827 | U30: =IF(DAY(JunSun1)=1,IF(AND(YEAR(JunSun1+13)=CalendarYear,MONTH(JunSun1+13)=6),JunSun1+13,""),IF(AND(YEAR(JunSun1+20)=CalendarYear,MONTH(JunSun1+20)=6),JunSun1+20,"")) -> 45828 | V30: =IF(DAY(JunSun1)=1,IF(AND(YEAR(JunSun1+14)=CalendarYear,MONTH(JunSun1+14)=6),JunSun1+14,""),IF(AND(YEAR(JunSun1+21)=CalendarYear,MONTH(JunSun1+21)=6),JunSun1+21,"")) -> 45829 | W30: =IF(DAY(JunSun1)=1,IF(AND(YEAR(JunSun1+15)=CalendarYear,MONTH(JunSun1+15)=6),JunSun1+15,""),IF(AND(YEAR(JunSun1+22)=CalendarYear,MONTH(JunSun1+22)=6),JunSun1+22,"")) -> 45830 | X30: =IF(DAY(JunSun1)=1,IF(AND(YEAR(JunSun1+16)=CalendarYear,MONTH(JunSun1+16)=6),JunSun1+16,""),IF(AND(YEAR(JunSun1+23)=CalendarYear,MONTH(JunSun1+23)=6),JunSun1+23,"")) -> 45831 | Y30: =IF(DAY(JunSun1)=1,IF(AND(YEAR(JunSun1+17)=CalendarYear,MONTH(JunSun1+17)=6),JunSun1+17,""),IF(AND(YEAR(JunSun1+24)=CalendarYear,MONTH(JunSun1+24)=6),JunSun1+24,"")) -> 45832 | Z30: =IF(DAY(JunSun1)=1,IF(AND(YEAR(JunSun1+18)=CalendarYear,MONTH(JunSun1+18)=6),JunSun1+18,""),IF(AND(YEAR(JunSun1+25)=CalendarYear,MONTH(JunSun1+25)=6),JunSun1+25,"")) -> 45833 | AA30: =IF(DAY(JunSun1)=1,IF(AND(YEAR(JunSun1+19)=CalendarYear,MONTH(JunSun1+19)=6),JunSun1+19,""),IF(AND(YEAR(JunSun1+26)=CalendarYear,MONTH(JunSun1+26)=6),JunSun1+26,"")) -> 45834 | AB30: =IF(DAY(JunSun1)=1,IF(AND(YEAR(JunSun1+20)=CalendarYear,MONTH(JunSun1+20)=6),JunSun1+20,""),IF(AND(YEAR(JunSun1+27)=CalendarYear,MONTH(JunSun1+27)=6),JunSun1+27,"")) -> 45835 | AC30: =IF(DAY(JunSun1)=1,IF(AND(YEAR(JunSun1+21)=CalendarYear,MONTH(JunSun1+21)=6),JunSun1+21,""),IF(AND(YEAR(JunSun1+28)=CalendarYear,MONTH(JunSun1+28)=6),JunSun1+28,"")) -> 45836 | AD30: =IF(DAY(JunSun1)=1,IF(AND(YEAR(JunSun1+22)=CalendarYear,MONTH(JunSun1+22)=6),JunSun1+22,""),IF(AND(YEAR(JunSun1+29)=CalendarYear,MONTH(JunSun1+29)=6),JunSun1+29,"")) -> 45837 | AE30: =IF(DAY(JunSun1)=1,IF(AND(YEAR(JunSun1+23)=CalendarYear,MONTH(JunSun1+23)=6),JunSun1+23,""),IF(AND(YEAR(JunSun1+30)=CalendarYear,MONTH(JunSun1+30)=6),JunSun1+30,"")) -> 45838 | AF30: =IF(DAY(JunSun1)=1,IF(AND(YEAR(JunSun1+24)=CalendarYear,MONTH(JunSun1+24)=6),JunSun1+24,""),IF(AND(YEAR(JunSun1+31)=CalendarYear,MONTH(JunSun1+31)=6),JunSun1+31,"")) | AG30: =IF(DAY(JunSun1)=1,IF(AND(YEAR(JunSun1+25)=CalendarYear,MONTH(JunSun1+25)=6),JunSun1+25,""),IF(AND(YEAR(JunSun1+32)=CalendarYear,MONTH(JunSun1+32)=6),JunSun1+32,"")) | AH30: =IF(DAY(JunSun1)=1,IF(AND(YEAR(JunSun1+26)=CalendarYear,MONTH(JunSun1+26)=6),JunSun1+26,""),IF(AND(YEAR(JunSun1+33)=CalendarYear,MONTH(JunSun1+33)=6),JunSun1+33,"")) | AI30: =IF(DAY(JunSun1)=1,IF(AND(YEAR(JunSun1+27)=CalendarYear,MONTH(JunSun1+27)=6),JunSun1+27,""),IF(AND(YEAR(JunSun1+34)=CalendarYear,MONTH(JunSun1+34)=6),JunSun1+34,"")) | AJ30: =IF(DAY(JunSun1)=1,IF(AND(YEAR(JunSun1+28)=CalendarYear,MONTH(JunSun1+28)=6),JunSun1+28,""),IF(AND(YEAR(JunSun1+35)=CalendarYear,MONTH(JunSun1+35)=6),JunSun1+35,"")) | AK30: =IF(DAY(JunSun1)=1,IF(AND(YEAR(JunSun1+29)=CalendarYear,MONTH(JunSun1+29)=6),JunSun1+29,""),IF(AND(YEAR(JunSun1+36)=CalendarYear,MONTH(JunSun1+36)=6),JunSun1+36,"")) | AL30: =IF(DAY(JunSun1)=1,IF(AND(YEAR(JunSun1+30)=CalendarYear,MONTH(JunSun1+30)=6),JunSun1+30,""),IF(AND(YEAR(JunSun1+37)=CalendarYear,MONTH(JunSun1+37)=6),JunSun1+37,""))
B31: Di | C31: Lu | D31: Ma | E31: Me | F31: Je | G31: Ve | H31: Sa | I31: Di | J31: Lu | K31: Ma | L31: Me | M31: Je | N31: Ve | O31: Sa | P31: Di | Q31: Lu | R31: Ma | S31: Me | T31: Je | U31: Ve | V31: Sa | W31: Di | X31: Lu | Y31: Ma | Z31: Me | AA31: Je | AB31: Ve | AC31: Sa | AD31: Di | AE31: Lu | AF31: Ma | AG31: Me | AH31: Je | AI31: Ve | AJ31: Sa | AK31: Di | AL31: Lu
A32: Machine | B32: =IFERROR(IF(VLOOKUP(B30,'TABLEAU MACHINE'!$E:$E,1,FALSE),"Y",0),"") | C32: =IFERROR(IF(VLOOKUP(C30,'TABLEAU MACHINE'!$E:$E,1,FALSE),"Y",0),"") | D32: =IFERROR(IF(VLOOKUP(D30,'TABLEAU MACHINE'!$E:$E,1,FALSE),"Y",0),"") | E32: =IFERROR(IF(VLOOKUP(E30,'TABLEAU MACHINE'!$E:$E,1,FALSE),"Y",0),"") | F32: =IFERROR(IF(VLOOKUP(F30,'TABLEAU MACHINE'!$E:$E,1,FALSE),"Y",0),"") | G32: =IFERROR(IF(VLOOKUP(G30,'TABLEAU MACHINE'!$E:$E,1,FALSE),"Y",0),"") | H32: =IFERROR(IF(VLOOKUP(H30,'TABLEAU MACHINE'!$E:$E,1,FALSE),"Y",0),"") | I32: =IFERROR(IF(VLOOKUP(I30,'TABLEAU MACHINE'!$E:$E,1,FALSE),"Y",0),"") | ... AL32: =IFERROR(IF(VLOOKUP(AL30,'TABLEAU MACHINE'!$E:$E,1,FALSE),"Y",0),"")
A33: Personnel | J33: C | P33: 0 | Q33: 100 | R33: 100 | S33: 100 | T33: 100 | U33: 100 | V33: 100 | W33: 100 | X33: 100 | Y33: 100 | Z33: 100 | AA33: 0
A34: =DATE(CalendarYear,7,1) -> 45839 | B34: =IFERROR((WEEKNUM(B35)),"") | C34: =IFERROR((WEEKNUM(C35)),"") | D34: =IFERROR((WEEKNUM(D35)),"") -> 27 | E34: =IFERROR((WEEKNUM(E35)),"") -> 27 | F34: =IFERROR((WEEKNUM(F35)),"") -> 27 | G34: =IFERROR((WEEKNUM(G35)),"") -> 27 | H34: =IFERROR((WEEKNUM(H35)),"") -> 27 | I34: =IFERROR((WEEKNUM(I35)),"") -> 28 | ... AL34: =IFERROR((WEEKNUM(AL35)),"")
B35: =IF(DAY(JulSun1)=1,"",IF(AND(YEAR(JulSun1+1)=CalendarYear,MONTH(JulSun1+1)=7),JulSun1+1,"")) | C35: =IF(DAY(JulSun1)=1,"",IF(AND(YEAR(JulSun1+2)=CalendarYear,MONTH(JulSun1+2)=7),JulSun1+2,"")) | D35: =IF(DAY(JulSun1)=1,"",IF(AND(YEAR(JulSun1+3)=CalendarYear,MONTH(JulSun1+3)=7),JulSun1+3,"")) -> 45839 | E35: =IF(DAY(JulSun1)=1,"",IF(AND(YEAR(JulSun1+4)=CalendarYear,MONTH(JulSun1+4)=7),JulSun1+4,"")) -> 45840 | F35: =IF(DAY(JulSun1)=1,"",IF(AND(YEAR(JulSun1+5)=CalendarYear,MONTH(JulSun1+5)=7),JulSun1+5,"")) -> 45841 | G35: =IF(DAY(JulSun1)=1,"",IF(AND(YEAR(JulSun1+6)=CalendarYear,MONTH(JulSun1+6)=7),JulSun1+6,"")) -> 45842 | H35: =IF(DAY(JulSun1)=1,IF(AND(YEAR(JulSun1)=CalendarYear,MONTH(JulSun1)=7),JulSun1,""),IF(AND(YEAR(JulSun1+7)=CalendarYear,MONTH(JulSun1+7)=7),JulSun1+7,"")) -> 45843 | I35: =IF(DAY(JulSun1)=1,IF(AND(YEAR(JulSun1+1)=CalendarYear,MONTH(JulSun1+1)=7),JulSun1+1,""),IF(AND(YEAR(JulSun1+8)=CalendarYear,MONTH(JulSun1+8)=7),JulSun1+8,"")) -> 45844 | J35: =IF(DAY(JulSun1)=1,IF(AND(YEAR(JulSun1+2)=CalendarYear,MONTH(JulSun1+2)=7),JulSun1+2,""),IF(AND(YEAR(JulSun1+9)=CalendarYear,MONTH(JulSun1+9)=7),JulSun1+9,"")) -> 45845 | K35: =IF(DAY(JulSun1)=1,IF(AND(YEAR(JulSun1+3)=CalendarYear,MONTH(JulSun1+3)=7),JulSun1+3,""),IF(AND(YEAR(JulSun1+10)=CalendarYear,MONTH(JulSun1+10)=7),JulSun1+10,"")) -> 45846 | L35: =IF(DAY(JulSun1)=1,IF(AND(YEAR(JulSun1+4)=CalendarYear,MONTH(JulSun1+4)=7),JulSun1+4,""),IF(AND(YEAR(JulSun1+11)=CalendarYear,MONTH(JulSun1+11)=7),JulSun1+11,"")) -> 45847 | M35: =IF(DAY(JulSun1)=1,IF(AND(YEAR(JulSun1+5)=CalendarYear,MONTH(JulSun1+5)=7),JulSun1+5,""),IF(AND(YEAR(JulSun1+12)=CalendarYear,MONTH(JulSun1+12)=7),JulSun1+12,"")) -> 45848 | N35: =IF(DAY(JulSun1)=1,IF(AND(YEAR(JulSun1+6)=CalendarYear,MONTH(JulSun1+6)=7),JulSun1+6,""),IF(AND(YEAR(JulSun1+13)=CalendarYear,MONTH(JulSun1+13)=7),JulSun1+13,"")) -> 45849 | O35: =IF(DAY(JulSun1)=1,IF(AND(YEAR(JulSun1+7)=CalendarYear,MONTH(JulSun1+7)=7),JulSun1+7,""),IF(AND(YEAR(JulSun1+14)=CalendarYear,MONTH(JulSun1+14)=7),JulSun1+14,"")) -> 45850 | P35: =IF(DAY(JulSun1)=1,IF(AND(YEAR(JulSun1+8)=CalendarYear,MONTH(JulSun1+8)=7),JulSun1+8,""),IF(AND(YEAR(JulSun1+15)=CalendarYear,MONTH(JulSun1+15)=7),JulSun1+15,"")) -> 45851 | Q35: =IF(DAY(JulSun1)=1,IF(AND(YEAR(JulSun1+9)=CalendarYear,MONTH(JulSun1+9)=7),JulSun1+9,""),IF(AND(YEAR(JulSun1+16)=CalendarYear,MONTH(JulSun1+16)=7),JulSun1+16,"")) -> 45852 | R35: =IF(DAY(JulSun1)=1,IF(AND(YEAR(JulSun1+10)=CalendarYear,MONTH(JulSun1+10)=7),JulSun1+10,""),IF(AND(YEAR(JulSun1+17)=CalendarYear,MONTH(JulSun1+17)=7),JulSun1+17,"")) -> 45853 | S35: =IF(DAY(JulSun1)=1,IF(AND(YEAR(JulSun1+11)=CalendarYear,MONTH(JulSun1+11)=7),JulSun1+11,""),IF(AND(YEAR(JulSun1+18)=CalendarYear,MONTH(JulSun1+18)=7),JulSun1+18,"")) -> 45854 | T35: =IF(DAY(JulSun1)=1,IF(AND(YEAR(JulSun1+12)=CalendarYear,MONTH(JulSun1+12)=7),JulSun1+12,""),IF(AND(YEAR(JulSun1+19)=CalendarYear,MONTH(JulSun1+19)=7),JulSun1+19,"")) -> 45855 | U35: =IF(DAY(JulSun1)=1,IF(AND(YEAR(JulSun1+13)=CalendarYear,MONTH(JulSun1+13)=7),JulSun1+13,""),IF(AND(YEAR(JulSun1+20)=CalendarYear,MONTH(JulSun1+20)=7),JulSun1+20,"")) -> 45856 | V35: =IF(DAY(JulSun1)=1,IF(AND(YEAR(JulSun1+14)=CalendarYear,MONTH(JulSun1+14)=7),JulSun1+14,""),IF(AND(YEAR(JulSun1+21)=CalendarYear,MONTH(JulSun1+21)=7),JulSun1+21,"")) -> 45857 | W35: =IF(DAY(JulSun1)=1,IF(AND(YEAR(JulSun1+15)=CalendarYear,MONTH(JulSun1+15)=7),JulSun1+15,""),IF(AND(YEAR(JulSun1+22)=CalendarYear,MONTH(JulSun1+22)=7),JulSun1+22,"")) -> 45858 | X35: =IF(DAY(JulSun1)=1,IF(AND(YEAR(JulSun1+16)=CalendarYear,MONTH(JulSun1+16)=7),JulSun1+16,""),IF(AND(YEAR(JulSun1+23)=CalendarYear,MONTH(JulSun1+23)=7),JulSun1+23,"")) -> 45859 | Y35: =IF(DAY(JulSun1)=1,IF(AND(YEAR(JulSun1+17)=CalendarYear,MONTH(JulSun1+17)=7),JulSun1+17,""),IF(AND(YEAR(JulSun1+24)=CalendarYear,MONTH(JulSun1+24)=7),JulSun1+24,"")) -> 45860 | Z35: =IF(DAY(JulSun1)=1,IF(AND(YEAR(JulSun1+18)=CalendarYear,MONTH(JulSun1+18)=7),JulSun1+18,""),IF(AND(YEAR(JulSun1+25)=CalendarYear,MONTH(JulSun1+25)=7),JulSun1+25,"")) -> 45861 | AA35: =IF(DAY(JulSun1)=1,IF(AND(YEAR(JulSun1+19)=CalendarYear,MONTH(JulSun1+19)=7),JulSun1+19,""),IF(AND(YEAR(JulSun1+26)=CalendarYear,MONTH(JulSun1+26)=7),JulSun1+26,"")) -> 45862 | AB35: =IF(DAY(JulSun1)=1,IF(AND(YEAR(JulSun1+20)=CalendarYear,MONTH(JulSun1+20)=7),JulSun1+20,""),IF(AND(YEAR(JulSun1+27)=CalendarYear,MONTH(JulSun1+27)=7),JulSun1+27,"")) -> 45863 | AC35: =IF(DAY(JulSun1)=1,IF(AND(YEAR(JulSun1+21)=CalendarYear,MONTH(JulSun1+21)=7),JulSun1+21,""),IF(AND(YEAR(JulSun1+28)=CalendarYear,MONTH(JulSun1+28)=7),JulSun1+28,"")) -> 45864 | AD35: =IF(DAY(JulSun1)=1,IF(AND(YEAR(JulSun1+22)=CalendarYear,MONTH(JulSun1+22)=7),JulSun1+22,""),IF(AND(YEAR(JulSun1+29)=CalendarYear,MONTH(JulSun1+29)=7),JulSun1+29,"")) -> 45865 | AE35: =IF(DAY(JulSun1)=1,IF(AND(YEAR(JulSun1+23)=CalendarYear,MONTH(JulSun1+23)=7),JulSun1+23,""),IF(AND(YEAR(JulSun1+30)=CalendarYear,MONTH(JulSun1+30)=7),JulSun1+30,"")) -> 45866 | AF35: =IF(DAY(JulSun1)=1,IF(AND(YEAR(JulSun1+24)=CalendarYear,MONTH(JulSun1+24)=7),JulSun1+24,""),IF(AND(YEAR(JulSun1+31)=CalendarYear,MONTH(JulSun1+31)=7),JulSun1+31,"")) -> 45867 | AG35: =IF(DAY(JulSun1)=1,IF(AND(YEAR(JulSun1+25)=CalendarYear,MONTH(JulSun1+25)=7),JulSun1+25,""),IF(AND(YEAR(JulSun1+32)=CalendarYear,MONTH(JulSun1+32)=7),JulSun1+32,"")) -> 45868 | AH35: =IF(DAY(JulSun1)=1,IF(AND(YEAR(JulSun1+26)=CalendarYear,MONTH(JulSun1+26)=7),JulSun1+26,""),IF(AND(YEAR(JulSun1+33)=CalendarYear,MONTH(JulSun1+33)=7),JulSun1+33,"")) -> 45869 | AI35: =IF(DAY(JulSun1)=1,IF(AND(YEAR(JulSun1+27)=CalendarYear,MONTH(JulSun1+27)=7),JulSun1+27,""),IF(AND(YEAR(JulSun1+34)=CalendarYear,MONTH(JulSun1+34)=7),JulSun1+34,"")) | AJ35: =IF(DAY(JulSun1)=1,IF(AND(YEAR(JulSun1+28)=CalendarYear,MONTH(JulSun1+28)=7),JulSun1+28,""),IF(AND(YEAR(JulSun1+35)=CalendarYear,MONTH(JulSun1+35)=7),JulSun1+35,"")) | AK35: =IF(DAY(JulSun1)=1,IF(AND(YEAR(JulSun1+29)=CalendarYear,MONTH(JulSun1+29)=7),JulSun1+29,""),IF(AND(YEAR(JulSun1+36)=CalendarYear,MONTH(JulSun1+36)=7),JulSun1+36,"")) | AL35: =IF(DAY(JulSun1)=1,IF(AND(YEAR(JulSun1+30)=CalendarYear,MONTH(JulSun1+30)=7),JulSun1+30,""),IF(AND(YEAR(JulSun1+37)=CalendarYear,MONTH(JulSun1+37)=7),JulSun1+37,""))
B36: Di | C36: Lu | D36: Ma | E36: Me | F36: Je | G36: Ve | H36: Sa | I36: Di | J36: Lu | K36: Ma | L36: Me | M36: Je | N36: Ve | O36: Sa | P36: Di | Q36: Lu | R36: Ma | S36: Me | T36: Je | U36: Ve | V36: Sa | W36: Di | X36: Lu | Y36: Ma | Z36: Me | AA36: Je | AB36: Ve | AC36: Sa | AD36: Di | AE36: Lu | AF36: Ma | AG36: Me | AH36: Je | AI36: Ve | AJ36: Sa | AK36: Di | AL36: Lu
A37: Machine | B37: =IFERROR(IF(VLOOKUP(B35,'TABLEAU MACHINE'!$E:$E,1,FALSE),"Y",0),"") | C37: =IFERROR(IF(VLOOKUP(C35,'TABLEAU MACHINE'!$E:$E,1,FALSE),"Y",0),"") | D37: =IFERROR(IF(VLOOKUP(D35,'TABLEAU MACHINE'!$E:$E,1,FALSE),"Y",0),"") | E37: =IFERROR(IF(VLOOKUP(E35,'TABLEAU MACHINE'!$E:$E,1,FALSE),"Y",0),"") | F37: =IFERROR(IF(VLOOKUP(F35,'TABLEAU MACHINE'!$E:$E,1,FALSE),"Y",0),"") | G37: =IFERROR(IF(VLOOKUP(G35,'TABLEAU MACHINE'!$E:$E,1,FALSE),"Y",0),"") | H37: =IFERROR(IF(VLOOKUP(H35,'TABLEAU MACHINE'!$E:$E,1,FALSE),"Y",0),"") | I37: =IFERROR(IF(VLOOKUP(I35,'TABLEAU MACHINE'!$E:$E,1,FALSE),"Y",0),"") | ... AL37: =IFERROR(IF(VLOOKUP(AL35,'TABLEAU MACHINE'!$E:$E,1,FALSE),"Y",0),"")
A38: Personnel | Q38: C
A39: =DATE(CalendarYear,8,1) -> 45870 | B39: =IFERROR((WEEKNUM(B40)),"") | C39: =IFERROR((WEEKNUM(C40)),"") | D39: =IFERROR((WEEKNUM(D40)),"") | E39: =IFERROR((WEEKNUM(E40)),"") | F39: =IFERROR((WEEKNUM(F40)),"") | G39: =IFERROR((WEEKNUM(G40)),"") -> 31 | H39: =IFERROR((WEEKNUM(H40)),"") -> 31 | I39: =IFERROR((WEEKNUM(I40)),"") -> 32 | ... AL39: =IFERROR((WEEKNUM(AL40)),"")
