Workbook

Sheet réglages
B2: TRESORIER | C2: SECRETAIRE | E2: CATEGORIE
A3: NOMS DES RESPONSABLES | B3: DUDU | C3: elo | E3: TRANSPORT DISTRICT
A4: ETABLISSEMENT | B4: pont de l'arche | C4: romilly | E4: SUBVENTION REGIONALE
A5: ADRESSE de facturation | B5: route de romilly | C5: college des deux amant | E5: SUBVENTION DEPARTMENTALE
A6: TELEPHONE | B6: 606606060 | C6: 6977867289 | E6: GOUTER
E7: TRANSPORT FINALE
A8: NOM DU DISTRICT | B8: LOUVIERS | E8: FONCTIONNEMENT DISTRICT | F8: LISTE DEROULANTE VALIDATION PAIEMENT
E9: PARTICIPATION AS | F9: oui
E10: RECOMPENSE | F10: non
A11: BANQUE | B11: CREDIT AGRICOLE | E11: TEST
A12: INTITULE DU COMPTE | E12: TEST1
A13: NUMERO DE COMTE | E13: TEST2 | F13: LISTE DEROULANTE TYPE EXERCICE
E14: TEST3 | F14: CIVILE
A15: solde | B15: 4568 | E15: TEST4 | F15: SCOLAIRE
A16: date du solde | B16: 41529 | E16: TEST5
E17: TEST6 | F17: FORMUE POUR AFFICHAGE DANS PAGE
B18: DEBUT | C18: FIN | F18: =IF($B$20<>$F$14,"2013 2014",2014) -> 2014
A19: DATE D'EXERCICE COMPTABLE | B19: 41275 | C19: 41639 | F19: =IF($B$20<>$F$14,"2014 2015",2015) -> 2015
A20: TYPE D'EXERCICE | B20: CIVILE | F20: =IF($B$20<>$F$14,"2015 2016",2016) -> 2016
F21: =IF($B$20<>$F$14,"2016 2017",2017) -> 2017
F22: =IF($B$20<>$F$14,"2017 2018",2018) -> 2018

Sheet 1ERE ANNEE
B1: oui | C1: =" Année "&réglages!B20&" "&réglages!F18 -> Année CIVILE 2014
C2: Date du solde initial
B3: non | C3: SOLDE INITIAL | D3: =réglages!B15 -> 4568 | F3: Total débit | G3: =G203 -> 1110
C4: solde bancaire | D4: =M202 -> 9524 | F4: Total Recette | G4: =H203 -> 18066
C5: solde prévisionnel | D5: =L202 -> 21524 | F5: BALANCE | G5: =G4-G3 -> 16956
L6: SOLDE PREVISIONNEL | M6: SOLDE BANCAIRE | Q6: =Q203 -> -1000 | R6: =R203 -> 0 | S6: =S203 -> 1066 | T6: =T203 -> -110 | U6: =U203 -> 3000 | V6: =V203 -> 0 | W6: =W203 -> 2000 | X6: =X203 -> 0 | ... BN6: =BN203 -> 0
A7: LISTE CATEGORIE | C7: objet | D7: catégorie | E7: date | F7: numéro chèque | G7: débit | H7: recette | I7: solde | J7: encaissé ? | L7: =D3 -> 4568 | M7: =D3 -> 4568 | Q7: {=TRANSPOSE(A8:A58)} -> TRANSPORT DISTRICT | R7: SUBVENTION REGIONALE | S7: SUBVENTION DEPARTMENTALE | T7: GOUTER | U7: TRANSPORT FINALE | V7: FONCTIONNEMENT DISTRICT | W7: PARTICIPATION AS | X7: RECOMPENSE | Y7: TEST | Z7: TEST1 | AA7: TEST2 | AB7: TEST3 | AC7: TEST4 | AD7: TEST5 | AE7: TEST6
A8: =IF(réglages!E3<>"",réglages!E3,"") -> TRANSPORT DISTRICT | C8: basket journée 1 | D8: TRANSPORT DISTRICT | E8: 41896 | G8: 500 | I8: =IF(C8<>"",L8,"") -> 4068 | J8: oui | K8: =0-G8+H8 -> -500 | L8: =L7-G8+H8 -> 4068 | M8: =IF(J8<>"",M7-G8+H8,M7) -> 4068 | O8: =A8 -> TRANSPORT DISTRICT | P8: {=TRANSPOSE(Q6:BN6)} -> -1000 | Q8: =IF($D8=Q$7,$K8,"") -> -500 | R8: =IF($D8=R$7,$K8,"") | S8: =IF($D8=S$7,$K8,"") | T8: =IF($D8=T$7,$K8,"") | U8: =IF($D8=U$7,$K8,"") | V8: =IF($D8=V$7,$K8,"") | W8: =IF($D8=W$7,$K8,"") | X8: =IF($D8=X$7,$K8,"") | ... BN8: =IF($D8=BN$7,$K8,"") | BP8: =IF(P8=0,"",P8) -> -1000 | BQ8: =IF(P8=0,"",O8) -> TRANSPORT DISTRICT | BR8: =VLOOKUP(BS8,$BP$8:$BQ$57,2) -> TEST | BS8: =LARGE($BP$8:$BP$57,BT8) -> 12000 | BT8: 1
A9: =IF(réglages!E4<>"",réglages!E4,"") -> SUBVENTION REGIONALE | C9: subvention region | D9: SUBVENTION DEPARTMENTALE | E9: 41894 | H9: 1000 | I9: =IF(C9<>"",L9,"") -> 5068 | J9: non | K9: =0-G9+H9 -> 1000 | L9: =L8-G9+H9 -> 5068 | M9: =IF(J9<>"",M8-G9+H9,M8) -> 5068 | O9: =A9 -> SUBVENTION REGIONALE | P9: 0 | Q9: =IF($D9=Q$7,$K9,"") | R9: =IF($D9=R$7,$K9,"") | S9: =IF($D9=S$7,$K9,"") -> 1000 | T9: =IF($D9=T$7,$K9,"") | U9: =IF($D9=U$7,$K9,"") | V9: =IF($D9=V$7,$K9,"") | W9: =IF($D9=W$7,$K9,"") | X9: =IF($D9=X$7,$K9,"") | ... BN9: =IF($D9=BN$7,$K9,"") | BP9: =IF(P9=0,"",P9) | BQ9: =IF(P9=0,"",O9) | BR9: =VLOOKUP(BS9,$BP$8:$BQ$57,2) -> PARTICIPATION AS | BS9: =LARGE($BP$8:$BP$57,BT9) -> 3000 | BT9: 2
A10: =IF(réglages!E5<>"",réglages!E5,"") -> SUBVENTION DEPARTMENTALE | C10: GOUTER | D10: gouter | G10: 45 | I10: =IF(C10<>"",L10,"") -> 5023 | J10: oui | K10: =0-G10+H10 -> -45 | L10: =L9-G10+H10 -> 5023 | M10: =IF(J10<>"",M9-G10+H10,M9) -> 5023 | O10: =A10 -> SUBVENTION DEPARTMENTALE | P10: 1066 | Q10: =IF($D10=Q$7,$K10,"") | R10: =IF($D10=R$7,$K10,"") | S10: =IF($D10=S$7,$K10,"") | T10: =IF($D10=T$7,$K10,"") -> -45 | U10: =IF($D10=U$7,$K10,"") | V10: =IF($D10=V$7,$K10,"") | W10: =IF($D10=W$7,$K10,"") | X10: =IF($D10=X$7,$K10,"") | ... BN10: =IF($D10=BN$7,$K10,"") | BP10: =IF(P10=0,"",P10) -> 1066 | BQ10: =IF(P10=0,"",O10) -> SUBVENTION DEPARTMENTALE | BR10: =VLOOKUP(BS10,$BP$8:$BQ$57,2) -> PARTICIPATION AS | BS10: =LARGE($BP$8:$BP$57,BT10) -> 2000 | BT10: 3
A11: =IF(réglages!E6<>"",réglages!E6,"") -> GOUTER | C11: czuigc | D11: GOUTER | G11: 65 | I11: =IF(C11<>"",L11,"") -> 4958 | J11: non | K11: =0-G11+H11 -> -65 | L11: =L10-G11+H11 -> 4958 | M11: =IF(J11<>"",M10-G11+H11,M10) -> 4958 | O11: =A11 -> GOUTER | P11: -110 | Q11: =IF($D11=Q$7,$K11,"") | R11: =IF($D11=R$7,$K11,"") | S11: =IF($D11=S$7,$K11,"") | T11: =IF($D11=T$7,$K11,"") -> -65 | U11: =IF($D11=U$7,$K11,"") | V11: =IF($D11=V$7,$K11,"") | W11: =IF($D11=W$7,$K11,"") | X11: =IF($D11=X$7,$K11,"") | ... BN11: =IF($D11=BN$7,$K11,"") | BP11: =IF(P11=0,"",P11) -> -110 | BQ11: =IF(P11=0,"",O11) -> GOUTER | BR11: =VLOOKUP(BS11,$BP$8:$BQ$57,2) -> SUBVENTION DEPARTMENTALE | BS11: =LARGE($BP$8:$BP$57,BT11) -> 1066 | BT11: 4
A12: =IF(réglages!E7<>"",réglages!E7,"") -> TRANSPORT FINALE | C12: hizeh | D12: TRANSPORT DISTRICT | G12: 500 | I12: =IF(C12<>"",L12,"") -> 4458 | J12: non | K12: =0-G12+H12 -> -500 | L12: =L11-G12+H12 -> 4458 | M12: =IF(J12<>"",M11-G12+H12,M11) -> 4458 | O12: =A12 -> TRANSPORT FINALE | P12: 3000 | Q12: =IF($D12=Q$7,$K12,"") -> -500 | R12: =IF($D12=R$7,$K12,"") | S12: =IF($D12=S$7,$K12,"") | T12: =IF($D12=T$7,$K12,"") | U12: =IF($D12=U$7,$K12,"") | V12: =IF($D12=V$7,$K12,"") | W12: =IF($D12=W$7,$K12,"") | X12: =IF($D12=X$7,$K12,"") | ... BN12: =IF($D12=BN$7,$K12,"") | BP12: =IF(P12=0,"",P12) -> 3000 | BQ12: =IF(P12=0,"",O12) -> TRANSPORT FINALE | BR12: =VLOOKUP(BS12,$BP$8:$BQ$57,2) -> TRANSPORT DISTRICT | BS12: =LARGE($BP$8:$BP$57,BT12) -> -110 | BT12: 5
A13: =IF(réglages!E8<>"",réglages!E8,"") -> FONCTIONNEMENT DISTRICT | C13: ihli | D13: SUBVENTION DEPARTMENTALE | H13: 66 | I13: =IF(C13<>"",L13,"") -> 4524 | J13: non | K13: =0-G13+H13 -> 66 | L13: =L12-G13+H13 -> 4524 | M13: =IF(J13<>"",M12-G13+H13,M12) -> 4524 | O13: =A13 -> FONCTIONNEMENT DISTRICT | P13: 0 | Q13: =IF($D13=Q$7,$K13,"") | R13: =IF($D13=R$7,$K13,"") | S13: =IF($D13=S$7,$K13,"") -> 66 | T13: =IF($D13=T$7,$K13,"") | U13: =IF($D13=U$7,$K13,"") | V13: =IF($D13=V$7,$K13,"") | W13: =IF($D13=W$7,$K13,"") | X13: =IF($D13=X$7,$K13,"") | ... BN13: =IF($D13=BN$7,$K13,"") | BP13: =IF(P13=0,"",P13) | BQ13: =IF(P13=0,"",O13) | BR13: =VLOOKUP(BS13,$BP$8:$BQ$57,2) -> TRANSPORT DISTRICT | BS13: =LARGE($BP$8:$BP$57,BT13) -> -1000 | BT13: 6
A14: =IF(réglages!E9<>"",réglages!E9,"") -> PARTICIPATION AS | C14: IOIU | D14: PARTICIPATION AS | H14: 2000 | I14: =IF(C14<>"",L14,"") -> 6524 | J14: non | K14: =0-G14+H14 -> 2000 | L14: =L13-G14+H14 -> 6524 | M14: =IF(J14<>"",M13-G14+H14,M13) -> 6524 | O14: =A14 -> PARTICIPATION AS | P14: 2000 | Q14: =IF($D14=Q$7,$K14,"") | R14: =IF($D14=R$7,$K14,"") | S14: =IF($D14=S$7,$K14,"") | T14: =IF($D14=T$7,$K14,"") | U14: =IF($D14=U$7,$K14,"") | V14: =IF($D14=V$7,$K14,"") | W14: =IF($D14=W$7,$K14,"") -> 2000 | X14: =IF($D14=X$7,$K14,"") | ... BN14: =IF($D14=BN$7,$K14,"") | BP14: =IF(P14=0,"",P14) -> 2000 | BQ14: =IF(P14=0,"",O14) -> PARTICIPATION AS | BR14: =VLOOKUP(BS14,$BP$8:$BQ$57,2) -> #NUM! | BS14: =LARGE($BP$8:$BP$57,BT14) -> #NUM! | BT14: 7
A15: =IF(réglages!E10<>"",réglages!E10,"") -> RECOMPENSE | C15: CORSE | D15: TRANSPORT FINALE | H15: 3000 | I15: =IF(C15<>"",L15,"") -> 9524 | J15: non | K15: =0-G15+H15 -> 3000 | L15: =L14-G15+H15 -> 9524 | M15: =IF(J15<>"",M14-G15+H15,M14) -> 9524 | O15: =A15 -> RECOMPENSE | P15: 0 | Q15: =IF($D15=Q$7,$K15,"") | R15: =IF($D15=R$7,$K15,"") | S15: =IF($D15=S$7,$K15,"") | T15: =IF($D15=T$7,$K15,"") | U15: =IF($D15=U$7,$K15,"") -> 3000 | V15: =IF($D15=V$7,$K15,"") | W15: =IF($D15=W$7,$K15,"") | X15: =IF($D15=X$7,$K15,"") | ... BN15: =IF($D15=BN$7,$K15,"") | BP15: =IF(P15=0,"",P15) | BQ15: =IF(P15=0,"",O15) | BR15: =VLOOKUP(BS15,$BP$8:$BQ$57,2) -> #NUM! | BS15: =LARGE($BP$8:$BP$57,BT15) -> #NUM! | BT15: 8
A16: =IF(réglages!E11<>"",réglages!E11,"") -> TEST | D16: TEST | H16: 12000 | I16: =IF(C16<>"",L16,"") | K16: =0-G16+H16 -> 12000 | L16: =L15-G16+H16 -> 21524 | M16: =IF(J16<>"",M15-G16+H16,M15) -> 9524 | O16: =A16 -> TEST | P16: 12000 | Q16: =IF($D16=Q$7,$K16,"") | R16: =IF($D16=R$7,$K16,"") | S16: =IF($D16=S$7,$K16,"") | T16: =IF($D16=T$7,$K16,"") | U16: =IF($D16=U$7,$K16,"") | V16: =IF($D16=V$7,$K16,"") | W16: =IF($D16=W$7,$K16,"") | X16: =IF($D16=X$7,$K16,"") | ... BN16: =IF($D16=BN$7,$K16,"") | BP16: =IF(P16=0,"",P16) -> 12000 | BQ16: =IF(P16=0,"",O16) -> TEST | BR16: =VLOOKUP(BS16,$BP$8:$BQ$57,2) -> #NUM! | BS16: =LARGE($BP$8:$BP$57,BT16) -> #NUM! | BT16: 9
A17: =IF(réglages!E12<>"",réglages!E12,"") -> TEST1 | I17: =IF(C17<>"",L17,"") | K17: =0-G17+H17 -> 0 | L17: =L16-G17+H17 -> 21524 | M17: =IF(J17<>"",M16-G17+H17,M16) -> 9524 | O17: =A17 -> TEST1 | P17: 0 | Q17: =IF($D17=Q$7,$K17,"") | R17: =IF($D17=R$7,$K17,"") | S17: =IF($D17=S$7,$K17,"") | T17: =IF($D17=T$7,$K17,"") | U17: =IF($D17=U$7,$K17,"") | V17: =IF($D17=V$7,$K17,"") | W17: =IF($D17=W$7,$K17,"") | X17: =IF($D17=X$7,$K17,"") | ... BN17: =IF($D17=BN$7,$K17,"") -> 0 | BP17: =IF(P17=0,"",P17) | BQ17: =IF(P17=0,"",O17) | BR17: =VLOOKUP(BS17,$BP$8:$BQ$57,2) -> #NUM! | BS17: =LARGE($BP$8:$BP$57,BT17) -> #NUM! | BT17: 10
A18: =IF(réglages!E13<>"",réglages!E13,"") -> TEST2 | I18: =IF(C18<>"",L18,"") | K18: =0-G18+H18 -> 0 | L18: =L17-G18+H18 -> 21524 | M18: =IF(J18<>"",M17-G18+H18,M17) -> 9524 | O18: =A18 -> TEST2 | P18: 0 | Q18: =IF($D18=Q$7,$K18,"") | R18: =IF($D18=R$7,$K18,"") | S18: =IF($D18=S$7,$K18,"") | T18: =IF($D18=T$7,$K18,"") | U18: =IF($D18=U$7,$K18,"") | V18: =IF($D18=V$7,$K18,"") | W18: =IF($D18=W$7,$K18,"") | X18: =IF($D18=X$7,$K18,"") | ... BN18: =IF($D18=BN$7,$K18,"") -> 0 | BP18: =IF(P18=0,"",P18) | BQ18: =IF(P18=0,"",O18) | BR18: =VLOOKUP(BS18,$BP$8:$BQ$57,2) -> #NUM! | BS18: =LARGE($BP$8:$BP$57,BT18) -> #NUM! | BT18: 11
A19: =IF(réglages!E14<>"",réglages!E14,"") -> TEST3 | I19: =IF(C19<>"",L19,"") | K19: =0-G19+H19 -> 0 | L19: =L18-G19+H19 -> 21524 | M19: =IF(J19<>"",M18-G19+H19,M18) -> 9524 | O19: =A19 -> TEST3 | P19: 0 | Q19: =IF($D19=Q$7,$K19,"") | R19: =IF($D19=R$7,$K19,"") | S19: =IF($D19=S$7,$K19,"") | T19: =IF($D19=T$7,$K19,"") | U19: =IF($D19=U$7,$K19,"") | V19: =IF($D19=V$7,$K19,"") | W19: =IF($D19=W$7,$K19,"") | X19: =IF($D19=X$7,$K19,"") | ... BN19: =IF($D19=BN$7,$K19,"") -> 0 | BP19: =IF(P19=0,"",P19) | BQ19: =IF(P19=0,"",O19) | BR19: =VLOOKUP(BS19,$BP$8:$BQ$57,2) -> #NUM! | BS19: =LARGE($BP$8:$BP$57,BT19) -> #NUM! | BT19: 12
A20: =IF(réglages!E15<>"",réglages!E15,"") -> TEST4 | I20: =IF(C20<>"",L20,"") | K20: =0-G20+H20 -> 0 | L20: =L19-G20+H20 -> 21524 | M20: =IF(J20<>"",M19-G20+H20,M19) -> 9524 | O20: =A20 -> TEST4 | P20: 0 | Q20: =IF($D20=Q$7,$K20,"") | R20: =IF($D20=R$7,$K20,"") | S20: =IF($D20=S$7,$K20,"") | T20: =IF($D20=T$7,$K20,"") | U20: =IF($D20=U$7,$K20,"") | V20: =IF($D20=V$7,$K20,"") | W20: =IF($D20=W$7,$K20,"") | X20: =IF($D20=X$7,$K20,"") | ... BN20: =IF($D20=BN$7,$K20,"") -> 0 | BP20: =IF(P20=0,"",P20) | BQ20: =IF(P20=0,"",O20) | BR20: =VLOOKUP(BS20,$BP$8:$BQ$57,2) -> #NUM! | BS20: =LARGE($BP$8:$BP$57,BT20) -> #NUM! | BT20: 13
A21: =IF(réglages!E16<>"",réglages!E16,"") -> TEST5 | I21: =IF(C21<>"",L21,"") | K21: =0-G21+H21 -> 0 | L21: =L20-G21+H21 -> 21524 | M21: =IF(J21<>"",M20-G21+H21,M20) -> 9524 | O21: =A21 -> TEST5 | P21: 0 | Q21: =IF($D21=Q$7,$K21,"") | R21: =IF($D21=R$7,$K21,"") | S21: =IF($D21=S$7,$K21,"") | T21: =IF($D21=T$7,$K21,"") | U21: =IF($D21=U$7,$K21,"") | V21: =IF($D21=V$7,$K21,"") | W21: =IF($D21=W$7,$K21,"") | X21: =IF($D21=X$7,$K21,"") | ... BN21: =IF($D21=BN$7,$K21,"") -> 0 | BP21: =IF(P21=0,"",P21) | BQ21: =IF(P21=0,"",O21) | BR21: =VLOOKUP(BS21,$BP$8:$BQ$57,2) -> #NUM! | BS21: =LARGE($BP$8:$BP$57,BT21) -> #NUM! | BT21: 14
A22: =IF(réglages!E17<>"",réglages!E17,"") -> TEST6 | I22: =IF(C22<>"",L22,"") | K22: =0-G22+H22 -> 0 | L22: =L21-G22+H22 -> 21524 | M22: =IF(J22<>"",M21-G22+H22,M21) -> 9524 | O22: =A22 -> TEST6 | P22: 0 | Q22: =IF($D22=Q$7,$K22,"") | R22: =IF($D22=R$7,$K22,"") | S22: =IF($D22=S$7,$K22,"") | T22: =IF($D22=T$7,$K22,"") | U22: =IF($D22=U$7,$K22,"") | V22: =IF($D22=V$7,$K22,"") | W22: =IF($D22=W$7,$K22,"") | X22: =IF($D22=X$7,$K22,"") | ... BN22: =IF($D22=BN$7,$K22,"") -> 0 | BP22: =IF(P22=0,"",P22) | BQ22: =IF(P22=0,"",O22) | BR22: =VLOOKUP(BS22,$BP$8:$BQ$57,2) -> #NUM! | BS22: =LARGE($BP$8:$BP$57,BT22) -> #NUM! | BT22: 15
A23: =IF(réglages!E18<>"",réglages!E18,"") | I23: =IF(C23<>"",L23,"") | K23: =0-G23+H23 -> 0 | L23: =L22-G23+H23 -> 21524 | M23: =IF(J23<>"",M22-G23+H23,M22) -> 9524 | O23: =A23 | P23: 0 | Q23: =IF($D23=Q$7,$K23,"") | R23: =IF($D23=R$7,$K23,"") | S23: =IF($D23=S$7,$K23,"") | T23: =IF($D23=T$7,$K23,"") | U23: =IF($D23=U$7,$K23,"") | V23: =IF($D23=V$7,$K23,"") | W23: =IF($D23=W$7,$K23,"") | X23: =IF($D23=X$7,$K23,"") | ... BN23: =IF($D23=BN$7,$K23,"") -> 0 | BP23: =IF(P23=0,"",P23) | BQ23: =IF(P23=0,"",O23) | BR23: =VLOOKUP(BS23,$BP$8:$BQ$57,2) -> #NUM! | BS23: =LARGE($BP$8:$BP$57,BT23) -> #NUM! | BT23: 16
A24: =IF(réglages!E19<>"",réglages!E19,"") | I24: =IF(C24<>"",L24,"") | K24: =0-G24+H24 -> 0 | L24: =L23-G24+H24 -> 21524 | M24: =IF(J24<>"",M23-G24+H24,M23) -> 9524 | O24: =A24 | P24: 0 | Q24: =IF($D24=Q$7,$K24,"") | R24: =IF($D24=R$7,$K24,"") | S24: =IF($D24=S$7,$K24,"") | T24: =IF($D24=T$7,$K24,"") | U24: =IF($D24=U$7,$K24,"") | V24: =IF($D24=V$7,$K24,"") | W24: =IF($D24=W$7,$K24,"") | X24: =IF($D24=X$7,$K24,"") | ... BN24: =IF($D24=BN$7,$K24,"") -> 0 | BP24: =IF(P24=0,"",P24) | BQ24: =IF(P24=0,"",O24) | BR24: =VLOOKUP(BS24,$BP$8:$BQ$57,2) -> #NUM! | BS24: =LARGE($BP$8:$BP$57,BT24) -> #NUM! | BT24: 17
A25: =IF(réglages!E20<>"",réglages!E20,"") | I25: =IF(C25<>"",L25,"") | K25: =0-G25+H25 -> 0 | L25: =L24-G25+H25 -> 21524 | M25: =IF(J25<>"",M24-G25+H25,M24) -> 9524 | O25: =A25 | P25: 0 | Q25: =IF($D25=Q$7,$K25,"") | R25: =IF($D25=R$7,$K25,"") | S25: =IF($D25=S$7,$K25,"") | T25: =IF($D25=T$7,$K25,"") | U25: =IF($D25=U$7,$K25,"") | V25: =IF($D25=V$7,$K25,"") | W25: =IF($D25=W$7,$K25,"") | X25: =IF($D25=X$7,$K25,"") | ... BN25: =IF($D25=BN$7,$K25,"") -> 0 | BP25: =IF(P25=0,"",P25) | BQ25: =IF(P25=0,"",O25) | BR25: =VLOOKUP(BS25,$BP$8:$BQ$57,2) -> #NUM! | BS25: =LARGE($BP$8:$BP$57,BT25) -> #NUM! | BT25: 18
A26: =IF(réglages!E21<>"",réglages!E21,"") | I26: =IF(C26<>"",L26,"") | K26: =0-G26+H26 -> 0 | L26: =L25-G26+H26 -> 21524 | M26: =IF(J26<>"",M25-G26+H26,M25) -> 9524 | O26: =A26 | P26: 0 | Q26: =IF($D26=Q$7,$K26,"") | R26: =IF($D26=R$7,$K26,"") | S26: =IF($D26=S$7,$K26,"") | T26: =IF($D26=T$7,$K26,"") | U26: =IF($D26=U$7,$K26,"") | V26: =IF($D26=V$7,$K26,"") | W26: =IF($D26=W$7,$K26,"") | X26: =IF($D26=X$7,$K26,"") | ... BN26: =IF($D26=BN$7,$K26,"") -> 0 | BP26: =IF(P26=0,"",P26) | BQ26: =IF(P26=0,"",O26) | BR26: =VLOOKUP(BS26,$BP$8:$BQ$57,2) -> #NUM! | BS26: =LARGE($BP$8:$BP$57,BT26) -> #NUM! | BT26: 19
A27: =IF(réglages!E22<>"",réglages!E22,"") | I27: =IF(C27<>"",L27,"") | K27: =0-G27+H27 -> 0 | L27: =L26-G27+H27 -> 21524 | M27: =IF(J27<>"",M26-G27+H27,M26) -> 9524 | O27: =A27 | P27: 0 | Q27: =IF($D27=Q$7,$K27,"") | R27: =IF($D27=R$7,$K27,"") | S27: =IF($D27=S$7,$K27,"") | T27: =IF($D27=T$7,$K27,"") | U27: =IF($D27=U$7,$K27,"") | V27: =IF($D27=V$7,$K27,"") | W27: =IF($D27=W$7,$K27,"") | X27: =IF($D27=X$7,$K27,"") | ... BN27: =IF($D27=BN$7,$K27,"") -> 0 | BP27: =IF(P27=0,"",P27) | BQ27: =IF(P27=0,"",O27) | BR27: =VLOOKUP(BS27,$BP$8:$BQ$57,2) -> #NUM! | BS27: =LARGE($BP$8:$BP$57,BT27) -> #NUM! | BT27: 20
A28: =IF(réglages!E23<>"",réglages!E23,"") | I28: =IF(C28<>"",L28,"") | K28: =0-G28+H28 -> 0 | L28: =L27-G28+H28 -> 21524 | M28: =IF(J28<>"",M27-G28+H28,M27) -> 9524 | O28: =A28 | P28: 0 | Q28: =IF($D28=Q$7,$K28,"") | R28: =IF($D28=R$7,$K28,"") | S28: =IF($D28=S$7,$K28,"") | T28: =IF($D28=T$7,$K28,"") | U28: =IF($D28=U$7,$K28,"") | V28: =IF($D28=V$7,$K28,"") | W28: =IF($D28=W$7,$K28,"") | X28: =IF($D28=X$7,$K28,"") | ... BN28: =IF($D28=BN$7,$K28,"") -> 0 | BP28: =IF(P28=0,"",P28) | BQ28: =IF(P28=0,"",O28) | BR28: =VLOOKUP(BS28,$BP$8:$BQ$57,2) -> #NUM! | BS28: =LARGE($BP$8:$BP$57,BT28) -> #NUM! | BT28: 21
... A57: =IF(réglages!E52<>"",réglages!E52,"") | I57: =IF(C57<>"",L57,"") | K57: =0-G57+H57 -> 0 | L57: =L56-G57+H57 -> 21524 | M57: =IF(J57<>"",M56-G57+H57,M56) -> 9524 | O57: =A57 | P57: 0 | Q57: =IF($D57=Q$7,$K57,"") | R57: =IF($D57=R$7,$K57,"") | S57: =IF($D57=S$7,$K57,"") | T57: =IF($D57=T$7,$K57,"") | U57: =IF($D57=U$7,$K57,"") | V57: =IF($D57=V$7,$K57,"") | W57: =IF($D57=W$7,$K57,"") | X57: =IF($D57=X$7,$K57,"") | ... BN57: =IF($D57=BN$7,$K57,"") -> 0 | BP57: =IF(P57=0,"",P57) | BQ57: =IF(P57=0,"",O57) | BR57: =VLOOKUP(BS57,$BP$8:$BQ$57,2) -> #NUM! | BS57: =LARGE($BP$8:$BP$57,BT57) -> #NUM! | BT57: 50
I58: =IF(C58<>"",L58,"") | K58: =0-G58+H58 -> 0 | L58: =L57-G58+H58 -> 21524 | M58: =IF(J58<>"",M57-G58+H58,M57) -> 9524 | P58: #N/A | Q58: =IF($D58=Q$7,$K58,"") | R58: =IF($D58=R$7,$K58,"") | S58: =IF($D58=S$7,$K58,"") | T58: =IF($D58=T$7,$K58,"") | U58: =IF($D58=U$7,$K58,"") | V58: =IF($D58=V$7,$K58,"") | W58: =IF($D58=W$7,$K58,"") | X58: =IF($D58=X$7,$K58,"") | ... BN58: =IF($D58=BN$7,$K58,"") -> 0
I59: =IF(C59<>"",L59,"") | K59: =0-G59+H59 -> 0 | L59: =L58-G59+H59 -> 21524 | M59: =IF(J59<>"",M58-G59+H59,M58) -> 9524 | Q59: =IF($D59=Q$7,$K59,"") | R59: =IF($D59=R$7,$K59,"") | S59: =IF($D59=S$7,$K59,"") | T59: =IF($D59=T$7,$K59,"") | U59: =IF($D59=U$7,$K59,"") | V59: =IF($D59=V$7,$K59,"") | W59: =IF($D59=W$7,$K59,"") | X59: =IF($D59=X$7,$K59,"") | ... BN59: =IF($D59=BN$7,$K59,"") -> 0
I60: =IF(C60<>"",L60,"") | K60: =0-G60+H60 -> 0 | L60: =L59-G60+H60 -> 21524 | M60: =IF(J60<>"",M59-G60+H60,M59) -> 9524 | Q60: =IF($D60=Q$7,$K60,"") | R60: =IF($D60=R$7,$K60,"") | S60: =IF($D60=S$7,$K60,"") | T60: =IF($D60=T$7,$K60,"") | U60: =IF($D60=U$7,$K60,"") | V60: =IF($D60=V$7,$K60,"") | W60: =IF($D60=W$7,$K60,"") | X60: =IF($D60=X$7,$K60,"") | ... BN60: =IF($D60=BN$7,$K60,"") -> 0
I61: =IF(C61<>"",L61,"") | K61: =0-G61+H61 -> 0 | L61: =L60-G61+H61 -> 21524 | M61: =IF(J61<>"",M60-G61+H61,M60) -> 9524 | Q61: =IF($D61=Q$7,$K61,"") | R61: =IF($D61=R$7,$K61,"") | S61: =IF($D61=S$7,$K61,"") | T61: =IF($D61=T$7,$K61,"") | U61: =IF($D61=U$7,$K61,"") | V61: =IF($D61=V$7,$K61,"") | W61: =IF($D61=W$7,$K61,"") | X61: =IF($D61=X$7,$K61,"") | ... BN61: =IF($D61=BN$7,$K61,"") -> 0
I62: =IF(C62<>"",L62,"") | K62: =0-G62+H62 -> 0 | L62: =L61-G62+H62 -> 21524 | M62: =IF(J62<>"",M61-G62+H62,M61) -> 9524 | Q62: =IF($D62=Q$7,$K62,"") | R62: =IF($D62=R$7,$K62,"") | S62: =IF($D62=S$7,$K62,"") | T62: =IF($D62=T$7,$K62,"") | U62: =IF($D62=U$7,$K62,"") | V62: =IF($D62=V$7,$K62,"") | W62: =IF($D62=W$7,$K62,"") | X62: =IF($D62=X$7,$K62,"") | ... BN62: =IF($D62=BN$7,$K62,"") -> 0
I63: =IF(C63<>"",L63,"") | K63: =0-G63+H63 -> 0 | L63: =L62-G63+H63 -> 21524 | M63: =IF(J63<>"",M62-G63+H63,M62) -> 9524 | Q63: =IF($D63=Q$7,$K63,"") | R63: =IF($D63=R$7,$K63,"") | S63: =IF($D63=S$7,$K63,"") | T63: =IF($D63=T$7,$K63,"") | U63: =IF($D63=U$7,$K63,"") | V63: =IF($D63=V$7,$K63,"") | W63: =IF($D63=W$7,$K63,"") | X63: =IF($D63=X$7,$K63,"") | ... BN63: =IF($D63=BN$7,$K63,"") -> 0
I64: =IF(C64<>"",L64,"") | K64: =0-G64+H64 -> 0 | L64: =L63-G64+H64 -> 21524 | M64: =IF(J64<>"",M63-G64+H64,M63) -> 9524 | Q64: =IF($D64=Q$7,$K64,"") | R64: =IF($D64=R$7,$K64,"") | S64: =IF($D64=S$7,$K64,"") | T64: =IF($D64=T$7,$K64,"") | U64: =IF($D64=U$7,$K64,"") | V64: =IF($D64=V$7,$K64,"") | W64: =IF($D64=W$7,$K64,"") | X64: =IF($D64=X$7,$K64,"") | ... BN64: =IF($D64=BN$7,$K64,"") -> 0
I65: =IF(C65<>"",L65,"") | K65: =0-G65+H65 -> 0 | L65: =L64-G65+H65 -> 21524 | M65: =IF(J65<>"",M64-G65+H65,M64) -> 9524 | Q65: =IF($D65=Q$7,$K65,"") | R65: =IF($D65=R$7,$K65,"") | S65: =IF($D65=S$7,$K65,"") | T65: =IF($D65=T$7,$K65,"") | U65: =IF($D65=U$7,$K65,"") | V65: =IF($D65=V$7,$K65,"") | W65: =IF($D65=W$7,$K65,"") | X65: =IF($D65=X$7,$K65,"") | ... BN65: =IF($D65=BN$7,$K65,"") -> 0
I66: =IF(C66<>"",L66,"") | K66: =0-G66+H66 -> 0 | L66: =L65-G66+H66 -> 21524 | M66: =IF(J66<>"",M65-G66+H66,M65) -> 9524 | Q66: =IF($D66=Q$7,$K66,"") | R66: =IF($D66=R$7,$K66,"") | S66: =IF($D66=S$7,$K66,"") | T66: =IF($D66=T$7,$K66,"") | U66: =IF($D66=U$7,$K66,"") | V66: =IF($D66=V$7,$K66,"") | W66: =IF($D66=W$7,$K66,"") | X66: =IF($D66=X$7,$K66,"") | ... BN66: =IF($D66=BN$7,$K66,"") -> 0
I67: =IF(C67<>"",L67,"") | K67: =0-G67+H67 -> 0 | L67: =L66-G67+H67 -> 21524 | M67: =IF(J67<>"",M66-G67+H67,M66) -> 9524 | Q67: =IF($D67=Q$7,$K67,"") | R67: =IF($D67=R$7,$K67,"") | S67: =IF($D67=S$7,$K67,"") | T67: =IF($D67=T$7,$K67,"") | U67: =IF($D67=U$7,$K67,"") | V67: =IF($D67=V$7,$K67,"") | W67: =IF($D67=W$7,$K67,"") | X67: =IF($D67=X$7,$K67,"") | ... BN67: =IF($D67=BN$7,$K67,"") -> 0
I68: =IF(C68<>"",L68,"") | K68: =0-G68+H68 -> 0 | L68: =L67-G68+H68 -> 21524 | M68: =IF(J68<>"",M67-G68+H68,M67) -> 9524 | Q68: =IF($D68=Q$7,$K68,"") | R68: =IF($D68=R$7,$K68,"") | S68: =IF($D68=S$7,$K68,"") | T68: =IF($D68=T$7,$K68,"") | U68: =IF($D68=U$7,$K68,"") | V68: =IF($D68=V$7,$K68,"") | W68: =IF($D68=W$7,$K68,"") | X68: =IF($D68=X$7,$K68,"") | ... BN68: =IF($D68=BN$7,$K68,"") -> 0
...

Sheet 2014-2015
B1: oui
B2: non | C2: SOLDE INITIAL | D2: ='1ERE ANNEE'!D4 -> 9524 | F2: TOTAL DEBIT | G2: =G202 -> 3512
C3: solde bancaire | D3: =M201 -> 9012 | F3: TOTAL RECETTE | G3: =H202 -> 3000
C4: solde prévisionnel | D4: =L201 -> 9012 | F4: BALANCE | G4: =G3-G2 -> -512
L5: SOLDE PREVISIONNEL | M5: SOLDE BANCAIRE | Q5: =Q202 -> -900 | R5: =R202 -> 0 | S5: =S202 -> 2000 | T5: =T202 -> -112 | U5: =U202 -> -2500 | V5: =V202 -> 0 | W5: =W202 -> 1000 | X5: =X202 -> 0 | ... BN5: =BN202 -> 0
A6: LISTE CATEGORIE | C6: objet | D6: catégorie | E6: date | F6: numéro chèque | G6: débit | H6: recette | I6: solde | J6: encaissé ? | L6: =D2 -> 9524 | M6: =D2 -> 9524 | Q6: {=TRANSPOSE(A7:A57)} -> TRANSPORT DISTRICT | R6: SUBVENTION REGIONALE | S6: SUBVENTION DEPARTMENTALE | T6: GOUTER | U6: TRANSPORT FINALE | V6: FONCTIONNEMENT DISTRICT | W6: PARTICIPATION AS | X6: RECOMPENSE | Y6: TEST | Z6: TEST1 | AA6: TEST2 | AB6: TEST3 | AC6: TEST4 | AD6: TEST5 | AE6: TEST6
A7: =IF(réglages!E3<>"",réglages!E3,"") -> TRANSPORT DISTRICT | C7: basket journée 1 | D7: TRANSPORT DISTRICT | E7: 41896 | G7: 500 | I7: =IF(C7<>"",L7,"") -> 9024 | J7: oui | K7: =0-G7+H7 -> -500 | L7: =L6-G7+H7 -> 9024 | M7: =IF(J7<>"",M6-G7+H7,M6) -> 9024 | O7: =A7 -> TRANSPORT DISTRICT | P7: {=TRANSPOSE(Q5:BN5)} -> -900 | Q7: =IF($D7=Q$6,$K7,"") -> -500 | R7: =IF($D7=R$6,$K7,"") | S7: =IF($D7=S$6,$K7,"") | T7: =IF($D7=T$6,$K7,"") | U7: =IF($D7=U$6,$K7,"") | V7: =IF($D7=V$6,$K7,"") | W7: =IF($D7=W$6,$K7,"") | X7: =IF($D7=X$6,$K7,"") | ... BN7: =IF($D7=BN$6,$K7,"")
A8: =IF(réglages!E4<>"",réglages!E4,"") -> SUBVENTION REGIONALE | C8: subvention region | D8: SUBVENTION DEPARTMENTALE | E8: 41894 | H8: 1000 | I8: =IF(C8<>"",L8,"") -> 10024 | J8: non | K8: =0-G8+H8 -> 1000 | L8: =L7-G8+H8 -> 10024 | M8: =IF(J8<>"",M7-G8+H8,M7) -> 10024 | O8: =A8 -> SUBVENTION REGIONALE | P8: 0 | Q8: =IF($D8=Q$6,$K8,"") | R8: =IF($D8=R$6,$K8,"") | S8: =IF($D8=S$6,$K8,"") -> 1000 | T8: =IF($D8=T$6,$K8,"") | U8: =IF($D8=U$6,$K8,"") | V8: =IF($D8=V$6,$K8,"") | W8: =IF($D8=W$6,$K8,"") | X8: =IF($D8=X$6,$K8,"") | ... BN8: =IF($D8=BN$6,$K8,"")
A9: =IF(réglages!E5<>"",réglages!E5,"") -> SUBVENTION DEPARTMENTALE | C9: GOUTER | D9: gouter | G9: 100 | I9: =IF(C9<>"",L9,"") -> 9924 | J9: oui | K9: =0-G9+H9 -> -100 | L9: =L8-G9+H9 -> 9924 | M9: =IF(J9<>"",M8-G9+H9,M8) -> 9924 | O9: =A9 -> SUBVENTION DEPARTMENTALE | P9: 2000 | Q9: =IF($D9=Q$6,$K9,"") | R9: =IF($D9=R$6,$K9,"") | S9: =IF($D9=S$6,$K9,"") | T9: =IF($D9=T$6,$K9,"") -> -100 | U9: =IF($D9=U$6,$K9,"") | V9: =IF($D9=V$6,$K9,"") | W9: =IF($D9=W$6,$K9,"") | X9: =IF($D9=X$6,$K9,"") | ... BN9: =IF($D9=BN$6,$K9,"")
A10: =IF(réglages!E6<>"",réglages!E6,"") -> GOUTER | C10: czuigc | D10: GOUTER | G10: 12 | I10: =IF(C10<>"",L10,"") -> 9912 | J10: non | K10: =0-G10+H10 -> -12 | L10: =L9-G10+H10 -> 9912 | M10: =IF(J10<>"",M9-G10+H10,M9) -> 9912 | O10: =A10 -> GOUTER | P10: -112 | Q10: =IF($D10=Q$6,$K10,"") | R10: =IF($D10=R$6,$K10,"") | S10: =IF($D10=S$6,$K10,"") | T10: =IF($D10=T$6,$K10,"") -> -12 | U10: =IF($D10=U$6,$K10,"") | V10: =IF($D10=V$6,$K10,"") | W10: =IF($D10=W$6,$K10,"") | X10: =IF($D10=X$6,$K10,"") | ... BN10: =IF($D10=BN$6,$K10,"")
A11: =IF(réglages!E7<>"",réglages!E7,"") -> TRANSPORT FINALE | C11: hizeh | D11: TRANSPORT DISTRICT | G11: 400 | I11: =IF(C11<>"",L11,"") -> 9512 | J11: non | K11: =0-G11+H11 -> -400 | L11: =L10-G11+H11 -> 9512 | M11: =IF(J11<>"",M10-G11+H11,M10) -> 9512 | O11: =A11 -> TRANSPORT FINALE | P11: -2500 | Q11: =IF($D11=Q$6,$K11,"") -> -400 | R11: =IF($D11=R$6,$K11,"") | S11: =IF($D11=S$6,$K11,"") | T11: =IF($D11=T$6,$K11,"") | U11: =IF($D11=U$6,$K11,"") | V11: =IF($D11=V$6,$K11,"") | W11: =IF($D11=W$6,$K11,"") | X11: =IF($D11=X$6,$K11,"") | ... BN11: =IF($D11=BN$6,$K11,"")
A12: =IF(réglages!E8<>"",réglages!E8,"") -> FONCTIONNEMENT DISTRICT | C12: ihli | D12: SUBVENTION DEPARTMENTALE | H12: 1000 | I12: =IF(C12<>"",L12,"") -> 10512 | J12: non | K12: =0-G12+H12 -> 1000 | L12: =L11-G12+H12 -> 10512 | M12: =IF(J12<>"",M11-G12+H12,M11) -> 10512 | O12: =A12 -> FONCTIONNEMENT DISTRICT | P12: 0 | Q12: =IF($D12=Q$6,$K12,"") | R12: =IF($D12=R$6,$K12,"") | S12: =IF($D12=S$6,$K12,"") -> 1000 | T12: =IF($D12=T$6,$K12,"") | U12: =IF($D12=U$6,$K12,"") | V12: =IF($D12=V$6,$K12,"") | W12: =IF($D12=W$6,$K12,"") | X12: =IF($D12=X$6,$K12,"") | ... BN12: =IF($D12=BN$6,$K12,"")
A13: =IF(réglages!E9<>"",réglages!E9,"") -> PARTICIPATION AS | C13: IOIU | D13: PARTICIPATION AS | H13: 1000 | I13: =IF(C13<>"",L13,"") -> 11512 | J13: non | K13: =0-G13+H13 -> 1000 | L13: =L12-G13+H13 -> 11512 | M13: =IF(J13<>"",M12-G13+H13,M12) -> 11512 | O13: =A13 -> PARTICIPATION AS | P13: 1000 | Q13: =IF($D13=Q$6,$K13,"") | R13: =IF($D13=R$6,$K13,"") | S13: =IF($D13=S$6,$K13,"") | T13: =IF($D13=T$6,$K13,"") | U13: =IF($D13=U$6,$K13,"") | V13: =IF($D13=V$6,$K13,"") | W13: =IF($D13=W$6,$K13,"") -> 1000 | X13: =IF($D13=X$6,$K13,"") | ... BN13: =IF($D13=BN$6,$K13,"")
A14: =IF(réglages!E10<>"",réglages!E10,"") -> RECOMPENSE | C14: CORSE | D14: TRANSPORT FINALE | G14: 2500 | I14: =IF(C14<>"",L14,"") -> 9012 | J14: non | K14: =0-G14+H14 -> -2500 | L14: =L13-G14+H14 -> 9012 | M14: =IF(J14<>"",M13-G14+H14,M13) -> 9012 | O14: =A14 -> RECOMPENSE | P14: 0 | Q14: =IF($D14=Q$6,$K14,"") | R14: =IF($D14=R$6,$K14,"") | S14: =IF($D14=S$6,$K14,"") | T14: =IF($D14=T$6,$K14,"") | U14: =IF($D14=U$6,$K14,"") -> -2500 | V14: =IF($D14=V$6,$K14,"") | W14: =IF($D14=W$6,$K14,"") | X14: =IF($D14=X$6,$K14,"") | ... BN14: =IF($D14=BN$6,$K14,"")
A15: =IF(réglages!E11<>"",réglages!E11,"") -> TEST | I15: =IF(C15<>"",L15,"") | K15: =0-G15+H15 -> 0 | L15: =L14-G15+H15 -> 9012 | M15: =IF(J15<>"",M14-G15+H15,M14) -> 9012 | O15: =A15 -> TEST | P15: 0 | Q15: =IF($D15=Q$6,$K15,"") | R15: =IF($D15=R$6,$K15,"") | S15: =IF($D15=S$6,$K15,"") | T15: =IF($D15=T$6,$K15,"") | U15: =IF($D15=U$6,$K15,"") | V15: =IF($D15=V$6,$K15,"") | W15: =IF($D15=W$6,$K15,"") | X15: =IF($D15=X$6,$K15,"") | ... BN15: =IF($D15=BN$6,$K15,"") -> 0
A16: =IF(réglages!E12<>"",réglages!E12,"") -> TEST1 | I16: =IF(C16<>"",L16,"") | K16: =0-G16+H16 -> 0 | L16: =L15-G16+H16 -> 9012 | M16: =IF(J16<>"",M15-G16+H16,M15) -> 9012 | O16: =A16 -> TEST1 | P16: 0 | Q16: =IF($D16=Q$6,$K16,"") | R16: =IF($D16=R$6,$K16,"") | S16: =IF($D16=S$6,$K16,"") | T16: =IF($D16=T$6,$K16,"") | U16: =IF($D16=U$6,$K16,"") | V16: =IF($D16=V$6,$K16,"") | W16: =IF($D16=W$6,$K16,"") | X16: =IF($D16=X$6,$K16,"") | ... BN16: =IF($D16=BN$6,$K16,"") -> 0
A17: =IF(réglages!E13<>"",réglages!E13,"") -> TEST2 | I17: =IF(C17<>"",L17,"") | K17: =0-G17+H17 -> 0 | L17: =L16-G17+H17 -> 9012 | M17: =IF(J17<>"",M16-G17+H17,M16) -> 9012 | O17: =A17 -> TEST2 | P17: 0 | Q17: =IF($D17=Q$6,$K17,"") | R17: =IF($D17=R$6,$K17,"") | S17: =IF($D17=S$6,$K17,"") | T17: =IF($D17=T$6,$K17,"") | U17: =IF($D17=U$6,$K17,"") | V17: =IF($D17=V$6,$K17,"") | W17: =IF($D17=W$6,$K17,"") | X17: =IF($D17=X$6,$K17,"") | ... BN17: =IF($D17=BN$6,$K17,"") -> 0
A18: =IF(réglages!E14<>"",réglages!E14,"") -> TEST3 | I18: =IF(C18<>"",L18,"") | K18: =0-G18+H18 -> 0 | L18: =L17-G18+H18 -> 9012 | M18: =IF(J18<>"",M17-G18+H18,M17) -> 9012 | O18: =A18 -> TEST3 | P18: 0 | Q18: =IF($D18=Q$6,$K18,"") | R18: =IF($D18=R$6,$K18,"") | S18: =IF($D18=S$6,$K18,"") | T18: =IF($D18=T$6,$K18,"") | U18: =IF($D18=U$6,$K18,"") | V18: =IF($D18=V$6,$K18,"") | W18: =IF($D18=W$6,$K18,"") | X18: =IF($D18=X$6,$K18,"") | ... BN18: =IF($D18=BN$6,$K18,"") -> 0
A19: =IF(réglages!E15<>"",réglages!E15,"") -> TEST4 | I19: =IF(C19<>"",L19,"") | K19: =0-G19+H19 -> 0 | L19: =L18-G19+H19 -> 9012 | M19: =IF(J19<>"",M18-G19+H19,M18) -> 9012 | O19: =A19 -> TEST4 | P19: 0 | Q19: =IF($D19=Q$6,$K19,"") | R19: =IF($D19=R$6,$K19,"") | S19: =IF($D19=S$6,$K19,"") | T19: =IF($D19=T$6,$K19,"") | U19: =IF($D19=U$6,$K19,"") | V19: =IF($D19=V$6,$K19,"") | W19: =IF($D19=W$6,$K19,"") | X19: =IF($D19=X$6,$K19,"") | ... BN19: =IF($D19=BN$6,$K19,"") -> 0
A20: =IF(réglages!E16<>"",réglages!E16,"") -> TEST5 | I20: =IF(C20<>"",L20,"") | K20: =0-G20+H20 -> 0 | L20: =L19-G20+H20 -> 9012 | M20: =IF(J20<>"",M19-G20+H20,M19) -> 9012 | O20: =A20 -> TEST5 | P20: 0 | Q20: =IF($D20=Q$6,$K20,"") | R20: =IF($D20=R$6,$K20,"") | S20: =IF($D20=S$6,$K20,"") | T20: =IF($D20=T$6,$K20,"") | U20: =IF($D20=U$6,$K20,"") | V20: =IF($D20=V$6,$K20,"") | W20: =IF($D20=W$6,$K20,"") | X20: =IF($D20=X$6,$K20,"") | ... BN20: =IF($D20=BN$6,$K20,"") -> 0
A21: =IF(réglages!E17<>"",réglages!E17,"") -> TEST6 | I21: =IF(C21<>"",L21,"") | K21: =0-G21+H21 -> 0 | L21: =L20-G21+H21 -> 9012 | M21: =IF(J21<>"",M20-G21+H21,M20) -> 9012 | O21: =A21 -> TEST6 | P21: 0 | Q21: =IF($D21=Q$6,$K21,"") | R21: =IF($D21=R$6,$K21,"") | S21: =IF($D21=S$6,$K21,"") | T21: =IF($D21=T$6,$K21,"") | U21: =IF($D21=U$6,$K21,"") | V21: =IF($D21=V$6,$K21,"") | W21: =IF($D21=W$6,$K21,"") | X21: =IF($D21=X$6,$K21,"") | ... BN21: =IF($D21=BN$6,$K21,"") -> 0
A22: =IF(réglages!E18<>"",réglages!E18,"") | I22: =IF(C22<>"",L22,"") | K22: =0-G22+H22 -> 0 | L22: =L21-G22+H22 -> 9012 | M22: =IF(J22<>"",M21-G22+H22,M21) -> 9012 | O22: =A22 | P22: 0 | Q22: =IF($D22=Q$6,$K22,"") | R22: =IF($D22=R$6,$K22,"") | S22: =IF($D22=S$6,$K22,"") | T22: =IF($D22=T$6,$K22,"") | U22: =IF($D22=U$6,$K22,"") | V22: =IF($D22=V$6,$K22,"") | W22: =IF($D22=W$6,$K22,"") | X22: =IF($D22=X$6,$K22,"") | ... BN22: =IF($D22=BN$6,$K22,"") -> 0
A23: =IF(réglages!E19<>"",réglages!E19,"") | I23: =IF(C23<>"",L23,"") | K23: =0-G23+H23 -> 0 | L23: =L22-G23+H23 -> 9012 | M23: =IF(J23<>"",M22-G23+H23,M22) -> 9012 | O23: =A23 | P23: 0 | Q23: =IF($D23=Q$6,$K23,"") | R23: =IF($D23=R$6,$K23,"") | S23: =IF($D23=S$6,$K23,"") | T23: =IF($D23=T$6,$K23,"") | U23: =IF($D23=U$6,$K23,"") | V23: =IF($D23=V$6,$K23,"") | W23: =IF($D23=W$6,$K23,"") | X23: =IF($D23=X$6,$K23,"") | ... BN23: =IF($D23=BN$6,$K23,"") -> 0
A24: =IF(réglages!E20<>"",réglages!E20,"") | I24: =IF(C24<>"",L24,"") | K24: =0-G24+H24 -> 0 | L24: =L23-G24+H24 -> 9012 | M24: =IF(J24<>"",M23-G24+H24,M23) -> 9012 | O24: =A24 | P24: 0 | Q24: =IF($D24=Q$6,$K24,"") | R24: =IF($D24=R$6,$K24,"") | S24: =IF($D24=S$6,$K24,"") | T24: =IF($D24=T$6,$K24,"") | U24: =IF($D24=U$6,$K24,"") | V24: =IF($D24=V$6,$K24,"") | W24: =IF($D24=W$6,$K24,"") | X24: =IF($D24=X$6,$K24,"") | ... BN24: =IF($D24=BN$6,$K24,"") -> 0
A25: =IF(réglages!E21<>"",réglages!E21,"") | I25: =IF(C25<>"",L25,"") | K25: =0-G25+H25 -> 0 | L25: =L24-G25+H25 -> 9012 | M25: =IF(J25<>"",M24-G25+H25,M24) -> 9012 | O25: =A25 | P25: 0 | Q25: =IF($D25=Q$6,$K25,"") | R25: =IF($D25=R$6,$K25,"") | S25: =IF($D25=S$6,$K25,"") | T25: =IF($D25=T$6,$K25,"") | U25: =IF($D25=U$6,$K25,"") | V25: =IF($D25=V$6,$K25,"") | W25: =IF($D25=W$6,$K25,"") | X25: =IF($D25=X$6,$K25,"") | ... BN25: =IF($D25=BN$6,$K25,"") -> 0
A26: =IF(réglages!E22<>"",réglages!E22,"") | I26: =IF(C26<>"",L26,"") | K26: =0-G26+H26 -> 0 | L26: =L25-G26+H26 -> 9012 | M26: =IF(J26<>"",M25-G26+H26,M25) -> 9012 | O26: =A26 | P26: 0 | Q26: =IF($D26=Q$6,$K26,"") | R26: =IF($D26=R$6,$K26,"") | S26: =IF($D26=S$6,$K26,"") | T26: =IF($D26=T$6,$K26,"") | U26: =IF($D26=U$6,$K26,"") | V26: =IF($D26=V$6,$K26,"") | W26: =IF($D26=W$6,$K26,"") | X26: =IF($D26=X$6,$K26,"") | ... BN26: =IF($D26=BN$6,$K26,"") -> 0
... A56: =IF(réglages!E52<>"",réglages!E52,"") | I56: =IF(C56<>"",L56,"") | K56: =0-G56+H56 -> 0 | L56: =L55-G56+H56 -> 9012 | M56: =IF(J56<>"",M55-G56+H56,M55) -> 9012 | O56: =A56 | P56: 0 | Q56: =IF($D56=Q$6,$K56,"") | R56: =IF($D56=R$6,$K56,"") | S56: =IF($D56=S$6,$K56,"") | T56: =IF($D56=T$6,$K56,"") | U56: =IF($D56=U$6,$K56,"") | V56: =IF($D56=V$6,$K56,"") | W56: =IF($D56=W$6,$K56,"") | X56: =IF($D56=X$6,$K56,"") | ... BN56: =IF($D56=BN$6,$K56,"") -> 0
I57: =IF(C57<>"",L57,"") | K57: =0-G57+H57 -> 0 | L57: =L56-G57+H57 -> 9012 | M57: =IF(J57<>"",M56-G57+H57,M56) -> 9012 | P57: #N/A | Q57: =IF($D57=Q$6,$K57,"") | R57: =IF($D57=R$6,$K57,"") | S57: =IF($D57=S$6,$K57,"") | T57: =IF($D57=T$6,$K57,"") | U57: =IF($D57=U$6,$K57,"") | V57: =IF($D57=V$6,$K57,"") | W57: =IF($D57=W$6,$K57,"") | X57: =IF($D57=X$6,$K57,"") | ... BN57: =IF($D57=BN$6,$K57,"") -> 0
I58: =IF(C58<>"",L58,"") | K58: =0-G58+H58 -> 0 | L58: =L57-G58+H58 -> 9012 | M58: =IF(J58<>"",M57-G58+H58,M57) -> 9012 | Q58: =IF($D58=Q$6,$K58,"") | R58: =IF($D58=R$6,$K58,"") | S58: =IF($D58=S$6,$K58,"") | T58: =IF($D58=T$6,$K58,"") | U58: =IF($D58=U$6,$K58,"") | V58: =IF($D58=V$6,$K58,"") | W58: =IF($D58=W$6,$K58,"") | X58: =IF($D58=X$6,$K58,"") | ... BN58: =IF($D58=BN$6,$K58,"") -> 0
I59: =IF(C59<>"",L59,"") | K59: =0-G59+H59 -> 0 | L59: =L58-G59+H59 -> 9012 | M59: =IF(J59<>"",M58-G59+H59,M58) -> 9012 | Q59: =IF($D59=Q$6,$K59,"") | R59: =IF($D59=R$6,$K59,"") | S59: =IF($D59=S$6,$K59,"") | T59: =IF($D59=T$6,$K59,"") | U59: =IF($D59=U$6,$K59,"") | V59: =IF($D59=V$6,$K59,"") | W59: =IF($D59=W$6,$K59,"") | X59: =IF($D59=X$6,$K59,"") | ... BN59: =IF($D59=BN$6,$K59,"") -> 0
I60: =IF(C60<>"",L60,"") | K60: =0-G60+H60 -> 0 | L60: =L59-G60+H60 -> 9012 | M60: =IF(J60<>"",M59-G60+H60,M59) -> 9012 | Q60: =IF($D60=Q$6,$K60,"") | R60: =IF($D60=R$6,$K60,"") | S60: =IF($D60=S$6,$K60,"") | T60: =IF($D60=T$6,$K60,"") | U60: =IF($D60=U$6,$K60,"") | V60: =IF($D60=V$6,$K60,"") | W60: =IF($D60=W$6,$K60,"") | X60: =IF($D60=X$6,$K60,"") | ... BN60: =IF($D60=BN$6,$K60,"") -> 0
I61: =IF(C61<>"",L61,"") | K61: =0-G61+H61 -> 0 | L61: =L60-G61+H61 -> 9012 | M61: =IF(J61<>"",M60-G61+H61,M60) -> 9012 | Q61: =IF($D61=Q$6,$K61,"") | R61: =IF($D61=R$6,$K61,"") | S61: =IF($D61=S$6,$K61,"") | T61: =IF($D61=T$6,$K61,"") | U61: =IF($D61=U$6,$K61,"") | V61: =IF($D61=V$6,$K61,"") | W61: =IF($D61=W$6,$K61,"") | X61: =IF($D61=X$6,$K61,"") | ... BN61: =IF($D61=BN$6,$K61,"") -> 0
I62: =IF(C62<>"",L62,"") | K62: =0-G62+H62 -> 0 | L62: =L61-G62+H62 -> 9012 | M62: =IF(J62<>"",M61-G62+H62,M61) -> 9012 | Q62: =IF($D62=Q$6,$K62,"") | R62: =IF($D62=R$6,$K62,"") | S62: =IF($D62=S$6,$K62,"") | T62: =IF($D62=T$6,$K62,"") | U62: =IF($D62=U$6,$K62,"") | V62: =IF($D62=V$6,$K62,"") | W62: =IF($D62=W$6,$K62,"") | X62: =IF($D62=X$6,$K62,"") | ... BN62: =IF($D62=BN$6,$K62,"") -> 0
I63: =IF(C63<>"",L63,"") | K63: =0-G63+H63 -> 0 | L63: =L62-G63+H63 -> 9012 | M63: =IF(J63<>"",M62-G63+H63,M62) -> 9012 | Q63: =IF($D63=Q$6,$K63,"") | R63: =IF($D63=R$6,$K63,"") | S63: =IF($D63=S$6,$K63,"") | T63: =IF($D63=T$6,$K63,"") | U63: =IF($D63=U$6,$K63,"") | V63: =IF($D63=V$6,$K63,"") | W63: =IF($D63=W$6,$K63,"") | X63: =IF($D63=X$6,$K63,"") | ... BN63: =IF($D63=BN$6,$K63,"") -> 0
I64: =IF(C64<>"",L64,"") | K64: =0-G64+H64 -> 0 | L64: =L63-G64+H64 -> 9012 | M64: =IF(J64<>"",M63-G64+H64,M63) -> 9012 | Q64: =IF($D64=Q$6,$K64,"") | R64: =IF($D64=R$6,$K64,"") | S64: =IF($D64=S$6,$K64,"") | T64: =IF($D64=T$6,$K64,"") | U64: =IF($D64=U$6,$K64,"") | V64: =IF($D64=V$6,$K64,"") | W64: =IF($D64=W$6,$K64,"") | X64: =IF($D64=X$6,$K64,"") | ... BN64: =IF($D64=BN$6,$K64,"") -> 0
I65: =IF(C65<>"",L65,"") | K65: =0-G65+H65 -> 0 | L65: =L64-G65+H65 -> 9012 | M65: =IF(J65<>"",M64-G65+H65,M64) -> 9012 | Q65: =IF($D65=Q$6,$K65,"") | R65: =IF($D65=R$6,$K65,"") | S65: =IF($D65=S$6,$K65,"") | T65: =IF($D65=T$6,$K65,"") | U65: =IF($D65=U$6,$K65,"") | V65: =IF($D65=V$6,$K65,"") | W65: =IF($D65=W$6,$K65,"") | X65: =IF($D65=X$6,$K65,"") | ... BN65: =IF($D65=BN$6,$K65,"") -> 0
I66: =IF(C66<>"",L66,"") | K66: =0-G66+H66 -> 0 | L66: =L65-G66+H66 -> 9012 | M66: =IF(J66<>"",M65-G66+H66,M65) -> 9012 | Q66: =IF($D66=Q$6,$K66,"") | R66: =IF($D66=R$6,$K66,"") | S66: =IF($D66=S$6,$K66,"") | T66: =IF($D66=T$6,$K66,"") | U66: =IF($D66=U$6,$K66,"") | V66: =IF($D66=V$6,$K66,"") | W66: =IF($D66=W$6,$K66,"") | X66: =IF($D66=X$6,$K66,"") | ... BN66: =IF($D66=BN$6,$K66,"") -> 0
I67: =IF(C67<>"",L67,"") | K67: =0-G67+H67 -> 0 | L67: =L66-G67+H67 -> 9012 | M67: =IF(J67<>"",M66-G67+H67,M66) -> 9012 | Q67: =IF($D67=Q$6,$K67,"") | R67: =IF($D67=R$6,$K67,"") | S67: =IF($D67=S$6,$K67,"") | T67: =IF($D67=T$6,$K67,"") | U67: =IF($D67=U$6,$K67,"") | V67: =IF($D67=V$6,$K67,"") | W67: =IF($D67=W$6,$K67,"") | X67: =IF($D67=X$6,$K67,"") | ... BN67: =IF($D67=BN$6,$K67,"") -> 0
I68: =IF(C68<>"",L68,"") | K68: =0-G68+H68 -> 0 | L68: =L67-G68+H68 -> 9012 | M68: =IF(J68<>"",M67-G68+H68,M67) -> 9012 | Q68: =IF($D68=Q$6,$K68,"") | R68: =IF($D68=R$6,$K68,"") | S68: =IF($D68=S$6,$K68,"") | T68: =IF($D68=T$6,$K68,"") | U68: =IF($D68=U$6,$K68,"") | V68: =IF($D68=V$6,$K68,"") | W68: =IF($D68=W$6,$K68,"") | X68: =IF($D68=X$6,$K68,"") | ... BN68: =IF($D68=BN$6,$K68,"") -> 0
I69: =IF(C69<>"",L69,"") | K69: =0-G69+H69 -> 0 | L69: =L68-G69+H69 -> 9012 | M69: =IF(J69<>"",M68-G69+H69,M68) -> 9012 | Q69: =IF($D69=Q$6,$K69,"") | R69: =IF($D69=R$6,$K69,"") | S69: =IF($D69=S$6,$K69,"") | T69: =IF($D69=T$6,$K69,"") | U69: =IF($D69=U$6,$K69,"") | V69: =IF($D69=V$6,$K69,"") | W69: =IF($D69=W$6,$K69,"") | X69: =IF($D69=X$6,$K69,"") | ... BN69: =IF($D69=BN$6,$K69,"") -> 0
...
