Workbook

Sheet TTLycee
B1: N° Licence | C1: Nom | D1: Prénom | E1: Date naiss. | F1: Cat | G1: Type etab | H1: Nom étab. | I1: Dép. | J1: Ville etab. | K1: JO | L1: Catégorie | M1: numéro d'équipe
A2: 1 | B2: 232817499 | C2: SAFU | D2: BENY | E2: 35070 | F2: CG | G2: Collège | H2: J. GIRAUDOUX | I2: 76000 | J2: ROUEN | K2: JO et Joueur | L2: Elite | M2: 1
A3: =IF(H3=H2,A2,A2+1) -> 1 | B3: 232811539 | C3: LUANGA | D3: RABI | E3: 36068 | F3: MG | G3: Collège | H3: J. GIRAUDOUX | I3: 76000 | J3: ROUEN | K3: Joueur | L3: Elite | M3: 1
A4: =IF(H4=H3,A3,A3+1) -> 1 | B4: 232814478 | C4: DRUAUX | D4: DAMIEN | E4: 36262 | F4: BG | G4: Collège | H4: J. GIRAUDOUX | I4: 76000 | J4: ROUEN | K4: Joueur | L4: Elite | M4: 1
A5: =IF(H5=H4,A4,A4+1) -> 1 | B5: 232818502 | C5: CHAMSI | D5: YUNESS | E5: 36071 | F5: MG | G5: Collège | H5: J. GIRAUDOUX | I5: 76000 | J5: ROUEN | K5: Joueur | L5: Elite | M5: 1
A6: =IF(H6=H5,A5,A5+1) -> 2 | B6: 233656518 | C6: AUZOUX | D6: THOMAS | E6: 36186 | F6: BG | G6: Collège | H6: ISNEAUVILLE | I6: 76230 | J6: ISNEAUVILLE | K6: Joueur | L6: Etablissement | M6: 1
A7: =IF(H7=H6,A6,A6+1) -> 2 | B7: 233656161 | C7: BOUSSAUD | D7: SACHA | E7: 35524 | F7: MG | G7: Collège | H7: ISNEAUVILLE | I7: 76230 | J7: ISNEAUVILLE | K7: Joueur | L7: Etablissement | M7: 1
A8: =IF(H8=H7,A7,A7+1) -> 2 | B8: 233654680 | C8: ADAM | D8: ALEXIS | E8: 36622 | F8: BG | G8: Collège | H8: ISNEAUVILLE | I8: 76230 | J8: ISNEAUVILLE | K8: Joueur | L8: Etablissement | M8: 1
A9: =IF(H9=H8,A8,A8+1) -> 2 | B9: 233657701 | C9: BURE | D9: LEA | E9: 36676 | F9: BF | G9: Collège | H9: ISNEAUVILLE | I9: 76230 | J9: ISNEAUVILLE | K9: Joueur | L9: Etablissement | M9: 1
A10: =IF(H10=H9,A9,A9+1) -> 2 | B10: 233655863 | C10: BONDIN DALLERA | D10: JULIE | E10: 36668 | F10: BF | G10: Collège | H10: ISNEAUVILLE | I10: 76230 | J10: ISNEAUVILLE | K10: Joueur | L10: Etablissement | M10: 1
A11: =IF(H11=H10,A10,A10+1) -> 2 | B11: 233658775 | C11: ALIX | D11: EMMA | E11: 35827 | F11: MF | G11: Collège | H11: ISNEAUVILLE | I11: 76230 | J11: ISNEAUVILLE | K11: Joueur | L11: Etablissement | M11: 1
A12: =IF(H12=H11,A11,A11+1) -> 3 | B12: 232812529 | C12: SOKOYA | D12: BOLUWATIFE | E12: 35934 | F12: MF | G12: Collège | H12: J. GIRAUDOUX | I12: 76000 | J12: ROUEN | K12: JO et Joueur | L12: Etablissement | M12: 1
A13: =IF(H13=H12,A12,A12+1) -> 3 | B13: 232815730 | C13: N'DIAYE | D13: HARKETTA | E13: 36667 | F13: BF | G13: Collège | H13: J. GIRAUDOUX | I13: 76000 | J13: ROUEN | K13: Joueur | L13: Etablissement | M13: 1
A14: =IF(H14=H13,A13,A13+1) -> 3 | B14: 232816659 | C14: LECLERC | D14: STEVEN | E14: 35423 | F14: CG | G14: Collège | H14: J. GIRAUDOUX | I14: 76000 | J14: ROUEN | K14: Joueur | L14: Etablissement | M14: 1
... A27: =IF(H27=H26,A26,A26+1) -> 5 | B27: 232817687 | C27: EYOUM | D27: JAMES ARTHUR | E27: 36545 | F27: BG | G27: Collège | H27: J. GIRAUDOUX | I27: 76000 | J27: ROUEN | K27: Joueur | L27: Etablissement | M27: 2

Sheet BG
K1: 1989 | L1: S | M1: 07 | N1: 05
K2: 1990 | L2: S | M2: 07 | N2: 05
K3: 1991 | L3: S | M3: 07 | N3: 05
K4: 1992 | L4: J | M4: 07 | N4: 05
K5: 1993 | L5: J | M5: 07 | N5: 05
A6: Inscription BASKET BALL BG COLLEGES | I6: Poussins | J6: nés en 2000 et 2001 | K6: 1994 | L6: C | M6: 06 | N6: 05
G7: Type | H7: Sexe | I7: Benjamins | J7: nés en 1998 et 1999 | K7: 1995 | L7: C | M7: 06 | N7: 05
A8: Type | B8: Nom de l'Etablissement | C8: Ville | D8: Code postal | E8: N° etablissement | G8: Collège | H8: G | I8: Minimes | J8: nés en 1996 et 1997 | K8: 1996 | L8: M | M8: 04 | N8: 03
G9: Lycée | H9: F | I9: Cadets | J9: nés en 1994 et 1995 | K9: 1997 | L9: M | M9: 04 | N9: 03 | S9: ELEVES
A10: Ne pas remplir, automatique | B10: Nom Responsable | C10: Ludovic DERRIEN | G10: LP | I10: Juniors | J10: nés en 1992 et 1993 | K10: 1998 | L10: B | M10: 02 | N10: 01 | S10: PROF
B11: N° de portable | C11: 622991374 | G11: Autre | I11: Seniors | J11: nés en 1991 et avant | K11: 1999 | L11: B | M11: 02 | N11: 01
B12: Nom de l'élève | C12: Prénom | D12: Date de Naissance | E12: N° licence | F12: Sexe | K12: 2000 | L12: P
B13: =IF(TTLycee!$A2=1,TTLycee!C2,"") -> SAFU | C13: =IF(TTLycee!$A2=1,TTLycee!D2,"") -> BENY | D13: =IF(TTLycee!$A2=1,TTLycee!E2,"") -> 35070 | G13: =IF(D13="","",YEAR(D13)) -> 1996 | H13: =IF(G13="","",IF(UPPER(F13)=$M$13,VLOOKUP(G13,$K$1:$N$11,3,),VLOOKUP(G13,$K$1:$N$11,4,))) -> 03 | M13: G | N13: F | O13: =IF(B13="","",CONCATENATE(UPPER(B13),"\",C13,"\",$E$9,E13,"\",A13,"\",G13,"\",H13)) -> SAFU\BENY\\\1996\03 | R13: 1 | S13: EQUIPE 1
B14: =IF(TTLycee!$A3=1,TTLycee!C3,"") -> LUANGA | C14: =IF(TTLycee!$A3=1,TTLycee!D3,"") -> RABI | D14: =IF(TTLycee!$A3=1,TTLycee!E3,"") -> 36068 | G14: =IF(D14="","",YEAR(D14)) -> 1998 | H14: =IF(G14="","",IF(UPPER(F14)=$M$13,VLOOKUP(G14,$K$1:$N$11,3,),VLOOKUP(G14,$K$1:$N$11,4,))) -> 01 | O14: =IF(B14="","",CONCATENATE(UPPER(B14),"\",C14,"\",$E$9,E14,"\",A14,"\",G14,"\",H14)) -> LUANGA\RABI\\\1998\01 | R14: 2
B15: =IF(TTLycee!$A4=1,TTLycee!C4,"") -> DRUAUX | C15: =IF(TTLycee!$A4=1,TTLycee!D4,"") -> DAMIEN | D15: =IF(TTLycee!$A4=1,TTLycee!E4,"") -> 36262 | G15: =IF(D15="","",YEAR(D15)) -> 1999 | H15: =IF(G15="","",IF(UPPER(F15)=$M$13,VLOOKUP(G15,$K$1:$N$11,3,),VLOOKUP(G15,$K$1:$N$11,4,))) -> 01 | O15: =IF(B15="","",CONCATENATE(UPPER(B15),"\",C15,"\",$E$9,E15,"\",A15,"\",G15,"\",H15)) -> DRUAUX\DAMIEN\\\1999\01 | R15: 3
B16: =IF(TTLycee!$A5=1,TTLycee!C5,"") -> CHAMSI | C16: =IF(TTLycee!$A5=1,TTLycee!D5,"") -> YUNESS | D16: =IF(TTLycee!$A5=1,TTLycee!E5,"") -> 36071 | G16: =IF(D16="","",YEAR(D16)) -> 1998 | H16: =IF(G16="","",IF(UPPER(F16)=$M$13,VLOOKUP(G16,$K$1:$N$11,3,),VLOOKUP(G16,$K$1:$N$11,4,))) -> 01 | O16: =IF(B16="","",CONCATENATE(UPPER(B16),"\",C16,"\",$E$9,E16,"\",A16,"\",G16,"\",H16)) -> CHAMSI\YUNESS\\\1998\01 | R16: 4
B17: =IF(TTLycee!$A6=1,TTLycee!C6,"") | C17: =IF(TTLycee!$A6=1,TTLycee!D6,"") | D17: =IF(TTLycee!$A6=1,TTLycee!E6,"") | R17: 5
B18: =IF(TTLycee!$A7=1,TTLycee!C7,"") | C18: =IF(TTLycee!$A7=1,TTLycee!D7,"") | D18: =IF(TTLycee!$A7=1,TTLycee!E7,"") | R18: 6
B19: =IF(TTLycee!$A8=1,TTLycee!C8,"") | C19: =IF(TTLycee!$A8=1,TTLycee!D8,"") | D19: =IF(TTLycee!$A8=1,TTLycee!E8,"") | R19: 7
B20: =IF(TTLycee!$A9=1,TTLycee!C9,"") | C20: =IF(TTLycee!$A9=1,TTLycee!D9,"") | D20: =IF(TTLycee!$A9=1,TTLycee!E9,"") | R20: 8
B21: =IF(TTLycee!$A10=1,TTLycee!C10,"") | C21: =IF(TTLycee!$A10=1,TTLycee!D10,"") | D21: =IF(TTLycee!$A10=1,TTLycee!E10,"") | R21: 9
B22: =IF(TTLycee!$A11=1,TTLycee!C11,"") | C22: =IF(TTLycee!$A11=1,TTLycee!D11,"") | D22: =IF(TTLycee!$A11=1,TTLycee!E11,"") | R22: 10
B23: =IF(TTLycee!$A12=1,TTLycee!C12,"") | C23: =IF(TTLycee!$A12=1,TTLycee!D12,"") | D23: =IF(TTLycee!$A12=1,TTLycee!E12,"") | G23: =IF(D23="","",YEAR(D23)) | H23: =IF(G23="","",IF(UPPER(F23)=$M$13,VLOOKUP(G23,$K$1:$N$11,3,),VLOOKUP(G23,$K$1:$N$11,4,))) | O23: =IF(B23="","",CONCATENATE(UPPER(B23),"\",C23,"\",$E$9,E23,"\",A23,"\",G23,"\",H23)) | R23: JO1
B24: =IF(TTLycee!$A13=1,TTLycee!C13,"") | C24: =IF(TTLycee!$A13=1,TTLycee!D13,"") | D24: =IF(TTLycee!$A13=1,TTLycee!E13,"") | G24: =IF(D24="","",YEAR(D24))
A25: Type | B25: Nom de l'Etablissement | C25: Ville | D25: Code postal | E25: N° etablissement | G25: Collège | H25: G | I25: Minimes | J25: nés en 1996 et 1997 | K25: 1996 | L25: M | M25: 04 | N25: 03
A26: Collège | B26: Edouard Branly | C26: Grand quevilly | D26: 76120 | E26: 0762093M | G26: Lycée | H26: F | I26: Cadets | J26: nés en 1994 et 1995 | K26: 1997 | L26: M | M26: 04 | N26: 03
A27: Ne pas remplir, automatique | B27: Nom Responsable | C27: Michel Montel | G27: LP | I27: Juniors | J27: nés en 1992 et 1993 | K27: 1998 | L27: B | M27: 02 | N27: 01
B28: N° de portable | C28: 680072641 | G28: Autre | I28: Seniors | J28: nés en 1991 et avant | K28: 1999 | L28: B | M28: 02 | N28: 01 | S28: ELEVES
B29: Nom de l'élève | C29: Prénom | D29: Date de Naissance | E29: N° licence | F29: Sexe | K29: 2000 | L29: P | S29: PROF
B30: =IF(TTLycee!$A2=2,TTLycee!C2,"") | C30: =IF(TTLycee!$A2=2,TTLycee!D2,"") | D30: =IF(TTLycee!$A2=2,TTLycee!E2,"") | S30: EQUIPE 1
B31: =IF(TTLycee!$A3=2,TTLycee!C3,"") | C31: =IF(TTLycee!$A3=2,TTLycee!D3,"") | D31: =IF(TTLycee!$A3=2,TTLycee!E3,"")
B32: =IF(TTLycee!$A4=2,TTLycee!C4,"") | C32: =IF(TTLycee!$A4=2,TTLycee!D4,"") | D32: =IF(TTLycee!$A4=2,TTLycee!E4,"")
B33: =IF(TTLycee!$A5=2,TTLycee!C5,"") | C33: =IF(TTLycee!$A5=2,TTLycee!D5,"") | D33: =IF(TTLycee!$A5=2,TTLycee!E5,"")
B34: =IF(TTLycee!$A6=2,TTLycee!C6,"") -> AUZOUX | C34: =IF(TTLycee!$A6=2,TTLycee!D6,"") -> THOMAS | D34: =IF(TTLycee!$A6=2,TTLycee!E6,"") -> 36186
B35: =IF(TTLycee!$A7=2,TTLycee!C7,"") -> BOUSSAUD | C35: =IF(TTLycee!$A7=2,TTLycee!D7,"") -> SACHA | D35: =IF(TTLycee!$A7=2,TTLycee!E7,"") -> 35524
B36: =IF(TTLycee!$A8=2,TTLycee!C8,"") -> ADAM | C36: =IF(TTLycee!$A8=2,TTLycee!D8,"") -> ALEXIS | D36: =IF(TTLycee!$A8=2,TTLycee!E8,"") -> 36622
B37: =IF(TTLycee!$A9=2,TTLycee!C9,"") -> BURE | C37: =IF(TTLycee!$A9=2,TTLycee!D9,"") -> LEA | D37: =IF(TTLycee!$A9=2,TTLycee!E9,"") -> 36676
B38: =IF(TTLycee!$A10=2,TTLycee!C10,"") -> BONDIN DALLERA | C38: =IF(TTLycee!$A10=2,TTLycee!D10,"") -> JULIE | D38: =IF(TTLycee!$A10=2,TTLycee!E10,"") -> 36668
B39: =IF(TTLycee!$A11=2,TTLycee!C11,"") -> ALIX | C39: =IF(TTLycee!$A11=2,TTLycee!D11,"") -> EMMA | D39: =IF(TTLycee!$A11=2,TTLycee!E11,"") -> 35827
B40: =IF(TTLycee!$A12=2,TTLycee!C12,"") | C40: =IF(TTLycee!$A12=2,TTLycee!D12,"") | D40: =IF(TTLycee!$A12=2,TTLycee!E12,"")
A42: Type | B42: Nom de l'Etablissement | C42: Ville | D42: Code postal | E42: N° etablissement | G42: Collège | H42: G | I42: Minimes | J42: nés en 1996 et 1997 | K42: 1996 | L42: M | M42: 04 | N42: 03
A43: Collège | B43: Raymond QUENEAU | C43: Montivilliers | D43: 76290 | E43: 23191 | G43: Lycée | H43: F | I43: Cadets | J43: nés en 1994 et 1995 | K43: 1997 | L43: M | M43: 04 | N43: 03 | S43: ELEVES
A44: Ne pas remplir, automatique | B44: Nom Responsable | C44: Thierry SIMONATO | G44: LP | I44: Juniors | J44: nés en 1992 et 1993 | K44: 1998 | L44: B | M44: 02 | N44: 01 | S44: PROF
B45: N° de portable | C45: 680272203 | G45: Autre | I45: Seniors | J45: nés en 1991 et avant | K45: 1999 | L45: B | M45: 02 | N45: 01
B46: Nom de l'élève | C46: Prénom | D46: Date de Naissance | E46: N° licence | F46: Sexe | K46: 2000 | L46: P
G47: =IF(D47="","",YEAR(D47)) | H47: =IF(G47="","",IF(UPPER(F47)=$M$13,VLOOKUP(G47,$K$1:$N$11,3),VLOOKUP(G47,$K$1:$N$11,4))) | M47: G | N47: F | O47: =IF(B47="","",CONCATENATE(UPPER(B47),"\",C47,"\",$E$9,E47,"\",A47,"\",G47,"\",H47)) | R47: 1 | S47: EQUIPE 1
G48: =IF(D48="","",YEAR(D48)) | H48: =IF(G48="","",IF(UPPER(F48)=$M$13,VLOOKUP(G48,$K$1:$N$11,3),VLOOKUP(G48,$K$1:$N$11,4))) | O48: =IF(B48="","",CONCATENATE(UPPER(B48),"\",C48,"\",$E$9,E48,"\",A48,"\",G48,"\",H48)) | R48: 2
G49: =IF(D49="","",YEAR(D49)) | H49: =IF(G49="","",IF(UPPER(F49)=$M$13,VLOOKUP(G49,$K$1:$N$11,3),VLOOKUP(G49,$K$1:$N$11,4))) | O49: =IF(B49="","",CONCATENATE(UPPER(B49),"\",C49,"\",$E$9,E49,"\",A49,"\",G49,"\",H49)) | R49: 3
G50: =IF(D50="","",YEAR(D50)) | H50: =IF(G50="","",IF(UPPER(F50)=$M$13,VLOOKUP(G50,$K$1:$N$11,3),VLOOKUP(G50,$K$1:$N$11,4))) | O50: =IF(B50="","",CONCATENATE(UPPER(B50),"\",C50,"\",$E$9,E50,"\",A50,"\",G50,"\",H50)) | R50: 4
R51: 5
R52: 6
R53: 7
R54: 8
R55: 9
R56: JO1
G57: =IF(D57="","",YEAR(D57)) | H57: =IF(G57="","",IF(UPPER(F57)=$M$13,VLOOKUP(G57,$K$1:$N$11,3),VLOOKUP(G57,$K$1:$N$11,4))) | O57: =IF(B57="","",CONCATENATE(UPPER(B57),"\",C57,"\",$E$9,E57,"\",A57,"\",G57,"\",H57)) | R57: JO1
A60: Type | B60: Nom de l'Etablissement | C60: Ville | D60: Code postal | E60: N° etablissement | G60: Collège | H60: G | I60: Minimes | J60: nés en 1996 et 1997 | K60: 1996 | L60: M | M60: 04 | N60: 03
A61: Collège | B61: SAINTE GENEVIEVE | C61: BOLBEC | D61: 76210 | E61: 23226 | G61: Lycée | H61: F | I61: Cadets | J61: nés en 1994 et 1995 | K61: 1997 | L61: M | M61: 04 | N61: 03 | S61: ELEVES
A62: Ne pas remplir, automatique | B62: Nom Responsable | C62: HEBERT Daniel | G62: LP | I62: Juniors | J62: nés en 1992 et 1993 | K62: 1998 | L62: B | M62: 02 | N62: 01 | S62: PROF
B63: N° de portable | C63: 06 07 23 73 31 | G63: Autre | I63: Seniors | J63: nés en 1991 et avant | K63: 1999 | L63: B | M63: 02 | N63: 01
B64: Nom de l'élève | C64: Prénom | D64: Date de Naissance | E64: N° licence | F64: Sexe | K64: 2000 | L64: P
G65: =IF(D65="","",YEAR(D65)) | H65: =IF(G65="","",IF(UPPER(F65)=$M$13,VLOOKUP(G65,$K$1:$N$11,3),VLOOKUP(G65,$K$1:$N$11,4))) | O65: =IF(B65="","",CONCATENATE(UPPER(B65),"\",C65,"\",$E$9,E65,"\",A65,"\",G65,"\",H65)) | R65: 1 | S65: EQUIPE 3 BG
G66: =IF(D66="","",YEAR(D66)) | H66: =IF(G66="","",IF(UPPER(F66)=$M$13,VLOOKUP(G66,$K$1:$N$11,3),VLOOKUP(G66,$K$1:$N$11,4))) | O66: =IF(B66="","",CONCATENATE(UPPER(B66),"\",C66,"\",$E$9,E66,"\",A66,"\",G66,"\",H66)) | R66: 2
G67: =IF(D67="","",YEAR(D67)) | H67: =IF(G67="","",IF(UPPER(F67)=$M$13,VLOOKUP(G67,$K$1:$N$11,3),VLOOKUP(G67,$K$1:$N$11,4))) | O67: =IF(B67="","",CONCATENATE(UPPER(B67),"\",C67,"\",$E$9,E67,"\",A67,"\",G67,"\",H67)) | R67: 3
G68: =IF(D68="","",YEAR(D68)) | H68: =IF(G68="","",IF(UPPER(F68)=$M$13,VLOOKUP(G68,$K$1:$N$11,3),VLOOKUP(G68,$K$1:$N$11,4))) | O68: =IF(B68="","",CONCATENATE(UPPER(B68),"\",C68,"\",$E$9,E68,"\",A68,"\",G68,"\",H68)) | R68: 4
R69: 5
R70: 6
R71: 7
R72: 8
R73: 9
R74: 10
G75: =IF(D75="","",YEAR(D75)) | H75: =IF(G75="","",IF(UPPER(F75)=$M$13,VLOOKUP(G75,$K$1:$N$11,3),VLOOKUP(G75,$K$1:$N$11,4))) | O75: =IF(B75="","",CONCATENATE(UPPER(B75),"\",C75,"\",$E$9,E75,"\",A75,"\",G75,"\",H75)) | R75: JO1
