Workbook
Name base: OFFSET(base_Clients!$B$2,,,COUNTA(base_Clients!$B:$B))
Name Liste: Rue!$A$2:$A$39
Name Rues: Rue!$A$2:$A$260
Name Rues_SD_Rochefort: [1]Rue!$A$2:$A$257
Name Rues_SD_Villeneuve: Rue!$A$2:$A$260
Name Viile_SD_Rochefort: [1]Ville!$A$2:$A$36
Name Ville_SD_Villeneuve: Ville!$A$2:$A$36
Name Villes: Ville!$A$2:$A$40

Sheet Ville
A2: Avignon extra-muros | B2: 12
A3: Avignon intra-muros | B3: 12
A4: Aramon | B4: 12
A5: Bagnols sur Cèze
A6: Barbentane
A7: Carpentras
A8: Caumont
A9: Cavaillon
A10: Les Valayans
A11: Châteauneuf de gadagne
A12: Châteaurenard
A13: Entraigues
A14: Eyragues
A15: Graveson
A16: Jonquerettes
A17: Le Pontet | B17: 13.5
A18: Les Angles | B18: 7
A19: Montfavet
A20: Morières | B20: 13.5
A21: Noves
A22: Orange
A23: Paluds de Noves
A24: Pernes les fontaines
A25: Pujaut | B25: 8.5
A26: Rochefort du Gard | B26: 8.5
A27: Rognonas
A28: Roquemaure
A29: Saze
A30: Sorgues
A31: St Laurent les Arbres
A32: St Rémy de Provence
A33: St Saturnin lès avignon
A34: Tavel | B34: 8.5
A35: Vedène | B35: 13.5
A36: Villeneuve lès Avignon | B36: 5.8528

Sheet Rue
A2: Agroparc
A3: Allée Adolphe Dumas
A4: Allée des Buis
A5: Allée des chants du monde
A6: Allée des charmes
A7: Allée des Chênes
A8: Allée du gardon
A9: Allée du soleil des eaux
A10: Allée Edgar Degas
A11: Allée Paul Cézanne
A12: Ancien chemin d'Arles
A13: Avenue de Bonaventure
... A260: Zone commerciale Auchan Nord

Sheet base_Clients
A1: REF | B1: Nom | C1: Prenom | D1: Adresse | E1: Ville | F1: Code Postal | G1: Telephonne | H1: N° Client | I1: Intervenante | K1: Tarif
A2: 411ser-gir | B2: Exotica fleurs | D2: CC Cap Sud - 162, route de marseille | E2: Avignon | F2: 84000 | G2: 490876015 | H2: 1 | I2: Exotica Fleurs | J2: M. Calvès | K2: 3.762541
A3: 411 tis | B3: Bouton d'Or | D3: Avenue de la 2ème DB | E3: Les Angles | F3: 30133 | G3: 490260233 | H3: 2 | I3: Le Bouton d'Or | K3: 4.5
A4: 411ser-gau | B4: Un coin de verdure | D4: CC Auchan | E4: Le Pontet | F4: 84130 | G4: 490314948 | H4: 3 | I4: Un coin de verdure | K4: 4.5
A5: 411mou | B5: Claude Fleurs | D5: 42, avenue Gustave Goutarel | E5: Le Pontet | F5: 84130 | G5: 490031129 | H5: 4 | I5: Claude Fleurs | K5: 4.5
A6: 411lep | B6: Jouve | H6: 5
A7: 411cf | B7: L'Orchidée | D7: Cours Cardinal Bertrand | E7: Montfavet | F7: 84360 | H7: 6
A8: 411nl | B8: Patricia fleurs | D8: 68, Cours Carnot | E8: Châteaurenard | F8: 13160 | G8: 490940397 | H8: 7 | I8: Patricia fleurs
A9: 411sd | B9: Sophie Donnat | D9: 11, avenue Frédéric Mistral | E9: Rochefort du Gard | F9: 30650 | G9: 490950826 | H9: 8 | I9: Sophie Donnat | J9: Mme Donnat

Sheet 052011
B3: Arôme Café | I3: Facture n° | J3: 905
B4: 5, Rue Philippe Cabassole
B5: Quartier Saint Jean
B6: 84000 Avignon
J8: FACTURE
D10: Adressé à
B11: Nom | D11: Sophie Donnat
B12: Adresse
B13: CP | D13: 30 | G13: Ville | H13: Villeneuve lès Avignon
B14: Téléphone | G14: N° Client | H14: 9
I15: Date | J15: =G44 -> 40694
B17: Date | C17: Q. | D17: Ville | F17: Adresse | I17: P.U | J17: Montant
B18: 40677 | C18: 1 | D18: Villeneuve lès Avignon | F18: Allée Paul Cézanne | I18: =IF(ISERROR(VLOOKUP(D18,Ville!$A$2:'Ville'!$B$36,2,0)),"",VLOOKUP(D18,Ville!$A$2:'Ville'!$B$36,2,0)) -> 5.8528 | J18: =IF(I18<>"",C18*I18,"") -> 5.8528
I19: =IF(ISERROR(VLOOKUP(D19,Ville!$A$2:'Ville'!$B$36,2,0)),"",VLOOKUP(D19,Ville!$A$2:'Ville'!$B$36,2,0)) | J19: =IF(I19<>"",C19*I19,"")
B20: 40679 | C20: 1 | D20: Villeneuve lès Avignon | F20: Eglise | I20: =IF(ISERROR(VLOOKUP(D20,Ville!$A$2:'Ville'!$B$36,2,0)),"",VLOOKUP(D20,Ville!$A$2:'Ville'!$B$36,2,0)) -> 5.8528 | J20: =IF(I20<>"",C20*I20,"") -> 5.8528
I21: =IF(ISERROR(VLOOKUP(D21,Ville!$A$2:'Ville'!$B$36,2,0)),"",VLOOKUP(D21,Ville!$A$2:'Ville'!$B$36,2,0)) | J21: =IF(I21<>"",C21*I21,"")
B22: 40681 | C22: 1 | D22: Villeneuve lès Avignon | F22: Allée des charmes | I22: =IF(ISERROR(VLOOKUP(D22,Ville!$A$2:'Ville'!$B$36,2,0)),"",VLOOKUP(D22,Ville!$A$2:'Ville'!$B$36,2,0)) -> 5.8528 | J22: =IF(I22<>"",C22*I22,"") -> 5.8528
I23: =IF(ISERROR(VLOOKUP(D23,Ville!$A$2:'Ville'!$B$36,2,0)),"",VLOOKUP(D23,Ville!$A$2:'Ville'!$B$36,2,0)) | J23: =IF(I23<>"",C23*I23,"")
B24: 40683 | C24: 1 | D24: Villeneuve lès Avignon | F24: Eglise | I24: =IF(ISERROR(VLOOKUP(D24,Ville!$A$2:'Ville'!$B$36,2,0)),"",VLOOKUP(D24,Ville!$A$2:'Ville'!$B$36,2,0)) -> 5.8528 | J24: =IF(I24<>"",C24*I24,"") -> 5.8528
I25: =IF(ISERROR(VLOOKUP(D25,Ville!$A$2:'Ville'!$B$36,2,0)),"",VLOOKUP(D25,Ville!$A$2:'Ville'!$B$36,2,0)) | J25: =IF(I25<>"",C25*I25,"")
B26: 40685 | C26: 1 | D26: Pujaut | F26: Chemin de la croix de fer | I26: =IF(ISERROR(VLOOKUP(D26,Ville!$A$2:'Ville'!$B$36,2,0)),"",VLOOKUP(D26,Ville!$A$2:'Ville'!$B$36,2,0)) -> 8.5 | J26: =IF(I26<>"",C26*I26,"") -> 8.5
I27: =IF(ISERROR(VLOOKUP(D27,Ville!$A$2:'Ville'!$B$36,2,0)),"",VLOOKUP(D27,Ville!$A$2:'Ville'!$B$36,2,0)) | J27: =IF(I27<>"",C27*I27,"")
I28: =IF(ISERROR(VLOOKUP(D28,Ville!$A$2:'Ville'!$B$36,2,0)),"",VLOOKUP(D28,Ville!$A$2:'Ville'!$B$36,2,0)) | J28: =IF(I28<>"",C28*I28,"")
I29: =IF(ISERROR(VLOOKUP(D29,Ville!$A$2:'Ville'!$B$36,2,0)),"",VLOOKUP(D29,Ville!$A$2:'Ville'!$B$36,2,0)) | J29: =IF(I29<>"",C29*I29,"")
I30: =IF(ISERROR(VLOOKUP(D30,Ville!$A$2:'Ville'!$B$36,2,0)),"",VLOOKUP(D30,Ville!$A$2:'Ville'!$B$36,2,0)) | J30: =IF(I30<>"",C30*I30,"")
I31: =IF(ISERROR(VLOOKUP(D31,Ville!$A$2:'Ville'!$B$36,2,0)),"",VLOOKUP(D31,Ville!$A$2:'Ville'!$B$36,2,0)) | J31: =IF(I31<>"",C31*I31,"")
I32: =IF(ISERROR(VLOOKUP(D32,Ville!$A$2:'Ville'!$B$36,2,0)),"",VLOOKUP(D32,Ville!$A$2:'Ville'!$B$36,2,0)) | J32: =IF(I32<>"",C32*I32,"")
I33: =IF(ISERROR(VLOOKUP(D33,Ville!$A$2:'Ville'!$B$36,2,0)),"",VLOOKUP(D33,Ville!$A$2:'Ville'!$B$36,2,0)) | J33: =IF(I33<>"",C33*I33,"")
I34: =IF(ISERROR(VLOOKUP(D34,Ville!$A$2:'Ville'!$B$36,2,0)),"",VLOOKUP(D34,Ville!$A$2:'Ville'!$B$36,2,0)) | J34: =IF(I34<>"",C34*I34,"")
I35: =IF(ISERROR(VLOOKUP(D35,Ville!$A$2:'Ville'!$B$36,2,0)),"",VLOOKUP(D35,Ville!$A$2:'Ville'!$B$36,2,0)) | J35: =IF(I35<>"",C35*I35,"")
I36: =IF(ISERROR(VLOOKUP(D36,Ville!$A$2:'Ville'!$B$36,2,0)),"",VLOOKUP(D36,Ville!$A$2:'Ville'!$B$36,2,0)) | J36: =IF(I36<>"",C36*I36,"")
I37: =IF(ISERROR(VLOOKUP(D37,Ville!$A$2:'Ville'!$B$36,2,0)),"",VLOOKUP(D37,Ville!$A$2:'Ville'!$B$36,2,0)) | J37: =IF(I37<>"",C37*I37,"")
B38: Total | C38: =SUM(C18:C37) -> 5
I39: Total H.T. | J39: =SUM(J18:J37) -> 31.9112
I40: T.V.A. | J40: =J39*19.6% -> 6.2545952
E41: Paiement par chèque à réception | I41: Total T.T.C. | J41: =SUM(J39:J40) -> 38.165795
F44: Date | G44: 40694
E46: RCS Avignon : 511 026 486 N° de Gestion 2009 : A 186
E49: En votre aimable règlement.
B50: Page n° 1/2
...

Sheet Feuil1
B3: Arôme Café | I3: Facture n° | J3: 906
B4: 5, Rue Philippe Cabassole
B5: Quartier Saint Jean
B6: 84000 Avignon
J8: FACTURE
D10: Adressé à
B11: Nom | D11: Sophie Donnat
B12: Adresse
B13: CP | D13: 30 | G13: Ville | H13: Villeneuve lès Avignon
B14: Téléphone | G14: N° Client | H14: 9
I15: Date | J15: =G44 -> 40724
B17: Date | C17: Q. | D17: Ville | F17: Adresse | I17: P.U | J17: Montant
I18: =IF(ISERROR(VLOOKUP(D18,Ville!$A$2:'Ville'!$B$36,2,0)),"",VLOOKUP(D18,Ville!$A$2:'Ville'!$B$36,2,0)) | J18: =IF(I18<>"",C18*I18,"")
I19: =IF(ISERROR(VLOOKUP(D19,Ville!$A$2:'Ville'!$B$36,2,0)),"",VLOOKUP(D19,Ville!$A$2:'Ville'!$B$36,2,0)) | J19: =IF(I19<>"",C19*I19,"")
I20: =IF(ISERROR(VLOOKUP(D20,Ville!$A$2:'Ville'!$B$36,2,0)),"",VLOOKUP(D20,Ville!$A$2:'Ville'!$B$36,2,0)) | J20: =IF(I20<>"",C20*I20,"")
I21: =IF(ISERROR(VLOOKUP(D21,Ville!$A$2:'Ville'!$B$36,2,0)),"",VLOOKUP(D21,Ville!$A$2:'Ville'!$B$36,2,0)) | J21: =IF(I21<>"",C21*I21,"")
I22: =IF(ISERROR(VLOOKUP(D22,Ville!$A$2:'Ville'!$B$36,2,0)),"",VLOOKUP(D22,Ville!$A$2:'Ville'!$B$36,2,0)) | J22: =IF(I22<>"",C22*I22,"")
I23: =IF(ISERROR(VLOOKUP(D23,Ville!$A$2:'Ville'!$B$36,2,0)),"",VLOOKUP(D23,Ville!$A$2:'Ville'!$B$36,2,0)) | J23: =IF(I23<>"",C23*I23,"")
I24: =IF(ISERROR(VLOOKUP(D24,Ville!$A$2:'Ville'!$B$36,2,0)),"",VLOOKUP(D24,Ville!$A$2:'Ville'!$B$36,2,0)) | J24: =IF(I24<>"",C24*I24,"")
I25: =IF(ISERROR(VLOOKUP(D25,Ville!$A$2:'Ville'!$B$36,2,0)),"",VLOOKUP(D25,Ville!$A$2:'Ville'!$B$36,2,0)) | J25: =IF(I25<>"",C25*I25,"")
I26: =IF(ISERROR(VLOOKUP(D26,Ville!$A$2:'Ville'!$B$36,2,0)),"",VLOOKUP(D26,Ville!$A$2:'Ville'!$B$36,2,0)) | J26: =IF(I26<>"",C26*I26,"")
I27: =IF(ISERROR(VLOOKUP(D27,Ville!$A$2:'Ville'!$B$36,2,0)),"",VLOOKUP(D27,Ville!$A$2:'Ville'!$B$36,2,0)) | J27: =IF(I27<>"",C27*I27,"")
I28: =IF(ISERROR(VLOOKUP(D28,Ville!$A$2:'Ville'!$B$36,2,0)),"",VLOOKUP(D28,Ville!$A$2:'Ville'!$B$36,2,0)) | J28: =IF(I28<>"",C28*I28,"")
I29: =IF(ISERROR(VLOOKUP(D29,Ville!$A$2:'Ville'!$B$36,2,0)),"",VLOOKUP(D29,Ville!$A$2:'Ville'!$B$36,2,0)) | J29: =IF(I29<>"",C29*I29,"")
... I37: =IF(ISERROR(VLOOKUP(D37,Ville!$A$2:'Ville'!$B$36,2,0)),"",VLOOKUP(D37,Ville!$A$2:'Ville'!$B$36,2,0)) | J37: =IF(I37<>"",C37*I37,"")
B38: Total | C38: =SUM(C18:C37) -> 0
I39: Total H.T. | J39: =SUM(J18:J37) -> 0
I40: T.V.A. | J40: =J39*19.6% -> 0
E41: Paiement par chèque à réception | I41: Total T.T.C. | J41: =SUM(J39:J40) -> 0
F44: Date | G44: 40724
E46: RCS Avignon : 511 026 486 N° de Gestion 2009 : A 186
E49: En votre aimable règlement.
B50: Page n° 1/2
B53: Arôme Café | I53: Facture n° | J53: =J3 -> 906
B54: 5, Rue Philippe Cabassole
B55: Quartier Saint Jean
B56: 84000 Avignon
J58: FACTURE
D60: Adressé à
B61: Nom | D61: Sophie Donnat
...
