Workbook

Sheet base_de_données
B1: CA | C1: Coûts
A2: magasin 1 | B2: 100 | C2: 25
A3: magasin 2 | B3: 259 | C3: 100
A4: magasin 3 | B4: 156 | C4: 50

Sheet calculs
A2: Tableau de calcul
B6: Resultat avant impot | C6: Résultat après impot
A7: =IF(ISERR(INDIRECT("'base_de_données'!A"&ROW()-6)),"",INDIRECT("'base_de_données'!A"&ROW()-5)) -> magasin 1 | B7: =base_de_données!B2-base_de_données!C2 -> 75 | C7: =B7*0.666 -> 49.95
A8: =IF(ISERR(INDIRECT("'base_de_données'!A"&ROW()-6)),"",INDIRECT("'base_de_données'!A"&ROW()-5)) -> magasin 2 | B8: =base_de_données!B3-base_de_données!C3 -> 159 | C8: =B8*0.666 -> 105.894
A9: =IF(ISERR(INDIRECT("'base_de_données'!A"&ROW()-6)),"",INDIRECT("'base_de_données'!A"&ROW()-5)) -> magasin 3 | B9: =base_de_données!B4-base_de_données!C4 -> 106 | C9: =B9*0.666 -> 70.596
A10: =IF(ISERR(INDIRECT("'base_de_données'!A"&ROW()-6)),"",INDIRECT("'base_de_données'!A"&ROW()-5)) -> 0 | B10: =base_de_données!B5-base_de_données!C5 -> 0 | C10: =B10*0.666 -> 0
A11: =IF(ISERR(INDIRECT("'base_de_données'!A"&ROW()-6)),"",INDIRECT("'base_de_données'!A"&ROW()-5)) -> 0 | B11: =base_de_données!B6-base_de_données!C6 -> 0 | C11: =B11*0.666 -> 0
A12: =IF(ISERR(INDIRECT("'base_de_données'!A"&ROW()-6)),"",INDIRECT("'base_de_données'!A"&ROW()-5)) -> 0 | B12: =base_de_données!B7-base_de_données!C7 -> 0 | C12: =B12*0.666 -> 0
A13: =IF(ISERR(INDIRECT("'base_de_données'!A"&ROW()-6)),"",INDIRECT("'base_de_données'!A"&ROW()-5)) -> 0 | B13: =base_de_données!B8-base_de_données!C8 -> 0 | C13: =B13*0.666 -> 0
A14: =IF(ISERR(INDIRECT("'base_de_données'!A"&ROW()-6)),"",INDIRECT("'base_de_données'!A"&ROW()-5)) -> 0 | B14: =base_de_données!B9-base_de_données!C9 -> 0 | C14: =B14*0.666 -> 0
A15: =IF(ISERR(INDIRECT("'base_de_données'!A"&ROW()-6)),"",INDIRECT("'base_de_données'!A"&ROW()-5)) -> 0 | B15: =base_de_données!B10-base_de_données!C10 -> 0 | C15: =B15*0.666 -> 0
A16: =IF(ISERR(INDIRECT("'base_de_données'!A"&ROW()-6)),"",INDIRECT("'base_de_données'!A"&ROW()-5)) -> 0 | B16: =base_de_données!B11-base_de_données!C11 -> 0 | C16: =B16*0.666 -> 0
A17: =IF(ISERR(INDIRECT("'base_de_données'!A"&ROW()-6)),"",INDIRECT("'base_de_données'!A"&ROW()-5)) -> 0 | B17: =base_de_données!B12-base_de_données!C12 -> 0 | C17: =B17*0.666 -> 0
A18: =IF(ISERR(INDIRECT("'base_de_données'!A"&ROW()-6)),"",INDIRECT("'base_de_données'!A"&ROW()-5)) -> 0 | B18: =base_de_données!B13-base_de_données!C13 -> 0 | C18: =B18*0.666 -> 0
... A35: =IF(ISERR(INDIRECT("'base_de_données'!A"&ROW()-6)),"",INDIRECT("'base_de_données'!A"&ROW()-5)) -> 0 | B35: =base_de_données!B30-base_de_données!C30 -> 0 | C35: =B35*0.666 -> 0
